{"text_format":"1","workbook":"xlsx","n_sheets":7,"sheets":["1. ENTER DATA","2. Dashboard","3. Progress","4. Charts","Data Table","Unique data","Norms"],"not_rendered":{"charts":6,"images":0,"macros":1,"external_links":0,"defined_names":2,"comments":0,"pivot_tables":0},"unopened":[],"bounds":{"document_bytes":16777216,"sheet_cells":100000,"rows_first":2000,"rows_last":500,"rows_between":2000,"halvings":0,"cell_chars":16384,"cell_head_chars":4096},"cells_cut":0,"cells_raw":0,"read":"whole","date_system":"1900"}

{"sheet":"1. ENTER DATA","index":0,"n_rows":69,"n_cols":105,"rows_kept":69,"cut":false,"hidden":false,"merged":[]}
[]
[null,null,null,null,null,null,null,"PLEASE NOTE: EXCEL MAY TAKE UP TO 2 MINTUES TO CALCULATE SOME ENTRIES. USERS ARE ENCOURAGED TO"]
[null,null,null,null,null,null,null,"CHANGE CALUCLATION MODE TO MANUAL (FORMULAS/CALCULATION OPTIONS/MANUAL). "]
[null,null,null,null,null,null,null,"F9 WILL CALCULATE FORMULAS MANUALLY. THE BOTTOM BAR (RIGHT) WILL SHOW CALCULATION PROGRESS"]
[]
[]
[null,null,null,null,null,null,null,"Instructions"]
[null,null,null,null,null,null,null,"1. Click 'Enter new test'. All new data will be entered using this tool. If the test you performed is not already"]
[null,null,null,null,null,null,null,"listed, use one of the 'Other' cells. Ensure that you use the same units for the test and body mass (Kg/Kg, Lb/Lb)"]
[null,"*detailed information on norms/methodology ",null,null,null,null,null,"Click 'Enter Test'. Repeat as needed. Close form. Ensure you select 'Data Table' in the top left box. Press F9 to update"]
[null,"and recommended test positions can be found at",null,null,null,null,null,"2. Dashboard will show the tests performed for one athlete on a specific day and the Limb Symmetry Index. "]
[null,"www.peakforcesytems.com/education",null,null,null,null,null,"Use the drop down boxes highlighted in orange to change the athlete, date and injured limb . Press F9 to update"]
[null,null,null,null,null,null,null,"3. Progress will show all the tests for a given athlete (up to 14) to track progress over time.  "]
[null,"For questions/suggestions email",null,null,null,null,null,"You can also view their normal based on bodyweight %*. "]
[null,"Jacob@PeakForceSystems.com",null,null,null,null,null,"Use the drop down box highlighted in orange to change the athlete. Press F9 to update"]
[null,null,null,null,null,null,null,"4. Charts will show a test of interest on a line graph with normal % bodyweight for that test/athlete."]
[null,null,null,null,null,null,null,"Use the drop down box highlighted in orange to change the test (up to 6 tests). Press F9 to update"]
[]
[]
[]
[]
[]
[]
[]
[]
[]
[]
[]
[]
[]
[]
[]
[]
[]
[]
[]
[]
[]
[]
[]
[]
[]
[]
[]
[]
[]
[]
[]
[]
[]
[]
[]
[]
[]
[]
[]
[]
[]
[]
[]
[]
[]
[]
[]
[]
[]
[]
[]
["2023-01-01","Jackie Landers",40,null,null,null,null,null,null,null,null,null,null,null,null,null,null,null,null,null,null,null,null,null,null,null,null,null,null,null,null,null,null,null,null,null,null,null,null,null,null,null,null,null,null,null,null,null,null,null,null,null,null,null,null,null,null,null,null,null,null,null,null,null,null,null,null,null,null,null,null,null,null,null,null,null,null,null,null,null,null,null,null,null,null,5,10,10,5,12,6,6,12,4,8,8,4,3,6,6,3,9,18,18,9]

{"sheet":"2. Dashboard","index":1,"n_rows":25,"n_cols":12,"rows_kept":25,"cut":false,"hidden":false,"merged":[[2,1,2,2],[0,0,1,0],[0,1,1,2],[0,3,1,3]]}
["Select Athlete","Injured limb?",null,"Test date","Shoulder","L","R","LSI %","Hip ","L","R","LSI %"]
[null,null,null,null,"ABduction",{"$f":"IFERROR(INDEX('Data Table'!V:V, MATCH('2. Dashboard'!$A$3 & '2. Dashboard'!$D$3, 'Data Table'!B:B & 'Data Table'!A:A, 0)), \"\")","v":"ShldAbdL"},{"$f":"IFERROR(INDEX('Data Table'!W:W, MATCH('2. Dashboard'!$A$3 & '2. Dashboard'!$D$3, 'Data Table'!B:B & 'Data Table'!A:A, 0)), \"\")","v":"ShldAbdR"},{"$f":"IFERROR(IF($B$3=\"Left\",F2/G2*100,G2/F2*100),\"\")","v":""},"ABduction",{"$f":"IFERROR(INDEX('Data Table'!CH:CH, MATCH('2. Dashboard'!$A$3 & '2. Dashboard'!$D$3, 'Data Table'!B:B & 'Data Table'!A:A, 0)), \"\")","v":"HipAbdL"},{"$f":"IFERROR(INDEX('Data Table'!CI:CI, MATCH('2. Dashboard'!$A$3 & '2. Dashboard'!$D$3, 'Data Table'!B:B & 'Data Table'!A:A, 0)), \"\")","v":"HipAbdR"},{"$f":"IFERROR(IF($B$3=\"Left\",J2/K2*100,K2/J2*100),\"\")","v":""}]
["Name","Left",null,"Test Date","Elevation",{"$f":"IFERROR(INDEX('Data Table'!X:X, MATCH('2. Dashboard'!$A$3 & '2. Dashboard'!$D$3, 'Data Table'!B:B & 'Data Table'!A:A, 0)), \"\")","v":"ShldElevL"},{"$f":"IFERROR(INDEX('Data Table'!Y:Y, MATCH('2. Dashboard'!$A$3 & '2. Dashboard'!$D$3, 'Data Table'!B:B & 'Data Table'!A:A, 0)), \"\")","v":"ShldElevR"},{"$f":"IFERROR(IF($B$3=\"Left\",F3/G3*100,G3/F3*100),\"\")","v":""},"ADduction",{"$f":"IFERROR(INDEX('Data Table'!CJ:CJ, MATCH('2. Dashboard'!$A$3 & '2. Dashboard'!$D$3, 'Data Table'!B:B & 'Data Table'!A:A, 0)), \"\")","v":"HipAddL"},{"$f":"IFERROR(INDEX('Data Table'!CK:CK, MATCH('2. Dashboard'!$A$3 & '2. Dashboard'!$D$3, 'Data Table'!B:B & 'Data Table'!A:A, 0)), \"\")","v":"HipAddR"},{"$f":"IFERROR(IF($B$3=\"Left\",J3/K3*100,K3/J3*100),\"\")","v":""}]
[null,null,null,null,"ER @ 0*",{"$f":"IFERROR(INDEX('Data Table'!Z:Z, MATCH('2. Dashboard'!$A$3 & '2. Dashboard'!$D$3, 'Data Table'!B:B & 'Data Table'!A:A, 0)), \"\")","v":"ShldER90L"},{"$f":"IFERROR(INDEX('Data Table'!AA:AA, MATCH('2. Dashboard'!$A$3 & '2. Dashboard'!$D$3, 'Data Table'!B:B & 'Data Table'!A:A, 0)), \"\")","v":"ShldER90R"},"","ER 0/90",{"$f":"IFERROR(INDEX('Data Table'!CL:CL, MATCH('2. Dashboard'!$A$3 & '2. Dashboard'!$D$3, 'Data Table'!B:B & 'Data Table'!A:A, 0)), \"\")","v":"HipER090L"},{"$f":"IFERROR(INDEX('Data Table'!CM:CM, MATCH('2. Dashboard'!$A$3 & '2. Dashboard'!$D$3, 'Data Table'!B:B & 'Data Table'!A:A, 0)), \"\")","v":"HipER090R"},""]
["Elbow","L","R","LSI %","ER 0/90",{"$f":"IFERROR(INDEX('Data Table'!AB:AB, MATCH('2. Dashboard'!$A$3 & '2. Dashboard'!$D$3, 'Data Table'!B:B & 'Data Table'!A:A, 0)), \"\")","v":"ShldER090L"},{"$f":"IFERROR(INDEX('Data Table'!AC:AC, MATCH('2. Dashboard'!$A$3 & '2. Dashboard'!$D$3, 'Data Table'!B:B & 'Data Table'!A:A, 0)), \"\")","v":"ShldER090R"},"","ER 90/90",{"$f":"IFERROR(INDEX('Data Table'!CN:CN, MATCH('2. Dashboard'!$A$3 & '2. Dashboard'!$D$3, 'Data Table'!B:B & 'Data Table'!A:A, 0)), \"\")","v":"HipER9090L"},{"$f":"IFERROR(INDEX('Data Table'!CO:CO, MATCH('2. Dashboard'!$A$3 & '2. Dashboard'!$D$3, 'Data Table'!B:B & 'Data Table'!A:A, 0)), \"\")","v":"HipER9090R"},""]
["Extension @ 90*",{"$f":"IFERROR(INDEX('Data Table'!BB:BB, MATCH('2. Dashboard'!$A$3 & '2. Dashboard'!$D$3, 'Data Table'!B:B & 'Data Table'!A:A, 0)), \"\")","v":"ElbExtL"},{"$f":"IFERROR(INDEX('Data Table'!BC:BC, MATCH('2. Dashboard'!$A$3 & '2. Dashboard'!$D$3, 'Data Table'!B:B & 'Data Table'!A:A, 0)), \"\")","v":"ElbExtR"},{"$f":"IFERROR(IF($B$3=\"Left\",B6/C6*100,C6/B6*100),\"\")","v":""},"ER 90/90",{"$f":"IFERROR(INDEX('Data Table'!AD:AD, MATCH('2. Dashboard'!$A$3 & '2. Dashboard'!$D$3, 'Data Table'!B:B & 'Data Table'!A:A, 0)), \"\")","v":"ShldER9090L"},{"$f":"IFERROR(INDEX('Data Table'!AE:AE, MATCH('2. Dashboard'!$A$3 & '2. Dashboard'!$D$3, 'Data Table'!B:B & 'Data Table'!A:A, 0)), \"\")","v":"ShldER9090R"},"","Extension at neutral",{"$f":"IFERROR(INDEX('Data Table'!CP:CP, MATCH('2. Dashboard'!$A$3 & '2. Dashboard'!$D$3, 'Data Table'!B:B & 'Data Table'!A:A, 0)), \"\")","v":"HipExtNL"},{"$f":"IFERROR(INDEX('Data Table'!CQ:CQ, MATCH('2. Dashboard'!$A$3 & '2. Dashboard'!$D$3, 'Data Table'!B:B & 'Data Table'!A:A, 0)), \"\")","v":"HipExtNR"},""]
["Flexion",{"$f":"IFERROR(INDEX('Data Table'!BD:BD, MATCH('2. Dashboard'!$A$3 & '2. Dashboard'!$D$3, 'Data Table'!B:B & 'Data Table'!A:A, 0)), \"\")","v":"ElbFlexL"},{"$f":"IFERROR(INDEX('Data Table'!BE:BE, MATCH('2. Dashboard'!$A$3 & '2. Dashboard'!$D$3, 'Data Table'!B:B & 'Data Table'!A:A, 0)), \"\")","v":"ElbFlexR"},{"$f":"IFERROR(IF($B$3=\"Left\",B7/C7*100,C7/B7*100),\"\")","v":""},"Extension at neutral",{"$f":"IFERROR(INDEX('Data Table'!AF:AF, MATCH('2. Dashboard'!$A$3 & '2. Dashboard'!$D$3, 'Data Table'!B:B & 'Data Table'!A:A, 0)), \"\")","v":"ShldExtNL"},{"$f":"IFERROR(INDEX('Data Table'!AG:AG, MATCH('2. Dashboard'!$A$3 & '2. Dashboard'!$D$3, 'Data Table'!B:B & 'Data Table'!A:A, 0)), \"\")","v":"ShldExtNR"},"","Extension @ 90*",{"$f":"IFERROR(INDEX('Data Table'!CR:CR, MATCH('2. Dashboard'!$A$3 & '2. Dashboard'!$D$3, 'Data Table'!B:B & 'Data Table'!A:A, 0)), \"\")","v":"HipExt90L"},{"$f":"IFERROR(INDEX(#REF!, MATCH('2. Dashboard'!$A$3 & '2. Dashboard'!$D$3,#REF! &#REF!, 0)), \"\")","v":""},""]
["Other1",{"$f":"IFERROR(INDEX('Data Table'!BF:BF, MATCH('2. Dashboard'!$A$3 & '2. Dashboard'!$D$3, 'Data Table'!B:B & 'Data Table'!A:A, 0)), \"\")","v":"ElbOthL"},{"$f":"IFERROR(INDEX('Data Table'!BG:BG, MATCH('2. Dashboard'!$A$3 & '2. Dashboard'!$D$3, 'Data Table'!B:B & 'Data Table'!A:A, 0)), \"\")","v":"ElbOthR"},{"$f":"IFERROR(IF($B$3=\"Left\",B8/C8*100,C8/B8*100),\"\")","v":""},"Extension @ 90*",{"$f":"IFERROR(INDEX('Data Table'!AH:AH, MATCH('2. Dashboard'!$A$3 & '2. Dashboard'!$D$3, 'Data Table'!B:B & 'Data Table'!A:A, 0)), \"\")","v":"ShldExt90L"},{"$f":"IFERROR(INDEX('Data Table'!AI:AI, MATCH('2. Dashboard'!$A$3 & '2. Dashboard'!$D$3, 'Data Table'!B:B & 'Data Table'!A:A, 0)), \"\")","v":"ShldExt90R"},"","Flexion",{"$f":"IFERROR(INDEX('Data Table'!CT:CT, MATCH('2. Dashboard'!$A$3 & '2. Dashboard'!$D$3, 'Data Table'!B:B & 'Data Table'!A:A, 0)), \"\")","v":"HipFlexL"},{"$f":"IFERROR(INDEX('Data Table'!CU:CU, MATCH('2. Dashboard'!$A$3 & '2. Dashboard'!$D$3, 'Data Table'!B:B & 'Data Table'!A:A, 0)), \"\")","v":"HipFlexR"},""]
["Other2",{"$f":"IFERROR(INDEX('Data Table'!BH:BH, MATCH('2. Dashboard'!$A$3 & '2. Dashboard'!$D$3, 'Data Table'!B:B & 'Data Table'!A:A, 0)), \"\")","v":"ElbOth2L"},{"$f":"IFERROR(INDEX('Data Table'!BI:BI, MATCH('2. Dashboard'!$A$3 & '2. Dashboard'!$D$3, 'Data Table'!B:B & 'Data Table'!A:A, 0)), \"\")","v":"ElbOth2R"},{"$f":"IFERROR(IF($B$3=\"Left\",B9/C9*100,C9/B9*100),\"\")","v":""},"Extension @ 180*",{"$f":"IFERROR(INDEX('Data Table'!AJ:AJ, MATCH('2. Dashboard'!$A$3 & '2. Dashboard'!$D$3, 'Data Table'!B:B & 'Data Table'!A:A, 0)), \"\")","v":"ShldExt180L"},{"$f":"IFERROR(INDEX('Data Table'!AK:AK, MATCH('2. Dashboard'!$A$3 & '2. Dashboard'!$D$3, 'Data Table'!B:B & 'Data Table'!A:A, 0)), \"\")","v":"ShldExt180R"},"","IR 0/90",{"$f":"IFERROR(INDEX('Data Table'!CV:CV, MATCH('2. Dashboard'!$A$3 & '2. Dashboard'!$D$3, 'Data Table'!B:B & 'Data Table'!A:A, 0)), \"\")","v":"HipIR090L"},{"$f":"IFERROR(INDEX('Data Table'!CW:CW, MATCH('2. Dashboard'!$A$3 & '2. Dashboard'!$D$3, 'Data Table'!B:B & 'Data Table'!A:A, 0)), \"\")","v":"HipIR090R"},""]
["Wrist","L","R","LSI %","Flexion",{"$f":"IFERROR(INDEX('Data Table'!AL:AL, MATCH('2. Dashboard'!$A$3 & '2. Dashboard'!$D$3, 'Data Table'!B:B & 'Data Table'!A:A, 0)), \"\")","v":"ShldFlexL"},{"$f":"IFERROR(INDEX('Data Table'!AM:AM, MATCH('2. Dashboard'!$A$3 & '2. Dashboard'!$D$3, 'Data Table'!B:B & 'Data Table'!A:A, 0)), \"\")","v":"ShldFlexR"},"","IR 90/90",{"$f":"IFERROR(INDEX('Data Table'!CX:CX, MATCH('2. Dashboard'!$A$3 & '2. Dashboard'!$D$3, 'Data Table'!B:B & 'Data Table'!A:A, 0)), \"\")","v":"HipIR9090L"},{"$f":"IFERROR(INDEX('Data Table'!CY:CY, MATCH('2. Dashboard'!$A$3 & '2. Dashboard'!$D$3, 'Data Table'!B:B & 'Data Table'!A:A, 0)), \"\")","v":"HipIR9090R"},""]
["Extension at neutral",{"$f":"IFERROR(INDEX('Data Table'!BJ:BJ, MATCH('2. Dashboard'!$A$3 & '2. Dashboard'!$D$3, 'Data Table'!B:B & 'Data Table'!A:A, 0)), \"\")","v":"WExtL"},{"$f":"IFERROR(INDEX('Data Table'!BK:BK, MATCH('2. Dashboard'!$A$3 & '2. Dashboard'!$D$3, 'Data Table'!B:B & 'Data Table'!A:A, 0)), \"\")","v":"WExtR"},null,"Horizontal abduction",{"$f":"IFERROR(INDEX('Data Table'!AN:AN, MATCH('2. Dashboard'!$A$3 & '2. Dashboard'!$D$3, 'Data Table'!B:B & 'Data Table'!A:A, 0)), \"\")","v":"ShldHAbdL"},{"$f":"IFERROR(INDEX('Data Table'!AO:AO, MATCH('2. Dashboard'!$A$3 & '2. Dashboard'!$D$3, 'Data Table'!B:B & 'Data Table'!A:A, 0)), \"\")","v":"ShldHAbdR"},"","Other1",{"$f":"IFERROR(INDEX('Data Table'!CZ:CZ, MATCH('2. Dashboard'!$A$3 & '2. Dashboard'!$D$3, 'Data Table'!B:B & 'Data Table'!A:A, 0)), \"\")","v":"HipOth1L"},{"$f":"IFERROR(INDEX('Data Table'!DA:DA, MATCH('2. Dashboard'!$A$3 & '2. Dashboard'!$D$3, 'Data Table'!B:B & 'Data Table'!A:A, 0)), \"\")","v":"HipOth1R"},""]
["Flexion",{"$f":"IFERROR(INDEX('Data Table'!BL:BL, MATCH('2. Dashboard'!$A$3 & '2. Dashboard'!$D$3, 'Data Table'!B:B & 'Data Table'!A:A, 0)), \"\")","v":"WFlexL"},{"$f":"IFERROR(INDEX('Data Table'!BM:BM, MATCH('2. Dashboard'!$A$3 & '2. Dashboard'!$D$3, 'Data Table'!B:B & 'Data Table'!A:A, 0)), \"\")","v":"WFlexR"},{"$f":"IFERROR(IF($B$3=\"Left\",B12/C12*100,C12/B12*100),\"\")","v":""},"Y",{"$f":"IFERROR(INDEX('Data Table'!AP:AP, MATCH('2. Dashboard'!$A$3 & '2. Dashboard'!$D$3, 'Data Table'!B:B & 'Data Table'!A:A, 0)), \"\")","v":"ShldYL"},{"$f":"IFERROR(INDEX('Data Table'!AQ:AQ, MATCH('2. Dashboard'!$A$3 & '2. Dashboard'!$D$3, 'Data Table'!B:B & 'Data Table'!A:A, 0)), \"\")","v":"ShldYR"},"","Other2",{"$f":"IFERROR(INDEX('Data Table'!DB:DB, MATCH('2. Dashboard'!$A$3 & '2. Dashboard'!$D$3, 'Data Table'!B:B & 'Data Table'!A:A, 0)), \"\")","v":"HipOth2L"},{"$f":"IFERROR(INDEX('Data Table'!DC:DC, MATCH('2. Dashboard'!$A$3 & '2. Dashboard'!$D$3, 'Data Table'!B:B & 'Data Table'!A:A, 0)), \"\")","v":"HipOth2R"},""]
["Other1",{"$f":"IFERROR(INDEX('Data Table'!BF:BF, MATCH('2. Dashboard'!$A$3 & '2. Dashboard'!$D$3, 'Data Table'!B:B & 'Data Table'!A:A, 0)), \"\")","v":"ElbOthL"},{"$f":"IFERROR(INDEX('Data Table'!BO:BO, MATCH('2. Dashboard'!$A$3 & '2. Dashboard'!$D$3, 'Data Table'!B:B & 'Data Table'!A:A, 0)), \"\")","v":"WOth1R"},{"$f":"IFERROR(IF($B$3=\"Left\",B13/C13*100,C13/B13*100),\"\")","v":""},"IR @ 0*",{"$f":"IFERROR(INDEX('Data Table'!AR:AR, MATCH('2. Dashboard'!$A$3 & '2. Dashboard'!$D$3, 'Data Table'!B:B & 'Data Table'!A:A, 0)), \"\")","v":"ShldIR0L"},{"$f":"IFERROR(INDEX('Data Table'!AS:AS, MATCH('2. Dashboard'!$A$3 & '2. Dashboard'!$D$3, 'Data Table'!B:B & 'Data Table'!A:A, 0)), \"\")","v":"ShldIR0R"},"","Ankle","L","R","LSI %"]
["Other2",{"$f":"IFERROR(INDEX('Data Table'!BP:BP, MATCH('2. Dashboard'!$A$3 & '2. Dashboard'!$D$3, 'Data Table'!B:B & 'Data Table'!A:A, 0)), \"\")","v":"WOth2L"},{"$f":"IFERROR(INDEX('Data Table'!BQ:BQ, MATCH('2. Dashboard'!$A$3 & '2. Dashboard'!$D$3, 'Data Table'!B:B & 'Data Table'!A:A, 0)), \"\")","v":"WOth2R"},{"$f":"IFERROR(IF($B$3=\"Left\",B14/C14*100,C14/B14*100),\"\")","v":""},"IR 0/90",{"$f":"IFERROR(INDEX('Data Table'!AT:AT, MATCH('2. Dashboard'!$A$3 & '2. Dashboard'!$D$3, 'Data Table'!B:B & 'Data Table'!A:A, 0)), \"\")","v":"ShldIR090L"},{"$f":"IFERROR(INDEX('Data Table'!AU:AU, MATCH('2. Dashboard'!$A$3 & '2. Dashboard'!$D$3, 'Data Table'!B:B & 'Data Table'!A:A, 0)), \"\")","v":"ShldIR090R"},"","DF",{"$f":"IFERROR(INDEX('Data Table'!BR1, MATCH('2. Dashboard'!$A$3 & '2. Dashboard'!$D$3, 'Data Table'!B:B & 'Data Table'!A:A, 0)), \"\")","v":"AnkDFL"},{"$f":"IFERROR(INDEX('Data Table'!BS:BS, MATCH('2. Dashboard'!$A$3 & '2. Dashboard'!$D$3, 'Data Table'!B:B & 'Data Table'!A:A, 0)), \"\")","v":"AnkDFR"},{"$f":"IFERROR(IF($B$3=\"Left\",J14/K14*100,K14/J14*100),\"\")","v":""}]
["Neck","L","R","LSI %","IR 90/90",{"$f":"IFERROR(INDEX('Data Table'!AV:AV, MATCH('2. Dashboard'!$A$3 & '2. Dashboard'!$D$3, 'Data Table'!B:B & 'Data Table'!A:A, 0)), \"\")","v":"ShldIR9090L"},{"$f":"IFERROR(INDEX('Data Table'!AW:AW, MATCH('2. Dashboard'!$A$3 & '2. Dashboard'!$D$3, 'Data Table'!B:B & 'Data Table'!A:A, 0)), \"\")","v":"ShldIR9090R"},"","PF",{"$f":"IFERROR(INDEX('Data Table'!BT:BT, MATCH('2. Dashboard'!$A$3 & '2. Dashboard'!$D$3, 'Data Table'!B:B & 'Data Table'!A:A, 0)), \"\")","v":"AnkPFL"},{"$f":"IFERROR(INDEX('Data Table'!BT:BT, MATCH('2. Dashboard'!$A$3 & '2. Dashboard'!$D$3, 'Data Table'!B:B & 'Data Table'!A:A, 0)), \"\")","v":"AnkPFL"},{"$f":"IFERROR(IF($B$3=\"Left\",J15/K15*100,K15/J15*100),\"\")","v":""}]
["Extension at neutral",{"$f":"IFERROR(INDEX('Data Table'!F:F, MATCH('2. Dashboard'!$A$3 & '2. Dashboard'!$D$3, 'Data Table'!B:B & 'Data Table'!A:A, 0)), \"\")","v":"CerExtL"},{"$f":"IFERROR(INDEX('Data Table'!G:G, MATCH('2. Dashboard'!$A$3 & '2. Dashboard'!$D$3, 'Data Table'!B:B & 'Data Table'!A:A, 0)), \"\")","v":"CerExtR"},{"$f":"IFERROR(IF($B$3=\"Left\",B16/C16*100,C16/B16*100),\"\")","v":""},"Protraction",{"$f":"IFERROR(INDEX('Data Table'!AX:AX, MATCH('2. Dashboard'!$A$3 & '2. Dashboard'!$D$3, 'Data Table'!B:B & 'Data Table'!A:A, 0)), \"\")","v":"ShldProL"},{"$f":"IFERROR(INDEX('Data Table'!AY:AY, MATCH('2. Dashboard'!$A$3 & '2. Dashboard'!$D$3, 'Data Table'!B:B & 'Data Table'!A:A, 0)), \"\")","v":"ShldProR"},"","Eversion",{"$f":"IFERROR(INDEX('Data Table'!BV:BV, MATCH('2. Dashboard'!$A$3 & '2. Dashboard'!$D$3, 'Data Table'!B:B & 'Data Table'!A:A, 0)), \"\")","v":"AnkEvL"},{"$f":"IFERROR(INDEX('Data Table'!BW:BW, MATCH('2. Dashboard'!$A$3 & '2. Dashboard'!$D$3, 'Data Table'!B:B & 'Data Table'!A:A, 0)), \"\")","v":"AnkEvR"},{"$f":"IFERROR(IF($B$3=\"Left\",J16/K16*100,K16/J16*100),\"\")","v":""}]
["Flexion",{"$f":"IFERROR(INDEX('Data Table'!D:D, MATCH('2. Dashboard'!$A$3 & '2. Dashboard'!$D$3, 'Data Table'!B:B & 'Data Table'!A:A, 0)), \"\")","v":"CerFlexL"},{"$f":"IFERROR(INDEX('Data Table'!E:E, MATCH('2. Dashboard'!$A$3 & '2. Dashboard'!$D$3, 'Data Table'!B:B & 'Data Table'!A:A, 0)), \"\")","v":"CerFlexR"},null,"Other1",{"$f":"IFERROR(INDEX('Data Table'!AZ:AZ, MATCH('2. Dashboard'!$A$3 & '2. Dashboard'!$D$3, 'Data Table'!B:B & 'Data Table'!A:A, 0)), \"\")","v":"ShldOth1L"},{"$f":"IFERROR(INDEX('Data Table'!BA:BA, MATCH('2. Dashboard'!$A$3 & '2. Dashboard'!$D$3, 'Data Table'!B:B & 'Data Table'!A:A, 0)), \"\")","v":"ShldOthR"},"","Inversion",{"$f":"IFERROR(INDEX('Data Table'!BX:BX, MATCH('2. Dashboard'!$A$3 & '2. Dashboard'!$D$3, 'Data Table'!B:B & 'Data Table'!A:A, 0)), \"\")","v":"AnkInvL"},{"$f":"IFERROR(INDEX('Data Table'!BY:BY, MATCH('2. Dashboard'!$A$3 & '2. Dashboard'!$D$3, 'Data Table'!B:B & 'Data Table'!A:A, 0)), \"\")","v":"AnkInvR"},{"$f":"IFERROR(IF($B$3=\"Left\",J17/K17*100,K17/J17*100),\"\")","v":""}]
["Side bending",{"$f":"IFERROR(INDEX('Data Table'!H:H, MATCH('2. Dashboard'!$A$3 & '2. Dashboard'!$D$3, 'Data Table'!B:B & 'Data Table'!A:A, 0)), \"\")","v":"CerSBL"},{"$f":"IFERROR(INDEX('Data Table'!I:I, MATCH('2. Dashboard'!$A$3 & '2. Dashboard'!$D$3, 'Data Table'!B:B & 'Data Table'!A:A, 0)), \"\")","v":"CerSBR"},{"$f":"IFERROR(IF($B$3=\"Left\",B18/C18*100,C18/B18*100),\"\")","v":""},"Knee","L","R","LSI %","Other1",{"$f":"IFERROR(INDEX('Data Table'!BZ:BZ, MATCH('2. Dashboard'!$A$3 & '2. Dashboard'!$D$3, 'Data Table'!B:B & 'Data Table'!A:A, 0)), \"\")","v":"AnkOthL"},{"$f":"IFERROR(INDEX('Data Table'!CA:CA, MATCH('2. Dashboard'!$A$3 & '2. Dashboard'!$D$3, 'Data Table'!B:B & 'Data Table'!A:A, 0)), \"\")","v":"AnkOthR"},{"$f":"IFERROR(IF($B$3=\"Left\",J18/K18*100,K18/J18*100),\"\")","v":""}]
["Other1",{"$f":"IFERROR(INDEX('Data Table'!J:J, MATCH('2. Dashboard'!$A$3 & '2. Dashboard'!$D$3, 'Data Table'!B:B & 'Data Table'!A:A, 0)), \"\")","v":"CerOth1L"},{"$f":"IFERROR(INDEX('Data Table'!K:K, MATCH('2. Dashboard'!$A$3 & '2. Dashboard'!$D$3, 'Data Table'!B:B & 'Data Table'!A:A, 0)), \"\")","v":"CerOth1R"},"","Extension @ 90*",{"$f":"IFERROR(INDEX('Data Table'!N:N, MATCH('2. Dashboard'!$A$3 & '2. Dashboard'!$D$3, 'Data Table'!B:B & 'Data Table'!A:A, 0)), \"\")","v":"KneeExtL"},{"$f":"IFERROR(INDEX('Data Table'!O:O, MATCH('2. Dashboard'!$A$3 & '2. Dashboard'!$D$3, 'Data Table'!B:B & 'Data Table'!A:A, 0)), \"\")","v":"KneeExtR"},{"$f":"IFERROR(IF($B$3=\"Left\",F19/G19*100,G19/F19*100),\"\")","v":""},"Other","L","R","LSI %"]
["Other2",{"$f":"IFERROR(INDEX('Data Table'!L:L, MATCH('2. Dashboard'!$A$3 & '2. Dashboard'!$D$3, 'Data Table'!B:B & 'Data Table'!A:A, 0)), \"\")","v":"CerOth2L"},{"$f":"IFERROR(INDEX('Data Table'!M:M, MATCH('2. Dashboard'!$A$3 & '2. Dashboard'!$D$3, 'Data Table'!B:B & 'Data Table'!A:A, 0)), \"\")","v":"CerOth2R"},"","Flexion",{"$f":"IFERROR(INDEX('Data Table'!P:P, MATCH('2. Dashboard'!$A$3 & '2. Dashboard'!$D$3, 'Data Table'!B:B & 'Data Table'!A:A, 0)), \"\")","v":"KneeFlexL"},{"$f":"IFERROR(INDEX('Data Table'!Q:Q, MATCH('2. Dashboard'!$A$3 & '2. Dashboard'!$D$3, 'Data Table'!B:B & 'Data Table'!A:A, 0)), \"\")","v":"KneeFlexR"},{"$f":"IFERROR(IF($B$3=\"Left\",F20/G20*100,G20/F20*100),\"\")","v":""},"IMTP",{"$f":"IFERROR(INDEX('Data Table'!CB:CB, MATCH('2. Dashboard'!$A$3 & '2. Dashboard'!$D$3, 'Data Table'!B:B & 'Data Table'!A:A, 0)), \"\")","v":"IMTPL"},{"$f":"IFERROR(INDEX('Data Table'!CC:CC, MATCH('2. Dashboard'!$A$3 & '2. Dashboard'!$D$3, 'Data Table'!B:B & 'Data Table'!A:A, 0)), \"\")","v":"IMTPR"},{"$f":"IFERROR(IF($B$3=\"Left\",J20/K20*100,K20/J20*100),\"\")","v":""}]
[null,null,null,null,"Other1",{"$f":"IFERROR(INDEX('Data Table'!R:R, MATCH('2. Dashboard'!$A$3 & '2. Dashboard'!$D$3, 'Data Table'!B:B & 'Data Table'!A:A, 0)), \"\")","v":"KneeOth1L"},{"$f":"IFERROR(INDEX('Data Table'!S:S, MATCH('2. Dashboard'!$A$3 & '2. Dashboard'!$D$3, 'Data Table'!B:B & 'Data Table'!A:A, 0)), \"\")","v":"KneeOth1R"},{"$f":"IFERROR(IF($B$3=\"Left\",F21/G21*100,G21/F21*100),\"\")","v":""},"Other1",{"$f":"IFERROR(INDEX('Data Table'!CD:CD, MATCH('2. Dashboard'!$A$3 & '2. Dashboard'!$D$3, 'Data Table'!B:B & 'Data Table'!A:A, 0)), \"\")","v":"OthL"},{"$f":"IFERROR(INDEX('Data Table'!CE:CE, MATCH('2. Dashboard'!$A$3 & '2. Dashboard'!$D$3, 'Data Table'!B:B & 'Data Table'!A:A, 0)), \"\")","v":"OthR"},{"$f":"IFERROR(IF($B$3=\"Left\",J21/K21*100,K21/J21*100),\"\")","v":""}]
[null,null,null,null,"Other2",{"$f":"IFERROR(INDEX('Data Table'!T:T, MATCH('2. Dashboard'!$A$3 & '2. Dashboard'!$D$3, 'Data Table'!B:B & 'Data Table'!A:A, 0)), \"\")","v":"KneeOth2L"},{"$f":"IFERROR(INDEX('Data Table'!U:U, MATCH('2. Dashboard'!$A$3 & '2. Dashboard'!$D$3, 'Data Table'!B:B & 'Data Table'!A:A, 0)), \"\")","v":"KneeOth2R"},{"$f":"IFERROR(IF($B$3=\"Left\",F22/G22*100,G22/F22*100),\"\")","v":""},"Other2",{"$f":"IFERROR(INDEX('Data Table'!CF:CF, MATCH('2. Dashboard'!$A$3 & '2. Dashboard'!$D$3, 'Data Table'!B:B & 'Data Table'!A:A, 0)), \"\")","v":"Oth2L"},{"$f":"IFERROR(INDEX('Data Table'!CG:CG, MATCH('2. Dashboard'!$A$3 & '2. Dashboard'!$D$3, 'Data Table'!B:B & 'Data Table'!A:A, 0)), \"\")","v":"Oth2R"},{"$f":"IFERROR(IF($B$3=\"Left\",J22/K22*100,K22/J22*100),\"\")","v":""}]
[]
[]
[null,{"$f":"IFERROR(INDEX(#REF!, MATCH('2. Dashboard'!$A$3 & '2. Dashboard'!$D$3,#REF! &#REF!, 0)), \"\")","v":""},{"$f":"IFERROR(INDEX(#REF!, MATCH('2. Dashboard'!$A$3 & '2. Dashboard'!$D$3,#REF! &#REF!, 0)), \"\")","v":""},{"$f":"IFERROR(IF($B$3=\"Left\",B25/C25*100,C25/B25*100),\"\")","v":""}]

{"sheet":"3. Progress","index":2,"n_rows":112,"n_cols":17,"rows_kept":112,"cut":false,"hidden":false,"merged":[[0,0,1,0],[0,1,1,2],[0,3,1,3],[2,1,2,2]]}
["Select Athlete"]
[]
["Name"]
[]
[null,null,{"$f":"TRANSPOSE(_xlfn._xlws.FILTER('Data Table'!C:C, 'Data Table'!B:B='3. Progress'!A3, \"\"))","v":"Body Mass"},null,null,null,null,null,null,null,null,null,null,null,null,null,{"$f":"IFERROR(AVERAGE(C5:P5), \"\")","v":""}]
[null,null,{"$f":"TRANSPOSE(_xlfn._xlws.FILTER('Data Table'!A:A, 'Data Table'!B:B='3. Progress'!A3, \"\"))","v":"Test Date"}]
["Plane","Side","Test1","Test2","Test3","Test4","Test5","Test6","Test7","Test8","Test9","Test10","Test11","Test12","Test13","Test14","Goal"]
[null,null,{"$f":"_xlfn._xlws.SORT(C6:P6,,1,TRUE)","v":"Test Date"},"00:00:00","00:00:00","00:00:00","00:00:00","00:00:00","00:00:00","00:00:00","00:00:00","00:00:00","00:00:00","00:00:00","00:00:00","00:00:00"]
["Ankle DF","Left",{"$f":"IFERROR(INDEX('Data Table'!$BR:$BR,MATCH($A$3 & C$8,'Data Table'!$B:$B&'Data Table'!$A:$A,0)),\"\")","v":"AnkDFL"},{"$f":"IFERROR(INDEX('Data Table'!$BR:$BR,MATCH($A$3 & D$8,'Data Table'!$B:$B&'Data Table'!$A:$A,0)),\"\")","v":""},{"$f":"IFERROR(INDEX('Data Table'!$BR:$BR,MATCH($A$3 & E$8,'Data Table'!$B:$B&'Data Table'!$A:$A,0)),\"\")","v":""},{"$f":"IFERROR(INDEX('Data Table'!$BR:$BR,MATCH($A$3 & F$8,'Data Table'!$B:$B&'Data Table'!$A:$A,0)),\"\")","v":""},{"$f":"IFERROR(INDEX('Data Table'!$BR:$BR,MATCH($A$3 & G$8,'Data Table'!$B:$B&'Data Table'!$A:$A,0)),\"\")","v":""},{"$f":"IFERROR(INDEX('Data Table'!$BR:$BR,MATCH($A$3 & H$8,'Data Table'!$B:$B&'Data Table'!$A:$A,0)),\"\")","v":""},{"$f":"IFERROR(INDEX('Data Table'!$BR:$BR,MATCH($A$3 & I$8,'Data Table'!$B:$B&'Data Table'!$A:$A,0)),\"\")","v":""},{"$f":"IFERROR(INDEX('Data Table'!$BR:$BR,MATCH($A$3 & J$8,'Data Table'!$B:$B&'Data Table'!$A:$A,0)),\"\")","v":""},{"$f":"IFERROR(INDEX('Data Table'!$BR:$BR,MATCH($A$3 & K$8,'Data Table'!$B:$B&'Data Table'!$A:$A,0)),\"\")","v":""},{"$f":"IFERROR(INDEX('Data Table'!$BR:$BR,MATCH($A$3 & L$8,'Data Table'!$B:$B&'Data Table'!$A:$A,0)),\"\")","v":""},{"$f":"IFERROR(INDEX('Data Table'!$BR:$BR,MATCH($A$3 & M$8,'Data Table'!$B:$B&'Data Table'!$A:$A,0)),\"\")","v":""},{"$f":"IFERROR(INDEX('Data Table'!$BR:$BR,MATCH($A$3 & N$8,'Data Table'!$B:$B&'Data Table'!$A:$A,0)),\"\")","v":""},{"$f":"IFERROR(INDEX('Data Table'!$BR:$BR,MATCH($A$3 & O$8,'Data Table'!$B:$B&'Data Table'!$A:$A,0)),\"\")","v":""},{"$f":"IFERROR(INDEX('Data Table'!$BR:$BR,MATCH($A$3 & P$8,'Data Table'!$B:$B&'Data Table'!$A:$A,0)),\"\")","v":""},{"$f":"IFERROR($Q$5*Norms!B72/100, \"No Data\")","v":"No Data"}]
["Ankle DF","Right",{"$f":"IFERROR(INDEX('Data Table'!$BS:$BS,MATCH($A$3 & C$8,'Data Table'!$B:$B&'Data Table'!$A:$A,0)),\"\")","v":"AnkDFR"},{"$f":"IFERROR(INDEX('Data Table'!$BS:$BS,MATCH($A$3 & D$8,'Data Table'!$B:$B&'Data Table'!$A:$A,0)),\"\")","v":""},{"$f":"IFERROR(INDEX('Data Table'!$BS:$BS,MATCH($A$3 & E$8,'Data Table'!$B:$B&'Data Table'!$A:$A,0)),\"\")","v":""},{"$f":"IFERROR(INDEX('Data Table'!$BS:$BS,MATCH($A$3 & F$8,'Data Table'!$B:$B&'Data Table'!$A:$A,0)),\"\")","v":""},{"$f":"IFERROR(INDEX('Data Table'!$BS:$BS,MATCH($A$3 & G$8,'Data Table'!$B:$B&'Data Table'!$A:$A,0)),\"\")","v":""},{"$f":"IFERROR(INDEX('Data Table'!$BS:$BS,MATCH($A$3 & H$8,'Data Table'!$B:$B&'Data Table'!$A:$A,0)),\"\")","v":""},{"$f":"IFERROR(INDEX('Data Table'!$BS:$BS,MATCH($A$3 & I$8,'Data Table'!$B:$B&'Data Table'!$A:$A,0)),\"\")","v":""},{"$f":"IFERROR(INDEX('Data Table'!$BS:$BS,MATCH($A$3 & J$8,'Data Table'!$B:$B&'Data Table'!$A:$A,0)),\"\")","v":""},{"$f":"IFERROR(INDEX('Data Table'!$BS:$BS,MATCH($A$3 & K$8,'Data Table'!$B:$B&'Data Table'!$A:$A,0)),\"\")","v":""},{"$f":"IFERROR(INDEX('Data Table'!$BS:$BS,MATCH($A$3 & L$8,'Data Table'!$B:$B&'Data Table'!$A:$A,0)),\"\")","v":""},{"$f":"IFERROR(INDEX('Data Table'!$BS:$BS,MATCH($A$3 & M$8,'Data Table'!$B:$B&'Data Table'!$A:$A,0)),\"\")","v":""},{"$f":"IFERROR(INDEX('Data Table'!$BS:$BS,MATCH($A$3 & N$8,'Data Table'!$B:$B&'Data Table'!$A:$A,0)),\"\")","v":""},{"$f":"IFERROR(INDEX('Data Table'!$BS:$BS,MATCH($A$3 & O$8,'Data Table'!$B:$B&'Data Table'!$A:$A,0)),\"\")","v":""},{"$f":"IFERROR(INDEX('Data Table'!$BS:$BS,MATCH($A$3 & P$8,'Data Table'!$B:$B&'Data Table'!$A:$A,0)),\"\")","v":""},{"$f":"IFERROR($Q$5*Norms!B72/100, \"No Data\")","v":"No Data"}]
["Ankle PF","Left",{"$f":"IFERROR(INDEX('Data Table'!$BT:$BT,MATCH($A$3 & C$8,'Data Table'!$B:$B&'Data Table'!$A:$A,0)),\"\")","v":"AnkPFL"},{"$f":"IFERROR(INDEX('Data Table'!$BT:$BT,MATCH($A$3 & D$8,'Data Table'!$B:$B&'Data Table'!$A:$A,0)),\"\")","v":""},{"$f":"IFERROR(INDEX('Data Table'!$BT:$BT,MATCH($A$3 & E$8,'Data Table'!$B:$B&'Data Table'!$A:$A,0)),\"\")","v":""},{"$f":"IFERROR(INDEX('Data Table'!$BT:$BT,MATCH($A$3 & F$8,'Data Table'!$B:$B&'Data Table'!$A:$A,0)),\"\")","v":""},{"$f":"IFERROR(INDEX('Data Table'!$BT:$BT,MATCH($A$3 & G$8,'Data Table'!$B:$B&'Data Table'!$A:$A,0)),\"\")","v":""},{"$f":"IFERROR(INDEX('Data Table'!$BT:$BT,MATCH($A$3 & H$8,'Data Table'!$B:$B&'Data Table'!$A:$A,0)),\"\")","v":""},{"$f":"IFERROR(INDEX('Data Table'!$BT:$BT,MATCH($A$3 & I$8,'Data Table'!$B:$B&'Data Table'!$A:$A,0)),\"\")","v":""},{"$f":"IFERROR(INDEX('Data Table'!$BT:$BT,MATCH($A$3 & J$8,'Data Table'!$B:$B&'Data Table'!$A:$A,0)),\"\")","v":""},{"$f":"IFERROR(INDEX('Data Table'!$BT:$BT,MATCH($A$3 & K$8,'Data Table'!$B:$B&'Data Table'!$A:$A,0)),\"\")","v":""},{"$f":"IFERROR(INDEX('Data Table'!$BT:$BT,MATCH($A$3 & L$8,'Data Table'!$B:$B&'Data Table'!$A:$A,0)),\"\")","v":""},{"$f":"IFERROR(INDEX('Data Table'!$BT:$BT,MATCH($A$3 & M$8,'Data Table'!$B:$B&'Data Table'!$A:$A,0)),\"\")","v":""},{"$f":"IFERROR(INDEX('Data Table'!$BT:$BT,MATCH($A$3 & N$8,'Data Table'!$B:$B&'Data Table'!$A:$A,0)),\"\")","v":""},{"$f":"IFERROR(INDEX('Data Table'!$BT:$BT,MATCH($A$3 & O$8,'Data Table'!$B:$B&'Data Table'!$A:$A,0)),\"\")","v":""},{"$f":"IFERROR(INDEX('Data Table'!$BT:$BT,MATCH($A$3 & P$8,'Data Table'!$B:$B&'Data Table'!$A:$A,0)),\"\")","v":""},{"$f":"IFERROR($Q$5*(Norms!B70)/100, \"No Data\")","v":"No Data"}]
["Ankle PF","Right",{"$f":"IFERROR(INDEX('Data Table'!$BU:$BU,MATCH($A$3 & C$8,'Data Table'!$B:$B&'Data Table'!$A:$A,0)),\"\")","v":"AnkPFR"},{"$f":"IFERROR(INDEX('Data Table'!$BU:$BU,MATCH($A$3 & D$8,'Data Table'!$B:$B&'Data Table'!$A:$A,0)),\"\")","v":""},{"$f":"IFERROR(INDEX('Data Table'!$BU:$BU,MATCH($A$3 & E$8,'Data Table'!$B:$B&'Data Table'!$A:$A,0)),\"\")","v":""},{"$f":"IFERROR(INDEX('Data Table'!$BU:$BU,MATCH($A$3 & F$8,'Data Table'!$B:$B&'Data Table'!$A:$A,0)),\"\")","v":""},{"$f":"IFERROR(INDEX('Data Table'!$BU:$BU,MATCH($A$3 & G$8,'Data Table'!$B:$B&'Data Table'!$A:$A,0)),\"\")","v":""},{"$f":"IFERROR(INDEX('Data Table'!$BU:$BU,MATCH($A$3 & H$8,'Data Table'!$B:$B&'Data Table'!$A:$A,0)),\"\")","v":""},{"$f":"IFERROR(INDEX('Data Table'!$BU:$BU,MATCH($A$3 & I$8,'Data Table'!$B:$B&'Data Table'!$A:$A,0)),\"\")","v":""},{"$f":"IFERROR(INDEX('Data Table'!$BU:$BU,MATCH($A$3 & J$8,'Data Table'!$B:$B&'Data Table'!$A:$A,0)),\"\")","v":""},{"$f":"IFERROR(INDEX('Data Table'!$BU:$BU,MATCH($A$3 & K$8,'Data Table'!$B:$B&'Data Table'!$A:$A,0)),\"\")","v":""},{"$f":"IFERROR(INDEX('Data Table'!$BU:$BU,MATCH($A$3 & L$8,'Data Table'!$B:$B&'Data Table'!$A:$A,0)),\"\")","v":""},{"$f":"IFERROR(INDEX('Data Table'!$BU:$BU,MATCH($A$3 & M$8,'Data Table'!$B:$B&'Data Table'!$A:$A,0)),\"\")","v":""},{"$f":"IFERROR(INDEX('Data Table'!$BU:$BU,MATCH($A$3 & N$8,'Data Table'!$B:$B&'Data Table'!$A:$A,0)),\"\")","v":""},{"$f":"IFERROR(INDEX('Data Table'!$BU:$BU,MATCH($A$3 & O$8,'Data Table'!$B:$B&'Data Table'!$A:$A,0)),\"\")","v":""},{"$f":"IFERROR(INDEX('Data Table'!$BU:$BU,MATCH($A$3 & P$8,'Data Table'!$B:$B&'Data Table'!$A:$A,0)),\"\")","v":""},{"$f":"IFERROR($Q$5*(Norms!B70)/100, \"No Data\")","v":"No Data"}]
["Ankle Eversion","Left",{"$f":"IFERROR(INDEX('Data Table'!$BV:$BV,MATCH($A$3 & C$8,'Data Table'!$B:$B&'Data Table'!$A:$A,0)),\"\")","v":"AnkEvL"},{"$f":"IFERROR(INDEX('Data Table'!$BV:$BV,MATCH($A$3 & D$8,'Data Table'!$B:$B&'Data Table'!$A:$A,0)),\"\")","v":""},{"$f":"IFERROR(INDEX('Data Table'!$BV:$BV,MATCH($A$3 & E$8,'Data Table'!$B:$B&'Data Table'!$A:$A,0)),\"\")","v":""},{"$f":"IFERROR(INDEX('Data Table'!$BV:$BV,MATCH($A$3 & F$8,'Data Table'!$B:$B&'Data Table'!$A:$A,0)),\"\")","v":""},{"$f":"IFERROR(INDEX('Data Table'!$BV:$BV,MATCH($A$3 & G$8,'Data Table'!$B:$B&'Data Table'!$A:$A,0)),\"\")","v":""},{"$f":"IFERROR(INDEX('Data Table'!$BV:$BV,MATCH($A$3 & H$8,'Data Table'!$B:$B&'Data Table'!$A:$A,0)),\"\")","v":""},{"$f":"IFERROR(INDEX('Data Table'!$BV:$BV,MATCH($A$3 & I$8,'Data Table'!$B:$B&'Data Table'!$A:$A,0)),\"\")","v":""},{"$f":"IFERROR(INDEX('Data Table'!$BV:$BV,MATCH($A$3 & J$8,'Data Table'!$B:$B&'Data Table'!$A:$A,0)),\"\")","v":""},{"$f":"IFERROR(INDEX('Data Table'!$BV:$BV,MATCH($A$3 & K$8,'Data Table'!$B:$B&'Data Table'!$A:$A,0)),\"\")","v":""},{"$f":"IFERROR(INDEX('Data Table'!$BV:$BV,MATCH($A$3 & L$8,'Data Table'!$B:$B&'Data Table'!$A:$A,0)),\"\")","v":""},{"$f":"IFERROR(INDEX('Data Table'!$BV:$BV,MATCH($A$3 & M$8,'Data Table'!$B:$B&'Data Table'!$A:$A,0)),\"\")","v":""},{"$f":"IFERROR(INDEX('Data Table'!$BV:$BV,MATCH($A$3 & N$8,'Data Table'!$B:$B&'Data Table'!$A:$A,0)),\"\")","v":""},{"$f":"IFERROR(INDEX('Data Table'!$BV:$BV,MATCH($A$3 & O$8,'Data Table'!$B:$B&'Data Table'!$A:$A,0)),\"\")","v":""},null,{"$f":"IFERROR($Q$5*(Norms!B74)/100, \"No Data\")","v":"No Data"}]
["Ankle Eversion","Right",{"$f":"IFERROR(INDEX('Data Table'!$BW:$BW,MATCH($A$3 & C$8,'Data Table'!$B:$B&'Data Table'!$A:$A,0)),\"\")","v":"AnkEvR"},{"$f":"IFERROR(INDEX('Data Table'!$BW:$BW,MATCH($A$3 & D$8,'Data Table'!$B:$B&'Data Table'!$A:$A,0)),\"\")","v":""},{"$f":"IFERROR(INDEX('Data Table'!$BW:$BW,MATCH($A$3 & E$8,'Data Table'!$B:$B&'Data Table'!$A:$A,0)),\"\")","v":""},{"$f":"IFERROR(INDEX('Data Table'!$BW:$BW,MATCH($A$3 & F$8,'Data Table'!$B:$B&'Data Table'!$A:$A,0)),\"\")","v":""},{"$f":"IFERROR(INDEX('Data Table'!$BW:$BW,MATCH($A$3 & G$8,'Data Table'!$B:$B&'Data Table'!$A:$A,0)),\"\")","v":""},{"$f":"IFERROR(INDEX('Data Table'!$BW:$BW,MATCH($A$3 & H$8,'Data Table'!$B:$B&'Data Table'!$A:$A,0)),\"\")","v":""},{"$f":"IFERROR(INDEX('Data Table'!$BW:$BW,MATCH($A$3 & I$8,'Data Table'!$B:$B&'Data Table'!$A:$A,0)),\"\")","v":""},{"$f":"IFERROR(INDEX('Data Table'!$BW:$BW,MATCH($A$3 & J$8,'Data Table'!$B:$B&'Data Table'!$A:$A,0)),\"\")","v":""},{"$f":"IFERROR(INDEX('Data Table'!$BW:$BW,MATCH($A$3 & K$8,'Data Table'!$B:$B&'Data Table'!$A:$A,0)),\"\")","v":""},{"$f":"IFERROR(INDEX('Data Table'!$BW:$BW,MATCH($A$3 & L$8,'Data Table'!$B:$B&'Data Table'!$A:$A,0)),\"\")","v":""},{"$f":"IFERROR(INDEX('Data Table'!$BW:$BW,MATCH($A$3 & M$8,'Data Table'!$B:$B&'Data Table'!$A:$A,0)),\"\")","v":""},{"$f":"IFERROR(INDEX('Data Table'!$BW:$BW,MATCH($A$3 & N$8,'Data Table'!$B:$B&'Data Table'!$A:$A,0)),\"\")","v":""},{"$f":"IFERROR(INDEX('Data Table'!$BW:$BW,MATCH($A$3 & O$8,'Data Table'!$B:$B&'Data Table'!$A:$A,0)),\"\")","v":""},{"$f":"IFERROR(INDEX('Data Table'!$BW:$BW,MATCH($A$3 & P$8,'Data Table'!$B:$B&'Data Table'!$A:$A,0)),\"\")","v":""},{"$f":"IFERROR($Q$5*(Norms!B74)/100, \"No Data\")","v":"No Data"}]
["Ankle Inversion","Left",{"$f":"IFERROR(INDEX('Data Table'!$BX:$BX,MATCH($A$3 & C$8,'Data Table'!$B:$B&'Data Table'!$A:$A,0)),\"\")","v":"AnkInvL"},{"$f":"IFERROR(INDEX('Data Table'!$BX:$BX,MATCH($A$3 & D$8,'Data Table'!$B:$B&'Data Table'!$A:$A,0)),\"\")","v":""},{"$f":"IFERROR(INDEX('Data Table'!$BX:$BX,MATCH($A$3 & E$8,'Data Table'!$B:$B&'Data Table'!$A:$A,0)),\"\")","v":""},{"$f":"IFERROR(INDEX('Data Table'!$BX:$BX,MATCH($A$3 & F$8,'Data Table'!$B:$B&'Data Table'!$A:$A,0)),\"\")","v":""},{"$f":"IFERROR(INDEX('Data Table'!$BX:$BX,MATCH($A$3 & G$8,'Data Table'!$B:$B&'Data Table'!$A:$A,0)),\"\")","v":""},{"$f":"IFERROR(INDEX('Data Table'!$BX:$BX,MATCH($A$3 & H$8,'Data Table'!$B:$B&'Data Table'!$A:$A,0)),\"\")","v":""},{"$f":"IFERROR(INDEX('Data Table'!$BX:$BX,MATCH($A$3 & I$8,'Data Table'!$B:$B&'Data Table'!$A:$A,0)),\"\")","v":""},{"$f":"IFERROR(INDEX('Data Table'!$BX:$BX,MATCH($A$3 & J$8,'Data Table'!$B:$B&'Data Table'!$A:$A,0)),\"\")","v":""},{"$f":"IFERROR(INDEX('Data Table'!$BX:$BX,MATCH($A$3 & K$8,'Data Table'!$B:$B&'Data Table'!$A:$A,0)),\"\")","v":""},{"$f":"IFERROR(INDEX('Data Table'!$BX:$BX,MATCH($A$3 & L$8,'Data Table'!$B:$B&'Data Table'!$A:$A,0)),\"\")","v":""},{"$f":"IFERROR(INDEX('Data Table'!$BX:$BX,MATCH($A$3 & M$8,'Data Table'!$B:$B&'Data Table'!$A:$A,0)),\"\")","v":""},{"$f":"IFERROR(INDEX('Data Table'!$BX:$BX,MATCH($A$3 & N$8,'Data Table'!$B:$B&'Data Table'!$A:$A,0)),\"\")","v":""},{"$f":"IFERROR(INDEX('Data Table'!$BX:$BX,MATCH($A$3 & O$8,'Data Table'!$B:$B&'Data Table'!$A:$A,0)),\"\")","v":""},{"$f":"IFERROR(INDEX('Data Table'!$BX:$BX,MATCH($A$3 & P$8,'Data Table'!$B:$B&'Data Table'!$A:$A,0)),\"\")","v":""},{"$f":"IFERROR($Q$5*(Norms!B76)/100, \"No Data\")","v":"No Data"}]
["Ankle Inversion","Right",{"$f":"IFERROR(INDEX('Data Table'!$BY:$BY,MATCH($A$3 & C$8,'Data Table'!$B:$B&'Data Table'!$A:$A,0)),\"\")","v":"AnkInvR"},{"$f":"IFERROR(INDEX('Data Table'!$BY:$BY,MATCH($A$3 & D$8,'Data Table'!$B:$B&'Data Table'!$A:$A,0)),\"\")","v":""},{"$f":"IFERROR(INDEX('Data Table'!$BY:$BY,MATCH($A$3 & E$8,'Data Table'!$B:$B&'Data Table'!$A:$A,0)),\"\")","v":""},{"$f":"IFERROR(INDEX('Data Table'!$BY:$BY,MATCH($A$3 & F$8,'Data Table'!$B:$B&'Data Table'!$A:$A,0)),\"\")","v":""},{"$f":"IFERROR(INDEX('Data Table'!$BY:$BY,MATCH($A$3 & G$8,'Data Table'!$B:$B&'Data Table'!$A:$A,0)),\"\")","v":""},{"$f":"IFERROR(INDEX('Data Table'!$BY:$BY,MATCH($A$3 & H$8,'Data Table'!$B:$B&'Data Table'!$A:$A,0)),\"\")","v":""},{"$f":"IFERROR(INDEX('Data Table'!$BY:$BY,MATCH($A$3 & I$8,'Data Table'!$B:$B&'Data Table'!$A:$A,0)),\"\")","v":""},{"$f":"IFERROR(INDEX('Data Table'!$BY:$BY,MATCH($A$3 & J$8,'Data Table'!$B:$B&'Data Table'!$A:$A,0)),\"\")","v":""},{"$f":"IFERROR(INDEX('Data Table'!$BY:$BY,MATCH($A$3 & K$8,'Data Table'!$B:$B&'Data Table'!$A:$A,0)),\"\")","v":""},{"$f":"IFERROR(INDEX('Data Table'!$BY:$BY,MATCH($A$3 & L$8,'Data Table'!$B:$B&'Data Table'!$A:$A,0)),\"\")","v":""},{"$f":"IFERROR(INDEX('Data Table'!$BY:$BY,MATCH($A$3 & M$8,'Data Table'!$B:$B&'Data Table'!$A:$A,0)),\"\")","v":""},{"$f":"IFERROR(INDEX('Data Table'!$BY:$BY,MATCH($A$3 & N$8,'Data Table'!$B:$B&'Data Table'!$A:$A,0)),\"\")","v":""},{"$f":"IFERROR(INDEX('Data Table'!$BY:$BY,MATCH($A$3 & O$8,'Data Table'!$B:$B&'Data Table'!$A:$A,0)),\"\")","v":""},{"$f":"IFERROR(INDEX('Data Table'!$BY:$BY,MATCH($A$3 & P$8,'Data Table'!$B:$B&'Data Table'!$A:$A,0)),\"\")","v":""},{"$f":"IFERROR($Q$5*(Norms!B76)/100, \"No Data\")","v":"No Data"}]
["Ankle Other1","Left",{"$f":"IFERROR(INDEX('Data Table'!$BZ:$BZ,MATCH($A$3 & C$8,'Data Table'!$B:$B&'Data Table'!$A:$A,0)),\"\")","v":"AnkOthL"},{"$f":"IFERROR(INDEX('Data Table'!$BZ:$BZ,MATCH($A$3 & D$8,'Data Table'!$B:$B&'Data Table'!$A:$A,0)),\"\")","v":""},{"$f":"IFERROR(INDEX('Data Table'!$BZ:$BZ,MATCH($A$3 & E$8,'Data Table'!$B:$B&'Data Table'!$A:$A,0)),\"\")","v":""},{"$f":"IFERROR(INDEX('Data Table'!$BZ:$BZ,MATCH($A$3 & F$8,'Data Table'!$B:$B&'Data Table'!$A:$A,0)),\"\")","v":""},{"$f":"IFERROR(INDEX('Data Table'!$BZ:$BZ,MATCH($A$3 & G$8,'Data Table'!$B:$B&'Data Table'!$A:$A,0)),\"\")","v":""},{"$f":"IFERROR(INDEX('Data Table'!$BZ:$BZ,MATCH($A$3 & H$8,'Data Table'!$B:$B&'Data Table'!$A:$A,0)),\"\")","v":""},{"$f":"IFERROR(INDEX('Data Table'!$BZ:$BZ,MATCH($A$3 & I$8,'Data Table'!$B:$B&'Data Table'!$A:$A,0)),\"\")","v":""},{"$f":"IFERROR(INDEX('Data Table'!$BZ:$BZ,MATCH($A$3 & J$8,'Data Table'!$B:$B&'Data Table'!$A:$A,0)),\"\")","v":""},{"$f":"IFERROR(INDEX('Data Table'!$BZ:$BZ,MATCH($A$3 & K$8,'Data Table'!$B:$B&'Data Table'!$A:$A,0)),\"\")","v":""},{"$f":"IFERROR(INDEX('Data Table'!$BZ:$BZ,MATCH($A$3 & L$8,'Data Table'!$B:$B&'Data Table'!$A:$A,0)),\"\")","v":""},{"$f":"IFERROR(INDEX('Data Table'!$BZ:$BZ,MATCH($A$3 & M$8,'Data Table'!$B:$B&'Data Table'!$A:$A,0)),\"\")","v":""},{"$f":"IFERROR(INDEX('Data Table'!$BZ:$BZ,MATCH($A$3 & N$8,'Data Table'!$B:$B&'Data Table'!$A:$A,0)),\"\")","v":""},{"$f":"IFERROR(INDEX('Data Table'!$BZ:$BZ,MATCH($A$3 & O$8,'Data Table'!$B:$B&'Data Table'!$A:$A,0)),\"\")","v":""},{"$f":"IFERROR(INDEX('Data Table'!$BZ:$BZ,MATCH($A$3 & P$8,'Data Table'!$B:$B&'Data Table'!$A:$A,0)),\"\")","v":""},"No Data"]
["Ankle Other1","Right",{"$f":"IFERROR(INDEX('Data Table'!$CA:$CA,MATCH($A$3 & C$8,'Data Table'!$B:$B&'Data Table'!$A:$A,0)),\"\")","v":"AnkOthR"},{"$f":"IFERROR(INDEX('Data Table'!$CA:$CA,MATCH($A$3 & D$8,'Data Table'!$B:$B&'Data Table'!$A:$A,0)),\"\")","v":""},{"$f":"IFERROR(INDEX('Data Table'!$CA:$CA,MATCH($A$3 & E$8,'Data Table'!$B:$B&'Data Table'!$A:$A,0)),\"\")","v":""},{"$f":"IFERROR(INDEX('Data Table'!$CA:$CA,MATCH($A$3 & F$8,'Data Table'!$B:$B&'Data Table'!$A:$A,0)),\"\")","v":""},{"$f":"IFERROR(INDEX('Data Table'!$CA:$CA,MATCH($A$3 & G$8,'Data Table'!$B:$B&'Data Table'!$A:$A,0)),\"\")","v":""},{"$f":"IFERROR(INDEX('Data Table'!$CA:$CA,MATCH($A$3 & H$8,'Data Table'!$B:$B&'Data Table'!$A:$A,0)),\"\")","v":""},{"$f":"IFERROR(INDEX('Data Table'!$CA:$CA,MATCH($A$3 & I$8,'Data Table'!$B:$B&'Data Table'!$A:$A,0)),\"\")","v":""},{"$f":"IFERROR(INDEX('Data Table'!$CA:$CA,MATCH($A$3 & J$8,'Data Table'!$B:$B&'Data Table'!$A:$A,0)),\"\")","v":""},{"$f":"IFERROR(INDEX('Data Table'!$CA:$CA,MATCH($A$3 & K$8,'Data Table'!$B:$B&'Data Table'!$A:$A,0)),\"\")","v":""},{"$f":"IFERROR(INDEX('Data Table'!$CA:$CA,MATCH($A$3 & L$8,'Data Table'!$B:$B&'Data Table'!$A:$A,0)),\"\")","v":""},{"$f":"IFERROR(INDEX('Data Table'!$CA:$CA,MATCH($A$3 & M$8,'Data Table'!$B:$B&'Data Table'!$A:$A,0)),\"\")","v":""},{"$f":"IFERROR(INDEX('Data Table'!$CA:$CA,MATCH($A$3 & N$8,'Data Table'!$B:$B&'Data Table'!$A:$A,0)),\"\")","v":""},{"$f":"IFERROR(INDEX('Data Table'!$CA:$CA,MATCH($A$3 & O$8,'Data Table'!$B:$B&'Data Table'!$A:$A,0)),\"\")","v":""},{"$f":"IFERROR(INDEX('Data Table'!$CA:$CA,MATCH($A$3 & P$8,'Data Table'!$B:$B&'Data Table'!$A:$A,0)),\"\")","v":""},"No Data"]
["Cervical Extension at neutral","Left",{"$f":"IFERROR(INDEX('Data Table'!$F:$F,MATCH($A$3 & C$8,'Data Table'!$B:$B&'Data Table'!$A:$A,0)),\"\")","v":"CerExtL"},{"$f":"IFERROR(INDEX('Data Table'!$F:$F,MATCH($A$3 & D$8,'Data Table'!$B:$B&'Data Table'!$A:$A,0)),\"\")","v":""},{"$f":"IFERROR(INDEX('Data Table'!$F:$F,MATCH($A$3 & E$8,'Data Table'!$B:$B&'Data Table'!$A:$A,0)),\"\")","v":""},{"$f":"IFERROR(INDEX('Data Table'!$F:$F,MATCH($A$3 & F$8,'Data Table'!$B:$B&'Data Table'!$A:$A,0)),\"\")","v":""},{"$f":"IFERROR(INDEX('Data Table'!$F:$F,MATCH($A$3 & G$8,'Data Table'!$B:$B&'Data Table'!$A:$A,0)),\"\")","v":""},{"$f":"IFERROR(INDEX('Data Table'!$F:$F,MATCH($A$3 & H$8,'Data Table'!$B:$B&'Data Table'!$A:$A,0)),\"\")","v":""},{"$f":"IFERROR(INDEX('Data Table'!$F:$F,MATCH($A$3 & I$8,'Data Table'!$B:$B&'Data Table'!$A:$A,0)),\"\")","v":""},{"$f":"IFERROR(INDEX('Data Table'!$F:$F,MATCH($A$3 & J$8,'Data Table'!$B:$B&'Data Table'!$A:$A,0)),\"\")","v":""},{"$f":"IFERROR(INDEX('Data Table'!$F:$F,MATCH($A$3 & K$8,'Data Table'!$B:$B&'Data Table'!$A:$A,0)),\"\")","v":""},{"$f":"IFERROR(INDEX('Data Table'!$F:$F,MATCH($A$3 & L$8,'Data Table'!$B:$B&'Data Table'!$A:$A,0)),\"\")","v":""},{"$f":"IFERROR(INDEX('Data Table'!$F:$F,MATCH($A$3 & M$8,'Data Table'!$B:$B&'Data Table'!$A:$A,0)),\"\")","v":""},{"$f":"IFERROR(INDEX('Data Table'!$F:$F,MATCH($A$3 & N$8,'Data Table'!$B:$B&'Data Table'!$A:$A,0)),\"\")","v":""},{"$f":"IFERROR(INDEX('Data Table'!$F:$F,MATCH($A$3 & O$8,'Data Table'!$B:$B&'Data Table'!$A:$A,0)),\"\")","v":""},{"$f":"IFERROR(INDEX('Data Table'!$F:$F,MATCH($A$3 & P$8,'Data Table'!$B:$B&'Data Table'!$A:$A,0)),\"\")","v":""},{"$f":"IFERROR($Q$5*(Norms!B81)/100, \"No Data\")","v":"No Data"}]
["Cervical Extension at neutral","Right",{"$f":"IFERROR(INDEX('Data Table'!$G:$G,MATCH($A$3 & C$8,'Data Table'!$B:$B&'Data Table'!$A:$A,0)),\"\")","v":"CerExtR"},{"$f":"IFERROR(INDEX('Data Table'!$G:$G,MATCH($A$3 & D$8,'Data Table'!$B:$B&'Data Table'!$A:$A,0)),\"\")","v":""},{"$f":"IFERROR(INDEX('Data Table'!$G:$G,MATCH($A$3 & E$8,'Data Table'!$B:$B&'Data Table'!$A:$A,0)),\"\")","v":""},{"$f":"IFERROR(INDEX('Data Table'!$G:$G,MATCH($A$3 & F$8,'Data Table'!$B:$B&'Data Table'!$A:$A,0)),\"\")","v":""},{"$f":"IFERROR(INDEX('Data Table'!$G:$G,MATCH($A$3 & G$8,'Data Table'!$B:$B&'Data Table'!$A:$A,0)),\"\")","v":""},{"$f":"IFERROR(INDEX('Data Table'!$G:$G,MATCH($A$3 & H$8,'Data Table'!$B:$B&'Data Table'!$A:$A,0)),\"\")","v":""},{"$f":"IFERROR(INDEX('Data Table'!$G:$G,MATCH($A$3 & I$8,'Data Table'!$B:$B&'Data Table'!$A:$A,0)),\"\")","v":""},{"$f":"IFERROR(INDEX('Data Table'!$G:$G,MATCH($A$3 & J$8,'Data Table'!$B:$B&'Data Table'!$A:$A,0)),\"\")","v":""},{"$f":"IFERROR(INDEX('Data Table'!$G:$G,MATCH($A$3 & K$8,'Data Table'!$B:$B&'Data Table'!$A:$A,0)),\"\")","v":""},{"$f":"IFERROR(INDEX('Data Table'!$G:$G,MATCH($A$3 & L$8,'Data Table'!$B:$B&'Data Table'!$A:$A,0)),\"\")","v":""},{"$f":"IFERROR(INDEX('Data Table'!$G:$G,MATCH($A$3 & M$8,'Data Table'!$B:$B&'Data Table'!$A:$A,0)),\"\")","v":""},{"$f":"IFERROR(INDEX('Data Table'!$G:$G,MATCH($A$3 & N$8,'Data Table'!$B:$B&'Data Table'!$A:$A,0)),\"\")","v":""},{"$f":"IFERROR(INDEX('Data Table'!$G:$G,MATCH($A$3 & O$8,'Data Table'!$B:$B&'Data Table'!$A:$A,0)),\"\")","v":""},{"$f":"IFERROR(INDEX('Data Table'!$G:$G,MATCH($A$3 & P$8,'Data Table'!$B:$B&'Data Table'!$A:$A,0)),\"\")","v":""},{"$f":"IFERROR($Q$5*(Norms!B81)/100, \"No Data\")","v":"No Data"}]
["Cervical Flexion","Left",{"$f":"IFERROR(INDEX('Data Table'!$D:$D,MATCH($A$3 & C$8,'Data Table'!$B:$B&'Data Table'!$A:$A,0)),\"\")","v":"CerFlexL"},{"$f":"IFERROR(INDEX('Data Table'!$D:$D,MATCH($A$3 & D$8,'Data Table'!$B:$B&'Data Table'!$A:$A,0)),\"\")","v":""},{"$f":"IFERROR(INDEX('Data Table'!$D:$D,MATCH($A$3 & E$8,'Data Table'!$B:$B&'Data Table'!$A:$A,0)),\"\")","v":""},{"$f":"IFERROR(INDEX('Data Table'!$D:$D,MATCH($A$3 & F$8,'Data Table'!$B:$B&'Data Table'!$A:$A,0)),\"\")","v":""},{"$f":"IFERROR(INDEX('Data Table'!$D:$D,MATCH($A$3 & G$8,'Data Table'!$B:$B&'Data Table'!$A:$A,0)),\"\")","v":""},{"$f":"IFERROR(INDEX('Data Table'!$D:$D,MATCH($A$3 & H$8,'Data Table'!$B:$B&'Data Table'!$A:$A,0)),\"\")","v":""},{"$f":"IFERROR(INDEX('Data Table'!$D:$D,MATCH($A$3 & I$8,'Data Table'!$B:$B&'Data Table'!$A:$A,0)),\"\")","v":""},{"$f":"IFERROR(INDEX('Data Table'!$D:$D,MATCH($A$3 & J$8,'Data Table'!$B:$B&'Data Table'!$A:$A,0)),\"\")","v":""},{"$f":"IFERROR(INDEX('Data Table'!$D:$D,MATCH($A$3 & K$8,'Data Table'!$B:$B&'Data Table'!$A:$A,0)),\"\")","v":""},{"$f":"IFERROR(INDEX('Data Table'!$D:$D,MATCH($A$3 & L$8,'Data Table'!$B:$B&'Data Table'!$A:$A,0)),\"\")","v":""},{"$f":"IFERROR(INDEX('Data Table'!$D:$D,MATCH($A$3 & M$8,'Data Table'!$B:$B&'Data Table'!$A:$A,0)),\"\")","v":""},{"$f":"IFERROR(INDEX('Data Table'!$D:$D,MATCH($A$3 & N$8,'Data Table'!$B:$B&'Data Table'!$A:$A,0)),\"\")","v":""},{"$f":"IFERROR(INDEX('Data Table'!$D:$D,MATCH($A$3 & O$8,'Data Table'!$B:$B&'Data Table'!$A:$A,0)),\"\")","v":""},{"$f":"IFERROR(INDEX('Data Table'!$D:$D,MATCH($A$3 & P$8,'Data Table'!$B:$B&'Data Table'!$A:$A,0)),\"\")","v":""},{"$f":"IFERROR($Q$5*(Norms!B79)/100, \"No Data\")","v":"No Data"}]
["Cervical Flexion","Right",{"$f":"IFERROR(INDEX('Data Table'!$E:$E,MATCH($A$3 & C$8,'Data Table'!$B:$B&'Data Table'!$A:$A,0)),\"\")","v":"CerFlexR"},{"$f":"IFERROR(INDEX('Data Table'!$E:$E,MATCH($A$3 & D$8,'Data Table'!$B:$B&'Data Table'!$A:$A,0)),\"\")","v":""},{"$f":"IFERROR(INDEX('Data Table'!$E:$E,MATCH($A$3 & E$8,'Data Table'!$B:$B&'Data Table'!$A:$A,0)),\"\")","v":""},{"$f":"IFERROR(INDEX('Data Table'!$E:$E,MATCH($A$3 & F$8,'Data Table'!$B:$B&'Data Table'!$A:$A,0)),\"\")","v":""},{"$f":"IFERROR(INDEX('Data Table'!$E:$E,MATCH($A$3 & G$8,'Data Table'!$B:$B&'Data Table'!$A:$A,0)),\"\")","v":""},{"$f":"IFERROR(INDEX('Data Table'!$E:$E,MATCH($A$3 & H$8,'Data Table'!$B:$B&'Data Table'!$A:$A,0)),\"\")","v":""},{"$f":"IFERROR(INDEX('Data Table'!$E:$E,MATCH($A$3 & I$8,'Data Table'!$B:$B&'Data Table'!$A:$A,0)),\"\")","v":""},{"$f":"IFERROR(INDEX('Data Table'!$E:$E,MATCH($A$3 & J$8,'Data Table'!$B:$B&'Data Table'!$A:$A,0)),\"\")","v":""},{"$f":"IFERROR(INDEX('Data Table'!$E:$E,MATCH($A$3 & K$8,'Data Table'!$B:$B&'Data Table'!$A:$A,0)),\"\")","v":""},{"$f":"IFERROR(INDEX('Data Table'!$E:$E,MATCH($A$3 & L$8,'Data Table'!$B:$B&'Data Table'!$A:$A,0)),\"\")","v":""},{"$f":"IFERROR(INDEX('Data Table'!$E:$E,MATCH($A$3 & M$8,'Data Table'!$B:$B&'Data Table'!$A:$A,0)),\"\")","v":""},{"$f":"IFERROR(INDEX('Data Table'!$E:$E,MATCH($A$3 & N$8,'Data Table'!$B:$B&'Data Table'!$A:$A,0)),\"\")","v":""},{"$f":"IFERROR(INDEX('Data Table'!$E:$E,MATCH($A$3 & O$8,'Data Table'!$B:$B&'Data Table'!$A:$A,0)),\"\")","v":""},{"$f":"IFERROR(INDEX('Data Table'!$E:$E,MATCH($A$3 & P$8,'Data Table'!$B:$B&'Data Table'!$A:$A,0)),\"\")","v":""},{"$f":"IFERROR($Q$5*(Norms!B79)/100, \"No Data\")","v":"No Data"}]
["Cervical Side bending","Left",{"$f":"IFERROR(INDEX('Data Table'!$H:$H,MATCH($A$3 & C$8,'Data Table'!$B:$B&'Data Table'!$A:$A,0)),\"\")","v":"CerSBL"},{"$f":"IFERROR(INDEX('Data Table'!$H:$H,MATCH($A$3 & D$8,'Data Table'!$B:$B&'Data Table'!$A:$A,0)),\"\")","v":""},{"$f":"IFERROR(INDEX('Data Table'!$H:$H,MATCH($A$3 & E$8,'Data Table'!$B:$B&'Data Table'!$A:$A,0)),\"\")","v":""},{"$f":"IFERROR(INDEX('Data Table'!$H:$H,MATCH($A$3 & F$8,'Data Table'!$B:$B&'Data Table'!$A:$A,0)),\"\")","v":""},{"$f":"IFERROR(INDEX('Data Table'!$H:$H,MATCH($A$3 & G$8,'Data Table'!$B:$B&'Data Table'!$A:$A,0)),\"\")","v":""},{"$f":"IFERROR(INDEX('Data Table'!$H:$H,MATCH($A$3 & H$8,'Data Table'!$B:$B&'Data Table'!$A:$A,0)),\"\")","v":""},{"$f":"IFERROR(INDEX('Data Table'!$H:$H,MATCH($A$3 & I$8,'Data Table'!$B:$B&'Data Table'!$A:$A,0)),\"\")","v":""},{"$f":"IFERROR(INDEX('Data Table'!$H:$H,MATCH($A$3 & J$8,'Data Table'!$B:$B&'Data Table'!$A:$A,0)),\"\")","v":""},{"$f":"IFERROR(INDEX('Data Table'!$H:$H,MATCH($A$3 & K$8,'Data Table'!$B:$B&'Data Table'!$A:$A,0)),\"\")","v":""},{"$f":"IFERROR(INDEX('Data Table'!$H:$H,MATCH($A$3 & L$8,'Data Table'!$B:$B&'Data Table'!$A:$A,0)),\"\")","v":""},{"$f":"IFERROR(INDEX('Data Table'!$H:$H,MATCH($A$3 & M$8,'Data Table'!$B:$B&'Data Table'!$A:$A,0)),\"\")","v":""},{"$f":"IFERROR(INDEX('Data Table'!$H:$H,MATCH($A$3 & N$8,'Data Table'!$B:$B&'Data Table'!$A:$A,0)),\"\")","v":""},{"$f":"IFERROR(INDEX('Data Table'!$H:$H,MATCH($A$3 & O$8,'Data Table'!$B:$B&'Data Table'!$A:$A,0)),\"\")","v":""},{"$f":"IFERROR(INDEX('Data Table'!$H:$H,MATCH($A$3 & P$8,'Data Table'!$B:$B&'Data Table'!$A:$A,0)),\"\")","v":""},{"$f":"IFERROR($Q$5*(Norms!B83)/100, \"No Data\")","v":"No Data"}]
["Cervical Side bending","Right",{"$f":"IFERROR(INDEX('Data Table'!$I:$I,MATCH($A$3 & C$8,'Data Table'!$B:$B&'Data Table'!$A:$A,0)),\"\")","v":"CerSBR"},{"$f":"IFERROR(INDEX('Data Table'!$I:$I,MATCH($A$3 & D$8,'Data Table'!$B:$B&'Data Table'!$A:$A,0)),\"\")","v":""},{"$f":"IFERROR(INDEX('Data Table'!$I:$I,MATCH($A$3 & E$8,'Data Table'!$B:$B&'Data Table'!$A:$A,0)),\"\")","v":""},{"$f":"IFERROR(INDEX('Data Table'!$I:$I,MATCH($A$3 & F$8,'Data Table'!$B:$B&'Data Table'!$A:$A,0)),\"\")","v":""},{"$f":"IFERROR(INDEX('Data Table'!$I:$I,MATCH($A$3 & G$8,'Data Table'!$B:$B&'Data Table'!$A:$A,0)),\"\")","v":""},{"$f":"IFERROR(INDEX('Data Table'!$I:$I,MATCH($A$3 & H$8,'Data Table'!$B:$B&'Data Table'!$A:$A,0)),\"\")","v":""},{"$f":"IFERROR(INDEX('Data Table'!$I:$I,MATCH($A$3 & I$8,'Data Table'!$B:$B&'Data Table'!$A:$A,0)),\"\")","v":""},{"$f":"IFERROR(INDEX('Data Table'!$I:$I,MATCH($A$3 & J$8,'Data Table'!$B:$B&'Data Table'!$A:$A,0)),\"\")","v":""},{"$f":"IFERROR(INDEX('Data Table'!$I:$I,MATCH($A$3 & K$8,'Data Table'!$B:$B&'Data Table'!$A:$A,0)),\"\")","v":""},{"$f":"IFERROR(INDEX('Data Table'!$I:$I,MATCH($A$3 & L$8,'Data Table'!$B:$B&'Data Table'!$A:$A,0)),\"\")","v":""},{"$f":"IFERROR(INDEX('Data Table'!$I:$I,MATCH($A$3 & M$8,'Data Table'!$B:$B&'Data Table'!$A:$A,0)),\"\")","v":""},{"$f":"IFERROR(INDEX('Data Table'!$I:$I,MATCH($A$3 & N$8,'Data Table'!$B:$B&'Data Table'!$A:$A,0)),\"\")","v":""},{"$f":"IFERROR(INDEX('Data Table'!$I:$I,MATCH($A$3 & O$8,'Data Table'!$B:$B&'Data Table'!$A:$A,0)),\"\")","v":""},{"$f":"IFERROR(INDEX('Data Table'!$I:$I,MATCH($A$3 & P$8,'Data Table'!$B:$B&'Data Table'!$A:$A,0)),\"\")","v":""},{"$f":"IFERROR($Q$5*(Norms!B83)/100, \"No Data\")","v":"No Data"}]
["Cervical Other1","Left",{"$f":"IFERROR(INDEX('Data Table'!$J:$J,MATCH($A$3 & C$8,'Data Table'!$B:$B&'Data Table'!$A:$A,0)),\"\")","v":"CerOth1L"},{"$f":"IFERROR(INDEX('Data Table'!$J:$J,MATCH($A$3 & D$8,'Data Table'!$B:$B&'Data Table'!$A:$A,0)),\"\")","v":""},{"$f":"IFERROR(INDEX('Data Table'!$J:$J,MATCH($A$3 & E$8,'Data Table'!$B:$B&'Data Table'!$A:$A,0)),\"\")","v":""},{"$f":"IFERROR(INDEX('Data Table'!$J:$J,MATCH($A$3 & F$8,'Data Table'!$B:$B&'Data Table'!$A:$A,0)),\"\")","v":""},{"$f":"IFERROR(INDEX('Data Table'!$J:$J,MATCH($A$3 & G$8,'Data Table'!$B:$B&'Data Table'!$A:$A,0)),\"\")","v":""},{"$f":"IFERROR(INDEX('Data Table'!$J:$J,MATCH($A$3 & H$8,'Data Table'!$B:$B&'Data Table'!$A:$A,0)),\"\")","v":""},{"$f":"IFERROR(INDEX('Data Table'!$J:$J,MATCH($A$3 & I$8,'Data Table'!$B:$B&'Data Table'!$A:$A,0)),\"\")","v":""},{"$f":"IFERROR(INDEX('Data Table'!$J:$J,MATCH($A$3 & J$8,'Data Table'!$B:$B&'Data Table'!$A:$A,0)),\"\")","v":""},{"$f":"IFERROR(INDEX('Data Table'!$J:$J,MATCH($A$3 & K$8,'Data Table'!$B:$B&'Data Table'!$A:$A,0)),\"\")","v":""},{"$f":"IFERROR(INDEX('Data Table'!$J:$J,MATCH($A$3 & L$8,'Data Table'!$B:$B&'Data Table'!$A:$A,0)),\"\")","v":""},{"$f":"IFERROR(INDEX('Data Table'!$J:$J,MATCH($A$3 & M$8,'Data Table'!$B:$B&'Data Table'!$A:$A,0)),\"\")","v":""},{"$f":"IFERROR(INDEX('Data Table'!$J:$J,MATCH($A$3 & N$8,'Data Table'!$B:$B&'Data Table'!$A:$A,0)),\"\")","v":""},{"$f":"IFERROR(INDEX('Data Table'!$J:$J,MATCH($A$3 & O$8,'Data Table'!$B:$B&'Data Table'!$A:$A,0)),\"\")","v":""},{"$f":"IFERROR(INDEX('Data Table'!$J:$J,MATCH($A$3 & P$8,'Data Table'!$B:$B&'Data Table'!$A:$A,0)),\"\")","v":""},"No Data"]
["Cervical Other1","Right",{"$f":"IFERROR(INDEX('Data Table'!$K:$K,MATCH($A$3 & C$8,'Data Table'!$B:$B&'Data Table'!$A:$A,0)),\"\")","v":"CerOth1R"},{"$f":"IFERROR(INDEX('Data Table'!$K:$K,MATCH($A$3 & D$8,'Data Table'!$B:$B&'Data Table'!$A:$A,0)),\"\")","v":""},{"$f":"IFERROR(INDEX('Data Table'!$K:$K,MATCH($A$3 & E$8,'Data Table'!$B:$B&'Data Table'!$A:$A,0)),\"\")","v":""},{"$f":"IFERROR(INDEX('Data Table'!$K:$K,MATCH($A$3 & F$8,'Data Table'!$B:$B&'Data Table'!$A:$A,0)),\"\")","v":""},{"$f":"IFERROR(INDEX('Data Table'!$K:$K,MATCH($A$3 & G$8,'Data Table'!$B:$B&'Data Table'!$A:$A,0)),\"\")","v":""},{"$f":"IFERROR(INDEX('Data Table'!$K:$K,MATCH($A$3 & H$8,'Data Table'!$B:$B&'Data Table'!$A:$A,0)),\"\")","v":""},{"$f":"IFERROR(INDEX('Data Table'!$K:$K,MATCH($A$3 & I$8,'Data Table'!$B:$B&'Data Table'!$A:$A,0)),\"\")","v":""},{"$f":"IFERROR(INDEX('Data Table'!$K:$K,MATCH($A$3 & J$8,'Data Table'!$B:$B&'Data Table'!$A:$A,0)),\"\")","v":""},{"$f":"IFERROR(INDEX('Data Table'!$K:$K,MATCH($A$3 & K$8,'Data Table'!$B:$B&'Data Table'!$A:$A,0)),\"\")","v":""},{"$f":"IFERROR(INDEX('Data Table'!$K:$K,MATCH($A$3 & L$8,'Data Table'!$B:$B&'Data Table'!$A:$A,0)),\"\")","v":""},{"$f":"IFERROR(INDEX('Data Table'!$K:$K,MATCH($A$3 & M$8,'Data Table'!$B:$B&'Data Table'!$A:$A,0)),\"\")","v":""},{"$f":"IFERROR(INDEX('Data Table'!$K:$K,MATCH($A$3 & N$8,'Data Table'!$B:$B&'Data Table'!$A:$A,0)),\"\")","v":""},{"$f":"IFERROR(INDEX('Data Table'!$K:$K,MATCH($A$3 & O$8,'Data Table'!$B:$B&'Data Table'!$A:$A,0)),\"\")","v":""},{"$f":"IFERROR(INDEX('Data Table'!$K:$K,MATCH($A$3 & P$8,'Data Table'!$B:$B&'Data Table'!$A:$A,0)),\"\")","v":""},"No Data"]
["Cervical Other2","Left",{"$f":"IFERROR(INDEX('Data Table'!$L:$L,MATCH($A$3 & C$8,'Data Table'!$B:$B&'Data Table'!$A:$A,0)),\"\")","v":"CerOth2L"},{"$f":"IFERROR(INDEX('Data Table'!$L:$L,MATCH($A$3 & D$8,'Data Table'!$B:$B&'Data Table'!$A:$A,0)),\"\")","v":""},{"$f":"IFERROR(INDEX('Data Table'!$L:$L,MATCH($A$3 & E$8,'Data Table'!$B:$B&'Data Table'!$A:$A,0)),\"\")","v":""},{"$f":"IFERROR(INDEX('Data Table'!$L:$L,MATCH($A$3 & F$8,'Data Table'!$B:$B&'Data Table'!$A:$A,0)),\"\")","v":""},{"$f":"IFERROR(INDEX('Data Table'!$L:$L,MATCH($A$3 & G$8,'Data Table'!$B:$B&'Data Table'!$A:$A,0)),\"\")","v":""},{"$f":"IFERROR(INDEX('Data Table'!$L:$L,MATCH($A$3 & H$8,'Data Table'!$B:$B&'Data Table'!$A:$A,0)),\"\")","v":""},{"$f":"IFERROR(INDEX('Data Table'!$L:$L,MATCH($A$3 & I$8,'Data Table'!$B:$B&'Data Table'!$A:$A,0)),\"\")","v":""},{"$f":"IFERROR(INDEX('Data Table'!$L:$L,MATCH($A$3 & J$8,'Data Table'!$B:$B&'Data Table'!$A:$A,0)),\"\")","v":""},{"$f":"IFERROR(INDEX('Data Table'!$L:$L,MATCH($A$3 & K$8,'Data Table'!$B:$B&'Data Table'!$A:$A,0)),\"\")","v":""},{"$f":"IFERROR(INDEX('Data Table'!$L:$L,MATCH($A$3 & L$8,'Data Table'!$B:$B&'Data Table'!$A:$A,0)),\"\")","v":""},{"$f":"IFERROR(INDEX('Data Table'!$L:$L,MATCH($A$3 & M$8,'Data Table'!$B:$B&'Data Table'!$A:$A,0)),\"\")","v":""},{"$f":"IFERROR(INDEX('Data Table'!$L:$L,MATCH($A$3 & N$8,'Data Table'!$B:$B&'Data Table'!$A:$A,0)),\"\")","v":""},{"$f":"IFERROR(INDEX('Data Table'!$L:$L,MATCH($A$3 & O$8,'Data Table'!$B:$B&'Data Table'!$A:$A,0)),\"\")","v":""},{"$f":"IFERROR(INDEX('Data Table'!$L:$L,MATCH($A$3 & P$8,'Data Table'!$B:$B&'Data Table'!$A:$A,0)),\"\")","v":""},"No Data"]
["Cervical Other2","Right",{"$f":"IFERROR(INDEX('Data Table'!$M:$M,MATCH($A$3 & C$8,'Data Table'!$B:$B&'Data Table'!$A:$A,0)),\"\")","v":"CerOth2R"},{"$f":"IFERROR(INDEX('Data Table'!$M:$M,MATCH($A$3 & D$8,'Data Table'!$B:$B&'Data Table'!$A:$A,0)),\"\")","v":""},{"$f":"IFERROR(INDEX('Data Table'!$M:$M,MATCH($A$3 & E$8,'Data Table'!$B:$B&'Data Table'!$A:$A,0)),\"\")","v":""},{"$f":"IFERROR(INDEX('Data Table'!$M:$M,MATCH($A$3 & F$8,'Data Table'!$B:$B&'Data Table'!$A:$A,0)),\"\")","v":""},{"$f":"IFERROR(INDEX('Data Table'!$M:$M,MATCH($A$3 & G$8,'Data Table'!$B:$B&'Data Table'!$A:$A,0)),\"\")","v":""},{"$f":"IFERROR(INDEX('Data Table'!$M:$M,MATCH($A$3 & H$8,'Data Table'!$B:$B&'Data Table'!$A:$A,0)),\"\")","v":""},{"$f":"IFERROR(INDEX('Data Table'!$M:$M,MATCH($A$3 & I$8,'Data Table'!$B:$B&'Data Table'!$A:$A,0)),\"\")","v":""},{"$f":"IFERROR(INDEX('Data Table'!$M:$M,MATCH($A$3 & J$8,'Data Table'!$B:$B&'Data Table'!$A:$A,0)),\"\")","v":""},{"$f":"IFERROR(INDEX('Data Table'!$M:$M,MATCH($A$3 & K$8,'Data Table'!$B:$B&'Data Table'!$A:$A,0)),\"\")","v":""},{"$f":"IFERROR(INDEX('Data Table'!$M:$M,MATCH($A$3 & L$8,'Data Table'!$B:$B&'Data Table'!$A:$A,0)),\"\")","v":""},{"$f":"IFERROR(INDEX('Data Table'!$M:$M,MATCH($A$3 & M$8,'Data Table'!$B:$B&'Data Table'!$A:$A,0)),\"\")","v":""},{"$f":"IFERROR(INDEX('Data Table'!$M:$M,MATCH($A$3 & N$8,'Data Table'!$B:$B&'Data Table'!$A:$A,0)),\"\")","v":""},{"$f":"IFERROR(INDEX('Data Table'!$M:$M,MATCH($A$3 & O$8,'Data Table'!$B:$B&'Data Table'!$A:$A,0)),\"\")","v":""},{"$f":"IFERROR(INDEX('Data Table'!$M:$M,MATCH($A$3 & P$8,'Data Table'!$B:$B&'Data Table'!$A:$A,0)),\"\")","v":""},"No Data"]
["Elbow Extension @ 90*","Left",{"$f":"IFERROR(INDEX('Data Table'!$BB:$BB,MATCH($A$3 & C$8,'Data Table'!$B:$B&'Data Table'!$A:$A,0)),\"\")","v":"ElbExtL"},{"$f":"IFERROR(INDEX('Data Table'!$BB:$BB,MATCH($A$3 & D$8,'Data Table'!$B:$B&'Data Table'!$A:$A,0)),\"\")","v":""},{"$f":"IFERROR(INDEX('Data Table'!$BB:$BB,MATCH($A$3 & E$8,'Data Table'!$B:$B&'Data Table'!$A:$A,0)),\"\")","v":""},{"$f":"IFERROR(INDEX('Data Table'!$BB:$BB,MATCH($A$3 & F$8,'Data Table'!$B:$B&'Data Table'!$A:$A,0)),\"\")","v":""},{"$f":"IFERROR(INDEX('Data Table'!$BB:$BB,MATCH($A$3 & G$8,'Data Table'!$B:$B&'Data Table'!$A:$A,0)),\"\")","v":""},{"$f":"IFERROR(INDEX('Data Table'!$BB:$BB,MATCH($A$3 & H$8,'Data Table'!$B:$B&'Data Table'!$A:$A,0)),\"\")","v":""},{"$f":"IFERROR(INDEX('Data Table'!$BB:$BB,MATCH($A$3 & I$8,'Data Table'!$B:$B&'Data Table'!$A:$A,0)),\"\")","v":""},{"$f":"IFERROR(INDEX('Data Table'!$BB:$BB,MATCH($A$3 & J$8,'Data Table'!$B:$B&'Data Table'!$A:$A,0)),\"\")","v":""},{"$f":"IFERROR(INDEX('Data Table'!$BB:$BB,MATCH($A$3 & K$8,'Data Table'!$B:$B&'Data Table'!$A:$A,0)),\"\")","v":""},{"$f":"IFERROR(INDEX('Data Table'!$BB:$BB,MATCH($A$3 & L$8,'Data Table'!$B:$B&'Data Table'!$A:$A,0)),\"\")","v":""},{"$f":"IFERROR(INDEX('Data Table'!$BB:$BB,MATCH($A$3 & M$8,'Data Table'!$B:$B&'Data Table'!$A:$A,0)),\"\")","v":""},{"$f":"IFERROR(INDEX('Data Table'!$BB:$BB,MATCH($A$3 & N$8,'Data Table'!$B:$B&'Data Table'!$A:$A,0)),\"\")","v":""},{"$f":"IFERROR(INDEX('Data Table'!$BB:$BB,MATCH($A$3 & O$8,'Data Table'!$B:$B&'Data Table'!$A:$A,0)),\"\")","v":""},{"$f":"IFERROR(INDEX('Data Table'!$BB:$BB,MATCH($A$3 & P$8,'Data Table'!$B:$B&'Data Table'!$A:$A,0)),\"\")","v":""},{"$f":"IFERROR($Q$5*(Norms!B32)/100, \"No Data\")","v":"No Data"}]
["Elbow Extension @ 90*","Right",{"$f":"IFERROR(INDEX('Data Table'!$BC:$BC,MATCH($A$3 & C$8,'Data Table'!$B:$B&'Data Table'!$A:$A,0)),\"\")","v":"ElbExtR"},{"$f":"IFERROR(INDEX('Data Table'!$BC:$BC,MATCH($A$3 & D$8,'Data Table'!$B:$B&'Data Table'!$A:$A,0)),\"\")","v":""},{"$f":"IFERROR(INDEX('Data Table'!$BC:$BC,MATCH($A$3 & E$8,'Data Table'!$B:$B&'Data Table'!$A:$A,0)),\"\")","v":""},{"$f":"IFERROR(INDEX('Data Table'!$BC:$BC,MATCH($A$3 & F$8,'Data Table'!$B:$B&'Data Table'!$A:$A,0)),\"\")","v":""},{"$f":"IFERROR(INDEX('Data Table'!$BC:$BC,MATCH($A$3 & G$8,'Data Table'!$B:$B&'Data Table'!$A:$A,0)),\"\")","v":""},{"$f":"IFERROR(INDEX('Data Table'!$BC:$BC,MATCH($A$3 & H$8,'Data Table'!$B:$B&'Data Table'!$A:$A,0)),\"\")","v":""},{"$f":"IFERROR(INDEX('Data Table'!$BC:$BC,MATCH($A$3 & I$8,'Data Table'!$B:$B&'Data Table'!$A:$A,0)),\"\")","v":""},{"$f":"IFERROR(INDEX('Data Table'!$BC:$BC,MATCH($A$3 & J$8,'Data Table'!$B:$B&'Data Table'!$A:$A,0)),\"\")","v":""},{"$f":"IFERROR(INDEX('Data Table'!$BC:$BC,MATCH($A$3 & K$8,'Data Table'!$B:$B&'Data Table'!$A:$A,0)),\"\")","v":""},{"$f":"IFERROR(INDEX('Data Table'!$BC:$BC,MATCH($A$3 & L$8,'Data Table'!$B:$B&'Data Table'!$A:$A,0)),\"\")","v":""},{"$f":"IFERROR(INDEX('Data Table'!$BC:$BC,MATCH($A$3 & M$8,'Data Table'!$B:$B&'Data Table'!$A:$A,0)),\"\")","v":""},{"$f":"IFERROR(INDEX('Data Table'!$BC:$BC,MATCH($A$3 & N$8,'Data Table'!$B:$B&'Data Table'!$A:$A,0)),\"\")","v":""},{"$f":"IFERROR(INDEX('Data Table'!$BC:$BC,MATCH($A$3 & O$8,'Data Table'!$B:$B&'Data Table'!$A:$A,0)),\"\")","v":""},{"$f":"IFERROR(INDEX('Data Table'!$BC:$BC,MATCH($A$3 & P$8,'Data Table'!$B:$B&'Data Table'!$A:$A,0)),\"\")","v":""},{"$f":"IFERROR($Q$5*(Norms!B32)/100, \"No Data\")","v":"No Data"}]
["Elbow Flexion","Left",{"$f":"IFERROR(INDEX('Data Table'!$BD:$BD,MATCH($A$3 & C$8,'Data Table'!$B:$B&'Data Table'!$A:$A,0)),\"\")","v":"ElbFlexL"},{"$f":"IFERROR(INDEX('Data Table'!$BD:$BD,MATCH($A$3 & D$8,'Data Table'!$B:$B&'Data Table'!$A:$A,0)),\"\")","v":""},{"$f":"IFERROR(INDEX('Data Table'!$BD:$BD,MATCH($A$3 & E$8,'Data Table'!$B:$B&'Data Table'!$A:$A,0)),\"\")","v":""},{"$f":"IFERROR(INDEX('Data Table'!$BD:$BD,MATCH($A$3 & F$8,'Data Table'!$B:$B&'Data Table'!$A:$A,0)),\"\")","v":""},{"$f":"IFERROR(INDEX('Data Table'!$BD:$BD,MATCH($A$3 & G$8,'Data Table'!$B:$B&'Data Table'!$A:$A,0)),\"\")","v":""},{"$f":"IFERROR(INDEX('Data Table'!$BD:$BD,MATCH($A$3 & H$8,'Data Table'!$B:$B&'Data Table'!$A:$A,0)),\"\")","v":""},{"$f":"IFERROR(INDEX('Data Table'!$BD:$BD,MATCH($A$3 & I$8,'Data Table'!$B:$B&'Data Table'!$A:$A,0)),\"\")","v":""},{"$f":"IFERROR(INDEX('Data Table'!$BD:$BD,MATCH($A$3 & J$8,'Data Table'!$B:$B&'Data Table'!$A:$A,0)),\"\")","v":""},{"$f":"IFERROR(INDEX('Data Table'!$BD:$BD,MATCH($A$3 & K$8,'Data Table'!$B:$B&'Data Table'!$A:$A,0)),\"\")","v":""},{"$f":"IFERROR(INDEX('Data Table'!$BD:$BD,MATCH($A$3 & L$8,'Data Table'!$B:$B&'Data Table'!$A:$A,0)),\"\")","v":""},{"$f":"IFERROR(INDEX('Data Table'!$BD:$BD,MATCH($A$3 & M$8,'Data Table'!$B:$B&'Data Table'!$A:$A,0)),\"\")","v":""},{"$f":"IFERROR(INDEX('Data Table'!$BD:$BD,MATCH($A$3 & N$8,'Data Table'!$B:$B&'Data Table'!$A:$A,0)),\"\")","v":""},{"$f":"IFERROR(INDEX('Data Table'!$BD:$BD,MATCH($A$3 & O$8,'Data Table'!$B:$B&'Data Table'!$A:$A,0)),\"\")","v":""},{"$f":"IFERROR(INDEX('Data Table'!$BD:$BD,MATCH($A$3 & P$8,'Data Table'!$B:$B&'Data Table'!$A:$A,0)),\"\")","v":""},{"$f":"IFERROR($Q$5*(Norms!B35)/100, \"No Data\")","v":"No Data"}]
["Elbow Flexion","Right",{"$f":"IFERROR(INDEX('Data Table'!$BE:$BE,MATCH($A$3 & C$8,'Data Table'!$B:$B&'Data Table'!$A:$A,0)),\"\")","v":"ElbFlexR"},{"$f":"IFERROR(INDEX('Data Table'!$BE:$BE,MATCH($A$3 & D$8,'Data Table'!$B:$B&'Data Table'!$A:$A,0)),\"\")","v":""},{"$f":"IFERROR(INDEX('Data Table'!$BE:$BE,MATCH($A$3 & E$8,'Data Table'!$B:$B&'Data Table'!$A:$A,0)),\"\")","v":""},{"$f":"IFERROR(INDEX('Data Table'!$BE:$BE,MATCH($A$3 & F$8,'Data Table'!$B:$B&'Data Table'!$A:$A,0)),\"\")","v":""},{"$f":"IFERROR(INDEX('Data Table'!$BE:$BE,MATCH($A$3 & G$8,'Data Table'!$B:$B&'Data Table'!$A:$A,0)),\"\")","v":""},{"$f":"IFERROR(INDEX('Data Table'!$BE:$BE,MATCH($A$3 & H$8,'Data Table'!$B:$B&'Data Table'!$A:$A,0)),\"\")","v":""},{"$f":"IFERROR(INDEX('Data Table'!$BE:$BE,MATCH($A$3 & I$8,'Data Table'!$B:$B&'Data Table'!$A:$A,0)),\"\")","v":""},{"$f":"IFERROR(INDEX('Data Table'!$BE:$BE,MATCH($A$3 & J$8,'Data Table'!$B:$B&'Data Table'!$A:$A,0)),\"\")","v":""},{"$f":"IFERROR(INDEX('Data Table'!$BE:$BE,MATCH($A$3 & K$8,'Data Table'!$B:$B&'Data Table'!$A:$A,0)),\"\")","v":""},{"$f":"IFERROR(INDEX('Data Table'!$BE:$BE,MATCH($A$3 & L$8,'Data Table'!$B:$B&'Data Table'!$A:$A,0)),\"\")","v":""},{"$f":"IFERROR(INDEX('Data Table'!$BE:$BE,MATCH($A$3 & M$8,'Data Table'!$B:$B&'Data Table'!$A:$A,0)),\"\")","v":""},{"$f":"IFERROR(INDEX('Data Table'!$BE:$BE,MATCH($A$3 & N$8,'Data Table'!$B:$B&'Data Table'!$A:$A,0)),\"\")","v":""},{"$f":"IFERROR(INDEX('Data Table'!$BE:$BE,MATCH($A$3 & O$8,'Data Table'!$B:$B&'Data Table'!$A:$A,0)),\"\")","v":""},{"$f":"IFERROR(INDEX('Data Table'!$BE:$BE,MATCH($A$3 & P$8,'Data Table'!$B:$B&'Data Table'!$A:$A,0)),\"\")","v":""},{"$f":"IFERROR($Q$5*(Norms!B35)/100, \"No Data\")","v":"No Data"}]
["Elbow Other1","Left",{"$f":"IFERROR(INDEX('Data Table'!$BF:$BF,MATCH($A$3 & C$8,'Data Table'!$B:$B&'Data Table'!$A:$A,0)),\"\")","v":"ElbOthL"},{"$f":"IFERROR(INDEX('Data Table'!$BF:$BF,MATCH($A$3 & D$8,'Data Table'!$B:$B&'Data Table'!$A:$A,0)),\"\")","v":""},{"$f":"IFERROR(INDEX('Data Table'!$BF:$BF,MATCH($A$3 & E$8,'Data Table'!$B:$B&'Data Table'!$A:$A,0)),\"\")","v":""},{"$f":"IFERROR(INDEX('Data Table'!$BF:$BF,MATCH($A$3 & F$8,'Data Table'!$B:$B&'Data Table'!$A:$A,0)),\"\")","v":""},{"$f":"IFERROR(INDEX('Data Table'!$BF:$BF,MATCH($A$3 & G$8,'Data Table'!$B:$B&'Data Table'!$A:$A,0)),\"\")","v":""},{"$f":"IFERROR(INDEX('Data Table'!$BF:$BF,MATCH($A$3 & H$8,'Data Table'!$B:$B&'Data Table'!$A:$A,0)),\"\")","v":""},{"$f":"IFERROR(INDEX('Data Table'!$BF:$BF,MATCH($A$3 & I$8,'Data Table'!$B:$B&'Data Table'!$A:$A,0)),\"\")","v":""},{"$f":"IFERROR(INDEX('Data Table'!$BF:$BF,MATCH($A$3 & J$8,'Data Table'!$B:$B&'Data Table'!$A:$A,0)),\"\")","v":""},{"$f":"IFERROR(INDEX('Data Table'!$BF:$BF,MATCH($A$3 & K$8,'Data Table'!$B:$B&'Data Table'!$A:$A,0)),\"\")","v":""},{"$f":"IFERROR(INDEX('Data Table'!$BF:$BF,MATCH($A$3 & L$8,'Data Table'!$B:$B&'Data Table'!$A:$A,0)),\"\")","v":""},{"$f":"IFERROR(INDEX('Data Table'!$BF:$BF,MATCH($A$3 & M$8,'Data Table'!$B:$B&'Data Table'!$A:$A,0)),\"\")","v":""},{"$f":"IFERROR(INDEX('Data Table'!$BF:$BF,MATCH($A$3 & N$8,'Data Table'!$B:$B&'Data Table'!$A:$A,0)),\"\")","v":""},{"$f":"IFERROR(INDEX('Data Table'!$BF:$BF,MATCH($A$3 & O$8,'Data Table'!$B:$B&'Data Table'!$A:$A,0)),\"\")","v":""},{"$f":"IFERROR(INDEX('Data Table'!$BF:$BF,MATCH($A$3 & P$8,'Data Table'!$B:$B&'Data Table'!$A:$A,0)),\"\")","v":""},"No Data"]
["Elbow Other1","Right",{"$f":"IFERROR(INDEX('Data Table'!$BG:$BG,MATCH($A$3 & C$8,'Data Table'!$B:$B&'Data Table'!$A:$A,0)),\"\")","v":"ElbOthR"},{"$f":"IFERROR(INDEX('Data Table'!$BG:$BG,MATCH($A$3 & D$8,'Data Table'!$B:$B&'Data Table'!$A:$A,0)),\"\")","v":""},{"$f":"IFERROR(INDEX('Data Table'!$BG:$BG,MATCH($A$3 & E$8,'Data Table'!$B:$B&'Data Table'!$A:$A,0)),\"\")","v":""},{"$f":"IFERROR(INDEX('Data Table'!$BG:$BG,MATCH($A$3 & F$8,'Data Table'!$B:$B&'Data Table'!$A:$A,0)),\"\")","v":""},{"$f":"IFERROR(INDEX('Data Table'!$BG:$BG,MATCH($A$3 & G$8,'Data Table'!$B:$B&'Data Table'!$A:$A,0)),\"\")","v":""},{"$f":"IFERROR(INDEX('Data Table'!$BG:$BG,MATCH($A$3 & H$8,'Data Table'!$B:$B&'Data Table'!$A:$A,0)),\"\")","v":""},{"$f":"IFERROR(INDEX('Data Table'!$BG:$BG,MATCH($A$3 & I$8,'Data Table'!$B:$B&'Data Table'!$A:$A,0)),\"\")","v":""},{"$f":"IFERROR(INDEX('Data Table'!$BG:$BG,MATCH($A$3 & J$8,'Data Table'!$B:$B&'Data Table'!$A:$A,0)),\"\")","v":""},{"$f":"IFERROR(INDEX('Data Table'!$BG:$BG,MATCH($A$3 & K$8,'Data Table'!$B:$B&'Data Table'!$A:$A,0)),\"\")","v":""},{"$f":"IFERROR(INDEX('Data Table'!$BG:$BG,MATCH($A$3 & L$8,'Data Table'!$B:$B&'Data Table'!$A:$A,0)),\"\")","v":""},{"$f":"IFERROR(INDEX('Data Table'!$BG:$BG,MATCH($A$3 & M$8,'Data Table'!$B:$B&'Data Table'!$A:$A,0)),\"\")","v":""},{"$f":"IFERROR(INDEX('Data Table'!$BG:$BG,MATCH($A$3 & N$8,'Data Table'!$B:$B&'Data Table'!$A:$A,0)),\"\")","v":""},{"$f":"IFERROR(INDEX('Data Table'!$BG:$BG,MATCH($A$3 & O$8,'Data Table'!$B:$B&'Data Table'!$A:$A,0)),\"\")","v":""},{"$f":"IFERROR(INDEX('Data Table'!$BG:$BG,MATCH($A$3 & P$8,'Data Table'!$B:$B&'Data Table'!$A:$A,0)),\"\")","v":""},"No Data"]
["Elbow Other2","Left",{"$f":"IFERROR(INDEX('Data Table'!$BH:$BH,MATCH($A$3 & C$8,'Data Table'!$B:$B&'Data Table'!$A:$A,0)),\"\")","v":"ElbOth2L"},{"$f":"IFERROR(INDEX('Data Table'!$BH:$BH,MATCH($A$3 & D$8,'Data Table'!$B:$B&'Data Table'!$A:$A,0)),\"\")","v":""},{"$f":"IFERROR(INDEX('Data Table'!$BH:$BH,MATCH($A$3 & E$8,'Data Table'!$B:$B&'Data Table'!$A:$A,0)),\"\")","v":""},{"$f":"IFERROR(INDEX('Data Table'!$BH:$BH,MATCH($A$3 & F$8,'Data Table'!$B:$B&'Data Table'!$A:$A,0)),\"\")","v":""},{"$f":"IFERROR(INDEX('Data Table'!$BH:$BH,MATCH($A$3 & G$8,'Data Table'!$B:$B&'Data Table'!$A:$A,0)),\"\")","v":""},{"$f":"IFERROR(INDEX('Data Table'!$BH:$BH,MATCH($A$3 & H$8,'Data Table'!$B:$B&'Data Table'!$A:$A,0)),\"\")","v":""},{"$f":"IFERROR(INDEX('Data Table'!$BH:$BH,MATCH($A$3 & I$8,'Data Table'!$B:$B&'Data Table'!$A:$A,0)),\"\")","v":""},{"$f":"IFERROR(INDEX('Data Table'!$BH:$BH,MATCH($A$3 & J$8,'Data Table'!$B:$B&'Data Table'!$A:$A,0)),\"\")","v":""},{"$f":"IFERROR(INDEX('Data Table'!$BH:$BH,MATCH($A$3 & K$8,'Data Table'!$B:$B&'Data Table'!$A:$A,0)),\"\")","v":""},{"$f":"IFERROR(INDEX('Data Table'!$BH:$BH,MATCH($A$3 & L$8,'Data Table'!$B:$B&'Data Table'!$A:$A,0)),\"\")","v":""},{"$f":"IFERROR(INDEX('Data Table'!$BH:$BH,MATCH($A$3 & M$8,'Data Table'!$B:$B&'Data Table'!$A:$A,0)),\"\")","v":""},{"$f":"IFERROR(INDEX('Data Table'!$BH:$BH,MATCH($A$3 & N$8,'Data Table'!$B:$B&'Data Table'!$A:$A,0)),\"\")","v":""},{"$f":"IFERROR(INDEX('Data Table'!$BH:$BH,MATCH($A$3 & O$8,'Data Table'!$B:$B&'Data Table'!$A:$A,0)),\"\")","v":""},{"$f":"IFERROR(INDEX('Data Table'!$BH:$BH,MATCH($A$3 & P$8,'Data Table'!$B:$B&'Data Table'!$A:$A,0)),\"\")","v":""},"No Data"]
["Elbow Other2","Right",{"$f":"IFERROR(INDEX('Data Table'!$BI:$BI,MATCH($A$3 & C$8,'Data Table'!$B:$B&'Data Table'!$A:$A,0)),\"\")","v":"ElbOth2R"},{"$f":"IFERROR(INDEX('Data Table'!$BI:$BI,MATCH($A$3 & D$8,'Data Table'!$B:$B&'Data Table'!$A:$A,0)),\"\")","v":""},{"$f":"IFERROR(INDEX('Data Table'!$BI:$BI,MATCH($A$3 & E$8,'Data Table'!$B:$B&'Data Table'!$A:$A,0)),\"\")","v":""},{"$f":"IFERROR(INDEX('Data Table'!$BI:$BI,MATCH($A$3 & F$8,'Data Table'!$B:$B&'Data Table'!$A:$A,0)),\"\")","v":""},{"$f":"IFERROR(INDEX('Data Table'!$BI:$BI,MATCH($A$3 & G$8,'Data Table'!$B:$B&'Data Table'!$A:$A,0)),\"\")","v":""},{"$f":"IFERROR(INDEX('Data Table'!$BI:$BI,MATCH($A$3 & H$8,'Data Table'!$B:$B&'Data Table'!$A:$A,0)),\"\")","v":""},{"$f":"IFERROR(INDEX('Data Table'!$BI:$BI,MATCH($A$3 & I$8,'Data Table'!$B:$B&'Data Table'!$A:$A,0)),\"\")","v":""},{"$f":"IFERROR(INDEX('Data Table'!$BI:$BI,MATCH($A$3 & J$8,'Data Table'!$B:$B&'Data Table'!$A:$A,0)),\"\")","v":""},{"$f":"IFERROR(INDEX('Data Table'!$BI:$BI,MATCH($A$3 & K$8,'Data Table'!$B:$B&'Data Table'!$A:$A,0)),\"\")","v":""},{"$f":"IFERROR(INDEX('Data Table'!$BI:$BI,MATCH($A$3 & L$8,'Data Table'!$B:$B&'Data Table'!$A:$A,0)),\"\")","v":""},{"$f":"IFERROR(INDEX('Data Table'!$BI:$BI,MATCH($A$3 & M$8,'Data Table'!$B:$B&'Data Table'!$A:$A,0)),\"\")","v":""},{"$f":"IFERROR(INDEX('Data Table'!$BI:$BI,MATCH($A$3 & N$8,'Data Table'!$B:$B&'Data Table'!$A:$A,0)),\"\")","v":""},{"$f":"IFERROR(INDEX('Data Table'!$BI:$BI,MATCH($A$3 & O$8,'Data Table'!$B:$B&'Data Table'!$A:$A,0)),\"\")","v":""},{"$f":"IFERROR(INDEX('Data Table'!$BI:$BI,MATCH($A$3 & P$8,'Data Table'!$B:$B&'Data Table'!$A:$A,0)),\"\")","v":""},"No Data"]
["Hip ABduction","Left",{"$f":"IFERROR(INDEX('Data Table'!$CH:$CH,MATCH($A$3 & C$8,'Data Table'!$B:$B&'Data Table'!$A:$A,0)),\"\")","v":"HipAbdL"},{"$f":"IFERROR(INDEX('Data Table'!$CH:$CH,MATCH($A$3 & D$8,'Data Table'!$B:$B&'Data Table'!$A:$A,0)),\"\")","v":""},{"$f":"IFERROR(INDEX('Data Table'!$CH:$CH,MATCH($A$3 & E$8,'Data Table'!$B:$B&'Data Table'!$A:$A,0)),\"\")","v":""},{"$f":"IFERROR(INDEX('Data Table'!$CH:$CH,MATCH($A$3 & F$8,'Data Table'!$B:$B&'Data Table'!$A:$A,0)),\"\")","v":""},{"$f":"IFERROR(INDEX('Data Table'!$CH:$CH,MATCH($A$3 & G$8,'Data Table'!$B:$B&'Data Table'!$A:$A,0)),\"\")","v":""},{"$f":"IFERROR(INDEX('Data Table'!$CH:$CH,MATCH($A$3 & H$8,'Data Table'!$B:$B&'Data Table'!$A:$A,0)),\"\")","v":""},{"$f":"IFERROR(INDEX('Data Table'!$CH:$CH,MATCH($A$3 & I$8,'Data Table'!$B:$B&'Data Table'!$A:$A,0)),\"\")","v":""},{"$f":"IFERROR(INDEX('Data Table'!$CH:$CH,MATCH($A$3 & J$8,'Data Table'!$B:$B&'Data Table'!$A:$A,0)),\"\")","v":""},{"$f":"IFERROR(INDEX('Data Table'!$CH:$CH,MATCH($A$3 & K$8,'Data Table'!$B:$B&'Data Table'!$A:$A,0)),\"\")","v":""},{"$f":"IFERROR(INDEX('Data Table'!$CH:$CH,MATCH($A$3 & L$8,'Data Table'!$B:$B&'Data Table'!$A:$A,0)),\"\")","v":""},{"$f":"IFERROR(INDEX('Data Table'!$CH:$CH,MATCH($A$3 & M$8,'Data Table'!$B:$B&'Data Table'!$A:$A,0)),\"\")","v":""},{"$f":"IFERROR(INDEX('Data Table'!$CH:$CH,MATCH($A$3 & N$8,'Data Table'!$B:$B&'Data Table'!$A:$A,0)),\"\")","v":""},{"$f":"IFERROR(INDEX('Data Table'!$CH:$CH,MATCH($A$3 & O$8,'Data Table'!$B:$B&'Data Table'!$A:$A,0)),\"\")","v":""},{"$f":"IFERROR(INDEX('Data Table'!$CH:$CH,MATCH($A$3 & P$8,'Data Table'!$B:$B&'Data Table'!$A:$A,0)),\"\")","v":""},{"$f":"IFERROR($Q$5*(Norms!B52)/100, \"No Data\")","v":"No Data"}]
["Hip ABduction","Right",{"$f":"IFERROR(INDEX('Data Table'!$CI:$CI,MATCH($A$3 & C$8,'Data Table'!$B:$B&'Data Table'!$A:$A,0)),\"\")","v":"HipAbdR"},{"$f":"IFERROR(INDEX('Data Table'!$CI:$CI,MATCH($A$3 & D$8,'Data Table'!$B:$B&'Data Table'!$A:$A,0)),\"\")","v":""},{"$f":"IFERROR(INDEX('Data Table'!$CI:$CI,MATCH($A$3 & E$8,'Data Table'!$B:$B&'Data Table'!$A:$A,0)),\"\")","v":""},{"$f":"IFERROR(INDEX('Data Table'!$CI:$CI,MATCH($A$3 & F$8,'Data Table'!$B:$B&'Data Table'!$A:$A,0)),\"\")","v":""},{"$f":"IFERROR(INDEX('Data Table'!$CI:$CI,MATCH($A$3 & G$8,'Data Table'!$B:$B&'Data Table'!$A:$A,0)),\"\")","v":""},{"$f":"IFERROR(INDEX('Data Table'!$CI:$CI,MATCH($A$3 & H$8,'Data Table'!$B:$B&'Data Table'!$A:$A,0)),\"\")","v":""},{"$f":"IFERROR(INDEX('Data Table'!$CI:$CI,MATCH($A$3 & I$8,'Data Table'!$B:$B&'Data Table'!$A:$A,0)),\"\")","v":""},{"$f":"IFERROR(INDEX('Data Table'!$CI:$CI,MATCH($A$3 & J$8,'Data Table'!$B:$B&'Data Table'!$A:$A,0)),\"\")","v":""},{"$f":"IFERROR(INDEX('Data Table'!$CI:$CI,MATCH($A$3 & K$8,'Data Table'!$B:$B&'Data Table'!$A:$A,0)),\"\")","v":""},{"$f":"IFERROR(INDEX('Data Table'!$CI:$CI,MATCH($A$3 & L$8,'Data Table'!$B:$B&'Data Table'!$A:$A,0)),\"\")","v":""},{"$f":"IFERROR(INDEX('Data Table'!$CI:$CI,MATCH($A$3 & M$8,'Data Table'!$B:$B&'Data Table'!$A:$A,0)),\"\")","v":""},{"$f":"IFERROR(INDEX('Data Table'!$CI:$CI,MATCH($A$3 & N$8,'Data Table'!$B:$B&'Data Table'!$A:$A,0)),\"\")","v":""},{"$f":"IFERROR(INDEX('Data Table'!$CI:$CI,MATCH($A$3 & O$8,'Data Table'!$B:$B&'Data Table'!$A:$A,0)),\"\")","v":""},{"$f":"IFERROR(INDEX('Data Table'!$CI:$CI,MATCH($A$3 & P$8,'Data Table'!$B:$B&'Data Table'!$A:$A,0)),\"\")","v":""},{"$f":"IFERROR($Q$5*(Norms!B52)/100, \"No Data\")","v":"No Data"}]
["Hip ADduction","Left",{"$f":"IFERROR(INDEX('Data Table'!$CJ:$CJ,MATCH($A$3 & C$8,'Data Table'!$B:$B&'Data Table'!$A:$A,0)),\"\")","v":"HipAddL"},{"$f":"IFERROR(INDEX('Data Table'!$CJ:$CJ,MATCH($A$3 & D$8,'Data Table'!$B:$B&'Data Table'!$A:$A,0)),\"\")","v":""},{"$f":"IFERROR(INDEX('Data Table'!$CJ:$CJ,MATCH($A$3 & E$8,'Data Table'!$B:$B&'Data Table'!$A:$A,0)),\"\")","v":""},{"$f":"IFERROR(INDEX('Data Table'!$CJ:$CJ,MATCH($A$3 & F$8,'Data Table'!$B:$B&'Data Table'!$A:$A,0)),\"\")","v":""},{"$f":"IFERROR(INDEX('Data Table'!$CJ:$CJ,MATCH($A$3 & G$8,'Data Table'!$B:$B&'Data Table'!$A:$A,0)),\"\")","v":""},{"$f":"IFERROR(INDEX('Data Table'!$CJ:$CJ,MATCH($A$3 & H$8,'Data Table'!$B:$B&'Data Table'!$A:$A,0)),\"\")","v":""},{"$f":"IFERROR(INDEX('Data Table'!$CJ:$CJ,MATCH($A$3 & I$8,'Data Table'!$B:$B&'Data Table'!$A:$A,0)),\"\")","v":""},{"$f":"IFERROR(INDEX('Data Table'!$CJ:$CJ,MATCH($A$3 & J$8,'Data Table'!$B:$B&'Data Table'!$A:$A,0)),\"\")","v":""},{"$f":"IFERROR(INDEX('Data Table'!$CJ:$CJ,MATCH($A$3 & K$8,'Data Table'!$B:$B&'Data Table'!$A:$A,0)),\"\")","v":""},{"$f":"IFERROR(INDEX('Data Table'!$CJ:$CJ,MATCH($A$3 & L$8,'Data Table'!$B:$B&'Data Table'!$A:$A,0)),\"\")","v":""},{"$f":"IFERROR(INDEX('Data Table'!$CJ:$CJ,MATCH($A$3 & M$8,'Data Table'!$B:$B&'Data Table'!$A:$A,0)),\"\")","v":""},{"$f":"IFERROR(INDEX('Data Table'!$CJ:$CJ,MATCH($A$3 & N$8,'Data Table'!$B:$B&'Data Table'!$A:$A,0)),\"\")","v":""},{"$f":"IFERROR(INDEX('Data Table'!$CJ:$CJ,MATCH($A$3 & O$8,'Data Table'!$B:$B&'Data Table'!$A:$A,0)),\"\")","v":""},{"$f":"IFERROR(INDEX('Data Table'!$CJ:$CJ,MATCH($A$3 & P$8,'Data Table'!$B:$B&'Data Table'!$A:$A,0)),\"\")","v":""},{"$f":"IFERROR($Q$5*(Norms!B55)/100, \"No Data\")","v":"No Data"}]
["Hip ADduction","Right",{"$f":"IFERROR(INDEX('Data Table'!$CK:$CK,MATCH($A$3 & C$8,'Data Table'!$B:$B&'Data Table'!$A:$A,0)),\"\")","v":"HipAddR"},{"$f":"IFERROR(INDEX('Data Table'!$CK:$CK,MATCH($A$3 & D$8,'Data Table'!$B:$B&'Data Table'!$A:$A,0)),\"\")","v":""},{"$f":"IFERROR(INDEX('Data Table'!$CK:$CK,MATCH($A$3 & E$8,'Data Table'!$B:$B&'Data Table'!$A:$A,0)),\"\")","v":""},{"$f":"IFERROR(INDEX('Data Table'!$CK:$CK,MATCH($A$3 & F$8,'Data Table'!$B:$B&'Data Table'!$A:$A,0)),\"\")","v":""},{"$f":"IFERROR(INDEX('Data Table'!$CK:$CK,MATCH($A$3 & G$8,'Data Table'!$B:$B&'Data Table'!$A:$A,0)),\"\")","v":""},{"$f":"IFERROR(INDEX('Data Table'!$CK:$CK,MATCH($A$3 & H$8,'Data Table'!$B:$B&'Data Table'!$A:$A,0)),\"\")","v":""},{"$f":"IFERROR(INDEX('Data Table'!$CK:$CK,MATCH($A$3 & I$8,'Data Table'!$B:$B&'Data Table'!$A:$A,0)),\"\")","v":""},{"$f":"IFERROR(INDEX('Data Table'!$CK:$CK,MATCH($A$3 & J$8,'Data Table'!$B:$B&'Data Table'!$A:$A,0)),\"\")","v":""},{"$f":"IFERROR(INDEX('Data Table'!$CK:$CK,MATCH($A$3 & K$8,'Data Table'!$B:$B&'Data Table'!$A:$A,0)),\"\")","v":""},{"$f":"IFERROR(INDEX('Data Table'!$CK:$CK,MATCH($A$3 & L$8,'Data Table'!$B:$B&'Data Table'!$A:$A,0)),\"\")","v":""},{"$f":"IFERROR(INDEX('Data Table'!$CK:$CK,MATCH($A$3 & M$8,'Data Table'!$B:$B&'Data Table'!$A:$A,0)),\"\")","v":""},{"$f":"IFERROR(INDEX('Data Table'!$CK:$CK,MATCH($A$3 & N$8,'Data Table'!$B:$B&'Data Table'!$A:$A,0)),\"\")","v":""},{"$f":"IFERROR(INDEX('Data Table'!$CK:$CK,MATCH($A$3 & O$8,'Data Table'!$B:$B&'Data Table'!$A:$A,0)),\"\")","v":""},{"$f":"IFERROR(INDEX('Data Table'!$CK:$CK,MATCH($A$3 & P$8,'Data Table'!$B:$B&'Data Table'!$A:$A,0)),\"\")","v":""},{"$f":"IFERROR($Q$5*(Norms!B55)/100, \"No Data\")","v":"No Data"}]
["Hip ER 0/90","Left",{"$f":"IFERROR(INDEX('Data Table'!$CL:$CL,MATCH($A$3 & C$8,'Data Table'!$B:$B&'Data Table'!$A:$A,0)),\"\")","v":"HipER090L"},{"$f":"IFERROR(INDEX('Data Table'!$CL:$CL,MATCH($A$3 & D$8,'Data Table'!$B:$B&'Data Table'!$A:$A,0)),\"\")","v":""},{"$f":"IFERROR(INDEX('Data Table'!$CL:$CL,MATCH($A$3 & E$8,'Data Table'!$B:$B&'Data Table'!$A:$A,0)),\"\")","v":""},{"$f":"IFERROR(INDEX('Data Table'!$CL:$CL,MATCH($A$3 & F$8,'Data Table'!$B:$B&'Data Table'!$A:$A,0)),\"\")","v":""},{"$f":"IFERROR(INDEX('Data Table'!$CL:$CL,MATCH($A$3 & G$8,'Data Table'!$B:$B&'Data Table'!$A:$A,0)),\"\")","v":""},{"$f":"IFERROR(INDEX('Data Table'!$CL:$CL,MATCH($A$3 & H$8,'Data Table'!$B:$B&'Data Table'!$A:$A,0)),\"\")","v":""},{"$f":"IFERROR(INDEX('Data Table'!$CL:$CL,MATCH($A$3 & I$8,'Data Table'!$B:$B&'Data Table'!$A:$A,0)),\"\")","v":""},{"$f":"IFERROR(INDEX('Data Table'!$CL:$CL,MATCH($A$3 & J$8,'Data Table'!$B:$B&'Data Table'!$A:$A,0)),\"\")","v":""},{"$f":"IFERROR(INDEX('Data Table'!$CL:$CL,MATCH($A$3 & K$8,'Data Table'!$B:$B&'Data Table'!$A:$A,0)),\"\")","v":""},{"$f":"IFERROR(INDEX('Data Table'!$CL:$CL,MATCH($A$3 & L$8,'Data Table'!$B:$B&'Data Table'!$A:$A,0)),\"\")","v":""},{"$f":"IFERROR(INDEX('Data Table'!$CL:$CL,MATCH($A$3 & M$8,'Data Table'!$B:$B&'Data Table'!$A:$A,0)),\"\")","v":""},{"$f":"IFERROR(INDEX('Data Table'!$CL:$CL,MATCH($A$3 & N$8,'Data Table'!$B:$B&'Data Table'!$A:$A,0)),\"\")","v":""},{"$f":"IFERROR(INDEX('Data Table'!$CL:$CL,MATCH($A$3 & O$8,'Data Table'!$B:$B&'Data Table'!$A:$A,0)),\"\")","v":""},{"$f":"IFERROR(INDEX('Data Table'!$CL:$CL,MATCH($A$3 & P$8,'Data Table'!$B:$B&'Data Table'!$A:$A,0)),\"\")","v":""},{"$f":"IFERROR($Q$5*(Norms!B60)/100, \"No Data\")","v":"No Data"}]
["Hip ER 0/90","Right",{"$f":"IFERROR(INDEX('Data Table'!$CM:$CM,MATCH($A$3 & C$8,'Data Table'!$B:$B&'Data Table'!$A:$A,0)),\"\")","v":"HipER090R"},{"$f":"IFERROR(INDEX('Data Table'!$CM:$CM,MATCH($A$3 & D$8,'Data Table'!$B:$B&'Data Table'!$A:$A,0)),\"\")","v":""},{"$f":"IFERROR(INDEX('Data Table'!$CM:$CM,MATCH($A$3 & E$8,'Data Table'!$B:$B&'Data Table'!$A:$A,0)),\"\")","v":""},{"$f":"IFERROR(INDEX('Data Table'!$CM:$CM,MATCH($A$3 & F$8,'Data Table'!$B:$B&'Data Table'!$A:$A,0)),\"\")","v":""},{"$f":"IFERROR(INDEX('Data Table'!$CM:$CM,MATCH($A$3 & G$8,'Data Table'!$B:$B&'Data Table'!$A:$A,0)),\"\")","v":""},{"$f":"IFERROR(INDEX('Data Table'!$CM:$CM,MATCH($A$3 & H$8,'Data Table'!$B:$B&'Data Table'!$A:$A,0)),\"\")","v":""},{"$f":"IFERROR(INDEX('Data Table'!$CM:$CM,MATCH($A$3 & I$8,'Data Table'!$B:$B&'Data Table'!$A:$A,0)),\"\")","v":""},{"$f":"IFERROR(INDEX('Data Table'!$CM:$CM,MATCH($A$3 & J$8,'Data Table'!$B:$B&'Data Table'!$A:$A,0)),\"\")","v":""},{"$f":"IFERROR(INDEX('Data Table'!$CM:$CM,MATCH($A$3 & K$8,'Data Table'!$B:$B&'Data Table'!$A:$A,0)),\"\")","v":""},{"$f":"IFERROR(INDEX('Data Table'!$CM:$CM,MATCH($A$3 & L$8,'Data Table'!$B:$B&'Data Table'!$A:$A,0)),\"\")","v":""},{"$f":"IFERROR(INDEX('Data Table'!$CM:$CM,MATCH($A$3 & M$8,'Data Table'!$B:$B&'Data Table'!$A:$A,0)),\"\")","v":""},{"$f":"IFERROR(INDEX('Data Table'!$CM:$CM,MATCH($A$3 & N$8,'Data Table'!$B:$B&'Data Table'!$A:$A,0)),\"\")","v":""},{"$f":"IFERROR(INDEX('Data Table'!$CM:$CM,MATCH($A$3 & O$8,'Data Table'!$B:$B&'Data Table'!$A:$A,0)),\"\")","v":""},{"$f":"IFERROR(INDEX('Data Table'!$CM:$CM,MATCH($A$3 & P$8,'Data Table'!$B:$B&'Data Table'!$A:$A,0)),\"\")","v":""},{"$f":"IFERROR($Q$5*(Norms!B60)/100, \"No Data\")","v":"No Data"}]
["Hip ER 90/90","Left",{"$f":"IFERROR(INDEX('Data Table'!$CN:$CN,MATCH($A$3 & C$8,'Data Table'!$B:$B&'Data Table'!$A:$A,0)),\"\")","v":"HipER9090L"},{"$f":"IFERROR(INDEX('Data Table'!$CN:$CN,MATCH($A$3 & D$8,'Data Table'!$B:$B&'Data Table'!$A:$A,0)),\"\")","v":""},{"$f":"IFERROR(INDEX('Data Table'!$CN:$CN,MATCH($A$3 & E$8,'Data Table'!$B:$B&'Data Table'!$A:$A,0)),\"\")","v":""},{"$f":"IFERROR(INDEX('Data Table'!$CN:$CN,MATCH($A$3 & F$8,'Data Table'!$B:$B&'Data Table'!$A:$A,0)),\"\")","v":""},{"$f":"IFERROR(INDEX('Data Table'!$CN:$CN,MATCH($A$3 & G$8,'Data Table'!$B:$B&'Data Table'!$A:$A,0)),\"\")","v":""},{"$f":"IFERROR(INDEX('Data Table'!$CN:$CN,MATCH($A$3 & H$8,'Data Table'!$B:$B&'Data Table'!$A:$A,0)),\"\")","v":""},{"$f":"IFERROR(INDEX('Data Table'!$CN:$CN,MATCH($A$3 & I$8,'Data Table'!$B:$B&'Data Table'!$A:$A,0)),\"\")","v":""},{"$f":"IFERROR(INDEX('Data Table'!$CN:$CN,MATCH($A$3 & J$8,'Data Table'!$B:$B&'Data Table'!$A:$A,0)),\"\")","v":""},{"$f":"IFERROR(INDEX('Data Table'!$CN:$CN,MATCH($A$3 & K$8,'Data Table'!$B:$B&'Data Table'!$A:$A,0)),\"\")","v":""},{"$f":"IFERROR(INDEX('Data Table'!$CN:$CN,MATCH($A$3 & L$8,'Data Table'!$B:$B&'Data Table'!$A:$A,0)),\"\")","v":""},{"$f":"IFERROR(INDEX('Data Table'!$CN:$CN,MATCH($A$3 & M$8,'Data Table'!$B:$B&'Data Table'!$A:$A,0)),\"\")","v":""},{"$f":"IFERROR(INDEX('Data Table'!$CN:$CN,MATCH($A$3 & N$8,'Data Table'!$B:$B&'Data Table'!$A:$A,0)),\"\")","v":""},{"$f":"IFERROR(INDEX('Data Table'!$CN:$CN,MATCH($A$3 & O$8,'Data Table'!$B:$B&'Data Table'!$A:$A,0)),\"\")","v":""},{"$f":"IFERROR(INDEX('Data Table'!$CN:$CN,MATCH($A$3 & P$8,'Data Table'!$B:$B&'Data Table'!$A:$A,0)),\"\")","v":""},{"$f":"IFERROR($Q$5*(Norms!B61)/100, \"No Data\")","v":"No Data"}]
["Hip ER 90/90","Right",{"$f":"IFERROR(INDEX('Data Table'!$CO:$CO,MATCH($A$3 & C$8,'Data Table'!$B:$B&'Data Table'!$A:$A,0)),\"\")","v":"HipER9090R"},{"$f":"IFERROR(INDEX('Data Table'!$CO:$CO,MATCH($A$3 & D$8,'Data Table'!$B:$B&'Data Table'!$A:$A,0)),\"\")","v":""},{"$f":"IFERROR(INDEX('Data Table'!$CO:$CO,MATCH($A$3 & E$8,'Data Table'!$B:$B&'Data Table'!$A:$A,0)),\"\")","v":""},{"$f":"IFERROR(INDEX('Data Table'!$CO:$CO,MATCH($A$3 & F$8,'Data Table'!$B:$B&'Data Table'!$A:$A,0)),\"\")","v":""},{"$f":"IFERROR(INDEX('Data Table'!$CO:$CO,MATCH($A$3 & G$8,'Data Table'!$B:$B&'Data Table'!$A:$A,0)),\"\")","v":""},{"$f":"IFERROR(INDEX('Data Table'!$CO:$CO,MATCH($A$3 & H$8,'Data Table'!$B:$B&'Data Table'!$A:$A,0)),\"\")","v":""},{"$f":"IFERROR(INDEX('Data Table'!$CO:$CO,MATCH($A$3 & I$8,'Data Table'!$B:$B&'Data Table'!$A:$A,0)),\"\")","v":""},{"$f":"IFERROR(INDEX('Data Table'!$CO:$CO,MATCH($A$3 & J$8,'Data Table'!$B:$B&'Data Table'!$A:$A,0)),\"\")","v":""},{"$f":"IFERROR(INDEX('Data Table'!$CO:$CO,MATCH($A$3 & K$8,'Data Table'!$B:$B&'Data Table'!$A:$A,0)),\"\")","v":""},{"$f":"IFERROR(INDEX('Data Table'!$CO:$CO,MATCH($A$3 & L$8,'Data Table'!$B:$B&'Data Table'!$A:$A,0)),\"\")","v":""},{"$f":"IFERROR(INDEX('Data Table'!$CO:$CO,MATCH($A$3 & M$8,'Data Table'!$B:$B&'Data Table'!$A:$A,0)),\"\")","v":""},{"$f":"IFERROR(INDEX('Data Table'!$CO:$CO,MATCH($A$3 & N$8,'Data Table'!$B:$B&'Data Table'!$A:$A,0)),\"\")","v":""},{"$f":"IFERROR(INDEX('Data Table'!$CO:$CO,MATCH($A$3 & O$8,'Data Table'!$B:$B&'Data Table'!$A:$A,0)),\"\")","v":""},{"$f":"IFERROR(INDEX('Data Table'!$CO:$CO,MATCH($A$3 & P$8,'Data Table'!$B:$B&'Data Table'!$A:$A,0)),\"\")","v":""},{"$f":"IFERROR($Q$5*(Norms!B61)/100, \"No Data\")","v":"No Data"}]
["Hip Extension @ 90*","Left",{"$f":"IFERROR(INDEX('Data Table'!$CR:$CR,MATCH($A$3 & C$8,'Data Table'!$B:$B&'Data Table'!$A:$A,0)),\"\")","v":"HipExt90L"},{"$f":"IFERROR(INDEX('Data Table'!$CR:$CR,MATCH($A$3 & D$8,'Data Table'!$B:$B&'Data Table'!$A:$A,0)),\"\")","v":""},{"$f":"IFERROR(INDEX('Data Table'!$CR:$CR,MATCH($A$3 & E$8,'Data Table'!$B:$B&'Data Table'!$A:$A,0)),\"\")","v":""},{"$f":"IFERROR(INDEX('Data Table'!$CR:$CR,MATCH($A$3 & F$8,'Data Table'!$B:$B&'Data Table'!$A:$A,0)),\"\")","v":""},{"$f":"IFERROR(INDEX('Data Table'!$CR:$CR,MATCH($A$3 & G$8,'Data Table'!$B:$B&'Data Table'!$A:$A,0)),\"\")","v":""},{"$f":"IFERROR(INDEX('Data Table'!$CR:$CR,MATCH($A$3 & H$8,'Data Table'!$B:$B&'Data Table'!$A:$A,0)),\"\")","v":""},{"$f":"IFERROR(INDEX('Data Table'!$CR:$CR,MATCH($A$3 & I$8,'Data Table'!$B:$B&'Data Table'!$A:$A,0)),\"\")","v":""},{"$f":"IFERROR(INDEX('Data Table'!$CR:$CR,MATCH($A$3 & J$8,'Data Table'!$B:$B&'Data Table'!$A:$A,0)),\"\")","v":""},{"$f":"IFERROR(INDEX('Data Table'!$CR:$CR,MATCH($A$3 & K$8,'Data Table'!$B:$B&'Data Table'!$A:$A,0)),\"\")","v":""},{"$f":"IFERROR(INDEX('Data Table'!$CR:$CR,MATCH($A$3 & L$8,'Data Table'!$B:$B&'Data Table'!$A:$A,0)),\"\")","v":""},{"$f":"IFERROR(INDEX('Data Table'!$CR:$CR,MATCH($A$3 & M$8,'Data Table'!$B:$B&'Data Table'!$A:$A,0)),\"\")","v":""},{"$f":"IFERROR(INDEX('Data Table'!$CR:$CR,MATCH($A$3 & N$8,'Data Table'!$B:$B&'Data Table'!$A:$A,0)),\"\")","v":""},{"$f":"IFERROR(INDEX('Data Table'!$CR:$CR,MATCH($A$3 & O$8,'Data Table'!$B:$B&'Data Table'!$A:$A,0)),\"\")","v":""},{"$f":"IFERROR(INDEX('Data Table'!$CR:$CR,MATCH($A$3 & P$8,'Data Table'!$B:$B&'Data Table'!$A:$A,0)),\"\")","v":""},{"$f":"IFERROR($Q$5*(Norms!B48)/100, \"No Data\")","v":"No Data"}]
["Hip Extension @ 90*","Right",{"$f":"IFERROR(INDEX('Data Table'!$CS:$CS,MATCH($A$3 & C$8,'Data Table'!$B:$B&'Data Table'!$A:$A,0)),\"\")","v":"HipExt90R"},{"$f":"IFERROR(INDEX('Data Table'!$CS:$CS,MATCH($A$3 & D$8,'Data Table'!$B:$B&'Data Table'!$A:$A,0)),\"\")","v":""},{"$f":"IFERROR(INDEX('Data Table'!$CS:$CS,MATCH($A$3 & E$8,'Data Table'!$B:$B&'Data Table'!$A:$A,0)),\"\")","v":""},{"$f":"IFERROR(INDEX('Data Table'!$CS:$CS,MATCH($A$3 & F$8,'Data Table'!$B:$B&'Data Table'!$A:$A,0)),\"\")","v":""},{"$f":"IFERROR(INDEX('Data Table'!$CS:$CS,MATCH($A$3 & G$8,'Data Table'!$B:$B&'Data Table'!$A:$A,0)),\"\")","v":""},{"$f":"IFERROR(INDEX('Data Table'!$CS:$CS,MATCH($A$3 & H$8,'Data Table'!$B:$B&'Data Table'!$A:$A,0)),\"\")","v":""},{"$f":"IFERROR(INDEX('Data Table'!$CS:$CS,MATCH($A$3 & I$8,'Data Table'!$B:$B&'Data Table'!$A:$A,0)),\"\")","v":""},{"$f":"IFERROR(INDEX('Data Table'!$CS:$CS,MATCH($A$3 & J$8,'Data Table'!$B:$B&'Data Table'!$A:$A,0)),\"\")","v":""},{"$f":"IFERROR(INDEX('Data Table'!$CS:$CS,MATCH($A$3 & K$8,'Data Table'!$B:$B&'Data Table'!$A:$A,0)),\"\")","v":""},{"$f":"IFERROR(INDEX('Data Table'!$CS:$CS,MATCH($A$3 & L$8,'Data Table'!$B:$B&'Data Table'!$A:$A,0)),\"\")","v":""},{"$f":"IFERROR(INDEX('Data Table'!$CS:$CS,MATCH($A$3 & M$8,'Data Table'!$B:$B&'Data Table'!$A:$A,0)),\"\")","v":""},{"$f":"IFERROR(INDEX('Data Table'!$CS:$CS,MATCH($A$3 & N$8,'Data Table'!$B:$B&'Data Table'!$A:$A,0)),\"\")","v":""},{"$f":"IFERROR(INDEX('Data Table'!$CS:$CS,MATCH($A$3 & O$8,'Data Table'!$B:$B&'Data Table'!$A:$A,0)),\"\")","v":""},{"$f":"IFERROR(INDEX('Data Table'!$CS:$CS,MATCH($A$3 & P$8,'Data Table'!$B:$B&'Data Table'!$A:$A,0)),\"\")","v":""},{"$f":"IFERROR($Q$5*(Norms!B48)/100, \"No Data\")","v":"No Data"}]
["Hip Extension at neutral","Left",{"$f":"IFERROR(INDEX('Data Table'!$CP:$CP,MATCH($A$3 & C$8,'Data Table'!$B:$B&'Data Table'!$A:$A,0)),\"\")","v":"HipExtNL"},{"$f":"IFERROR(INDEX('Data Table'!$CP:$CP,MATCH($A$3 & D$8,'Data Table'!$B:$B&'Data Table'!$A:$A,0)),\"\")","v":""},{"$f":"IFERROR(INDEX('Data Table'!$CP:$CP,MATCH($A$3 & E$8,'Data Table'!$B:$B&'Data Table'!$A:$A,0)),\"\")","v":""},{"$f":"IFERROR(INDEX('Data Table'!$CP:$CP,MATCH($A$3 & F$8,'Data Table'!$B:$B&'Data Table'!$A:$A,0)),\"\")","v":""},{"$f":"IFERROR(INDEX('Data Table'!$CP:$CP,MATCH($A$3 & G$8,'Data Table'!$B:$B&'Data Table'!$A:$A,0)),\"\")","v":""},{"$f":"IFERROR(INDEX('Data Table'!$CP:$CP,MATCH($A$3 & H$8,'Data Table'!$B:$B&'Data Table'!$A:$A,0)),\"\")","v":""},{"$f":"IFERROR(INDEX('Data Table'!$CP:$CP,MATCH($A$3 & I$8,'Data Table'!$B:$B&'Data Table'!$A:$A,0)),\"\")","v":""},{"$f":"IFERROR(INDEX('Data Table'!$CP:$CP,MATCH($A$3 & J$8,'Data Table'!$B:$B&'Data Table'!$A:$A,0)),\"\")","v":""},{"$f":"IFERROR(INDEX('Data Table'!$CP:$CP,MATCH($A$3 & K$8,'Data Table'!$B:$B&'Data Table'!$A:$A,0)),\"\")","v":""},{"$f":"IFERROR(INDEX('Data Table'!$CP:$CP,MATCH($A$3 & L$8,'Data Table'!$B:$B&'Data Table'!$A:$A,0)),\"\")","v":""},{"$f":"IFERROR(INDEX('Data Table'!$CP:$CP,MATCH($A$3 & M$8,'Data Table'!$B:$B&'Data Table'!$A:$A,0)),\"\")","v":""},{"$f":"IFERROR(INDEX('Data Table'!$CP:$CP,MATCH($A$3 & N$8,'Data Table'!$B:$B&'Data Table'!$A:$A,0)),\"\")","v":""},{"$f":"IFERROR(INDEX('Data Table'!$CP:$CP,MATCH($A$3 & O$8,'Data Table'!$B:$B&'Data Table'!$A:$A,0)),\"\")","v":""},{"$f":"IFERROR(INDEX('Data Table'!$CP:$CP,MATCH($A$3 & P$8,'Data Table'!$B:$B&'Data Table'!$A:$A,0)),\"\")","v":""},{"$f":"IFERROR($Q$5*(Norms!B47)/100, \"No Data\")","v":"No Data"}]
["Hip Extension at neutral","Right",{"$f":"IFERROR(INDEX('Data Table'!$CQ:$CQ,MATCH($A$3 & C$8,'Data Table'!$B:$B&'Data Table'!$A:$A,0)),\"\")","v":"HipExtNR"},{"$f":"IFERROR(INDEX('Data Table'!$CQ:$CQ,MATCH($A$3 & D$8,'Data Table'!$B:$B&'Data Table'!$A:$A,0)),\"\")","v":""},{"$f":"IFERROR(INDEX('Data Table'!$CQ:$CQ,MATCH($A$3 & E$8,'Data Table'!$B:$B&'Data Table'!$A:$A,0)),\"\")","v":""},{"$f":"IFERROR(INDEX('Data Table'!$CQ:$CQ,MATCH($A$3 & F$8,'Data Table'!$B:$B&'Data Table'!$A:$A,0)),\"\")","v":""},{"$f":"IFERROR(INDEX('Data Table'!$CQ:$CQ,MATCH($A$3 & G$8,'Data Table'!$B:$B&'Data Table'!$A:$A,0)),\"\")","v":""},{"$f":"IFERROR(INDEX('Data Table'!$CQ:$CQ,MATCH($A$3 & H$8,'Data Table'!$B:$B&'Data Table'!$A:$A,0)),\"\")","v":""},{"$f":"IFERROR(INDEX('Data Table'!$CQ:$CQ,MATCH($A$3 & I$8,'Data Table'!$B:$B&'Data Table'!$A:$A,0)),\"\")","v":""},{"$f":"IFERROR(INDEX('Data Table'!$CQ:$CQ,MATCH($A$3 & J$8,'Data Table'!$B:$B&'Data Table'!$A:$A,0)),\"\")","v":""},{"$f":"IFERROR(INDEX('Data Table'!$CQ:$CQ,MATCH($A$3 & K$8,'Data Table'!$B:$B&'Data Table'!$A:$A,0)),\"\")","v":""},{"$f":"IFERROR(INDEX('Data Table'!$CQ:$CQ,MATCH($A$3 & L$8,'Data Table'!$B:$B&'Data Table'!$A:$A,0)),\"\")","v":""},{"$f":"IFERROR(INDEX('Data Table'!$CQ:$CQ,MATCH($A$3 & M$8,'Data Table'!$B:$B&'Data Table'!$A:$A,0)),\"\")","v":""},{"$f":"IFERROR(INDEX('Data Table'!$CQ:$CQ,MATCH($A$3 & N$8,'Data Table'!$B:$B&'Data Table'!$A:$A,0)),\"\")","v":""},{"$f":"IFERROR(INDEX('Data Table'!$CQ:$CQ,MATCH($A$3 & O$8,'Data Table'!$B:$B&'Data Table'!$A:$A,0)),\"\")","v":""},{"$f":"IFERROR(INDEX('Data Table'!$CQ:$CQ,MATCH($A$3 & P$8,'Data Table'!$B:$B&'Data Table'!$A:$A,0)),\"\")","v":""},{"$f":"IFERROR($Q$5*(Norms!B47)/100, \"No Data\")","v":"No Data"}]
["Hip Flexion","Left",{"$f":"IFERROR(INDEX('Data Table'!$CT:$CT,MATCH($A$3 & C$8,'Data Table'!$B:$B&'Data Table'!$A:$A,0)),\"\")","v":"HipFlexL"},{"$f":"IFERROR(INDEX('Data Table'!$CT:$CT,MATCH($A$3 & D$8,'Data Table'!$B:$B&'Data Table'!$A:$A,0)),\"\")","v":""},{"$f":"IFERROR(INDEX('Data Table'!$CT:$CT,MATCH($A$3 & E$8,'Data Table'!$B:$B&'Data Table'!$A:$A,0)),\"\")","v":""},{"$f":"IFERROR(INDEX('Data Table'!$CT:$CT,MATCH($A$3 & F$8,'Data Table'!$B:$B&'Data Table'!$A:$A,0)),\"\")","v":""},{"$f":"IFERROR(INDEX('Data Table'!$CT:$CT,MATCH($A$3 & G$8,'Data Table'!$B:$B&'Data Table'!$A:$A,0)),\"\")","v":""},{"$f":"IFERROR(INDEX('Data Table'!$CT:$CT,MATCH($A$3 & H$8,'Data Table'!$B:$B&'Data Table'!$A:$A,0)),\"\")","v":""},{"$f":"IFERROR(INDEX('Data Table'!$CT:$CT,MATCH($A$3 & I$8,'Data Table'!$B:$B&'Data Table'!$A:$A,0)),\"\")","v":""},{"$f":"IFERROR(INDEX('Data Table'!$CT:$CT,MATCH($A$3 & J$8,'Data Table'!$B:$B&'Data Table'!$A:$A,0)),\"\")","v":""},{"$f":"IFERROR(INDEX('Data Table'!$CT:$CT,MATCH($A$3 & K$8,'Data Table'!$B:$B&'Data Table'!$A:$A,0)),\"\")","v":""},{"$f":"IFERROR(INDEX('Data Table'!$CT:$CT,MATCH($A$3 & L$8,'Data Table'!$B:$B&'Data Table'!$A:$A,0)),\"\")","v":""},{"$f":"IFERROR(INDEX('Data Table'!$CT:$CT,MATCH($A$3 & M$8,'Data Table'!$B:$B&'Data Table'!$A:$A,0)),\"\")","v":""},{"$f":"IFERROR(INDEX('Data Table'!$CT:$CT,MATCH($A$3 & N$8,'Data Table'!$B:$B&'Data Table'!$A:$A,0)),\"\")","v":""},{"$f":"IFERROR(INDEX('Data Table'!$CT:$CT,MATCH($A$3 & O$8,'Data Table'!$B:$B&'Data Table'!$A:$A,0)),\"\")","v":""},{"$f":"IFERROR(INDEX('Data Table'!$CT:$CT,MATCH($A$3 & P$8,'Data Table'!$B:$B&'Data Table'!$A:$A,0)),\"\")","v":""},{"$f":"IFERROR($Q$5*(Norms!B44)/100, \"No Data\")","v":"No Data"}]
["Hip Flexion","Right",{"$f":"IFERROR(INDEX('Data Table'!$CU:$CU,MATCH($A$3 & C$8,'Data Table'!$B:$B&'Data Table'!$A:$A,0)),\"\")","v":"HipFlexR"},{"$f":"IFERROR(INDEX('Data Table'!$CU:$CU,MATCH($A$3 & D$8,'Data Table'!$B:$B&'Data Table'!$A:$A,0)),\"\")","v":""},{"$f":"IFERROR(INDEX('Data Table'!$CU:$CU,MATCH($A$3 & E$8,'Data Table'!$B:$B&'Data Table'!$A:$A,0)),\"\")","v":""},{"$f":"IFERROR(INDEX('Data Table'!$CU:$CU,MATCH($A$3 & F$8,'Data Table'!$B:$B&'Data Table'!$A:$A,0)),\"\")","v":""},{"$f":"IFERROR(INDEX('Data Table'!$CU:$CU,MATCH($A$3 & G$8,'Data Table'!$B:$B&'Data Table'!$A:$A,0)),\"\")","v":""},{"$f":"IFERROR(INDEX('Data Table'!$CU:$CU,MATCH($A$3 & H$8,'Data Table'!$B:$B&'Data Table'!$A:$A,0)),\"\")","v":""},{"$f":"IFERROR(INDEX('Data Table'!$CU:$CU,MATCH($A$3 & I$8,'Data Table'!$B:$B&'Data Table'!$A:$A,0)),\"\")","v":""},{"$f":"IFERROR(INDEX('Data Table'!$CU:$CU,MATCH($A$3 & J$8,'Data Table'!$B:$B&'Data Table'!$A:$A,0)),\"\")","v":""},{"$f":"IFERROR(INDEX('Data Table'!$CU:$CU,MATCH($A$3 & K$8,'Data Table'!$B:$B&'Data Table'!$A:$A,0)),\"\")","v":""},{"$f":"IFERROR(INDEX('Data Table'!$CU:$CU,MATCH($A$3 & L$8,'Data Table'!$B:$B&'Data Table'!$A:$A,0)),\"\")","v":""},{"$f":"IFERROR(INDEX('Data Table'!$CU:$CU,MATCH($A$3 & M$8,'Data Table'!$B:$B&'Data Table'!$A:$A,0)),\"\")","v":""},{"$f":"IFERROR(INDEX('Data Table'!$CU:$CU,MATCH($A$3 & N$8,'Data Table'!$B:$B&'Data Table'!$A:$A,0)),\"\")","v":""},{"$f":"IFERROR(INDEX('Data Table'!$CU:$CU,MATCH($A$3 & O$8,'Data Table'!$B:$B&'Data Table'!$A:$A,0)),\"\")","v":""},{"$f":"IFERROR(INDEX('Data Table'!$CU:$CU,MATCH($A$3 & P$8,'Data Table'!$B:$B&'Data Table'!$A:$A,0)),\"\")","v":""},{"$f":"IFERROR($Q$5*(Norms!B44)/100, \"No Data\")","v":"No Data"}]
["Hip IR 0/90","Left",{"$f":"IFERROR(INDEX('Data Table'!$CV:$CV,MATCH($A$3 & C$8,'Data Table'!$B:$B&'Data Table'!$A:$A,0)),\"\")","v":"HipIR090L"},{"$f":"IFERROR(INDEX('Data Table'!$CV:$CV,MATCH($A$3 & D$8,'Data Table'!$B:$B&'Data Table'!$A:$A,0)),\"\")","v":""},{"$f":"IFERROR(INDEX('Data Table'!$CV:$CV,MATCH($A$3 & E$8,'Data Table'!$B:$B&'Data Table'!$A:$A,0)),\"\")","v":""},{"$f":"IFERROR(INDEX('Data Table'!$CV:$CV,MATCH($A$3 & F$8,'Data Table'!$B:$B&'Data Table'!$A:$A,0)),\"\")","v":""},{"$f":"IFERROR(INDEX('Data Table'!$CV:$CV,MATCH($A$3 & G$8,'Data Table'!$B:$B&'Data Table'!$A:$A,0)),\"\")","v":""},{"$f":"IFERROR(INDEX('Data Table'!$CV:$CV,MATCH($A$3 & H$8,'Data Table'!$B:$B&'Data Table'!$A:$A,0)),\"\")","v":""},{"$f":"IFERROR(INDEX('Data Table'!$CV:$CV,MATCH($A$3 & I$8,'Data Table'!$B:$B&'Data Table'!$A:$A,0)),\"\")","v":""},{"$f":"IFERROR(INDEX('Data Table'!$CV:$CV,MATCH($A$3 & J$8,'Data Table'!$B:$B&'Data Table'!$A:$A,0)),\"\")","v":""},{"$f":"IFERROR(INDEX('Data Table'!$CV:$CV,MATCH($A$3 & K$8,'Data Table'!$B:$B&'Data Table'!$A:$A,0)),\"\")","v":""},{"$f":"IFERROR(INDEX('Data Table'!$CV:$CV,MATCH($A$3 & L$8,'Data Table'!$B:$B&'Data Table'!$A:$A,0)),\"\")","v":""},{"$f":"IFERROR(INDEX('Data Table'!$CV:$CV,MATCH($A$3 & M$8,'Data Table'!$B:$B&'Data Table'!$A:$A,0)),\"\")","v":""},{"$f":"IFERROR(INDEX('Data Table'!$CV:$CV,MATCH($A$3 & N$8,'Data Table'!$B:$B&'Data Table'!$A:$A,0)),\"\")","v":""},{"$f":"IFERROR(INDEX('Data Table'!$CV:$CV,MATCH($A$3 & O$8,'Data Table'!$B:$B&'Data Table'!$A:$A,0)),\"\")","v":""},{"$f":"IFERROR(INDEX('Data Table'!$CV:$CV,MATCH($A$3 & P$8,'Data Table'!$B:$B&'Data Table'!$A:$A,0)),\"\")","v":""},{"$f":"IFERROR($Q$5*(Norms!B58)/100, \"No Data\")","v":"No Data"}]
["Hip IR 0/90","Right",{"$f":"IFERROR(INDEX('Data Table'!$CW:$CW,MATCH($A$3 & C$8,'Data Table'!$B:$B&'Data Table'!$A:$A,0)),\"\")","v":"HipIR090R"},{"$f":"IFERROR(INDEX('Data Table'!$CW:$CW,MATCH($A$3 & D$8,'Data Table'!$B:$B&'Data Table'!$A:$A,0)),\"\")","v":""},{"$f":"IFERROR(INDEX('Data Table'!$CW:$CW,MATCH($A$3 & E$8,'Data Table'!$B:$B&'Data Table'!$A:$A,0)),\"\")","v":""},{"$f":"IFERROR(INDEX('Data Table'!$CW:$CW,MATCH($A$3 & F$8,'Data Table'!$B:$B&'Data Table'!$A:$A,0)),\"\")","v":""},{"$f":"IFERROR(INDEX('Data Table'!$CW:$CW,MATCH($A$3 & G$8,'Data Table'!$B:$B&'Data Table'!$A:$A,0)),\"\")","v":""},{"$f":"IFERROR(INDEX('Data Table'!$CW:$CW,MATCH($A$3 & H$8,'Data Table'!$B:$B&'Data Table'!$A:$A,0)),\"\")","v":""},{"$f":"IFERROR(INDEX('Data Table'!$CW:$CW,MATCH($A$3 & I$8,'Data Table'!$B:$B&'Data Table'!$A:$A,0)),\"\")","v":""},{"$f":"IFERROR(INDEX('Data Table'!$CW:$CW,MATCH($A$3 & J$8,'Data Table'!$B:$B&'Data Table'!$A:$A,0)),\"\")","v":""},{"$f":"IFERROR(INDEX('Data Table'!$CW:$CW,MATCH($A$3 & K$8,'Data Table'!$B:$B&'Data Table'!$A:$A,0)),\"\")","v":""},{"$f":"IFERROR(INDEX('Data Table'!$CW:$CW,MATCH($A$3 & L$8,'Data Table'!$B:$B&'Data Table'!$A:$A,0)),\"\")","v":""},{"$f":"IFERROR(INDEX('Data Table'!$CW:$CW,MATCH($A$3 & M$8,'Data Table'!$B:$B&'Data Table'!$A:$A,0)),\"\")","v":""},{"$f":"IFERROR(INDEX('Data Table'!$CW:$CW,MATCH($A$3 & N$8,'Data Table'!$B:$B&'Data Table'!$A:$A,0)),\"\")","v":""},{"$f":"IFERROR(INDEX('Data Table'!$CW:$CW,MATCH($A$3 & O$8,'Data Table'!$B:$B&'Data Table'!$A:$A,0)),\"\")","v":""},{"$f":"IFERROR(INDEX('Data Table'!$CW:$CW,MATCH($A$3 & P$8,'Data Table'!$B:$B&'Data Table'!$A:$A,0)),\"\")","v":""},{"$f":"IFERROR($Q$5*(Norms!B58)/100, \"No Data\")","v":"No Data"}]
["Hip IR 90/90","Left",{"$f":"IFERROR(INDEX('Data Table'!$CX:$CX,MATCH($A$3 & C$8,'Data Table'!$B:$B&'Data Table'!$A:$A,0)),\"\")","v":"HipIR9090L"},{"$f":"IFERROR(INDEX('Data Table'!$CX:$CX,MATCH($A$3 & D$8,'Data Table'!$B:$B&'Data Table'!$A:$A,0)),\"\")","v":""},{"$f":"IFERROR(INDEX('Data Table'!$CX:$CX,MATCH($A$3 & E$8,'Data Table'!$B:$B&'Data Table'!$A:$A,0)),\"\")","v":""},{"$f":"IFERROR(INDEX('Data Table'!$CX:$CX,MATCH($A$3 & F$8,'Data Table'!$B:$B&'Data Table'!$A:$A,0)),\"\")","v":""},{"$f":"IFERROR(INDEX('Data Table'!$CX:$CX,MATCH($A$3 & G$8,'Data Table'!$B:$B&'Data Table'!$A:$A,0)),\"\")","v":""},{"$f":"IFERROR(INDEX('Data Table'!$CX:$CX,MATCH($A$3 & H$8,'Data Table'!$B:$B&'Data Table'!$A:$A,0)),\"\")","v":""},{"$f":"IFERROR(INDEX('Data Table'!$CX:$CX,MATCH($A$3 & I$8,'Data Table'!$B:$B&'Data Table'!$A:$A,0)),\"\")","v":""},{"$f":"IFERROR(INDEX('Data Table'!$CX:$CX,MATCH($A$3 & J$8,'Data Table'!$B:$B&'Data Table'!$A:$A,0)),\"\")","v":""},{"$f":"IFERROR(INDEX('Data Table'!$CX:$CX,MATCH($A$3 & K$8,'Data Table'!$B:$B&'Data Table'!$A:$A,0)),\"\")","v":""},{"$f":"IFERROR(INDEX('Data Table'!$CX:$CX,MATCH($A$3 & L$8,'Data Table'!$B:$B&'Data Table'!$A:$A,0)),\"\")","v":""},{"$f":"IFERROR(INDEX('Data Table'!$CX:$CX,MATCH($A$3 & M$8,'Data Table'!$B:$B&'Data Table'!$A:$A,0)),\"\")","v":""},{"$f":"IFERROR(INDEX('Data Table'!$CX:$CX,MATCH($A$3 & N$8,'Data Table'!$B:$B&'Data Table'!$A:$A,0)),\"\")","v":""},{"$f":"IFERROR(INDEX('Data Table'!$CX:$CX,MATCH($A$3 & O$8,'Data Table'!$B:$B&'Data Table'!$A:$A,0)),\"\")","v":""},{"$f":"IFERROR(INDEX('Data Table'!$CX:$CX,MATCH($A$3 & P$8,'Data Table'!$B:$B&'Data Table'!$A:$A,0)),\"\")","v":""},{"$f":"IFERROR($Q$5*(Norms!B57)/100, \"No Data\")","v":"No Data"}]
["Hip IR 90/90","Right",{"$f":"IFERROR(INDEX('Data Table'!$CY:$CY,MATCH($A$3 & C$8,'Data Table'!$B:$B&'Data Table'!$A:$A,0)),\"\")","v":"HipIR9090R"},{"$f":"IFERROR(INDEX('Data Table'!$CY:$CY,MATCH($A$3 & D$8,'Data Table'!$B:$B&'Data Table'!$A:$A,0)),\"\")","v":""},{"$f":"IFERROR(INDEX('Data Table'!$CY:$CY,MATCH($A$3 & E$8,'Data Table'!$B:$B&'Data Table'!$A:$A,0)),\"\")","v":""},{"$f":"IFERROR(INDEX('Data Table'!$CY:$CY,MATCH($A$3 & F$8,'Data Table'!$B:$B&'Data Table'!$A:$A,0)),\"\")","v":""},{"$f":"IFERROR(INDEX('Data Table'!$CY:$CY,MATCH($A$3 & G$8,'Data Table'!$B:$B&'Data Table'!$A:$A,0)),\"\")","v":""},{"$f":"IFERROR(INDEX('Data Table'!$CY:$CY,MATCH($A$3 & H$8,'Data Table'!$B:$B&'Data Table'!$A:$A,0)),\"\")","v":""},{"$f":"IFERROR(INDEX('Data Table'!$CY:$CY,MATCH($A$3 & I$8,'Data Table'!$B:$B&'Data Table'!$A:$A,0)),\"\")","v":""},{"$f":"IFERROR(INDEX('Data Table'!$CY:$CY,MATCH($A$3 & J$8,'Data Table'!$B:$B&'Data Table'!$A:$A,0)),\"\")","v":""},{"$f":"IFERROR(INDEX('Data Table'!$CY:$CY,MATCH($A$3 & K$8,'Data Table'!$B:$B&'Data Table'!$A:$A,0)),\"\")","v":""},{"$f":"IFERROR(INDEX('Data Table'!$CY:$CY,MATCH($A$3 & L$8,'Data Table'!$B:$B&'Data Table'!$A:$A,0)),\"\")","v":""},{"$f":"IFERROR(INDEX('Data Table'!$CY:$CY,MATCH($A$3 & M$8,'Data Table'!$B:$B&'Data Table'!$A:$A,0)),\"\")","v":""},{"$f":"IFERROR(INDEX('Data Table'!$CY:$CY,MATCH($A$3 & N$8,'Data Table'!$B:$B&'Data Table'!$A:$A,0)),\"\")","v":""},{"$f":"IFERROR(INDEX('Data Table'!$CY:$CY,MATCH($A$3 & O$8,'Data Table'!$B:$B&'Data Table'!$A:$A,0)),\"\")","v":""},{"$f":"IFERROR(INDEX('Data Table'!$CY:$CY,MATCH($A$3 & P$8,'Data Table'!$B:$B&'Data Table'!$A:$A,0)),\"\")","v":""},{"$f":"IFERROR($Q$5*(Norms!B57)/100, \"No Data\")","v":"No Data"}]
["Hip Other1","Left",{"$f":"IFERROR(INDEX('Data Table'!$CZ:$CZ,MATCH($A$3 & C$8,'Data Table'!$B:$B&'Data Table'!$A:$A,0)),\"\")","v":"HipOth1L"},{"$f":"IFERROR(INDEX('Data Table'!$CZ:$CZ,MATCH($A$3 & D$8,'Data Table'!$B:$B&'Data Table'!$A:$A,0)),\"\")","v":""},{"$f":"IFERROR(INDEX('Data Table'!$CZ:$CZ,MATCH($A$3 & E$8,'Data Table'!$B:$B&'Data Table'!$A:$A,0)),\"\")","v":""},{"$f":"IFERROR(INDEX('Data Table'!$CZ:$CZ,MATCH($A$3 & F$8,'Data Table'!$B:$B&'Data Table'!$A:$A,0)),\"\")","v":""},{"$f":"IFERROR(INDEX('Data Table'!$CZ:$CZ,MATCH($A$3 & G$8,'Data Table'!$B:$B&'Data Table'!$A:$A,0)),\"\")","v":""},{"$f":"IFERROR(INDEX('Data Table'!$CZ:$CZ,MATCH($A$3 & H$8,'Data Table'!$B:$B&'Data Table'!$A:$A,0)),\"\")","v":""},{"$f":"IFERROR(INDEX('Data Table'!$CZ:$CZ,MATCH($A$3 & I$8,'Data Table'!$B:$B&'Data Table'!$A:$A,0)),\"\")","v":""},{"$f":"IFERROR(INDEX('Data Table'!$CZ:$CZ,MATCH($A$3 & J$8,'Data Table'!$B:$B&'Data Table'!$A:$A,0)),\"\")","v":""},{"$f":"IFERROR(INDEX('Data Table'!$CZ:$CZ,MATCH($A$3 & K$8,'Data Table'!$B:$B&'Data Table'!$A:$A,0)),\"\")","v":""},{"$f":"IFERROR(INDEX('Data Table'!$CZ:$CZ,MATCH($A$3 & L$8,'Data Table'!$B:$B&'Data Table'!$A:$A,0)),\"\")","v":""},{"$f":"IFERROR(INDEX('Data Table'!$CZ:$CZ,MATCH($A$3 & M$8,'Data Table'!$B:$B&'Data Table'!$A:$A,0)),\"\")","v":""},{"$f":"IFERROR(INDEX('Data Table'!$CZ:$CZ,MATCH($A$3 & N$8,'Data Table'!$B:$B&'Data Table'!$A:$A,0)),\"\")","v":""},{"$f":"IFERROR(INDEX('Data Table'!$CZ:$CZ,MATCH($A$3 & O$8,'Data Table'!$B:$B&'Data Table'!$A:$A,0)),\"\")","v":""},{"$f":"IFERROR(INDEX('Data Table'!$CZ:$CZ,MATCH($A$3 & P$8,'Data Table'!$B:$B&'Data Table'!$A:$A,0)),\"\")","v":""},"No Data"]
["Hip Other1","Right",{"$f":"IFERROR(INDEX('Data Table'!$DA:$DA,MATCH($A$3 & C$8,'Data Table'!$B:$B&'Data Table'!$A:$A,0)),\"\")","v":"HipOth1R"},{"$f":"IFERROR(INDEX('Data Table'!$DA:$DA,MATCH($A$3 & D$8,'Data Table'!$B:$B&'Data Table'!$A:$A,0)),\"\")","v":""},{"$f":"IFERROR(INDEX('Data Table'!$DA:$DA,MATCH($A$3 & E$8,'Data Table'!$B:$B&'Data Table'!$A:$A,0)),\"\")","v":""},{"$f":"IFERROR(INDEX('Data Table'!$DA:$DA,MATCH($A$3 & F$8,'Data Table'!$B:$B&'Data Table'!$A:$A,0)),\"\")","v":""},{"$f":"IFERROR(INDEX('Data Table'!$DA:$DA,MATCH($A$3 & G$8,'Data Table'!$B:$B&'Data Table'!$A:$A,0)),\"\")","v":""},{"$f":"IFERROR(INDEX('Data Table'!$DA:$DA,MATCH($A$3 & H$8,'Data Table'!$B:$B&'Data Table'!$A:$A,0)),\"\")","v":""},{"$f":"IFERROR(INDEX('Data Table'!$DA:$DA,MATCH($A$3 & I$8,'Data Table'!$B:$B&'Data Table'!$A:$A,0)),\"\")","v":""},{"$f":"IFERROR(INDEX('Data Table'!$DA:$DA,MATCH($A$3 & J$8,'Data Table'!$B:$B&'Data Table'!$A:$A,0)),\"\")","v":""},{"$f":"IFERROR(INDEX('Data Table'!$DA:$DA,MATCH($A$3 & K$8,'Data Table'!$B:$B&'Data Table'!$A:$A,0)),\"\")","v":""},{"$f":"IFERROR(INDEX('Data Table'!$DA:$DA,MATCH($A$3 & L$8,'Data Table'!$B:$B&'Data Table'!$A:$A,0)),\"\")","v":""},{"$f":"IFERROR(INDEX('Data Table'!$DA:$DA,MATCH($A$3 & M$8,'Data Table'!$B:$B&'Data Table'!$A:$A,0)),\"\")","v":""},{"$f":"IFERROR(INDEX('Data Table'!$DA:$DA,MATCH($A$3 & N$8,'Data Table'!$B:$B&'Data Table'!$A:$A,0)),\"\")","v":""},{"$f":"IFERROR(INDEX('Data Table'!$DA:$DA,MATCH($A$3 & O$8,'Data Table'!$B:$B&'Data Table'!$A:$A,0)),\"\")","v":""},{"$f":"IFERROR(INDEX('Data Table'!$DA:$DA,MATCH($A$3 & P$8,'Data Table'!$B:$B&'Data Table'!$A:$A,0)),\"\")","v":""},"No Data"]
["Hip Other2","Left",{"$f":"IFERROR(INDEX('Data Table'!$DB:$DB,MATCH($A$3 & C$8,'Data Table'!$B:$B&'Data Table'!$A:$A,0)),\"\")","v":"HipOth2L"},{"$f":"IFERROR(INDEX('Data Table'!$DB:$DB,MATCH($A$3 & D$8,'Data Table'!$B:$B&'Data Table'!$A:$A,0)),\"\")","v":""},{"$f":"IFERROR(INDEX('Data Table'!$DB:$DB,MATCH($A$3 & E$8,'Data Table'!$B:$B&'Data Table'!$A:$A,0)),\"\")","v":""},{"$f":"IFERROR(INDEX('Data Table'!$DB:$DB,MATCH($A$3 & F$8,'Data Table'!$B:$B&'Data Table'!$A:$A,0)),\"\")","v":""},{"$f":"IFERROR(INDEX('Data Table'!$DB:$DB,MATCH($A$3 & G$8,'Data Table'!$B:$B&'Data Table'!$A:$A,0)),\"\")","v":""},{"$f":"IFERROR(INDEX('Data Table'!$DB:$DB,MATCH($A$3 & H$8,'Data Table'!$B:$B&'Data Table'!$A:$A,0)),\"\")","v":""},{"$f":"IFERROR(INDEX('Data Table'!$DB:$DB,MATCH($A$3 & I$8,'Data Table'!$B:$B&'Data Table'!$A:$A,0)),\"\")","v":""},{"$f":"IFERROR(INDEX('Data Table'!$DB:$DB,MATCH($A$3 & J$8,'Data Table'!$B:$B&'Data Table'!$A:$A,0)),\"\")","v":""},{"$f":"IFERROR(INDEX('Data Table'!$DB:$DB,MATCH($A$3 & K$8,'Data Table'!$B:$B&'Data Table'!$A:$A,0)),\"\")","v":""},{"$f":"IFERROR(INDEX('Data Table'!$DB:$DB,MATCH($A$3 & L$8,'Data Table'!$B:$B&'Data Table'!$A:$A,0)),\"\")","v":""},{"$f":"IFERROR(INDEX('Data Table'!$DB:$DB,MATCH($A$3 & M$8,'Data Table'!$B:$B&'Data Table'!$A:$A,0)),\"\")","v":""},{"$f":"IFERROR(INDEX('Data Table'!$DB:$DB,MATCH($A$3 & N$8,'Data Table'!$B:$B&'Data Table'!$A:$A,0)),\"\")","v":""},{"$f":"IFERROR(INDEX('Data Table'!$DB:$DB,MATCH($A$3 & O$8,'Data Table'!$B:$B&'Data Table'!$A:$A,0)),\"\")","v":""},{"$f":"IFERROR(INDEX('Data Table'!$DB:$DB,MATCH($A$3 & P$8,'Data Table'!$B:$B&'Data Table'!$A:$A,0)),\"\")","v":""},"No Data"]
["Hip Other2","Right",{"$f":"IFERROR(INDEX('Data Table'!$DC:$DC,MATCH($A$3 & C$8,'Data Table'!$B:$B&'Data Table'!$A:$A,0)),\"\")","v":"HipOth2R"},{"$f":"IFERROR(INDEX('Data Table'!$DC:$DC,MATCH($A$3 & D$8,'Data Table'!$B:$B&'Data Table'!$A:$A,0)),\"\")","v":""},{"$f":"IFERROR(INDEX('Data Table'!$DC:$DC,MATCH($A$3 & E$8,'Data Table'!$B:$B&'Data Table'!$A:$A,0)),\"\")","v":""},{"$f":"IFERROR(INDEX('Data Table'!$DC:$DC,MATCH($A$3 & F$8,'Data Table'!$B:$B&'Data Table'!$A:$A,0)),\"\")","v":""},{"$f":"IFERROR(INDEX('Data Table'!$DC:$DC,MATCH($A$3 & G$8,'Data Table'!$B:$B&'Data Table'!$A:$A,0)),\"\")","v":""},{"$f":"IFERROR(INDEX('Data Table'!$DC:$DC,MATCH($A$3 & H$8,'Data Table'!$B:$B&'Data Table'!$A:$A,0)),\"\")","v":""},{"$f":"IFERROR(INDEX('Data Table'!$DC:$DC,MATCH($A$3 & I$8,'Data Table'!$B:$B&'Data Table'!$A:$A,0)),\"\")","v":""},{"$f":"IFERROR(INDEX('Data Table'!$DC:$DC,MATCH($A$3 & J$8,'Data Table'!$B:$B&'Data Table'!$A:$A,0)),\"\")","v":""},{"$f":"IFERROR(INDEX('Data Table'!$DC:$DC,MATCH($A$3 & K$8,'Data Table'!$B:$B&'Data Table'!$A:$A,0)),\"\")","v":""},{"$f":"IFERROR(INDEX('Data Table'!$DC:$DC,MATCH($A$3 & L$8,'Data Table'!$B:$B&'Data Table'!$A:$A,0)),\"\")","v":""},{"$f":"IFERROR(INDEX('Data Table'!$DC:$DC,MATCH($A$3 & M$8,'Data Table'!$B:$B&'Data Table'!$A:$A,0)),\"\")","v":""},{"$f":"IFERROR(INDEX('Data Table'!$DC:$DC,MATCH($A$3 & N$8,'Data Table'!$B:$B&'Data Table'!$A:$A,0)),\"\")","v":""},{"$f":"IFERROR(INDEX('Data Table'!$DC:$DC,MATCH($A$3 & O$8,'Data Table'!$B:$B&'Data Table'!$A:$A,0)),\"\")","v":""},{"$f":"IFERROR(INDEX('Data Table'!$DC:$DC,MATCH($A$3 & P$8,'Data Table'!$B:$B&'Data Table'!$A:$A,0)),\"\")","v":""},"No Data"]
["Knee Extension @ 90*","Left",{"$f":"IFERROR(INDEX('Data Table'!$N:$N,MATCH($A$3 & C$8,'Data Table'!$B:$B&'Data Table'!$A:$A,0)),\"\")","v":"KneeExtL"},{"$f":"IFERROR(INDEX('Data Table'!$N:$N,MATCH($A$3 & D$8,'Data Table'!$B:$B&'Data Table'!$A:$A,0)),\"\")","v":""},{"$f":"IFERROR(INDEX('Data Table'!$N:$N,MATCH($A$3 & E$8,'Data Table'!$B:$B&'Data Table'!$A:$A,0)),\"\")","v":""},{"$f":"IFERROR(INDEX('Data Table'!$N:$N,MATCH($A$3 & F$8,'Data Table'!$B:$B&'Data Table'!$A:$A,0)),\"\")","v":""},{"$f":"IFERROR(INDEX('Data Table'!$N:$N,MATCH($A$3 & G$8,'Data Table'!$B:$B&'Data Table'!$A:$A,0)),\"\")","v":""},{"$f":"IFERROR(INDEX('Data Table'!$N:$N,MATCH($A$3 & H$8,'Data Table'!$B:$B&'Data Table'!$A:$A,0)),\"\")","v":""},{"$f":"IFERROR(INDEX('Data Table'!$N:$N,MATCH($A$3 & I$8,'Data Table'!$B:$B&'Data Table'!$A:$A,0)),\"\")","v":""},{"$f":"IFERROR(INDEX('Data Table'!$N:$N,MATCH($A$3 & J$8,'Data Table'!$B:$B&'Data Table'!$A:$A,0)),\"\")","v":""},{"$f":"IFERROR(INDEX('Data Table'!$N:$N,MATCH($A$3 & K$8,'Data Table'!$B:$B&'Data Table'!$A:$A,0)),\"\")","v":""},{"$f":"IFERROR(INDEX('Data Table'!$N:$N,MATCH($A$3 & L$8,'Data Table'!$B:$B&'Data Table'!$A:$A,0)),\"\")","v":""},{"$f":"IFERROR(INDEX('Data Table'!$N:$N,MATCH($A$3 & M$8,'Data Table'!$B:$B&'Data Table'!$A:$A,0)),\"\")","v":""},{"$f":"IFERROR(INDEX('Data Table'!$N:$N,MATCH($A$3 & N$8,'Data Table'!$B:$B&'Data Table'!$A:$A,0)),\"\")","v":""},{"$f":"IFERROR(INDEX('Data Table'!$N:$N,MATCH($A$3 & O$8,'Data Table'!$B:$B&'Data Table'!$A:$A,0)),\"\")","v":""},{"$f":"IFERROR(INDEX('Data Table'!$N:$N,MATCH($A$3 & P$8,'Data Table'!$B:$B&'Data Table'!$A:$A,0)),\"\")","v":""},{"$f":"IFERROR($Q$5*(Norms!B64)/100, \"No Data\")","v":"No Data"}]
["Knee Extension @ 90*","Right",{"$f":"IFERROR(INDEX('Data Table'!$O:$O,MATCH($A$3 & C$8,'Data Table'!$B:$B&'Data Table'!$A:$A,0)),\"\")","v":"KneeExtR"},{"$f":"IFERROR(INDEX('Data Table'!$O:$O,MATCH($A$3 & D$8,'Data Table'!$B:$B&'Data Table'!$A:$A,0)),\"\")","v":""},{"$f":"IFERROR(INDEX('Data Table'!$O:$O,MATCH($A$3 & E$8,'Data Table'!$B:$B&'Data Table'!$A:$A,0)),\"\")","v":""},{"$f":"IFERROR(INDEX('Data Table'!$O:$O,MATCH($A$3 & F$8,'Data Table'!$B:$B&'Data Table'!$A:$A,0)),\"\")","v":""},{"$f":"IFERROR(INDEX('Data Table'!$O:$O,MATCH($A$3 & G$8,'Data Table'!$B:$B&'Data Table'!$A:$A,0)),\"\")","v":""},{"$f":"IFERROR(INDEX('Data Table'!$O:$O,MATCH($A$3 & H$8,'Data Table'!$B:$B&'Data Table'!$A:$A,0)),\"\")","v":""},{"$f":"IFERROR(INDEX('Data Table'!$O:$O,MATCH($A$3 & I$8,'Data Table'!$B:$B&'Data Table'!$A:$A,0)),\"\")","v":""},{"$f":"IFERROR(INDEX('Data Table'!$O:$O,MATCH($A$3 & J$8,'Data Table'!$B:$B&'Data Table'!$A:$A,0)),\"\")","v":""},{"$f":"IFERROR(INDEX('Data Table'!$O:$O,MATCH($A$3 & K$8,'Data Table'!$B:$B&'Data Table'!$A:$A,0)),\"\")","v":""},{"$f":"IFERROR(INDEX('Data Table'!$O:$O,MATCH($A$3 & L$8,'Data Table'!$B:$B&'Data Table'!$A:$A,0)),\"\")","v":""},{"$f":"IFERROR(INDEX('Data Table'!$O:$O,MATCH($A$3 & M$8,'Data Table'!$B:$B&'Data Table'!$A:$A,0)),\"\")","v":""},{"$f":"IFERROR(INDEX('Data Table'!$O:$O,MATCH($A$3 & N$8,'Data Table'!$B:$B&'Data Table'!$A:$A,0)),\"\")","v":""},{"$f":"IFERROR(INDEX('Data Table'!$O:$O,MATCH($A$3 & O$8,'Data Table'!$B:$B&'Data Table'!$A:$A,0)),\"\")","v":""},{"$f":"IFERROR(INDEX('Data Table'!$O:$O,MATCH($A$3 & P$8,'Data Table'!$B:$B&'Data Table'!$A:$A,0)),\"\")","v":""},{"$f":"IFERROR($Q$5*(Norms!B64)/100, \"No Data\")","v":"No Data"}]
["Knee Flexion","Left",{"$f":"IFERROR(INDEX('Data Table'!$P:$P,MATCH($A$3 & C$8,'Data Table'!$B:$B&'Data Table'!$A:$A,0)),\"\")","v":"KneeFlexL"},{"$f":"IFERROR(INDEX('Data Table'!$P:$P,MATCH($A$3 & D$8,'Data Table'!$B:$B&'Data Table'!$A:$A,0)),\"\")","v":""},{"$f":"IFERROR(INDEX('Data Table'!$P:$P,MATCH($A$3 & E$8,'Data Table'!$B:$B&'Data Table'!$A:$A,0)),\"\")","v":""},{"$f":"IFERROR(INDEX('Data Table'!$P:$P,MATCH($A$3 & F$8,'Data Table'!$B:$B&'Data Table'!$A:$A,0)),\"\")","v":""},{"$f":"IFERROR(INDEX('Data Table'!$P:$P,MATCH($A$3 & G$8,'Data Table'!$B:$B&'Data Table'!$A:$A,0)),\"\")","v":""},{"$f":"IFERROR(INDEX('Data Table'!$P:$P,MATCH($A$3 & H$8,'Data Table'!$B:$B&'Data Table'!$A:$A,0)),\"\")","v":""},{"$f":"IFERROR(INDEX('Data Table'!$P:$P,MATCH($A$3 & I$8,'Data Table'!$B:$B&'Data Table'!$A:$A,0)),\"\")","v":""},{"$f":"IFERROR(INDEX('Data Table'!$P:$P,MATCH($A$3 & J$8,'Data Table'!$B:$B&'Data Table'!$A:$A,0)),\"\")","v":""},{"$f":"IFERROR(INDEX('Data Table'!$P:$P,MATCH($A$3 & K$8,'Data Table'!$B:$B&'Data Table'!$A:$A,0)),\"\")","v":""},{"$f":"IFERROR(INDEX('Data Table'!$P:$P,MATCH($A$3 & L$8,'Data Table'!$B:$B&'Data Table'!$A:$A,0)),\"\")","v":""},{"$f":"IFERROR(INDEX('Data Table'!$P:$P,MATCH($A$3 & M$8,'Data Table'!$B:$B&'Data Table'!$A:$A,0)),\"\")","v":""},{"$f":"IFERROR(INDEX('Data Table'!$P:$P,MATCH($A$3 & N$8,'Data Table'!$B:$B&'Data Table'!$A:$A,0)),\"\")","v":""},{"$f":"IFERROR(INDEX('Data Table'!$P:$P,MATCH($A$3 & O$8,'Data Table'!$B:$B&'Data Table'!$A:$A,0)),\"\")","v":""},{"$f":"IFERROR(INDEX('Data Table'!$P:$P,MATCH($A$3 & P$8,'Data Table'!$B:$B&'Data Table'!$A:$A,0)),\"\")","v":""},{"$f":"IFERROR($Q$5*(Norms!B67)/100, \"No Data\")","v":"No Data"}]
["Knee Flexion","Right",{"$f":"IFERROR(INDEX('Data Table'!$Q:$Q,MATCH($A$3 & C$8,'Data Table'!$B:$B&'Data Table'!$A:$A,0)),\"\")","v":"KneeFlexR"},{"$f":"IFERROR(INDEX('Data Table'!$Q:$Q,MATCH($A$3 & D$8,'Data Table'!$B:$B&'Data Table'!$A:$A,0)),\"\")","v":""},{"$f":"IFERROR(INDEX('Data Table'!$Q:$Q,MATCH($A$3 & E$8,'Data Table'!$B:$B&'Data Table'!$A:$A,0)),\"\")","v":""},{"$f":"IFERROR(INDEX('Data Table'!$Q:$Q,MATCH($A$3 & F$8,'Data Table'!$B:$B&'Data Table'!$A:$A,0)),\"\")","v":""},{"$f":"IFERROR(INDEX('Data Table'!$Q:$Q,MATCH($A$3 & G$8,'Data Table'!$B:$B&'Data Table'!$A:$A,0)),\"\")","v":""},{"$f":"IFERROR(INDEX('Data Table'!$Q:$Q,MATCH($A$3 & H$8,'Data Table'!$B:$B&'Data Table'!$A:$A,0)),\"\")","v":""},{"$f":"IFERROR(INDEX('Data Table'!$Q:$Q,MATCH($A$3 & I$8,'Data Table'!$B:$B&'Data Table'!$A:$A,0)),\"\")","v":""},{"$f":"IFERROR(INDEX('Data Table'!$Q:$Q,MATCH($A$3 & J$8,'Data Table'!$B:$B&'Data Table'!$A:$A,0)),\"\")","v":""},{"$f":"IFERROR(INDEX('Data Table'!$Q:$Q,MATCH($A$3 & K$8,'Data Table'!$B:$B&'Data Table'!$A:$A,0)),\"\")","v":""},{"$f":"IFERROR(INDEX('Data Table'!$Q:$Q,MATCH($A$3 & L$8,'Data Table'!$B:$B&'Data Table'!$A:$A,0)),\"\")","v":""},{"$f":"IFERROR(INDEX('Data Table'!$Q:$Q,MATCH($A$3 & M$8,'Data Table'!$B:$B&'Data Table'!$A:$A,0)),\"\")","v":""},{"$f":"IFERROR(INDEX('Data Table'!$Q:$Q,MATCH($A$3 & N$8,'Data Table'!$B:$B&'Data Table'!$A:$A,0)),\"\")","v":""},{"$f":"IFERROR(INDEX('Data Table'!$Q:$Q,MATCH($A$3 & O$8,'Data Table'!$B:$B&'Data Table'!$A:$A,0)),\"\")","v":""},{"$f":"IFERROR(INDEX('Data Table'!$Q:$Q,MATCH($A$3 & P$8,'Data Table'!$B:$B&'Data Table'!$A:$A,0)),\"\")","v":""},{"$f":"IFERROR($Q$5*(Norms!B67)/100, \"No Data\")","v":"No Data"}]
["Knee Other1","Left",{"$f":"IFERROR(INDEX('Data Table'!$R:$R,MATCH($A$3 & C$8,'Data Table'!$B:$B&'Data Table'!$A:$A,0)),\"\")","v":"KneeOth1L"},{"$f":"IFERROR(INDEX('Data Table'!$R:$R,MATCH($A$3 & D$8,'Data Table'!$B:$B&'Data Table'!$A:$A,0)),\"\")","v":""},{"$f":"IFERROR(INDEX('Data Table'!$R:$R,MATCH($A$3 & E$8,'Data Table'!$B:$B&'Data Table'!$A:$A,0)),\"\")","v":""},{"$f":"IFERROR(INDEX('Data Table'!$R:$R,MATCH($A$3 & F$8,'Data Table'!$B:$B&'Data Table'!$A:$A,0)),\"\")","v":""},{"$f":"IFERROR(INDEX('Data Table'!$R:$R,MATCH($A$3 & G$8,'Data Table'!$B:$B&'Data Table'!$A:$A,0)),\"\")","v":""},{"$f":"IFERROR(INDEX('Data Table'!$R:$R,MATCH($A$3 & H$8,'Data Table'!$B:$B&'Data Table'!$A:$A,0)),\"\")","v":""},{"$f":"IFERROR(INDEX('Data Table'!$R:$R,MATCH($A$3 & I$8,'Data Table'!$B:$B&'Data Table'!$A:$A,0)),\"\")","v":""},{"$f":"IFERROR(INDEX('Data Table'!$R:$R,MATCH($A$3 & J$8,'Data Table'!$B:$B&'Data Table'!$A:$A,0)),\"\")","v":""},{"$f":"IFERROR(INDEX('Data Table'!$R:$R,MATCH($A$3 & K$8,'Data Table'!$B:$B&'Data Table'!$A:$A,0)),\"\")","v":""},{"$f":"IFERROR(INDEX('Data Table'!$R:$R,MATCH($A$3 & L$8,'Data Table'!$B:$B&'Data Table'!$A:$A,0)),\"\")","v":""},{"$f":"IFERROR(INDEX('Data Table'!$R:$R,MATCH($A$3 & M$8,'Data Table'!$B:$B&'Data Table'!$A:$A,0)),\"\")","v":""},{"$f":"IFERROR(INDEX('Data Table'!$R:$R,MATCH($A$3 & N$8,'Data Table'!$B:$B&'Data Table'!$A:$A,0)),\"\")","v":""},{"$f":"IFERROR(INDEX('Data Table'!$R:$R,MATCH($A$3 & O$8,'Data Table'!$B:$B&'Data Table'!$A:$A,0)),\"\")","v":""},{"$f":"IFERROR(INDEX('Data Table'!$R:$R,MATCH($A$3 & P$8,'Data Table'!$B:$B&'Data Table'!$A:$A,0)),\"\")","v":""},"No Data"]
["Knee Other1","Right",{"$f":"IFERROR(INDEX('Data Table'!$S:$S,MATCH($A$3 & C$8,'Data Table'!$B:$B&'Data Table'!$A:$A,0)),\"\")","v":"KneeOth1R"},{"$f":"IFERROR(INDEX('Data Table'!$S:$S,MATCH($A$3 & D$8,'Data Table'!$B:$B&'Data Table'!$A:$A,0)),\"\")","v":""},{"$f":"IFERROR(INDEX('Data Table'!$S:$S,MATCH($A$3 & E$8,'Data Table'!$B:$B&'Data Table'!$A:$A,0)),\"\")","v":""},{"$f":"IFERROR(INDEX('Data Table'!$S:$S,MATCH($A$3 & F$8,'Data Table'!$B:$B&'Data Table'!$A:$A,0)),\"\")","v":""},{"$f":"IFERROR(INDEX('Data Table'!$S:$S,MATCH($A$3 & G$8,'Data Table'!$B:$B&'Data Table'!$A:$A,0)),\"\")","v":""},{"$f":"IFERROR(INDEX('Data Table'!$S:$S,MATCH($A$3 & H$8,'Data Table'!$B:$B&'Data Table'!$A:$A,0)),\"\")","v":""},{"$f":"IFERROR(INDEX('Data Table'!$S:$S,MATCH($A$3 & I$8,'Data Table'!$B:$B&'Data Table'!$A:$A,0)),\"\")","v":""},{"$f":"IFERROR(INDEX('Data Table'!$S:$S,MATCH($A$3 & J$8,'Data Table'!$B:$B&'Data Table'!$A:$A,0)),\"\")","v":""},{"$f":"IFERROR(INDEX('Data Table'!$S:$S,MATCH($A$3 & K$8,'Data Table'!$B:$B&'Data Table'!$A:$A,0)),\"\")","v":""},{"$f":"IFERROR(INDEX('Data Table'!$S:$S,MATCH($A$3 & L$8,'Data Table'!$B:$B&'Data Table'!$A:$A,0)),\"\")","v":""},{"$f":"IFERROR(INDEX('Data Table'!$S:$S,MATCH($A$3 & M$8,'Data Table'!$B:$B&'Data Table'!$A:$A,0)),\"\")","v":""},{"$f":"IFERROR(INDEX('Data Table'!$S:$S,MATCH($A$3 & N$8,'Data Table'!$B:$B&'Data Table'!$A:$A,0)),\"\")","v":""},{"$f":"IFERROR(INDEX('Data Table'!$S:$S,MATCH($A$3 & O$8,'Data Table'!$B:$B&'Data Table'!$A:$A,0)),\"\")","v":""},{"$f":"IFERROR(INDEX('Data Table'!$S:$S,MATCH($A$3 & P$8,'Data Table'!$B:$B&'Data Table'!$A:$A,0)),\"\")","v":""},"No Data"]
["Knee Other2","Left",{"$f":"IFERROR(INDEX('Data Table'!$T:$T,MATCH($A$3 & C$8,'Data Table'!$B:$B&'Data Table'!$A:$A,0)),\"\")","v":"KneeOth2L"},{"$f":"IFERROR(INDEX('Data Table'!$T:$T,MATCH($A$3 & D$8,'Data Table'!$B:$B&'Data Table'!$A:$A,0)),\"\")","v":""},{"$f":"IFERROR(INDEX('Data Table'!$T:$T,MATCH($A$3 & E$8,'Data Table'!$B:$B&'Data Table'!$A:$A,0)),\"\")","v":""},{"$f":"IFERROR(INDEX('Data Table'!$T:$T,MATCH($A$3 & F$8,'Data Table'!$B:$B&'Data Table'!$A:$A,0)),\"\")","v":""},{"$f":"IFERROR(INDEX('Data Table'!$T:$T,MATCH($A$3 & G$8,'Data Table'!$B:$B&'Data Table'!$A:$A,0)),\"\")","v":""},{"$f":"IFERROR(INDEX('Data Table'!$T:$T,MATCH($A$3 & H$8,'Data Table'!$B:$B&'Data Table'!$A:$A,0)),\"\")","v":""},{"$f":"IFERROR(INDEX('Data Table'!$T:$T,MATCH($A$3 & I$8,'Data Table'!$B:$B&'Data Table'!$A:$A,0)),\"\")","v":""},{"$f":"IFERROR(INDEX('Data Table'!$T:$T,MATCH($A$3 & J$8,'Data Table'!$B:$B&'Data Table'!$A:$A,0)),\"\")","v":""},{"$f":"IFERROR(INDEX('Data Table'!$T:$T,MATCH($A$3 & K$8,'Data Table'!$B:$B&'Data Table'!$A:$A,0)),\"\")","v":""},{"$f":"IFERROR(INDEX('Data Table'!$T:$T,MATCH($A$3 & L$8,'Data Table'!$B:$B&'Data Table'!$A:$A,0)),\"\")","v":""},{"$f":"IFERROR(INDEX('Data Table'!$T:$T,MATCH($A$3 & M$8,'Data Table'!$B:$B&'Data Table'!$A:$A,0)),\"\")","v":""},{"$f":"IFERROR(INDEX('Data Table'!$T:$T,MATCH($A$3 & N$8,'Data Table'!$B:$B&'Data Table'!$A:$A,0)),\"\")","v":""},{"$f":"IFERROR(INDEX('Data Table'!$T:$T,MATCH($A$3 & O$8,'Data Table'!$B:$B&'Data Table'!$A:$A,0)),\"\")","v":""},{"$f":"IFERROR(INDEX('Data Table'!$T:$T,MATCH($A$3 & P$8,'Data Table'!$B:$B&'Data Table'!$A:$A,0)),\"\")","v":""},"No Data"]
["Knee Other2","Right",{"$f":"IFERROR(INDEX('Data Table'!$U:$U,MATCH($A$3 & C$8,'Data Table'!$B:$B&'Data Table'!$A:$A,0)),\"\")","v":"KneeOth2R"},{"$f":"IFERROR(INDEX('Data Table'!$U:$U,MATCH($A$3 & D$8,'Data Table'!$B:$B&'Data Table'!$A:$A,0)),\"\")","v":""},{"$f":"IFERROR(INDEX('Data Table'!$U:$U,MATCH($A$3 & E$8,'Data Table'!$B:$B&'Data Table'!$A:$A,0)),\"\")","v":""},{"$f":"IFERROR(INDEX('Data Table'!$U:$U,MATCH($A$3 & F$8,'Data Table'!$B:$B&'Data Table'!$A:$A,0)),\"\")","v":""},{"$f":"IFERROR(INDEX('Data Table'!$U:$U,MATCH($A$3 & G$8,'Data Table'!$B:$B&'Data Table'!$A:$A,0)),\"\")","v":""},{"$f":"IFERROR(INDEX('Data Table'!$U:$U,MATCH($A$3 & H$8,'Data Table'!$B:$B&'Data Table'!$A:$A,0)),\"\")","v":""},{"$f":"IFERROR(INDEX('Data Table'!$U:$U,MATCH($A$3 & I$8,'Data Table'!$B:$B&'Data Table'!$A:$A,0)),\"\")","v":""},{"$f":"IFERROR(INDEX('Data Table'!$U:$U,MATCH($A$3 & J$8,'Data Table'!$B:$B&'Data Table'!$A:$A,0)),\"\")","v":""},{"$f":"IFERROR(INDEX('Data Table'!$U:$U,MATCH($A$3 & K$8,'Data Table'!$B:$B&'Data Table'!$A:$A,0)),\"\")","v":""},{"$f":"IFERROR(INDEX('Data Table'!$U:$U,MATCH($A$3 & L$8,'Data Table'!$B:$B&'Data Table'!$A:$A,0)),\"\")","v":""},{"$f":"IFERROR(INDEX('Data Table'!$U:$U,MATCH($A$3 & M$8,'Data Table'!$B:$B&'Data Table'!$A:$A,0)),\"\")","v":""},{"$f":"IFERROR(INDEX('Data Table'!$U:$U,MATCH($A$3 & N$8,'Data Table'!$B:$B&'Data Table'!$A:$A,0)),\"\")","v":""},{"$f":"IFERROR(INDEX('Data Table'!$U:$U,MATCH($A$3 & O$8,'Data Table'!$B:$B&'Data Table'!$A:$A,0)),\"\")","v":""},{"$f":"IFERROR(INDEX('Data Table'!$U:$U,MATCH($A$3 & P$8,'Data Table'!$B:$B&'Data Table'!$A:$A,0)),\"\")","v":""},"No Data"]
["IMTP","Left",{"$f":"IFERROR(INDEX('Data Table'!$CB:$CB,MATCH($A$3 & C$8,'Data Table'!$B:$B&'Data Table'!$A:$A,0)),\"\")","v":"IMTPL"},{"$f":"IFERROR(INDEX('Data Table'!$CB:$CB,MATCH($A$3 & D$8,'Data Table'!$B:$B&'Data Table'!$A:$A,0)),\"\")","v":""},{"$f":"IFERROR(INDEX('Data Table'!$CB:$CB,MATCH($A$3 & E$8,'Data Table'!$B:$B&'Data Table'!$A:$A,0)),\"\")","v":""},{"$f":"IFERROR(INDEX('Data Table'!$CB:$CB,MATCH($A$3 & F$8,'Data Table'!$B:$B&'Data Table'!$A:$A,0)),\"\")","v":""},{"$f":"IFERROR(INDEX('Data Table'!$CB:$CB,MATCH($A$3 & G$8,'Data Table'!$B:$B&'Data Table'!$A:$A,0)),\"\")","v":""},{"$f":"IFERROR(INDEX('Data Table'!$CB:$CB,MATCH($A$3 & H$8,'Data Table'!$B:$B&'Data Table'!$A:$A,0)),\"\")","v":""},{"$f":"IFERROR(INDEX('Data Table'!$CB:$CB,MATCH($A$3 & I$8,'Data Table'!$B:$B&'Data Table'!$A:$A,0)),\"\")","v":""},{"$f":"IFERROR(INDEX('Data Table'!$CB:$CB,MATCH($A$3 & J$8,'Data Table'!$B:$B&'Data Table'!$A:$A,0)),\"\")","v":""},{"$f":"IFERROR(INDEX('Data Table'!$CB:$CB,MATCH($A$3 & K$8,'Data Table'!$B:$B&'Data Table'!$A:$A,0)),\"\")","v":""},{"$f":"IFERROR(INDEX('Data Table'!$CB:$CB,MATCH($A$3 & L$8,'Data Table'!$B:$B&'Data Table'!$A:$A,0)),\"\")","v":""},{"$f":"IFERROR(INDEX('Data Table'!$CB:$CB,MATCH($A$3 & M$8,'Data Table'!$B:$B&'Data Table'!$A:$A,0)),\"\")","v":""},{"$f":"IFERROR(INDEX('Data Table'!$CB:$CB,MATCH($A$3 & N$8,'Data Table'!$B:$B&'Data Table'!$A:$A,0)),\"\")","v":""},{"$f":"IFERROR(INDEX('Data Table'!$CB:$CB,MATCH($A$3 & O$8,'Data Table'!$B:$B&'Data Table'!$A:$A,0)),\"\")","v":""},{"$f":"IFERROR(INDEX('Data Table'!$CB:$CB,MATCH($A$3 & P$8,'Data Table'!$B:$B&'Data Table'!$A:$A,0)),\"\")","v":""},{"$f":"IFERROR($Q$5*(Norms!B85)/100, \"No Data\")","v":"No Data"}]
["IMTP","Right",{"$f":"IFERROR(INDEX('Data Table'!$CC:$CC,MATCH($A$3 & C$8,'Data Table'!$B:$B&'Data Table'!$A:$A,0)),\"\")","v":"IMTPR"},{"$f":"IFERROR(INDEX('Data Table'!$CC:$CC,MATCH($A$3 & D$8,'Data Table'!$B:$B&'Data Table'!$A:$A,0)),\"\")","v":""},{"$f":"IFERROR(INDEX('Data Table'!$CC:$CC,MATCH($A$3 & E$8,'Data Table'!$B:$B&'Data Table'!$A:$A,0)),\"\")","v":""},{"$f":"IFERROR(INDEX('Data Table'!$CC:$CC,MATCH($A$3 & F$8,'Data Table'!$B:$B&'Data Table'!$A:$A,0)),\"\")","v":""},{"$f":"IFERROR(INDEX('Data Table'!$CC:$CC,MATCH($A$3 & G$8,'Data Table'!$B:$B&'Data Table'!$A:$A,0)),\"\")","v":""},{"$f":"IFERROR(INDEX('Data Table'!$CC:$CC,MATCH($A$3 & H$8,'Data Table'!$B:$B&'Data Table'!$A:$A,0)),\"\")","v":""},{"$f":"IFERROR(INDEX('Data Table'!$CC:$CC,MATCH($A$3 & I$8,'Data Table'!$B:$B&'Data Table'!$A:$A,0)),\"\")","v":""},{"$f":"IFERROR(INDEX('Data Table'!$CC:$CC,MATCH($A$3 & J$8,'Data Table'!$B:$B&'Data Table'!$A:$A,0)),\"\")","v":""},{"$f":"IFERROR(INDEX('Data Table'!$CC:$CC,MATCH($A$3 & K$8,'Data Table'!$B:$B&'Data Table'!$A:$A,0)),\"\")","v":""},{"$f":"IFERROR(INDEX('Data Table'!$CC:$CC,MATCH($A$3 & L$8,'Data Table'!$B:$B&'Data Table'!$A:$A,0)),\"\")","v":""},{"$f":"IFERROR(INDEX('Data Table'!$CC:$CC,MATCH($A$3 & M$8,'Data Table'!$B:$B&'Data Table'!$A:$A,0)),\"\")","v":""},{"$f":"IFERROR(INDEX('Data Table'!$CC:$CC,MATCH($A$3 & N$8,'Data Table'!$B:$B&'Data Table'!$A:$A,0)),\"\")","v":""},{"$f":"IFERROR(INDEX('Data Table'!$CC:$CC,MATCH($A$3 & O$8,'Data Table'!$B:$B&'Data Table'!$A:$A,0)),\"\")","v":""},{"$f":"IFERROR(INDEX('Data Table'!$CC:$CC,MATCH($A$3 & P$8,'Data Table'!$B:$B&'Data Table'!$A:$A,0)),\"\")","v":""},{"$f":"IFERROR($Q$5*(Norms!B85)/100, \"No Data\")","v":"No Data"}]
["Other1","Left",{"$f":"IFERROR(INDEX('Data Table'!$CD:$CD,MATCH($A$3 & C$8,'Data Table'!$B:$B&'Data Table'!$A:$A,0)),\"\")","v":"OthL"},{"$f":"IFERROR(INDEX('Data Table'!$CD:$CD,MATCH($A$3 & D$8,'Data Table'!$B:$B&'Data Table'!$A:$A,0)),\"\")","v":""},{"$f":"IFERROR(INDEX('Data Table'!$CD:$CD,MATCH($A$3 & E$8,'Data Table'!$B:$B&'Data Table'!$A:$A,0)),\"\")","v":""},{"$f":"IFERROR(INDEX('Data Table'!$CD:$CD,MATCH($A$3 & F$8,'Data Table'!$B:$B&'Data Table'!$A:$A,0)),\"\")","v":""},{"$f":"IFERROR(INDEX('Data Table'!$CD:$CD,MATCH($A$3 & G$8,'Data Table'!$B:$B&'Data Table'!$A:$A,0)),\"\")","v":""},{"$f":"IFERROR(INDEX('Data Table'!$CD:$CD,MATCH($A$3 & H$8,'Data Table'!$B:$B&'Data Table'!$A:$A,0)),\"\")","v":""},{"$f":"IFERROR(INDEX('Data Table'!$CD:$CD,MATCH($A$3 & I$8,'Data Table'!$B:$B&'Data Table'!$A:$A,0)),\"\")","v":""},{"$f":"IFERROR(INDEX('Data Table'!$CD:$CD,MATCH($A$3 & J$8,'Data Table'!$B:$B&'Data Table'!$A:$A,0)),\"\")","v":""},{"$f":"IFERROR(INDEX('Data Table'!$CD:$CD,MATCH($A$3 & K$8,'Data Table'!$B:$B&'Data Table'!$A:$A,0)),\"\")","v":""},{"$f":"IFERROR(INDEX('Data Table'!$CD:$CD,MATCH($A$3 & L$8,'Data Table'!$B:$B&'Data Table'!$A:$A,0)),\"\")","v":""},{"$f":"IFERROR(INDEX('Data Table'!$CD:$CD,MATCH($A$3 & M$8,'Data Table'!$B:$B&'Data Table'!$A:$A,0)),\"\")","v":""},{"$f":"IFERROR(INDEX('Data Table'!$CD:$CD,MATCH($A$3 & N$8,'Data Table'!$B:$B&'Data Table'!$A:$A,0)),\"\")","v":""},{"$f":"IFERROR(INDEX('Data Table'!$CD:$CD,MATCH($A$3 & O$8,'Data Table'!$B:$B&'Data Table'!$A:$A,0)),\"\")","v":""},{"$f":"IFERROR(INDEX('Data Table'!$CD:$CD,MATCH($A$3 & P$8,'Data Table'!$B:$B&'Data Table'!$A:$A,0)),\"\")","v":""},"No Data"]
["Other1","Right",{"$f":"IFERROR(INDEX('Data Table'!$CE:$CE,MATCH($A$3 & C$8,'Data Table'!$B:$B&'Data Table'!$A:$A,0)),\"\")","v":"OthR"},{"$f":"IFERROR(INDEX('Data Table'!$CE:$CE,MATCH($A$3 & D$8,'Data Table'!$B:$B&'Data Table'!$A:$A,0)),\"\")","v":""},{"$f":"IFERROR(INDEX('Data Table'!$CE:$CE,MATCH($A$3 & E$8,'Data Table'!$B:$B&'Data Table'!$A:$A,0)),\"\")","v":""},{"$f":"IFERROR(INDEX('Data Table'!$CE:$CE,MATCH($A$3 & F$8,'Data Table'!$B:$B&'Data Table'!$A:$A,0)),\"\")","v":""},{"$f":"IFERROR(INDEX('Data Table'!$CE:$CE,MATCH($A$3 & G$8,'Data Table'!$B:$B&'Data Table'!$A:$A,0)),\"\")","v":""},{"$f":"IFERROR(INDEX('Data Table'!$CE:$CE,MATCH($A$3 & H$8,'Data Table'!$B:$B&'Data Table'!$A:$A,0)),\"\")","v":""},{"$f":"IFERROR(INDEX('Data Table'!$CE:$CE,MATCH($A$3 & I$8,'Data Table'!$B:$B&'Data Table'!$A:$A,0)),\"\")","v":""},{"$f":"IFERROR(INDEX('Data Table'!$CE:$CE,MATCH($A$3 & J$8,'Data Table'!$B:$B&'Data Table'!$A:$A,0)),\"\")","v":""},{"$f":"IFERROR(INDEX('Data Table'!$CE:$CE,MATCH($A$3 & K$8,'Data Table'!$B:$B&'Data Table'!$A:$A,0)),\"\")","v":""},{"$f":"IFERROR(INDEX('Data Table'!$CE:$CE,MATCH($A$3 & L$8,'Data Table'!$B:$B&'Data Table'!$A:$A,0)),\"\")","v":""},{"$f":"IFERROR(INDEX('Data Table'!$CE:$CE,MATCH($A$3 & M$8,'Data Table'!$B:$B&'Data Table'!$A:$A,0)),\"\")","v":""},{"$f":"IFERROR(INDEX('Data Table'!$CE:$CE,MATCH($A$3 & N$8,'Data Table'!$B:$B&'Data Table'!$A:$A,0)),\"\")","v":""},{"$f":"IFERROR(INDEX('Data Table'!$CE:$CE,MATCH($A$3 & O$8,'Data Table'!$B:$B&'Data Table'!$A:$A,0)),\"\")","v":""},{"$f":"IFERROR(INDEX('Data Table'!$CE:$CE,MATCH($A$3 & P$8,'Data Table'!$B:$B&'Data Table'!$A:$A,0)),\"\")","v":""},"No Data"]
["Other2","Left",{"$f":"IFERROR(INDEX('Data Table'!$CF:$CF,MATCH($A$3 & C$8,'Data Table'!$B:$B&'Data Table'!$A:$A,0)),\"\")","v":"Oth2L"},{"$f":"IFERROR(INDEX('Data Table'!$CF:$CF,MATCH($A$3 & D$8,'Data Table'!$B:$B&'Data Table'!$A:$A,0)),\"\")","v":""},{"$f":"IFERROR(INDEX('Data Table'!$CF:$CF,MATCH($A$3 & E$8,'Data Table'!$B:$B&'Data Table'!$A:$A,0)),\"\")","v":""},{"$f":"IFERROR(INDEX('Data Table'!$CF:$CF,MATCH($A$3 & F$8,'Data Table'!$B:$B&'Data Table'!$A:$A,0)),\"\")","v":""},{"$f":"IFERROR(INDEX('Data Table'!$CF:$CF,MATCH($A$3 & G$8,'Data Table'!$B:$B&'Data Table'!$A:$A,0)),\"\")","v":""},{"$f":"IFERROR(INDEX('Data Table'!$CF:$CF,MATCH($A$3 & H$8,'Data Table'!$B:$B&'Data Table'!$A:$A,0)),\"\")","v":""},{"$f":"IFERROR(INDEX('Data Table'!$CF:$CF,MATCH($A$3 & I$8,'Data Table'!$B:$B&'Data Table'!$A:$A,0)),\"\")","v":""},{"$f":"IFERROR(INDEX('Data Table'!$CF:$CF,MATCH($A$3 & J$8,'Data Table'!$B:$B&'Data Table'!$A:$A,0)),\"\")","v":""},{"$f":"IFERROR(INDEX('Data Table'!$CF:$CF,MATCH($A$3 & K$8,'Data Table'!$B:$B&'Data Table'!$A:$A,0)),\"\")","v":""},{"$f":"IFERROR(INDEX('Data Table'!$CF:$CF,MATCH($A$3 & L$8,'Data Table'!$B:$B&'Data Table'!$A:$A,0)),\"\")","v":""},{"$f":"IFERROR(INDEX('Data Table'!$CF:$CF,MATCH($A$3 & M$8,'Data Table'!$B:$B&'Data Table'!$A:$A,0)),\"\")","v":""},{"$f":"IFERROR(INDEX('Data Table'!$CF:$CF,MATCH($A$3 & N$8,'Data Table'!$B:$B&'Data Table'!$A:$A,0)),\"\")","v":""},{"$f":"IFERROR(INDEX('Data Table'!$CF:$CF,MATCH($A$3 & O$8,'Data Table'!$B:$B&'Data Table'!$A:$A,0)),\"\")","v":""},{"$f":"IFERROR(INDEX('Data Table'!$CF:$CF,MATCH($A$3 & P$8,'Data Table'!$B:$B&'Data Table'!$A:$A,0)),\"\")","v":""},"No Data"]
["Other2","Right",{"$f":"IFERROR(INDEX('Data Table'!$CG:$CG,MATCH($A$3 & C$8,'Data Table'!$B:$B&'Data Table'!$A:$A,0)),\"\")","v":"Oth2R"},{"$f":"IFERROR(INDEX('Data Table'!$CG:$CG,MATCH($A$3 & D$8,'Data Table'!$B:$B&'Data Table'!$A:$A,0)),\"\")","v":""},{"$f":"IFERROR(INDEX('Data Table'!$CG:$CG,MATCH($A$3 & E$8,'Data Table'!$B:$B&'Data Table'!$A:$A,0)),\"\")","v":""},{"$f":"IFERROR(INDEX('Data Table'!$CG:$CG,MATCH($A$3 & F$8,'Data Table'!$B:$B&'Data Table'!$A:$A,0)),\"\")","v":""},{"$f":"IFERROR(INDEX('Data Table'!$CG:$CG,MATCH($A$3 & G$8,'Data Table'!$B:$B&'Data Table'!$A:$A,0)),\"\")","v":""},{"$f":"IFERROR(INDEX('Data Table'!$CG:$CG,MATCH($A$3 & H$8,'Data Table'!$B:$B&'Data Table'!$A:$A,0)),\"\")","v":""},{"$f":"IFERROR(INDEX('Data Table'!$CG:$CG,MATCH($A$3 & I$8,'Data Table'!$B:$B&'Data Table'!$A:$A,0)),\"\")","v":""},{"$f":"IFERROR(INDEX('Data Table'!$CG:$CG,MATCH($A$3 & J$8,'Data Table'!$B:$B&'Data Table'!$A:$A,0)),\"\")","v":""},{"$f":"IFERROR(INDEX('Data Table'!$CG:$CG,MATCH($A$3 & K$8,'Data Table'!$B:$B&'Data Table'!$A:$A,0)),\"\")","v":""},{"$f":"IFERROR(INDEX('Data Table'!$CG:$CG,MATCH($A$3 & L$8,'Data Table'!$B:$B&'Data Table'!$A:$A,0)),\"\")","v":""},{"$f":"IFERROR(INDEX('Data Table'!$CG:$CG,MATCH($A$3 & M$8,'Data Table'!$B:$B&'Data Table'!$A:$A,0)),\"\")","v":""},{"$f":"IFERROR(INDEX('Data Table'!$CG:$CG,MATCH($A$3 & N$8,'Data Table'!$B:$B&'Data Table'!$A:$A,0)),\"\")","v":""},{"$f":"IFERROR(INDEX('Data Table'!$CG:$CG,MATCH($A$3 & O$8,'Data Table'!$B:$B&'Data Table'!$A:$A,0)),\"\")","v":""},{"$f":"IFERROR(INDEX('Data Table'!$CG:$CG,MATCH($A$3 & P$8,'Data Table'!$B:$B&'Data Table'!$A:$A,0)),\"\")","v":""},"No Data"]
["Shoulder ABduction","Left",{"$f":"IFERROR(INDEX('Data Table'!$V:$V,MATCH($A$3 & C$8,'Data Table'!$B:$B&'Data Table'!$A:$A,0)),\"\")","v":"ShldAbdL"},{"$f":"IFERROR(INDEX('Data Table'!$V:$V,MATCH($A$3 & D$8,'Data Table'!$B:$B&'Data Table'!$A:$A,0)),\"\")","v":""},{"$f":"IFERROR(INDEX('Data Table'!$V:$V,MATCH($A$3 & E$8,'Data Table'!$B:$B&'Data Table'!$A:$A,0)),\"\")","v":""},{"$f":"IFERROR(INDEX('Data Table'!$V:$V,MATCH($A$3 & F$8,'Data Table'!$B:$B&'Data Table'!$A:$A,0)),\"\")","v":""},{"$f":"IFERROR(INDEX('Data Table'!$V:$V,MATCH($A$3 & G$8,'Data Table'!$B:$B&'Data Table'!$A:$A,0)),\"\")","v":""},{"$f":"IFERROR(INDEX('Data Table'!$V:$V,MATCH($A$3 & H$8,'Data Table'!$B:$B&'Data Table'!$A:$A,0)),\"\")","v":""},{"$f":"IFERROR(INDEX('Data Table'!$V:$V,MATCH($A$3 & I$8,'Data Table'!$B:$B&'Data Table'!$A:$A,0)),\"\")","v":""},{"$f":"IFERROR(INDEX('Data Table'!$V:$V,MATCH($A$3 & J$8,'Data Table'!$B:$B&'Data Table'!$A:$A,0)),\"\")","v":""},{"$f":"IFERROR(INDEX('Data Table'!$V:$V,MATCH($A$3 & K$8,'Data Table'!$B:$B&'Data Table'!$A:$A,0)),\"\")","v":""},{"$f":"IFERROR(INDEX('Data Table'!$V:$V,MATCH($A$3 & L$8,'Data Table'!$B:$B&'Data Table'!$A:$A,0)),\"\")","v":""},{"$f":"IFERROR(INDEX('Data Table'!$V:$V,MATCH($A$3 & M$8,'Data Table'!$B:$B&'Data Table'!$A:$A,0)),\"\")","v":""},{"$f":"IFERROR(INDEX('Data Table'!$V:$V,MATCH($A$3 & N$8,'Data Table'!$B:$B&'Data Table'!$A:$A,0)),\"\")","v":""},{"$f":"IFERROR(INDEX('Data Table'!$V:$V,MATCH($A$3 & O$8,'Data Table'!$B:$B&'Data Table'!$A:$A,0)),\"\")","v":""},{"$f":"IFERROR(INDEX('Data Table'!$V:$V,MATCH($A$3 & P$8,'Data Table'!$B:$B&'Data Table'!$A:$A,0)),\"\")","v":""},{"$f":"IFERROR($Q$5*(Norms!B4)/100, \"No Data\")","v":"No Data"}]
["Shoulder ABduction","Right",{"$f":"IFERROR(INDEX('Data Table'!$W:$W,MATCH($A$3 & C$8,'Data Table'!$B:$B&'Data Table'!$A:$A,0)),\"\")","v":"ShldAbdR"},{"$f":"IFERROR(INDEX('Data Table'!$W:$W,MATCH($A$3 & D$8,'Data Table'!$B:$B&'Data Table'!$A:$A,0)),\"\")","v":""},{"$f":"IFERROR(INDEX('Data Table'!$W:$W,MATCH($A$3 & E$8,'Data Table'!$B:$B&'Data Table'!$A:$A,0)),\"\")","v":""},{"$f":"IFERROR(INDEX('Data Table'!$W:$W,MATCH($A$3 & F$8,'Data Table'!$B:$B&'Data Table'!$A:$A,0)),\"\")","v":""},{"$f":"IFERROR(INDEX('Data Table'!$W:$W,MATCH($A$3 & G$8,'Data Table'!$B:$B&'Data Table'!$A:$A,0)),\"\")","v":""},{"$f":"IFERROR(INDEX('Data Table'!$W:$W,MATCH($A$3 & H$8,'Data Table'!$B:$B&'Data Table'!$A:$A,0)),\"\")","v":""},{"$f":"IFERROR(INDEX('Data Table'!$W:$W,MATCH($A$3 & I$8,'Data Table'!$B:$B&'Data Table'!$A:$A,0)),\"\")","v":""},{"$f":"IFERROR(INDEX('Data Table'!$W:$W,MATCH($A$3 & J$8,'Data Table'!$B:$B&'Data Table'!$A:$A,0)),\"\")","v":""},{"$f":"IFERROR(INDEX('Data Table'!$W:$W,MATCH($A$3 & K$8,'Data Table'!$B:$B&'Data Table'!$A:$A,0)),\"\")","v":""},{"$f":"IFERROR(INDEX('Data Table'!$W:$W,MATCH($A$3 & L$8,'Data Table'!$B:$B&'Data Table'!$A:$A,0)),\"\")","v":""},{"$f":"IFERROR(INDEX('Data Table'!$W:$W,MATCH($A$3 & M$8,'Data Table'!$B:$B&'Data Table'!$A:$A,0)),\"\")","v":""},{"$f":"IFERROR(INDEX('Data Table'!$W:$W,MATCH($A$3 & N$8,'Data Table'!$B:$B&'Data Table'!$A:$A,0)),\"\")","v":""},{"$f":"IFERROR(INDEX('Data Table'!$W:$W,MATCH($A$3 & O$8,'Data Table'!$B:$B&'Data Table'!$A:$A,0)),\"\")","v":""},{"$f":"IFERROR(INDEX('Data Table'!$W:$W,MATCH($A$3 & P$8,'Data Table'!$B:$B&'Data Table'!$A:$A,0)),\"\")","v":""},{"$f":"IFERROR($Q$5*(Norms!B4)/100, \"No Data\")","v":"No Data"}]
["Shoulder Elevation","Left",{"$f":"IFERROR(INDEX('Data Table'!$X:$X,MATCH($A$3 & C$8,'Data Table'!$B:$B&'Data Table'!$A:$A,0)),\"\")","v":"ShldElevL"},{"$f":"IFERROR(INDEX('Data Table'!$X:$X,MATCH($A$3 & D$8,'Data Table'!$B:$B&'Data Table'!$A:$A,0)),\"\")","v":""},{"$f":"IFERROR(INDEX('Data Table'!$X:$X,MATCH($A$3 & E$8,'Data Table'!$B:$B&'Data Table'!$A:$A,0)),\"\")","v":""},{"$f":"IFERROR(INDEX('Data Table'!$X:$X,MATCH($A$3 & F$8,'Data Table'!$B:$B&'Data Table'!$A:$A,0)),\"\")","v":""},{"$f":"IFERROR(INDEX('Data Table'!$X:$X,MATCH($A$3 & G$8,'Data Table'!$B:$B&'Data Table'!$A:$A,0)),\"\")","v":""},{"$f":"IFERROR(INDEX('Data Table'!$X:$X,MATCH($A$3 & H$8,'Data Table'!$B:$B&'Data Table'!$A:$A,0)),\"\")","v":""},{"$f":"IFERROR(INDEX('Data Table'!$X:$X,MATCH($A$3 & I$8,'Data Table'!$B:$B&'Data Table'!$A:$A,0)),\"\")","v":""},{"$f":"IFERROR(INDEX('Data Table'!$X:$X,MATCH($A$3 & J$8,'Data Table'!$B:$B&'Data Table'!$A:$A,0)),\"\")","v":""},{"$f":"IFERROR(INDEX('Data Table'!$X:$X,MATCH($A$3 & K$8,'Data Table'!$B:$B&'Data Table'!$A:$A,0)),\"\")","v":""},{"$f":"IFERROR(INDEX('Data Table'!$X:$X,MATCH($A$3 & L$8,'Data Table'!$B:$B&'Data Table'!$A:$A,0)),\"\")","v":""},{"$f":"IFERROR(INDEX('Data Table'!$X:$X,MATCH($A$3 & M$8,'Data Table'!$B:$B&'Data Table'!$A:$A,0)),\"\")","v":""},{"$f":"IFERROR(INDEX('Data Table'!$X:$X,MATCH($A$3 & N$8,'Data Table'!$B:$B&'Data Table'!$A:$A,0)),\"\")","v":""},{"$f":"IFERROR(INDEX('Data Table'!$X:$X,MATCH($A$3 & O$8,'Data Table'!$B:$B&'Data Table'!$A:$A,0)),\"\")","v":""},{"$f":"IFERROR(INDEX('Data Table'!$X:$X,MATCH($A$3 & P$8,'Data Table'!$B:$B&'Data Table'!$A:$A,0)),\"\")","v":""},{"$f":"IFERROR($Q$5*(Norms!B25)/100, \"No Data\")","v":"No Data"}]
["Shoulder Elevation","Right",{"$f":"IFERROR(INDEX('Data Table'!$Y:$Y,MATCH($A$3 & C$8,'Data Table'!$B:$B&'Data Table'!$A:$A,0)),\"\")","v":"ShldElevR"},{"$f":"IFERROR(INDEX('Data Table'!$Y:$Y,MATCH($A$3 & D$8,'Data Table'!$B:$B&'Data Table'!$A:$A,0)),\"\")","v":""},{"$f":"IFERROR(INDEX('Data Table'!$Y:$Y,MATCH($A$3 & E$8,'Data Table'!$B:$B&'Data Table'!$A:$A,0)),\"\")","v":""},{"$f":"IFERROR(INDEX('Data Table'!$Y:$Y,MATCH($A$3 & F$8,'Data Table'!$B:$B&'Data Table'!$A:$A,0)),\"\")","v":""},{"$f":"IFERROR(INDEX('Data Table'!$Y:$Y,MATCH($A$3 & G$8,'Data Table'!$B:$B&'Data Table'!$A:$A,0)),\"\")","v":""},{"$f":"IFERROR(INDEX('Data Table'!$Y:$Y,MATCH($A$3 & H$8,'Data Table'!$B:$B&'Data Table'!$A:$A,0)),\"\")","v":""},{"$f":"IFERROR(INDEX('Data Table'!$Y:$Y,MATCH($A$3 & I$8,'Data Table'!$B:$B&'Data Table'!$A:$A,0)),\"\")","v":""},{"$f":"IFERROR(INDEX('Data Table'!$Y:$Y,MATCH($A$3 & J$8,'Data Table'!$B:$B&'Data Table'!$A:$A,0)),\"\")","v":""},{"$f":"IFERROR(INDEX('Data Table'!$Y:$Y,MATCH($A$3 & K$8,'Data Table'!$B:$B&'Data Table'!$A:$A,0)),\"\")","v":""},{"$f":"IFERROR(INDEX('Data Table'!$Y:$Y,MATCH($A$3 & L$8,'Data Table'!$B:$B&'Data Table'!$A:$A,0)),\"\")","v":""},{"$f":"IFERROR(INDEX('Data Table'!$Y:$Y,MATCH($A$3 & M$8,'Data Table'!$B:$B&'Data Table'!$A:$A,0)),\"\")","v":""},{"$f":"IFERROR(INDEX('Data Table'!$Y:$Y,MATCH($A$3 & N$8,'Data Table'!$B:$B&'Data Table'!$A:$A,0)),\"\")","v":""},{"$f":"IFERROR(INDEX('Data Table'!$Y:$Y,MATCH($A$3 & O$8,'Data Table'!$B:$B&'Data Table'!$A:$A,0)),\"\")","v":""},{"$f":"IFERROR(INDEX('Data Table'!$Y:$Y,MATCH($A$3 & P$8,'Data Table'!$B:$B&'Data Table'!$A:$A,0)),\"\")","v":""},{"$f":"IFERROR($Q$5*(Norms!B25)/100, \"No Data\")","v":"No Data"}]
["Shoulder ER @ 0*","Left",{"$f":"IFERROR(INDEX('Data Table'!$Z:$Z,MATCH($A$3 & C$8,'Data Table'!$B:$B&'Data Table'!$A:$A,0)),\"\")","v":"ShldER90L"},{"$f":"IFERROR(INDEX('Data Table'!$Z:$Z,MATCH($A$3 & D$8,'Data Table'!$B:$B&'Data Table'!$A:$A,0)),\"\")","v":""},{"$f":"IFERROR(INDEX('Data Table'!$Z:$Z,MATCH($A$3 & E$8,'Data Table'!$B:$B&'Data Table'!$A:$A,0)),\"\")","v":""},{"$f":"IFERROR(INDEX('Data Table'!$Z:$Z,MATCH($A$3 & F$8,'Data Table'!$B:$B&'Data Table'!$A:$A,0)),\"\")","v":""},{"$f":"IFERROR(INDEX('Data Table'!$Z:$Z,MATCH($A$3 & G$8,'Data Table'!$B:$B&'Data Table'!$A:$A,0)),\"\")","v":""},{"$f":"IFERROR(INDEX('Data Table'!$Z:$Z,MATCH($A$3 & H$8,'Data Table'!$B:$B&'Data Table'!$A:$A,0)),\"\")","v":""},{"$f":"IFERROR(INDEX('Data Table'!$Z:$Z,MATCH($A$3 & I$8,'Data Table'!$B:$B&'Data Table'!$A:$A,0)),\"\")","v":""},{"$f":"IFERROR(INDEX('Data Table'!$Z:$Z,MATCH($A$3 & J$8,'Data Table'!$B:$B&'Data Table'!$A:$A,0)),\"\")","v":""},{"$f":"IFERROR(INDEX('Data Table'!$Z:$Z,MATCH($A$3 & K$8,'Data Table'!$B:$B&'Data Table'!$A:$A,0)),\"\")","v":""},{"$f":"IFERROR(INDEX('Data Table'!$Z:$Z,MATCH($A$3 & L$8,'Data Table'!$B:$B&'Data Table'!$A:$A,0)),\"\")","v":""},{"$f":"IFERROR(INDEX('Data Table'!$Z:$Z,MATCH($A$3 & M$8,'Data Table'!$B:$B&'Data Table'!$A:$A,0)),\"\")","v":""},{"$f":"IFERROR(INDEX('Data Table'!$Z:$Z,MATCH($A$3 & N$8,'Data Table'!$B:$B&'Data Table'!$A:$A,0)),\"\")","v":""},{"$f":"IFERROR(INDEX('Data Table'!$Z:$Z,MATCH($A$3 & O$8,'Data Table'!$B:$B&'Data Table'!$A:$A,0)),\"\")","v":""},{"$f":"IFERROR(INDEX('Data Table'!$Z:$Z,MATCH($A$3 & P$8,'Data Table'!$B:$B&'Data Table'!$A:$A,0)),\"\")","v":""},{"$f":"IFERROR($Q$5*(Norms!B16)/100, \"No Data\")","v":"No Data"}]
["Shoulder ER @ 0*","Right",{"$f":"IFERROR(INDEX('Data Table'!$AA:$AA,MATCH($A$3 & C$8,'Data Table'!$B:$B&'Data Table'!$A:$A,0)),\"\")","v":"ShldER90R"},{"$f":"IFERROR(INDEX('Data Table'!$AA:$AA,MATCH($A$3 & D$8,'Data Table'!$B:$B&'Data Table'!$A:$A,0)),\"\")","v":""},{"$f":"IFERROR(INDEX('Data Table'!$AA:$AA,MATCH($A$3 & E$8,'Data Table'!$B:$B&'Data Table'!$A:$A,0)),\"\")","v":""},{"$f":"IFERROR(INDEX('Data Table'!$AA:$AA,MATCH($A$3 & F$8,'Data Table'!$B:$B&'Data Table'!$A:$A,0)),\"\")","v":""},{"$f":"IFERROR(INDEX('Data Table'!$AA:$AA,MATCH($A$3 & G$8,'Data Table'!$B:$B&'Data Table'!$A:$A,0)),\"\")","v":""},{"$f":"IFERROR(INDEX('Data Table'!$AA:$AA,MATCH($A$3 & H$8,'Data Table'!$B:$B&'Data Table'!$A:$A,0)),\"\")","v":""},{"$f":"IFERROR(INDEX('Data Table'!$AA:$AA,MATCH($A$3 & I$8,'Data Table'!$B:$B&'Data Table'!$A:$A,0)),\"\")","v":""},{"$f":"IFERROR(INDEX('Data Table'!$AA:$AA,MATCH($A$3 & J$8,'Data Table'!$B:$B&'Data Table'!$A:$A,0)),\"\")","v":""},{"$f":"IFERROR(INDEX('Data Table'!$AA:$AA,MATCH($A$3 & K$8,'Data Table'!$B:$B&'Data Table'!$A:$A,0)),\"\")","v":""},{"$f":"IFERROR(INDEX('Data Table'!$AA:$AA,MATCH($A$3 & L$8,'Data Table'!$B:$B&'Data Table'!$A:$A,0)),\"\")","v":""},{"$f":"IFERROR(INDEX('Data Table'!$AA:$AA,MATCH($A$3 & M$8,'Data Table'!$B:$B&'Data Table'!$A:$A,0)),\"\")","v":""},{"$f":"IFERROR(INDEX('Data Table'!$AA:$AA,MATCH($A$3 & N$8,'Data Table'!$B:$B&'Data Table'!$A:$A,0)),\"\")","v":""},{"$f":"IFERROR(INDEX('Data Table'!$AA:$AA,MATCH($A$3 & O$8,'Data Table'!$B:$B&'Data Table'!$A:$A,0)),\"\")","v":""},{"$f":"IFERROR(INDEX('Data Table'!$AA:$AA,MATCH($A$3 & P$8,'Data Table'!$B:$B&'Data Table'!$A:$A,0)),\"\")","v":""},{"$f":"IFERROR($Q$5*(Norms!B16)/100, \"No Data\")","v":"No Data"}]
["Shoulder ER 0/90","Left",{"$f":"IFERROR(INDEX('Data Table'!$AB:$AB,MATCH($A$3 & C$8,'Data Table'!$B:$B&'Data Table'!$A:$A,0)),\"\")","v":"ShldER090L"},{"$f":"IFERROR(INDEX('Data Table'!$AB:$AB,MATCH($A$3 & D$8,'Data Table'!$B:$B&'Data Table'!$A:$A,0)),\"\")","v":""},{"$f":"IFERROR(INDEX('Data Table'!$AB:$AB,MATCH($A$3 & E$8,'Data Table'!$B:$B&'Data Table'!$A:$A,0)),\"\")","v":""},{"$f":"IFERROR(INDEX('Data Table'!$AB:$AB,MATCH($A$3 & F$8,'Data Table'!$B:$B&'Data Table'!$A:$A,0)),\"\")","v":""},{"$f":"IFERROR(INDEX('Data Table'!$AB:$AB,MATCH($A$3 & G$8,'Data Table'!$B:$B&'Data Table'!$A:$A,0)),\"\")","v":""},{"$f":"IFERROR(INDEX('Data Table'!$AB:$AB,MATCH($A$3 & H$8,'Data Table'!$B:$B&'Data Table'!$A:$A,0)),\"\")","v":""},{"$f":"IFERROR(INDEX('Data Table'!$AB:$AB,MATCH($A$3 & I$8,'Data Table'!$B:$B&'Data Table'!$A:$A,0)),\"\")","v":""},{"$f":"IFERROR(INDEX('Data Table'!$AB:$AB,MATCH($A$3 & J$8,'Data Table'!$B:$B&'Data Table'!$A:$A,0)),\"\")","v":""},{"$f":"IFERROR(INDEX('Data Table'!$AB:$AB,MATCH($A$3 & K$8,'Data Table'!$B:$B&'Data Table'!$A:$A,0)),\"\")","v":""},{"$f":"IFERROR(INDEX('Data Table'!$AB:$AB,MATCH($A$3 & L$8,'Data Table'!$B:$B&'Data Table'!$A:$A,0)),\"\")","v":""},{"$f":"IFERROR(INDEX('Data Table'!$AB:$AB,MATCH($A$3 & M$8,'Data Table'!$B:$B&'Data Table'!$A:$A,0)),\"\")","v":""},{"$f":"IFERROR(INDEX('Data Table'!$AB:$AB,MATCH($A$3 & N$8,'Data Table'!$B:$B&'Data Table'!$A:$A,0)),\"\")","v":""},{"$f":"IFERROR(INDEX('Data Table'!$AB:$AB,MATCH($A$3 & O$8,'Data Table'!$B:$B&'Data Table'!$A:$A,0)),\"\")","v":""},{"$f":"IFERROR(INDEX('Data Table'!$AB:$AB,MATCH($A$3 & P$8,'Data Table'!$B:$B&'Data Table'!$A:$A,0)),\"\")","v":""},{"$f":"IFERROR($Q$5*(Norms!B18)/100, \"No Data\")","v":"No Data"}]
["Shoulder ER 0/90","Right",{"$f":"IFERROR(INDEX('Data Table'!$AC:$AC,MATCH($A$3 & C$8,'Data Table'!$B:$B&'Data Table'!$A:$A,0)),\"\")","v":"ShldER090R"},{"$f":"IFERROR(INDEX('Data Table'!$AC:$AC,MATCH($A$3 & D$8,'Data Table'!$B:$B&'Data Table'!$A:$A,0)),\"\")","v":""},{"$f":"IFERROR(INDEX('Data Table'!$AC:$AC,MATCH($A$3 & E$8,'Data Table'!$B:$B&'Data Table'!$A:$A,0)),\"\")","v":""},{"$f":"IFERROR(INDEX('Data Table'!$AC:$AC,MATCH($A$3 & F$8,'Data Table'!$B:$B&'Data Table'!$A:$A,0)),\"\")","v":""},{"$f":"IFERROR(INDEX('Data Table'!$AC:$AC,MATCH($A$3 & G$8,'Data Table'!$B:$B&'Data Table'!$A:$A,0)),\"\")","v":""},{"$f":"IFERROR(INDEX('Data Table'!$AC:$AC,MATCH($A$3 & H$8,'Data Table'!$B:$B&'Data Table'!$A:$A,0)),\"\")","v":""},{"$f":"IFERROR(INDEX('Data Table'!$AC:$AC,MATCH($A$3 & I$8,'Data Table'!$B:$B&'Data Table'!$A:$A,0)),\"\")","v":""},{"$f":"IFERROR(INDEX('Data Table'!$AC:$AC,MATCH($A$3 & J$8,'Data Table'!$B:$B&'Data Table'!$A:$A,0)),\"\")","v":""},{"$f":"IFERROR(INDEX('Data Table'!$AC:$AC,MATCH($A$3 & K$8,'Data Table'!$B:$B&'Data Table'!$A:$A,0)),\"\")","v":""},{"$f":"IFERROR(INDEX('Data Table'!$AC:$AC,MATCH($A$3 & L$8,'Data Table'!$B:$B&'Data Table'!$A:$A,0)),\"\")","v":""},{"$f":"IFERROR(INDEX('Data Table'!$AC:$AC,MATCH($A$3 & M$8,'Data Table'!$B:$B&'Data Table'!$A:$A,0)),\"\")","v":""},{"$f":"IFERROR(INDEX('Data Table'!$AC:$AC,MATCH($A$3 & N$8,'Data Table'!$B:$B&'Data Table'!$A:$A,0)),\"\")","v":""},{"$f":"IFERROR(INDEX('Data Table'!$AC:$AC,MATCH($A$3 & O$8,'Data Table'!$B:$B&'Data Table'!$A:$A,0)),\"\")","v":""},{"$f":"IFERROR(INDEX('Data Table'!$AC:$AC,MATCH($A$3 & P$8,'Data Table'!$B:$B&'Data Table'!$A:$A,0)),\"\")","v":""},{"$f":"IFERROR($Q$5*(Norms!B18)/100, \"No Data\")","v":"No Data"}]
["Shoulder ER 90/90","Left",{"$f":"IFERROR(INDEX('Data Table'!$AD:$AD,MATCH($A$3 & C$8,'Data Table'!$B:$B&'Data Table'!$A:$A,0)),\"\")","v":"ShldER9090L"},{"$f":"IFERROR(INDEX('Data Table'!$AD:$AD,MATCH($A$3 & D$8,'Data Table'!$B:$B&'Data Table'!$A:$A,0)),\"\")","v":""},{"$f":"IFERROR(INDEX('Data Table'!$AD:$AD,MATCH($A$3 & E$8,'Data Table'!$B:$B&'Data Table'!$A:$A,0)),\"\")","v":""},{"$f":"IFERROR(INDEX('Data Table'!$AD:$AD,MATCH($A$3 & F$8,'Data Table'!$B:$B&'Data Table'!$A:$A,0)),\"\")","v":""},{"$f":"IFERROR(INDEX('Data Table'!$AD:$AD,MATCH($A$3 & G$8,'Data Table'!$B:$B&'Data Table'!$A:$A,0)),\"\")","v":""},{"$f":"IFERROR(INDEX('Data Table'!$AD:$AD,MATCH($A$3 & H$8,'Data Table'!$B:$B&'Data Table'!$A:$A,0)),\"\")","v":""},{"$f":"IFERROR(INDEX('Data Table'!$AD:$AD,MATCH($A$3 & I$8,'Data Table'!$B:$B&'Data Table'!$A:$A,0)),\"\")","v":""},{"$f":"IFERROR(INDEX('Data Table'!$AD:$AD,MATCH($A$3 & J$8,'Data Table'!$B:$B&'Data Table'!$A:$A,0)),\"\")","v":""},{"$f":"IFERROR(INDEX('Data Table'!$AD:$AD,MATCH($A$3 & K$8,'Data Table'!$B:$B&'Data Table'!$A:$A,0)),\"\")","v":""},{"$f":"IFERROR(INDEX('Data Table'!$AD:$AD,MATCH($A$3 & L$8,'Data Table'!$B:$B&'Data Table'!$A:$A,0)),\"\")","v":""},{"$f":"IFERROR(INDEX('Data Table'!$AD:$AD,MATCH($A$3 & M$8,'Data Table'!$B:$B&'Data Table'!$A:$A,0)),\"\")","v":""},{"$f":"IFERROR(INDEX('Data Table'!$AD:$AD,MATCH($A$3 & N$8,'Data Table'!$B:$B&'Data Table'!$A:$A,0)),\"\")","v":""},{"$f":"IFERROR(INDEX('Data Table'!$AD:$AD,MATCH($A$3 & O$8,'Data Table'!$B:$B&'Data Table'!$A:$A,0)),\"\")","v":""},{"$f":"IFERROR(INDEX('Data Table'!$AD:$AD,MATCH($A$3 & P$8,'Data Table'!$B:$B&'Data Table'!$A:$A,0)),\"\")","v":""},{"$f":"IFERROR($Q$5*(Norms!B19)/100, \"No Data\")","v":"No Data"}]
["Shoulder ER 90/90","Right",{"$f":"IFERROR(INDEX('Data Table'!$AE:$AE,MATCH($A$3 & C$8,'Data Table'!$B:$B&'Data Table'!$A:$A,0)),\"\")","v":"ShldER9090R"},{"$f":"IFERROR(INDEX('Data Table'!$AE:$AE,MATCH($A$3 & D$8,'Data Table'!$B:$B&'Data Table'!$A:$A,0)),\"\")","v":""},{"$f":"IFERROR(INDEX('Data Table'!$AE:$AE,MATCH($A$3 & E$8,'Data Table'!$B:$B&'Data Table'!$A:$A,0)),\"\")","v":""},{"$f":"IFERROR(INDEX('Data Table'!$AE:$AE,MATCH($A$3 & F$8,'Data Table'!$B:$B&'Data Table'!$A:$A,0)),\"\")","v":""},{"$f":"IFERROR(INDEX('Data Table'!$AE:$AE,MATCH($A$3 & G$8,'Data Table'!$B:$B&'Data Table'!$A:$A,0)),\"\")","v":""},{"$f":"IFERROR(INDEX('Data Table'!$AE:$AE,MATCH($A$3 & H$8,'Data Table'!$B:$B&'Data Table'!$A:$A,0)),\"\")","v":""},{"$f":"IFERROR(INDEX('Data Table'!$AE:$AE,MATCH($A$3 & I$8,'Data Table'!$B:$B&'Data Table'!$A:$A,0)),\"\")","v":""},{"$f":"IFERROR(INDEX('Data Table'!$AE:$AE,MATCH($A$3 & J$8,'Data Table'!$B:$B&'Data Table'!$A:$A,0)),\"\")","v":""},{"$f":"IFERROR(INDEX('Data Table'!$AE:$AE,MATCH($A$3 & K$8,'Data Table'!$B:$B&'Data Table'!$A:$A,0)),\"\")","v":""},{"$f":"IFERROR(INDEX('Data Table'!$AE:$AE,MATCH($A$3 & L$8,'Data Table'!$B:$B&'Data Table'!$A:$A,0)),\"\")","v":""},{"$f":"IFERROR(INDEX('Data Table'!$AE:$AE,MATCH($A$3 & M$8,'Data Table'!$B:$B&'Data Table'!$A:$A,0)),\"\")","v":""},{"$f":"IFERROR(INDEX('Data Table'!$AE:$AE,MATCH($A$3 & N$8,'Data Table'!$B:$B&'Data Table'!$A:$A,0)),\"\")","v":""},{"$f":"IFERROR(INDEX('Data Table'!$AE:$AE,MATCH($A$3 & O$8,'Data Table'!$B:$B&'Data Table'!$A:$A,0)),\"\")","v":""},{"$f":"IFERROR(INDEX('Data Table'!$AE:$AE,MATCH($A$3 & P$8,'Data Table'!$B:$B&'Data Table'!$A:$A,0)),\"\")","v":""},{"$f":"IFERROR($Q$5*(Norms!B19)/100, \"No Data\")","v":"No Data"}]
["Shoulder Extension @ 180*","Left",{"$f":"IFERROR(INDEX('Data Table'!$AJ:$AJ,MATCH($A$3 & C$8,'Data Table'!$B:$B&'Data Table'!$A:$A,0)),\"\")","v":"ShldExt180L"},{"$f":"IFERROR(INDEX('Data Table'!$AJ:$AJ,MATCH($A$3 & D$8,'Data Table'!$B:$B&'Data Table'!$A:$A,0)),\"\")","v":""},{"$f":"IFERROR(INDEX('Data Table'!$AJ:$AJ,MATCH($A$3 & E$8,'Data Table'!$B:$B&'Data Table'!$A:$A,0)),\"\")","v":""},{"$f":"IFERROR(INDEX('Data Table'!$AJ:$AJ,MATCH($A$3 & F$8,'Data Table'!$B:$B&'Data Table'!$A:$A,0)),\"\")","v":""},{"$f":"IFERROR(INDEX('Data Table'!$AJ:$AJ,MATCH($A$3 & G$8,'Data Table'!$B:$B&'Data Table'!$A:$A,0)),\"\")","v":""},{"$f":"IFERROR(INDEX('Data Table'!$AJ:$AJ,MATCH($A$3 & H$8,'Data Table'!$B:$B&'Data Table'!$A:$A,0)),\"\")","v":""},{"$f":"IFERROR(INDEX('Data Table'!$AJ:$AJ,MATCH($A$3 & I$8,'Data Table'!$B:$B&'Data Table'!$A:$A,0)),\"\")","v":""},{"$f":"IFERROR(INDEX('Data Table'!$AJ:$AJ,MATCH($A$3 & J$8,'Data Table'!$B:$B&'Data Table'!$A:$A,0)),\"\")","v":""},{"$f":"IFERROR(INDEX('Data Table'!$AJ:$AJ,MATCH($A$3 & K$8,'Data Table'!$B:$B&'Data Table'!$A:$A,0)),\"\")","v":""},{"$f":"IFERROR(INDEX('Data Table'!$AJ:$AJ,MATCH($A$3 & L$8,'Data Table'!$B:$B&'Data Table'!$A:$A,0)),\"\")","v":""},{"$f":"IFERROR(INDEX('Data Table'!$AJ:$AJ,MATCH($A$3 & M$8,'Data Table'!$B:$B&'Data Table'!$A:$A,0)),\"\")","v":""},{"$f":"IFERROR(INDEX('Data Table'!$AJ:$AJ,MATCH($A$3 & N$8,'Data Table'!$B:$B&'Data Table'!$A:$A,0)),\"\")","v":""},{"$f":"IFERROR(INDEX('Data Table'!$AJ:$AJ,MATCH($A$3 & O$8,'Data Table'!$B:$B&'Data Table'!$A:$A,0)),\"\")","v":""},{"$f":"IFERROR(INDEX('Data Table'!$AJ:$AJ,MATCH($A$3 & P$8,'Data Table'!$B:$B&'Data Table'!$A:$A,0)),\"\")","v":""},{"$f":"IFERROR($Q$5*(Norms!B23)/100, \"No Data\")","v":"No Data"}]
["Shoulder Extension @ 180*","Right",{"$f":"IFERROR(INDEX('Data Table'!$AK:$AK,MATCH($A$3 & C$8,'Data Table'!$B:$B&'Data Table'!$A:$A,0)),\"\")","v":"ShldExt180R"},{"$f":"IFERROR(INDEX('Data Table'!$AK:$AK,MATCH($A$3 & D$8,'Data Table'!$B:$B&'Data Table'!$A:$A,0)),\"\")","v":""},{"$f":"IFERROR(INDEX('Data Table'!$AK:$AK,MATCH($A$3 & E$8,'Data Table'!$B:$B&'Data Table'!$A:$A,0)),\"\")","v":""},{"$f":"IFERROR(INDEX('Data Table'!$AK:$AK,MATCH($A$3 & F$8,'Data Table'!$B:$B&'Data Table'!$A:$A,0)),\"\")","v":""},{"$f":"IFERROR(INDEX('Data Table'!$AK:$AK,MATCH($A$3 & G$8,'Data Table'!$B:$B&'Data Table'!$A:$A,0)),\"\")","v":""},{"$f":"IFERROR(INDEX('Data Table'!$AK:$AK,MATCH($A$3 & H$8,'Data Table'!$B:$B&'Data Table'!$A:$A,0)),\"\")","v":""},{"$f":"IFERROR(INDEX('Data Table'!$AK:$AK,MATCH($A$3 & I$8,'Data Table'!$B:$B&'Data Table'!$A:$A,0)),\"\")","v":""},{"$f":"IFERROR(INDEX('Data Table'!$AK:$AK,MATCH($A$3 & J$8,'Data Table'!$B:$B&'Data Table'!$A:$A,0)),\"\")","v":""},{"$f":"IFERROR(INDEX('Data Table'!$AK:$AK,MATCH($A$3 & K$8,'Data Table'!$B:$B&'Data Table'!$A:$A,0)),\"\")","v":""},{"$f":"IFERROR(INDEX('Data Table'!$AK:$AK,MATCH($A$3 & L$8,'Data Table'!$B:$B&'Data Table'!$A:$A,0)),\"\")","v":""},{"$f":"IFERROR(INDEX('Data Table'!$AK:$AK,MATCH($A$3 & M$8,'Data Table'!$B:$B&'Data Table'!$A:$A,0)),\"\")","v":""},{"$f":"IFERROR(INDEX('Data Table'!$AK:$AK,MATCH($A$3 & N$8,'Data Table'!$B:$B&'Data Table'!$A:$A,0)),\"\")","v":""},{"$f":"IFERROR(INDEX('Data Table'!$AK:$AK,MATCH($A$3 & O$8,'Data Table'!$B:$B&'Data Table'!$A:$A,0)),\"\")","v":""},{"$f":"IFERROR(INDEX('Data Table'!$AK:$AK,MATCH($A$3 & P$8,'Data Table'!$B:$B&'Data Table'!$A:$A,0)),\"\")","v":""},{"$f":"IFERROR($Q$5*(Norms!B23)/100, \"No Data\")","v":"No Data"}]
["Shoulder Extension @ 90*","Left",{"$f":"IFERROR(INDEX('Data Table'!$AH:$AH,MATCH($A$3 & C$8,'Data Table'!$B:$B&'Data Table'!$A:$A,0)),\"\")","v":"ShldExt90L"},{"$f":"IFERROR(INDEX('Data Table'!$AH:$AH,MATCH($A$3 & D$8,'Data Table'!$B:$B&'Data Table'!$A:$A,0)),\"\")","v":""},{"$f":"IFERROR(INDEX('Data Table'!$AH:$AH,MATCH($A$3 & E$8,'Data Table'!$B:$B&'Data Table'!$A:$A,0)),\"\")","v":""},{"$f":"IFERROR(INDEX('Data Table'!$AH:$AH,MATCH($A$3 & F$8,'Data Table'!$B:$B&'Data Table'!$A:$A,0)),\"\")","v":""},{"$f":"IFERROR(INDEX('Data Table'!$AH:$AH,MATCH($A$3 & G$8,'Data Table'!$B:$B&'Data Table'!$A:$A,0)),\"\")","v":""},{"$f":"IFERROR(INDEX('Data Table'!$AH:$AH,MATCH($A$3 & H$8,'Data Table'!$B:$B&'Data Table'!$A:$A,0)),\"\")","v":""},{"$f":"IFERROR(INDEX('Data Table'!$AH:$AH,MATCH($A$3 & I$8,'Data Table'!$B:$B&'Data Table'!$A:$A,0)),\"\")","v":""},{"$f":"IFERROR(INDEX('Data Table'!$AH:$AH,MATCH($A$3 & J$8,'Data Table'!$B:$B&'Data Table'!$A:$A,0)),\"\")","v":""},{"$f":"IFERROR(INDEX('Data Table'!$AH:$AH,MATCH($A$3 & K$8,'Data Table'!$B:$B&'Data Table'!$A:$A,0)),\"\")","v":""},{"$f":"IFERROR(INDEX('Data Table'!$AH:$AH,MATCH($A$3 & L$8,'Data Table'!$B:$B&'Data Table'!$A:$A,0)),\"\")","v":""},{"$f":"IFERROR(INDEX('Data Table'!$AH:$AH,MATCH($A$3 & M$8,'Data Table'!$B:$B&'Data Table'!$A:$A,0)),\"\")","v":""},{"$f":"IFERROR(INDEX('Data Table'!$AH:$AH,MATCH($A$3 & N$8,'Data Table'!$B:$B&'Data Table'!$A:$A,0)),\"\")","v":""},{"$f":"IFERROR(INDEX('Data Table'!$AH:$AH,MATCH($A$3 & O$8,'Data Table'!$B:$B&'Data Table'!$A:$A,0)),\"\")","v":""},{"$f":"IFERROR(INDEX('Data Table'!$AH:$AH,MATCH($A$3 & P$8,'Data Table'!$B:$B&'Data Table'!$A:$A,0)),\"\")","v":""},{"$f":"IFERROR($Q$5*(Norms!B22)/100, \"No Data\")","v":"No Data"}]
["Shoulder Extension @ 90*","Right",{"$f":"IFERROR(INDEX('Data Table'!$AI:$AI,MATCH($A$3 & C$8,'Data Table'!$B:$B&'Data Table'!$A:$A,0)),\"\")","v":"ShldExt90R"},{"$f":"IFERROR(INDEX('Data Table'!$AI:$AI,MATCH($A$3 & D$8,'Data Table'!$B:$B&'Data Table'!$A:$A,0)),\"\")","v":""},{"$f":"IFERROR(INDEX('Data Table'!$AI:$AI,MATCH($A$3 & E$8,'Data Table'!$B:$B&'Data Table'!$A:$A,0)),\"\")","v":""},{"$f":"IFERROR(INDEX('Data Table'!$AI:$AI,MATCH($A$3 & F$8,'Data Table'!$B:$B&'Data Table'!$A:$A,0)),\"\")","v":""},{"$f":"IFERROR(INDEX('Data Table'!$AI:$AI,MATCH($A$3 & G$8,'Data Table'!$B:$B&'Data Table'!$A:$A,0)),\"\")","v":""},{"$f":"IFERROR(INDEX('Data Table'!$AI:$AI,MATCH($A$3 & H$8,'Data Table'!$B:$B&'Data Table'!$A:$A,0)),\"\")","v":""},{"$f":"IFERROR(INDEX('Data Table'!$AI:$AI,MATCH($A$3 & I$8,'Data Table'!$B:$B&'Data Table'!$A:$A,0)),\"\")","v":""},{"$f":"IFERROR(INDEX('Data Table'!$AI:$AI,MATCH($A$3 & J$8,'Data Table'!$B:$B&'Data Table'!$A:$A,0)),\"\")","v":""},{"$f":"IFERROR(INDEX('Data Table'!$AI:$AI,MATCH($A$3 & K$8,'Data Table'!$B:$B&'Data Table'!$A:$A,0)),\"\")","v":""},{"$f":"IFERROR(INDEX('Data Table'!$AI:$AI,MATCH($A$3 & L$8,'Data Table'!$B:$B&'Data Table'!$A:$A,0)),\"\")","v":""},{"$f":"IFERROR(INDEX('Data Table'!$AI:$AI,MATCH($A$3 & M$8,'Data Table'!$B:$B&'Data Table'!$A:$A,0)),\"\")","v":""},{"$f":"IFERROR(INDEX('Data Table'!$AI:$AI,MATCH($A$3 & N$8,'Data Table'!$B:$B&'Data Table'!$A:$A,0)),\"\")","v":""},{"$f":"IFERROR(INDEX('Data Table'!$AI:$AI,MATCH($A$3 & O$8,'Data Table'!$B:$B&'Data Table'!$A:$A,0)),\"\")","v":""},{"$f":"IFERROR(INDEX('Data Table'!$AI:$AI,MATCH($A$3 & P$8,'Data Table'!$B:$B&'Data Table'!$A:$A,0)),\"\")","v":""},{"$f":"IFERROR($Q$5*(Norms!B22)/100, \"No Data\")","v":"No Data"}]
["Shoulder Extension at neutral","Left",{"$f":"IFERROR(INDEX('Data Table'!$AF:$AF,MATCH($A$3 & C$8,'Data Table'!$B:$B&'Data Table'!$A:$A,0)),\"\")","v":"ShldExtNL"},{"$f":"IFERROR(INDEX('Data Table'!$AF:$AF,MATCH($A$3 & D$8,'Data Table'!$B:$B&'Data Table'!$A:$A,0)),\"\")","v":""},{"$f":"IFERROR(INDEX('Data Table'!$AF:$AF,MATCH($A$3 & E$8,'Data Table'!$B:$B&'Data Table'!$A:$A,0)),\"\")","v":""},{"$f":"IFERROR(INDEX('Data Table'!$AF:$AF,MATCH($A$3 & F$8,'Data Table'!$B:$B&'Data Table'!$A:$A,0)),\"\")","v":""},{"$f":"IFERROR(INDEX('Data Table'!$AF:$AF,MATCH($A$3 & G$8,'Data Table'!$B:$B&'Data Table'!$A:$A,0)),\"\")","v":""},{"$f":"IFERROR(INDEX('Data Table'!$AF:$AF,MATCH($A$3 & H$8,'Data Table'!$B:$B&'Data Table'!$A:$A,0)),\"\")","v":""},{"$f":"IFERROR(INDEX('Data Table'!$AF:$AF,MATCH($A$3 & I$8,'Data Table'!$B:$B&'Data Table'!$A:$A,0)),\"\")","v":""},{"$f":"IFERROR(INDEX('Data Table'!$AF:$AF,MATCH($A$3 & J$8,'Data Table'!$B:$B&'Data Table'!$A:$A,0)),\"\")","v":""},{"$f":"IFERROR(INDEX('Data Table'!$AF:$AF,MATCH($A$3 & K$8,'Data Table'!$B:$B&'Data Table'!$A:$A,0)),\"\")","v":""},{"$f":"IFERROR(INDEX('Data Table'!$AF:$AF,MATCH($A$3 & L$8,'Data Table'!$B:$B&'Data Table'!$A:$A,0)),\"\")","v":""},{"$f":"IFERROR(INDEX('Data Table'!$AF:$AF,MATCH($A$3 & M$8,'Data Table'!$B:$B&'Data Table'!$A:$A,0)),\"\")","v":""},{"$f":"IFERROR(INDEX('Data Table'!$AF:$AF,MATCH($A$3 & N$8,'Data Table'!$B:$B&'Data Table'!$A:$A,0)),\"\")","v":""},{"$f":"IFERROR(INDEX('Data Table'!$AF:$AF,MATCH($A$3 & O$8,'Data Table'!$B:$B&'Data Table'!$A:$A,0)),\"\")","v":""},{"$f":"IFERROR(INDEX('Data Table'!$AF:$AF,MATCH($A$3 & P$8,'Data Table'!$B:$B&'Data Table'!$A:$A,0)),\"\")","v":""},{"$f":"IFERROR($Q$5*(Norms!B21)/100, \"No Data\")","v":"No Data"}]
["Shoulder Extension at neutral","Right",{"$f":"IFERROR(INDEX('Data Table'!$AG:$AG,MATCH($A$3 & C$8,'Data Table'!$B:$B&'Data Table'!$A:$A,0)),\"\")","v":"ShldExtNR"},{"$f":"IFERROR(INDEX('Data Table'!$AG:$AG,MATCH($A$3 & D$8,'Data Table'!$B:$B&'Data Table'!$A:$A,0)),\"\")","v":""},{"$f":"IFERROR(INDEX('Data Table'!$AG:$AG,MATCH($A$3 & E$8,'Data Table'!$B:$B&'Data Table'!$A:$A,0)),\"\")","v":""},{"$f":"IFERROR(INDEX('Data Table'!$AG:$AG,MATCH($A$3 & F$8,'Data Table'!$B:$B&'Data Table'!$A:$A,0)),\"\")","v":""},{"$f":"IFERROR(INDEX('Data Table'!$AG:$AG,MATCH($A$3 & G$8,'Data Table'!$B:$B&'Data Table'!$A:$A,0)),\"\")","v":""},{"$f":"IFERROR(INDEX('Data Table'!$AG:$AG,MATCH($A$3 & H$8,'Data Table'!$B:$B&'Data Table'!$A:$A,0)),\"\")","v":""},{"$f":"IFERROR(INDEX('Data Table'!$AG:$AG,MATCH($A$3 & I$8,'Data Table'!$B:$B&'Data Table'!$A:$A,0)),\"\")","v":""},{"$f":"IFERROR(INDEX('Data Table'!$AG:$AG,MATCH($A$3 & J$8,'Data Table'!$B:$B&'Data Table'!$A:$A,0)),\"\")","v":""},{"$f":"IFERROR(INDEX('Data Table'!$AG:$AG,MATCH($A$3 & K$8,'Data Table'!$B:$B&'Data Table'!$A:$A,0)),\"\")","v":""},{"$f":"IFERROR(INDEX('Data Table'!$AG:$AG,MATCH($A$3 & L$8,'Data Table'!$B:$B&'Data Table'!$A:$A,0)),\"\")","v":""},{"$f":"IFERROR(INDEX('Data Table'!$AG:$AG,MATCH($A$3 & M$8,'Data Table'!$B:$B&'Data Table'!$A:$A,0)),\"\")","v":""},{"$f":"IFERROR(INDEX('Data Table'!$AG:$AG,MATCH($A$3 & N$8,'Data Table'!$B:$B&'Data Table'!$A:$A,0)),\"\")","v":""},{"$f":"IFERROR(INDEX('Data Table'!$AG:$AG,MATCH($A$3 & O$8,'Data Table'!$B:$B&'Data Table'!$A:$A,0)),\"\")","v":""},{"$f":"IFERROR(INDEX('Data Table'!$AG:$AG,MATCH($A$3 & P$8,'Data Table'!$B:$B&'Data Table'!$A:$A,0)),\"\")","v":""},{"$f":"IFERROR($Q$5*(Norms!B21)/100, \"No Data\")","v":"No Data"}]
["Shoulder Flexion","Left",{"$f":"IFERROR(INDEX('Data Table'!$AL:$AL,MATCH($A$3 & C$8,'Data Table'!$B:$B&'Data Table'!$A:$A,0)),\"\")","v":"ShldFlexL"},{"$f":"IFERROR(INDEX('Data Table'!$AL:$AL,MATCH($A$3 & D$8,'Data Table'!$B:$B&'Data Table'!$A:$A,0)),\"\")","v":""},{"$f":"IFERROR(INDEX('Data Table'!$AL:$AL,MATCH($A$3 & E$8,'Data Table'!$B:$B&'Data Table'!$A:$A,0)),\"\")","v":""},{"$f":"IFERROR(INDEX('Data Table'!$AL:$AL,MATCH($A$3 & F$8,'Data Table'!$B:$B&'Data Table'!$A:$A,0)),\"\")","v":""},{"$f":"IFERROR(INDEX('Data Table'!$AL:$AL,MATCH($A$3 & G$8,'Data Table'!$B:$B&'Data Table'!$A:$A,0)),\"\")","v":""},{"$f":"IFERROR(INDEX('Data Table'!$AL:$AL,MATCH($A$3 & H$8,'Data Table'!$B:$B&'Data Table'!$A:$A,0)),\"\")","v":""},{"$f":"IFERROR(INDEX('Data Table'!$AL:$AL,MATCH($A$3 & I$8,'Data Table'!$B:$B&'Data Table'!$A:$A,0)),\"\")","v":""},{"$f":"IFERROR(INDEX('Data Table'!$AL:$AL,MATCH($A$3 & J$8,'Data Table'!$B:$B&'Data Table'!$A:$A,0)),\"\")","v":""},{"$f":"IFERROR(INDEX('Data Table'!$AL:$AL,MATCH($A$3 & K$8,'Data Table'!$B:$B&'Data Table'!$A:$A,0)),\"\")","v":""},{"$f":"IFERROR(INDEX('Data Table'!$AL:$AL,MATCH($A$3 & L$8,'Data Table'!$B:$B&'Data Table'!$A:$A,0)),\"\")","v":""},{"$f":"IFERROR(INDEX('Data Table'!$AL:$AL,MATCH($A$3 & M$8,'Data Table'!$B:$B&'Data Table'!$A:$A,0)),\"\")","v":""},{"$f":"IFERROR(INDEX('Data Table'!$AL:$AL,MATCH($A$3 & N$8,'Data Table'!$B:$B&'Data Table'!$A:$A,0)),\"\")","v":""},{"$f":"IFERROR(INDEX('Data Table'!$AL:$AL,MATCH($A$3 & O$8,'Data Table'!$B:$B&'Data Table'!$A:$A,0)),\"\")","v":""},{"$f":"IFERROR(INDEX('Data Table'!$AL:$AL,MATCH($A$3 & P$8,'Data Table'!$B:$B&'Data Table'!$A:$A,0)),\"\")","v":""},{"$f":"IFERROR($Q$5*(Norms!B7)/100, \"No Data\")","v":"No Data"}]
["Shoulder Flexion","Right",{"$f":"IFERROR(INDEX('Data Table'!$AM:$AM,MATCH($A$3 & C$8,'Data Table'!$B:$B&'Data Table'!$A:$A,0)),\"\")","v":"ShldFlexR"},{"$f":"IFERROR(INDEX('Data Table'!$AM:$AM,MATCH($A$3 & D$8,'Data Table'!$B:$B&'Data Table'!$A:$A,0)),\"\")","v":""},{"$f":"IFERROR(INDEX('Data Table'!$AM:$AM,MATCH($A$3 & E$8,'Data Table'!$B:$B&'Data Table'!$A:$A,0)),\"\")","v":""},{"$f":"IFERROR(INDEX('Data Table'!$AM:$AM,MATCH($A$3 & F$8,'Data Table'!$B:$B&'Data Table'!$A:$A,0)),\"\")","v":""},{"$f":"IFERROR(INDEX('Data Table'!$AM:$AM,MATCH($A$3 & G$8,'Data Table'!$B:$B&'Data Table'!$A:$A,0)),\"\")","v":""},{"$f":"IFERROR(INDEX('Data Table'!$AM:$AM,MATCH($A$3 & H$8,'Data Table'!$B:$B&'Data Table'!$A:$A,0)),\"\")","v":""},{"$f":"IFERROR(INDEX('Data Table'!$AM:$AM,MATCH($A$3 & I$8,'Data Table'!$B:$B&'Data Table'!$A:$A,0)),\"\")","v":""},{"$f":"IFERROR(INDEX('Data Table'!$AM:$AM,MATCH($A$3 & J$8,'Data Table'!$B:$B&'Data Table'!$A:$A,0)),\"\")","v":""},{"$f":"IFERROR(INDEX('Data Table'!$AM:$AM,MATCH($A$3 & K$8,'Data Table'!$B:$B&'Data Table'!$A:$A,0)),\"\")","v":""},{"$f":"IFERROR(INDEX('Data Table'!$AM:$AM,MATCH($A$3 & L$8,'Data Table'!$B:$B&'Data Table'!$A:$A,0)),\"\")","v":""},{"$f":"IFERROR(INDEX('Data Table'!$AM:$AM,MATCH($A$3 & M$8,'Data Table'!$B:$B&'Data Table'!$A:$A,0)),\"\")","v":""},{"$f":"IFERROR(INDEX('Data Table'!$AM:$AM,MATCH($A$3 & N$8,'Data Table'!$B:$B&'Data Table'!$A:$A,0)),\"\")","v":""},{"$f":"IFERROR(INDEX('Data Table'!$AM:$AM,MATCH($A$3 & O$8,'Data Table'!$B:$B&'Data Table'!$A:$A,0)),\"\")","v":""},{"$f":"IFERROR(INDEX('Data Table'!$AM:$AM,MATCH($A$3 & P$8,'Data Table'!$B:$B&'Data Table'!$A:$A,0)),\"\")","v":""},{"$f":"IFERROR($Q$5*(Norms!B7)/100, \"No Data\")","v":"No Data"}]
["Shoulder Horizontal abduction","Left",{"$f":"IFERROR(INDEX('Data Table'!$AN:$AN,MATCH($A$3 & C$8,'Data Table'!$B:$B&'Data Table'!$A:$A,0)),\"\")","v":"ShldHAbdL"},{"$f":"IFERROR(INDEX('Data Table'!$AN:$AN,MATCH($A$3 & D$8,'Data Table'!$B:$B&'Data Table'!$A:$A,0)),\"\")","v":""},{"$f":"IFERROR(INDEX('Data Table'!$AN:$AN,MATCH($A$3 & E$8,'Data Table'!$B:$B&'Data Table'!$A:$A,0)),\"\")","v":""},{"$f":"IFERROR(INDEX('Data Table'!$AN:$AN,MATCH($A$3 & F$8,'Data Table'!$B:$B&'Data Table'!$A:$A,0)),\"\")","v":""},{"$f":"IFERROR(INDEX('Data Table'!$AN:$AN,MATCH($A$3 & G$8,'Data Table'!$B:$B&'Data Table'!$A:$A,0)),\"\")","v":""},{"$f":"IFERROR(INDEX('Data Table'!$AN:$AN,MATCH($A$3 & H$8,'Data Table'!$B:$B&'Data Table'!$A:$A,0)),\"\")","v":""},{"$f":"IFERROR(INDEX('Data Table'!$AN:$AN,MATCH($A$3 & I$8,'Data Table'!$B:$B&'Data Table'!$A:$A,0)),\"\")","v":""},{"$f":"IFERROR(INDEX('Data Table'!$AN:$AN,MATCH($A$3 & J$8,'Data Table'!$B:$B&'Data Table'!$A:$A,0)),\"\")","v":""},{"$f":"IFERROR(INDEX('Data Table'!$AN:$AN,MATCH($A$3 & K$8,'Data Table'!$B:$B&'Data Table'!$A:$A,0)),\"\")","v":""},{"$f":"IFERROR(INDEX('Data Table'!$AN:$AN,MATCH($A$3 & L$8,'Data Table'!$B:$B&'Data Table'!$A:$A,0)),\"\")","v":""},{"$f":"IFERROR(INDEX('Data Table'!$AN:$AN,MATCH($A$3 & M$8,'Data Table'!$B:$B&'Data Table'!$A:$A,0)),\"\")","v":""},{"$f":"IFERROR(INDEX('Data Table'!$AN:$AN,MATCH($A$3 & N$8,'Data Table'!$B:$B&'Data Table'!$A:$A,0)),\"\")","v":""},{"$f":"IFERROR(INDEX('Data Table'!$AN:$AN,MATCH($A$3 & O$8,'Data Table'!$B:$B&'Data Table'!$A:$A,0)),\"\")","v":""},{"$f":"IFERROR(INDEX('Data Table'!$AN:$AN,MATCH($A$3 & P$8,'Data Table'!$B:$B&'Data Table'!$A:$A,0)),\"\")","v":""},"No Data"]
["Shoulder Horizontal abduction","Right",{"$f":"IFERROR(INDEX('Data Table'!$AO:$AO,MATCH($A$3 & C$8,'Data Table'!$B:$B&'Data Table'!$A:$A,0)),\"\")","v":"ShldHAbdR"},{"$f":"IFERROR(INDEX('Data Table'!$AO:$AO,MATCH($A$3 & D$8,'Data Table'!$B:$B&'Data Table'!$A:$A,0)),\"\")","v":""},{"$f":"IFERROR(INDEX('Data Table'!$AO:$AO,MATCH($A$3 & E$8,'Data Table'!$B:$B&'Data Table'!$A:$A,0)),\"\")","v":""},{"$f":"IFERROR(INDEX('Data Table'!$AO:$AO,MATCH($A$3 & F$8,'Data Table'!$B:$B&'Data Table'!$A:$A,0)),\"\")","v":""},{"$f":"IFERROR(INDEX('Data Table'!$AO:$AO,MATCH($A$3 & G$8,'Data Table'!$B:$B&'Data Table'!$A:$A,0)),\"\")","v":""},{"$f":"IFERROR(INDEX('Data Table'!$AO:$AO,MATCH($A$3 & H$8,'Data Table'!$B:$B&'Data Table'!$A:$A,0)),\"\")","v":""},{"$f":"IFERROR(INDEX('Data Table'!$AO:$AO,MATCH($A$3 & I$8,'Data Table'!$B:$B&'Data Table'!$A:$A,0)),\"\")","v":""},{"$f":"IFERROR(INDEX('Data Table'!$AO:$AO,MATCH($A$3 & J$8,'Data Table'!$B:$B&'Data Table'!$A:$A,0)),\"\")","v":""},{"$f":"IFERROR(INDEX('Data Table'!$AO:$AO,MATCH($A$3 & K$8,'Data Table'!$B:$B&'Data Table'!$A:$A,0)),\"\")","v":""},{"$f":"IFERROR(INDEX('Data Table'!$AO:$AO,MATCH($A$3 & L$8,'Data Table'!$B:$B&'Data Table'!$A:$A,0)),\"\")","v":""},{"$f":"IFERROR(INDEX('Data Table'!$AO:$AO,MATCH($A$3 & M$8,'Data Table'!$B:$B&'Data Table'!$A:$A,0)),\"\")","v":""},{"$f":"IFERROR(INDEX('Data Table'!$AO:$AO,MATCH($A$3 & N$8,'Data Table'!$B:$B&'Data Table'!$A:$A,0)),\"\")","v":""},{"$f":"IFERROR(INDEX('Data Table'!$AO:$AO,MATCH($A$3 & O$8,'Data Table'!$B:$B&'Data Table'!$A:$A,0)),\"\")","v":""},{"$f":"IFERROR(INDEX('Data Table'!$AO:$AO,MATCH($A$3 & P$8,'Data Table'!$B:$B&'Data Table'!$A:$A,0)),\"\")","v":""},"No Data"]
["Shoulder IR @ 0*","Left",{"$f":"IFERROR(INDEX('Data Table'!$AR:$AR,MATCH($A$3 & C$8,'Data Table'!$B:$B&'Data Table'!$A:$A,0)),\"\")","v":"ShldIR0L"},{"$f":"IFERROR(INDEX('Data Table'!$AR:$AR,MATCH($A$3 & D$8,'Data Table'!$B:$B&'Data Table'!$A:$A,0)),\"\")","v":""},{"$f":"IFERROR(INDEX('Data Table'!$AR:$AR,MATCH($A$3 & E$8,'Data Table'!$B:$B&'Data Table'!$A:$A,0)),\"\")","v":""},{"$f":"IFERROR(INDEX('Data Table'!$AR:$AR,MATCH($A$3 & F$8,'Data Table'!$B:$B&'Data Table'!$A:$A,0)),\"\")","v":""},{"$f":"IFERROR(INDEX('Data Table'!$AR:$AR,MATCH($A$3 & G$8,'Data Table'!$B:$B&'Data Table'!$A:$A,0)),\"\")","v":""},{"$f":"IFERROR(INDEX('Data Table'!$AR:$AR,MATCH($A$3 & H$8,'Data Table'!$B:$B&'Data Table'!$A:$A,0)),\"\")","v":""},{"$f":"IFERROR(INDEX('Data Table'!$AR:$AR,MATCH($A$3 & I$8,'Data Table'!$B:$B&'Data Table'!$A:$A,0)),\"\")","v":""},{"$f":"IFERROR(INDEX('Data Table'!$AR:$AR,MATCH($A$3 & J$8,'Data Table'!$B:$B&'Data Table'!$A:$A,0)),\"\")","v":""},{"$f":"IFERROR(INDEX('Data Table'!$AR:$AR,MATCH($A$3 & K$8,'Data Table'!$B:$B&'Data Table'!$A:$A,0)),\"\")","v":""},{"$f":"IFERROR(INDEX('Data Table'!$AR:$AR,MATCH($A$3 & L$8,'Data Table'!$B:$B&'Data Table'!$A:$A,0)),\"\")","v":""},{"$f":"IFERROR(INDEX('Data Table'!$AR:$AR,MATCH($A$3 & M$8,'Data Table'!$B:$B&'Data Table'!$A:$A,0)),\"\")","v":""},{"$f":"IFERROR(INDEX('Data Table'!$AR:$AR,MATCH($A$3 & N$8,'Data Table'!$B:$B&'Data Table'!$A:$A,0)),\"\")","v":""},{"$f":"IFERROR(INDEX('Data Table'!$AR:$AR,MATCH($A$3 & O$8,'Data Table'!$B:$B&'Data Table'!$A:$A,0)),\"\")","v":""},{"$f":"IFERROR(INDEX('Data Table'!$AR:$AR,MATCH($A$3 & P$8,'Data Table'!$B:$B&'Data Table'!$A:$A,0)),\"\")","v":""},{"$f":"IFERROR($Q$5*(Norms!B11)/100, \"No Data\")","v":"No Data"}]
["Shoulder IR @ 0*","Right",{"$f":"IFERROR(INDEX('Data Table'!$AS:$AS,MATCH($A$3 & C$8,'Data Table'!$B:$B&'Data Table'!$A:$A,0)),\"\")","v":"ShldIR0R"},{"$f":"IFERROR(INDEX('Data Table'!$AS:$AS,MATCH($A$3 & D$8,'Data Table'!$B:$B&'Data Table'!$A:$A,0)),\"\")","v":""},{"$f":"IFERROR(INDEX('Data Table'!$AS:$AS,MATCH($A$3 & E$8,'Data Table'!$B:$B&'Data Table'!$A:$A,0)),\"\")","v":""},{"$f":"IFERROR(INDEX('Data Table'!$AS:$AS,MATCH($A$3 & F$8,'Data Table'!$B:$B&'Data Table'!$A:$A,0)),\"\")","v":""},{"$f":"IFERROR(INDEX('Data Table'!$AS:$AS,MATCH($A$3 & G$8,'Data Table'!$B:$B&'Data Table'!$A:$A,0)),\"\")","v":""},{"$f":"IFERROR(INDEX('Data Table'!$AS:$AS,MATCH($A$3 & H$8,'Data Table'!$B:$B&'Data Table'!$A:$A,0)),\"\")","v":""},{"$f":"IFERROR(INDEX('Data Table'!$AS:$AS,MATCH($A$3 & I$8,'Data Table'!$B:$B&'Data Table'!$A:$A,0)),\"\")","v":""},{"$f":"IFERROR(INDEX('Data Table'!$AS:$AS,MATCH($A$3 & J$8,'Data Table'!$B:$B&'Data Table'!$A:$A,0)),\"\")","v":""},{"$f":"IFERROR(INDEX('Data Table'!$AS:$AS,MATCH($A$3 & K$8,'Data Table'!$B:$B&'Data Table'!$A:$A,0)),\"\")","v":""},{"$f":"IFERROR(INDEX('Data Table'!$AS:$AS,MATCH($A$3 & L$8,'Data Table'!$B:$B&'Data Table'!$A:$A,0)),\"\")","v":""},{"$f":"IFERROR(INDEX('Data Table'!$AS:$AS,MATCH($A$3 & M$8,'Data Table'!$B:$B&'Data Table'!$A:$A,0)),\"\")","v":""},{"$f":"IFERROR(INDEX('Data Table'!$AS:$AS,MATCH($A$3 & N$8,'Data Table'!$B:$B&'Data Table'!$A:$A,0)),\"\")","v":""},{"$f":"IFERROR(INDEX('Data Table'!$AS:$AS,MATCH($A$3 & O$8,'Data Table'!$B:$B&'Data Table'!$A:$A,0)),\"\")","v":""},{"$f":"IFERROR(INDEX('Data Table'!$AS:$AS,MATCH($A$3 & P$8,'Data Table'!$B:$B&'Data Table'!$A:$A,0)),\"\")","v":""},{"$f":"IFERROR($Q$5*(Norms!B11)/100, \"No Data\")","v":"No Data"}]
["Shoulder IR 0/90","Left",{"$f":"IFERROR(INDEX('Data Table'!$AT:$AT,MATCH($A$3 & C$8,'Data Table'!$B:$B&'Data Table'!$A:$A,0)),\"\")","v":"ShldIR090L"},{"$f":"IFERROR(INDEX('Data Table'!$AT:$AT,MATCH($A$3 & D$8,'Data Table'!$B:$B&'Data Table'!$A:$A,0)),\"\")","v":""},{"$f":"IFERROR(INDEX('Data Table'!$AT:$AT,MATCH($A$3 & E$8,'Data Table'!$B:$B&'Data Table'!$A:$A,0)),\"\")","v":""},{"$f":"IFERROR(INDEX('Data Table'!$AT:$AT,MATCH($A$3 & F$8,'Data Table'!$B:$B&'Data Table'!$A:$A,0)),\"\")","v":""},{"$f":"IFERROR(INDEX('Data Table'!$AT:$AT,MATCH($A$3 & G$8,'Data Table'!$B:$B&'Data Table'!$A:$A,0)),\"\")","v":""},{"$f":"IFERROR(INDEX('Data Table'!$AT:$AT,MATCH($A$3 & H$8,'Data Table'!$B:$B&'Data Table'!$A:$A,0)),\"\")","v":""},{"$f":"IFERROR(INDEX('Data Table'!$AT:$AT,MATCH($A$3 & I$8,'Data Table'!$B:$B&'Data Table'!$A:$A,0)),\"\")","v":""},{"$f":"IFERROR(INDEX('Data Table'!$AT:$AT,MATCH($A$3 & J$8,'Data Table'!$B:$B&'Data Table'!$A:$A,0)),\"\")","v":""},{"$f":"IFERROR(INDEX('Data Table'!$AT:$AT,MATCH($A$3 & K$8,'Data Table'!$B:$B&'Data Table'!$A:$A,0)),\"\")","v":""},{"$f":"IFERROR(INDEX('Data Table'!$AT:$AT,MATCH($A$3 & L$8,'Data Table'!$B:$B&'Data Table'!$A:$A,0)),\"\")","v":""},{"$f":"IFERROR(INDEX('Data Table'!$AT:$AT,MATCH($A$3 & M$8,'Data Table'!$B:$B&'Data Table'!$A:$A,0)),\"\")","v":""},{"$f":"IFERROR(INDEX('Data Table'!$AT:$AT,MATCH($A$3 & N$8,'Data Table'!$B:$B&'Data Table'!$A:$A,0)),\"\")","v":""},{"$f":"IFERROR(INDEX('Data Table'!$AT:$AT,MATCH($A$3 & O$8,'Data Table'!$B:$B&'Data Table'!$A:$A,0)),\"\")","v":""},{"$f":"IFERROR(INDEX('Data Table'!$AT:$AT,MATCH($A$3 & P$8,'Data Table'!$B:$B&'Data Table'!$A:$A,0)),\"\")","v":""},{"$f":"IFERROR($Q$5*(Norms!B13)/100, \"No Data\")","v":"No Data"}]
["Shoulder IR 0/90","Right",{"$f":"IFERROR(INDEX('Data Table'!$AU:$AU,MATCH($A$3 & C$8,'Data Table'!$B:$B&'Data Table'!$A:$A,0)),\"\")","v":"ShldIR090R"},{"$f":"IFERROR(INDEX('Data Table'!$AU:$AU,MATCH($A$3 & D$8,'Data Table'!$B:$B&'Data Table'!$A:$A,0)),\"\")","v":""},{"$f":"IFERROR(INDEX('Data Table'!$AU:$AU,MATCH($A$3 & E$8,'Data Table'!$B:$B&'Data Table'!$A:$A,0)),\"\")","v":""},{"$f":"IFERROR(INDEX('Data Table'!$AU:$AU,MATCH($A$3 & F$8,'Data Table'!$B:$B&'Data Table'!$A:$A,0)),\"\")","v":""},{"$f":"IFERROR(INDEX('Data Table'!$AU:$AU,MATCH($A$3 & G$8,'Data Table'!$B:$B&'Data Table'!$A:$A,0)),\"\")","v":""},{"$f":"IFERROR(INDEX('Data Table'!$AU:$AU,MATCH($A$3 & H$8,'Data Table'!$B:$B&'Data Table'!$A:$A,0)),\"\")","v":""},{"$f":"IFERROR(INDEX('Data Table'!$AU:$AU,MATCH($A$3 & I$8,'Data Table'!$B:$B&'Data Table'!$A:$A,0)),\"\")","v":""},{"$f":"IFERROR(INDEX('Data Table'!$AU:$AU,MATCH($A$3 & J$8,'Data Table'!$B:$B&'Data Table'!$A:$A,0)),\"\")","v":""},{"$f":"IFERROR(INDEX('Data Table'!$AU:$AU,MATCH($A$3 & K$8,'Data Table'!$B:$B&'Data Table'!$A:$A,0)),\"\")","v":""},{"$f":"IFERROR(INDEX('Data Table'!$AU:$AU,MATCH($A$3 & L$8,'Data Table'!$B:$B&'Data Table'!$A:$A,0)),\"\")","v":""},{"$f":"IFERROR(INDEX('Data Table'!$AU:$AU,MATCH($A$3 & M$8,'Data Table'!$B:$B&'Data Table'!$A:$A,0)),\"\")","v":""},{"$f":"IFERROR(INDEX('Data Table'!$AU:$AU,MATCH($A$3 & N$8,'Data Table'!$B:$B&'Data Table'!$A:$A,0)),\"\")","v":""},{"$f":"IFERROR(INDEX('Data Table'!$AU:$AU,MATCH($A$3 & O$8,'Data Table'!$B:$B&'Data Table'!$A:$A,0)),\"\")","v":""},{"$f":"IFERROR(INDEX('Data Table'!$AU:$AU,MATCH($A$3 & P$8,'Data Table'!$B:$B&'Data Table'!$A:$A,0)),\"\")","v":""},{"$f":"IFERROR($Q$5*(Norms!B13)/100, \"No Data\")","v":"No Data"}]
["Shoulder IR 90/90","Left",{"$f":"IFERROR(INDEX('Data Table'!$AV:$AV,MATCH($A$3 & C$8,'Data Table'!$B:$B&'Data Table'!$A:$A,0)),\"\")","v":"ShldIR9090L"},{"$f":"IFERROR(INDEX('Data Table'!$AV:$AV,MATCH($A$3 & D$8,'Data Table'!$B:$B&'Data Table'!$A:$A,0)),\"\")","v":""},{"$f":"IFERROR(INDEX('Data Table'!$AV:$AV,MATCH($A$3 & E$8,'Data Table'!$B:$B&'Data Table'!$A:$A,0)),\"\")","v":""},{"$f":"IFERROR(INDEX('Data Table'!$AV:$AV,MATCH($A$3 & F$8,'Data Table'!$B:$B&'Data Table'!$A:$A,0)),\"\")","v":""},{"$f":"IFERROR(INDEX('Data Table'!$AV:$AV,MATCH($A$3 & G$8,'Data Table'!$B:$B&'Data Table'!$A:$A,0)),\"\")","v":""},{"$f":"IFERROR(INDEX('Data Table'!$AV:$AV,MATCH($A$3 & H$8,'Data Table'!$B:$B&'Data Table'!$A:$A,0)),\"\")","v":""},{"$f":"IFERROR(INDEX('Data Table'!$AV:$AV,MATCH($A$3 & I$8,'Data Table'!$B:$B&'Data Table'!$A:$A,0)),\"\")","v":""},{"$f":"IFERROR(INDEX('Data Table'!$AV:$AV,MATCH($A$3 & J$8,'Data Table'!$B:$B&'Data Table'!$A:$A,0)),\"\")","v":""},{"$f":"IFERROR(INDEX('Data Table'!$AV:$AV,MATCH($A$3 & K$8,'Data Table'!$B:$B&'Data Table'!$A:$A,0)),\"\")","v":""},{"$f":"IFERROR(INDEX('Data Table'!$AV:$AV,MATCH($A$3 & L$8,'Data Table'!$B:$B&'Data Table'!$A:$A,0)),\"\")","v":""},{"$f":"IFERROR(INDEX('Data Table'!$AV:$AV,MATCH($A$3 & M$8,'Data Table'!$B:$B&'Data Table'!$A:$A,0)),\"\")","v":""},{"$f":"IFERROR(INDEX('Data Table'!$AV:$AV,MATCH($A$3 & N$8,'Data Table'!$B:$B&'Data Table'!$A:$A,0)),\"\")","v":""},{"$f":"IFERROR(INDEX('Data Table'!$AV:$AV,MATCH($A$3 & O$8,'Data Table'!$B:$B&'Data Table'!$A:$A,0)),\"\")","v":""},{"$f":"IFERROR(INDEX('Data Table'!$AV:$AV,MATCH($A$3 & P$8,'Data Table'!$B:$B&'Data Table'!$A:$A,0)),\"\")","v":""},{"$f":"IFERROR($Q$5*(Norms!B14)/100, \"No Data\")","v":"No Data"}]
["Shoulder IR 90/90","Right",{"$f":"IFERROR(INDEX('Data Table'!$AW:$AW,MATCH($A$3 & C$8,'Data Table'!$B:$B&'Data Table'!$A:$A,0)),\"\")","v":"ShldIR9090R"},{"$f":"IFERROR(INDEX('Data Table'!$AW:$AW,MATCH($A$3 & D$8,'Data Table'!$B:$B&'Data Table'!$A:$A,0)),\"\")","v":""},{"$f":"IFERROR(INDEX('Data Table'!$AW:$AW,MATCH($A$3 & E$8,'Data Table'!$B:$B&'Data Table'!$A:$A,0)),\"\")","v":""},{"$f":"IFERROR(INDEX('Data Table'!$AW:$AW,MATCH($A$3 & F$8,'Data Table'!$B:$B&'Data Table'!$A:$A,0)),\"\")","v":""},{"$f":"IFERROR(INDEX('Data Table'!$AW:$AW,MATCH($A$3 & G$8,'Data Table'!$B:$B&'Data Table'!$A:$A,0)),\"\")","v":""},{"$f":"IFERROR(INDEX('Data Table'!$AW:$AW,MATCH($A$3 & H$8,'Data Table'!$B:$B&'Data Table'!$A:$A,0)),\"\")","v":""},{"$f":"IFERROR(INDEX('Data Table'!$AW:$AW,MATCH($A$3 & I$8,'Data Table'!$B:$B&'Data Table'!$A:$A,0)),\"\")","v":""},{"$f":"IFERROR(INDEX('Data Table'!$AW:$AW,MATCH($A$3 & J$8,'Data Table'!$B:$B&'Data Table'!$A:$A,0)),\"\")","v":""},{"$f":"IFERROR(INDEX('Data Table'!$AW:$AW,MATCH($A$3 & K$8,'Data Table'!$B:$B&'Data Table'!$A:$A,0)),\"\")","v":""},{"$f":"IFERROR(INDEX('Data Table'!$AW:$AW,MATCH($A$3 & L$8,'Data Table'!$B:$B&'Data Table'!$A:$A,0)),\"\")","v":""},{"$f":"IFERROR(INDEX('Data Table'!$AW:$AW,MATCH($A$3 & M$8,'Data Table'!$B:$B&'Data Table'!$A:$A,0)),\"\")","v":""},{"$f":"IFERROR(INDEX('Data Table'!$AW:$AW,MATCH($A$3 & N$8,'Data Table'!$B:$B&'Data Table'!$A:$A,0)),\"\")","v":""},{"$f":"IFERROR(INDEX('Data Table'!$AW:$AW,MATCH($A$3 & O$8,'Data Table'!$B:$B&'Data Table'!$A:$A,0)),\"\")","v":""},{"$f":"IFERROR(INDEX('Data Table'!$AW:$AW,MATCH($A$3 & P$8,'Data Table'!$B:$B&'Data Table'!$A:$A,0)),\"\")","v":""},{"$f":"IFERROR($Q$5*(Norms!B14)/100, \"No Data\")","v":"No Data"}]
["Shoulder Protraction","Left",{"$f":"IFERROR(INDEX('Data Table'!$AX:$AX,MATCH($A$3 & C$8,'Data Table'!$B:$B&'Data Table'!$A:$A,0)),\"\")","v":"ShldProL"},{"$f":"IFERROR(INDEX('Data Table'!$AX:$AX,MATCH($A$3 & D$8,'Data Table'!$B:$B&'Data Table'!$A:$A,0)),\"\")","v":""},{"$f":"IFERROR(INDEX('Data Table'!$AX:$AX,MATCH($A$3 & E$8,'Data Table'!$B:$B&'Data Table'!$A:$A,0)),\"\")","v":""},{"$f":"IFERROR(INDEX('Data Table'!$AX:$AX,MATCH($A$3 & F$8,'Data Table'!$B:$B&'Data Table'!$A:$A,0)),\"\")","v":""},{"$f":"IFERROR(INDEX('Data Table'!$AX:$AX,MATCH($A$3 & G$8,'Data Table'!$B:$B&'Data Table'!$A:$A,0)),\"\")","v":""},{"$f":"IFERROR(INDEX('Data Table'!$AX:$AX,MATCH($A$3 & H$8,'Data Table'!$B:$B&'Data Table'!$A:$A,0)),\"\")","v":""},{"$f":"IFERROR(INDEX('Data Table'!$AX:$AX,MATCH($A$3 & I$8,'Data Table'!$B:$B&'Data Table'!$A:$A,0)),\"\")","v":""},{"$f":"IFERROR(INDEX('Data Table'!$AX:$AX,MATCH($A$3 & J$8,'Data Table'!$B:$B&'Data Table'!$A:$A,0)),\"\")","v":""},{"$f":"IFERROR(INDEX('Data Table'!$AX:$AX,MATCH($A$3 & K$8,'Data Table'!$B:$B&'Data Table'!$A:$A,0)),\"\")","v":""},{"$f":"IFERROR(INDEX('Data Table'!$AX:$AX,MATCH($A$3 & L$8,'Data Table'!$B:$B&'Data Table'!$A:$A,0)),\"\")","v":""},{"$f":"IFERROR(INDEX('Data Table'!$AX:$AX,MATCH($A$3 & M$8,'Data Table'!$B:$B&'Data Table'!$A:$A,0)),\"\")","v":""},{"$f":"IFERROR(INDEX('Data Table'!$AX:$AX,MATCH($A$3 & N$8,'Data Table'!$B:$B&'Data Table'!$A:$A,0)),\"\")","v":""},{"$f":"IFERROR(INDEX('Data Table'!$AX:$AX,MATCH($A$3 & O$8,'Data Table'!$B:$B&'Data Table'!$A:$A,0)),\"\")","v":""},{"$f":"IFERROR(INDEX('Data Table'!$AX:$AX,MATCH($A$3 & P$8,'Data Table'!$B:$B&'Data Table'!$A:$A,0)),\"\")","v":""},{"$f":"IFERROR($Q$5*(Norms!B27)/100, \"No Data\")","v":"No Data"}]
["Shoulder Protraction","Right",{"$f":"IFERROR(INDEX('Data Table'!$AY:$AY,MATCH($A$3 & C$8,'Data Table'!$B:$B&'Data Table'!$A:$A,0)),\"\")","v":"ShldProR"},{"$f":"IFERROR(INDEX('Data Table'!$AY:$AY,MATCH($A$3 & D$8,'Data Table'!$B:$B&'Data Table'!$A:$A,0)),\"\")","v":""},{"$f":"IFERROR(INDEX('Data Table'!$AY:$AY,MATCH($A$3 & E$8,'Data Table'!$B:$B&'Data Table'!$A:$A,0)),\"\")","v":""},{"$f":"IFERROR(INDEX('Data Table'!$AY:$AY,MATCH($A$3 & F$8,'Data Table'!$B:$B&'Data Table'!$A:$A,0)),\"\")","v":""},{"$f":"IFERROR(INDEX('Data Table'!$AY:$AY,MATCH($A$3 & G$8,'Data Table'!$B:$B&'Data Table'!$A:$A,0)),\"\")","v":""},{"$f":"IFERROR(INDEX('Data Table'!$AY:$AY,MATCH($A$3 & H$8,'Data Table'!$B:$B&'Data Table'!$A:$A,0)),\"\")","v":""},{"$f":"IFERROR(INDEX('Data Table'!$AY:$AY,MATCH($A$3 & I$8,'Data Table'!$B:$B&'Data Table'!$A:$A,0)),\"\")","v":""},{"$f":"IFERROR(INDEX('Data Table'!$AY:$AY,MATCH($A$3 & J$8,'Data Table'!$B:$B&'Data Table'!$A:$A,0)),\"\")","v":""},{"$f":"IFERROR(INDEX('Data Table'!$AY:$AY,MATCH($A$3 & K$8,'Data Table'!$B:$B&'Data Table'!$A:$A,0)),\"\")","v":""},{"$f":"IFERROR(INDEX('Data Table'!$AY:$AY,MATCH($A$3 & L$8,'Data Table'!$B:$B&'Data Table'!$A:$A,0)),\"\")","v":""},{"$f":"IFERROR(INDEX('Data Table'!$AY:$AY,MATCH($A$3 & M$8,'Data Table'!$B:$B&'Data Table'!$A:$A,0)),\"\")","v":""},{"$f":"IFERROR(INDEX('Data Table'!$AY:$AY,MATCH($A$3 & N$8,'Data Table'!$B:$B&'Data Table'!$A:$A,0)),\"\")","v":""},{"$f":"IFERROR(INDEX('Data Table'!$AY:$AY,MATCH($A$3 & O$8,'Data Table'!$B:$B&'Data Table'!$A:$A,0)),\"\")","v":""},{"$f":"IFERROR(INDEX('Data Table'!$AY:$AY,MATCH($A$3 & P$8,'Data Table'!$B:$B&'Data Table'!$A:$A,0)),\"\")","v":""},{"$f":"IFERROR($Q$5*(Norms!B27)/100, \"No Data\")","v":"No Data"}]
["Shoulder Y","Left",{"$f":"IFERROR(INDEX('Data Table'!$AP:$AP,MATCH($A$3 & C$8,'Data Table'!$B:$B&'Data Table'!$A:$A,0)),\"\")","v":"ShldYL"},{"$f":"IFERROR(INDEX('Data Table'!$AP:$AP,MATCH($A$3 & D$8,'Data Table'!$B:$B&'Data Table'!$A:$A,0)),\"\")","v":""},{"$f":"IFERROR(INDEX('Data Table'!$AP:$AP,MATCH($A$3 & E$8,'Data Table'!$B:$B&'Data Table'!$A:$A,0)),\"\")","v":""},{"$f":"IFERROR(INDEX('Data Table'!$AP:$AP,MATCH($A$3 & F$8,'Data Table'!$B:$B&'Data Table'!$A:$A,0)),\"\")","v":""},{"$f":"IFERROR(INDEX('Data Table'!$AP:$AP,MATCH($A$3 & G$8,'Data Table'!$B:$B&'Data Table'!$A:$A,0)),\"\")","v":""},{"$f":"IFERROR(INDEX('Data Table'!$AP:$AP,MATCH($A$3 & H$8,'Data Table'!$B:$B&'Data Table'!$A:$A,0)),\"\")","v":""},{"$f":"IFERROR(INDEX('Data Table'!$AP:$AP,MATCH($A$3 & I$8,'Data Table'!$B:$B&'Data Table'!$A:$A,0)),\"\")","v":""},{"$f":"IFERROR(INDEX('Data Table'!$AP:$AP,MATCH($A$3 & J$8,'Data Table'!$B:$B&'Data Table'!$A:$A,0)),\"\")","v":""},{"$f":"IFERROR(INDEX('Data Table'!$AP:$AP,MATCH($A$3 & K$8,'Data Table'!$B:$B&'Data Table'!$A:$A,0)),\"\")","v":""},{"$f":"IFERROR(INDEX('Data Table'!$AP:$AP,MATCH($A$3 & L$8,'Data Table'!$B:$B&'Data Table'!$A:$A,0)),\"\")","v":""},{"$f":"IFERROR(INDEX('Data Table'!$AP:$AP,MATCH($A$3 & M$8,'Data Table'!$B:$B&'Data Table'!$A:$A,0)),\"\")","v":""},{"$f":"IFERROR(INDEX('Data Table'!$AP:$AP,MATCH($A$3 & N$8,'Data Table'!$B:$B&'Data Table'!$A:$A,0)),\"\")","v":""},{"$f":"IFERROR(INDEX('Data Table'!$AP:$AP,MATCH($A$3 & O$8,'Data Table'!$B:$B&'Data Table'!$A:$A,0)),\"\")","v":""},{"$f":"IFERROR(INDEX('Data Table'!$AP:$AP,MATCH($A$3 & P$8,'Data Table'!$B:$B&'Data Table'!$A:$A,0)),\"\")","v":""},{"$f":"IFERROR($Q$5*(INDEX(#REF!,MATCH(A101,#REF!,0),MATCH($D$3,#REF!,0)))/100, \"No Data\")","v":"No Data"}]
["Shoulder Y","Right",{"$f":"IFERROR(INDEX('Data Table'!$AQ:$AQ,MATCH($A$3 & C$8,'Data Table'!$B:$B&'Data Table'!$A:$A,0)),\"\")","v":"ShldYR"},{"$f":"IFERROR(INDEX('Data Table'!$AQ:$AQ,MATCH($A$3 & D$8,'Data Table'!$B:$B&'Data Table'!$A:$A,0)),\"\")","v":""},{"$f":"IFERROR(INDEX('Data Table'!$AQ:$AQ,MATCH($A$3 & E$8,'Data Table'!$B:$B&'Data Table'!$A:$A,0)),\"\")","v":""},{"$f":"IFERROR(INDEX('Data Table'!$AQ:$AQ,MATCH($A$3 & F$8,'Data Table'!$B:$B&'Data Table'!$A:$A,0)),\"\")","v":""},{"$f":"IFERROR(INDEX('Data Table'!$AQ:$AQ,MATCH($A$3 & G$8,'Data Table'!$B:$B&'Data Table'!$A:$A,0)),\"\")","v":""},{"$f":"IFERROR(INDEX('Data Table'!$AQ:$AQ,MATCH($A$3 & H$8,'Data Table'!$B:$B&'Data Table'!$A:$A,0)),\"\")","v":""},{"$f":"IFERROR(INDEX('Data Table'!$AQ:$AQ,MATCH($A$3 & I$8,'Data Table'!$B:$B&'Data Table'!$A:$A,0)),\"\")","v":""},{"$f":"IFERROR(INDEX('Data Table'!$AQ:$AQ,MATCH($A$3 & J$8,'Data Table'!$B:$B&'Data Table'!$A:$A,0)),\"\")","v":""},{"$f":"IFERROR(INDEX('Data Table'!$AQ:$AQ,MATCH($A$3 & K$8,'Data Table'!$B:$B&'Data Table'!$A:$A,0)),\"\")","v":""},{"$f":"IFERROR(INDEX('Data Table'!$AQ:$AQ,MATCH($A$3 & L$8,'Data Table'!$B:$B&'Data Table'!$A:$A,0)),\"\")","v":""},{"$f":"IFERROR(INDEX('Data Table'!$AQ:$AQ,MATCH($A$3 & M$8,'Data Table'!$B:$B&'Data Table'!$A:$A,0)),\"\")","v":""},{"$f":"IFERROR(INDEX('Data Table'!$AQ:$AQ,MATCH($A$3 & N$8,'Data Table'!$B:$B&'Data Table'!$A:$A,0)),\"\")","v":""},{"$f":"IFERROR(INDEX('Data Table'!$AQ:$AQ,MATCH($A$3 & O$8,'Data Table'!$B:$B&'Data Table'!$A:$A,0)),\"\")","v":""},{"$f":"IFERROR(INDEX('Data Table'!$AQ:$AQ,MATCH($A$3 & P$8,'Data Table'!$B:$B&'Data Table'!$A:$A,0)),\"\")","v":""},{"$f":"IFERROR($Q$5*(INDEX(#REF!,MATCH(A102,#REF!,0),MATCH($D$3,#REF!,0)))/100, \"No Data\")","v":"No Data"}]
["Shoulder Other1","Left",{"$f":"IFERROR(INDEX('Data Table'!$AZ:$AZ,MATCH($A$3 & C$8,'Data Table'!$B:$B&'Data Table'!$A:$A,0)),\"\")","v":"ShldOth1L"},{"$f":"IFERROR(INDEX('Data Table'!$AZ:$AZ,MATCH($A$3 & D$8,'Data Table'!$B:$B&'Data Table'!$A:$A,0)),\"\")","v":""},{"$f":"IFERROR(INDEX('Data Table'!$AZ:$AZ,MATCH($A$3 & E$8,'Data Table'!$B:$B&'Data Table'!$A:$A,0)),\"\")","v":""},{"$f":"IFERROR(INDEX('Data Table'!$AZ:$AZ,MATCH($A$3 & F$8,'Data Table'!$B:$B&'Data Table'!$A:$A,0)),\"\")","v":""},{"$f":"IFERROR(INDEX('Data Table'!$AZ:$AZ,MATCH($A$3 & G$8,'Data Table'!$B:$B&'Data Table'!$A:$A,0)),\"\")","v":""},{"$f":"IFERROR(INDEX('Data Table'!$AZ:$AZ,MATCH($A$3 & H$8,'Data Table'!$B:$B&'Data Table'!$A:$A,0)),\"\")","v":""},{"$f":"IFERROR(INDEX('Data Table'!$AZ:$AZ,MATCH($A$3 & I$8,'Data Table'!$B:$B&'Data Table'!$A:$A,0)),\"\")","v":""},{"$f":"IFERROR(INDEX('Data Table'!$AZ:$AZ,MATCH($A$3 & J$8,'Data Table'!$B:$B&'Data Table'!$A:$A,0)),\"\")","v":""},{"$f":"IFERROR(INDEX('Data Table'!$AZ:$AZ,MATCH($A$3 & K$8,'Data Table'!$B:$B&'Data Table'!$A:$A,0)),\"\")","v":""},{"$f":"IFERROR(INDEX('Data Table'!$AZ:$AZ,MATCH($A$3 & L$8,'Data Table'!$B:$B&'Data Table'!$A:$A,0)),\"\")","v":""},{"$f":"IFERROR(INDEX('Data Table'!$AZ:$AZ,MATCH($A$3 & M$8,'Data Table'!$B:$B&'Data Table'!$A:$A,0)),\"\")","v":""},{"$f":"IFERROR(INDEX('Data Table'!$AZ:$AZ,MATCH($A$3 & N$8,'Data Table'!$B:$B&'Data Table'!$A:$A,0)),\"\")","v":""},{"$f":"IFERROR(INDEX('Data Table'!$AZ:$AZ,MATCH($A$3 & O$8,'Data Table'!$B:$B&'Data Table'!$A:$A,0)),\"\")","v":""},{"$f":"IFERROR(INDEX('Data Table'!$AZ:$AZ,MATCH($A$3 & P$8,'Data Table'!$B:$B&'Data Table'!$A:$A,0)),\"\")","v":""},"No Data"]
["Shoulder Other1","Right",{"$f":"IFERROR(INDEX('Data Table'!$BA:$BA,MATCH($A$3 & C$8,'Data Table'!$B:$B&'Data Table'!$A:$A,0)),\"\")","v":"ShldOthR"},{"$f":"IFERROR(INDEX('Data Table'!$BA:$BA,MATCH($A$3 & D$8,'Data Table'!$B:$B&'Data Table'!$A:$A,0)),\"\")","v":""},{"$f":"IFERROR(INDEX('Data Table'!$BA:$BA,MATCH($A$3 & E$8,'Data Table'!$B:$B&'Data Table'!$A:$A,0)),\"\")","v":""},{"$f":"IFERROR(INDEX('Data Table'!$BA:$BA,MATCH($A$3 & F$8,'Data Table'!$B:$B&'Data Table'!$A:$A,0)),\"\")","v":""},{"$f":"IFERROR(INDEX('Data Table'!$BA:$BA,MATCH($A$3 & G$8,'Data Table'!$B:$B&'Data Table'!$A:$A,0)),\"\")","v":""},{"$f":"IFERROR(INDEX('Data Table'!$BA:$BA,MATCH($A$3 & H$8,'Data Table'!$B:$B&'Data Table'!$A:$A,0)),\"\")","v":""},{"$f":"IFERROR(INDEX('Data Table'!$BA:$BA,MATCH($A$3 & I$8,'Data Table'!$B:$B&'Data Table'!$A:$A,0)),\"\")","v":""},{"$f":"IFERROR(INDEX('Data Table'!$BA:$BA,MATCH($A$3 & J$8,'Data Table'!$B:$B&'Data Table'!$A:$A,0)),\"\")","v":""},{"$f":"IFERROR(INDEX('Data Table'!$BA:$BA,MATCH($A$3 & K$8,'Data Table'!$B:$B&'Data Table'!$A:$A,0)),\"\")","v":""},{"$f":"IFERROR(INDEX('Data Table'!$BA:$BA,MATCH($A$3 & L$8,'Data Table'!$B:$B&'Data Table'!$A:$A,0)),\"\")","v":""},{"$f":"IFERROR(INDEX('Data Table'!$BA:$BA,MATCH($A$3 & M$8,'Data Table'!$B:$B&'Data Table'!$A:$A,0)),\"\")","v":""},{"$f":"IFERROR(INDEX('Data Table'!$BA:$BA,MATCH($A$3 & N$8,'Data Table'!$B:$B&'Data Table'!$A:$A,0)),\"\")","v":""},{"$f":"IFERROR(INDEX('Data Table'!$BA:$BA,MATCH($A$3 & O$8,'Data Table'!$B:$B&'Data Table'!$A:$A,0)),\"\")","v":""},{"$f":"IFERROR(INDEX('Data Table'!$BA:$BA,MATCH($A$3 & P$8,'Data Table'!$B:$B&'Data Table'!$A:$A,0)),\"\")","v":""},"No Data"]
["Wrist Extension at neutral","Left",{"$f":"IFERROR(INDEX('Data Table'!$BJ:$BJ,MATCH($A$3 & C$8,'Data Table'!$B:$B&'Data Table'!$A:$A,0)),\"\")","v":"WExtL"},{"$f":"IFERROR(INDEX('Data Table'!$BJ:$BJ,MATCH($A$3 & D$8,'Data Table'!$B:$B&'Data Table'!$A:$A,0)),\"\")","v":""},{"$f":"IFERROR(INDEX('Data Table'!$BJ:$BJ,MATCH($A$3 & E$8,'Data Table'!$B:$B&'Data Table'!$A:$A,0)),\"\")","v":""},{"$f":"IFERROR(INDEX('Data Table'!$BJ:$BJ,MATCH($A$3 & F$8,'Data Table'!$B:$B&'Data Table'!$A:$A,0)),\"\")","v":""},{"$f":"IFERROR(INDEX('Data Table'!$BJ:$BJ,MATCH($A$3 & G$8,'Data Table'!$B:$B&'Data Table'!$A:$A,0)),\"\")","v":""},{"$f":"IFERROR(INDEX('Data Table'!$BJ:$BJ,MATCH($A$3 & H$8,'Data Table'!$B:$B&'Data Table'!$A:$A,0)),\"\")","v":""},{"$f":"IFERROR(INDEX('Data Table'!$BJ:$BJ,MATCH($A$3 & I$8,'Data Table'!$B:$B&'Data Table'!$A:$A,0)),\"\")","v":""},{"$f":"IFERROR(INDEX('Data Table'!$BJ:$BJ,MATCH($A$3 & J$8,'Data Table'!$B:$B&'Data Table'!$A:$A,0)),\"\")","v":""},{"$f":"IFERROR(INDEX('Data Table'!$BJ:$BJ,MATCH($A$3 & K$8,'Data Table'!$B:$B&'Data Table'!$A:$A,0)),\"\")","v":""},{"$f":"IFERROR(INDEX('Data Table'!$BJ:$BJ,MATCH($A$3 & L$8,'Data Table'!$B:$B&'Data Table'!$A:$A,0)),\"\")","v":""},{"$f":"IFERROR(INDEX('Data Table'!$BJ:$BJ,MATCH($A$3 & M$8,'Data Table'!$B:$B&'Data Table'!$A:$A,0)),\"\")","v":""},{"$f":"IFERROR(INDEX('Data Table'!$BJ:$BJ,MATCH($A$3 & N$8,'Data Table'!$B:$B&'Data Table'!$A:$A,0)),\"\")","v":""},{"$f":"IFERROR(INDEX('Data Table'!$BJ:$BJ,MATCH($A$3 & O$8,'Data Table'!$B:$B&'Data Table'!$A:$A,0)),\"\")","v":""},{"$f":"IFERROR(INDEX('Data Table'!$BJ:$BJ,MATCH($A$3 & P$8,'Data Table'!$B:$B&'Data Table'!$A:$A,0)),\"\")","v":""},{"$f":"IFERROR($Q$5*(Norms!B39)/100, \"No Data\")","v":"No Data"}]
["Wrist Extension at neutral","Right",{"$f":"IFERROR(INDEX('Data Table'!$BK:$BK,MATCH($A$3 & C$8,'Data Table'!$B:$B&'Data Table'!$A:$A,0)),\"\")","v":"WExtR"},{"$f":"IFERROR(INDEX('Data Table'!$BK:$BK,MATCH($A$3 & D$8,'Data Table'!$B:$B&'Data Table'!$A:$A,0)),\"\")","v":""},{"$f":"IFERROR(INDEX('Data Table'!$BK:$BK,MATCH($A$3 & E$8,'Data Table'!$B:$B&'Data Table'!$A:$A,0)),\"\")","v":""},{"$f":"IFERROR(INDEX('Data Table'!$BK:$BK,MATCH($A$3 & F$8,'Data Table'!$B:$B&'Data Table'!$A:$A,0)),\"\")","v":""},{"$f":"IFERROR(INDEX('Data Table'!$BK:$BK,MATCH($A$3 & G$8,'Data Table'!$B:$B&'Data Table'!$A:$A,0)),\"\")","v":""},{"$f":"IFERROR(INDEX('Data Table'!$BK:$BK,MATCH($A$3 & H$8,'Data Table'!$B:$B&'Data Table'!$A:$A,0)),\"\")","v":""},{"$f":"IFERROR(INDEX('Data Table'!$BK:$BK,MATCH($A$3 & I$8,'Data Table'!$B:$B&'Data Table'!$A:$A,0)),\"\")","v":""},{"$f":"IFERROR(INDEX('Data Table'!$BK:$BK,MATCH($A$3 & J$8,'Data Table'!$B:$B&'Data Table'!$A:$A,0)),\"\")","v":""},{"$f":"IFERROR(INDEX('Data Table'!$BK:$BK,MATCH($A$3 & K$8,'Data Table'!$B:$B&'Data Table'!$A:$A,0)),\"\")","v":""},{"$f":"IFERROR(INDEX('Data Table'!$BK:$BK,MATCH($A$3 & L$8,'Data Table'!$B:$B&'Data Table'!$A:$A,0)),\"\")","v":""},{"$f":"IFERROR(INDEX('Data Table'!$BK:$BK,MATCH($A$3 & M$8,'Data Table'!$B:$B&'Data Table'!$A:$A,0)),\"\")","v":""},{"$f":"IFERROR(INDEX('Data Table'!$BK:$BK,MATCH($A$3 & N$8,'Data Table'!$B:$B&'Data Table'!$A:$A,0)),\"\")","v":""},{"$f":"IFERROR(INDEX('Data Table'!$BK:$BK,MATCH($A$3 & O$8,'Data Table'!$B:$B&'Data Table'!$A:$A,0)),\"\")","v":""},{"$f":"IFERROR(INDEX('Data Table'!$BK:$BK,MATCH($A$3 & P$8,'Data Table'!$B:$B&'Data Table'!$A:$A,0)),\"\")","v":""},{"$f":"IFERROR($Q$5*(Norms!B39)/100, \"No Data\")","v":"No Data"}]
["Wrist Flexion","Left",{"$f":"IFERROR(INDEX('Data Table'!$BL:$BL,MATCH($A$3 & C$8,'Data Table'!$B:$B&'Data Table'!$A:$A,0)),\"\")","v":"WFlexL"},{"$f":"IFERROR(INDEX('Data Table'!$BL:$BL,MATCH($A$3 & D$8,'Data Table'!$B:$B&'Data Table'!$A:$A,0)),\"\")","v":""},{"$f":"IFERROR(INDEX('Data Table'!$BL:$BL,MATCH($A$3 & E$8,'Data Table'!$B:$B&'Data Table'!$A:$A,0)),\"\")","v":""},{"$f":"IFERROR(INDEX('Data Table'!$BL:$BL,MATCH($A$3 & F$8,'Data Table'!$B:$B&'Data Table'!$A:$A,0)),\"\")","v":""},{"$f":"IFERROR(INDEX('Data Table'!$BL:$BL,MATCH($A$3 & G$8,'Data Table'!$B:$B&'Data Table'!$A:$A,0)),\"\")","v":""},{"$f":"IFERROR(INDEX('Data Table'!$BL:$BL,MATCH($A$3 & H$8,'Data Table'!$B:$B&'Data Table'!$A:$A,0)),\"\")","v":""},{"$f":"IFERROR(INDEX('Data Table'!$BL:$BL,MATCH($A$3 & I$8,'Data Table'!$B:$B&'Data Table'!$A:$A,0)),\"\")","v":""},{"$f":"IFERROR(INDEX('Data Table'!$BL:$BL,MATCH($A$3 & J$8,'Data Table'!$B:$B&'Data Table'!$A:$A,0)),\"\")","v":""},{"$f":"IFERROR(INDEX('Data Table'!$BL:$BL,MATCH($A$3 & K$8,'Data Table'!$B:$B&'Data Table'!$A:$A,0)),\"\")","v":""},{"$f":"IFERROR(INDEX('Data Table'!$BL:$BL,MATCH($A$3 & L$8,'Data Table'!$B:$B&'Data Table'!$A:$A,0)),\"\")","v":""},{"$f":"IFERROR(INDEX('Data Table'!$BL:$BL,MATCH($A$3 & M$8,'Data Table'!$B:$B&'Data Table'!$A:$A,0)),\"\")","v":""},{"$f":"IFERROR(INDEX('Data Table'!$BL:$BL,MATCH($A$3 & N$8,'Data Table'!$B:$B&'Data Table'!$A:$A,0)),\"\")","v":""},{"$f":"IFERROR(INDEX('Data Table'!$BL:$BL,MATCH($A$3 & O$8,'Data Table'!$B:$B&'Data Table'!$A:$A,0)),\"\")","v":""},{"$f":"IFERROR(INDEX('Data Table'!$BL:$BL,MATCH($A$3 & P$8,'Data Table'!$B:$B&'Data Table'!$A:$A,0)),\"\")","v":""},{"$f":"IFERROR($Q$5*(Norms!B41)/100, \"No Data\")","v":"No Data"}]
["Wrist Flexion","Right",{"$f":"IFERROR(INDEX('Data Table'!$BM:$BM,MATCH($A$3 & C$8,'Data Table'!$B:$B&'Data Table'!$A:$A,0)),\"\")","v":"WFlexR"},{"$f":"IFERROR(INDEX('Data Table'!$BM:$BM,MATCH($A$3 & D$8,'Data Table'!$B:$B&'Data Table'!$A:$A,0)),\"\")","v":""},{"$f":"IFERROR(INDEX('Data Table'!$BM:$BM,MATCH($A$3 & E$8,'Data Table'!$B:$B&'Data Table'!$A:$A,0)),\"\")","v":""},{"$f":"IFERROR(INDEX('Data Table'!$BM:$BM,MATCH($A$3 & F$8,'Data Table'!$B:$B&'Data Table'!$A:$A,0)),\"\")","v":""},{"$f":"IFERROR(INDEX('Data Table'!$BM:$BM,MATCH($A$3 & G$8,'Data Table'!$B:$B&'Data Table'!$A:$A,0)),\"\")","v":""},{"$f":"IFERROR(INDEX('Data Table'!$BM:$BM,MATCH($A$3 & H$8,'Data Table'!$B:$B&'Data Table'!$A:$A,0)),\"\")","v":""},{"$f":"IFERROR(INDEX('Data Table'!$BM:$BM,MATCH($A$3 & I$8,'Data Table'!$B:$B&'Data Table'!$A:$A,0)),\"\")","v":""},{"$f":"IFERROR(INDEX('Data Table'!$BM:$BM,MATCH($A$3 & J$8,'Data Table'!$B:$B&'Data Table'!$A:$A,0)),\"\")","v":""},{"$f":"IFERROR(INDEX('Data Table'!$BM:$BM,MATCH($A$3 & K$8,'Data Table'!$B:$B&'Data Table'!$A:$A,0)),\"\")","v":""},{"$f":"IFERROR(INDEX('Data Table'!$BM:$BM,MATCH($A$3 & L$8,'Data Table'!$B:$B&'Data Table'!$A:$A,0)),\"\")","v":""},{"$f":"IFERROR(INDEX('Data Table'!$BM:$BM,MATCH($A$3 & M$8,'Data Table'!$B:$B&'Data Table'!$A:$A,0)),\"\")","v":""},{"$f":"IFERROR(INDEX('Data Table'!$BM:$BM,MATCH($A$3 & N$8,'Data Table'!$B:$B&'Data Table'!$A:$A,0)),\"\")","v":""},{"$f":"IFERROR(INDEX('Data Table'!$BM:$BM,MATCH($A$3 & O$8,'Data Table'!$B:$B&'Data Table'!$A:$A,0)),\"\")","v":""},{"$f":"IFERROR(INDEX('Data Table'!$BM:$BM,MATCH($A$3 & P$8,'Data Table'!$B:$B&'Data Table'!$A:$A,0)),\"\")","v":""},{"$f":"IFERROR($Q$5*(Norms!B41)/100, \"No Data\")","v":"No Data"}]
["Wrist Other1","Left",{"$f":"IFERROR(INDEX('Data Table'!$BN:$BN,MATCH($A$3 & C$8,'Data Table'!$B:$B&'Data Table'!$A:$A,0)),\"\")","v":"WOth1L"},{"$f":"IFERROR(INDEX('Data Table'!$BN:$BN,MATCH($A$3 & D$8,'Data Table'!$B:$B&'Data Table'!$A:$A,0)),\"\")","v":""},{"$f":"IFERROR(INDEX('Data Table'!$BN:$BN,MATCH($A$3 & E$8,'Data Table'!$B:$B&'Data Table'!$A:$A,0)),\"\")","v":""},{"$f":"IFERROR(INDEX('Data Table'!$BN:$BN,MATCH($A$3 & F$8,'Data Table'!$B:$B&'Data Table'!$A:$A,0)),\"\")","v":""},{"$f":"IFERROR(INDEX('Data Table'!$BN:$BN,MATCH($A$3 & G$8,'Data Table'!$B:$B&'Data Table'!$A:$A,0)),\"\")","v":""},{"$f":"IFERROR(INDEX('Data Table'!$BN:$BN,MATCH($A$3 & H$8,'Data Table'!$B:$B&'Data Table'!$A:$A,0)),\"\")","v":""},{"$f":"IFERROR(INDEX('Data Table'!$BN:$BN,MATCH($A$3 & I$8,'Data Table'!$B:$B&'Data Table'!$A:$A,0)),\"\")","v":""},{"$f":"IFERROR(INDEX('Data Table'!$BN:$BN,MATCH($A$3 & J$8,'Data Table'!$B:$B&'Data Table'!$A:$A,0)),\"\")","v":""},{"$f":"IFERROR(INDEX('Data Table'!$BN:$BN,MATCH($A$3 & K$8,'Data Table'!$B:$B&'Data Table'!$A:$A,0)),\"\")","v":""},{"$f":"IFERROR(INDEX('Data Table'!$BN:$BN,MATCH($A$3 & L$8,'Data Table'!$B:$B&'Data Table'!$A:$A,0)),\"\")","v":""},{"$f":"IFERROR(INDEX('Data Table'!$BN:$BN,MATCH($A$3 & M$8,'Data Table'!$B:$B&'Data Table'!$A:$A,0)),\"\")","v":""},{"$f":"IFERROR(INDEX('Data Table'!$BN:$BN,MATCH($A$3 & N$8,'Data Table'!$B:$B&'Data Table'!$A:$A,0)),\"\")","v":""},{"$f":"IFERROR(INDEX('Data Table'!$BN:$BN,MATCH($A$3 & O$8,'Data Table'!$B:$B&'Data Table'!$A:$A,0)),\"\")","v":""},{"$f":"IFERROR(INDEX('Data Table'!$BN:$BN,MATCH($A$3 & P$8,'Data Table'!$B:$B&'Data Table'!$A:$A,0)),\"\")","v":""},"No Data"]
["Wrist Other1","Right",{"$f":"IFERROR(INDEX('Data Table'!$BO:$BO,MATCH($A$3 & C$8,'Data Table'!$B:$B&'Data Table'!$A:$A,0)),\"\")","v":"WOth1R"},{"$f":"IFERROR(INDEX('Data Table'!$BO:$BO,MATCH($A$3 & D$8,'Data Table'!$B:$B&'Data Table'!$A:$A,0)),\"\")","v":""},{"$f":"IFERROR(INDEX('Data Table'!$BO:$BO,MATCH($A$3 & E$8,'Data Table'!$B:$B&'Data Table'!$A:$A,0)),\"\")","v":""},{"$f":"IFERROR(INDEX('Data Table'!$BO:$BO,MATCH($A$3 & F$8,'Data Table'!$B:$B&'Data Table'!$A:$A,0)),\"\")","v":""},{"$f":"IFERROR(INDEX('Data Table'!$BO:$BO,MATCH($A$3 & G$8,'Data Table'!$B:$B&'Data Table'!$A:$A,0)),\"\")","v":""},{"$f":"IFERROR(INDEX('Data Table'!$BO:$BO,MATCH($A$3 & H$8,'Data Table'!$B:$B&'Data Table'!$A:$A,0)),\"\")","v":""},{"$f":"IFERROR(INDEX('Data Table'!$BO:$BO,MATCH($A$3 & I$8,'Data Table'!$B:$B&'Data Table'!$A:$A,0)),\"\")","v":""},{"$f":"IFERROR(INDEX('Data Table'!$BO:$BO,MATCH($A$3 & J$8,'Data Table'!$B:$B&'Data Table'!$A:$A,0)),\"\")","v":""},{"$f":"IFERROR(INDEX('Data Table'!$BO:$BO,MATCH($A$3 & K$8,'Data Table'!$B:$B&'Data Table'!$A:$A,0)),\"\")","v":""},{"$f":"IFERROR(INDEX('Data Table'!$BO:$BO,MATCH($A$3 & L$8,'Data Table'!$B:$B&'Data Table'!$A:$A,0)),\"\")","v":""},{"$f":"IFERROR(INDEX('Data Table'!$BO:$BO,MATCH($A$3 & M$8,'Data Table'!$B:$B&'Data Table'!$A:$A,0)),\"\")","v":""},{"$f":"IFERROR(INDEX('Data Table'!$BO:$BO,MATCH($A$3 & N$8,'Data Table'!$B:$B&'Data Table'!$A:$A,0)),\"\")","v":""},{"$f":"IFERROR(INDEX('Data Table'!$BO:$BO,MATCH($A$3 & O$8,'Data Table'!$B:$B&'Data Table'!$A:$A,0)),\"\")","v":""},{"$f":"IFERROR(INDEX('Data Table'!$BO:$BO,MATCH($A$3 & P$8,'Data Table'!$B:$B&'Data Table'!$A:$A,0)),\"\")","v":""},"No Data"]
["Wrist Other2","Left",{"$f":"IFERROR(INDEX('Data Table'!$BP:$BP,MATCH($A$3 & C$8,'Data Table'!$B:$B&'Data Table'!$A:$A,0)),\"\")","v":"WOth2L"},{"$f":"IFERROR(INDEX('Data Table'!$BP:$BP,MATCH($A$3 & D$8,'Data Table'!$B:$B&'Data Table'!$A:$A,0)),\"\")","v":""},{"$f":"IFERROR(INDEX('Data Table'!$BP:$BP,MATCH($A$3 & E$8,'Data Table'!$B:$B&'Data Table'!$A:$A,0)),\"\")","v":""},{"$f":"IFERROR(INDEX('Data Table'!$BP:$BP,MATCH($A$3 & F$8,'Data Table'!$B:$B&'Data Table'!$A:$A,0)),\"\")","v":""},{"$f":"IFERROR(INDEX('Data Table'!$BP:$BP,MATCH($A$3 & G$8,'Data Table'!$B:$B&'Data Table'!$A:$A,0)),\"\")","v":""},{"$f":"IFERROR(INDEX('Data Table'!$BP:$BP,MATCH($A$3 & H$8,'Data Table'!$B:$B&'Data Table'!$A:$A,0)),\"\")","v":""},{"$f":"IFERROR(INDEX('Data Table'!$BP:$BP,MATCH($A$3 & I$8,'Data Table'!$B:$B&'Data Table'!$A:$A,0)),\"\")","v":""},{"$f":"IFERROR(INDEX('Data Table'!$BP:$BP,MATCH($A$3 & J$8,'Data Table'!$B:$B&'Data Table'!$A:$A,0)),\"\")","v":""},{"$f":"IFERROR(INDEX('Data Table'!$BP:$BP,MATCH($A$3 & K$8,'Data Table'!$B:$B&'Data Table'!$A:$A,0)),\"\")","v":""},{"$f":"IFERROR(INDEX('Data Table'!$BP:$BP,MATCH($A$3 & L$8,'Data Table'!$B:$B&'Data Table'!$A:$A,0)),\"\")","v":""},{"$f":"IFERROR(INDEX('Data Table'!$BP:$BP,MATCH($A$3 & M$8,'Data Table'!$B:$B&'Data Table'!$A:$A,0)),\"\")","v":""},{"$f":"IFERROR(INDEX('Data Table'!$BP:$BP,MATCH($A$3 & N$8,'Data Table'!$B:$B&'Data Table'!$A:$A,0)),\"\")","v":""},{"$f":"IFERROR(INDEX('Data Table'!$BP:$BP,MATCH($A$3 & O$8,'Data Table'!$B:$B&'Data Table'!$A:$A,0)),\"\")","v":""},{"$f":"IFERROR(INDEX('Data Table'!$BP:$BP,MATCH($A$3 & P$8,'Data Table'!$B:$B&'Data Table'!$A:$A,0)),\"\")","v":""},"No Data"]
["Wrist Other2","Right",{"$f":"IFERROR(INDEX('Data Table'!$BQ:$BQ,MATCH($A$3 & C$8,'Data Table'!$B:$B&'Data Table'!$A:$A,0)),\"\")","v":"WOth2R"},{"$f":"IFERROR(INDEX('Data Table'!$BQ:$BQ,MATCH($A$3 & D$8,'Data Table'!$B:$B&'Data Table'!$A:$A,0)),\"\")","v":""},{"$f":"IFERROR(INDEX('Data Table'!$BQ:$BQ,MATCH($A$3 & E$8,'Data Table'!$B:$B&'Data Table'!$A:$A,0)),\"\")","v":""},{"$f":"IFERROR(INDEX('Data Table'!$BQ:$BQ,MATCH($A$3 & F$8,'Data Table'!$B:$B&'Data Table'!$A:$A,0)),\"\")","v":""},{"$f":"IFERROR(INDEX('Data Table'!$BQ:$BQ,MATCH($A$3 & G$8,'Data Table'!$B:$B&'Data Table'!$A:$A,0)),\"\")","v":""},{"$f":"IFERROR(INDEX('Data Table'!$BQ:$BQ,MATCH($A$3 & H$8,'Data Table'!$B:$B&'Data Table'!$A:$A,0)),\"\")","v":""},{"$f":"IFERROR(INDEX('Data Table'!$BQ:$BQ,MATCH($A$3 & I$8,'Data Table'!$B:$B&'Data Table'!$A:$A,0)),\"\")","v":""},{"$f":"IFERROR(INDEX('Data Table'!$BQ:$BQ,MATCH($A$3 & J$8,'Data Table'!$B:$B&'Data Table'!$A:$A,0)),\"\")","v":""},{"$f":"IFERROR(INDEX('Data Table'!$BQ:$BQ,MATCH($A$3 & K$8,'Data Table'!$B:$B&'Data Table'!$A:$A,0)),\"\")","v":""},{"$f":"IFERROR(INDEX('Data Table'!$BQ:$BQ,MATCH($A$3 & L$8,'Data Table'!$B:$B&'Data Table'!$A:$A,0)),\"\")","v":""},{"$f":"IFERROR(INDEX('Data Table'!$BQ:$BQ,MATCH($A$3 & M$8,'Data Table'!$B:$B&'Data Table'!$A:$A,0)),\"\")","v":""},{"$f":"IFERROR(INDEX('Data Table'!$BQ:$BQ,MATCH($A$3 & N$8,'Data Table'!$B:$B&'Data Table'!$A:$A,0)),\"\")","v":""},{"$f":"IFERROR(INDEX('Data Table'!$BQ:$BQ,MATCH($A$3 & O$8,'Data Table'!$B:$B&'Data Table'!$A:$A,0)),\"\")","v":""},{"$f":"IFERROR(INDEX('Data Table'!$BQ:$BQ,MATCH($A$3 & P$8,'Data Table'!$B:$B&'Data Table'!$A:$A,0)),\"\")","v":""},"No Data"]

{"sheet":"4. Charts","index":3,"n_rows":53,"n_cols":23,"rows_kept":53,"cut":false,"hidden":false,"merged":[]}
[]
[null,"Select movement","Hip ABduction",null,null,null,null,"Select movement","Hip ER 0/90"]
[null,null,null,null,null,null,null,null,null,null,null,null,null,null,"Left","Right","Goal",null,null,null,"Left","Right","Goal"]
[null,null,null,null,null,null,null,null,null,null,null,null,{"$f":"'3. Progress'!$C$8","v":"Test Date"},{"$f":"IF(M4>0,M4, \"\")","v":"Test Date"},{"$f":"IFERROR(INDEX('3. Progress'!$A$8:$P$112, MATCH(1, ('4. Charts'!$C$2='3. Progress'!$A$8:$A$112)*('4. Charts'!$O$3='3. Progress'!$B$8:$B$112), 0), (MATCH('4. Charts'!M4,_xlfn.ANCHORARRAY( '3. Progress'!$C$8), 0)+2)), \"\")","v":"HipAbdL"},{"$f":"IFERROR(INDEX('3. Progress'!$A$8:$P$112, MATCH(1, ('4. Charts'!$C$2='3. Progress'!$A$8:$A$112)*('4. Charts'!$P$3='3. Progress'!$B$8:$B$112), 0), (MATCH('4. Charts'!M4,_xlfn.ANCHORARRAY( '3. Progress'!$C$8), 0)+2)), \"\")","v":"HipAbdR"},{"$f":"IF(O4&P4=\"\", \"\", VLOOKUP($C$2, '3. Progress'!$A$9:$Q$112, 17, FALSE))","v":"No Data"},null,{"$f":"'3. Progress'!$C$8","v":"Test Date"},{"$f":"IF(S4>0,S4, \"\")","v":"Test Date"},{"$f":"IFERROR(INDEX('3. Progress'!$A$8:$P$112, MATCH(1, ('4. Charts'!$I$2='3. Progress'!$A$8:$A$112)*('4. Charts'!$U$3='3. Progress'!$B$8:$B$112), 0), (MATCH('4. Charts'!S4,_xlfn.ANCHORARRAY( '3. Progress'!$C$8), 0)+2)), \"\")","v":"HipER090L"},{"$f":"IFERROR(INDEX('3. Progress'!$A$8:$P$112, MATCH(1, ('4. Charts'!$I$2='3. Progress'!$A$8:$A$112)*('4. Charts'!$V$3='3. Progress'!$B$8:$B$112), 0), (MATCH('4. Charts'!S4,_xlfn.ANCHORARRAY( '3. Progress'!$C$8), 0)+2)), \"\")","v":"HipER090R"},{"$f":"IF(U4&V4=\"\", \"\", VLOOKUP($I$2, '3. Progress'!$A$9:$Q$112, 17, FALSE))","v":"No Data"}]
[null,null,null,null,null,null,null,null,null,null,null,null,{"$f":"'3. Progress'!$D$8","v":"00:00:00"},{"$f":"IF(M5>0,M5, \"\")","v":""},{"$f":"IFERROR(INDEX('3. Progress'!$A$8:$P$112, MATCH(1, ('4. Charts'!$C$2='3. Progress'!$A$8:$A$112)*('4. Charts'!$O$3='3. Progress'!$B$8:$B$112), 0), (MATCH('4. Charts'!M5,_xlfn.ANCHORARRAY( '3. Progress'!$C$8), 0)+2)), \"\")","v":""},{"$f":"IFERROR(INDEX('3. Progress'!$A$8:$P$112, MATCH(1, ('4. Charts'!$C$2='3. Progress'!$A$8:$A$112)*('4. Charts'!$P$3='3. Progress'!$B$8:$B$112), 0), (MATCH('4. Charts'!M5,_xlfn.ANCHORARRAY( '3. Progress'!$C$8), 0)+2)), \"\")","v":""},{"$f":"IF(O5&P5=\"\", \"\", VLOOKUP($C$2, '3. Progress'!$A$9:$Q$112, 17, FALSE))","v":""},null,{"$f":"'3. Progress'!$D$8","v":"00:00:00"},{"$f":"IF(S5>0,S5, \"\")","v":""},{"$f":"IFERROR(INDEX('3. Progress'!$A$8:$P$112, MATCH(1, ('4. Charts'!$I$2='3. Progress'!$A$8:$A$112)*('4. Charts'!$U$3='3. Progress'!$B$8:$B$112), 0), (MATCH('4. Charts'!S5,_xlfn.ANCHORARRAY( '3. Progress'!$C$8), 0)+2)), \"\")","v":""},{"$f":"IFERROR(INDEX('3. Progress'!$A$8:$P$112, MATCH(1, ('4. Charts'!$I$2='3. Progress'!$A$8:$A$112)*('4. Charts'!$V$3='3. Progress'!$B$8:$B$112), 0), (MATCH('4. Charts'!S5,_xlfn.ANCHORARRAY( '3. Progress'!$C$8), 0)+2)), \"\")","v":""},{"$f":"IF(U5&V5=\"\", \"\", VLOOKUP($I$2, '3. Progress'!$A$9:$Q$112, 17, FALSE))","v":""}]
[null,null,null,null,null,null,null,null,null,null,null,null,{"$f":"'3. Progress'!$E$8","v":"00:00:00"},"",{"$f":"IFERROR(INDEX('3. Progress'!$A$8:$P$112, MATCH(1, ('4. Charts'!$C$2='3. Progress'!$A$8:$A$112)*('4. Charts'!$O$3='3. Progress'!$B$8:$B$112), 0), (MATCH('4. Charts'!M6,_xlfn.ANCHORARRAY( '3. Progress'!$C$8), 0)+2)), \"\")","v":""},{"$f":"IFERROR(INDEX('3. Progress'!$A$8:$P$112, MATCH(1, ('4. Charts'!$C$2='3. Progress'!$A$8:$A$112)*('4. Charts'!$P$3='3. Progress'!$B$8:$B$112), 0), (MATCH('4. Charts'!M6,_xlfn.ANCHORARRAY( '3. Progress'!$C$8), 0)+2)), \"\")","v":""},{"$f":"IF(O6&P6=\"\", \"\", VLOOKUP($C$2, '3. Progress'!$A$9:$Q$112, 17, FALSE))","v":""},null,{"$f":"'3. Progress'!$E$8","v":"00:00:00"},"",{"$f":"IFERROR(INDEX('3. Progress'!$A$8:$P$112, MATCH(1, ('4. Charts'!$I$2='3. Progress'!$A$8:$A$112)*('4. Charts'!$U$3='3. Progress'!$B$8:$B$112), 0), (MATCH('4. Charts'!S6,_xlfn.ANCHORARRAY( '3. Progress'!$C$8), 0)+2)), \"\")","v":""},{"$f":"IFERROR(INDEX('3. Progress'!$A$8:$P$112, MATCH(1, ('4. Charts'!$I$2='3. Progress'!$A$8:$A$112)*('4. Charts'!$V$3='3. Progress'!$B$8:$B$112), 0), (MATCH('4. Charts'!S6,_xlfn.ANCHORARRAY( '3. Progress'!$C$8), 0)+2)), \"\")","v":""},{"$f":"IF(U6&V6=\"\", \"\", VLOOKUP($I$2, '3. Progress'!$A$9:$Q$112, 17, FALSE))","v":""}]
[null,null,null,null,null,null,null,null,null,null,null,null,{"$f":"'3. Progress'!$F$8","v":"00:00:00"},"",{"$f":"IFERROR(INDEX('3. Progress'!$A$8:$P$112, MATCH(1, ('4. Charts'!$C$2='3. Progress'!$A$8:$A$112)*('4. Charts'!$O$3='3. Progress'!$B$8:$B$112), 0), (MATCH('4. Charts'!M7,_xlfn.ANCHORARRAY( '3. Progress'!$C$8), 0)+2)), \"\")","v":""},{"$f":"IFERROR(INDEX('3. Progress'!$A$8:$P$112, MATCH(1, ('4. Charts'!$C$2='3. Progress'!$A$8:$A$112)*('4. Charts'!$P$3='3. Progress'!$B$8:$B$112), 0), (MATCH('4. Charts'!M7,_xlfn.ANCHORARRAY( '3. Progress'!$C$8), 0)+2)), \"\")","v":""},{"$f":"IF(O7&P7=\"\", \"\", VLOOKUP($C$2, '3. Progress'!$A$9:$Q$112, 17, FALSE))","v":""},null,{"$f":"'3. Progress'!$F$8","v":"00:00:00"},"",{"$f":"IFERROR(INDEX('3. Progress'!$A$8:$P$112, MATCH(1, ('4. Charts'!$I$2='3. Progress'!$A$8:$A$112)*('4. Charts'!$U$3='3. Progress'!$B$8:$B$112), 0), (MATCH('4. Charts'!S7,_xlfn.ANCHORARRAY( '3. Progress'!$C$8), 0)+2)), \"\")","v":""},{"$f":"IFERROR(INDEX('3. Progress'!$A$8:$P$112, MATCH(1, ('4. Charts'!$I$2='3. Progress'!$A$8:$A$112)*('4. Charts'!$V$3='3. Progress'!$B$8:$B$112), 0), (MATCH('4. Charts'!S7,_xlfn.ANCHORARRAY( '3. Progress'!$C$8), 0)+2)), \"\")","v":""},{"$f":"IF(U7&V7=\"\", \"\", VLOOKUP($I$2, '3. Progress'!$A$9:$Q$112, 17, FALSE))","v":""}]
[null,null,null,null,null,null,null,null,null,null,null,null,{"$f":"'3. Progress'!$G$8","v":"00:00:00"},"",{"$f":"IFERROR(INDEX('3. Progress'!$A$8:$P$112, MATCH(1, ('4. Charts'!$C$2='3. Progress'!$A$8:$A$112)*('4. Charts'!$O$3='3. Progress'!$B$8:$B$112), 0), (MATCH('4. Charts'!M8,_xlfn.ANCHORARRAY( '3. Progress'!$C$8), 0)+2)), \"\")","v":""},{"$f":"IFERROR(INDEX('3. Progress'!$A$8:$P$112, MATCH(1, ('4. Charts'!$C$2='3. Progress'!$A$8:$A$112)*('4. Charts'!$P$3='3. Progress'!$B$8:$B$112), 0), (MATCH('4. Charts'!M8,_xlfn.ANCHORARRAY( '3. Progress'!$C$8), 0)+2)), \"\")","v":""},{"$f":"IF(O8&P8=\"\", \"\", VLOOKUP($C$2, '3. Progress'!$A$9:$Q$112, 17, FALSE))","v":""},null,{"$f":"'3. Progress'!$G$8","v":"00:00:00"},"",{"$f":"IFERROR(INDEX('3. Progress'!$A$8:$P$112, MATCH(1, ('4. Charts'!$I$2='3. Progress'!$A$8:$A$112)*('4. Charts'!$U$3='3. Progress'!$B$8:$B$112), 0), (MATCH('4. Charts'!S8,_xlfn.ANCHORARRAY( '3. Progress'!$C$8), 0)+2)), \"\")","v":""},{"$f":"IFERROR(INDEX('3. Progress'!$A$8:$P$112, MATCH(1, ('4. Charts'!$I$2='3. Progress'!$A$8:$A$112)*('4. Charts'!$V$3='3. Progress'!$B$8:$B$112), 0), (MATCH('4. Charts'!S8,_xlfn.ANCHORARRAY( '3. Progress'!$C$8), 0)+2)), \"\")","v":""},{"$f":"IF(U8&V8=\"\", \"\", VLOOKUP($I$2, '3. Progress'!$A$9:$Q$112, 17, FALSE))","v":""}]
[null,null,null,null,null,null,null,null,null,null,null,null,{"$f":"'3. Progress'!$H$8","v":"00:00:00"},"",{"$f":"IFERROR(INDEX('3. Progress'!$A$8:$P$112, MATCH(1, ('4. Charts'!$C$2='3. Progress'!$A$8:$A$112)*('4. Charts'!$O$3='3. Progress'!$B$8:$B$112), 0), (MATCH('4. Charts'!M9,_xlfn.ANCHORARRAY( '3. Progress'!$C$8), 0)+2)), \"\")","v":""},{"$f":"IFERROR(INDEX('3. Progress'!$A$8:$P$112, MATCH(1, ('4. Charts'!$C$2='3. Progress'!$A$8:$A$112)*('4. Charts'!$P$3='3. Progress'!$B$8:$B$112), 0), (MATCH('4. Charts'!M9,_xlfn.ANCHORARRAY( '3. Progress'!$C$8), 0)+2)), \"\")","v":""},{"$f":"IF(O9&P9=\"\", \"\", VLOOKUP($C$2, '3. Progress'!$A$9:$Q$112, 17, FALSE))","v":""},null,{"$f":"'3. Progress'!$H$8","v":"00:00:00"},"",{"$f":"IFERROR(INDEX('3. Progress'!$A$8:$P$112, MATCH(1, ('4. Charts'!$I$2='3. Progress'!$A$8:$A$112)*('4. Charts'!$U$3='3. Progress'!$B$8:$B$112), 0), (MATCH('4. Charts'!S9,_xlfn.ANCHORARRAY( '3. Progress'!$C$8), 0)+2)), \"\")","v":""},{"$f":"IFERROR(INDEX('3. Progress'!$A$8:$P$112, MATCH(1, ('4. Charts'!$I$2='3. Progress'!$A$8:$A$112)*('4. Charts'!$V$3='3. Progress'!$B$8:$B$112), 0), (MATCH('4. Charts'!S9,_xlfn.ANCHORARRAY( '3. Progress'!$C$8), 0)+2)), \"\")","v":""},{"$f":"IF(U9&V9=\"\", \"\", VLOOKUP($I$2, '3. Progress'!$A$9:$Q$112, 17, FALSE))","v":""}]
[null,null,null,null,null,null,null,null,null,null,null,null,{"$f":"'3. Progress'!$I$8","v":"00:00:00"},"",{"$f":"IFERROR(INDEX('3. Progress'!$A$8:$P$112, MATCH(1, ('4. Charts'!$C$2='3. Progress'!$A$8:$A$112)*('4. Charts'!$O$3='3. Progress'!$B$8:$B$112), 0), (MATCH('4. Charts'!M10,_xlfn.ANCHORARRAY( '3. Progress'!$C$8), 0)+2)), \"\")","v":""},{"$f":"IFERROR(INDEX('3. Progress'!$A$8:$P$112, MATCH(1, ('4. Charts'!$C$2='3. Progress'!$A$8:$A$112)*('4. Charts'!$P$3='3. Progress'!$B$8:$B$112), 0), (MATCH('4. Charts'!M10,_xlfn.ANCHORARRAY( '3. Progress'!$C$8), 0)+2)), \"\")","v":""},{"$f":"IF(O10&P10=\"\", \"\", VLOOKUP($C$2, '3. Progress'!$A$9:$Q$112, 17, FALSE))","v":""},null,{"$f":"'3. Progress'!$I$8","v":"00:00:00"},"",{"$f":"IFERROR(INDEX('3. Progress'!$A$8:$P$112, MATCH(1, ('4. Charts'!$I$2='3. Progress'!$A$8:$A$112)*('4. Charts'!$U$3='3. Progress'!$B$8:$B$112), 0), (MATCH('4. Charts'!S10,_xlfn.ANCHORARRAY( '3. Progress'!$C$8), 0)+2)), \"\")","v":""},{"$f":"IFERROR(INDEX('3. Progress'!$A$8:$P$112, MATCH(1, ('4. Charts'!$I$2='3. Progress'!$A$8:$A$112)*('4. Charts'!$V$3='3. Progress'!$B$8:$B$112), 0), (MATCH('4. Charts'!S10,_xlfn.ANCHORARRAY( '3. Progress'!$C$8), 0)+2)), \"\")","v":""},{"$f":"IF(U10&V10=\"\", \"\", VLOOKUP($I$2, '3. Progress'!$A$9:$Q$112, 17, FALSE))","v":""}]
[null,null,null,null,null,null,null,null,null,null,null,null,{"$f":"'3. Progress'!$J$8","v":"00:00:00"},"",{"$f":"IFERROR(INDEX('3. Progress'!$A$8:$P$112, MATCH(1, ('4. Charts'!$C$2='3. Progress'!$A$8:$A$112)*('4. Charts'!$O$3='3. Progress'!$B$8:$B$112), 0), (MATCH('4. Charts'!M11,_xlfn.ANCHORARRAY( '3. Progress'!$C$8), 0)+2)), \"\")","v":""},{"$f":"IFERROR(INDEX('3. Progress'!$A$8:$P$112, MATCH(1, ('4. Charts'!$C$2='3. Progress'!$A$8:$A$112)*('4. Charts'!$P$3='3. Progress'!$B$8:$B$112), 0), (MATCH('4. Charts'!M11,_xlfn.ANCHORARRAY( '3. Progress'!$C$8), 0)+2)), \"\")","v":""},{"$f":"IF(O11&P11=\"\", \"\", VLOOKUP($C$2, '3. Progress'!$A$9:$Q$112, 17, FALSE))","v":""},null,{"$f":"'3. Progress'!$J$8","v":"00:00:00"},"",{"$f":"IFERROR(INDEX('3. Progress'!$A$8:$P$112, MATCH(1, ('4. Charts'!$I$2='3. Progress'!$A$8:$A$112)*('4. Charts'!$U$3='3. Progress'!$B$8:$B$112), 0), (MATCH('4. Charts'!S11,_xlfn.ANCHORARRAY( '3. Progress'!$C$8), 0)+2)), \"\")","v":""},{"$f":"IFERROR(INDEX('3. Progress'!$A$8:$P$112, MATCH(1, ('4. Charts'!$I$2='3. Progress'!$A$8:$A$112)*('4. Charts'!$V$3='3. Progress'!$B$8:$B$112), 0), (MATCH('4. Charts'!S11,_xlfn.ANCHORARRAY( '3. Progress'!$C$8), 0)+2)), \"\")","v":""},{"$f":"IF(U11&V11=\"\", \"\", VLOOKUP($I$2, '3. Progress'!$A$9:$Q$112, 17, FALSE))","v":""}]
[null,null,null,null,null,null,null,null,null,null,null,null,{"$f":"'3. Progress'!$K$8","v":"00:00:00"},"",{"$f":"IFERROR(INDEX('3. Progress'!$A$8:$P$112, MATCH(1, ('4. Charts'!$C$2='3. Progress'!$A$8:$A$112)*('4. Charts'!$O$3='3. Progress'!$B$8:$B$112), 0), (MATCH('4. Charts'!M12,_xlfn.ANCHORARRAY( '3. Progress'!$C$8), 0)+2)), \"\")","v":""},{"$f":"IFERROR(INDEX('3. Progress'!$A$8:$P$112, MATCH(1, ('4. Charts'!$C$2='3. Progress'!$A$8:$A$112)*('4. Charts'!$P$3='3. Progress'!$B$8:$B$112), 0), (MATCH('4. Charts'!M12,_xlfn.ANCHORARRAY( '3. Progress'!$C$8), 0)+2)), \"\")","v":""},{"$f":"IF(O12&P12=\"\", \"\", VLOOKUP($C$2, '3. Progress'!$A$9:$Q$112, 17, FALSE))","v":""},null,{"$f":"'3. Progress'!$K$8","v":"00:00:00"},"",{"$f":"IFERROR(INDEX('3. Progress'!$A$8:$P$112, MATCH(1, ('4. Charts'!$I$2='3. Progress'!$A$8:$A$112)*('4. Charts'!$U$3='3. Progress'!$B$8:$B$112), 0), (MATCH('4. Charts'!S12,_xlfn.ANCHORARRAY( '3. Progress'!$C$8), 0)+2)), \"\")","v":""},{"$f":"IFERROR(INDEX('3. Progress'!$A$8:$P$112, MATCH(1, ('4. Charts'!$I$2='3. Progress'!$A$8:$A$112)*('4. Charts'!$V$3='3. Progress'!$B$8:$B$112), 0), (MATCH('4. Charts'!S12,_xlfn.ANCHORARRAY( '3. Progress'!$C$8), 0)+2)), \"\")","v":""},{"$f":"IF(U12&V12=\"\", \"\", VLOOKUP($I$2, '3. Progress'!$A$9:$Q$112, 17, FALSE))","v":""}]
[null,null,null,null,null,null,null,null,null,null,null,null,{"$f":"'3. Progress'!$L$8","v":"00:00:00"},"",{"$f":"IFERROR(INDEX('3. Progress'!$A$8:$P$112, MATCH(1, ('4. Charts'!$C$2='3. Progress'!$A$8:$A$112)*('4. Charts'!$O$3='3. Progress'!$B$8:$B$112), 0), (MATCH('4. Charts'!M13,_xlfn.ANCHORARRAY( '3. Progress'!$C$8), 0)+2)), \"\")","v":""},{"$f":"IFERROR(INDEX('3. Progress'!$A$8:$P$112, MATCH(1, ('4. Charts'!$C$2='3. Progress'!$A$8:$A$112)*('4. Charts'!$P$3='3. Progress'!$B$8:$B$112), 0), (MATCH('4. Charts'!M13,_xlfn.ANCHORARRAY( '3. Progress'!$C$8), 0)+2)), \"\")","v":""},{"$f":"IF(O13&P13=\"\", \"\", VLOOKUP($C$2, '3. Progress'!$A$9:$Q$112, 17, FALSE))","v":""},null,{"$f":"'3. Progress'!$L$8","v":"00:00:00"},"",{"$f":"IFERROR(INDEX('3. Progress'!$A$8:$P$112, MATCH(1, ('4. Charts'!$I$2='3. Progress'!$A$8:$A$112)*('4. Charts'!$U$3='3. Progress'!$B$8:$B$112), 0), (MATCH('4. Charts'!S13,_xlfn.ANCHORARRAY( '3. Progress'!$C$8), 0)+2)), \"\")","v":""},{"$f":"IFERROR(INDEX('3. Progress'!$A$8:$P$112, MATCH(1, ('4. Charts'!$I$2='3. Progress'!$A$8:$A$112)*('4. Charts'!$V$3='3. Progress'!$B$8:$B$112), 0), (MATCH('4. Charts'!S13,_xlfn.ANCHORARRAY( '3. Progress'!$C$8), 0)+2)), \"\")","v":""},{"$f":"IF(U13&V13=\"\", \"\", VLOOKUP($I$2, '3. Progress'!$A$9:$Q$112, 17, FALSE))","v":""}]
[null,null,null,null,null,null,null,null,null,null,null,null,{"$f":"'3. Progress'!$M$8","v":"00:00:00"},"",{"$f":"IFERROR(INDEX('3. Progress'!$A$8:$P$112, MATCH(1, ('4. Charts'!$C$2='3. Progress'!$A$8:$A$112)*('4. Charts'!$O$3='3. Progress'!$B$8:$B$112), 0), (MATCH('4. Charts'!M14,_xlfn.ANCHORARRAY( '3. Progress'!$C$8), 0)+2)), \"\")","v":""},{"$f":"IFERROR(INDEX('3. Progress'!$A$8:$P$112, MATCH(1, ('4. Charts'!$C$2='3. Progress'!$A$8:$A$112)*('4. Charts'!$P$3='3. Progress'!$B$8:$B$112), 0), (MATCH('4. Charts'!M14,_xlfn.ANCHORARRAY( '3. Progress'!$C$8), 0)+2)), \"\")","v":""},{"$f":"IF(O14&P14=\"\", \"\", VLOOKUP($C$2, '3. Progress'!$A$9:$Q$112, 17, FALSE))","v":""},null,{"$f":"'3. Progress'!$M$8","v":"00:00:00"},"",{"$f":"IFERROR(INDEX('3. Progress'!$A$8:$P$112, MATCH(1, ('4. Charts'!$I$2='3. Progress'!$A$8:$A$112)*('4. Charts'!$U$3='3. Progress'!$B$8:$B$112), 0), (MATCH('4. Charts'!S14,_xlfn.ANCHORARRAY( '3. Progress'!$C$8), 0)+2)), \"\")","v":""},{"$f":"IFERROR(INDEX('3. Progress'!$A$8:$P$112, MATCH(1, ('4. Charts'!$I$2='3. Progress'!$A$8:$A$112)*('4. Charts'!$V$3='3. Progress'!$B$8:$B$112), 0), (MATCH('4. Charts'!S14,_xlfn.ANCHORARRAY( '3. Progress'!$C$8), 0)+2)), \"\")","v":""},{"$f":"IF(U14&V14=\"\", \"\", VLOOKUP($I$2, '3. Progress'!$A$9:$Q$112, 17, FALSE))","v":""}]
[null,null,null,null,null,null,null,null,null,null,null,null,{"$f":"'3. Progress'!$N$8","v":"00:00:00"},"",{"$f":"IFERROR(INDEX('3. Progress'!$A$8:$P$112, MATCH(1, ('4. Charts'!$C$2='3. Progress'!$A$8:$A$112)*('4. Charts'!$O$3='3. Progress'!$B$8:$B$112), 0), (MATCH('4. Charts'!M15,_xlfn.ANCHORARRAY( '3. Progress'!$C$8), 0)+2)), \"\")","v":""},{"$f":"IFERROR(INDEX('3. Progress'!$A$8:$P$112, MATCH(1, ('4. Charts'!$C$2='3. Progress'!$A$8:$A$112)*('4. Charts'!$P$3='3. Progress'!$B$8:$B$112), 0), (MATCH('4. Charts'!M15,_xlfn.ANCHORARRAY( '3. Progress'!$C$8), 0)+2)), \"\")","v":""},{"$f":"IF(O15&P15=\"\", \"\", VLOOKUP($C$2, '3. Progress'!$A$9:$Q$112, 17, FALSE))","v":""},null,{"$f":"'3. Progress'!$N$8","v":"00:00:00"},"",{"$f":"IFERROR(INDEX('3. Progress'!$A$8:$P$112, MATCH(1, ('4. Charts'!$I$2='3. Progress'!$A$8:$A$112)*('4. Charts'!$U$3='3. Progress'!$B$8:$B$112), 0), (MATCH('4. Charts'!S15,_xlfn.ANCHORARRAY( '3. Progress'!$C$8), 0)+2)), \"\")","v":""},{"$f":"IFERROR(INDEX('3. Progress'!$A$8:$P$112, MATCH(1, ('4. Charts'!$I$2='3. Progress'!$A$8:$A$112)*('4. Charts'!$V$3='3. Progress'!$B$8:$B$112), 0), (MATCH('4. Charts'!S15,_xlfn.ANCHORARRAY( '3. Progress'!$C$8), 0)+2)), \"\")","v":""},{"$f":"IF(U15&V15=\"\", \"\", VLOOKUP($I$2, '3. Progress'!$A$9:$Q$112, 17, FALSE))","v":""}]
[null,null,null,null,null,null,null,null,null,null,null,null,{"$f":"'3. Progress'!$O$8","v":"00:00:00"},"",{"$f":"IFERROR(INDEX('3. Progress'!$A$8:$P$112, MATCH(1, ('4. Charts'!$C$2='3. Progress'!$A$8:$A$112)*('4. Charts'!$O$3='3. Progress'!$B$8:$B$112), 0), (MATCH('4. Charts'!M16,_xlfn.ANCHORARRAY( '3. Progress'!$C$8), 0)+2)), \"\")","v":""},{"$f":"IFERROR(INDEX('3. Progress'!$A$8:$P$112, MATCH(1, ('4. Charts'!$C$2='3. Progress'!$A$8:$A$112)*('4. Charts'!$P$3='3. Progress'!$B$8:$B$112), 0), (MATCH('4. Charts'!M16,_xlfn.ANCHORARRAY( '3. Progress'!$C$8), 0)+2)), \"\")","v":""},{"$f":"IF(O16&P16=\"\", \"\", VLOOKUP($C$2, '3. Progress'!$A$9:$Q$112, 17, FALSE))","v":""},null,{"$f":"'3. Progress'!$O$8","v":"00:00:00"},"",{"$f":"IFERROR(INDEX('3. Progress'!$A$8:$P$112, MATCH(1, ('4. Charts'!$I$2='3. Progress'!$A$8:$A$112)*('4. Charts'!$U$3='3. Progress'!$B$8:$B$112), 0), (MATCH('4. Charts'!S16,_xlfn.ANCHORARRAY( '3. Progress'!$C$8), 0)+2)), \"\")","v":""},{"$f":"IFERROR(INDEX('3. Progress'!$A$8:$P$112, MATCH(1, ('4. Charts'!$I$2='3. Progress'!$A$8:$A$112)*('4. Charts'!$V$3='3. Progress'!$B$8:$B$112), 0), (MATCH('4. Charts'!S16,_xlfn.ANCHORARRAY( '3. Progress'!$C$8), 0)+2)), \"\")","v":""},{"$f":"IF(U16&V16=\"\", \"\", VLOOKUP($I$2, '3. Progress'!$A$9:$Q$112, 17, FALSE))","v":""}]
[null,null,null,null,null,null,null,null,null,null,null,null,{"$f":"'3. Progress'!$P$8","v":"00:00:00"},"",{"$f":"IFERROR(INDEX('3. Progress'!$A$8:$P$112, MATCH(1, ('4. Charts'!$C$2='3. Progress'!$A$8:$A$112)*('4. Charts'!$O$3='3. Progress'!$B$8:$B$112), 0), (MATCH('4. Charts'!M17,_xlfn.ANCHORARRAY( '3. Progress'!$C$8), 0)+2)), \"\")","v":""},{"$f":"IFERROR(INDEX('3. Progress'!$A$8:$P$112, MATCH(1, ('4. Charts'!$C$2='3. Progress'!$A$8:$A$112)*('4. Charts'!$P$3='3. Progress'!$B$8:$B$112), 0), (MATCH('4. Charts'!M17,_xlfn.ANCHORARRAY( '3. Progress'!$C$8), 0)+2)), \"\")","v":""},{"$f":"IF(O17&P17=\"\", \"\", VLOOKUP($C$2, '3. Progress'!$A$9:$Q$112, 17, FALSE))","v":""},null,{"$f":"'3. Progress'!$P$8","v":"00:00:00"},"",{"$f":"IFERROR(INDEX('3. Progress'!$A$8:$P$112, MATCH(1, ('4. Charts'!$I$2='3. Progress'!$A$8:$A$112)*('4. Charts'!$U$3='3. Progress'!$B$8:$B$112), 0), (MATCH('4. Charts'!S17,_xlfn.ANCHORARRAY( '3. Progress'!$C$8), 0)+2)), \"\")","v":""},{"$f":"IFERROR(INDEX('3. Progress'!$A$8:$P$112, MATCH(1, ('4. Charts'!$I$2='3. Progress'!$A$8:$A$112)*('4. Charts'!$V$3='3. Progress'!$B$8:$B$112), 0), (MATCH('4. Charts'!S17,_xlfn.ANCHORARRAY( '3. Progress'!$C$8), 0)+2)), \"\")","v":""},{"$f":"IF(U17&V17=\"\", \"\", VLOOKUP($I$2, '3. Progress'!$A$9:$Q$112, 17, FALSE))","v":""}]
[]
[]
[null,"Select movement","Hip Extension @ 90*",null,null,null,null,"Select movement","Shoulder ABduction"]
[null,null,null,null,null,null,null,null,null,null,null,null,null,null,"Left","Right","Goal",null,null,null,"Left","Right","Goal"]
[null,null,null,null,null,null,null,null,null,null,null,null,{"$f":"'3. Progress'!$C$8","v":"Test Date"},{"$f":"IF(M22>0,M22, \"\")","v":"Test Date"},{"$f":"IFERROR(INDEX('3. Progress'!$A$8:$P$112, MATCH(1, ('4. Charts'!$C$20='3. Progress'!$A$8:$A$112)*('4. Charts'!$O$21='3. Progress'!$B$8:$B$112), 0), (MATCH('4. Charts'!M22,_xlfn.ANCHORARRAY( '3. Progress'!$C$8), 0)+2)), \"\")","v":"HipExt90L"},{"$f":"IFERROR(INDEX('3. Progress'!$A$8:$P$112, MATCH(1, ('4. Charts'!$C$20='3. Progress'!$A$8:$A$112)*('4. Charts'!$P$21='3. Progress'!$B$8:$B$112), 0), (MATCH('4. Charts'!M22,_xlfn.ANCHORARRAY( '3. Progress'!$C$8), 0)+2)), \"\")","v":"HipExt90R"},{"$f":"IF(O22&P22=\"\", \"\", VLOOKUP($C$20, '3. Progress'!$A$9:$Q$112, 17, FALSE))","v":"No Data"},null,{"$f":"'3. Progress'!$C$8","v":"Test Date"},{"$f":"IF(S22>0,S22, \"\")","v":"Test Date"},{"$f":"IFERROR(INDEX('3. Progress'!$A$8:$P$112, MATCH(1, ('4. Charts'!$I$20='3. Progress'!$A$8:$A$112)*('4. Charts'!$U$21='3. Progress'!$B$8:$B$112), 0), (MATCH('4. Charts'!S22,_xlfn.ANCHORARRAY( '3. Progress'!$C$8), 0)+2)), \"\")","v":"ShldAbdL"},{"$f":"IFERROR(INDEX('3. Progress'!$A$8:$P$112, MATCH(1, ('4. Charts'!$I$20='3. Progress'!$A$8:$A$112)*('4. Charts'!$V$21='3. Progress'!$B$8:$B$112), 0), (MATCH('4. Charts'!S22,_xlfn.ANCHORARRAY( '3. Progress'!$C$8), 0)+2)), \"\")","v":"ShldAbdR"},{"$f":"IF(U22&V22=\"\", \"\", VLOOKUP($I$20, '3. Progress'!$A$9:$Q$112, 17, FALSE))","v":"No Data"}]
[null,null,null,null,null,null,null,null,null,null,null,null,{"$f":"'3. Progress'!$D$8","v":"00:00:00"},{"$f":"IF(M23>0,M23, \"\")","v":""},{"$f":"IFERROR(INDEX('3. Progress'!$A$8:$P$112, MATCH(1, ('4. Charts'!$C$20='3. Progress'!$A$8:$A$112)*('4. Charts'!$O$21='3. Progress'!$B$8:$B$112), 0), (MATCH('4. Charts'!M23,_xlfn.ANCHORARRAY( '3. Progress'!$C$8), 0)+2)), \"\")","v":""},{"$f":"IFERROR(INDEX('3. Progress'!$A$8:$P$112, MATCH(1, ('4. Charts'!$C$20='3. Progress'!$A$8:$A$112)*('4. Charts'!$P$21='3. Progress'!$B$8:$B$112), 0), (MATCH('4. Charts'!M23,_xlfn.ANCHORARRAY( '3. Progress'!$C$8), 0)+2)), \"\")","v":""},{"$f":"IF(O23&P23=\"\", \"\", VLOOKUP($C$20, '3. Progress'!$A$9:$Q$112, 17, FALSE))","v":""},null,{"$f":"'3. Progress'!$D$8","v":"00:00:00"},{"$f":"IF(S23>0,S23, \"\")","v":""},{"$f":"IFERROR(INDEX('3. Progress'!$A$8:$P$112, MATCH(1, ('4. Charts'!$I$20='3. Progress'!$A$8:$A$112)*('4. Charts'!$U$21='3. Progress'!$B$8:$B$112), 0), (MATCH('4. Charts'!S23,_xlfn.ANCHORARRAY( '3. Progress'!$C$8), 0)+2)), \"\")","v":""},{"$f":"IFERROR(INDEX('3. Progress'!$A$8:$P$112, MATCH(1, ('4. Charts'!$I$20='3. Progress'!$A$8:$A$112)*('4. Charts'!$V$21='3. Progress'!$B$8:$B$112), 0), (MATCH('4. Charts'!S23,_xlfn.ANCHORARRAY( '3. Progress'!$C$8), 0)+2)), \"\")","v":""},{"$f":"IF(U23&V23=\"\", \"\", VLOOKUP($C$2, '3. Progress'!$A$9:$Q$112, 17, FALSE))","v":""}]
[null,null,null,null,null,null,null,null,null,null,null,null,{"$f":"'3. Progress'!$E$8","v":"00:00:00"},"",{"$f":"IFERROR(INDEX('3. Progress'!$A$8:$P$112, MATCH(1, ('4. Charts'!$C$20='3. Progress'!$A$8:$A$112)*('4. Charts'!$O$21='3. Progress'!$B$8:$B$112), 0), (MATCH('4. Charts'!M24,_xlfn.ANCHORARRAY( '3. Progress'!$C$8), 0)+2)), \"\")","v":""},{"$f":"IFERROR(INDEX('3. Progress'!$A$8:$P$112, MATCH(1, ('4. Charts'!$C$20='3. Progress'!$A$8:$A$112)*('4. Charts'!$P$21='3. Progress'!$B$8:$B$112), 0), (MATCH('4. Charts'!M24,_xlfn.ANCHORARRAY( '3. Progress'!$C$8), 0)+2)), \"\")","v":""},{"$f":"IF(O24&P24=\"\", \"\", VLOOKUP($C$20, '3. Progress'!$A$9:$Q$112, 17, FALSE))","v":""},null,{"$f":"'3. Progress'!$E$8","v":"00:00:00"},"",{"$f":"IFERROR(INDEX('3. Progress'!$A$8:$P$112, MATCH(1, ('4. Charts'!$I$20='3. Progress'!$A$8:$A$112)*('4. Charts'!$U$21='3. Progress'!$B$8:$B$112), 0), (MATCH('4. Charts'!S24,_xlfn.ANCHORARRAY( '3. Progress'!$C$8), 0)+2)), \"\")","v":""},{"$f":"IFERROR(INDEX('3. Progress'!$A$8:$P$112, MATCH(1, ('4. Charts'!$I$20='3. Progress'!$A$8:$A$112)*('4. Charts'!$V$21='3. Progress'!$B$8:$B$112), 0), (MATCH('4. Charts'!S24,_xlfn.ANCHORARRAY( '3. Progress'!$C$8), 0)+2)), \"\")","v":""},{"$f":"IF(U24&V24=\"\", \"\", VLOOKUP($C$2, '3. Progress'!$A$9:$Q$112, 17, FALSE))","v":""}]
[null,null,null,null,null,null,null,null,null,null,null,null,{"$f":"'3. Progress'!$F$8","v":"00:00:00"},"",{"$f":"IFERROR(INDEX('3. Progress'!$A$8:$P$112, MATCH(1, ('4. Charts'!$C$20='3. Progress'!$A$8:$A$112)*('4. Charts'!$O$21='3. Progress'!$B$8:$B$112), 0), (MATCH('4. Charts'!M25,_xlfn.ANCHORARRAY( '3. Progress'!$C$8), 0)+2)), \"\")","v":""},{"$f":"IFERROR(INDEX('3. Progress'!$A$8:$P$112, MATCH(1, ('4. Charts'!$C$20='3. Progress'!$A$8:$A$112)*('4. Charts'!$P$21='3. Progress'!$B$8:$B$112), 0), (MATCH('4. Charts'!M25,_xlfn.ANCHORARRAY( '3. Progress'!$C$8), 0)+2)), \"\")","v":""},{"$f":"IF(O25&P25=\"\", \"\", VLOOKUP($C$20, '3. Progress'!$A$9:$Q$112, 17, FALSE))","v":""},null,{"$f":"'3. Progress'!$F$8","v":"00:00:00"},"",{"$f":"IFERROR(INDEX('3. Progress'!$A$8:$P$112, MATCH(1, ('4. Charts'!$I$20='3. Progress'!$A$8:$A$112)*('4. Charts'!$U$21='3. Progress'!$B$8:$B$112), 0), (MATCH('4. Charts'!S25,_xlfn.ANCHORARRAY( '3. Progress'!$C$8), 0)+2)), \"\")","v":""},{"$f":"IFERROR(INDEX('3. Progress'!$A$8:$P$112, MATCH(1, ('4. Charts'!$I$20='3. Progress'!$A$8:$A$112)*('4. Charts'!$V$21='3. Progress'!$B$8:$B$112), 0), (MATCH('4. Charts'!S25,_xlfn.ANCHORARRAY( '3. Progress'!$C$8), 0)+2)), \"\")","v":""},{"$f":"IF(U25&V25=\"\", \"\", VLOOKUP($C$2, '3. Progress'!$A$9:$Q$112, 17, FALSE))","v":""}]
[null,null,null,null,null,null,null,null,null,null,null,null,{"$f":"'3. Progress'!$G$8","v":"00:00:00"},"",{"$f":"IFERROR(INDEX('3. Progress'!$A$8:$P$112, MATCH(1, ('4. Charts'!$C$20='3. Progress'!$A$8:$A$112)*('4. Charts'!$O$21='3. Progress'!$B$8:$B$112), 0), (MATCH('4. Charts'!M26,_xlfn.ANCHORARRAY( '3. Progress'!$C$8), 0)+2)), \"\")","v":""},{"$f":"IFERROR(INDEX('3. Progress'!$A$8:$P$112, MATCH(1, ('4. Charts'!$C$20='3. Progress'!$A$8:$A$112)*('4. Charts'!$P$21='3. Progress'!$B$8:$B$112), 0), (MATCH('4. Charts'!M26,_xlfn.ANCHORARRAY( '3. Progress'!$C$8), 0)+2)), \"\")","v":""},{"$f":"IF(O26&P26=\"\", \"\", VLOOKUP($C$20, '3. Progress'!$A$9:$Q$112, 17, FALSE))","v":""},null,{"$f":"'3. Progress'!$G$8","v":"00:00:00"},"",{"$f":"IFERROR(INDEX('3. Progress'!$A$8:$P$112, MATCH(1, ('4. Charts'!$I$20='3. Progress'!$A$8:$A$112)*('4. Charts'!$U$21='3. Progress'!$B$8:$B$112), 0), (MATCH('4. Charts'!S26,_xlfn.ANCHORARRAY( '3. Progress'!$C$8), 0)+2)), \"\")","v":""},{"$f":"IFERROR(INDEX('3. Progress'!$A$8:$P$112, MATCH(1, ('4. Charts'!$I$20='3. Progress'!$A$8:$A$112)*('4. Charts'!$V$21='3. Progress'!$B$8:$B$112), 0), (MATCH('4. Charts'!S26,_xlfn.ANCHORARRAY( '3. Progress'!$C$8), 0)+2)), \"\")","v":""},{"$f":"IF(U26&V26=\"\", \"\", VLOOKUP($C$2, '3. Progress'!$A$9:$Q$112, 17, FALSE))","v":""}]
[null,null,null,null,null,null,null,null,null,null,null,null,{"$f":"'3. Progress'!$H$8","v":"00:00:00"},"",{"$f":"IFERROR(INDEX('3. Progress'!$A$8:$P$112, MATCH(1, ('4. Charts'!$C$20='3. Progress'!$A$8:$A$112)*('4. Charts'!$O$21='3. Progress'!$B$8:$B$112), 0), (MATCH('4. Charts'!M27,_xlfn.ANCHORARRAY( '3. Progress'!$C$8), 0)+2)), \"\")","v":""},{"$f":"IFERROR(INDEX('3. Progress'!$A$8:$P$112, MATCH(1, ('4. Charts'!$C$20='3. Progress'!$A$8:$A$112)*('4. Charts'!$P$21='3. Progress'!$B$8:$B$112), 0), (MATCH('4. Charts'!M27,_xlfn.ANCHORARRAY( '3. Progress'!$C$8), 0)+2)), \"\")","v":""},{"$f":"IF(O27&P27=\"\", \"\", VLOOKUP($C$20, '3. Progress'!$A$9:$Q$112, 17, FALSE))","v":""},null,{"$f":"'3. Progress'!$H$8","v":"00:00:00"},"",{"$f":"IFERROR(INDEX('3. Progress'!$A$8:$P$112, MATCH(1, ('4. Charts'!$I$20='3. Progress'!$A$8:$A$112)*('4. Charts'!$U$21='3. Progress'!$B$8:$B$112), 0), (MATCH('4. Charts'!S27,_xlfn.ANCHORARRAY( '3. Progress'!$C$8), 0)+2)), \"\")","v":""},{"$f":"IFERROR(INDEX('3. Progress'!$A$8:$P$112, MATCH(1, ('4. Charts'!$I$20='3. Progress'!$A$8:$A$112)*('4. Charts'!$V$21='3. Progress'!$B$8:$B$112), 0), (MATCH('4. Charts'!S27,_xlfn.ANCHORARRAY( '3. Progress'!$C$8), 0)+2)), \"\")","v":""},{"$f":"IF(U27&V27=\"\", \"\", VLOOKUP($C$2, '3. Progress'!$A$9:$Q$112, 17, FALSE))","v":""}]
[null,null,null,null,null,null,null,null,null,null,null,null,{"$f":"'3. Progress'!$I$8","v":"00:00:00"},"",{"$f":"IFERROR(INDEX('3. Progress'!$A$8:$P$112, MATCH(1, ('4. Charts'!$C$20='3. Progress'!$A$8:$A$112)*('4. Charts'!$O$21='3. Progress'!$B$8:$B$112), 0), (MATCH('4. Charts'!M28,_xlfn.ANCHORARRAY( '3. Progress'!$C$8), 0)+2)), \"\")","v":""},{"$f":"IFERROR(INDEX('3. Progress'!$A$8:$P$112, MATCH(1, ('4. Charts'!$C$20='3. Progress'!$A$8:$A$112)*('4. Charts'!$P$21='3. Progress'!$B$8:$B$112), 0), (MATCH('4. Charts'!M28,_xlfn.ANCHORARRAY( '3. Progress'!$C$8), 0)+2)), \"\")","v":""},{"$f":"IF(O28&P28=\"\", \"\", VLOOKUP($C$20, '3. Progress'!$A$9:$Q$112, 17, FALSE))","v":""},null,{"$f":"'3. Progress'!$I$8","v":"00:00:00"},"",{"$f":"IFERROR(INDEX('3. Progress'!$A$8:$P$112, MATCH(1, ('4. Charts'!$I$20='3. Progress'!$A$8:$A$112)*('4. Charts'!$U$21='3. Progress'!$B$8:$B$112), 0), (MATCH('4. Charts'!S28,_xlfn.ANCHORARRAY( '3. Progress'!$C$8), 0)+2)), \"\")","v":""},{"$f":"IFERROR(INDEX('3. Progress'!$A$8:$P$112, MATCH(1, ('4. Charts'!$I$20='3. Progress'!$A$8:$A$112)*('4. Charts'!$V$21='3. Progress'!$B$8:$B$112), 0), (MATCH('4. Charts'!S28,_xlfn.ANCHORARRAY( '3. Progress'!$C$8), 0)+2)), \"\")","v":""},{"$f":"IF(U28&V28=\"\", \"\", VLOOKUP($C$2, '3. Progress'!$A$9:$Q$112, 17, FALSE))","v":""}]
[null,null,null,null,null,null,null,null,null,null,null,null,{"$f":"'3. Progress'!$J$8","v":"00:00:00"},"",{"$f":"IFERROR(INDEX('3. Progress'!$A$8:$P$112, MATCH(1, ('4. Charts'!$C$20='3. Progress'!$A$8:$A$112)*('4. Charts'!$O$21='3. Progress'!$B$8:$B$112), 0), (MATCH('4. Charts'!M29,_xlfn.ANCHORARRAY( '3. Progress'!$C$8), 0)+2)), \"\")","v":""},{"$f":"IFERROR(INDEX('3. Progress'!$A$8:$P$112, MATCH(1, ('4. Charts'!$C$20='3. Progress'!$A$8:$A$112)*('4. Charts'!$P$21='3. Progress'!$B$8:$B$112), 0), (MATCH('4. Charts'!M29,_xlfn.ANCHORARRAY( '3. Progress'!$C$8), 0)+2)), \"\")","v":""},{"$f":"IF(O29&P29=\"\", \"\", VLOOKUP($C$20, '3. Progress'!$A$9:$Q$112, 17, FALSE))","v":""},null,{"$f":"'3. Progress'!$J$8","v":"00:00:00"},"",{"$f":"IFERROR(INDEX('3. Progress'!$A$8:$P$112, MATCH(1, ('4. Charts'!$I$20='3. Progress'!$A$8:$A$112)*('4. Charts'!$U$21='3. Progress'!$B$8:$B$112), 0), (MATCH('4. Charts'!S29,_xlfn.ANCHORARRAY( '3. Progress'!$C$8), 0)+2)), \"\")","v":""},{"$f":"IFERROR(INDEX('3. Progress'!$A$8:$P$112, MATCH(1, ('4. Charts'!$I$20='3. Progress'!$A$8:$A$112)*('4. Charts'!$V$21='3. Progress'!$B$8:$B$112), 0), (MATCH('4. Charts'!S29,_xlfn.ANCHORARRAY( '3. Progress'!$C$8), 0)+2)), \"\")","v":""},{"$f":"IF(U29&V29=\"\", \"\", VLOOKUP($C$2, '3. Progress'!$A$9:$Q$112, 17, FALSE))","v":""}]
[null,null,null,null,null,null,null,null,null,null,null,null,{"$f":"'3. Progress'!$K$8","v":"00:00:00"},"",{"$f":"IFERROR(INDEX('3. Progress'!$A$8:$P$112, MATCH(1, ('4. Charts'!$C$20='3. Progress'!$A$8:$A$112)*('4. Charts'!$O$21='3. Progress'!$B$8:$B$112), 0), (MATCH('4. Charts'!M30,_xlfn.ANCHORARRAY( '3. Progress'!$C$8), 0)+2)), \"\")","v":""},{"$f":"IFERROR(INDEX('3. Progress'!$A$8:$P$112, MATCH(1, ('4. Charts'!$C$20='3. Progress'!$A$8:$A$112)*('4. Charts'!$P$21='3. Progress'!$B$8:$B$112), 0), (MATCH('4. Charts'!M30,_xlfn.ANCHORARRAY( '3. Progress'!$C$8), 0)+2)), \"\")","v":""},{"$f":"IF(O30&P30=\"\", \"\", VLOOKUP($C$20, '3. Progress'!$A$9:$Q$112, 17, FALSE))","v":""},null,{"$f":"'3. Progress'!$K$8","v":"00:00:00"},"",{"$f":"IFERROR(INDEX('3. Progress'!$A$8:$P$112, MATCH(1, ('4. Charts'!$I$20='3. Progress'!$A$8:$A$112)*('4. Charts'!$U$21='3. Progress'!$B$8:$B$112), 0), (MATCH('4. Charts'!S30,_xlfn.ANCHORARRAY( '3. Progress'!$C$8), 0)+2)), \"\")","v":""},{"$f":"IFERROR(INDEX('3. Progress'!$A$8:$P$112, MATCH(1, ('4. Charts'!$I$20='3. Progress'!$A$8:$A$112)*('4. Charts'!$V$21='3. Progress'!$B$8:$B$112), 0), (MATCH('4. Charts'!S30,_xlfn.ANCHORARRAY( '3. Progress'!$C$8), 0)+2)), \"\")","v":""},{"$f":"IF(U30&V30=\"\", \"\", VLOOKUP($C$2, '3. Progress'!$A$9:$Q$112, 17, FALSE))","v":""}]
[null,null,null,null,null,null,null,null,null,null,null,null,{"$f":"'3. Progress'!$L$8","v":"00:00:00"},"",{"$f":"IFERROR(INDEX('3. Progress'!$A$8:$P$112, MATCH(1, ('4. Charts'!$C$20='3. Progress'!$A$8:$A$112)*('4. Charts'!$O$21='3. Progress'!$B$8:$B$112), 0), (MATCH('4. Charts'!M31,_xlfn.ANCHORARRAY( '3. Progress'!$C$8), 0)+2)), \"\")","v":""},{"$f":"IFERROR(INDEX('3. Progress'!$A$8:$P$112, MATCH(1, ('4. Charts'!$C$20='3. Progress'!$A$8:$A$112)*('4. Charts'!$P$21='3. Progress'!$B$8:$B$112), 0), (MATCH('4. Charts'!M31,_xlfn.ANCHORARRAY( '3. Progress'!$C$8), 0)+2)), \"\")","v":""},{"$f":"IF(O31&P31=\"\", \"\", VLOOKUP($C$20, '3. Progress'!$A$9:$Q$112, 17, FALSE))","v":""},null,{"$f":"'3. Progress'!$L$8","v":"00:00:00"},"",{"$f":"IFERROR(INDEX('3. Progress'!$A$8:$P$112, MATCH(1, ('4. Charts'!$I$20='3. Progress'!$A$8:$A$112)*('4. Charts'!$U$21='3. Progress'!$B$8:$B$112), 0), (MATCH('4. Charts'!S31,_xlfn.ANCHORARRAY( '3. Progress'!$C$8), 0)+2)), \"\")","v":""},{"$f":"IFERROR(INDEX('3. Progress'!$A$8:$P$112, MATCH(1, ('4. Charts'!$I$20='3. Progress'!$A$8:$A$112)*('4. Charts'!$V$21='3. Progress'!$B$8:$B$112), 0), (MATCH('4. Charts'!S31,_xlfn.ANCHORARRAY( '3. Progress'!$C$8), 0)+2)), \"\")","v":""},{"$f":"IF(U31&V31=\"\", \"\", VLOOKUP($C$2, '3. Progress'!$A$9:$Q$112, 17, FALSE))","v":""}]
[null,null,null,null,null,null,null,null,null,null,null,null,{"$f":"'3. Progress'!$M$8","v":"00:00:00"},"",{"$f":"IFERROR(INDEX('3. Progress'!$A$8:$P$112, MATCH(1, ('4. Charts'!$C$20='3. Progress'!$A$8:$A$112)*('4. Charts'!$O$21='3. Progress'!$B$8:$B$112), 0), (MATCH('4. Charts'!M32,_xlfn.ANCHORARRAY( '3. Progress'!$C$8), 0)+2)), \"\")","v":""},{"$f":"IFERROR(INDEX('3. Progress'!$A$8:$P$112, MATCH(1, ('4. Charts'!$C$20='3. Progress'!$A$8:$A$112)*('4. Charts'!$P$21='3. Progress'!$B$8:$B$112), 0), (MATCH('4. Charts'!M32,_xlfn.ANCHORARRAY( '3. Progress'!$C$8), 0)+2)), \"\")","v":""},{"$f":"IF(O32&P32=\"\", \"\", VLOOKUP($C$20, '3. Progress'!$A$9:$Q$112, 17, FALSE))","v":""},null,{"$f":"'3. Progress'!$M$8","v":"00:00:00"},"",{"$f":"IFERROR(INDEX('3. Progress'!$A$8:$P$112, MATCH(1, ('4. Charts'!$I$20='3. Progress'!$A$8:$A$112)*('4. Charts'!$U$21='3. Progress'!$B$8:$B$112), 0), (MATCH('4. Charts'!S32,_xlfn.ANCHORARRAY( '3. Progress'!$C$8), 0)+2)), \"\")","v":""},{"$f":"IFERROR(INDEX('3. Progress'!$A$8:$P$112, MATCH(1, ('4. Charts'!$I$20='3. Progress'!$A$8:$A$112)*('4. Charts'!$V$21='3. Progress'!$B$8:$B$112), 0), (MATCH('4. Charts'!S32,_xlfn.ANCHORARRAY( '3. Progress'!$C$8), 0)+2)), \"\")","v":""},{"$f":"IF(U32&V32=\"\", \"\", VLOOKUP($C$2, '3. Progress'!$A$9:$Q$112, 17, FALSE))","v":""}]
[null,null,null,null,null,null,null,null,null,null,null,null,{"$f":"'3. Progress'!$N$8","v":"00:00:00"},"",{"$f":"IFERROR(INDEX('3. Progress'!$A$8:$P$112, MATCH(1, ('4. Charts'!$C$20='3. Progress'!$A$8:$A$112)*('4. Charts'!$O$21='3. Progress'!$B$8:$B$112), 0), (MATCH('4. Charts'!M33,_xlfn.ANCHORARRAY( '3. Progress'!$C$8), 0)+2)), \"\")","v":""},{"$f":"IFERROR(INDEX('3. Progress'!$A$8:$P$112, MATCH(1, ('4. Charts'!$C$20='3. Progress'!$A$8:$A$112)*('4. Charts'!$P$21='3. Progress'!$B$8:$B$112), 0), (MATCH('4. Charts'!M33,_xlfn.ANCHORARRAY( '3. Progress'!$C$8), 0)+2)), \"\")","v":""},{"$f":"IF(O33&P33=\"\", \"\", VLOOKUP($C$20, '3. Progress'!$A$9:$Q$112, 17, FALSE))","v":""},null,{"$f":"'3. Progress'!$N$8","v":"00:00:00"},"",{"$f":"IFERROR(INDEX('3. Progress'!$A$8:$P$112, MATCH(1, ('4. Charts'!$I$20='3. Progress'!$A$8:$A$112)*('4. Charts'!$U$21='3. Progress'!$B$8:$B$112), 0), (MATCH('4. Charts'!S33,_xlfn.ANCHORARRAY( '3. Progress'!$C$8), 0)+2)), \"\")","v":""},{"$f":"IFERROR(INDEX('3. Progress'!$A$8:$P$112, MATCH(1, ('4. Charts'!$I$20='3. Progress'!$A$8:$A$112)*('4. Charts'!$V$21='3. Progress'!$B$8:$B$112), 0), (MATCH('4. Charts'!S33,_xlfn.ANCHORARRAY( '3. Progress'!$C$8), 0)+2)), \"\")","v":""},{"$f":"IF(U33&V33=\"\", \"\", VLOOKUP($C$2, '3. Progress'!$A$9:$Q$112, 17, FALSE))","v":""}]
[null,null,null,null,null,null,null,null,null,null,null,null,{"$f":"'3. Progress'!$O$8","v":"00:00:00"},"",{"$f":"IFERROR(INDEX('3. Progress'!$A$8:$P$112, MATCH(1, ('4. Charts'!$C$20='3. Progress'!$A$8:$A$112)*('4. Charts'!$O$21='3. Progress'!$B$8:$B$112), 0), (MATCH('4. Charts'!M34,_xlfn.ANCHORARRAY( '3. Progress'!$C$8), 0)+2)), \"\")","v":""},{"$f":"IFERROR(INDEX('3. Progress'!$A$8:$P$112, MATCH(1, ('4. Charts'!$C$20='3. Progress'!$A$8:$A$112)*('4. Charts'!$P$21='3. Progress'!$B$8:$B$112), 0), (MATCH('4. Charts'!M34,_xlfn.ANCHORARRAY( '3. Progress'!$C$8), 0)+2)), \"\")","v":""},{"$f":"IF(O34&P34=\"\", \"\", VLOOKUP($C$20, '3. Progress'!$A$9:$Q$112, 17, FALSE))","v":""},null,{"$f":"'3. Progress'!$O$8","v":"00:00:00"},"",{"$f":"IFERROR(INDEX('3. Progress'!$A$8:$P$112, MATCH(1, ('4. Charts'!$I$20='3. Progress'!$A$8:$A$112)*('4. Charts'!$U$21='3. Progress'!$B$8:$B$112), 0), (MATCH('4. Charts'!S34,_xlfn.ANCHORARRAY( '3. Progress'!$C$8), 0)+2)), \"\")","v":""},{"$f":"IFERROR(INDEX('3. Progress'!$A$8:$P$112, MATCH(1, ('4. Charts'!$I$20='3. Progress'!$A$8:$A$112)*('4. Charts'!$V$21='3. Progress'!$B$8:$B$112), 0), (MATCH('4. Charts'!S34,_xlfn.ANCHORARRAY( '3. Progress'!$C$8), 0)+2)), \"\")","v":""},{"$f":"IF(U34&V34=\"\", \"\", VLOOKUP($C$2, '3. Progress'!$A$9:$Q$112, 17, FALSE))","v":""}]
[null,null,null,null,null,null,null,null,null,null,null,null,{"$f":"'3. Progress'!$P$8","v":"00:00:00"},"",{"$f":"IFERROR(INDEX('3. Progress'!$A$8:$P$112, MATCH(1, ('4. Charts'!$C$20='3. Progress'!$A$8:$A$112)*('4. Charts'!$O$21='3. Progress'!$B$8:$B$112), 0), (MATCH('4. Charts'!M35,_xlfn.ANCHORARRAY( '3. Progress'!$C$8), 0)+2)), \"\")","v":""},{"$f":"IFERROR(INDEX('3. Progress'!$A$8:$P$112, MATCH(1, ('4. Charts'!$C$20='3. Progress'!$A$8:$A$112)*('4. Charts'!$P$21='3. Progress'!$B$8:$B$112), 0), (MATCH('4. Charts'!M35,_xlfn.ANCHORARRAY( '3. Progress'!$C$8), 0)+2)), \"\")","v":""},{"$f":"IF(O35&P35=\"\", \"\", VLOOKUP($C$20, '3. Progress'!$A$9:$Q$112, 17, FALSE))","v":""},null,{"$f":"'3. Progress'!$P$8","v":"00:00:00"},"",{"$f":"IFERROR(INDEX('3. Progress'!$A$8:$P$112, MATCH(1, ('4. Charts'!$I$20='3. Progress'!$A$8:$A$112)*('4. Charts'!$U$21='3. Progress'!$B$8:$B$112), 0), (MATCH('4. Charts'!S35,_xlfn.ANCHORARRAY( '3. Progress'!$C$8), 0)+2)), \"\")","v":""},{"$f":"IFERROR(INDEX('3. Progress'!$A$8:$P$112, MATCH(1, ('4. Charts'!$I$20='3. Progress'!$A$8:$A$112)*('4. Charts'!$V$21='3. Progress'!$B$8:$B$112), 0), (MATCH('4. Charts'!S35,_xlfn.ANCHORARRAY( '3. Progress'!$C$8), 0)+2)), \"\")","v":""},{"$f":"IF(U35&V35=\"\", \"\", VLOOKUP($C$2, '3. Progress'!$A$9:$Q$112, 17, FALSE))","v":""}]
[]
[]
[null,"Select movement",null,null,null,null,null,"Select movement"]
[null,null,null,null,null,null,null,null,null,null,null,null,null,null,"Left","Right","Goal",null,null,null,"Left","Right","Goal"]
[null,null,null,null,null,null,null,null,null,null,null,null,{"$f":"'3. Progress'!$C$8","v":"Test Date"},{"$f":"IF(M40>0,M40, \"\")","v":"Test Date"},{"$f":"IFERROR(INDEX('3. Progress'!$A$8:$P$112, MATCH(1, ('4. Charts'!$C$38='3. Progress'!$A$8:$A$112)*('4. Charts'!$O$39='3. Progress'!$B$8:$B$112), 0), (MATCH('4. Charts'!M40,_xlfn.ANCHORARRAY( '3. Progress'!$C$8), 0)+2)), \"\")","v":""},{"$f":"IFERROR(INDEX('3. Progress'!$A$8:$P$112, MATCH(1, ('4. Charts'!$C$38='3. Progress'!$A$8:$A$112)*('4. Charts'!$P$39='3. Progress'!$B$8:$B$112), 0), (MATCH('4. Charts'!M40,_xlfn.ANCHORARRAY( '3. Progress'!$C$8), 0)+2)), \"\")","v":""},{"$f":"IF(O40&P40=\"\", \"\", VLOOKUP($C$38, '3. Progress'!$A$9:$Q$112, 17, FALSE))","v":""},null,{"$f":"'3. Progress'!$C$8","v":"Test Date"},{"$f":"IF(S40>0,S40, \"\")","v":"Test Date"},{"$f":"IFERROR(INDEX('3. Progress'!$A$8:$P$112, MATCH(1, ('4. Charts'!$I$38='3. Progress'!$A$8:$A$112)*('4. Charts'!$U$39='3. Progress'!$B$8:$B$112), 0), (MATCH('4. Charts'!S40,_xlfn.ANCHORARRAY( '3. Progress'!$C$8), 0)+2)), \"\")","v":""},{"$f":"IFERROR(INDEX('3. Progress'!$A$8:$P$112, MATCH(1, ('4. Charts'!$I$38='3. Progress'!$A$8:$A$112)*('4. Charts'!$V$39='3. Progress'!$B$8:$B$112), 0), (MATCH('4. Charts'!S40,_xlfn.ANCHORARRAY( '3. Progress'!$C$8), 0)+2)), \"\")","v":""},{"$f":"IF(U40&V40=\"\", \"\", VLOOKUP($I$38, '3. Progress'!$A$9:$Q$112, 17, FALSE))","v":""}]
[null,null,null,null,null,null,null,null,null,null,null,null,{"$f":"'3. Progress'!$D$8","v":"00:00:00"},{"$f":"IF(M41>0,M41, \"\")","v":""},{"$f":"IFERROR(INDEX('3. Progress'!$A$8:$P$112, MATCH(1, ('4. Charts'!$C$38='3. Progress'!$A$8:$A$112)*('4. Charts'!$O$39='3. Progress'!$B$8:$B$112), 0), (MATCH('4. Charts'!M41,_xlfn.ANCHORARRAY( '3. Progress'!$C$8), 0)+2)), \"\")","v":""},{"$f":"IFERROR(INDEX('3. Progress'!$A$8:$P$112, MATCH(1, ('4. Charts'!$C$38='3. Progress'!$A$8:$A$112)*('4. Charts'!$P$39='3. Progress'!$B$8:$B$112), 0), (MATCH('4. Charts'!M41,_xlfn.ANCHORARRAY( '3. Progress'!$C$8), 0)+2)), \"\")","v":""},{"$f":"IF(O41&P41=\"\", \"\", VLOOKUP($C$38, '3. Progress'!$A$9:$Q$112, 17, FALSE))","v":""},null,{"$f":"'3. Progress'!$D$8","v":"00:00:00"},{"$f":"IF(S41>0,S41, \"\")","v":""},{"$f":"IFERROR(INDEX('3. Progress'!$A$8:$P$112, MATCH(1, ('4. Charts'!$I$38='3. Progress'!$A$8:$A$112)*('4. Charts'!$U$39='3. Progress'!$B$8:$B$112), 0), (MATCH('4. Charts'!S41,_xlfn.ANCHORARRAY( '3. Progress'!$C$8), 0)+2)), \"\")","v":""},{"$f":"IFERROR(INDEX('3. Progress'!$A$8:$P$112, MATCH(1, ('4. Charts'!$C$2='3. Progress'!$A$8:$A$112)*('4. Charts'!$P$3='3. Progress'!$B$8:$B$112), 0), (MATCH('4. Charts'!S41,_xlfn.ANCHORARRAY( '3. Progress'!$C$8), 0)+2)), \"\")","v":""},{"$f":"IF(U41&V41=\"\", \"\", VLOOKUP($I$38, '3. Progress'!$A$9:$Q$112, 17, FALSE))","v":""}]
[null,null,null,null,null,null,null,null,null,null,null,null,{"$f":"'3. Progress'!$E$8","v":"00:00:00"},"",{"$f":"IFERROR(INDEX('3. Progress'!$A$8:$P$112, MATCH(1, ('4. Charts'!$C$38='3. Progress'!$A$8:$A$112)*('4. Charts'!$O$39='3. Progress'!$B$8:$B$112), 0), (MATCH('4. Charts'!M42,_xlfn.ANCHORARRAY( '3. Progress'!$C$8), 0)+2)), \"\")","v":""},{"$f":"IFERROR(INDEX('3. Progress'!$A$8:$P$112, MATCH(1, ('4. Charts'!$C$38='3. Progress'!$A$8:$A$112)*('4. Charts'!$P$39='3. Progress'!$B$8:$B$112), 0), (MATCH('4. Charts'!M42,_xlfn.ANCHORARRAY( '3. Progress'!$C$8), 0)+2)), \"\")","v":""},{"$f":"IF(O42&P42=\"\", \"\", VLOOKUP($C$38, '3. Progress'!$A$9:$Q$112, 17, FALSE))","v":""},null,{"$f":"'3. Progress'!$E$8","v":"00:00:00"},"",{"$f":"IFERROR(INDEX('3. Progress'!$A$8:$P$112, MATCH(1, ('4. Charts'!$I$38='3. Progress'!$A$8:$A$112)*('4. Charts'!$U$39='3. Progress'!$B$8:$B$112), 0), (MATCH('4. Charts'!S42,_xlfn.ANCHORARRAY( '3. Progress'!$C$8), 0)+2)), \"\")","v":""},{"$f":"IFERROR(INDEX('3. Progress'!$A$8:$P$112, MATCH(1, ('4. Charts'!$C$2='3. Progress'!$A$8:$A$112)*('4. Charts'!$P$3='3. Progress'!$B$8:$B$112), 0), (MATCH('4. Charts'!S42,_xlfn.ANCHORARRAY( '3. Progress'!$C$8), 0)+2)), \"\")","v":""},{"$f":"IF(U42&V42=\"\", \"\", VLOOKUP($I$38, '3. Progress'!$A$9:$Q$112, 17, FALSE))","v":""}]
[null,null,null,null,null,null,null,null,null,null,null,null,{"$f":"'3. Progress'!$F$8","v":"00:00:00"},"",{"$f":"IFERROR(INDEX('3. Progress'!$A$8:$P$112, MATCH(1, ('4. Charts'!$C$38='3. Progress'!$A$8:$A$112)*('4. Charts'!$O$39='3. Progress'!$B$8:$B$112), 0), (MATCH('4. Charts'!M43,_xlfn.ANCHORARRAY( '3. Progress'!$C$8), 0)+2)), \"\")","v":""},{"$f":"IFERROR(INDEX('3. Progress'!$A$8:$P$112, MATCH(1, ('4. Charts'!$C$38='3. Progress'!$A$8:$A$112)*('4. Charts'!$P$39='3. Progress'!$B$8:$B$112), 0), (MATCH('4. Charts'!M43,_xlfn.ANCHORARRAY( '3. Progress'!$C$8), 0)+2)), \"\")","v":""},{"$f":"IF(O43&P43=\"\", \"\", VLOOKUP($C$38, '3. Progress'!$A$9:$Q$112, 17, FALSE))","v":""},null,{"$f":"'3. Progress'!$F$8","v":"00:00:00"},"",{"$f":"IFERROR(INDEX('3. Progress'!$A$8:$P$112, MATCH(1, ('4. Charts'!$I$38='3. Progress'!$A$8:$A$112)*('4. Charts'!$U$39='3. Progress'!$B$8:$B$112), 0), (MATCH('4. Charts'!S43,_xlfn.ANCHORARRAY( '3. Progress'!$C$8), 0)+2)), \"\")","v":""},{"$f":"IFERROR(INDEX('3. Progress'!$A$8:$P$112, MATCH(1, ('4. Charts'!$C$2='3. Progress'!$A$8:$A$112)*('4. Charts'!$P$3='3. Progress'!$B$8:$B$112), 0), (MATCH('4. Charts'!S43,_xlfn.ANCHORARRAY( '3. Progress'!$C$8), 0)+2)), \"\")","v":""},{"$f":"IF(U43&V43=\"\", \"\", VLOOKUP($I$38, '3. Progress'!$A$9:$Q$112, 17, FALSE))","v":""}]
[null,null,null,null,null,null,null,null,null,null,null,null,{"$f":"'3. Progress'!$G$8","v":"00:00:00"},"",{"$f":"IFERROR(INDEX('3. Progress'!$A$8:$P$112, MATCH(1, ('4. Charts'!$C$38='3. Progress'!$A$8:$A$112)*('4. Charts'!$O$39='3. Progress'!$B$8:$B$112), 0), (MATCH('4. Charts'!M44,_xlfn.ANCHORARRAY( '3. Progress'!$C$8), 0)+2)), \"\")","v":""},{"$f":"IFERROR(INDEX('3. Progress'!$A$8:$P$112, MATCH(1, ('4. Charts'!$C$38='3. Progress'!$A$8:$A$112)*('4. Charts'!$P$39='3. Progress'!$B$8:$B$112), 0), (MATCH('4. Charts'!M44,_xlfn.ANCHORARRAY( '3. Progress'!$C$8), 0)+2)), \"\")","v":""},{"$f":"IF(O44&P44=\"\", \"\", VLOOKUP($C$38, '3. Progress'!$A$9:$Q$112, 17, FALSE))","v":""},null,{"$f":"'3. Progress'!$G$8","v":"00:00:00"},"",{"$f":"IFERROR(INDEX('3. Progress'!$A$8:$P$112, MATCH(1, ('4. Charts'!$I$38='3. Progress'!$A$8:$A$112)*('4. Charts'!$U$39='3. Progress'!$B$8:$B$112), 0), (MATCH('4. Charts'!S44,_xlfn.ANCHORARRAY( '3. Progress'!$C$8), 0)+2)), \"\")","v":""},{"$f":"IFERROR(INDEX('3. Progress'!$A$8:$P$112, MATCH(1, ('4. Charts'!$C$2='3. Progress'!$A$8:$A$112)*('4. Charts'!$P$3='3. Progress'!$B$8:$B$112), 0), (MATCH('4. Charts'!S44,_xlfn.ANCHORARRAY( '3. Progress'!$C$8), 0)+2)), \"\")","v":""},{"$f":"IF(U44&V44=\"\", \"\", VLOOKUP($I$38, '3. Progress'!$A$9:$Q$112, 17, FALSE))","v":""}]
[null,null,null,null,null,null,null,null,null,null,null,null,{"$f":"'3. Progress'!$H$8","v":"00:00:00"},"",{"$f":"IFERROR(INDEX('3. Progress'!$A$8:$P$112, MATCH(1, ('4. Charts'!$C$38='3. Progress'!$A$8:$A$112)*('4. Charts'!$O$39='3. Progress'!$B$8:$B$112), 0), (MATCH('4. Charts'!M45,_xlfn.ANCHORARRAY( '3. Progress'!$C$8), 0)+2)), \"\")","v":""},{"$f":"IFERROR(INDEX('3. Progress'!$A$8:$P$112, MATCH(1, ('4. Charts'!$C$38='3. Progress'!$A$8:$A$112)*('4. Charts'!$P$39='3. Progress'!$B$8:$B$112), 0), (MATCH('4. Charts'!M45,_xlfn.ANCHORARRAY( '3. Progress'!$C$8), 0)+2)), \"\")","v":""},{"$f":"IF(O45&P45=\"\", \"\", VLOOKUP($C$38, '3. Progress'!$A$9:$Q$112, 17, FALSE))","v":""},null,{"$f":"'3. Progress'!$H$8","v":"00:00:00"},"",{"$f":"IFERROR(INDEX('3. Progress'!$A$8:$P$112, MATCH(1, ('4. Charts'!$I$38='3. Progress'!$A$8:$A$112)*('4. Charts'!$U$39='3. Progress'!$B$8:$B$112), 0), (MATCH('4. Charts'!S45,_xlfn.ANCHORARRAY( '3. Progress'!$C$8), 0)+2)), \"\")","v":""},{"$f":"IFERROR(INDEX('3. Progress'!$A$8:$P$112, MATCH(1, ('4. Charts'!$C$2='3. Progress'!$A$8:$A$112)*('4. Charts'!$P$3='3. Progress'!$B$8:$B$112), 0), (MATCH('4. Charts'!S45,_xlfn.ANCHORARRAY( '3. Progress'!$C$8), 0)+2)), \"\")","v":""},{"$f":"IF(U45&V45=\"\", \"\", VLOOKUP($I$38, '3. Progress'!$A$9:$Q$112, 17, FALSE))","v":""}]
[null,null,null,null,null,null,null,null,null,null,null,null,{"$f":"'3. Progress'!$I$8","v":"00:00:00"},"",{"$f":"IFERROR(INDEX('3. Progress'!$A$8:$P$112, MATCH(1, ('4. Charts'!$C$38='3. Progress'!$A$8:$A$112)*('4. Charts'!$O$39='3. Progress'!$B$8:$B$112), 0), (MATCH('4. Charts'!M46,_xlfn.ANCHORARRAY( '3. Progress'!$C$8), 0)+2)), \"\")","v":""},{"$f":"IFERROR(INDEX('3. Progress'!$A$8:$P$112, MATCH(1, ('4. Charts'!$C$38='3. Progress'!$A$8:$A$112)*('4. Charts'!$P$39='3. Progress'!$B$8:$B$112), 0), (MATCH('4. Charts'!M46,_xlfn.ANCHORARRAY( '3. Progress'!$C$8), 0)+2)), \"\")","v":""},{"$f":"IF(O46&P46=\"\", \"\", VLOOKUP($C$38, '3. Progress'!$A$9:$Q$112, 17, FALSE))","v":""},null,{"$f":"'3. Progress'!$I$8","v":"00:00:00"},"",{"$f":"IFERROR(INDEX('3. Progress'!$A$8:$P$112, MATCH(1, ('4. Charts'!$I$38='3. Progress'!$A$8:$A$112)*('4. Charts'!$U$39='3. Progress'!$B$8:$B$112), 0), (MATCH('4. Charts'!S46,_xlfn.ANCHORARRAY( '3. Progress'!$C$8), 0)+2)), \"\")","v":""},{"$f":"IFERROR(INDEX('3. Progress'!$A$8:$P$112, MATCH(1, ('4. Charts'!$C$2='3. Progress'!$A$8:$A$112)*('4. Charts'!$P$3='3. Progress'!$B$8:$B$112), 0), (MATCH('4. Charts'!S46,_xlfn.ANCHORARRAY( '3. Progress'!$C$8), 0)+2)), \"\")","v":""},{"$f":"IF(U46&V46=\"\", \"\", VLOOKUP($I$38, '3. Progress'!$A$9:$Q$112, 17, FALSE))","v":""}]
[null,null,null,null,null,null,null,null,null,null,null,null,{"$f":"'3. Progress'!$J$8","v":"00:00:00"},"",{"$f":"IFERROR(INDEX('3. Progress'!$A$8:$P$112, MATCH(1, ('4. Charts'!$C$38='3. Progress'!$A$8:$A$112)*('4. Charts'!$O$39='3. Progress'!$B$8:$B$112), 0), (MATCH('4. Charts'!M47,_xlfn.ANCHORARRAY( '3. Progress'!$C$8), 0)+2)), \"\")","v":""},{"$f":"IFERROR(INDEX('3. Progress'!$A$8:$P$112, MATCH(1, ('4. Charts'!$C$38='3. Progress'!$A$8:$A$112)*('4. Charts'!$P$39='3. Progress'!$B$8:$B$112), 0), (MATCH('4. Charts'!M47,_xlfn.ANCHORARRAY( '3. Progress'!$C$8), 0)+2)), \"\")","v":""},{"$f":"IF(O47&P47=\"\", \"\", VLOOKUP($C$38, '3. Progress'!$A$9:$Q$112, 17, FALSE))","v":""},null,{"$f":"'3. Progress'!$J$8","v":"00:00:00"},"",{"$f":"IFERROR(INDEX('3. Progress'!$A$8:$P$112, MATCH(1, ('4. Charts'!$I$38='3. Progress'!$A$8:$A$112)*('4. Charts'!$U$39='3. Progress'!$B$8:$B$112), 0), (MATCH('4. Charts'!S47,_xlfn.ANCHORARRAY( '3. Progress'!$C$8), 0)+2)), \"\")","v":""},{"$f":"IFERROR(INDEX('3. Progress'!$A$8:$P$112, MATCH(1, ('4. Charts'!$C$2='3. Progress'!$A$8:$A$112)*('4. Charts'!$P$3='3. Progress'!$B$8:$B$112), 0), (MATCH('4. Charts'!S47,_xlfn.ANCHORARRAY( '3. Progress'!$C$8), 0)+2)), \"\")","v":""},{"$f":"IF(U47&V47=\"\", \"\", VLOOKUP($I$38, '3. Progress'!$A$9:$Q$112, 17, FALSE))","v":""}]
[null,null,null,null,null,null,null,null,null,null,null,null,{"$f":"'3. Progress'!$K$8","v":"00:00:00"},"",{"$f":"IFERROR(INDEX('3. Progress'!$A$8:$P$112, MATCH(1, ('4. Charts'!$C$38='3. Progress'!$A$8:$A$112)*('4. Charts'!$O$39='3. Progress'!$B$8:$B$112), 0), (MATCH('4. Charts'!M48,_xlfn.ANCHORARRAY( '3. Progress'!$C$8), 0)+2)), \"\")","v":""},{"$f":"IFERROR(INDEX('3. Progress'!$A$8:$P$112, MATCH(1, ('4. Charts'!$C$38='3. Progress'!$A$8:$A$112)*('4. Charts'!$P$39='3. Progress'!$B$8:$B$112), 0), (MATCH('4. Charts'!M48,_xlfn.ANCHORARRAY( '3. Progress'!$C$8), 0)+2)), \"\")","v":""},{"$f":"IF(O48&P48=\"\", \"\", VLOOKUP($C$38, '3. Progress'!$A$9:$Q$112, 17, FALSE))","v":""},null,{"$f":"'3. Progress'!$K$8","v":"00:00:00"},"",{"$f":"IFERROR(INDEX('3. Progress'!$A$8:$P$112, MATCH(1, ('4. Charts'!$I$38='3. Progress'!$A$8:$A$112)*('4. Charts'!$U$39='3. Progress'!$B$8:$B$112), 0), (MATCH('4. Charts'!S48,_xlfn.ANCHORARRAY( '3. Progress'!$C$8), 0)+2)), \"\")","v":""},{"$f":"IFERROR(INDEX('3. Progress'!$A$8:$P$112, MATCH(1, ('4. Charts'!$C$2='3. Progress'!$A$8:$A$112)*('4. Charts'!$P$3='3. Progress'!$B$8:$B$112), 0), (MATCH('4. Charts'!S48,_xlfn.ANCHORARRAY( '3. Progress'!$C$8), 0)+2)), \"\")","v":""},{"$f":"IF(U48&V48=\"\", \"\", VLOOKUP($I$38, '3. Progress'!$A$9:$Q$112, 17, FALSE))","v":""}]
[null,null,null,null,null,null,null,null,null,null,null,null,{"$f":"'3. Progress'!$L$8","v":"00:00:00"},"",{"$f":"IFERROR(INDEX('3. Progress'!$A$8:$P$112, MATCH(1, ('4. Charts'!$C$38='3. Progress'!$A$8:$A$112)*('4. Charts'!$O$39='3. Progress'!$B$8:$B$112), 0), (MATCH('4. Charts'!M49,_xlfn.ANCHORARRAY( '3. Progress'!$C$8), 0)+2)), \"\")","v":""},{"$f":"IFERROR(INDEX('3. Progress'!$A$8:$P$112, MATCH(1, ('4. Charts'!$C$38='3. Progress'!$A$8:$A$112)*('4. Charts'!$P$39='3. Progress'!$B$8:$B$112), 0), (MATCH('4. Charts'!M49,_xlfn.ANCHORARRAY( '3. Progress'!$C$8), 0)+2)), \"\")","v":""},{"$f":"IF(O49&P49=\"\", \"\", VLOOKUP($C$38, '3. Progress'!$A$9:$Q$112, 17, FALSE))","v":""},null,{"$f":"'3. Progress'!$L$8","v":"00:00:00"},"",{"$f":"IFERROR(INDEX('3. Progress'!$A$8:$P$112, MATCH(1, ('4. Charts'!$I$38='3. Progress'!$A$8:$A$112)*('4. Charts'!$U$39='3. Progress'!$B$8:$B$112), 0), (MATCH('4. Charts'!S49,_xlfn.ANCHORARRAY( '3. Progress'!$C$8), 0)+2)), \"\")","v":""},{"$f":"IFERROR(INDEX('3. Progress'!$A$8:$P$112, MATCH(1, ('4. Charts'!$C$2='3. Progress'!$A$8:$A$112)*('4. Charts'!$P$3='3. Progress'!$B$8:$B$112), 0), (MATCH('4. Charts'!S49,_xlfn.ANCHORARRAY( '3. Progress'!$C$8), 0)+2)), \"\")","v":""},{"$f":"IF(U49&V49=\"\", \"\", VLOOKUP($I$38, '3. Progress'!$A$9:$Q$112, 17, FALSE))","v":""}]
[null,null,null,null,null,null,null,null,null,null,null,null,{"$f":"'3. Progress'!$M$8","v":"00:00:00"},"",{"$f":"IFERROR(INDEX('3. Progress'!$A$8:$P$112, MATCH(1, ('4. Charts'!$C$38='3. Progress'!$A$8:$A$112)*('4. Charts'!$O$39='3. Progress'!$B$8:$B$112), 0), (MATCH('4. Charts'!M50,_xlfn.ANCHORARRAY( '3. Progress'!$C$8), 0)+2)), \"\")","v":""},{"$f":"IFERROR(INDEX('3. Progress'!$A$8:$P$112, MATCH(1, ('4. Charts'!$C$38='3. Progress'!$A$8:$A$112)*('4. Charts'!$P$39='3. Progress'!$B$8:$B$112), 0), (MATCH('4. Charts'!M50,_xlfn.ANCHORARRAY( '3. Progress'!$C$8), 0)+2)), \"\")","v":""},{"$f":"IF(O50&P50=\"\", \"\", VLOOKUP($C$38, '3. Progress'!$A$9:$Q$112, 17, FALSE))","v":""},null,{"$f":"'3. Progress'!$M$8","v":"00:00:00"},"",{"$f":"IFERROR(INDEX('3. Progress'!$A$8:$P$112, MATCH(1, ('4. Charts'!$I$38='3. Progress'!$A$8:$A$112)*('4. Charts'!$U$39='3. Progress'!$B$8:$B$112), 0), (MATCH('4. Charts'!S50,_xlfn.ANCHORARRAY( '3. Progress'!$C$8), 0)+2)), \"\")","v":""},{"$f":"IFERROR(INDEX('3. Progress'!$A$8:$P$112, MATCH(1, ('4. Charts'!$C$2='3. Progress'!$A$8:$A$112)*('4. Charts'!$P$3='3. Progress'!$B$8:$B$112), 0), (MATCH('4. Charts'!S50,_xlfn.ANCHORARRAY( '3. Progress'!$C$8), 0)+2)), \"\")","v":""},{"$f":"IF(U50&V50=\"\", \"\", VLOOKUP($I$38, '3. Progress'!$A$9:$Q$112, 17, FALSE))","v":""}]
[null,null,null,null,null,null,null,null,null,null,null,null,{"$f":"'3. Progress'!$N$8","v":"00:00:00"},"",{"$f":"IFERROR(INDEX('3. Progress'!$A$8:$P$112, MATCH(1, ('4. Charts'!$C$38='3. Progress'!$A$8:$A$112)*('4. Charts'!$O$39='3. Progress'!$B$8:$B$112), 0), (MATCH('4. Charts'!M51,_xlfn.ANCHORARRAY( '3. Progress'!$C$8), 0)+2)), \"\")","v":""},{"$f":"IFERROR(INDEX('3. Progress'!$A$8:$P$112, MATCH(1, ('4. Charts'!$C$38='3. Progress'!$A$8:$A$112)*('4. Charts'!$P$39='3. Progress'!$B$8:$B$112), 0), (MATCH('4. Charts'!M51,_xlfn.ANCHORARRAY( '3. Progress'!$C$8), 0)+2)), \"\")","v":""},{"$f":"IF(O51&P51=\"\", \"\", VLOOKUP($C$38, '3. Progress'!$A$9:$Q$112, 17, FALSE))","v":""},null,{"$f":"'3. Progress'!$N$8","v":"00:00:00"},"",{"$f":"IFERROR(INDEX('3. Progress'!$A$8:$P$112, MATCH(1, ('4. Charts'!$I$38='3. Progress'!$A$8:$A$112)*('4. Charts'!$U$39='3. Progress'!$B$8:$B$112), 0), (MATCH('4. Charts'!S51,_xlfn.ANCHORARRAY( '3. Progress'!$C$8), 0)+2)), \"\")","v":""},{"$f":"IFERROR(INDEX('3. Progress'!$A$8:$P$112, MATCH(1, ('4. Charts'!$C$2='3. Progress'!$A$8:$A$112)*('4. Charts'!$P$3='3. Progress'!$B$8:$B$112), 0), (MATCH('4. Charts'!S51,_xlfn.ANCHORARRAY( '3. Progress'!$C$8), 0)+2)), \"\")","v":""},{"$f":"IF(U51&V51=\"\", \"\", VLOOKUP($I$38, '3. Progress'!$A$9:$Q$112, 17, FALSE))","v":""}]
[null,null,null,null,null,null,null,null,null,null,null,null,{"$f":"'3. Progress'!$O$8","v":"00:00:00"},"",{"$f":"IFERROR(INDEX('3. Progress'!$A$8:$P$112, MATCH(1, ('4. Charts'!$C$38='3. Progress'!$A$8:$A$112)*('4. Charts'!$O$39='3. Progress'!$B$8:$B$112), 0), (MATCH('4. Charts'!M52,_xlfn.ANCHORARRAY( '3. Progress'!$C$8), 0)+2)), \"\")","v":""},{"$f":"IFERROR(INDEX('3. Progress'!$A$8:$P$112, MATCH(1, ('4. Charts'!$C$38='3. Progress'!$A$8:$A$112)*('4. Charts'!$P$39='3. Progress'!$B$8:$B$112), 0), (MATCH('4. Charts'!M52,_xlfn.ANCHORARRAY( '3. Progress'!$C$8), 0)+2)), \"\")","v":""},{"$f":"IF(O52&P52=\"\", \"\", VLOOKUP($C$38, '3. Progress'!$A$9:$Q$112, 17, FALSE))","v":""},null,{"$f":"'3. Progress'!$O$8","v":"00:00:00"},"",{"$f":"IFERROR(INDEX('3. Progress'!$A$8:$P$112, MATCH(1, ('4. Charts'!$I$38='3. Progress'!$A$8:$A$112)*('4. Charts'!$U$39='3. Progress'!$B$8:$B$112), 0), (MATCH('4. Charts'!S52,_xlfn.ANCHORARRAY( '3. Progress'!$C$8), 0)+2)), \"\")","v":""},{"$f":"IFERROR(INDEX('3. Progress'!$A$8:$P$112, MATCH(1, ('4. Charts'!$C$2='3. Progress'!$A$8:$A$112)*('4. Charts'!$P$3='3. Progress'!$B$8:$B$112), 0), (MATCH('4. Charts'!S52,_xlfn.ANCHORARRAY( '3. Progress'!$C$8), 0)+2)), \"\")","v":""},{"$f":"IF(U52&V52=\"\", \"\", VLOOKUP($I$38, '3. Progress'!$A$9:$Q$112, 17, FALSE))","v":""}]
[null,null,null,null,null,null,null,null,null,null,null,null,{"$f":"'3. Progress'!$P$8","v":"00:00:00"},"",{"$f":"IFERROR(INDEX('3. Progress'!$A$8:$P$112, MATCH(1, ('4. Charts'!$C$38='3. Progress'!$A$8:$A$112)*('4. Charts'!$O$39='3. Progress'!$B$8:$B$112), 0), (MATCH('4. Charts'!M53,_xlfn.ANCHORARRAY( '3. Progress'!$C$8), 0)+2)), \"\")","v":""},{"$f":"IFERROR(INDEX('3. Progress'!$A$8:$P$112, MATCH(1, ('4. Charts'!$C$38='3. Progress'!$A$8:$A$112)*('4. Charts'!$P$39='3. Progress'!$B$8:$B$112), 0), (MATCH('4. Charts'!M53,_xlfn.ANCHORARRAY( '3. Progress'!$C$8), 0)+2)), \"\")","v":""},{"$f":"IF(O53&P53=\"\", \"\", VLOOKUP($C$38, '3. Progress'!$A$9:$Q$112, 17, FALSE))","v":""},null,{"$f":"'3. Progress'!$P$8","v":"00:00:00"},"",{"$f":"IFERROR(INDEX('3. Progress'!$A$8:$P$112, MATCH(1, ('4. Charts'!$I$38='3. Progress'!$A$8:$A$112)*('4. Charts'!$U$39='3. Progress'!$B$8:$B$112), 0), (MATCH('4. Charts'!S53,_xlfn.ANCHORARRAY( '3. Progress'!$C$8), 0)+2)), \"\")","v":""},{"$f":"IFERROR(INDEX('3. Progress'!$A$8:$P$112, MATCH(1, ('4. Charts'!$C$2='3. Progress'!$A$8:$A$112)*('4. Charts'!$P$3='3. Progress'!$B$8:$B$112), 0), (MATCH('4. Charts'!S53,_xlfn.ANCHORARRAY( '3. Progress'!$C$8), 0)+2)), \"\")","v":""},{"$f":"IF(U53&V53=\"\", \"\", VLOOKUP($I$38, '3. Progress'!$A$9:$Q$112, 17, FALSE))","v":""}]

{"sheet":"Data Table","index":4,"n_rows":1,"n_cols":107,"rows_kept":1,"cut":false,"hidden":false,"merged":[]}
["Test Date","Name","Body Mass","CerFlexL","CerFlexR","CerExtL","CerExtR","CerSBL","CerSBR","CerOth1L","CerOth1R","CerOth2L","CerOth2R","KneeExtL","KneeExtR","KneeFlexL","KneeFlexR","KneeOth1L","KneeOth1R","KneeOth2L","KneeOth2R","ShldAbdL","ShldAbdR","ShldElevL","ShldElevR","ShldER90L","ShldER90R","ShldER090L","ShldER090R","ShldER9090L","ShldER9090R","ShldExtNL","ShldExtNR","ShldExt90L","ShldExt90R","ShldExt180L","ShldExt180R","ShldFlexL","ShldFlexR","ShldHAbdL","ShldHAbdR","ShldYL","ShldYR","ShldIR0L","ShldIR0R","ShldIR090L","ShldIR090R","ShldIR9090L","ShldIR9090R","ShldProL","ShldProR","ShldOth1L","ShldOthR","ElbExtL","ElbExtR","ElbFlexL","ElbFlexR","ElbOthL","ElbOthR","ElbOth2L","ElbOth2R","WExtL","WExtR","WFlexL","WFlexR","WOth1L","WOth1R","WOth2L","WOth2R","AnkDFL","AnkDFR","AnkPFL","AnkPFR","AnkEvL","AnkEvR","AnkInvL","AnkInvR","AnkOthL","AnkOthR","IMTPL","IMTPR","OthL","OthR","Oth2L","Oth2R","HipAbdL","HipAbdR","HipAddL","HipAddR","HipER090L","HipER090R","HipER9090L","HipER9090R","HipExtNL","HipExtNR","HipExt90L","HipExt90R","HipFlexL","HipFlexR","HipIR090L","HipIR090R","HipIR9090L","HipIR9090R","HipOth1L","HipOth1R","HipOth2L","HipOth2R"]

{"sheet":"Unique data","index":5,"n_rows":1048576,"n_cols":11,"rows_kept":4500,"cut":true,"hidden":false,"merged":[],"bounds":{"rows_first":2000,"rows_last":500,"rows_between":2000,"halvings":0}}
["ToCol",null,{"$f":"_xlfn._xlws.SORT(B:B)","v":0},"Left",null,null,{"$f":"_xlfn._xlws.SORT(F:F)","v":"00:00:00"},null,"Shoulder",null,"Ankle DF"]
[{"$f":"_xlfn.TOCOL(#REF!,3)","v":{"$error":"#REF!"}},{"$f":"_xlfn.UNIQUE('Data Table'!B:B)","v":"Name"},"Name","Right",null,{"$f":"_xlfn.UNIQUE('Data Table'!A:A)","v":"Test Date"},"Test Date",null,"Elbow",null,"Ankle PF"]
[null,0,0,"Both",null,"00:00:00","00:00:00",null,"Wrist",null,"Ankle Eversion"]
[null,null,0,null,null,null,"00:00:00",null,"Hip",null,"Ankle Inversion"]
[null,null,0,null,null,null,"00:00:00",null,"Knee",null,"Ankle Other1"]
[null,null,0,null,null,null,"00:00:00",null,"Ankle",null,"Cervical Extension at neutral"]
[null,null,0,null,null,null,"00:00:00",null,"Neck",null,"Cervical Flexion"]
[null,null,0,null,null,null,"00:00:00",null,"Other",null,"Cervical Side bending"]
[null,null,0,null,null,null,"00:00:00",null,null,null,"Cervical Other1"]
[null,null,0,null,null,null,"00:00:00",null,null,null,"Cervical Other2"]
[null,null,0,null,null,null,"00:00:00",null,null,null,"Elbow Extension @ 90*"]
[null,null,0,null,null,null,"00:00:00",null,null,null,"Elbow Flexion"]
[null,null,0,null,null,null,"00:00:00",null,null,null,"Elbow Other1"]
[null,null,0,null,null,null,"00:00:00",null,null,null,"Elbow Other2"]
[null,null,0,null,null,null,"00:00:00",null,null,null,"Hip ABduction"]
[null,null,0,null,null,null,"00:00:00",null,null,null,"Hip ADduction"]
[null,null,0,null,null,null,"00:00:00",null,null,null,"Hip ER 0/90"]
[null,null,0,null,null,null,"00:00:00",null,null,null,"Hip ER 90/90"]
[null,null,0,null,null,null,"00:00:00",null,null,null,"Hip Extension @ 90*"]
[null,null,0,null,null,null,"00:00:00",null,null,null,"Hip Extension at neutral"]
[null,null,0,null,null,null,"00:00:00",null,null,null,"Hip Flexion"]
[null,null,0,null,null,null,"00:00:00",null,null,null,"Hip IR 0/90"]
[null,null,0,null,null,null,"00:00:00",null,null,null,"Hip IR 90/90"]
[null,null,0,null,null,null,"00:00:00",null,null,null,"Hip Other1"]
[null,null,0,null,null,null,"00:00:00",null,null,null,"Hip Other2"]
[null,null,0,null,null,null,"00:00:00",null,null,null,"Knee Extension @ 90*"]
[null,null,0,null,null,null,"00:00:00",null,null,null,"Knee Flexion"]
[null,null,0,null,null,null,"00:00:00",null,null,null,"Knee Other1"]
[null,null,0,null,null,null,"00:00:00",null,null,null,"Knee Other2"]
[null,null,0,null,null,null,"00:00:00",null,null,null,"IMTP"]
[null,null,0,null,null,null,"00:00:00",null,null,null,"Other1"]
[null,null,0,null,null,null,"00:00:00",null,null,null,"Other2"]
[null,null,0,null,null,null,"00:00:00",null,null,null,"Shoulder ABduction"]
[null,null,0,null,null,null,"00:00:00",null,null,null,"Shoulder Elevation"]
[null,null,0,null,null,null,"00:00:00",null,null,null,"Shoulder ER @ 0*"]
[null,null,0,null,null,null,"00:00:00",null,null,null,"Shoulder ER 0/90"]
[null,null,0,null,null,null,"00:00:00",null,null,null,"Shoulder ER 90/90"]
[null,null,0,null,null,null,"00:00:00",null,null,null,"Shoulder Extension @ 180*"]
[null,null,0,null,null,null,"00:00:00",null,null,null,"Shoulder Extension @ 90*"]
[null,null,0,null,null,null,"00:00:00",null,null,null,"Shoulder Extension at neutral"]
[null,null,0,null,null,null,"00:00:00",null,null,null,"Shoulder Flexion"]
[null,null,0,null,null,null,"00:00:00",null,null,null,"Shoulder Horizontal abduction"]
[null,null,0,null,null,null,"00:00:00",null,null,null,"Shoulder IR @ 0*"]
[null,null,0,null,null,null,"00:00:00",null,null,null,"Shoulder IR 0/90"]
[null,null,0,null,null,null,"00:00:00",null,null,null,"Shoulder IR 90/90"]
[null,null,0,null,null,null,"00:00:00",null,null,null,"Shoulder Protraction"]
[null,null,0,null,null,null,"00:00:00",null,null,null,"Shoulder Y"]
[null,null,0,null,null,null,"00:00:00",null,null,null,"Shoulder Other1"]
[null,null,0,null,null,null,"00:00:00",null,null,null,"Wrist Extension at neutral"]
[null,null,0,null,null,null,"00:00:00",null,null,null,"Wrist Flexion"]
[null,null,0,null,null,null,"00:00:00",null,null,null,"Wrist Other1"]
[null,null,0,null,null,null,"00:00:00",null,null,null,"Wrist Other2"]
[null,null,0,null,null,null,"00:00:00"]
[null,null,0,null,null,null,"00:00:00"]
[null,null,0,null,null,null,"00:00:00"]
[null,null,0,null,null,null,"00:00:00"]
[null,null,0,null,null,null,"00:00:00"]
[null,null,0,null,null,null,"00:00:00"]
[null,null,0,null,null,null,"00:00:00"]
[null,null,0,null,null,null,"00:00:00"]
[null,null,0,null,null,null,"00:00:00"]
[null,null,0,null,null,null,"00:00:00"]
[null,null,0,null,null,null,"00:00:00"]
[null,null,0,null,null,null,"00:00:00"]
[null,null,0,null,null,null,"00:00:00"]
[null,null,0,null,null,null,"00:00:00"]
[null,null,0,null,null,null,"00:00:00"]
[null,null,0,null,null,null,"00:00:00"]
[null,null,0,null,null,null,"00:00:00"]
[null,null,0,null,null,null,"00:00:00"]
[null,null,0,null,null,null,"00:00:00"]
[null,null,0,null,null,null,"00:00:00"]
[null,null,0,null,null,null,"00:00:00"]
[null,null,0,null,null,null,"00:00:00"]
[null,null,0,null,null,null,"00:00:00"]
[null,null,0,null,null,null,"00:00:00"]
[null,null,0,null,null,null,"00:00:00"]
[null,null,0,null,null,null,"00:00:00"]
[null,null,0,null,null,null,"00:00:00"]
[null,null,0,null,null,null,"00:00:00"]
[null,null,0,null,null,null,"00:00:00"]
[null,null,0,null,null,null,"00:00:00"]
[null,null,0,null,null,null,"00:00:00"]
[null,null,0,null,null,null,"00:00:00"]
[null,null,0,null,null,null,"00:00:00"]
[null,null,0,null,null,null,"00:00:00"]
[null,null,0,null,null,null,"00:00:00"]
[null,null,0,null,null,null,"00:00:00"]
[null,null,0,null,null,null,"00:00:00"]
[null,null,0,null,null,null,"00:00:00"]
[null,null,0,null,null,null,"00:00:00"]
[null,null,0,null,null,null,"00:00:00"]
[null,null,0,null,null,null,"00:00:00"]
[null,null,0,null,null,null,"00:00:00"]
[null,null,0,null,null,null,"00:00:00"]
[null,null,0,null,null,null,"00:00:00"]
[null,null,0,null,null,null,"00:00:00"]
[null,null,0,null,null,null,"00:00:00"]
[null,null,0,null,null,null,"00:00:00"]
[null,null,0,null,null,null,"00:00:00"]
[null,null,0,null,null,null,"00:00:00"]
[null,null,0,null,null,null,"00:00:00"]
[null,null,0,null,null,null,"00:00:00"]
[null,null,0,null,null,null,"00:00:00"]
[null,null,0,null,null,null,"00:00:00"]
[null,null,0,null,null,null,"00:00:00"]
[null,null,0,null,null,null,"00:00:00"]
[null,null,0,null,null,null,"00:00:00"]
[null,null,0,null,null,null,"00:00:00"]
[null,null,0,null,null,null,"00:00:00"]
[null,null,0,null,null,null,"00:00:00"]
[null,null,0,null,null,null,"00:00:00"]
[null,null,0,null,null,null,"00:00:00"]
[null,null,0,null,null,null,"00:00:00"]
[null,null,0,null,null,null,"00:00:00"]
[null,null,0,null,null,null,"00:00:00"]
[null,null,0,null,null,null,"00:00:00"]
[null,null,0,null,null,null,"00:00:00"]
[null,null,0,null,null,null,"00:00:00"]
[null,null,0,null,null,null,"00:00:00"]
[null,null,0,null,null,null,"00:00:00"]
[null,null,0,null,null,null,"00:00:00"]
[null,null,0,null,null,null,"00:00:00"]
[null,null,0,null,null,null,"00:00:00"]
[null,null,0,null,null,null,"00:00:00"]
[null,null,0,null,null,null,"00:00:00"]
[null,null,0,null,null,null,"00:00:00"]
[null,null,0,null,null,null,"00:00:00"]
[null,null,0,null,null,null,"00:00:00"]
[null,null,0,null,null,null,"00:00:00"]
[null,null,0,null,null,null,"00:00:00"]
[null,null,0,null,null,null,"00:00:00"]
[null,null,0,null,null,null,"00:00:00"]
[null,null,0,null,null,null,"00:00:00"]
[null,null,0,null,null,null,"00:00:00"]
[null,null,0,null,null,null,"00:00:00"]
[null,null,0,null,null,null,"00:00:00"]
[null,null,0,null,null,null,"00:00:00"]
[null,null,0,null,null,null,"00:00:00"]
[null,null,0,null,null,null,"00:00:00"]
[null,null,0,null,null,null,"00:00:00"]
[null,null,0,null,null,null,"00:00:00"]
[null,null,0,null,null,null,"00:00:00"]
[null,null,0,null,null,null,"00:00:00"]
[null,null,0,null,null,null,"00:00:00"]
[null,null,0,null,null,null,"00:00:00"]
[null,null,0,null,null,null,"00:00:00"]
[null,null,0,null,null,null,"00:00:00"]
[null,null,0,null,null,null,"00:00:00"]
[null,null,0,null,null,null,"00:00:00"]
[null,null,0,null,null,null,"00:00:00"]
[null,null,0,null,null,null,"00:00:00"]
[null,null,0,null,null,null,"00:00:00"]
[null,null,0,null,null,null,"00:00:00"]
[null,null,0,null,null,null,"00:00:00"]
[null,null,0,null,null,null,"00:00:00"]
[null,null,0,null,null,null,"00:00:00"]
[null,null,0,null,null,null,"00:00:00"]
[null,null,0,null,null,null,"00:00:00"]
[null,null,0,null,null,null,"00:00:00"]
[null,null,0,null,null,null,"00:00:00"]
[null,null,0,null,null,null,"00:00:00"]
[null,null,0,null,null,null,"00:00:00"]
[null,null,0,null,null,null,"00:00:00"]
[null,null,0,null,null,null,"00:00:00"]
[null,null,0,null,null,null,"00:00:00"]
[null,null,0,null,null,null,"00:00:00"]
[null,null,0,null,null,null,"00:00:00"]
[null,null,0,null,null,null,"00:00:00"]
[null,null,0,null,null,null,"00:00:00"]
[null,null,0,null,null,null,"00:00:00"]
[null,null,0,null,null,null,"00:00:00"]
[null,null,0,null,null,null,"00:00:00"]
[null,null,0,null,null,null,"00:00:00"]
[null,null,0,null,null,null,"00:00:00"]
[null,null,0,null,null,null,"00:00:00"]
[null,null,0,null,null,null,"00:00:00"]
[null,null,0,null,null,null,"00:00:00"]
[null,null,0,null,null,null,"00:00:00"]
[null,null,0,null,null,null,"00:00:00"]
[null,null,0,null,null,null,"00:00:00"]
[null,null,0,null,null,null,"00:00:00"]
[null,null,0,null,null,null,"00:00:00"]
[null,null,0,null,null,null,"00:00:00"]
[null,null,0,null,null,null,"00:00:00"]
[null,null,0,null,null,null,"00:00:00"]
[null,null,0,null,null,null,"00:00:00"]
[null,null,0,null,null,null,"00:00:00"]
[null,null,0,null,null,null,"00:00:00"]
[null,null,0,null,null,null,"00:00:00"]
[null,null,0,null,null,null,"00:00:00"]
[null,null,0,null,null,null,"00:00:00"]
[null,null,0,null,null,null,"00:00:00"]
[null,null,0,null,null,null,"00:00:00"]
[null,null,0,null,null,null,"00:00:00"]
[null,null,0,null,null,null,"00:00:00"]
[null,null,0,null,null,null,"00:00:00"]
[null,null,0,null,null,null,"00:00:00"]
[null,null,0,null,null,null,"00:00:00"]
[null,null,0,null,null,null,"00:00:00"]
[null,null,0,null,null,null,"00:00:00"]
[null,null,0,null,null,null,"00:00:00"]
[null,null,0,null,null,null,"00:00:00"]
[null,null,0,null,null,null,"00:00:00"]
[null,null,0,null,null,null,"00:00:00"]
[null,null,0,null,null,null,"00:00:00"]
[null,null,0,null,null,null,"00:00:00"]
[null,null,0,null,null,null,"00:00:00"]
[null,null,0,null,null,null,"00:00:00"]
[null,null,0,null,null,null,"00:00:00"]
[null,null,0,null,null,null,"00:00:00"]
[null,null,0,null,null,null,"00:00:00"]
[null,null,0,null,null,null,"00:00:00"]
[null,null,0,null,null,null,"00:00:00"]
[null,null,0,null,null,null,"00:00:00"]
[null,null,0,null,null,null,"00:00:00"]
[null,null,0,null,null,null,"00:00:00"]
[null,null,0,null,null,null,"00:00:00"]
[null,null,0,null,null,null,"00:00:00"]
[null,null,0,null,null,null,"00:00:00"]
[null,null,0,null,null,null,"00:00:00"]
[null,null,0,null,null,null,"00:00:00"]
[null,null,0,null,null,null,"00:00:00"]
[null,null,0,null,null,null,"00:00:00"]
[null,null,0,null,null,null,"00:00:00"]
[null,null,0,null,null,null,"00:00:00"]
[null,null,0,null,null,null,"00:00:00"]
[null,null,0,null,null,null,"00:00:00"]
[null,null,0,null,null,null,"00:00:00"]
[null,null,0,null,null,null,"00:00:00"]
[null,null,0,null,null,null,"00:00:00"]
[null,null,0,null,null,null,"00:00:00"]
[null,null,0,null,null,null,"00:00:00"]
[null,null,0,null,null,null,"00:00:00"]
[null,null,0,null,null,null,"00:00:00"]
[null,null,0,null,null,null,"00:00:00"]
[null,null,0,null,null,null,"00:00:00"]
[null,null,0,null,null,null,"00:00:00"]
[null,null,0,null,null,null,"00:00:00"]
[null,null,0,null,null,null,"00:00:00"]
[null,null,0,null,null,null,"00:00:00"]
[null,null,0,null,null,null,"00:00:00"]
[null,null,0,null,null,null,"00:00:00"]
[null,null,0,null,null,null,"00:00:00"]
[null,null,0,null,null,null,"00:00:00"]
[null,null,0,null,null,null,"00:00:00"]
[null,null,0,null,null,null,"00:00:00"]
[null,null,0,null,null,null,"00:00:00"]
[null,null,0,null,null,null,"00:00:00"]
[null,null,0,null,null,null,"00:00:00"]
[null,null,0,null,null,null,"00:00:00"]
[null,null,0,null,null,null,"00:00:00"]
[null,null,0,null,null,null,"00:00:00"]
[null,null,0,null,null,null,"00:00:00"]
[null,null,0,null,null,null,"00:00:00"]
[null,null,0,null,null,null,"00:00:00"]
[null,null,0,null,null,null,"00:00:00"]
[null,null,0,null,null,null,"00:00:00"]
[null,null,0,null,null,null,"00:00:00"]
[null,null,0,null,null,null,"00:00:00"]
[null,null,0,null,null,null,"00:00:00"]
[null,null,0,null,null,null,"00:00:00"]
[null,null,0,null,null,null,"00:00:00"]
[null,null,0,null,null,null,"00:00:00"]
[null,null,0,null,null,null,"00:00:00"]
[null,null,0,null,null,null,"00:00:00"]
[null,null,0,null,null,null,"00:00:00"]
[null,null,0,null,null,null,"00:00:00"]
[null,null,0,null,null,null,"00:00:00"]
[null,null,0,null,null,null,"00:00:00"]
[null,null,0,null,null,null,"00:00:00"]
[null,null,0,null,null,null,"00:00:00"]
[null,null,0,null,null,null,"00:00:00"]
[null,null,0,null,null,null,"00:00:00"]
[null,null,0,null,null,null,"00:00:00"]
[null,null,0,null,null,null,"00:00:00"]
[null,null,0,null,null,null,"00:00:00"]
[null,null,0,null,null,null,"00:00:00"]
[null,null,0,null,null,null,"00:00:00"]
[null,null,0,null,null,null,"00:00:00"]
[null,null,0,null,null,null,"00:00:00"]
[null,null,0,null,null,null,"00:00:00"]
[null,null,0,null,null,null,"00:00:00"]
[null,null,0,null,null,null,"00:00:00"]
[null,null,0,null,null,null,"00:00:00"]
[null,null,0,null,null,null,"00:00:00"]
[null,null,0,null,null,null,"00:00:00"]
[null,null,0,null,null,null,"00:00:00"]
[null,null,0,null,null,null,"00:00:00"]
[null,null,0,null,null,null,"00:00:00"]
[null,null,0,null,null,null,"00:00:00"]
[null,null,0,null,null,null,"00:00:00"]
[null,null,0,null,null,null,"00:00:00"]
[null,null,0,null,null,null,"00:00:00"]
[null,null,0,null,null,null,"00:00:00"]
[null,null,0,null,null,null,"00:00:00"]
[null,null,0,null,null,null,"00:00:00"]
[null,null,0,null,null,null,"00:00:00"]
[null,null,0,null,null,null,"00:00:00"]
[null,null,0,null,null,null,"00:00:00"]
[null,null,0,null,null,null,"00:00:00"]
[null,null,0,null,null,null,"00:00:00"]
[null,null,0,null,null,null,"00:00:00"]
[null,null,0,null,null,null,"00:00:00"]
[null,null,0,null,null,null,"00:00:00"]
[null,null,0,null,null,null,"00:00:00"]
[null,null,0,null,null,null,"00:00:00"]
[null,null,0,null,null,null,"00:00:00"]
[null,null,0,null,null,null,"00:00:00"]
[null,null,0,null,null,null,"00:00:00"]
[null,null,0,null,null,null,"00:00:00"]
[null,null,0,null,null,null,"00:00:00"]
[null,null,0,null,null,null,"00:00:00"]
[null,null,0,null,null,null,"00:00:00"]
[null,null,0,null,null,null,"00:00:00"]
[null,null,0,null,null,null,"00:00:00"]
[null,null,0,null,null,null,"00:00:00"]
[null,null,0,null,null,null,"00:00:00"]
[null,null,0,null,null,null,"00:00:00"]
[null,null,0,null,null,null,"00:00:00"]
[null,null,0,null,null,null,"00:00:00"]
[null,null,0,null,null,null,"00:00:00"]
[null,null,0,null,null,null,"00:00:00"]
[null,null,0,null,null,null,"00:00:00"]
[null,null,0,null,null,null,"00:00:00"]
[null,null,0,null,null,null,"00:00:00"]
[null,null,0,null,null,null,"00:00:00"]
[null,null,0,null,null,null,"00:00:00"]
[null,null,0,null,null,null,"00:00:00"]
[null,null,0,null,null,null,"00:00:00"]
[null,null,0,null,null,null,"00:00:00"]
[null,null,0,null,null,null,"00:00:00"]
[null,null,0,null,null,null,"00:00:00"]
[null,null,0,null,null,null,"00:00:00"]
[null,null,0,null,null,null,"00:00:00"]
[null,null,0,null,null,null,"00:00:00"]
[null,null,0,null,null,null,"00:00:00"]
[null,null,0,null,null,null,"00:00:00"]
[null,null,0,null,null,null,"00:00:00"]
[null,null,0,null,null,null,"00:00:00"]
[null,null,0,null,null,null,"00:00:00"]
[null,null,0,null,null,null,"00:00:00"]
[null,null,0,null,null,null,"00:00:00"]
[null,null,0,null,null,null,"00:00:00"]
[null,null,0,null,null,null,"00:00:00"]
[null,null,0,null,null,null,"00:00:00"]
[null,null,0,null,null,null,"00:00:00"]
[null,null,0,null,null,null,"00:00:00"]
[null,null,0,null,null,null,"00:00:00"]
[null,null,0,null,null,null,"00:00:00"]
[null,null,0,null,null,null,"00:00:00"]
[null,null,0,null,null,null,"00:00:00"]
[null,null,0,null,null,null,"00:00:00"]
[null,null,0,null,null,null,"00:00:00"]
[null,null,0,null,null,null,"00:00:00"]
[null,null,0,null,null,null,"00:00:00"]
[null,null,0,null,null,null,"00:00:00"]
[null,null,0,null,null,null,"00:00:00"]
[null,null,0,null,null,null,"00:00:00"]
[null,null,0,null,null,null,"00:00:00"]
[null,null,0,null,null,null,"00:00:00"]
[null,null,0,null,null,null,"00:00:00"]
[null,null,0,null,null,null,"00:00:00"]
[null,null,0,null,null,null,"00:00:00"]
[null,null,0,null,null,null,"00:00:00"]
[null,null,0,null,null,null,"00:00:00"]
[null,null,0,null,null,null,"00:00:00"]
[null,null,0,null,null,null,"00:00:00"]
[null,null,0,null,null,null,"00:00:00"]
[null,null,0,null,null,null,"00:00:00"]
[null,null,0,null,null,null,"00:00:00"]
[null,null,0,null,null,null,"00:00:00"]
[null,null,0,null,null,null,"00:00:00"]
[null,null,0,null,null,null,"00:00:00"]
[null,null,0,null,null,null,"00:00:00"]
[null,null,0,null,null,null,"00:00:00"]
[null,null,0,null,null,null,"00:00:00"]
[null,null,0,null,null,null,"00:00:00"]
[null,null,0,null,null,null,"00:00:00"]
[null,null,0,null,null,null,"00:00:00"]
[null,null,0,null,null,null,"00:00:00"]
[null,null,0,null,null,null,"00:00:00"]
[null,null,0,null,null,null,"00:00:00"]
[null,null,0,null,null,null,"00:00:00"]
[null,null,0,null,null,null,"00:00:00"]
[null,null,0,null,null,null,"00:00:00"]
[null,null,0,null,null,null,"00:00:00"]
[null,null,0,null,null,null,"00:00:00"]
[null,null,0,null,null,null,"00:00:00"]
[null,null,0,null,null,null,"00:00:00"]
[null,null,0,null,null,null,"00:00:00"]
[null,null,0,null,null,null,"00:00:00"]
[null,null,0,null,null,null,"00:00:00"]
[null,null,0,null,null,null,"00:00:00"]
[null,null,0,null,null,null,"00:00:00"]
[null,null,0,null,null,null,"00:00:00"]
[null,null,0,null,null,null,"00:00:00"]
[null,null,0,null,null,null,"00:00:00"]
[null,null,0,null,null,null,"00:00:00"]
[null,null,0,null,null,null,"00:00:00"]
[null,null,0,null,null,null,"00:00:00"]
[null,null,0,null,null,null,"00:00:00"]
[null,null,0,null,null,null,"00:00:00"]
[null,null,0,null,null,null,"00:00:00"]
[null,null,0,null,null,null,"00:00:00"]
[null,null,0,null,null,null,"00:00:00"]
[null,null,0,null,null,null,"00:00:00"]
[null,null,0,null,null,null,"00:00:00"]
[null,null,0,null,null,null,"00:00:00"]
[null,null,0,null,null,null,"00:00:00"]
[null,null,0,null,null,null,"00:00:00"]
[null,null,0,null,null,null,"00:00:00"]
[null,null,0,null,null,null,"00:00:00"]
[null,null,0,null,null,null,"00:00:00"]
[null,null,0,null,null,null,"00:00:00"]
[null,null,0,null,null,null,"00:00:00"]
[null,null,0,null,null,null,"00:00:00"]
[null,null,0,null,null,null,"00:00:00"]
[null,null,0,null,null,null,"00:00:00"]
[null,null,0,null,null,null,"00:00:00"]
[null,null,0,null,null,null,"00:00:00"]
[null,null,0,null,null,null,"00:00:00"]
[null,null,0,null,null,null,"00:00:00"]
[null,null,0,null,null,null,"00:00:00"]
[null,null,0,null,null,null,"00:00:00"]
[null,null,0,null,null,null,"00:00:00"]
[null,null,0,null,null,null,"00:00:00"]
[null,null,0,null,null,null,"00:00:00"]
[null,null,0,null,null,null,"00:00:00"]
[null,null,0,null,null,null,"00:00:00"]
[null,null,0,null,null,null,"00:00:00"]
[null,null,0,null,null,null,"00:00:00"]
[null,null,0,null,null,null,"00:00:00"]
[null,null,0,null,null,null,"00:00:00"]
[null,null,0,null,null,null,"00:00:00"]
[null,null,0,null,null,null,"00:00:00"]
[null,null,0,null,null,null,"00:00:00"]
[null,null,0,null,null,null,"00:00:00"]
[null,null,0,null,null,null,"00:00:00"]
[null,null,0,null,null,null,"00:00:00"]
[null,null,0,null,null,null,"00:00:00"]
[null,null,0,null,null,null,"00:00:00"]
[null,null,0,null,null,null,"00:00:00"]
[null,null,0,null,null,null,"00:00:00"]
[null,null,0,null,null,null,"00:00:00"]
[null,null,0,null,null,null,"00:00:00"]
[null,null,0,null,null,null,"00:00:00"]
[null,null,0,null,null,null,"00:00:00"]
[null,null,0,null,null,null,"00:00:00"]
[null,null,0,null,null,null,"00:00:00"]
[null,null,0,null,null,null,"00:00:00"]
[null,null,0,null,null,null,"00:00:00"]
[null,null,0,null,null,null,"00:00:00"]
[null,null,0,null,null,null,"00:00:00"]
[null,null,0,null,null,null,"00:00:00"]
[null,null,0,null,null,null,"00:00:00"]
[null,null,0,null,null,null,"00:00:00"]
[null,null,0,null,null,null,"00:00:00"]
[null,null,0,null,null,null,"00:00:00"]
[null,null,0,null,null,null,"00:00:00"]
[null,null,0,null,null,null,"00:00:00"]
[null,null,0,null,null,null,"00:00:00"]
[null,null,0,null,null,null,"00:00:00"]
[null,null,0,null,null,null,"00:00:00"]
[null,null,0,null,null,null,"00:00:00"]
[null,null,0,null,null,null,"00:00:00"]
[null,null,0,null,null,null,"00:00:00"]
[null,null,0,null,null,null,"00:00:00"]
[null,null,0,null,null,null,"00:00:00"]
[null,null,0,null,null,null,"00:00:00"]
[null,null,0,null,null,null,"00:00:00"]
[null,null,0,null,null,null,"00:00:00"]
[null,null,0,null,null,null,"00:00:00"]
[null,null,0,null,null,null,"00:00:00"]
[null,null,0,null,null,null,"00:00:00"]
[null,null,0,null,null,null,"00:00:00"]
[null,null,0,null,null,null,"00:00:00"]
[null,null,0,null,null,null,"00:00:00"]
[null,null,0,null,null,null,"00:00:00"]
[null,null,0,null,null,null,"00:00:00"]
[null,null,0,null,null,null,"00:00:00"]
[null,null,0,null,null,null,"00:00:00"]
[null,null,0,null,null,null,"00:00:00"]
[null,null,0,null,null,null,"00:00:00"]
[null,null,0,null,null,null,"00:00:00"]
[null,null,0,null,null,null,"00:00:00"]
[null,null,0,null,null,null,"00:00:00"]
[null,null,0,null,null,null,"00:00:00"]
[null,null,0,null,null,null,"00:00:00"]
[null,null,0,null,null,null,"00:00:00"]
[null,null,0,null,null,null,"00:00:00"]
[null,null,0,null,null,null,"00:00:00"]
[null,null,0,null,null,null,"00:00:00"]
[null,null,0,null,null,null,"00:00:00"]
[null,null,0,null,null,null,"00:00:00"]
[null,null,0,null,null,null,"00:00:00"]
[null,null,0,null,null,null,"00:00:00"]
[null,null,0,null,null,null,"00:00:00"]
[null,null,0,null,null,null,"00:00:00"]
[null,null,0,null,null,null,"00:00:00"]
[null,null,0,null,null,null,"00:00:00"]
[null,null,0,null,null,null,"00:00:00"]
[null,null,0,null,null,null,"00:00:00"]
[null,null,0,null,null,null,"00:00:00"]
[null,null,0,null,null,null,"00:00:00"]
[null,null,0,null,null,null,"00:00:00"]
[null,null,0,null,null,null,"00:00:00"]
[null,null,0,null,null,null,"00:00:00"]
[null,null,0,null,null,null,"00:00:00"]
[null,null,0,null,null,null,"00:00:00"]
[null,null,0,null,null,null,"00:00:00"]
[null,null,0,null,null,null,"00:00:00"]
[null,null,0,null,null,null,"00:00:00"]
[null,null,0,null,null,null,"00:00:00"]
[null,null,0,null,null,null,"00:00:00"]
[null,null,0,null,null,null,"00:00:00"]
[null,null,0,null,null,null,"00:00:00"]
[null,null,0,null,null,null,"00:00:00"]
[null,null,0,null,null,null,"00:00:00"]
[null,null,0,null,null,null,"00:00:00"]
[null,null,0,null,null,null,"00:00:00"]
[null,null,0,null,null,null,"00:00:00"]
[null,null,0,null,null,null,"00:00:00"]
[null,null,0,null,null,null,"00:00:00"]
[null,null,0,null,null,null,"00:00:00"]
[null,null,0,null,null,null,"00:00:00"]
[null,null,0,null,null,null,"00:00:00"]
[null,null,0,null,null,null,"00:00:00"]
[null,null,0,null,null,null,"00:00:00"]
[null,null,0,null,null,null,"00:00:00"]
[null,null,0,null,null,null,"00:00:00"]
[null,null,0,null,null,null,"00:00:00"]
[null,null,0,null,null,null,"00:00:00"]
[null,null,0,null,null,null,"00:00:00"]
[null,null,0,null,null,null,"00:00:00"]
[null,null,0,null,null,null,"00:00:00"]
[null,null,0,null,null,null,"00:00:00"]
[null,null,0,null,null,null,"00:00:00"]
[null,null,0,null,null,null,"00:00:00"]
[null,null,0,null,null,null,"00:00:00"]
[null,null,0,null,null,null,"00:00:00"]
[null,null,0,null,null,null,"00:00:00"]
[null,null,0,null,null,null,"00:00:00"]
[null,null,0,null,null,null,"00:00:00"]
[null,null,0,null,null,null,"00:00:00"]
[null,null,0,null,null,null,"00:00:00"]
[null,null,0,null,null,null,"00:00:00"]
[null,null,0,null,null,null,"00:00:00"]
[null,null,0,null,null,null,"00:00:00"]
[null,null,0,null,null,null,"00:00:00"]
[null,null,0,null,null,null,"00:00:00"]
[null,null,0,null,null,null,"00:00:00"]
[null,null,0,null,null,null,"00:00:00"]
[null,null,0,null,null,null,"00:00:00"]
[null,null,0,null,null,null,"00:00:00"]
[null,null,0,null,null,null,"00:00:00"]
[null,null,0,null,null,null,"00:00:00"]
[null,null,0,null,null,null,"00:00:00"]
[null,null,0,null,null,null,"00:00:00"]
[null,null,0,null,null,null,"00:00:00"]
[null,null,0,null,null,null,"00:00:00"]
[null,null,0,null,null,null,"00:00:00"]
[null,null,0,null,null,null,"00:00:00"]
[null,null,0,null,null,null,"00:00:00"]
[null,null,0,null,null,null,"00:00:00"]
[null,null,0,null,null,null,"00:00:00"]
[null,null,0,null,null,null,"00:00:00"]
[null,null,0,null,null,null,"00:00:00"]
[null,null,0,null,null,null,"00:00:00"]
[null,null,0,null,null,null,"00:00:00"]
[null,null,0,null,null,null,"00:00:00"]
[null,null,0,null,null,null,"00:00:00"]
[null,null,0,null,null,null,"00:00:00"]
[null,null,0,null,null,null,"00:00:00"]
[null,null,0,null,null,null,"00:00:00"]
[null,null,0,null,null,null,"00:00:00"]
[null,null,0,null,null,null,"00:00:00"]
[null,null,0,null,null,null,"00:00:00"]
[null,null,0,null,null,null,"00:00:00"]
[null,null,0,null,null,null,"00:00:00"]
[null,null,0,null,null,null,"00:00:00"]
[null,null,0,null,null,null,"00:00:00"]
[null,null,0,null,null,null,"00:00:00"]
[null,null,0,null,null,null,"00:00:00"]
[null,null,0,null,null,null,"00:00:00"]
[null,null,0,null,null,null,"00:00:00"]
[null,null,0,null,null,null,"00:00:00"]
[null,null,0,null,null,null,"00:00:00"]
[null,null,0,null,null,null,"00:00:00"]
[null,null,0,null,null,null,"00:00:00"]
[null,null,0,null,null,null,"00:00:00"]
[null,null,0,null,null,null,"00:00:00"]
[null,null,0,null,null,null,"00:00:00"]
[null,null,0,null,null,null,"00:00:00"]
[null,null,0,null,null,null,"00:00:00"]
[null,null,0,null,null,null,"00:00:00"]
[null,null,0,null,null,null,"00:00:00"]
[null,null,0,null,null,null,"00:00:00"]
[null,null,0,null,null,null,"00:00:00"]
[null,null,0,null,null,null,"00:00:00"]
[null,null,0,null,null,null,"00:00:00"]
[null,null,0,null,null,null,"00:00:00"]
[null,null,0,null,null,null,"00:00:00"]
[null,null,0,null,null,null,"00:00:00"]
[null,null,0,null,null,null,"00:00:00"]
[null,null,0,null,null,null,"00:00:00"]
[null,null,0,null,null,null,"00:00:00"]
[null,null,0,null,null,null,"00:00:00"]
[null,null,0,null,null,null,"00:00:00"]
[null,null,0,null,null,null,"00:00:00"]
[null,null,0,null,null,null,"00:00:00"]
[null,null,0,null,null,null,"00:00:00"]
[null,null,0,null,null,null,"00:00:00"]
[null,null,0,null,null,null,"00:00:00"]
[null,null,0,null,null,null,"00:00:00"]
[null,null,0,null,null,null,"00:00:00"]
[null,null,0,null,null,null,"00:00:00"]
[null,null,0,null,null,null,"00:00:00"]
[null,null,0,null,null,null,"00:00:00"]
[null,null,0,null,null,null,"00:00:00"]
[null,null,0,null,null,null,"00:00:00"]
[null,null,0,null,null,null,"00:00:00"]
[null,null,0,null,null,null,"00:00:00"]
[null,null,0,null,null,null,"00:00:00"]
[null,null,0,null,null,null,"00:00:00"]
[null,null,0,null,null,null,"00:00:00"]
[null,null,0,null,null,null,"00:00:00"]
[null,null,0,null,null,null,"00:00:00"]
[null,null,0,null,null,null,"00:00:00"]
[null,null,0,null,null,null,"00:00:00"]
[null,null,0,null,null,null,"00:00:00"]
[null,null,0,null,null,null,"00:00:00"]
[null,null,0,null,null,null,"00:00:00"]
[null,null,0,null,null,null,"00:00:00"]
[null,null,0,null,null,null,"00:00:00"]
[null,null,0,null,null,null,"00:00:00"]
[null,null,0,null,null,null,"00:00:00"]
[null,null,0,null,null,null,"00:00:00"]
[null,null,0,null,null,null,"00:00:00"]
[null,null,0,null,null,null,"00:00:00"]
[null,null,0,null,null,null,"00:00:00"]
[null,null,0,null,null,null,"00:00:00"]
[null,null,0,null,null,null,"00:00:00"]
[null,null,0,null,null,null,"00:00:00"]
[null,null,0,null,null,null,"00:00:00"]
[null,null,0,null,null,null,"00:00:00"]
[null,null,0,null,null,null,"00:00:00"]
[null,null,0,null,null,null,"00:00:00"]
[null,null,0,null,null,null,"00:00:00"]
[null,null,0,null,null,null,"00:00:00"]
[null,null,0,null,null,null,"00:00:00"]
[null,null,0,null,null,null,"00:00:00"]
[null,null,0,null,null,null,"00:00:00"]
[null,null,0,null,null,null,"00:00:00"]
[null,null,0,null,null,null,"00:00:00"]
[null,null,0,null,null,null,"00:00:00"]
[null,null,0,null,null,null,"00:00:00"]
[null,null,0,null,null,null,"00:00:00"]
[null,null,0,null,null,null,"00:00:00"]
[null,null,0,null,null,null,"00:00:00"]
[null,null,0,null,null,null,"00:00:00"]
[null,null,0,null,null,null,"00:00:00"]
[null,null,0,null,null,null,"00:00:00"]
[null,null,0,null,null,null,"00:00:00"]
[null,null,0,null,null,null,"00:00:00"]
[null,null,0,null,null,null,"00:00:00"]
[null,null,0,null,null,null,"00:00:00"]
[null,null,0,null,null,null,"00:00:00"]
[null,null,0,null,null,null,"00:00:00"]
[null,null,0,null,null,null,"00:00:00"]
[null,null,0,null,null,null,"00:00:00"]
[null,null,0,null,null,null,"00:00:00"]
[null,null,0,null,null,null,"00:00:00"]
[null,null,0,null,null,null,"00:00:00"]
[null,null,0,null,null,null,"00:00:00"]
[null,null,0,null,null,null,"00:00:00"]
[null,null,0,null,null,null,"00:00:00"]
[null,null,0,null,null,null,"00:00:00"]
[null,null,0,null,null,null,"00:00:00"]
[null,null,0,null,null,null,"00:00:00"]
[null,null,0,null,null,null,"00:00:00"]
[null,null,0,null,null,null,"00:00:00"]
[null,null,0,null,null,null,"00:00:00"]
[null,null,0,null,null,null,"00:00:00"]
[null,null,0,null,null,null,"00:00:00"]
[null,null,0,null,null,null,"00:00:00"]
[null,null,0,null,null,null,"00:00:00"]
[null,null,0,null,null,null,"00:00:00"]
[null,null,0,null,null,null,"00:00:00"]
[null,null,0,null,null,null,"00:00:00"]
[null,null,0,null,null,null,"00:00:00"]
[null,null,0,null,null,null,"00:00:00"]
[null,null,0,null,null,null,"00:00:00"]
[null,null,0,null,null,null,"00:00:00"]
[null,null,0,null,null,null,"00:00:00"]
[null,null,0,null,null,null,"00:00:00"]
[null,null,0,null,null,null,"00:00:00"]
[null,null,0,null,null,null,"00:00:00"]
[null,null,0,null,null,null,"00:00:00"]
[null,null,0,null,null,null,"00:00:00"]
[null,null,0,null,null,null,"00:00:00"]
[null,null,0,null,null,null,"00:00:00"]
[null,null,0,null,null,null,"00:00:00"]
[null,null,0,null,null,null,"00:00:00"]
[null,null,0,null,null,null,"00:00:00"]
[null,null,0,null,null,null,"00:00:00"]
[null,null,0,null,null,null,"00:00:00"]
[null,null,0,null,null,null,"00:00:00"]
[null,null,0,null,null,null,"00:00:00"]
[null,null,0,null,null,null,"00:00:00"]
[null,null,0,null,null,null,"00:00:00"]
[null,null,0,null,null,null,"00:00:00"]
[null,null,0,null,null,null,"00:00:00"]
[null,null,0,null,null,null,"00:00:00"]
[null,null,0,null,null,null,"00:00:00"]
[null,null,0,null,null,null,"00:00:00"]
[null,null,0,null,null,null,"00:00:00"]
[null,null,0,null,null,null,"00:00:00"]
[null,null,0,null,null,null,"00:00:00"]
[null,null,0,null,null,null,"00:00:00"]
[null,null,0,null,null,null,"00:00:00"]
[null,null,0,null,null,null,"00:00:00"]
[null,null,0,null,null,null,"00:00:00"]
[null,null,0,null,null,null,"00:00:00"]
[null,null,0,null,null,null,"00:00:00"]
[null,null,0,null,null,null,"00:00:00"]
[null,null,0,null,null,null,"00:00:00"]
[null,null,0,null,null,null,"00:00:00"]
[null,null,0,null,null,null,"00:00:00"]
[null,null,0,null,null,null,"00:00:00"]
[null,null,0,null,null,null,"00:00:00"]
[null,null,0,null,null,null,"00:00:00"]
[null,null,0,null,null,null,"00:00:00"]
[null,null,0,null,null,null,"00:00:00"]
[null,null,0,null,null,null,"00:00:00"]
[null,null,0,null,null,null,"00:00:00"]
[null,null,0,null,null,null,"00:00:00"]
[null,null,0,null,null,null,"00:00:00"]
[null,null,0,null,null,null,"00:00:00"]
[null,null,0,null,null,null,"00:00:00"]
[null,null,0,null,null,null,"00:00:00"]
[null,null,0,null,null,null,"00:00:00"]
[null,null,0,null,null,null,"00:00:00"]
[null,null,0,null,null,null,"00:00:00"]
[null,null,0,null,null,null,"00:00:00"]
[null,null,0,null,null,null,"00:00:00"]
[null,null,0,null,null,null,"00:00:00"]
[null,null,0,null,null,null,"00:00:00"]
[null,null,0,null,null,null,"00:00:00"]
[null,null,0,null,null,null,"00:00:00"]
[null,null,0,null,null,null,"00:00:00"]
[null,null,0,null,null,null,"00:00:00"]
[null,null,0,null,null,null,"00:00:00"]
[null,null,0,null,null,null,"00:00:00"]
[null,null,0,null,null,null,"00:00:00"]
[null,null,0,null,null,null,"00:00:00"]
[null,null,0,null,null,null,"00:00:00"]
[null,null,0,null,null,null,"00:00:00"]
[null,null,0,null,null,null,"00:00:00"]
[null,null,0,null,null,null,"00:00:00"]
[null,null,0,null,null,null,"00:00:00"]
[null,null,0,null,null,null,"00:00:00"]
[null,null,0,null,null,null,"00:00:00"]
[null,null,0,null,null,null,"00:00:00"]
[null,null,0,null,null,null,"00:00:00"]
[null,null,0,null,null,null,"00:00:00"]
[null,null,0,null,null,null,"00:00:00"]
[null,null,0,null,null,null,"00:00:00"]
[null,null,0,null,null,null,"00:00:00"]
[null,null,0,null,null,null,"00:00:00"]
[null,null,0,null,null,null,"00:00:00"]
[null,null,0,null,null,null,"00:00:00"]
[null,null,0,null,null,null,"00:00:00"]
[null,null,0,null,null,null,"00:00:00"]
[null,null,0,null,null,null,"00:00:00"]
[null,null,0,null,null,null,"00:00:00"]
[null,null,0,null,null,null,"00:00:00"]
[null,null,0,null,null,null,"00:00:00"]
[null,null,0,null,null,null,"00:00:00"]
[null,null,0,null,null,null,"00:00:00"]
[null,null,0,null,null,null,"00:00:00"]
[null,null,0,null,null,null,"00:00:00"]
[null,null,0,null,null,null,"00:00:00"]
[null,null,0,null,null,null,"00:00:00"]
[null,null,0,null,null,null,"00:00:00"]
[null,null,0,null,null,null,"00:00:00"]
[null,null,0,null,null,null,"00:00:00"]
[null,null,0,null,null,null,"00:00:00"]
[null,null,0,null,null,null,"00:00:00"]
[null,null,0,null,null,null,"00:00:00"]
[null,null,0,null,null,null,"00:00:00"]
[null,null,0,null,null,null,"00:00:00"]
[null,null,0,null,null,null,"00:00:00"]
[null,null,0,null,null,null,"00:00:00"]
[null,null,0,null,null,null,"00:00:00"]
[null,null,0,null,null,null,"00:00:00"]
[null,null,0,null,null,null,"00:00:00"]
[null,null,0,null,null,null,"00:00:00"]
[null,null,0,null,null,null,"00:00:00"]
[null,null,0,null,null,null,"00:00:00"]
[null,null,0,null,null,null,"00:00:00"]
[null,null,0,null,null,null,"00:00:00"]
[null,null,0,null,null,null,"00:00:00"]
[null,null,0,null,null,null,"00:00:00"]
[null,null,0,null,null,null,"00:00:00"]
[null,null,0,null,null,null,"00:00:00"]
[null,null,0,null,null,null,"00:00:00"]
[null,null,0,null,null,null,"00:00:00"]
[null,null,0,null,null,null,"00:00:00"]
[null,null,0,null,null,null,"00:00:00"]
[null,null,0,null,null,null,"00:00:00"]
[null,null,0,null,null,null,"00:00:00"]
[null,null,0,null,null,null,"00:00:00"]
[null,null,0,null,null,null,"00:00:00"]
[null,null,0,null,null,null,"00:00:00"]
[null,null,0,null,null,null,"00:00:00"]
[null,null,0,null,null,null,"00:00:00"]
[null,null,0,null,null,null,"00:00:00"]
[null,null,0,null,null,null,"00:00:00"]
[null,null,0,null,null,null,"00:00:00"]
[null,null,0,null,null,null,"00:00:00"]
[null,null,0,null,null,null,"00:00:00"]
[null,null,0,null,null,null,"00:00:00"]
[null,null,0,null,null,null,"00:00:00"]
[null,null,0,null,null,null,"00:00:00"]
[null,null,0,null,null,null,"00:00:00"]
[null,null,0,null,null,null,"00:00:00"]
[null,null,0,null,null,null,"00:00:00"]
[null,null,0,null,null,null,"00:00:00"]
[null,null,0,null,null,null,"00:00:00"]
[null,null,0,null,null,null,"00:00:00"]
[null,null,0,null,null,null,"00:00:00"]
[null,null,0,null,null,null,"00:00:00"]
[null,null,0,null,null,null,"00:00:00"]
[null,null,0,null,null,null,"00:00:00"]
[null,null,0,null,null,null,"00:00:00"]
[null,null,0,null,null,null,"00:00:00"]
[null,null,0,null,null,null,"00:00:00"]
[null,null,0,null,null,null,"00:00:00"]
[null,null,0,null,null,null,"00:00:00"]
[null,null,0,null,null,null,"00:00:00"]
[null,null,0,null,null,null,"00:00:00"]
[null,null,0,null,null,null,"00:00:00"]
[null,null,0,null,null,null,"00:00:00"]
[null,null,0,null,null,null,"00:00:00"]
[null,null,0,null,null,null,"00:00:00"]
[null,null,0,null,null,null,"00:00:00"]
[null,null,0,null,null,null,"00:00:00"]
[null,null,0,null,null,null,"00:00:00"]
[null,null,0,null,null,null,"00:00:00"]
[null,null,0,null,null,null,"00:00:00"]
[null,null,0,null,null,null,"00:00:00"]
[null,null,0,null,null,null,"00:00:00"]
[null,null,0,null,null,null,"00:00:00"]
[null,null,0,null,null,null,"00:00:00"]
[null,null,0,null,null,null,"00:00:00"]
[null,null,0,null,null,null,"00:00:00"]
[null,null,0,null,null,null,"00:00:00"]
[null,null,0,null,null,null,"00:00:00"]
[null,null,0,null,null,null,"00:00:00"]
[null,null,0,null,null,null,"00:00:00"]
[null,null,0,null,null,null,"00:00:00"]
[null,null,0,null,null,null,"00:00:00"]
[null,null,0,null,null,null,"00:00:00"]
[null,null,0,null,null,null,"00:00:00"]
[null,null,0,null,null,null,"00:00:00"]
[null,null,0,null,null,null,"00:00:00"]
[null,null,0,null,null,null,"00:00:00"]
[null,null,0,null,null,null,"00:00:00"]
[null,null,0,null,null,null,"00:00:00"]
[null,null,0,null,null,null,"00:00:00"]
[null,null,0,null,null,null,"00:00:00"]
[null,null,0,null,null,null,"00:00:00"]
[null,null,0,null,null,null,"00:00:00"]
[null,null,0,null,null,null,"00:00:00"]
[null,null,0,null,null,null,"00:00:00"]
[null,null,0,null,null,null,"00:00:00"]
[null,null,0,null,null,null,"00:00:00"]
[null,null,0,null,null,null,"00:00:00"]
[null,null,0,null,null,null,"00:00:00"]
[null,null,0,null,null,null,"00:00:00"]
[null,null,0,null,null,null,"00:00:00"]
[null,null,0,null,null,null,"00:00:00"]
[null,null,0,null,null,null,"00:00:00"]
[null,null,0,null,null,null,"00:00:00"]
[null,null,0,null,null,null,"00:00:00"]
[null,null,0,null,null,null,"00:00:00"]
[null,null,0,null,null,null,"00:00:00"]
[null,null,0,null,null,null,"00:00:00"]
[null,null,0,null,null,null,"00:00:00"]
[null,null,0,null,null,null,"00:00:00"]
[null,null,0,null,null,null,"00:00:00"]
[null,null,0,null,null,null,"00:00:00"]
[null,null,0,null,null,null,"00:00:00"]
[null,null,0,null,null,null,"00:00:00"]
[null,null,0,null,null,null,"00:00:00"]
[null,null,0,null,null,null,"00:00:00"]
[null,null,0,null,null,null,"00:00:00"]
[null,null,0,null,null,null,"00:00:00"]
[null,null,0,null,null,null,"00:00:00"]
[null,null,0,null,null,null,"00:00:00"]
[null,null,0,null,null,null,"00:00:00"]
[null,null,0,null,null,null,"00:00:00"]
[null,null,0,null,null,null,"00:00:00"]
[null,null,0,null,null,null,"00:00:00"]
[null,null,0,null,null,null,"00:00:00"]
[null,null,0,null,null,null,"00:00:00"]
[null,null,0,null,null,null,"00:00:00"]
[null,null,0,null,null,null,"00:00:00"]
[null,null,0,null,null,null,"00:00:00"]
[null,null,0,null,null,null,"00:00:00"]
[null,null,0,null,null,null,"00:00:00"]
[null,null,0,null,null,null,"00:00:00"]
[null,null,0,null,null,null,"00:00:00"]
[null,null,0,null,null,null,"00:00:00"]
[null,null,0,null,null,null,"00:00:00"]
[null,null,0,null,null,null,"00:00:00"]
[null,null,0,null,null,null,"00:00:00"]
[null,null,0,null,null,null,"00:00:00"]
[null,null,0,null,null,null,"00:00:00"]
[null,null,0,null,null,null,"00:00:00"]
[null,null,0,null,null,null,"00:00:00"]
[null,null,0,null,null,null,"00:00:00"]
[null,null,0,null,null,null,"00:00:00"]
[null,null,0,null,null,null,"00:00:00"]
[null,null,0,null,null,null,"00:00:00"]
[null,null,0,null,null,null,"00:00:00"]
[null,null,0,null,null,null,"00:00:00"]
[null,null,0,null,null,null,"00:00:00"]
[null,null,0,null,null,null,"00:00:00"]
[null,null,0,null,null,null,"00:00:00"]
[null,null,0,null,null,null,"00:00:00"]
[null,null,0,null,null,null,"00:00:00"]
[null,null,0,null,null,null,"00:00:00"]
[null,null,0,null,null,null,"00:00:00"]
[null,null,0,null,null,null,"00:00:00"]
[null,null,0,null,null,null,"00:00:00"]
[null,null,0,null,null,null,"00:00:00"]
[null,null,0,null,null,null,"00:00:00"]
[null,null,0,null,null,null,"00:00:00"]
[null,null,0,null,null,null,"00:00:00"]
[null,null,0,null,null,null,"00:00:00"]
[null,null,0,null,null,null,"00:00:00"]
[null,null,0,null,null,null,"00:00:00"]
[null,null,0,null,null,null,"00:00:00"]
[null,null,0,null,null,null,"00:00:00"]
[null,null,0,null,null,null,"00:00:00"]
[null,null,0,null,null,null,"00:00:00"]
[null,null,0,null,null,null,"00:00:00"]
[null,null,0,null,null,null,"00:00:00"]
[null,null,0,null,null,null,"00:00:00"]
[null,null,0,null,null,null,"00:00:00"]
[null,null,0,null,null,null,"00:00:00"]
[null,null,0,null,null,null,"00:00:00"]
[null,null,0,null,null,null,"00:00:00"]
[null,null,0,null,null,null,"00:00:00"]
[null,null,0,null,null,null,"00:00:00"]
[null,null,0,null,null,null,"00:00:00"]
[null,null,0,null,null,null,"00:00:00"]
[null,null,0,null,null,null,"00:00:00"]
[null,null,0,null,null,null,"00:00:00"]
[null,null,0,null,null,null,"00:00:00"]
[null,null,0,null,null,null,"00:00:00"]
[null,null,0,null,null,null,"00:00:00"]
[null,null,0,null,null,null,"00:00:00"]
[null,null,0,null,null,null,"00:00:00"]
[null,null,0,null,null,null,"00:00:00"]
[null,null,0,null,null,null,"00:00:00"]
[null,null,0,null,null,null,"00:00:00"]
[null,null,0,null,null,null,"00:00:00"]
[null,null,0,null,null,null,"00:00:00"]
[null,null,0,null,null,null,"00:00:00"]
[null,null,0,null,null,null,"00:00:00"]
[null,null,0,null,null,null,"00:00:00"]
[null,null,0,null,null,null,"00:00:00"]
[null,null,0,null,null,null,"00:00:00"]
[null,null,0,null,null,null,"00:00:00"]
[null,null,0,null,null,null,"00:00:00"]
[null,null,0,null,null,null,"00:00:00"]
[null,null,0,null,null,null,"00:00:00"]
[null,null,0,null,null,null,"00:00:00"]
[null,null,0,null,null,null,"00:00:00"]
[null,null,0,null,null,null,"00:00:00"]
[null,null,0,null,null,null,"00:00:00"]
[null,null,0,null,null,null,"00:00:00"]
[null,null,0,null,null,null,"00:00:00"]
[null,null,0,null,null,null,"00:00:00"]
[null,null,0,null,null,null,"00:00:00"]
[null,null,0,null,null,null,"00:00:00"]
[null,null,0,null,null,null,"00:00:00"]
[null,null,0,null,null,null,"00:00:00"]
[null,null,0,null,null,null,"00:00:00"]
[null,null,0,null,null,null,"00:00:00"]
[null,null,0,null,null,null,"00:00:00"]
[null,null,0,null,null,null,"00:00:00"]
[null,null,0,null,null,null,"00:00:00"]
[null,null,0,null,null,null,"00:00:00"]
[null,null,0,null,null,null,"00:00:00"]
[null,null,0,null,null,null,"00:00:00"]
[null,null,0,null,null,null,"00:00:00"]
[null,null,0,null,null,null,"00:00:00"]
[null,null,0,null,null,null,"00:00:00"]
[null,null,0,null,null,null,"00:00:00"]
[null,null,0,null,null,null,"00:00:00"]
[null,null,0,null,null,null,"00:00:00"]
[null,null,0,null,null,null,"00:00:00"]
[null,null,0,null,null,null,"00:00:00"]
[null,null,0,null,null,null,"00:00:00"]
[null,null,0,null,null,null,"00:00:00"]
[null,null,0,null,null,null,"00:00:00"]
[null,null,0,null,null,null,"00:00:00"]
[null,null,0,null,null,null,"00:00:00"]
[null,null,0,null,null,null,"00:00:00"]
[null,null,0,null,null,null,"00:00:00"]
[null,null,0,null,null,null,"00:00:00"]
[null,null,0,null,null,null,"00:00:00"]
[null,null,0,null,null,null,"00:00:00"]
[null,null,0,null,null,null,"00:00:00"]
[null,null,0,null,null,null,"00:00:00"]
[null,null,0,null,null,null,"00:00:00"]
[null,null,0,null,null,null,"00:00:00"]
[null,null,0,null,null,null,"00:00:00"]
[null,null,0,null,null,null,"00:00:00"]
[null,null,0,null,null,null,"00:00:00"]
[null,null,0,null,null,null,"00:00:00"]
[null,null,0,null,null,null,"00:00:00"]
[null,null,0,null,null,null,"00:00:00"]
[null,null,0,null,null,null,"00:00:00"]
[null,null,0,null,null,null,"00:00:00"]
[null,null,0,null,null,null,"00:00:00"]
[null,null,0,null,null,null,"00:00:00"]
[null,null,0,null,null,null,"00:00:00"]
[null,null,0,null,null,null,"00:00:00"]
[null,null,0,null,null,null,"00:00:00"]
[null,null,0,null,null,null,"00:00:00"]
[null,null,0,null,null,null,"00:00:00"]
[null,null,0,null,null,null,"00:00:00"]
[null,null,0,null,null,null,"00:00:00"]
[null,null,0,null,null,null,"00:00:00"]
[null,null,0,null,null,null,"00:00:00"]
[null,null,0,null,null,null,"00:00:00"]
[null,null,0,null,null,null,"00:00:00"]
[null,null,0,null,null,null,"00:00:00"]
[null,null,0,null,null,null,"00:00:00"]
[null,null,0,null,null,null,"00:00:00"]
[null,null,0,null,null,null,"00:00:00"]
[null,null,0,null,null,null,"00:00:00"]
[null,null,0,null,null,null,"00:00:00"]
[null,null,0,null,null,null,"00:00:00"]
[null,null,0,null,null,null,"00:00:00"]
[null,null,0,null,null,null,"00:00:00"]
[null,null,0,null,null,null,"00:00:00"]
[null,null,0,null,null,null,"00:00:00"]
[null,null,0,null,null,null,"00:00:00"]
[null,null,0,null,null,null,"00:00:00"]
[null,null,0,null,null,null,"00:00:00"]
[null,null,0,null,null,null,"00:00:00"]
[null,null,0,null,null,null,"00:00:00"]
[null,null,0,null,null,null,"00:00:00"]
[null,null,0,null,null,null,"00:00:00"]
[null,null,0,null,null,null,"00:00:00"]
[null,null,0,null,null,null,"00:00:00"]
[null,null,0,null,null,null,"00:00:00"]
[null,null,0,null,null,null,"00:00:00"]
[null,null,0,null,null,null,"00:00:00"]
[null,null,0,null,null,null,"00:00:00"]
[null,null,0,null,null,null,"00:00:00"]
[null,null,0,null,null,null,"00:00:00"]
[null,null,0,null,null,null,"00:00:00"]
[null,null,0,null,null,null,"00:00:00"]
[null,null,0,null,null,null,"00:00:00"]
[null,null,0,null,null,null,"00:00:00"]
[null,null,0,null,null,null,"00:00:00"]
[null,null,0,null,null,null,"00:00:00"]
[null,null,0,null,null,null,"00:00:00"]
[null,null,0,null,null,null,"00:00:00"]
[null,null,0,null,null,null,"00:00:00"]
[null,null,0,null,null,null,"00:00:00"]
[null,null,0,null,null,null,"00:00:00"]
[null,null,0,null,null,null,"00:00:00"]
[null,null,0,null,null,null,"00:00:00"]
[null,null,0,null,null,null,"00:00:00"]
[null,null,0,null,null,null,"00:00:00"]
[null,null,0,null,null,null,"00:00:00"]
[null,null,0,null,null,null,"00:00:00"]
[null,null,0,null,null,null,"00:00:00"]
[null,null,0,null,null,null,"00:00:00"]
[null,null,0,null,null,null,"00:00:00"]
[null,null,0,null,null,null,"00:00:00"]
[null,null,0,null,null,null,"00:00:00"]
[null,null,0,null,null,null,"00:00:00"]
[null,null,0,null,null,null,"00:00:00"]
[null,null,0,null,null,null,"00:00:00"]
[null,null,0,null,null,null,"00:00:00"]
[null,null,0,null,null,null,"00:00:00"]
[null,null,0,null,null,null,"00:00:00"]
[null,null,0,null,null,null,"00:00:00"]
[null,null,0,null,null,null,"00:00:00"]
[null,null,0,null,null,null,"00:00:00"]
[null,null,0,null,null,null,"00:00:00"]
[null,null,0,null,null,null,"00:00:00"]
[null,null,0,null,null,null,"00:00:00"]
[null,null,0,null,null,null,"00:00:00"]
[null,null,0,null,null,null,"00:00:00"]
[null,null,0,null,null,null,"00:00:00"]
[null,null,0,null,null,null,"00:00:00"]
[null,null,0,null,null,null,"00:00:00"]
[null,null,0,null,null,null,"00:00:00"]
[null,null,0,null,null,null,"00:00:00"]
[null,null,0,null,null,null,"00:00:00"]
[null,null,0,null,null,null,"00:00:00"]
[null,null,0,null,null,null,"00:00:00"]
[null,null,0,null,null,null,"00:00:00"]
[null,null,0,null,null,null,"00:00:00"]
[null,null,0,null,null,null,"00:00:00"]
[null,null,0,null,null,null,"00:00:00"]
[null,null,0,null,null,null,"00:00:00"]
[null,null,0,null,null,null,"00:00:00"]
[null,null,0,null,null,null,"00:00:00"]
[null,null,0,null,null,null,"00:00:00"]
[null,null,0,null,null,null,"00:00:00"]
[null,null,0,null,null,null,"00:00:00"]
[null,null,0,null,null,null,"00:00:00"]
[null,null,0,null,null,null,"00:00:00"]
[null,null,0,null,null,null,"00:00:00"]
[null,null,0,null,null,null,"00:00:00"]
[null,null,0,null,null,null,"00:00:00"]
[null,null,0,null,null,null,"00:00:00"]
[null,null,0,null,null,null,"00:00:00"]
[null,null,0,null,null,null,"00:00:00"]
[null,null,0,null,null,null,"00:00:00"]
[null,null,0,null,null,null,"00:00:00"]
[null,null,0,null,null,null,"00:00:00"]
[null,null,0,null,null,null,"00:00:00"]
[null,null,0,null,null,null,"00:00:00"]
[null,null,0,null,null,null,"00:00:00"]
[null,null,0,null,null,null,"00:00:00"]
[null,null,0,null,null,null,"00:00:00"]
[null,null,0,null,null,null,"00:00:00"]
[null,null,0,null,null,null,"00:00:00"]
[null,null,0,null,null,null,"00:00:00"]
[null,null,0,null,null,null,"00:00:00"]
[null,null,0,null,null,null,"00:00:00"]
[null,null,0,null,null,null,"00:00:00"]
[null,null,0,null,null,null,"00:00:00"]
[null,null,0,null,null,null,"00:00:00"]
[null,null,0,null,null,null,"00:00:00"]
[null,null,0,null,null,null,"00:00:00"]
[null,null,0,null,null,null,"00:00:00"]
[null,null,0,null,null,null,"00:00:00"]
[null,null,0,null,null,null,"00:00:00"]
[null,null,0,null,null,null,"00:00:00"]
[null,null,0,null,null,null,"00:00:00"]
[null,null,0,null,null,null,"00:00:00"]
[null,null,0,null,null,null,"00:00:00"]
[null,null,0,null,null,null,"00:00:00"]
[null,null,0,null,null,null,"00:00:00"]
[null,null,0,null,null,null,"00:00:00"]
[null,null,0,null,null,null,"00:00:00"]
[null,null,0,null,null,null,"00:00:00"]
[null,null,0,null,null,null,"00:00:00"]
[null,null,0,null,null,null,"00:00:00"]
[null,null,0,null,null,null,"00:00:00"]
[null,null,0,null,null,null,"00:00:00"]
[null,null,0,null,null,null,"00:00:00"]
[null,null,0,null,null,null,"00:00:00"]
[null,null,0,null,null,null,"00:00:00"]
[null,null,0,null,null,null,"00:00:00"]
[null,null,0,null,null,null,"00:00:00"]
[null,null,0,null,null,null,"00:00:00"]
[null,null,0,null,null,null,"00:00:00"]
[null,null,0,null,null,null,"00:00:00"]
[null,null,0,null,null,null,"00:00:00"]
[null,null,0,null,null,null,"00:00:00"]
[null,null,0,null,null,null,"00:00:00"]
[null,null,0,null,null,null,"00:00:00"]
[null,null,0,null,null,null,"00:00:00"]
[null,null,0,null,null,null,"00:00:00"]
[null,null,0,null,null,null,"00:00:00"]
[null,null,0,null,null,null,"00:00:00"]
[null,null,0,null,null,null,"00:00:00"]
[null,null,0,null,null,null,"00:00:00"]
[null,null,0,null,null,null,"00:00:00"]
[null,null,0,null,null,null,"00:00:00"]
[null,null,0,null,null,null,"00:00:00"]
[null,null,0,null,null,null,"00:00:00"]
[null,null,0,null,null,null,"00:00:00"]
[null,null,0,null,null,null,"00:00:00"]
[null,null,0,null,null,null,"00:00:00"]
[null,null,0,null,null,null,"00:00:00"]
[null,null,0,null,null,null,"00:00:00"]
[null,null,0,null,null,null,"00:00:00"]
[null,null,0,null,null,null,"00:00:00"]
[null,null,0,null,null,null,"00:00:00"]
[null,null,0,null,null,null,"00:00:00"]
[null,null,0,null,null,null,"00:00:00"]
[null,null,0,null,null,null,"00:00:00"]
[null,null,0,null,null,null,"00:00:00"]
[null,null,0,null,null,null,"00:00:00"]
[null,null,0,null,null,null,"00:00:00"]
[null,null,0,null,null,null,"00:00:00"]
[null,null,0,null,null,null,"00:00:00"]
[null,null,0,null,null,null,"00:00:00"]
[null,null,0,null,null,null,"00:00:00"]
[null,null,0,null,null,null,"00:00:00"]
[null,null,0,null,null,null,"00:00:00"]
[null,null,0,null,null,null,"00:00:00"]
[null,null,0,null,null,null,"00:00:00"]
[null,null,0,null,null,null,"00:00:00"]
[null,null,0,null,null,null,"00:00:00"]
[null,null,0,null,null,null,"00:00:00"]
[null,null,0,null,null,null,"00:00:00"]
[null,null,0,null,null,null,"00:00:00"]
[null,null,0,null,null,null,"00:00:00"]
[null,null,0,null,null,null,"00:00:00"]
[null,null,0,null,null,null,"00:00:00"]
[null,null,0,null,null,null,"00:00:00"]
[null,null,0,null,null,null,"00:00:00"]
[null,null,0,null,null,null,"00:00:00"]
[null,null,0,null,null,null,"00:00:00"]
[null,null,0,null,null,null,"00:00:00"]
[null,null,0,null,null,null,"00:00:00"]
[null,null,0,null,null,null,"00:00:00"]
[null,null,0,null,null,null,"00:00:00"]
[null,null,0,null,null,null,"00:00:00"]
[null,null,0,null,null,null,"00:00:00"]
[null,null,0,null,null,null,"00:00:00"]
[null,null,0,null,null,null,"00:00:00"]
[null,null,0,null,null,null,"00:00:00"]
[null,null,0,null,null,null,"00:00:00"]
[null,null,0,null,null,null,"00:00:00"]
[null,null,0,null,null,null,"00:00:00"]
[null,null,0,null,null,null,"00:00:00"]
[null,null,0,null,null,null,"00:00:00"]
[null,null,0,null,null,null,"00:00:00"]
[null,null,0,null,null,null,"00:00:00"]
[null,null,0,null,null,null,"00:00:00"]
[null,null,0,null,null,null,"00:00:00"]
[null,null,0,null,null,null,"00:00:00"]
[null,null,0,null,null,null,"00:00:00"]
[null,null,0,null,null,null,"00:00:00"]
[null,null,0,null,null,null,"00:00:00"]
[null,null,0,null,null,null,"00:00:00"]
[null,null,0,null,null,null,"00:00:00"]
[null,null,0,null,null,null,"00:00:00"]
[null,null,0,null,null,null,"00:00:00"]
[null,null,0,null,null,null,"00:00:00"]
[null,null,0,null,null,null,"00:00:00"]
[null,null,0,null,null,null,"00:00:00"]
[null,null,0,null,null,null,"00:00:00"]
[null,null,0,null,null,null,"00:00:00"]
[null,null,0,null,null,null,"00:00:00"]
[null,null,0,null,null,null,"00:00:00"]
[null,null,0,null,null,null,"00:00:00"]
[null,null,0,null,null,null,"00:00:00"]
[null,null,0,null,null,null,"00:00:00"]
[null,null,0,null,null,null,"00:00:00"]
[null,null,0,null,null,null,"00:00:00"]
[null,null,0,null,null,null,"00:00:00"]
[null,null,0,null,null,null,"00:00:00"]
[null,null,0,null,null,null,"00:00:00"]
[null,null,0,null,null,null,"00:00:00"]
[null,null,0,null,null,null,"00:00:00"]
[null,null,0,null,null,null,"00:00:00"]
[null,null,0,null,null,null,"00:00:00"]
[null,null,0,null,null,null,"00:00:00"]
[null,null,0,null,null,null,"00:00:00"]
[null,null,0,null,null,null,"00:00:00"]
[null,null,0,null,null,null,"00:00:00"]
[null,null,0,null,null,null,"00:00:00"]
[null,null,0,null,null,null,"00:00:00"]
[null,null,0,null,null,null,"00:00:00"]
[null,null,0,null,null,null,"00:00:00"]
[null,null,0,null,null,null,"00:00:00"]
[null,null,0,null,null,null,"00:00:00"]
[null,null,0,null,null,null,"00:00:00"]
[null,null,0,null,null,null,"00:00:00"]
[null,null,0,null,null,null,"00:00:00"]
[null,null,0,null,null,null,"00:00:00"]
[null,null,0,null,null,null,"00:00:00"]
[null,null,0,null,null,null,"00:00:00"]
[null,null,0,null,null,null,"00:00:00"]
[null,null,0,null,null,null,"00:00:00"]
[null,null,0,null,null,null,"00:00:00"]
[null,null,0,null,null,null,"00:00:00"]
[null,null,0,null,null,null,"00:00:00"]
[null,null,0,null,null,null,"00:00:00"]
[null,null,0,null,null,null,"00:00:00"]
[null,null,0,null,null,null,"00:00:00"]
[null,null,0,null,null,null,"00:00:00"]
[null,null,0,null,null,null,"00:00:00"]
[null,null,0,null,null,null,"00:00:00"]
[null,null,0,null,null,null,"00:00:00"]
[null,null,0,null,null,null,"00:00:00"]
[null,null,0,null,null,null,"00:00:00"]
[null,null,0,null,null,null,"00:00:00"]
[null,null,0,null,null,null,"00:00:00"]
[null,null,0,null,null,null,"00:00:00"]
[null,null,0,null,null,null,"00:00:00"]
[null,null,0,null,null,null,"00:00:00"]
[null,null,0,null,null,null,"00:00:00"]
[null,null,0,null,null,null,"00:00:00"]
[null,null,0,null,null,null,"00:00:00"]
[null,null,0,null,null,null,"00:00:00"]
[null,null,0,null,null,null,"00:00:00"]
[null,null,0,null,null,null,"00:00:00"]
[null,null,0,null,null,null,"00:00:00"]
[null,null,0,null,null,null,"00:00:00"]
[null,null,0,null,null,null,"00:00:00"]
[null,null,0,null,null,null,"00:00:00"]
[null,null,0,null,null,null,"00:00:00"]
[null,null,0,null,null,null,"00:00:00"]
[null,null,0,null,null,null,"00:00:00"]
[null,null,0,null,null,null,"00:00:00"]
[null,null,0,null,null,null,"00:00:00"]
[null,null,0,null,null,null,"00:00:00"]
[null,null,0,null,null,null,"00:00:00"]
[null,null,0,null,null,null,"00:00:00"]
[null,null,0,null,null,null,"00:00:00"]
[null,null,0,null,null,null,"00:00:00"]
[null,null,0,null,null,null,"00:00:00"]
[null,null,0,null,null,null,"00:00:00"]
[null,null,0,null,null,null,"00:00:00"]
[null,null,0,null,null,null,"00:00:00"]
[null,null,0,null,null,null,"00:00:00"]
[null,null,0,null,null,null,"00:00:00"]
[null,null,0,null,null,null,"00:00:00"]
[null,null,0,null,null,null,"00:00:00"]
[null,null,0,null,null,null,"00:00:00"]
[null,null,0,null,null,null,"00:00:00"]
[null,null,0,null,null,null,"00:00:00"]
[null,null,0,null,null,null,"00:00:00"]
[null,null,0,null,null,null,"00:00:00"]
[null,null,0,null,null,null,"00:00:00"]
[null,null,0,null,null,null,"00:00:00"]
[null,null,0,null,null,null,"00:00:00"]
[null,null,0,null,null,null,"00:00:00"]
[null,null,0,null,null,null,"00:00:00"]
[null,null,0,null,null,null,"00:00:00"]
[null,null,0,null,null,null,"00:00:00"]
[null,null,0,null,null,null,"00:00:00"]
[null,null,0,null,null,null,"00:00:00"]
[null,null,0,null,null,null,"00:00:00"]
[null,null,0,null,null,null,"00:00:00"]
[null,null,0,null,null,null,"00:00:00"]
[null,null,0,null,null,null,"00:00:00"]
[null,null,0,null,null,null,"00:00:00"]
[null,null,0,null,null,null,"00:00:00"]
[null,null,0,null,null,null,"00:00:00"]
[null,null,0,null,null,null,"00:00:00"]
[null,null,0,null,null,null,"00:00:00"]
[null,null,0,null,null,null,"00:00:00"]
[null,null,0,null,null,null,"00:00:00"]
[null,null,0,null,null,null,"00:00:00"]
[null,null,0,null,null,null,"00:00:00"]
[null,null,0,null,null,null,"00:00:00"]
[null,null,0,null,null,null,"00:00:00"]
[null,null,0,null,null,null,"00:00:00"]
[null,null,0,null,null,null,"00:00:00"]
[null,null,0,null,null,null,"00:00:00"]
[null,null,0,null,null,null,"00:00:00"]
[null,null,0,null,null,null,"00:00:00"]
[null,null,0,null,null,null,"00:00:00"]
[null,null,0,null,null,null,"00:00:00"]
[null,null,0,null,null,null,"00:00:00"]
[null,null,0,null,null,null,"00:00:00"]
[null,null,0,null,null,null,"00:00:00"]
[null,null,0,null,null,null,"00:00:00"]
[null,null,0,null,null,null,"00:00:00"]
[null,null,0,null,null,null,"00:00:00"]
[null,null,0,null,null,null,"00:00:00"]
[null,null,0,null,null,null,"00:00:00"]
[null,null,0,null,null,null,"00:00:00"]
[null,null,0,null,null,null,"00:00:00"]
[null,null,0,null,null,null,"00:00:00"]
[null,null,0,null,null,null,"00:00:00"]
[null,null,0,null,null,null,"00:00:00"]
[null,null,0,null,null,null,"00:00:00"]
[null,null,0,null,null,null,"00:00:00"]
[null,null,0,null,null,null,"00:00:00"]
[null,null,0,null,null,null,"00:00:00"]
[null,null,0,null,null,null,"00:00:00"]
[null,null,0,null,null,null,"00:00:00"]
[null,null,0,null,null,null,"00:00:00"]
[null,null,0,null,null,null,"00:00:00"]
[null,null,0,null,null,null,"00:00:00"]
[null,null,0,null,null,null,"00:00:00"]
[null,null,0,null,null,null,"00:00:00"]
[null,null,0,null,null,null,"00:00:00"]
[null,null,0,null,null,null,"00:00:00"]
[null,null,0,null,null,null,"00:00:00"]
[null,null,0,null,null,null,"00:00:00"]
[null,null,0,null,null,null,"00:00:00"]
[null,null,0,null,null,null,"00:00:00"]
[null,null,0,null,null,null,"00:00:00"]
[null,null,0,null,null,null,"00:00:00"]
[null,null,0,null,null,null,"00:00:00"]
[null,null,0,null,null,null,"00:00:00"]
[null,null,0,null,null,null,"00:00:00"]
[null,null,0,null,null,null,"00:00:00"]
[null,null,0,null,null,null,"00:00:00"]
[null,null,0,null,null,null,"00:00:00"]
[null,null,0,null,null,null,"00:00:00"]
[null,null,0,null,null,null,"00:00:00"]
[null,null,0,null,null,null,"00:00:00"]
[null,null,0,null,null,null,"00:00:00"]
[null,null,0,null,null,null,"00:00:00"]
[null,null,0,null,null,null,"00:00:00"]
[null,null,0,null,null,null,"00:00:00"]
[null,null,0,null,null,null,"00:00:00"]
[null,null,0,null,null,null,"00:00:00"]
[null,null,0,null,null,null,"00:00:00"]
[null,null,0,null,null,null,"00:00:00"]
[null,null,0,null,null,null,"00:00:00"]
[null,null,0,null,null,null,"00:00:00"]
[null,null,0,null,null,null,"00:00:00"]
[null,null,0,null,null,null,"00:00:00"]
[null,null,0,null,null,null,"00:00:00"]
[null,null,0,null,null,null,"00:00:00"]
[null,null,0,null,null,null,"00:00:00"]
[null,null,0,null,null,null,"00:00:00"]
[null,null,0,null,null,null,"00:00:00"]
[null,null,0,null,null,null,"00:00:00"]
[null,null,0,null,null,null,"00:00:00"]
[null,null,0,null,null,null,"00:00:00"]
[null,null,0,null,null,null,"00:00:00"]
[null,null,0,null,null,null,"00:00:00"]
[null,null,0,null,null,null,"00:00:00"]
[null,null,0,null,null,null,"00:00:00"]
[null,null,0,null,null,null,"00:00:00"]
[null,null,0,null,null,null,"00:00:00"]
[null,null,0,null,null,null,"00:00:00"]
[null,null,0,null,null,null,"00:00:00"]
[null,null,0,null,null,null,"00:00:00"]
[null,null,0,null,null,null,"00:00:00"]
[null,null,0,null,null,null,"00:00:00"]
[null,null,0,null,null,null,"00:00:00"]
[null,null,0,null,null,null,"00:00:00"]
[null,null,0,null,null,null,"00:00:00"]
[null,null,0,null,null,null,"00:00:00"]
[null,null,0,null,null,null,"00:00:00"]
[null,null,0,null,null,null,"00:00:00"]
[null,null,0,null,null,null,"00:00:00"]
[null,null,0,null,null,null,"00:00:00"]
[null,null,0,null,null,null,"00:00:00"]
[null,null,0,null,null,null,"00:00:00"]
[null,null,0,null,null,null,"00:00:00"]
[null,null,0,null,null,null,"00:00:00"]
[null,null,0,null,null,null,"00:00:00"]
[null,null,0,null,null,null,"00:00:00"]
[null,null,0,null,null,null,"00:00:00"]
[null,null,0,null,null,null,"00:00:00"]
[null,null,0,null,null,null,"00:00:00"]
[null,null,0,null,null,null,"00:00:00"]
[null,null,0,null,null,null,"00:00:00"]
[null,null,0,null,null,null,"00:00:00"]
[null,null,0,null,null,null,"00:00:00"]
[null,null,0,null,null,null,"00:00:00"]
[null,null,0,null,null,null,"00:00:00"]
[null,null,0,null,null,null,"00:00:00"]
[null,null,0,null,null,null,"00:00:00"]
[null,null,0,null,null,null,"00:00:00"]
[null,null,0,null,null,null,"00:00:00"]
[null,null,0,null,null,null,"00:00:00"]
[null,null,0,null,null,null,"00:00:00"]
[null,null,0,null,null,null,"00:00:00"]
[null,null,0,null,null,null,"00:00:00"]
[null,null,0,null,null,null,"00:00:00"]
[null,null,0,null,null,null,"00:00:00"]
[null,null,0,null,null,null,"00:00:00"]
[null,null,0,null,null,null,"00:00:00"]
[null,null,0,null,null,null,"00:00:00"]
[null,null,0,null,null,null,"00:00:00"]
[null,null,0,null,null,null,"00:00:00"]
[null,null,0,null,null,null,"00:00:00"]
[null,null,0,null,null,null,"00:00:00"]
[null,null,0,null,null,null,"00:00:00"]
[null,null,0,null,null,null,"00:00:00"]
[null,null,0,null,null,null,"00:00:00"]
[null,null,0,null,null,null,"00:00:00"]
[null,null,0,null,null,null,"00:00:00"]
[null,null,0,null,null,null,"00:00:00"]
[null,null,0,null,null,null,"00:00:00"]
[null,null,0,null,null,null,"00:00:00"]
[null,null,0,null,null,null,"00:00:00"]
[null,null,0,null,null,null,"00:00:00"]
[null,null,0,null,null,null,"00:00:00"]
[null,null,0,null,null,null,"00:00:00"]
[null,null,0,null,null,null,"00:00:00"]
[null,null,0,null,null,null,"00:00:00"]
[null,null,0,null,null,null,"00:00:00"]
[null,null,0,null,null,null,"00:00:00"]
[null,null,0,null,null,null,"00:00:00"]
[null,null,0,null,null,null,"00:00:00"]
[null,null,0,null,null,null,"00:00:00"]
[null,null,0,null,null,null,"00:00:00"]
[null,null,0,null,null,null,"00:00:00"]
[null,null,0,null,null,null,"00:00:00"]
[null,null,0,null,null,null,"00:00:00"]
[null,null,0,null,null,null,"00:00:00"]
[null,null,0,null,null,null,"00:00:00"]
[null,null,0,null,null,null,"00:00:00"]
[null,null,0,null,null,null,"00:00:00"]
[null,null,0,null,null,null,"00:00:00"]
[null,null,0,null,null,null,"00:00:00"]
[null,null,0,null,null,null,"00:00:00"]
[null,null,0,null,null,null,"00:00:00"]
[null,null,0,null,null,null,"00:00:00"]
[null,null,0,null,null,null,"00:00:00"]
[null,null,0,null,null,null,"00:00:00"]
[null,null,0,null,null,null,"00:00:00"]
[null,null,0,null,null,null,"00:00:00"]
[null,null,0,null,null,null,"00:00:00"]
[null,null,0,null,null,null,"00:00:00"]
[null,null,0,null,null,null,"00:00:00"]
[null,null,0,null,null,null,"00:00:00"]
[null,null,0,null,null,null,"00:00:00"]
[null,null,0,null,null,null,"00:00:00"]
[null,null,0,null,null,null,"00:00:00"]
[null,null,0,null,null,null,"00:00:00"]
[null,null,0,null,null,null,"00:00:00"]
[null,null,0,null,null,null,"00:00:00"]
[null,null,0,null,null,null,"00:00:00"]
[null,null,0,null,null,null,"00:00:00"]
[null,null,0,null,null,null,"00:00:00"]
[null,null,0,null,null,null,"00:00:00"]
[null,null,0,null,null,null,"00:00:00"]
[null,null,0,null,null,null,"00:00:00"]
[null,null,0,null,null,null,"00:00:00"]
[null,null,0,null,null,null,"00:00:00"]
[null,null,0,null,null,null,"00:00:00"]
[null,null,0,null,null,null,"00:00:00"]
[null,null,0,null,null,null,"00:00:00"]
[null,null,0,null,null,null,"00:00:00"]
[null,null,0,null,null,null,"00:00:00"]
[null,null,0,null,null,null,"00:00:00"]
[null,null,0,null,null,null,"00:00:00"]
[null,null,0,null,null,null,"00:00:00"]
[null,null,0,null,null,null,"00:00:00"]
[null,null,0,null,null,null,"00:00:00"]
[null,null,0,null,null,null,"00:00:00"]
[null,null,0,null,null,null,"00:00:00"]
[null,null,0,null,null,null,"00:00:00"]
[null,null,0,null,null,null,"00:00:00"]
[null,null,0,null,null,null,"00:00:00"]
[null,null,0,null,null,null,"00:00:00"]
[null,null,0,null,null,null,"00:00:00"]
[null,null,0,null,null,null,"00:00:00"]
[null,null,0,null,null,null,"00:00:00"]
[null,null,0,null,null,null,"00:00:00"]
[null,null,0,null,null,null,"00:00:00"]
[null,null,0,null,null,null,"00:00:00"]
[null,null,0,null,null,null,"00:00:00"]
[null,null,0,null,null,null,"00:00:00"]
[null,null,0,null,null,null,"00:00:00"]
[null,null,0,null,null,null,"00:00:00"]
[null,null,0,null,null,null,"00:00:00"]
[null,null,0,null,null,null,"00:00:00"]
[null,null,0,null,null,null,"00:00:00"]
[null,null,0,null,null,null,"00:00:00"]
[null,null,0,null,null,null,"00:00:00"]
[null,null,0,null,null,null,"00:00:00"]
[null,null,0,null,null,null,"00:00:00"]
[null,null,0,null,null,null,"00:00:00"]
[null,null,0,null,null,null,"00:00:00"]
[null,null,0,null,null,null,"00:00:00"]
[null,null,0,null,null,null,"00:00:00"]
[null,null,0,null,null,null,"00:00:00"]
[null,null,0,null,null,null,"00:00:00"]
[null,null,0,null,null,null,"00:00:00"]
[null,null,0,null,null,null,"00:00:00"]
[null,null,0,null,null,null,"00:00:00"]
[null,null,0,null,null,null,"00:00:00"]
[null,null,0,null,null,null,"00:00:00"]
[null,null,0,null,null,null,"00:00:00"]
[null,null,0,null,null,null,"00:00:00"]
[null,null,0,null,null,null,"00:00:00"]
[null,null,0,null,null,null,"00:00:00"]
[null,null,0,null,null,null,"00:00:00"]
[null,null,0,null,null,null,"00:00:00"]
[null,null,0,null,null,null,"00:00:00"]
[null,null,0,null,null,null,"00:00:00"]
[null,null,0,null,null,null,"00:00:00"]
[null,null,0,null,null,null,"00:00:00"]
[null,null,0,null,null,null,"00:00:00"]
[null,null,0,null,null,null,"00:00:00"]
[null,null,0,null,null,null,"00:00:00"]
[null,null,0,null,null,null,"00:00:00"]
[null,null,0,null,null,null,"00:00:00"]
[null,null,0,null,null,null,"00:00:00"]
[null,null,0,null,null,null,"00:00:00"]
[null,null,0,null,null,null,"00:00:00"]
[null,null,0,null,null,null,"00:00:00"]
[null,null,0,null,null,null,"00:00:00"]
[null,null,0,null,null,null,"00:00:00"]
[null,null,0,null,null,null,"00:00:00"]
[null,null,0,null,null,null,"00:00:00"]
[null,null,0,null,null,null,"00:00:00"]
[null,null,0,null,null,null,"00:00:00"]
[null,null,0,null,null,null,"00:00:00"]
[null,null,0,null,null,null,"00:00:00"]
[null,null,0,null,null,null,"00:00:00"]
[null,null,0,null,null,null,"00:00:00"]
[null,null,0,null,null,null,"00:00:00"]
[null,null,0,null,null,null,"00:00:00"]
[null,null,0,null,null,null,"00:00:00"]
[null,null,0,null,null,null,"00:00:00"]
[null,null,0,null,null,null,"00:00:00"]
[null,null,0,null,null,null,"00:00:00"]
[null,null,0,null,null,null,"00:00:00"]
[null,null,0,null,null,null,"00:00:00"]
[null,null,0,null,null,null,"00:00:00"]
[null,null,0,null,null,null,"00:00:00"]
[null,null,0,null,null,null,"00:00:00"]
[null,null,0,null,null,null,"00:00:00"]
[null,null,0,null,null,null,"00:00:00"]
[null,null,0,null,null,null,"00:00:00"]
[null,null,0,null,null,null,"00:00:00"]
[null,null,0,null,null,null,"00:00:00"]
[null,null,0,null,null,null,"00:00:00"]
[null,null,0,null,null,null,"00:00:00"]
[null,null,0,null,null,null,"00:00:00"]
[null,null,0,null,null,null,"00:00:00"]
[null,null,0,null,null,null,"00:00:00"]
[null,null,0,null,null,null,"00:00:00"]
[null,null,0,null,null,null,"00:00:00"]
[null,null,0,null,null,null,"00:00:00"]
[null,null,0,null,null,null,"00:00:00"]
[null,null,0,null,null,null,"00:00:00"]
[null,null,0,null,null,null,"00:00:00"]
[null,null,0,null,null,null,"00:00:00"]
[null,null,0,null,null,null,"00:00:00"]
[null,null,0,null,null,null,"00:00:00"]
[null,null,0,null,null,null,"00:00:00"]
[null,null,0,null,null,null,"00:00:00"]
[null,null,0,null,null,null,"00:00:00"]
[null,null,0,null,null,null,"00:00:00"]
[null,null,0,null,null,null,"00:00:00"]
[null,null,0,null,null,null,"00:00:00"]
[null,null,0,null,null,null,"00:00:00"]
[null,null,0,null,null,null,"00:00:00"]
[null,null,0,null,null,null,"00:00:00"]
[null,null,0,null,null,null,"00:00:00"]
[null,null,0,null,null,null,"00:00:00"]
[null,null,0,null,null,null,"00:00:00"]
[null,null,0,null,null,null,"00:00:00"]
[null,null,0,null,null,null,"00:00:00"]
[null,null,0,null,null,null,"00:00:00"]
[null,null,0,null,null,null,"00:00:00"]
[null,null,0,null,null,null,"00:00:00"]
[null,null,0,null,null,null,"00:00:00"]
[null,null,0,null,null,null,"00:00:00"]
[null,null,0,null,null,null,"00:00:00"]
[null,null,0,null,null,null,"00:00:00"]
[null,null,0,null,null,null,"00:00:00"]
[null,null,0,null,null,null,"00:00:00"]
[null,null,0,null,null,null,"00:00:00"]
[null,null,0,null,null,null,"00:00:00"]
[null,null,0,null,null,null,"00:00:00"]
[null,null,0,null,null,null,"00:00:00"]
[null,null,0,null,null,null,"00:00:00"]
[null,null,0,null,null,null,"00:00:00"]
[null,null,0,null,null,null,"00:00:00"]
[null,null,0,null,null,null,"00:00:00"]
[null,null,0,null,null,null,"00:00:00"]
[null,null,0,null,null,null,"00:00:00"]
[null,null,0,null,null,null,"00:00:00"]
[null,null,0,null,null,null,"00:00:00"]
[null,null,0,null,null,null,"00:00:00"]
[null,null,0,null,null,null,"00:00:00"]
[null,null,0,null,null,null,"00:00:00"]
[null,null,0,null,null,null,"00:00:00"]
[null,null,0,null,null,null,"00:00:00"]
[null,null,0,null,null,null,"00:00:00"]
[null,null,0,null,null,null,"00:00:00"]
[null,null,0,null,null,null,"00:00:00"]
[null,null,0,null,null,null,"00:00:00"]
[null,null,0,null,null,null,"00:00:00"]
[null,null,0,null,null,null,"00:00:00"]
[null,null,0,null,null,null,"00:00:00"]
[null,null,0,null,null,null,"00:00:00"]
[null,null,0,null,null,null,"00:00:00"]
[null,null,0,null,null,null,"00:00:00"]
[null,null,0,null,null,null,"00:00:00"]
[null,null,0,null,null,null,"00:00:00"]
[null,null,0,null,null,null,"00:00:00"]
[null,null,0,null,null,null,"00:00:00"]
[null,null,0,null,null,null,"00:00:00"]
[null,null,0,null,null,null,"00:00:00"]
[null,null,0,null,null,null,"00:00:00"]
[null,null,0,null,null,null,"00:00:00"]
[null,null,0,null,null,null,"00:00:00"]
[null,null,0,null,null,null,"00:00:00"]
[null,null,0,null,null,null,"00:00:00"]
[null,null,0,null,null,null,"00:00:00"]
[null,null,0,null,null,null,"00:00:00"]
[null,null,0,null,null,null,"00:00:00"]
[null,null,0,null,null,null,"00:00:00"]
[null,null,0,null,null,null,"00:00:00"]
[null,null,0,null,null,null,"00:00:00"]
[null,null,0,null,null,null,"00:00:00"]
[null,null,0,null,null,null,"00:00:00"]
[null,null,0,null,null,null,"00:00:00"]
[null,null,0,null,null,null,"00:00:00"]
[null,null,0,null,null,null,"00:00:00"]
[null,null,0,null,null,null,"00:00:00"]
[null,null,0,null,null,null,"00:00:00"]
[null,null,0,null,null,null,"00:00:00"]
[null,null,0,null,null,null,"00:00:00"]
[null,null,0,null,null,null,"00:00:00"]
[null,null,0,null,null,null,"00:00:00"]
[null,null,0,null,null,null,"00:00:00"]
[null,null,0,null,null,null,"00:00:00"]
[null,null,0,null,null,null,"00:00:00"]
[null,null,0,null,null,null,"00:00:00"]
[null,null,0,null,null,null,"00:00:00"]
[null,null,0,null,null,null,"00:00:00"]
[null,null,0,null,null,null,"00:00:00"]
[null,null,0,null,null,null,"00:00:00"]
[null,null,0,null,null,null,"00:00:00"]
[null,null,0,null,null,null,"00:00:00"]
[null,null,0,null,null,null,"00:00:00"]
[null,null,0,null,null,null,"00:00:00"]
[null,null,0,null,null,null,"00:00:00"]
[null,null,0,null,null,null,"00:00:00"]
[null,null,0,null,null,null,"00:00:00"]
[null,null,0,null,null,null,"00:00:00"]
[null,null,0,null,null,null,"00:00:00"]
[null,null,0,null,null,null,"00:00:00"]
[null,null,0,null,null,null,"00:00:00"]
[null,null,0,null,null,null,"00:00:00"]
[null,null,0,null,null,null,"00:00:00"]
[null,null,0,null,null,null,"00:00:00"]
[null,null,0,null,null,null,"00:00:00"]
[null,null,0,null,null,null,"00:00:00"]
[null,null,0,null,null,null,"00:00:00"]
[null,null,0,null,null,null,"00:00:00"]
[null,null,0,null,null,null,"00:00:00"]
[null,null,0,null,null,null,"00:00:00"]
[null,null,0,null,null,null,"00:00:00"]
[null,null,0,null,null,null,"00:00:00"]
[null,null,0,null,null,null,"00:00:00"]
[null,null,0,null,null,null,"00:00:00"]
[null,null,0,null,null,null,"00:00:00"]
[null,null,0,null,null,null,"00:00:00"]
[null,null,0,null,null,null,"00:00:00"]
[null,null,0,null,null,null,"00:00:00"]
[null,null,0,null,null,null,"00:00:00"]
[null,null,0,null,null,null,"00:00:00"]
[null,null,0,null,null,null,"00:00:00"]
[null,null,0,null,null,null,"00:00:00"]
[null,null,0,null,null,null,"00:00:00"]
[null,null,0,null,null,null,"00:00:00"]
[null,null,0,null,null,null,"00:00:00"]
[null,null,0,null,null,null,"00:00:00"]
[null,null,0,null,null,null,"00:00:00"]
[null,null,0,null,null,null,"00:00:00"]
[null,null,0,null,null,null,"00:00:00"]
[null,null,0,null,null,null,"00:00:00"]
[null,null,0,null,null,null,"00:00:00"]
[null,null,0,null,null,null,"00:00:00"]
[null,null,0,null,null,null,"00:00:00"]
[null,null,0,null,null,null,"00:00:00"]
[null,null,0,null,null,null,"00:00:00"]
[null,null,0,null,null,null,"00:00:00"]
[null,null,0,null,null,null,"00:00:00"]
[null,null,0,null,null,null,"00:00:00"]
[null,null,0,null,null,null,"00:00:00"]
[null,null,0,null,null,null,"00:00:00"]
[null,null,0,null,null,null,"00:00:00"]
[null,null,0,null,null,null,"00:00:00"]
[null,null,0,null,null,null,"00:00:00"]
[null,null,0,null,null,null,"00:00:00"]
[null,null,0,null,null,null,"00:00:00"]
[null,null,0,null,null,null,"00:00:00"]
[null,null,0,null,null,null,"00:00:00"]
[null,null,0,null,null,null,"00:00:00"]
[null,null,0,null,null,null,"00:00:00"]
[null,null,0,null,null,null,"00:00:00"]
[null,null,0,null,null,null,"00:00:00"]
[null,null,0,null,null,null,"00:00:00"]
[null,null,0,null,null,null,"00:00:00"]
[null,null,0,null,null,null,"00:00:00"]
[null,null,0,null,null,null,"00:00:00"]
[null,null,0,null,null,null,"00:00:00"]
[null,null,0,null,null,null,"00:00:00"]
[null,null,0,null,null,null,"00:00:00"]
[null,null,0,null,null,null,"00:00:00"]
[null,null,0,null,null,null,"00:00:00"]
[null,null,0,null,null,null,"00:00:00"]
[null,null,0,null,null,null,"00:00:00"]
[null,null,0,null,null,null,"00:00:00"]
[null,null,0,null,null,null,"00:00:00"]
[null,null,0,null,null,null,"00:00:00"]
[null,null,0,null,null,null,"00:00:00"]
[null,null,0,null,null,null,"00:00:00"]
[null,null,0,null,null,null,"00:00:00"]
[null,null,0,null,null,null,"00:00:00"]
[null,null,0,null,null,null,"00:00:00"]
[null,null,0,null,null,null,"00:00:00"]
[null,null,0,null,null,null,"00:00:00"]
[null,null,0,null,null,null,"00:00:00"]
[null,null,0,null,null,null,"00:00:00"]
[null,null,0,null,null,null,"00:00:00"]
[null,null,0,null,null,null,"00:00:00"]
[null,null,0,null,null,null,"00:00:00"]
[null,null,0,null,null,null,"00:00:00"]
[null,null,0,null,null,null,"00:00:00"]
[null,null,0,null,null,null,"00:00:00"]
[null,null,0,null,null,null,"00:00:00"]
[null,null,0,null,null,null,"00:00:00"]
[null,null,0,null,null,null,"00:00:00"]
[null,null,0,null,null,null,"00:00:00"]
[null,null,0,null,null,null,"00:00:00"]
[null,null,0,null,null,null,"00:00:00"]
[null,null,0,null,null,null,"00:00:00"]
[null,null,0,null,null,null,"00:00:00"]
[null,null,0,null,null,null,"00:00:00"]
[null,null,0,null,null,null,"00:00:00"]
[null,null,0,null,null,null,"00:00:00"]
[null,null,0,null,null,null,"00:00:00"]
[null,null,0,null,null,null,"00:00:00"]
[null,null,0,null,null,null,"00:00:00"]
[null,null,0,null,null,null,"00:00:00"]
[null,null,0,null,null,null,"00:00:00"]
[null,null,0,null,null,null,"00:00:00"]
[null,null,0,null,null,null,"00:00:00"]
[null,null,0,null,null,null,"00:00:00"]
[null,null,0,null,null,null,"00:00:00"]
[null,null,0,null,null,null,"00:00:00"]
[null,null,0,null,null,null,"00:00:00"]
[null,null,0,null,null,null,"00:00:00"]
[null,null,0,null,null,null,"00:00:00"]
[null,null,0,null,null,null,"00:00:00"]
[null,null,0,null,null,null,"00:00:00"]
[null,null,0,null,null,null,"00:00:00"]
[null,null,0,null,null,null,"00:00:00"]
[null,null,0,null,null,null,"00:00:00"]
[null,null,0,null,null,null,"00:00:00"]
[null,null,0,null,null,null,"00:00:00"]
[null,null,0,null,null,null,"00:00:00"]
[null,null,0,null,null,null,"00:00:00"]
[null,null,0,null,null,null,"00:00:00"]
[null,null,0,null,null,null,"00:00:00"]
[null,null,0,null,null,null,"00:00:00"]
[null,null,0,null,null,null,"00:00:00"]
[null,null,0,null,null,null,"00:00:00"]
[null,null,0,null,null,null,"00:00:00"]
[null,null,0,null,null,null,"00:00:00"]
[null,null,0,null,null,null,"00:00:00"]
[null,null,0,null,null,null,"00:00:00"]
[null,null,0,null,null,null,"00:00:00"]
[null,null,0,null,null,null,"00:00:00"]
[null,null,0,null,null,null,"00:00:00"]
[null,null,0,null,null,null,"00:00:00"]
[null,null,0,null,null,null,"00:00:00"]
[null,null,0,null,null,null,"00:00:00"]
[null,null,0,null,null,null,"00:00:00"]
[null,null,0,null,null,null,"00:00:00"]
[null,null,0,null,null,null,"00:00:00"]
[null,null,0,null,null,null,"00:00:00"]
[null,null,0,null,null,null,"00:00:00"]
[null,null,0,null,null,null,"00:00:00"]
[null,null,0,null,null,null,"00:00:00"]
[null,null,0,null,null,null,"00:00:00"]
[null,null,0,null,null,null,"00:00:00"]
[null,null,0,null,null,null,"00:00:00"]
[null,null,0,null,null,null,"00:00:00"]
[null,null,0,null,null,null,"00:00:00"]
[null,null,0,null,null,null,"00:00:00"]
[null,null,0,null,null,null,"00:00:00"]
[null,null,0,null,null,null,"00:00:00"]
[null,null,0,null,null,null,"00:00:00"]
[null,null,0,null,null,null,"00:00:00"]
[null,null,0,null,null,null,"00:00:00"]
[null,null,0,null,null,null,"00:00:00"]
[null,null,0,null,null,null,"00:00:00"]
[null,null,0,null,null,null,"00:00:00"]
[null,null,0,null,null,null,"00:00:00"]
[null,null,0,null,null,null,"00:00:00"]
[null,null,0,null,null,null,"00:00:00"]
[null,null,0,null,null,null,"00:00:00"]
[null,null,0,null,null,null,"00:00:00"]
[null,null,0,null,null,null,"00:00:00"]
[null,null,0,null,null,null,"00:00:00"]
[null,null,0,null,null,null,"00:00:00"]
[null,null,0,null,null,null,"00:00:00"]
[null,null,0,null,null,null,"00:00:00"]
[null,null,0,null,null,null,"00:00:00"]
[null,null,0,null,null,null,"00:00:00"]
[null,null,0,null,null,null,"00:00:00"]
[null,null,0,null,null,null,"00:00:00"]
[null,null,0,null,null,null,"00:00:00"]
[null,null,0,null,null,null,"00:00:00"]
[null,null,0,null,null,null,"00:00:00"]
[null,null,0,null,null,null,"00:00:00"]
[null,null,0,null,null,null,"00:00:00"]
[null,null,0,null,null,null,"00:00:00"]
[null,null,0,null,null,null,"00:00:00"]
[null,null,0,null,null,null,"00:00:00"]
[null,null,0,null,null,null,"00:00:00"]
[null,null,0,null,null,null,"00:00:00"]
[null,null,0,null,null,null,"00:00:00"]
[null,null,0,null,null,null,"00:00:00"]
[null,null,0,null,null,null,"00:00:00"]
[null,null,0,null,null,null,"00:00:00"]
[null,null,0,null,null,null,"00:00:00"]
[null,null,0,null,null,null,"00:00:00"]
[null,null,0,null,null,null,"00:00:00"]
[null,null,0,null,null,null,"00:00:00"]
[null,null,0,null,null,null,"00:00:00"]
[null,null,0,null,null,null,"00:00:00"]
[null,null,0,null,null,null,"00:00:00"]
[null,null,0,null,null,null,"00:00:00"]
[null,null,0,null,null,null,"00:00:00"]
[null,null,0,null,null,null,"00:00:00"]
[null,null,0,null,null,null,"00:00:00"]
[null,null,0,null,null,null,"00:00:00"]
[null,null,0,null,null,null,"00:00:00"]
[null,null,0,null,null,null,"00:00:00"]
[null,null,0,null,null,null,"00:00:00"]
[null,null,0,null,null,null,"00:00:00"]
[null,null,0,null,null,null,"00:00:00"]
[null,null,0,null,null,null,"00:00:00"]
[null,null,0,null,null,null,"00:00:00"]
[null,null,0,null,null,null,"00:00:00"]
[null,null,0,null,null,null,"00:00:00"]
[null,null,0,null,null,null,"00:00:00"]
[null,null,0,null,null,null,"00:00:00"]
[null,null,0,null,null,null,"00:00:00"]
[null,null,0,null,null,null,"00:00:00"]
[null,null,0,null,null,null,"00:00:00"]
[null,null,0,null,null,null,"00:00:00"]
[null,null,0,null,null,null,"00:00:00"]
[null,null,0,null,null,null,"00:00:00"]
[null,null,0,null,null,null,"00:00:00"]
[null,null,0,null,null,null,"00:00:00"]
[null,null,0,null,null,null,"00:00:00"]
[null,null,0,null,null,null,"00:00:00"]
[null,null,0,null,null,null,"00:00:00"]
[null,null,0,null,null,null,"00:00:00"]
[null,null,0,null,null,null,"00:00:00"]
[null,null,0,null,null,null,"00:00:00"]
[null,null,0,null,null,null,"00:00:00"]
[null,null,0,null,null,null,"00:00:00"]
[null,null,0,null,null,null,"00:00:00"]
[null,null,0,null,null,null,"00:00:00"]
[null,null,0,null,null,null,"00:00:00"]
[null,null,0,null,null,null,"00:00:00"]
[null,null,0,null,null,null,"00:00:00"]
[null,null,0,null,null,null,"00:00:00"]
[null,null,0,null,null,null,"00:00:00"]
[null,null,0,null,null,null,"00:00:00"]
[null,null,0,null,null,null,"00:00:00"]
[null,null,0,null,null,null,"00:00:00"]
[null,null,0,null,null,null,"00:00:00"]
[null,null,0,null,null,null,"00:00:00"]
[null,null,0,null,null,null,"00:00:00"]
[null,null,0,null,null,null,"00:00:00"]
[null,null,0,null,null,null,"00:00:00"]
[null,null,0,null,null,null,"00:00:00"]
[null,null,0,null,null,null,"00:00:00"]
[null,null,0,null,null,null,"00:00:00"]
[null,null,0,null,null,null,"00:00:00"]
[null,null,0,null,null,null,"00:00:00"]
[null,null,0,null,null,null,"00:00:00"]
[null,null,0,null,null,null,"00:00:00"]
[null,null,0,null,null,null,"00:00:00"]
[null,null,0,null,null,null,"00:00:00"]
[null,null,0,null,null,null,"00:00:00"]
[null,null,0,null,null,null,"00:00:00"]
[null,null,0,null,null,null,"00:00:00"]
[null,null,0,null,null,null,"00:00:00"]
[null,null,0,null,null,null,"00:00:00"]
[null,null,0,null,null,null,"00:00:00"]
[null,null,0,null,null,null,"00:00:00"]
[null,null,0,null,null,null,"00:00:00"]
[null,null,0,null,null,null,"00:00:00"]
[null,null,0,null,null,null,"00:00:00"]
[null,null,0,null,null,null,"00:00:00"]
[null,null,0,null,null,null,"00:00:00"]
[null,null,0,null,null,null,"00:00:00"]
[null,null,0,null,null,null,"00:00:00"]
[null,null,0,null,null,null,"00:00:00"]
[null,null,0,null,null,null,"00:00:00"]
[null,null,0,null,null,null,"00:00:00"]
[null,null,0,null,null,null,"00:00:00"]
[null,null,0,null,null,null,"00:00:00"]
[null,null,0,null,null,null,"00:00:00"]
[null,null,0,null,null,null,"00:00:00"]
[null,null,0,null,null,null,"00:00:00"]
[null,null,0,null,null,null,"00:00:00"]
[null,null,0,null,null,null,"00:00:00"]
[null,null,0,null,null,null,"00:00:00"]
[null,null,0,null,null,null,"00:00:00"]
[null,null,0,null,null,null,"00:00:00"]
[null,null,0,null,null,null,"00:00:00"]
[null,null,0,null,null,null,"00:00:00"]
[null,null,0,null,null,null,"00:00:00"]
[null,null,0,null,null,null,"00:00:00"]
[null,null,0,null,null,null,"00:00:00"]
[null,null,0,null,null,null,"00:00:00"]
[null,null,0,null,null,null,"00:00:00"]
[null,null,0,null,null,null,"00:00:00"]
[null,null,0,null,null,null,"00:00:00"]
[null,null,0,null,null,null,"00:00:00"]
[null,null,0,null,null,null,"00:00:00"]
[null,null,0,null,null,null,"00:00:00"]
[null,null,0,null,null,null,"00:00:00"]
[null,null,0,null,null,null,"00:00:00"]
[null,null,0,null,null,null,"00:00:00"]
[null,null,0,null,null,null,"00:00:00"]
[null,null,0,null,null,null,"00:00:00"]
[null,null,0,null,null,null,"00:00:00"]
[null,null,0,null,null,null,"00:00:00"]
[null,null,0,null,null,null,"00:00:00"]
[null,null,0,null,null,null,"00:00:00"]
[null,null,0,null,null,null,"00:00:00"]
[null,null,0,null,null,null,"00:00:00"]
[null,null,0,null,null,null,"00:00:00"]
[null,null,0,null,null,null,"00:00:00"]
[null,null,0,null,null,null,"00:00:00"]
[null,null,0,null,null,null,"00:00:00"]
[null,null,0,null,null,null,"00:00:00"]
[null,null,0,null,null,null,"00:00:00"]
[null,null,0,null,null,null,"00:00:00"]
[null,null,0,null,null,null,"00:00:00"]
[null,null,0,null,null,null,"00:00:00"]
[null,null,0,null,null,null,"00:00:00"]
[null,null,0,null,null,null,"00:00:00"]
[null,null,0,null,null,null,"00:00:00"]
[null,null,0,null,null,null,"00:00:00"]
[null,null,0,null,null,null,"00:00:00"]
[null,null,0,null,null,null,"00:00:00"]
[null,null,0,null,null,null,"00:00:00"]
[null,null,0,null,null,null,"00:00:00"]
[null,null,0,null,null,null,"00:00:00"]
[null,null,0,null,null,null,"00:00:00"]
[null,null,0,null,null,null,"00:00:00"]
[null,null,0,null,null,null,"00:00:00"]
[null,null,0,null,null,null,"00:00:00"]
[null,null,0,null,null,null,"00:00:00"]
[null,null,0,null,null,null,"00:00:00"]
[null,null,0,null,null,null,"00:00:00"]
[null,null,0,null,null,null,"00:00:00"]
[null,null,0,null,null,null,"00:00:00"]
[null,null,0,null,null,null,"00:00:00"]
[null,null,0,null,null,null,"00:00:00"]
[null,null,0,null,null,null,"00:00:00"]
[null,null,0,null,null,null,"00:00:00"]
[null,null,0,null,null,null,"00:00:00"]
[null,null,0,null,null,null,"00:00:00"]
[null,null,0,null,null,null,"00:00:00"]
[null,null,0,null,null,null,"00:00:00"]
[null,null,0,null,null,null,"00:00:00"]
[null,null,0,null,null,null,"00:00:00"]
[null,null,0,null,null,null,"00:00:00"]
[null,null,0,null,null,null,"00:00:00"]
[null,null,0,null,null,null,"00:00:00"]
[null,null,0,null,null,null,"00:00:00"]
[null,null,0,null,null,null,"00:00:00"]
[null,null,0,null,null,null,"00:00:00"]
[null,null,0,null,null,null,"00:00:00"]
[null,null,0,null,null,null,"00:00:00"]
[null,null,0,null,null,null,"00:00:00"]
[null,null,0,null,null,null,"00:00:00"]
[null,null,0,null,null,null,"00:00:00"]
[null,null,0,null,null,null,"00:00:00"]
[null,null,0,null,null,null,"00:00:00"]
[null,null,0,null,null,null,"00:00:00"]
[null,null,0,null,null,null,"00:00:00"]
[null,null,0,null,null,null,"00:00:00"]
[null,null,0,null,null,null,"00:00:00"]
[null,null,0,null,null,null,"00:00:00"]
[null,null,0,null,null,null,"00:00:00"]
[null,null,0,null,null,null,"00:00:00"]
[null,null,0,null,null,null,"00:00:00"]
[null,null,0,null,null,null,"00:00:00"]
[null,null,0,null,null,null,"00:00:00"]
[null,null,0,null,null,null,"00:00:00"]
[null,null,0,null,null,null,"00:00:00"]
[null,null,0,null,null,null,"00:00:00"]
[null,null,0,null,null,null,"00:00:00"]
[null,null,0,null,null,null,"00:00:00"]
[null,null,0,null,null,null,"00:00:00"]
[null,null,0,null,null,null,"00:00:00"]
[null,null,0,null,null,null,"00:00:00"]
[null,null,0,null,null,null,"00:00:00"]
[null,null,0,null,null,null,"00:00:00"]
[null,null,0,null,null,null,"00:00:00"]
[null,null,0,null,null,null,"00:00:00"]
[null,null,0,null,null,null,"00:00:00"]
[null,null,0,null,null,null,"00:00:00"]
[null,null,0,null,null,null,"00:00:00"]
[null,null,0,null,null,null,"00:00:00"]
[null,null,0,null,null,null,"00:00:00"]
[null,null,0,null,null,null,"00:00:00"]
[null,null,0,null,null,null,"00:00:00"]
[null,null,0,null,null,null,"00:00:00"]
[null,null,0,null,null,null,"00:00:00"]
[null,null,0,null,null,null,"00:00:00"]
[null,null,0,null,null,null,"00:00:00"]
[null,null,0,null,null,null,"00:00:00"]
[null,null,0,null,null,null,"00:00:00"]
[null,null,0,null,null,null,"00:00:00"]
[null,null,0,null,null,null,"00:00:00"]
[null,null,0,null,null,null,"00:00:00"]
[null,null,0,null,null,null,"00:00:00"]
[null,null,0,null,null,null,"00:00:00"]
[null,null,0,null,null,null,"00:00:00"]
[null,null,0,null,null,null,"00:00:00"]
[null,null,0,null,null,null,"00:00:00"]
[null,null,0,null,null,null,"00:00:00"]
[null,null,0,null,null,null,"00:00:00"]
[null,null,0,null,null,null,"00:00:00"]
[null,null,0,null,null,null,"00:00:00"]
[null,null,0,null,null,null,"00:00:00"]
[null,null,0,null,null,null,"00:00:00"]
[null,null,0,null,null,null,"00:00:00"]
[null,null,0,null,null,null,"00:00:00"]
[null,null,0,null,null,null,"00:00:00"]
[null,null,0,null,null,null,"00:00:00"]
[null,null,0,null,null,null,"00:00:00"]
[null,null,0,null,null,null,"00:00:00"]
[null,null,0,null,null,null,"00:00:00"]
[null,null,0,null,null,null,"00:00:00"]
[null,null,0,null,null,null,"00:00:00"]
[null,null,0,null,null,null,"00:00:00"]
[null,null,0,null,null,null,"00:00:00"]
[null,null,0,null,null,null,"00:00:00"]
[null,null,0,null,null,null,"00:00:00"]
[null,null,0,null,null,null,"00:00:00"]
[null,null,0,null,null,null,"00:00:00"]
[null,null,0,null,null,null,"00:00:00"]
[null,null,0,null,null,null,"00:00:00"]
[null,null,0,null,null,null,"00:00:00"]
[null,null,0,null,null,null,"00:00:00"]
[null,null,0,null,null,null,"00:00:00"]
[null,null,0,null,null,null,"00:00:00"]
[null,null,0,null,null,null,"00:00:00"]
[null,null,0,null,null,null,"00:00:00"]
[null,null,0,null,null,null,"00:00:00"]
[null,null,0,null,null,null,"00:00:00"]
[null,null,0,null,null,null,"00:00:00"]
[null,null,0,null,null,null,"00:00:00"]
[null,null,0,null,null,null,"00:00:00"]
[null,null,0,null,null,null,"00:00:00"]
[null,null,0,null,null,null,"00:00:00"]
[null,null,0,null,null,null,"00:00:00"]
[null,null,0,null,null,null,"00:00:00"]
[null,null,0,null,null,null,"00:00:00"]
[null,null,0,null,null,null,"00:00:00"]
[null,null,0,null,null,null,"00:00:00"]
[null,null,0,null,null,null,"00:00:00"]
[null,null,0,null,null,null,"00:00:00"]
[null,null,0,null,null,null,"00:00:00"]
[null,null,0,null,null,null,"00:00:00"]
[null,null,0,null,null,null,"00:00:00"]
[null,null,0,null,null,null,"00:00:00"]
[null,null,0,null,null,null,"00:00:00"]
[null,null,0,null,null,null,"00:00:00"]
[null,null,0,null,null,null,"00:00:00"]
[null,null,0,null,null,null,"00:00:00"]
[null,null,0,null,null,null,"00:00:00"]
[null,null,0,null,null,null,"00:00:00"]
[null,null,0,null,null,null,"00:00:00"]
[null,null,0,null,null,null,"00:00:00"]
[null,null,0,null,null,null,"00:00:00"]
[null,null,0,null,null,null,"00:00:00"]
[null,null,0,null,null,null,"00:00:00"]
[null,null,0,null,null,null,"00:00:00"]
[null,null,0,null,null,null,"00:00:00"]
[null,null,0,null,null,null,"00:00:00"]
[null,null,0,null,null,null,"00:00:00"]
[null,null,0,null,null,null,"00:00:00"]
[null,null,0,null,null,null,"00:00:00"]
[null,null,0,null,null,null,"00:00:00"]
[null,null,0,null,null,null,"00:00:00"]
[null,null,0,null,null,null,"00:00:00"]
[null,null,0,null,null,null,"00:00:00"]
[null,null,0,null,null,null,"00:00:00"]
[null,null,0,null,null,null,"00:00:00"]
[null,null,0,null,null,null,"00:00:00"]
[null,null,0,null,null,null,"00:00:00"]
[null,null,0,null,null,null,"00:00:00"]
[null,null,0,null,null,null,"00:00:00"]
[null,null,0,null,null,null,"00:00:00"]
[null,null,0,null,null,null,"00:00:00"]
[null,null,0,null,null,null,"00:00:00"]
[null,null,0,null,null,null,"00:00:00"]
[null,null,0,null,null,null,"00:00:00"]
[null,null,0,null,null,null,"00:00:00"]
[null,null,0,null,null,null,"00:00:00"]
[null,null,0,null,null,null,"00:00:00"]
[null,null,0,null,null,null,"00:00:00"]
[null,null,0,null,null,null,"00:00:00"]
[null,null,0,null,null,null,"00:00:00"]
[null,null,0,null,null,null,"00:00:00"]
[null,null,0,null,null,null,"00:00:00"]
[null,null,0,null,null,null,"00:00:00"]
[null,null,0,null,null,null,"00:00:00"]
[null,null,0,null,null,null,"00:00:00"]
[null,null,0,null,null,null,"00:00:00"]
[null,null,0,null,null,null,"00:00:00"]
[null,null,0,null,null,null,"00:00:00"]
[null,null,0,null,null,null,"00:00:00"]
[null,null,0,null,null,null,"00:00:00"]
[null,null,0,null,null,null,"00:00:00"]
[null,null,0,null,null,null,"00:00:00"]
[null,null,0,null,null,null,"00:00:00"]
[null,null,0,null,null,null,"00:00:00"]
[null,null,0,null,null,null,"00:00:00"]
[null,null,0,null,null,null,"00:00:00"]
[null,null,0,null,null,null,"00:00:00"]
[null,null,0,null,null,null,"00:00:00"]
[null,null,0,null,null,null,"00:00:00"]
[null,null,0,null,null,null,"00:00:00"]
[null,null,0,null,null,null,"00:00:00"]
[null,null,0,null,null,null,"00:00:00"]
[null,null,0,null,null,null,"00:00:00"]
[null,null,0,null,null,null,"00:00:00"]
[null,null,0,null,null,null,"00:00:00"]
[null,null,0,null,null,null,"00:00:00"]
[null,null,0,null,null,null,"00:00:00"]
[null,null,0,null,null,null,"00:00:00"]
[null,null,0,null,null,null,"00:00:00"]
[null,null,0,null,null,null,"00:00:00"]
[null,null,0,null,null,null,"00:00:00"]
[null,null,0,null,null,null,"00:00:00"]
[null,null,0,null,null,null,"00:00:00"]
[null,null,0,null,null,null,"00:00:00"]
[null,null,0,null,null,null,"00:00:00"]
[null,null,0,null,null,null,"00:00:00"]
[null,null,0,null,null,null,"00:00:00"]
[null,null,0,null,null,null,"00:00:00"]
[null,null,0,null,null,null,"00:00:00"]
[null,null,0,null,null,null,"00:00:00"]
[null,null,0,null,null,null,"00:00:00"]
[null,null,0,null,null,null,"00:00:00"]
[null,null,0,null,null,null,"00:00:00"]
[null,null,0,null,null,null,"00:00:00"]
[null,null,0,null,null,null,"00:00:00"]
[null,null,0,null,null,null,"00:00:00"]
[null,null,0,null,null,null,"00:00:00"]
[null,null,0,null,null,null,"00:00:00"]
[null,null,0,null,null,null,"00:00:00"]
[null,null,0,null,null,null,"00:00:00"]
[null,null,0,null,null,null,"00:00:00"]
[null,null,0,null,null,null,"00:00:00"]
[null,null,0,null,null,null,"00:00:00"]
[null,null,0,null,null,null,"00:00:00"]
[null,null,0,null,null,null,"00:00:00"]
[null,null,0,null,null,null,"00:00:00"]
[null,null,0,null,null,null,"00:00:00"]
[null,null,0,null,null,null,"00:00:00"]
[null,null,0,null,null,null,"00:00:00"]
[null,null,0,null,null,null,"00:00:00"]
[null,null,0,null,null,null,"00:00:00"]
[null,null,0,null,null,null,"00:00:00"]
[null,null,0,null,null,null,"00:00:00"]
[null,null,0,null,null,null,"00:00:00"]
[null,null,0,null,null,null,"00:00:00"]
[null,null,0,null,null,null,"00:00:00"]
[null,null,0,null,null,null,"00:00:00"]
[null,null,0,null,null,null,"00:00:00"]
[null,null,0,null,null,null,"00:00:00"]
[null,null,0,null,null,null,"00:00:00"]
[null,null,0,null,null,null,"00:00:00"]
[null,null,0,null,null,null,"00:00:00"]
[null,null,0,null,null,null,"00:00:00"]
[null,null,0,null,null,null,"00:00:00"]
[null,null,0,null,null,null,"00:00:00"]
[null,null,0,null,null,null,"00:00:00"]
[null,null,0,null,null,null,"00:00:00"]
[null,null,0,null,null,null,"00:00:00"]
[null,null,0,null,null,null,"00:00:00"]
[null,null,0,null,null,null,"00:00:00"]
[null,null,0,null,null,null,"00:00:00"]
[null,null,0,null,null,null,"00:00:00"]
[null,null,0,null,null,null,"00:00:00"]
[null,null,0,null,null,null,"00:00:00"]
[null,null,0,null,null,null,"00:00:00"]
[null,null,0,null,null,null,"00:00:00"]
[null,null,0,null,null,null,"00:00:00"]
[null,null,0,null,null,null,"00:00:00"]
[null,null,0,null,null,null,"00:00:00"]
[null,null,0,null,null,null,"00:00:00"]
[null,null,0,null,null,null,"00:00:00"]
[null,null,0,null,null,null,"00:00:00"]
[null,null,0,null,null,null,"00:00:00"]
[null,null,0,null,null,null,"00:00:00"]
[null,null,0,null,null,null,"00:00:00"]
[null,null,0,null,null,null,"00:00:00"]
[null,null,0,null,null,null,"00:00:00"]
[null,null,0,null,null,null,"00:00:00"]
[null,null,0,null,null,null,"00:00:00"]
[null,null,0,null,null,null,"00:00:00"]
[null,null,0,null,null,null,"00:00:00"]
[null,null,0,null,null,null,"00:00:00"]
[null,null,0,null,null,null,"00:00:00"]
[null,null,0,null,null,null,"00:00:00"]
[null,null,0,null,null,null,"00:00:00"]
[null,null,0,null,null,null,"00:00:00"]
[null,null,0,null,null,null,"00:00:00"]
[null,null,0,null,null,null,"00:00:00"]
[null,null,0,null,null,null,"00:00:00"]
[null,null,0,null,null,null,"00:00:00"]
[null,null,0,null,null,null,"00:00:00"]
[null,null,0,null,null,null,"00:00:00"]
[null,null,0,null,null,null,"00:00:00"]
[null,null,0,null,null,null,"00:00:00"]
[null,null,0,null,null,null,"00:00:00"]
[null,null,0,null,null,null,"00:00:00"]
[null,null,0,null,null,null,"00:00:00"]
[null,null,0,null,null,null,"00:00:00"]
[null,null,0,null,null,null,"00:00:00"]
[null,null,0,null,null,null,"00:00:00"]
[null,null,0,null,null,null,"00:00:00"]
[null,null,0,null,null,null,"00:00:00"]
[null,null,0,null,null,null,"00:00:00"]
[null,null,0,null,null,null,"00:00:00"]
[null,null,0,null,null,null,"00:00:00"]
[null,null,0,null,null,null,"00:00:00"]
[null,null,0,null,null,null,"00:00:00"]
[null,null,0,null,null,null,"00:00:00"]
[null,null,0,null,null,null,"00:00:00"]
[null,null,0,null,null,null,"00:00:00"]
[null,null,0,null,null,null,"00:00:00"]
[null,null,0,null,null,null,"00:00:00"]
[null,null,0,null,null,null,"00:00:00"]
[null,null,0,null,null,null,"00:00:00"]
[null,null,0,null,null,null,"00:00:00"]
[null,null,0,null,null,null,"00:00:00"]
[null,null,0,null,null,null,"00:00:00"]
[null,null,0,null,null,null,"00:00:00"]
[null,null,0,null,null,null,"00:00:00"]
[null,null,0,null,null,null,"00:00:00"]
[null,null,0,null,null,null,"00:00:00"]
[null,null,0,null,null,null,"00:00:00"]
[null,null,0,null,null,null,"00:00:00"]
[null,null,0,null,null,null,"00:00:00"]
[null,null,0,null,null,null,"00:00:00"]
[null,null,0,null,null,null,"00:00:00"]
[null,null,0,null,null,null,"00:00:00"]
[null,null,0,null,null,null,"00:00:00"]
[null,null,0,null,null,null,"00:00:00"]
[null,null,0,null,null,null,"00:00:00"]
[null,null,0,null,null,null,"00:00:00"]
[null,null,0,null,null,null,"00:00:00"]
[null,null,0,null,null,null,"00:00:00"]
[null,null,0,null,null,null,"00:00:00"]
[null,null,0,null,null,null,"00:00:00"]
[null,null,0,null,null,null,"00:00:00"]
[null,null,0,null,null,null,"00:00:00"]
[null,null,0,null,null,null,"00:00:00"]
[null,null,0,null,null,null,"00:00:00"]
[null,null,0,null,null,null,"00:00:00"]
[null,null,0,null,null,null,"00:00:00"]
[null,null,0,null,null,null,"00:00:00"]
[null,null,0,null,null,null,"00:00:00"]
[null,null,0,null,null,null,"00:00:00"]
[null,null,0,null,null,null,"00:00:00"]
[null,null,0,null,null,null,"00:00:00"]
[null,null,0,null,null,null,"00:00:00"]
[null,null,0,null,null,null,"00:00:00"]
[null,null,0,null,null,null,"00:00:00"]
[null,null,0,null,null,null,"00:00:00"]
[null,null,0,null,null,null,"00:00:00"]
[null,null,0,null,null,null,"00:00:00"]
[null,null,0,null,null,null,"00:00:00"]
[null,null,0,null,null,null,"00:00:00"]
[null,null,0,null,null,null,"00:00:00"]
[null,null,0,null,null,null,"00:00:00"]
[null,null,0,null,null,null,"00:00:00"]
[null,null,0,null,null,null,"00:00:00"]
[null,null,0,null,null,null,"00:00:00"]
[null,null,0,null,null,null,"00:00:00"]
[null,null,0,null,null,null,"00:00:00"]
[null,null,0,null,null,null,"00:00:00"]
[null,null,0,null,null,null,"00:00:00"]
[null,null,0,null,null,null,"00:00:00"]
[null,null,0,null,null,null,"00:00:00"]
[null,null,0,null,null,null,"00:00:00"]
[null,null,0,null,null,null,"00:00:00"]
[null,null,0,null,null,null,"00:00:00"]
[null,null,0,null,null,null,"00:00:00"]
[null,null,0,null,null,null,"00:00:00"]
[null,null,0,null,null,null,"00:00:00"]
[null,null,0,null,null,null,"00:00:00"]
[null,null,0,null,null,null,"00:00:00"]
[null,null,0,null,null,null,"00:00:00"]
[null,null,0,null,null,null,"00:00:00"]
[null,null,0,null,null,null,"00:00:00"]
[null,null,0,null,null,null,"00:00:00"]
[null,null,0,null,null,null,"00:00:00"]
[null,null,0,null,null,null,"00:00:00"]
[null,null,0,null,null,null,"00:00:00"]
[null,null,0,null,null,null,"00:00:00"]
[null,null,0,null,null,null,"00:00:00"]
[null,null,0,null,null,null,"00:00:00"]
[null,null,0,null,null,null,"00:00:00"]
[null,null,0,null,null,null,"00:00:00"]
[null,null,0,null,null,null,"00:00:00"]
[null,null,0,null,null,null,"00:00:00"]
[null,null,0,null,null,null,"00:00:00"]
[null,null,0,null,null,null,"00:00:00"]
[null,null,0,null,null,null,"00:00:00"]
[null,null,0,null,null,null,"00:00:00"]
[null,null,0,null,null,null,"00:00:00"]
[null,null,0,null,null,null,"00:00:00"]
[null,null,0,null,null,null,"00:00:00"]
[null,null,0,null,null,null,"00:00:00"]
[null,null,0,null,null,null,"00:00:00"]
[null,null,0,null,null,null,"00:00:00"]
[null,null,0,null,null,null,"00:00:00"]
[null,null,0,null,null,null,"00:00:00"]
[null,null,0,null,null,null,"00:00:00"]
[null,null,0,null,null,null,"00:00:00"]
[null,null,0,null,null,null,"00:00:00"]
[null,null,0,null,null,null,"00:00:00"]
[null,null,0,null,null,null,"00:00:00"]
[null,null,0,null,null,null,"00:00:00"]
[null,null,0,null,null,null,"00:00:00"]
[null,null,0,null,null,null,"00:00:00"]
[null,null,0,null,null,null,"00:00:00"]
[null,null,0,null,null,null,"00:00:00"]
[null,null,0,null,null,null,"00:00:00"]
[null,null,0,null,null,null,"00:00:00"]
[null,null,0,null,null,null,"00:00:00"]
[null,null,0,null,null,null,"00:00:00"]
[null,null,0,null,null,null,"00:00:00"]
[null,null,0,null,null,null,"00:00:00"]
[null,null,0,null,null,null,"00:00:00"]
[null,null,0,null,null,null,"00:00:00"]
[null,null,0,null,null,null,"00:00:00"]
[null,null,0,null,null,null,"00:00:00"]
[null,null,0,null,null,null,"00:00:00"]
[null,null,0,null,null,null,"00:00:00"]
[null,null,0,null,null,null,"00:00:00"]
[null,null,0,null,null,null,"00:00:00"]
[null,null,0,null,null,null,"00:00:00"]
[null,null,0,null,null,null,"00:00:00"]
[null,null,0,null,null,null,"00:00:00"]
[null,null,0,null,null,null,"00:00:00"]
[null,null,0,null,null,null,"00:00:00"]
[null,null,0,null,null,null,"00:00:00"]
[null,null,0,null,null,null,"00:00:00"]
[null,null,0,null,null,null,"00:00:00"]
[null,null,0,null,null,null,"00:00:00"]
[null,null,0,null,null,null,"00:00:00"]
[null,null,0,null,null,null,"00:00:00"]
[null,null,0,null,null,null,"00:00:00"]
[null,null,0,null,null,null,"00:00:00"]
[null,null,0,null,null,null,"00:00:00"]
[null,null,0,null,null,null,"00:00:00"]
[null,null,0,null,null,null,"00:00:00"]
[null,null,0,null,null,null,"00:00:00"]
[null,null,0,null,null,null,"00:00:00"]
[null,null,0,null,null,null,"00:00:00"]
[null,null,0,null,null,null,"00:00:00"]
[null,null,0,null,null,null,"00:00:00"]
[null,null,0,null,null,null,"00:00:00"]
[null,null,0,null,null,null,"00:00:00"]
[null,null,0,null,null,null,"00:00:00"]
[null,null,0,null,null,null,"00:00:00"]
[null,null,0,null,null,null,"00:00:00"]
[null,null,0,null,null,null,"00:00:00"]
[null,null,0,null,null,null,"00:00:00"]
[null,null,0,null,null,null,"00:00:00"]
[null,null,0,null,null,null,"00:00:00"]
[null,null,0,null,null,null,"00:00:00"]
[null,null,0,null,null,null,"00:00:00"]
[null,null,0,null,null,null,"00:00:00"]
[null,null,0,null,null,null,"00:00:00"]
[null,null,0,null,null,null,"00:00:00"]
[null,null,0,null,null,null,"00:00:00"]
[null,null,0,null,null,null,"00:00:00"]
[null,null,0,null,null,null,"00:00:00"]
[null,null,0,null,null,null,"00:00:00"]
[null,null,0,null,null,null,"00:00:00"]
[null,null,0,null,null,null,"00:00:00"]
[null,null,0,null,null,null,"00:00:00"]
[null,null,0,null,null,null,"00:00:00"]
[null,null,0,null,null,null,"00:00:00"]
[null,null,0,null,null,null,"00:00:00"]
[null,null,0,null,null,null,"00:00:00"]
[null,null,0,null,null,null,"00:00:00"]
[null,null,0,null,null,null,"00:00:00"]
[null,null,0,null,null,null,"00:00:00"]
[null,null,0,null,null,null,"00:00:00"]
[null,null,0,null,null,null,"00:00:00"]
[null,null,0,null,null,null,"00:00:00"]
[null,null,0,null,null,null,"00:00:00"]
[null,null,0,null,null,null,"00:00:00"]
[null,null,0,null,null,null,"00:00:00"]
[null,null,0,null,null,null,"00:00:00"]
[null,null,0,null,null,null,"00:00:00"]
[null,null,0,null,null,null,"00:00:00"]
[null,null,0,null,null,null,"00:00:00"]
[null,null,0,null,null,null,"00:00:00"]
[null,null,0,null,null,null,"00:00:00"]
[null,null,0,null,null,null,"00:00:00"]
[null,null,0,null,null,null,"00:00:00"]
[null,null,0,null,null,null,"00:00:00"]
[null,null,0,null,null,null,"00:00:00"]
[null,null,0,null,null,null,"00:00:00"]
[null,null,0,null,null,null,"00:00:00"]
[null,null,0,null,null,null,"00:00:00"]
[null,null,0,null,null,null,"00:00:00"]
[null,null,0,null,null,null,"00:00:00"]
[null,null,0,null,null,null,"00:00:00"]
[null,null,0,null,null,null,"00:00:00"]
[null,null,0,null,null,null,"00:00:00"]
[null,null,0,null,null,null,"00:00:00"]
[null,null,0,null,null,null,"00:00:00"]
[null,null,0,null,null,null,"00:00:00"]
[null,null,0,null,null,null,"00:00:00"]
[null,null,0,null,null,null,"00:00:00"]
[null,null,0,null,null,null,"00:00:00"]
[null,null,0,null,null,null,"00:00:00"]
[null,null,0,null,null,null,"00:00:00"]
[null,null,0,null,null,null,"00:00:00"]
[null,null,0,null,null,null,"00:00:00"]
[null,null,0,null,null,null,"00:00:00"]
[null,null,0,null,null,null,"00:00:00"]
[null,null,0,null,null,null,"00:00:00"]
[null,null,0,null,null,null,"00:00:00"]
[null,null,0,null,null,null,"00:00:00"]
[null,null,0,null,null,null,"00:00:00"]
[null,null,0,null,null,null,"00:00:00"]
[null,null,0,null,null,null,"00:00:00"]
[null,null,0,null,null,null,"00:00:00"]
[null,null,0,null,null,null,"00:00:00"]
[null,null,0,null,null,null,"00:00:00"]
[null,null,0,null,null,null,"00:00:00"]
[null,null,0,null,null,null,"00:00:00"]
[null,null,0,null,null,null,"00:00:00"]
[null,null,0,null,null,null,"00:00:00"]
[null,null,0,null,null,null,"00:00:00"]
[null,null,0,null,null,null,"00:00:00"]
[null,null,0,null,null,null,"00:00:00"]
[null,null,0,null,null,null,"00:00:00"]
[null,null,0,null,null,null,"00:00:00"]
[null,null,0,null,null,null,"00:00:00"]
[null,null,0,null,null,null,"00:00:00"]
[null,null,0,null,null,null,"00:00:00"]
[null,null,0,null,null,null,"00:00:00"]
[null,null,0,null,null,null,"00:00:00"]
[null,null,0,null,null,null,"00:00:00"]
[null,null,0,null,null,null,"00:00:00"]
[null,null,0,null,null,null,"00:00:00"]
[null,null,0,null,null,null,"00:00:00"]
[null,null,0,null,null,null,"00:00:00"]
[null,null,0,null,null,null,"00:00:00"]
[null,null,0,null,null,null,"00:00:00"]
[null,null,0,null,null,null,"00:00:00"]
[null,null,0,null,null,null,"00:00:00"]
[null,null,0,null,null,null,"00:00:00"]
[null,null,0,null,null,null,"00:00:00"]
[null,null,0,null,null,null,"00:00:00"]
[null,null,0,null,null,null,"00:00:00"]
[null,null,0,null,null,null,"00:00:00"]
[null,null,0,null,null,null,"00:00:00"]
[null,null,0,null,null,null,"00:00:00"]
[null,null,0,null,null,null,"00:00:00"]
[null,null,0,null,null,null,"00:00:00"]
[null,null,0,null,null,null,"00:00:00"]
[null,null,0,null,null,null,"00:00:00"]
[null,null,0,null,null,null,"00:00:00"]
[null,null,0,null,null,null,"00:00:00"]
[null,null,0,null,null,null,"00:00:00"]
[null,null,0,null,null,null,"00:00:00"]
[null,null,0,null,null,null,"00:00:00"]
[null,null,0,null,null,null,"00:00:00"]
[null,null,0,null,null,null,"00:00:00"]
[null,null,0,null,null,null,"00:00:00"]
[null,null,0,null,null,null,"00:00:00"]
[null,null,0,null,null,null,"00:00:00"]
[null,null,0,null,null,null,"00:00:00"]
[null,null,0,null,null,null,"00:00:00"]
[null,null,0,null,null,null,"00:00:00"]
[null,null,0,null,null,null,"00:00:00"]
[null,null,0,null,null,null,"00:00:00"]
[null,null,0,null,null,null,"00:00:00"]
[null,null,0,null,null,null,"00:00:00"]
[null,null,0,null,null,null,"00:00:00"]
[null,null,0,null,null,null,"00:00:00"]
[null,null,0,null,null,null,"00:00:00"]
[null,null,0,null,null,null,"00:00:00"]
[null,null,0,null,null,null,"00:00:00"]
[null,null,0,null,null,null,"00:00:00"]
[null,null,0,null,null,null,"00:00:00"]
[null,null,0,null,null,null,"00:00:00"]
[null,null,0,null,null,null,"00:00:00"]
[null,null,0,null,null,null,"00:00:00"]
[null,null,0,null,null,null,"00:00:00"]
[null,null,0,null,null,null,"00:00:00"]
[null,null,0,null,null,null,"00:00:00"]
[null,null,0,null,null,null,"00:00:00"]
[null,null,0,null,null,null,"00:00:00"]
[null,null,0,null,null,null,"00:00:00"]
[null,null,0,null,null,null,"00:00:00"]
[null,null,0,null,null,null,"00:00:00"]
[null,null,0,null,null,null,"00:00:00"]
[null,null,0,null,null,null,"00:00:00"]
[null,null,0,null,null,null,"00:00:00"]
[null,null,0,null,null,null,"00:00:00"]
[null,null,0,null,null,null,"00:00:00"]
[null,null,0,null,null,null,"00:00:00"]
[null,null,0,null,null,null,"00:00:00"]
[null,null,0,null,null,null,"00:00:00"]
[null,null,0,null,null,null,"00:00:00"]
[null,null,0,null,null,null,"00:00:00"]
[null,null,0,null,null,null,"00:00:00"]
[null,null,0,null,null,null,"00:00:00"]
[null,null,0,null,null,null,"00:00:00"]
[null,null,0,null,null,null,"00:00:00"]
[null,null,0,null,null,null,"00:00:00"]
[null,null,0,null,null,null,"00:00:00"]
[null,null,0,null,null,null,"00:00:00"]
[null,null,0,null,null,null,"00:00:00"]
[null,null,0,null,null,null,"00:00:00"]
[null,null,0,null,null,null,"00:00:00"]
[null,null,0,null,null,null,"00:00:00"]
[null,null,0,null,null,null,"00:00:00"]
[null,null,0,null,null,null,"00:00:00"]
[null,null,0,null,null,null,"00:00:00"]
[null,null,0,null,null,null,"00:00:00"]
[null,null,0,null,null,null,"00:00:00"]
[null,null,0,null,null,null,"00:00:00"]
[null,null,0,null,null,null,"00:00:00"]
[null,null,0,null,null,null,"00:00:00"]
[null,null,0,null,null,null,"00:00:00"]
[null,null,0,null,null,null,"00:00:00"]
[null,null,0,null,null,null,"00:00:00"]
[null,null,0,null,null,null,"00:00:00"]
[null,null,0,null,null,null,"00:00:00"]
[null,null,0,null,null,null,"00:00:00"]
[null,null,0,null,null,null,"00:00:00"]
[null,null,0,null,null,null,"00:00:00"]
[null,null,0,null,null,null,"00:00:00"]
[null,null,0,null,null,null,"00:00:00"]
[null,null,0,null,null,null,"00:00:00"]
[null,null,0,null,null,null,"00:00:00"]
[null,null,0,null,null,null,"00:00:00"]
[null,null,0,null,null,null,"00:00:00"]
[null,null,0,null,null,null,"00:00:00"]
[null,null,0,null,null,null,"00:00:00"]
[null,null,0,null,null,null,"00:00:00"]
[null,null,0,null,null,null,"00:00:00"]
[null,null,0,null,null,null,"00:00:00"]
[null,null,0,null,null,null,"00:00:00"]
[null,null,0,null,null,null,"00:00:00"]
[null,null,0,null,null,null,"00:00:00"]
[null,null,0,null,null,null,"00:00:00"]
[null,null,0,null,null,null,"00:00:00"]
[null,null,0,null,null,null,"00:00:00"]
[null,null,0,null,null,null,"00:00:00"]
[null,null,0,null,null,null,"00:00:00"]
[null,null,0,null,null,null,"00:00:00"]
[null,null,0,null,null,null,"00:00:00"]
[null,null,0,null,null,null,"00:00:00"]
[null,null,0,null,null,null,"00:00:00"]
[null,null,0,null,null,null,"00:00:00"]
[null,null,0,null,null,null,"00:00:00"]
[null,null,0,null,null,null,"00:00:00"]
[null,null,0,null,null,null,"00:00:00"]
[null,null,0,null,null,null,"00:00:00"]
[null,null,0,null,null,null,"00:00:00"]
[null,null,0,null,null,null,"00:00:00"]
[null,null,0,null,null,null,"00:00:00"]
[null,null,0,null,null,null,"00:00:00"]
[null,null,0,null,null,null,"00:00:00"]
[null,null,0,null,null,null,"00:00:00"]
[null,null,0,null,null,null,"00:00:00"]
[null,null,0,null,null,null,"00:00:00"]
[null,null,0,null,null,null,"00:00:00"]
[null,null,0,null,null,null,"00:00:00"]
[null,null,0,null,null,null,"00:00:00"]
[null,null,0,null,null,null,"00:00:00"]
[null,null,0,null,null,null,"00:00:00"]
[null,null,0,null,null,null,"00:00:00"]
[null,null,0,null,null,null,"00:00:00"]
[null,null,0,null,null,null,"00:00:00"]
[null,null,0,null,null,null,"00:00:00"]
[null,null,0,null,null,null,"00:00:00"]
[null,null,0,null,null,null,"00:00:00"]
[null,null,0,null,null,null,"00:00:00"]
[null,null,0,null,null,null,"00:00:00"]
[null,null,0,null,null,null,"00:00:00"]
[null,null,0,null,null,null,"00:00:00"]
[null,null,0,null,null,null,"00:00:00"]
[null,null,0,null,null,null,"00:00:00"]
[null,null,0,null,null,null,"00:00:00"]
[null,null,0,null,null,null,"00:00:00"]
[null,null,0,null,null,null,"00:00:00"]
[null,null,0,null,null,null,"00:00:00"]
[null,null,0,null,null,null,"00:00:00"]
[null,null,0,null,null,null,"00:00:00"]
[null,null,0,null,null,null,"00:00:00"]
[null,null,0,null,null,null,"00:00:00"]
[null,null,0,null,null,null,"00:00:00"]
[null,null,0,null,null,null,"00:00:00"]
[null,null,0,null,null,null,"00:00:00"]
[null,null,0,null,null,null,"00:00:00"]
[null,null,0,null,null,null,"00:00:00"]
[null,null,0,null,null,null,"00:00:00"]
[null,null,0,null,null,null,"00:00:00"]
[null,null,0,null,null,null,"00:00:00"]
[null,null,0,null,null,null,"00:00:00"]
[null,null,0,null,null,null,"00:00:00"]
[null,null,0,null,null,null,"00:00:00"]
[null,null,0,null,null,null,"00:00:00"]
[null,null,0,null,null,null,"00:00:00"]
[null,null,0,null,null,null,"00:00:00"]
[null,null,0,null,null,null,"00:00:00"]
[null,null,0,null,null,null,"00:00:00"]
[null,null,0,null,null,null,"00:00:00"]
[null,null,0,null,null,null,"00:00:00"]
[null,null,0,null,null,null,"00:00:00"]
[null,null,0,null,null,null,"00:00:00"]
[null,null,0,null,null,null,"00:00:00"]
[null,null,0,null,null,null,"00:00:00"]
[null,null,0,null,null,null,"00:00:00"]
[null,null,0,null,null,null,"00:00:00"]
[null,null,0,null,null,null,"00:00:00"]
[null,null,0,null,null,null,"00:00:00"]
[null,null,0,null,null,null,"00:00:00"]
[null,null,0,null,null,null,"00:00:00"]
[null,null,0,null,null,null,"00:00:00"]
[null,null,0,null,null,null,"00:00:00"]
[null,null,0,null,null,null,"00:00:00"]
[null,null,0,null,null,null,"00:00:00"]
[null,null,0,null,null,null,"00:00:00"]
[null,null,0,null,null,null,"00:00:00"]
[null,null,0,null,null,null,"00:00:00"]
[null,null,0,null,null,null,"00:00:00"]
[null,null,0,null,null,null,"00:00:00"]
[null,null,0,null,null,null,"00:00:00"]
[null,null,0,null,null,null,"00:00:00"]
[null,null,0,null,null,null,"00:00:00"]
[null,null,0,null,null,null,"00:00:00"]
[null,null,0,null,null,null,"00:00:00"]
[null,null,0,null,null,null,"00:00:00"]
[null,null,0,null,null,null,"00:00:00"]
[null,null,0,null,null,null,"00:00:00"]
[null,null,0,null,null,null,"00:00:00"]
[null,null,0,null,null,null,"00:00:00"]
[null,null,0,null,null,null,"00:00:00"]
[null,null,0,null,null,null,"00:00:00"]
[null,null,0,null,null,null,"00:00:00"]
[null,null,0,null,null,null,"00:00:00"]
[null,null,0,null,null,null,"00:00:00"]
[null,null,0,null,null,null,"00:00:00"]
[null,null,0,null,null,null,"00:00:00"]
[null,null,0,null,null,null,"00:00:00"]
[null,null,0,null,null,null,"00:00:00"]
[null,null,0,null,null,null,"00:00:00"]
[null,null,0,null,null,null,"00:00:00"]
[null,null,0,null,null,null,"00:00:00"]
[null,null,0,null,null,null,"00:00:00"]
[null,null,0,null,null,null,"00:00:00"]
[null,null,0,null,null,null,"00:00:00"]
[null,null,0,null,null,null,"00:00:00"]
[null,null,0,null,null,null,"00:00:00"]
[null,null,0,null,null,null,"00:00:00"]
[null,null,0,null,null,null,"00:00:00"]
[null,null,0,null,null,null,"00:00:00"]
[null,null,0,null,null,null,"00:00:00"]
[null,null,0,null,null,null,"00:00:00"]
[null,null,0,null,null,null,"00:00:00"]
[null,null,0,null,null,null,"00:00:00"]
[null,null,0,null,null,null,"00:00:00"]
[null,null,0,null,null,null,"00:00:00"]
[null,null,0,null,null,null,"00:00:00"]
[null,null,0,null,null,null,"00:00:00"]
[null,null,0,null,null,null,"00:00:00"]
[null,null,0,null,null,null,"00:00:00"]
[null,null,0,null,null,null,"00:00:00"]
[null,null,0,null,null,null,"00:00:00"]
[null,null,0,null,null,null,"00:00:00"]
[null,null,0,null,null,null,"00:00:00"]
[null,null,0,null,null,null,"00:00:00"]
[null,null,0,null,null,null,"00:00:00"]
[null,null,0,null,null,null,"00:00:00"]
[null,null,0,null,null,null,"00:00:00"]
[null,null,0,null,null,null,"00:00:00"]
[null,null,0,null,null,null,"00:00:00"]
[null,null,0,null,null,null,"00:00:00"]
[null,null,0,null,null,null,"00:00:00"]
[null,null,0,null,null,null,"00:00:00"]
[null,null,0,null,null,null,"00:00:00"]
[null,null,0,null,null,null,"00:00:00"]
[null,null,0,null,null,null,"00:00:00"]
[null,null,0,null,null,null,"00:00:00"]
[null,null,0,null,null,null,"00:00:00"]
[null,null,0,null,null,null,"00:00:00"]
[null,null,0,null,null,null,"00:00:00"]
[null,null,0,null,null,null,"00:00:00"]
[null,null,0,null,null,null,"00:00:00"]
[null,null,0,null,null,null,"00:00:00"]
[null,null,0,null,null,null,"00:00:00"]
[null,null,0,null,null,null,"00:00:00"]
[null,null,0,null,null,null,"00:00:00"]
[null,null,0,null,null,null,"00:00:00"]
[null,null,0,null,null,null,"00:00:00"]
[null,null,0,null,null,null,"00:00:00"]
[null,null,0,null,null,null,"00:00:00"]
[null,null,0,null,null,null,"00:00:00"]
[null,null,0,null,null,null,"00:00:00"]
[null,null,0,null,null,null,"00:00:00"]
[null,null,0,null,null,null,"00:00:00"]
[null,null,0,null,null,null,"00:00:00"]
[null,null,0,null,null,null,"00:00:00"]
[null,null,0,null,null,null,"00:00:00"]
[null,null,0,null,null,null,"00:00:00"]
[null,null,0,null,null,null,"00:00:00"]
[null,null,0,null,null,null,"00:00:00"]
[null,null,0,null,null,null,"00:00:00"]
[null,null,0,null,null,null,"00:00:00"]
[null,null,0,null,null,null,"00:00:00"]
[null,null,0,null,null,null,"00:00:00"]
[null,null,0,null,null,null,"00:00:00"]
[null,null,0,null,null,null,"00:00:00"]
[null,null,0,null,null,null,"00:00:00"]
[null,null,0,null,null,null,"00:00:00"]
[null,null,0,null,null,null,"00:00:00"]
[null,null,0,null,null,null,"00:00:00"]
[null,null,0,null,null,null,"00:00:00"]
[null,null,0,null,null,null,"00:00:00"]
[null,null,0,null,null,null,"00:00:00"]
[null,null,0,null,null,null,"00:00:00"]
[null,null,0,null,null,null,"00:00:00"]
[null,null,0,null,null,null,"00:00:00"]
[null,null,0,null,null,null,"00:00:00"]
[null,null,0,null,null,null,"00:00:00"]
[null,null,0,null,null,null,"00:00:00"]
[null,null,0,null,null,null,"00:00:00"]
[null,null,0,null,null,null,"00:00:00"]
[null,null,0,null,null,null,"00:00:00"]
[null,null,0,null,null,null,"00:00:00"]
[null,null,0,null,null,null,"00:00:00"]
[null,null,0,null,null,null,"00:00:00"]
[null,null,0,null,null,null,"00:00:00"]
[null,null,0,null,null,null,"00:00:00"]
[null,null,0,null,null,null,"00:00:00"]
[null,null,0,null,null,null,"00:00:00"]
[null,null,0,null,null,null,"00:00:00"]
[null,null,0,null,null,null,"00:00:00"]
[null,null,0,null,null,null,"00:00:00"]
[null,null,0,null,null,null,"00:00:00"]
[null,null,0,null,null,null,"00:00:00"]
[null,null,0,null,null,null,"00:00:00"]
[null,null,0,null,null,null,"00:00:00"]
[null,null,0,null,null,null,"00:00:00"]
[null,null,0,null,null,null,"00:00:00"]
[null,null,0,null,null,null,"00:00:00"]
[null,null,0,null,null,null,"00:00:00"]
[null,null,0,null,null,null,"00:00:00"]
[null,null,0,null,null,null,"00:00:00"]
[null,null,0,null,null,null,"00:00:00"]
[null,null,0,null,null,null,"00:00:00"]
[null,null,0,null,null,null,"00:00:00"]
[null,null,0,null,null,null,"00:00:00"]
[null,null,0,null,null,null,"00:00:00"]
[null,null,0,null,null,null,"00:00:00"]
[null,null,0,null,null,null,"00:00:00"]
[null,null,0,null,null,null,"00:00:00"]
[null,null,0,null,null,null,"00:00:00"]
[null,null,0,null,null,null,"00:00:00"]
[null,null,0,null,null,null,"00:00:00"]
[null,null,0,null,null,null,"00:00:00"]
[null,null,0,null,null,null,"00:00:00"]
[null,null,0,null,null,null,"00:00:00"]
[null,null,0,null,null,null,"00:00:00"]
[null,null,0,null,null,null,"00:00:00"]
[null,null,0,null,null,null,"00:00:00"]
[null,null,0,null,null,null,"00:00:00"]
[null,null,0,null,null,null,"00:00:00"]
[null,null,0,null,null,null,"00:00:00"]
[null,null,0,null,null,null,"00:00:00"]
[null,null,0,null,null,null,"00:00:00"]
[null,null,0,null,null,null,"00:00:00"]
[null,null,0,null,null,null,"00:00:00"]
[null,null,0,null,null,null,"00:00:00"]
[null,null,0,null,null,null,"00:00:00"]
[null,null,0,null,null,null,"00:00:00"]
[null,null,0,null,null,null,"00:00:00"]
[null,null,0,null,null,null,"00:00:00"]
[null,null,0,null,null,null,"00:00:00"]
[null,null,0,null,null,null,"00:00:00"]
[null,null,0,null,null,null,"00:00:00"]
[null,null,0,null,null,null,"00:00:00"]
[null,null,0,null,null,null,"00:00:00"]
[null,null,0,null,null,null,"00:00:00"]
[null,null,0,null,null,null,"00:00:00"]
[null,null,0,null,null,null,"00:00:00"]
[null,null,0,null,null,null,"00:00:00"]
[null,null,0,null,null,null,"00:00:00"]
[null,null,0,null,null,null,"00:00:00"]
[null,null,0,null,null,null,"00:00:00"]
[null,null,0,null,null,null,"00:00:00"]
[null,null,0,null,null,null,"00:00:00"]
[null,null,0,null,null,null,"00:00:00"]
[null,null,0,null,null,null,"00:00:00"]
[null,null,0,null,null,null,"00:00:00"]
[null,null,0,null,null,null,"00:00:00"]
[null,null,0,null,null,null,"00:00:00"]
[null,null,0,null,null,null,"00:00:00"]
[null,null,0,null,null,null,"00:00:00"]
[null,null,0,null,null,null,"00:00:00"]
[null,null,0,null,null,null,"00:00:00"]
[null,null,0,null,null,null,"00:00:00"]
[null,null,0,null,null,null,"00:00:00"]
[null,null,0,null,null,null,"00:00:00"]
[null,null,0,null,null,null,"00:00:00"]
[null,null,0,null,null,null,"00:00:00"]
[null,null,0,null,null,null,"00:00:00"]
[null,null,0,null,null,null,"00:00:00"]
[null,null,0,null,null,null,"00:00:00"]
[null,null,0,null,null,null,"00:00:00"]
[null,null,0,null,null,null,"00:00:00"]
[null,null,0,null,null,null,"00:00:00"]
[null,null,0,null,null,null,"00:00:00"]
[null,null,0,null,null,null,"00:00:00"]
[null,null,0,null,null,null,"00:00:00"]
[null,null,0,null,null,null,"00:00:00"]
[null,null,0,null,null,null,"00:00:00"]
[null,null,0,null,null,null,"00:00:00"]
[null,null,0,null,null,null,"00:00:00"]
[null,null,0,null,null,null,"00:00:00"]
[null,null,0,null,null,null,"00:00:00"]
[null,null,0,null,null,null,"00:00:00"]
[null,null,0,null,null,null,"00:00:00"]
[null,null,0,null,null,null,"00:00:00"]
[null,null,0,null,null,null,"00:00:00"]
[null,null,0,null,null,null,"00:00:00"]
[null,null,0,null,null,null,"00:00:00"]
[null,null,0,null,null,null,"00:00:00"]
[null,null,0,null,null,null,"00:00:00"]
[null,null,0,null,null,null,"00:00:00"]
[null,null,0,null,null,null,"00:00:00"]
[null,null,0,null,null,null,"00:00:00"]
[null,null,0,null,null,null,"00:00:00"]
[null,null,0,null,null,null,"00:00:00"]
[null,null,0,null,null,null,"00:00:00"]
[null,null,0,null,null,null,"00:00:00"]
[null,null,0,null,null,null,"00:00:00"]
[null,null,0,null,null,null,"00:00:00"]
[null,null,0,null,null,null,"00:00:00"]
[null,null,0,null,null,null,"00:00:00"]
[null,null,0,null,null,null,"00:00:00"]
[null,null,0,null,null,null,"00:00:00"]
[null,null,0,null,null,null,"00:00:00"]
[null,null,0,null,null,null,"00:00:00"]
[null,null,0,null,null,null,"00:00:00"]
[null,null,0,null,null,null,"00:00:00"]
[null,null,0,null,null,null,"00:00:00"]
[null,null,0,null,null,null,"00:00:00"]
[null,null,0,null,null,null,"00:00:00"]
[null,null,0,null,null,null,"00:00:00"]
[null,null,0,null,null,null,"00:00:00"]
[null,null,0,null,null,null,"00:00:00"]
[null,null,0,null,null,null,"00:00:00"]
[null,null,0,null,null,null,"00:00:00"]
[null,null,0,null,null,null,"00:00:00"]
[null,null,0,null,null,null,"00:00:00"]
[null,null,0,null,null,null,"00:00:00"]
[null,null,0,null,null,null,"00:00:00"]
[null,null,0,null,null,null,"00:00:00"]
[null,null,0,null,null,null,"00:00:00"]
[null,null,0,null,null,null,"00:00:00"]
[null,null,0,null,null,null,"00:00:00"]
[null,null,0,null,null,null,"00:00:00"]
[null,null,0,null,null,null,"00:00:00"]
[null,null,0,null,null,null,"00:00:00"]
[null,null,0,null,null,null,"00:00:00"]
[null,null,0,null,null,null,"00:00:00"]
[null,null,0,null,null,null,"00:00:00"]
[null,null,0,null,null,null,"00:00:00"]
[null,null,0,null,null,null,"00:00:00"]
[null,null,0,null,null,null,"00:00:00"]
[null,null,0,null,null,null,"00:00:00"]
[null,null,0,null,null,null,"00:00:00"]
[null,null,0,null,null,null,"00:00:00"]
[null,null,0,null,null,null,"00:00:00"]
[null,null,0,null,null,null,"00:00:00"]
[null,null,0,null,null,null,"00:00:00"]
[null,null,0,null,null,null,"00:00:00"]
[null,null,0,null,null,null,"00:00:00"]
[null,null,0,null,null,null,"00:00:00"]
[null,null,0,null,null,null,"00:00:00"]
[null,null,0,null,null,null,"00:00:00"]
[null,null,0,null,null,null,"00:00:00"]
[null,null,0,null,null,null,"00:00:00"]
[null,null,0,null,null,null,"00:00:00"]
[null,null,0,null,null,null,"00:00:00"]
[null,null,0,null,null,null,"00:00:00"]
[null,null,0,null,null,null,"00:00:00"]
[null,null,0,null,null,null,"00:00:00"]
[null,null,0,null,null,null,"00:00:00"]
[null,null,0,null,null,null,"00:00:00"]
[null,null,0,null,null,null,"00:00:00"]
[null,null,0,null,null,null,"00:00:00"]
[null,null,0,null,null,null,"00:00:00"]
[null,null,0,null,null,null,"00:00:00"]
[null,null,0,null,null,null,"00:00:00"]
[null,null,0,null,null,null,"00:00:00"]
[null,null,0,null,null,null,"00:00:00"]
[null,null,0,null,null,null,"00:00:00"]
[null,null,0,null,null,null,"00:00:00"]
[null,null,0,null,null,null,"00:00:00"]
[null,null,0,null,null,null,"00:00:00"]
[null,null,0,null,null,null,"00:00:00"]
[null,null,0,null,null,null,"00:00:00"]
[null,null,0,null,null,null,"00:00:00"]
[null,null,0,null,null,null,"00:00:00"]
[null,null,0,null,null,null,"00:00:00"]
[null,null,0,null,null,null,"00:00:00"]
[null,null,0,null,null,null,"00:00:00"]
[null,null,0,null,null,null,"00:00:00"]
[null,null,0,null,null,null,"00:00:00"]
[null,null,0,null,null,null,"00:00:00"]
[null,null,0,null,null,null,"00:00:00"]
[null,null,0,null,null,null,"00:00:00"]
[null,null,0,null,null,null,"00:00:00"]
[null,null,0,null,null,null,"00:00:00"]
[null,null,0,null,null,null,"00:00:00"]
[null,null,0,null,null,null,"00:00:00"]
[null,null,0,null,null,null,"00:00:00"]
[null,null,0,null,null,null,"00:00:00"]
[null,null,0,null,null,null,"00:00:00"]
[null,null,0,null,null,null,"00:00:00"]
[null,null,0,null,null,null,"00:00:00"]
[null,null,0,null,null,null,"00:00:00"]
[null,null,0,null,null,null,"00:00:00"]
[null,null,0,null,null,null,"00:00:00"]
[null,null,0,null,null,null,"00:00:00"]
[null,null,0,null,null,null,"00:00:00"]
[null,null,0,null,null,null,"00:00:00"]
[null,null,0,null,null,null,"00:00:00"]
[null,null,0,null,null,null,"00:00:00"]
[null,null,0,null,null,null,"00:00:00"]
[null,null,0,null,null,null,"00:00:00"]
[null,null,0,null,null,null,"00:00:00"]
[null,null,0,null,null,null,"00:00:00"]
[null,null,0,null,null,null,"00:00:00"]
[null,null,0,null,null,null,"00:00:00"]
[null,null,0,null,null,null,"00:00:00"]
[null,null,0,null,null,null,"00:00:00"]
[null,null,0,null,null,null,"00:00:00"]
[null,null,0,null,null,null,"00:00:00"]
[null,null,0,null,null,null,"00:00:00"]
[null,null,0,null,null,null,"00:00:00"]
[null,null,0,null,null,null,"00:00:00"]
[null,null,0,null,null,null,"00:00:00"]
[null,null,0,null,null,null,"00:00:00"]
[null,null,0,null,null,null,"00:00:00"]
[null,null,0,null,null,null,"00:00:00"]
[null,null,0,null,null,null,"00:00:00"]
[null,null,0,null,null,null,"00:00:00"]
[null,null,0,null,null,null,"00:00:00"]
[null,null,0,null,null,null,"00:00:00"]
[null,null,0,null,null,null,"00:00:00"]
[null,null,0,null,null,null,"00:00:00"]
[null,null,0,null,null,null,"00:00:00"]
[null,null,0,null,null,null,"00:00:00"]
[null,null,0,null,null,null,"00:00:00"]
[null,null,0,null,null,null,"00:00:00"]
[null,null,0,null,null,null,"00:00:00"]
[null,null,0,null,null,null,"00:00:00"]
[null,null,0,null,null,null,"00:00:00"]
[null,null,0,null,null,null,"00:00:00"]
[null,null,0,null,null,null,"00:00:00"]
[null,null,0,null,null,null,"00:00:00"]
[null,null,0,null,null,null,"00:00:00"]
[null,null,0,null,null,null,"00:00:00"]
[null,null,0,null,null,null,"00:00:00"]
[null,null,0,null,null,null,"00:00:00"]
[null,null,0,null,null,null,"00:00:00"]
[null,null,0,null,null,null,"00:00:00"]
[null,null,0,null,null,null,"00:00:00"]
[null,null,0,null,null,null,"00:00:00"]
[null,null,0,null,null,null,"00:00:00"]
[null,null,0,null,null,null,"00:00:00"]
[null,null,0,null,null,null,"00:00:00"]
[null,null,0,null,null,null,"00:00:00"]
[null,null,0,null,null,null,"00:00:00"]
[null,null,0,null,null,null,"00:00:00"]
[null,null,0,null,null,null,"00:00:00"]
[null,null,0,null,null,null,"00:00:00"]
[null,null,0,null,null,null,"00:00:00"]
[null,null,0,null,null,null,"00:00:00"]
[null,null,0,null,null,null,"00:00:00"]
[null,null,0,null,null,null,"00:00:00"]
[null,null,0,null,null,null,"00:00:00"]
[null,null,0,null,null,null,"00:00:00"]
[null,null,0,null,null,null,"00:00:00"]
[null,null,0,null,null,null,"00:00:00"]
[null,null,0,null,null,null,"00:00:00"]
[null,null,0,null,null,null,"00:00:00"]
[null,null,0,null,null,null,"00:00:00"]
[null,null,0,null,null,null,"00:00:00"]
[null,null,0,null,null,null,"00:00:00"]
[null,null,0,null,null,null,"00:00:00"]
[null,null,0,null,null,null,"00:00:00"]
[null,null,0,null,null,null,"00:00:00"]
[null,null,0,null,null,null,"00:00:00"]
[null,null,0,null,null,null,"00:00:00"]
[null,null,0,null,null,null,"00:00:00"]
[null,null,0,null,null,null,"00:00:00"]
[null,null,0,null,null,null,"00:00:00"]
[null,null,0,null,null,null,"00:00:00"]
[null,null,0,null,null,null,"00:00:00"]
[null,null,0,null,null,null,"00:00:00"]
[null,null,0,null,null,null,"00:00:00"]
[null,null,0,null,null,null,"00:00:00"]
[null,null,0,null,null,null,"00:00:00"]
[null,null,0,null,null,null,"00:00:00"]
[null,null,0,null,null,null,"00:00:00"]
[null,null,0,null,null,null,"00:00:00"]
[null,null,0,null,null,null,"00:00:00"]
[null,null,0,null,null,null,"00:00:00"]
[null,null,0,null,null,null,"00:00:00"]
[null,null,0,null,null,null,"00:00:00"]
[null,null,0,null,null,null,"00:00:00"]
[null,null,0,null,null,null,"00:00:00"]
[null,null,0,null,null,null,"00:00:00"]
[null,null,0,null,null,null,"00:00:00"]
[null,null,0,null,null,null,"00:00:00"]
[null,null,0,null,null,null,"00:00:00"]
[null,null,0,null,null,null,"00:00:00"]
[null,null,0,null,null,null,"00:00:00"]
[null,null,0,null,null,null,"00:00:00"]
[null,null,0,null,null,null,"00:00:00"]
[null,null,0,null,null,null,"00:00:00"]
[null,null,0,null,null,null,"00:00:00"]
[null,null,0,null,null,null,"00:00:00"]
[null,null,0,null,null,null,"00:00:00"]
[null,null,0,null,null,null,"00:00:00"]
[null,null,0,null,null,null,"00:00:00"]
[null,null,0,null,null,null,"00:00:00"]
[null,null,0,null,null,null,"00:00:00"]
[null,null,0,null,null,null,"00:00:00"]
[null,null,0,null,null,null,"00:00:00"]
[null,null,0,null,null,null,"00:00:00"]
[null,null,0,null,null,null,"00:00:00"]
[null,null,0,null,null,null,"00:00:00"]
[null,null,0,null,null,null,"00:00:00"]
[null,null,0,null,null,null,"00:00:00"]
[null,null,0,null,null,null,"00:00:00"]
[null,null,0,null,null,null,"00:00:00"]
[null,null,0,null,null,null,"00:00:00"]
[null,null,0,null,null,null,"00:00:00"]
[null,null,0,null,null,null,"00:00:00"]
[null,null,0,null,null,null,"00:00:00"]
[null,null,0,null,null,null,"00:00:00"]
[null,null,0,null,null,null,"00:00:00"]
[null,null,0,null,null,null,"00:00:00"]
[null,null,0,null,null,null,"00:00:00"]
[null,null,0,null,null,null,"00:00:00"]
[null,null,0,null,null,null,"00:00:00"]
[null,null,0,null,null,null,"00:00:00"]
[null,null,0,null,null,null,"00:00:00"]
[null,null,0,null,null,null,"00:00:00"]
[null,null,0,null,null,null,"00:00:00"]
[null,null,0,null,null,null,"00:00:00"]
[null,null,0,null,null,null,"00:00:00"]
[null,null,0,null,null,null,"00:00:00"]
[null,null,0,null,null,null,"00:00:00"]
[null,null,0,null,null,null,"00:00:00"]
[null,null,0,null,null,null,"00:00:00"]
[null,null,0,null,null,null,"00:00:00"]
[null,null,0,null,null,null,"00:00:00"]
[null,null,0,null,null,null,"00:00:00"]
[null,null,0,null,null,null,"00:00:00"]
[null,null,0,null,null,null,"00:00:00"]
[null,null,0,null,null,null,"00:00:00"]
[null,null,0,null,null,null,"00:00:00"]
[null,null,0,null,null,null,"00:00:00"]
[null,null,0,null,null,null,"00:00:00"]
[null,null,0,null,null,null,"00:00:00"]
[null,null,0,null,null,null,"00:00:00"]
[null,null,0,null,null,null,"00:00:00"]
[null,null,0,null,null,null,"00:00:00"]
[null,null,0,null,null,null,"00:00:00"]
[null,null,0,null,null,null,"00:00:00"]
[null,null,0,null,null,null,"00:00:00"]
[null,null,0,null,null,null,"00:00:00"]
[null,null,0,null,null,null,"00:00:00"]
[null,null,0,null,null,null,"00:00:00"]
[null,null,0,null,null,null,"00:00:00"]
[null,null,0,null,null,null,"00:00:00"]
[null,null,0,null,null,null,"00:00:00"]
[null,null,0,null,null,null,"00:00:00"]
[null,null,0,null,null,null,"00:00:00"]
[null,null,0,null,null,null,"00:00:00"]
[null,null,0,null,null,null,"00:00:00"]
[null,null,0,null,null,null,"00:00:00"]
[null,null,0,null,null,null,"00:00:00"]
[null,null,0,null,null,null,"00:00:00"]
[null,null,0,null,null,null,"00:00:00"]
[null,null,0,null,null,null,"00:00:00"]
[null,null,0,null,null,null,"00:00:00"]
[null,null,0,null,null,null,"00:00:00"]
[null,null,0,null,null,null,"00:00:00"]
[null,null,0,null,null,null,"00:00:00"]
[null,null,0,null,null,null,"00:00:00"]
[null,null,0,null,null,null,"00:00:00"]
[null,null,0,null,null,null,"00:00:00"]
[null,null,0,null,null,null,"00:00:00"]
[null,null,0,null,null,null,"00:00:00"]
[null,null,0,null,null,null,"00:00:00"]
[null,null,0,null,null,null,"00:00:00"]
[null,null,0,null,null,null,"00:00:00"]
[null,null,0,null,null,null,"00:00:00"]
[null,null,0,null,null,null,"00:00:00"]
[null,null,0,null,null,null,"00:00:00"]
[null,null,0,null,null,null,"00:00:00"]
[null,null,0,null,null,null,"00:00:00"]
[null,null,0,null,null,null,"00:00:00"]
[null,null,0,null,null,null,"00:00:00"]
[null,null,0,null,null,null,"00:00:00"]
[null,null,0,null,null,null,"00:00:00"]
[null,null,0,null,null,null,"00:00:00"]
[null,null,0,null,null,null,"00:00:00"]
[null,null,0,null,null,null,"00:00:00"]
[null,null,0,null,null,null,"00:00:00"]
[null,null,0,null,null,null,"00:00:00"]
[null,null,0,null,null,null,"00:00:00"]
[null,null,0,null,null,null,"00:00:00"]
[null,null,0,null,null,null,"00:00:00"]
[null,null,0,null,null,null,"00:00:00"]
[null,null,0,null,null,null,"00:00:00"]
[null,null,0,null,null,null,"00:00:00"]
[null,null,0,null,null,null,"00:00:00"]
[null,null,0,null,null,null,"00:00:00"]
[null,null,0,null,null,null,"00:00:00"]
[null,null,0,null,null,null,"00:00:00"]
[null,null,0,null,null,null,"00:00:00"]
[null,null,0,null,null,null,"00:00:00"]
[null,null,0,null,null,null,"00:00:00"]
[null,null,0,null,null,null,"00:00:00"]
[null,null,0,null,null,null,"00:00:00"]
[null,null,0,null,null,null,"00:00:00"]
[null,null,0,null,null,null,"00:00:00"]
[null,null,0,null,null,null,"00:00:00"]
[null,null,0,null,null,null,"00:00:00"]
[null,null,0,null,null,null,"00:00:00"]
[null,null,0,null,null,null,"00:00:00"]
[null,null,0,null,null,null,"00:00:00"]
[null,null,0,null,null,null,"00:00:00"]
[null,null,0,null,null,null,"00:00:00"]
[null,null,0,null,null,null,"00:00:00"]
[null,null,0,null,null,null,"00:00:00"]
[null,null,0,null,null,null,"00:00:00"]
[null,null,0,null,null,null,"00:00:00"]
[null,null,0,null,null,null,"00:00:00"]
[null,null,0,null,null,null,"00:00:00"]
[null,null,0,null,null,null,"00:00:00"]
[null,null,0,null,null,null,"00:00:00"]
[null,null,0,null,null,null,"00:00:00"]
[null,null,0,null,null,null,"00:00:00"]
[null,null,0,null,null,null,"00:00:00"]
[null,null,0,null,null,null,"00:00:00"]
[null,null,0,null,null,null,"00:00:00"]
[null,null,0,null,null,null,"00:00:00"]
[null,null,0,null,null,null,"00:00:00"]
[null,null,0,null,null,null,"00:00:00"]
[null,null,0,null,null,null,"00:00:00"]
[null,null,0,null,null,null,"00:00:00"]
[null,null,0,null,null,null,"00:00:00"]
[null,null,0,null,null,null,"00:00:00"]
[null,null,0,null,null,null,"00:00:00"]
[null,null,0,null,null,null,"00:00:00"]
[null,null,0,null,null,null,"00:00:00"]
[null,null,0,null,null,null,"00:00:00"]
[null,null,0,null,null,null,"00:00:00"]
[null,null,0,null,null,null,"00:00:00"]
[null,null,0,null,null,null,"00:00:00"]
[null,null,0,null,null,null,"00:00:00"]
[null,null,0,null,null,null,"00:00:00"]
[null,null,0,null,null,null,"00:00:00"]
[null,null,0,null,null,null,"00:00:00"]
[null,null,0,null,null,null,"00:00:00"]
[null,null,0,null,null,null,"00:00:00"]
[null,null,0,null,null,null,"00:00:00"]
[null,null,0,null,null,null,"00:00:00"]
[null,null,0,null,null,null,"00:00:00"]
[null,null,0,null,null,null,"00:00:00"]
[null,null,0,null,null,null,"00:00:00"]
[null,null,0,null,null,null,"00:00:00"]
[null,null,0,null,null,null,"00:00:00"]
[null,null,0,null,null,null,"00:00:00"]
[null,null,0,null,null,null,"00:00:00"]
[null,null,0,null,null,null,"00:00:00"]
[null,null,0,null,null,null,"00:00:00"]
[null,null,0,null,null,null,"00:00:00"]
[null,null,0,null,null,null,"00:00:00"]
[null,null,0,null,null,null,"00:00:00"]
[null,null,0,null,null,null,"00:00:00"]
[null,null,0,null,null,null,"00:00:00"]
[null,null,0,null,null,null,"00:00:00"]
[null,null,0,null,null,null,"00:00:00"]
[null,null,0,null,null,null,"00:00:00"]
[null,null,0,null,null,null,"00:00:00"]
[null,null,0,null,null,null,"00:00:00"]
[null,null,0,null,null,null,"00:00:00"]
[null,null,0,null,null,null,"00:00:00"]
[null,null,0,null,null,null,"00:00:00"]
[null,null,0,null,null,null,"00:00:00"]
[null,null,0,null,null,null,"00:00:00"]
[null,null,0,null,null,null,"00:00:00"]
[null,null,0,null,null,null,"00:00:00"]
[null,null,0,null,null,null,"00:00:00"]
[null,null,0,null,null,null,"00:00:00"]
[null,null,0,null,null,null,"00:00:00"]
[null,null,0,null,null,null,"00:00:00"]
[null,null,0,null,null,null,"00:00:00"]
[null,null,0,null,null,null,"00:00:00"]
[null,null,0,null,null,null,"00:00:00"]
[null,null,0,null,null,null,"00:00:00"]
[null,null,0,null,null,null,"00:00:00"]
[null,null,0,null,null,null,"00:00:00"]
[null,null,0,null,null,null,"00:00:00"]
[null,null,0,null,null,null,"00:00:00"]
[null,null,0,null,null,null,"00:00:00"]
[null,null,0,null,null,null,"00:00:00"]
[null,null,0,null,null,null,"00:00:00"]
[null,null,0,null,null,null,"00:00:00"]
[null,null,0,null,null,null,"00:00:00"]
[null,null,0,null,null,null,"00:00:00"]
[null,null,0,null,null,null,"00:00:00"]
[null,null,0,null,null,null,"00:00:00"]
[null,null,0,null,null,null,"00:00:00"]
[null,null,0,null,null,null,"00:00:00"]
[null,null,0,null,null,null,"00:00:00"]
[null,null,0,null,null,null,"00:00:00"]
[null,null,0,null,null,null,"00:00:00"]
[null,null,0,null,null,null,"00:00:00"]
[null,null,0,null,null,null,"00:00:00"]
[null,null,0,null,null,null,"00:00:00"]
[null,null,0,null,null,null,"00:00:00"]
[null,null,0,null,null,null,"00:00:00"]
[null,null,0,null,null,null,"00:00:00"]
[null,null,0,null,null,null,"00:00:00"]
[null,null,0,null,null,null,"00:00:00"]
[null,null,0,null,null,null,"00:00:00"]
[null,null,0,null,null,null,"00:00:00"]
[null,null,0,null,null,null,"00:00:00"]
[null,null,0,null,null,null,"00:00:00"]
[null,null,0,null,null,null,"00:00:00"]
[null,null,0,null,null,null,"00:00:00"]
[null,null,0,null,null,null,"00:00:00"]
[null,null,0,null,null,null,"00:00:00"]
[null,null,0,null,null,null,"00:00:00"]
[null,null,0,null,null,null,"00:00:00"]
[null,null,0,null,null,null,"00:00:00"]
[null,null,0,null,null,null,"00:00:00"]
[null,null,0,null,null,null,"00:00:00"]
[null,null,0,null,null,null,"00:00:00"]
[null,null,0,null,null,null,"00:00:00"]
[null,null,0,null,null,null,"00:00:00"]
[null,null,0,null,null,null,"00:00:00"]
[null,null,0,null,null,null,"00:00:00"]
[null,null,0,null,null,null,"00:00:00"]
[null,null,0,null,null,null,"00:00:00"]
[null,null,0,null,null,null,"00:00:00"]
[null,null,0,null,null,null,"00:00:00"]
[null,null,0,null,null,null,"00:00:00"]
[null,null,0,null,null,null,"00:00:00"]
[null,null,0,null,null,null,"00:00:00"]
[null,null,0,null,null,null,"00:00:00"]
[null,null,0,null,null,null,"00:00:00"]
[null,null,0,null,null,null,"00:00:00"]
[null,null,0,null,null,null,"00:00:00"]
[null,null,0,null,null,null,"00:00:00"]
[null,null,0,null,null,null,"00:00:00"]
[null,null,0,null,null,null,"00:00:00"]
[null,null,0,null,null,null,"00:00:00"]
[null,null,0,null,null,null,"00:00:00"]
[null,null,0,null,null,null,"00:00:00"]
[null,null,0,null,null,null,"00:00:00"]
[null,null,0,null,null,null,"00:00:00"]
[null,null,0,null,null,null,"00:00:00"]
[null,null,0,null,null,null,"00:00:00"]
[null,null,0,null,null,null,"00:00:00"]
[null,null,0,null,null,null,"00:00:00"]
[null,null,0,null,null,null,"00:00:00"]
[null,null,0,null,null,null,"00:00:00"]
[null,null,0,null,null,null,"00:00:00"]
[null,null,0,null,null,null,"00:00:00"]
[null,null,0,null,null,null,"00:00:00"]
[null,null,0,null,null,null,"00:00:00"]
[null,null,0,null,null,null,"00:00:00"]
[null,null,0,null,null,null,"00:00:00"]
[null,null,0,null,null,null,"00:00:00"]
[null,null,0,null,null,null,"00:00:00"]
[null,null,0,null,null,null,"00:00:00"]
[null,null,0,null,null,null,"00:00:00"]
[null,null,0,null,null,null,"00:00:00"]
[null,null,0,null,null,null,"00:00:00"]
[null,null,0,null,null,null,"00:00:00"]
[null,null,0,null,null,null,"00:00:00"]
[null,null,0,null,null,null,"00:00:00"]
[null,null,0,null,null,null,"00:00:00"]
[null,null,0,null,null,null,"00:00:00"]
[null,null,0,null,null,null,"00:00:00"]
[null,null,0,null,null,null,"00:00:00"]
[null,null,0,null,null,null,"00:00:00"]
[null,null,0,null,null,null,"00:00:00"]
[null,null,0,null,null,null,"00:00:00"]
[null,null,0,null,null,null,"00:00:00"]
[null,null,0,null,null,null,"00:00:00"]
[null,null,0,null,null,null,"00:00:00"]
[null,null,0,null,null,null,"00:00:00"]
[null,null,0,null,null,null,"00:00:00"]
[null,null,0,null,null,null,"00:00:00"]
[null,null,0,null,null,null,"00:00:00"]
[null,null,0,null,null,null,"00:00:00"]
[null,null,0,null,null,null,"00:00:00"]
[null,null,0,null,null,null,"00:00:00"]
[null,null,0,null,null,null,"00:00:00"]
[null,null,0,null,null,null,"00:00:00"]
[null,null,0,null,null,null,"00:00:00"]
[null,null,0,null,null,null,"00:00:00"]
[null,null,0,null,null,null,"00:00:00"]
[null,null,0,null,null,null,"00:00:00"]
[null,null,0,null,null,null,"00:00:00"]
[null,null,0,null,null,null,"00:00:00"]
[null,null,0,null,null,null,"00:00:00"]
[null,null,0,null,null,null,"00:00:00"]
[null,null,0,null,null,null,"00:00:00"]
[null,null,0,null,null,null,"00:00:00"]
[null,null,0,null,null,null,"00:00:00"]
[null,null,0,null,null,null,"00:00:00"]
[null,null,0,null,null,null,"00:00:00"]
[null,null,0,null,null,null,"00:00:00"]
[null,null,0,null,null,null,"00:00:00"]
[null,null,0,null,null,null,"00:00:00"]
[null,null,0,null,null,null,"00:00:00"]
[null,null,0,null,null,null,"00:00:00"]
[null,null,0,null,null,null,"00:00:00"]
[null,null,0,null,null,null,"00:00:00"]
[null,null,0,null,null,null,"00:00:00"]
[null,null,0,null,null,null,"00:00:00"]
[null,null,0,null,null,null,"00:00:00"]
[null,null,0,null,null,null,"00:00:00"]
[null,null,0,null,null,null,"00:00:00"]
[null,null,0,null,null,null,"00:00:00"]
[null,null,0,null,null,null,"00:00:00"]
[null,null,0,null,null,null,"00:00:00"]
[null,null,0,null,null,null,"00:00:00"]
[null,null,0,null,null,null,"00:00:00"]
[null,null,0,null,null,null,"00:00:00"]
[null,null,0,null,null,null,"00:00:00"]
[null,null,0,null,null,null,"00:00:00"]
[null,null,0,null,null,null,"00:00:00"]
[null,null,0,null,null,null,"00:00:00"]
[null,null,0,null,null,null,"00:00:00"]
[null,null,0,null,null,null,"00:00:00"]
[null,null,0,null,null,null,"00:00:00"]
[null,null,0,null,null,null,"00:00:00"]
[null,null,0,null,null,null,"00:00:00"]
[null,null,0,null,null,null,"00:00:00"]
[null,null,0,null,null,null,"00:00:00"]
[null,null,0,null,null,null,"00:00:00"]
[null,null,0,null,null,null,"00:00:00"]
[null,null,0,null,null,null,"00:00:00"]
[null,null,0,null,null,null,"00:00:00"]
[null,null,0,null,null,null,"00:00:00"]
[null,null,0,null,null,null,"00:00:00"]
[null,null,0,null,null,null,"00:00:00"]
[null,null,0,null,null,null,"00:00:00"]
[null,null,0,null,null,null,"00:00:00"]
[null,null,0,null,null,null,"00:00:00"]
[null,null,0,null,null,null,"00:00:00"]
[null,null,0,null,null,null,"00:00:00"]
[null,null,0,null,null,null,"00:00:00"]
[null,null,0,null,null,null,"00:00:00"]
[null,null,0,null,null,null,"00:00:00"]
[null,null,0,null,null,null,"00:00:00"]
[null,null,0,null,null,null,"00:00:00"]
[null,null,0,null,null,null,"00:00:00"]
[null,null,0,null,null,null,"00:00:00"]
[null,null,0,null,null,null,"00:00:00"]
[null,null,0,null,null,null,"00:00:00"]
[null,null,0,null,null,null,"00:00:00"]
[null,null,0,null,null,null,"00:00:00"]
[null,null,0,null,null,null,"00:00:00"]
[null,null,0,null,null,null,"00:00:00"]
[null,null,0,null,null,null,"00:00:00"]
[null,null,0,null,null,null,"00:00:00"]
[null,null,0,null,null,null,"00:00:00"]
[null,null,0,null,null,null,"00:00:00"]
[null,null,0,null,null,null,"00:00:00"]
[null,null,0,null,null,null,"00:00:00"]
[null,null,0,null,null,null,"00:00:00"]
[null,null,0,null,null,null,"00:00:00"]
[null,null,0,null,null,null,"00:00:00"]
[null,null,0,null,null,null,"00:00:00"]
[null,null,0,null,null,null,"00:00:00"]
[null,null,0,null,null,null,"00:00:00"]
[null,null,0,null,null,null,"00:00:00"]
[null,null,0,null,null,null,"00:00:00"]
[null,null,0,null,null,null,"00:00:00"]
[null,null,0,null,null,null,"00:00:00"]
[null,null,0,null,null,null,"00:00:00"]
[null,null,0,null,null,null,"00:00:00"]
[null,null,0,null,null,null,"00:00:00"]
[null,null,0,null,null,null,"00:00:00"]
[null,null,0,null,null,null,"00:00:00"]
[null,null,0,null,null,null,"00:00:00"]
[null,null,0,null,null,null,"00:00:00"]
[null,null,0,null,null,null,"00:00:00"]
[null,null,0,null,null,null,"00:00:00"]
[null,null,0,null,null,null,"00:00:00"]
[null,null,0,null,null,null,"00:00:00"]
[null,null,0,null,null,null,"00:00:00"]
[null,null,0,null,null,null,"00:00:00"]
[null,null,0,null,null,null,"00:00:00"]
[null,null,0,null,null,null,"00:00:00"]
[null,null,0,null,null,null,"00:00:00"]
[null,null,0,null,null,null,"00:00:00"]
[null,null,0,null,null,null,"00:00:00"]
[null,null,0,null,null,null,"00:00:00"]
[null,null,0,null,null,null,"00:00:00"]
[null,null,0,null,null,null,"00:00:00"]
[null,null,0,null,null,null,"00:00:00"]
[null,null,0,null,null,null,"00:00:00"]
[null,null,0,null,null,null,"00:00:00"]
[null,null,0,null,null,null,"00:00:00"]
[null,null,0,null,null,null,"00:00:00"]
[null,null,0,null,null,null,"00:00:00"]
[null,null,0,null,null,null,"00:00:00"]
[null,null,0,null,null,null,"00:00:00"]
[null,null,0,null,null,null,"00:00:00"]
[null,null,0,null,null,null,"00:00:00"]
[null,null,0,null,null,null,"00:00:00"]
[null,null,0,null,null,null,"00:00:00"]
[null,null,0,null,null,null,"00:00:00"]
[null,null,0,null,null,null,"00:00:00"]
[null,null,0,null,null,null,"00:00:00"]
[null,null,0,null,null,null,"00:00:00"]
[null,null,0,null,null,null,"00:00:00"]
[null,null,0,null,null,null,"00:00:00"]
[null,null,0,null,null,null,"00:00:00"]
[null,null,0,null,null,null,"00:00:00"]
[null,null,0,null,null,null,"00:00:00"]
[null,null,0,null,null,null,"00:00:00"]
[null,null,0,null,null,null,"00:00:00"]
[null,null,0,null,null,null,"00:00:00"]
[null,null,0,null,null,null,"00:00:00"]
[null,null,0,null,null,null,"00:00:00"]
[null,null,0,null,null,null,"00:00:00"]
[null,null,0,null,null,null,"00:00:00"]
[null,null,0,null,null,null,"00:00:00"]
[null,null,0,null,null,null,"00:00:00"]
[null,null,0,null,null,null,"00:00:00"]
[null,null,0,null,null,null,"00:00:00"]
[null,null,0,null,null,null,"00:00:00"]
[null,null,0,null,null,null,"00:00:00"]
[null,null,0,null,null,null,"00:00:00"]
[null,null,0,null,null,null,"00:00:00"]
[null,null,0,null,null,null,"00:00:00"]
[null,null,0,null,null,null,"00:00:00"]
[null,null,0,null,null,null,"00:00:00"]
[null,null,0,null,null,null,"00:00:00"]
[null,null,0,null,null,null,"00:00:00"]
[null,null,0,null,null,null,"00:00:00"]
[null,null,0,null,null,null,"00:00:00"]
[null,null,0,null,null,null,"00:00:00"]
[null,null,0,null,null,null,"00:00:00"]
[null,null,0,null,null,null,"00:00:00"]
[null,null,0,null,null,null,"00:00:00"]
[null,null,0,null,null,null,"00:00:00"]
[null,null,0,null,null,null,"00:00:00"]
[null,null,0,null,null,null,"00:00:00"]
[null,null,0,null,null,null,"00:00:00"]
[null,null,0,null,null,null,"00:00:00"]
[null,null,0,null,null,null,"00:00:00"]
[null,null,0,null,null,null,"00:00:00"]
[null,null,0,null,null,null,"00:00:00"]
[null,null,0,null,null,null,"00:00:00"]
[null,null,0,null,null,null,"00:00:00"]
[null,null,0,null,null,null,"00:00:00"]
[null,null,0,null,null,null,"00:00:00"]
[null,null,0,null,null,null,"00:00:00"]
[null,null,0,null,null,null,"00:00:00"]
[null,null,0,null,null,null,"00:00:00"]
[null,null,0,null,null,null,"00:00:00"]
[null,null,0,null,null,null,"00:00:00"]
[null,null,0,null,null,null,"00:00:00"]
[null,null,0,null,null,null,"00:00:00"]
[null,null,0,null,null,null,"00:00:00"]
[null,null,0,null,null,null,"00:00:00"]
[null,null,0,null,null,null,"00:00:00"]
[null,null,0,null,null,null,"00:00:00"]
[null,null,0,null,null,null,"00:00:00"]
[null,null,0,null,null,null,"00:00:00"]
[null,null,0,null,null,null,"00:00:00"]
[null,null,0,null,null,null,"00:00:00"]
[null,null,0,null,null,null,"00:00:00"]
[null,null,0,null,null,null,"00:00:00"]
[null,null,0,null,null,null,"00:00:00"]
[null,null,0,null,null,null,"00:00:00"]
[null,null,0,null,null,null,"00:00:00"]
[null,null,0,null,null,null,"00:00:00"]
[null,null,0,null,null,null,"00:00:00"]
[null,null,0,null,null,null,"00:00:00"]
[null,null,0,null,null,null,"00:00:00"]
[null,null,0,null,null,null,"00:00:00"]
[null,null,0,null,null,null,"00:00:00"]
[null,null,0,null,null,null,"00:00:00"]
[null,null,0,null,null,null,"00:00:00"]
[null,null,0,null,null,null,"00:00:00"]
[null,null,0,null,null,null,"00:00:00"]
[null,null,0,null,null,null,"00:00:00"]
[null,null,0,null,null,null,"00:00:00"]
[null,null,0,null,null,null,"00:00:00"]
[null,null,0,null,null,null,"00:00:00"]
[null,null,0,null,null,null,"00:00:00"]
[null,null,0,null,null,null,"00:00:00"]
[null,null,0,null,null,null,"00:00:00"]
[null,null,0,null,null,null,"00:00:00"]
[null,null,0,null,null,null,"00:00:00"]
[null,null,0,null,null,null,"00:00:00"]
[null,null,0,null,null,null,"00:00:00"]
[null,null,0,null,null,null,"00:00:00"]
[null,null,0,null,null,null,"00:00:00"]
[null,null,0,null,null,null,"00:00:00"]
[null,null,0,null,null,null,"00:00:00"]
[null,null,0,null,null,null,"00:00:00"]
[null,null,0,null,null,null,"00:00:00"]
[null,null,0,null,null,null,"00:00:00"]
[null,null,0,null,null,null,"00:00:00"]
[null,null,0,null,null,null,"00:00:00"]
[null,null,0,null,null,null,"00:00:00"]
[null,null,0,null,null,null,"00:00:00"]
[null,null,0,null,null,null,"00:00:00"]
[null,null,0,null,null,null,"00:00:00"]
[null,null,0,null,null,null,"00:00:00"]
[null,null,0,null,null,null,"00:00:00"]
[null,null,0,null,null,null,"00:00:00"]
[null,null,0,null,null,null,"00:00:00"]
[null,null,0,null,null,null,"00:00:00"]
[null,null,0,null,null,null,"00:00:00"]
[null,null,0,null,null,null,"00:00:00"]
[null,null,0,null,null,null,"00:00:00"]
[null,null,0,null,null,null,"00:00:00"]
[null,null,0,null,null,null,"00:00:00"]
[null,null,0,null,null,null,"00:00:00"]
[null,null,0,null,null,null,"00:00:00"]
[null,null,0,null,null,null,"00:00:00"]
[null,null,0,null,null,null,"00:00:00"]
[null,null,0,null,null,null,"00:00:00"]
[null,null,0,null,null,null,"00:00:00"]
[null,null,0,null,null,null,"00:00:00"]
[null,null,0,null,null,null,"00:00:00"]
[null,null,0,null,null,null,"00:00:00"]
[null,null,0,null,null,null,"00:00:00"]
[null,null,0,null,null,null,"00:00:00"]
[null,null,0,null,null,null,"00:00:00"]
[null,null,0,null,null,null,"00:00:00"]
[null,null,0,null,null,null,"00:00:00"]
[null,null,0,null,null,null,"00:00:00"]
[null,null,0,null,null,null,"00:00:00"]
[null,null,0,null,null,null,"00:00:00"]
[null,null,0,null,null,null,"00:00:00"]
[null,null,0,null,null,null,"00:00:00"]
[null,null,0,null,null,null,"00:00:00"]
[null,null,0,null,null,null,"00:00:00"]
[null,null,0,null,null,null,"00:00:00"]
[null,null,0,null,null,null,"00:00:00"]
[null,null,0,null,null,null,"00:00:00"]
[null,null,0,null,null,null,"00:00:00"]
[null,null,0,null,null,null,"00:00:00"]
[null,null,0,null,null,null,"00:00:00"]
[null,null,0,null,null,null,"00:00:00"]
[null,null,0,null,null,null,"00:00:00"]
[null,null,0,null,null,null,"00:00:00"]
[null,null,0,null,null,null,"00:00:00"]
[null,null,0,null,null,null,"00:00:00"]
[null,null,0,null,null,null,"00:00:00"]
[null,null,0,null,null,null,"00:00:00"]
[null,null,0,null,null,null,"00:00:00"]
[null,null,0,null,null,null,"00:00:00"]
[null,null,0,null,null,null,"00:00:00"]
[null,null,0,null,null,null,"00:00:00"]
[null,null,0,null,null,null,"00:00:00"]
[null,null,0,null,null,null,"00:00:00"]
[null,null,0,null,null,null,"00:00:00"]
[null,null,0,null,null,null,"00:00:00"]
[null,null,0,null,null,null,"00:00:00"]
[null,null,0,null,null,null,"00:00:00"]
[null,null,0,null,null,null,"00:00:00"]
[null,null,0,null,null,null,"00:00:00"]
[null,null,0,null,null,null,"00:00:00"]
[null,null,0,null,null,null,"00:00:00"]
[null,null,0,null,null,null,"00:00:00"]
[null,null,0,null,null,null,"00:00:00"]
[null,null,0,null,null,null,"00:00:00"]
[null,null,0,null,null,null,"00:00:00"]
[null,null,0,null,null,null,"00:00:00"]
[null,null,0,null,null,null,"00:00:00"]
[null,null,0,null,null,null,"00:00:00"]
[null,null,0,null,null,null,"00:00:00"]
[null,null,0,null,null,null,"00:00:00"]
[null,null,0,null,null,null,"00:00:00"]
[null,null,0,null,null,null,"00:00:00"]
[null,null,0,null,null,null,"00:00:00"]
[null,null,0,null,null,null,"00:00:00"]
[null,null,0,null,null,null,"00:00:00"]
[null,null,0,null,null,null,"00:00:00"]
[null,null,0,null,null,null,"00:00:00"]
[null,null,0,null,null,null,"00:00:00"]
[null,null,0,null,null,null,"00:00:00"]
[null,null,0,null,null,null,"00:00:00"]
[null,null,0,null,null,null,"00:00:00"]
[null,null,0,null,null,null,"00:00:00"]
[null,null,0,null,null,null,"00:00:00"]
[null,null,0,null,null,null,"00:00:00"]
[null,null,0,null,null,null,"00:00:00"]
[null,null,0,null,null,null,"00:00:00"]
[null,null,0,null,null,null,"00:00:00"]
[null,null,0,null,null,null,"00:00:00"]
[null,null,0,null,null,null,"00:00:00"]
[null,null,0,null,null,null,"00:00:00"]
[null,null,0,null,null,null,"00:00:00"]
[null,null,0,null,null,null,"00:00:00"]
[null,null,0,null,null,null,"00:00:00"]
[null,null,0,null,null,null,"00:00:00"]
[null,null,0,null,null,null,"00:00:00"]
[null,null,0,null,null,null,"00:00:00"]
[null,null,0,null,null,null,"00:00:00"]
[null,null,0,null,null,null,"00:00:00"]
[null,null,0,null,null,null,"00:00:00"]
[null,null,0,null,null,null,"00:00:00"]
[null,null,0,null,null,null,"00:00:00"]
[null,null,0,null,null,null,"00:00:00"]
[null,null,0,null,null,null,"00:00:00"]
[null,null,0,null,null,null,"00:00:00"]
[null,null,0,null,null,null,"00:00:00"]
[null,null,0,null,null,null,"00:00:00"]
[null,null,0,null,null,null,"00:00:00"]
[null,null,0,null,null,null,"00:00:00"]
[null,null,0,null,null,null,"00:00:00"]
[null,null,0,null,null,null,"00:00:00"]
[null,null,0,null,null,null,"00:00:00"]
[null,null,0,null,null,null,"00:00:00"]
[null,null,0,null,null,null,"00:00:00"]
[null,null,0,null,null,null,"00:00:00"]
[null,null,0,null,null,null,"00:00:00"]
[null,null,0,null,null,null,"00:00:00"]
[null,null,0,null,null,null,"00:00:00"]
[null,null,0,null,null,null,"00:00:00"]
[null,null,0,null,null,null,"00:00:00"]
[null,null,0,null,null,null,"00:00:00"]
[null,null,0,null,null,null,"00:00:00"]
[null,null,0,null,null,null,"00:00:00"]
[null,null,0,null,null,null,"00:00:00"]
[null,null,0,null,null,null,"00:00:00"]
[null,null,0,null,null,null,"00:00:00"]
[null,null,0,null,null,null,"00:00:00"]
[null,null,0,null,null,null,"00:00:00"]
[null,null,0,null,null,null,"00:00:00"]
[null,null,0,null,null,null,"00:00:00"]
[null,null,0,null,null,null,"00:00:00"]
[null,null,0,null,null,null,"00:00:00"]
[null,null,0,null,null,null,"00:00:00"]
[null,null,0,null,null,null,"00:00:00"]
[null,null,0,null,null,null,"00:00:00"]
[null,null,0,null,null,null,"00:00:00"]
[null,null,0,null,null,null,"00:00:00"]
[null,null,0,null,null,null,"00:00:00"]
[null,null,0,null,null,null,"00:00:00"]
[null,null,0,null,null,null,"00:00:00"]
[null,null,0,null,null,null,"00:00:00"]
[null,null,0,null,null,null,"00:00:00"]
[null,null,0,null,null,null,"00:00:00"]
[null,null,0,null,null,null,"00:00:00"]
[null,null,0,null,null,null,"00:00:00"]
[null,null,0,null,null,null,"00:00:00"]
[null,null,0,null,null,null,"00:00:00"]
[null,null,0,null,null,null,"00:00:00"]
[null,null,0,null,null,null,"00:00:00"]
[null,null,0,null,null,null,"00:00:00"]
[null,null,0,null,null,null,"00:00:00"]
[null,null,0,null,null,null,"00:00:00"]
[null,null,0,null,null,null,"00:00:00"]
[null,null,0,null,null,null,"00:00:00"]
[null,null,0,null,null,null,"00:00:00"]
[null,null,0,null,null,null,"00:00:00"]
[null,null,0,null,null,null,"00:00:00"]
[null,null,0,null,null,null,"00:00:00"]
[null,null,0,null,null,null,"00:00:00"]
[null,null,0,null,null,null,"00:00:00"]
[null,null,0,null,null,null,"00:00:00"]
[null,null,0,null,null,null,"00:00:00"]
[null,null,0,null,null,null,"00:00:00"]
[null,null,0,null,null,null,"00:00:00"]
[null,null,0,null,null,null,"00:00:00"]
[null,null,0,null,null,null,"00:00:00"]
[null,null,0,null,null,null,"00:00:00"]
[null,null,0,null,null,null,"00:00:00"]
[null,null,0,null,null,null,"00:00:00"]
[null,null,0,null,null,null,"00:00:00"]
[null,null,0,null,null,null,"00:00:00"]
[null,null,0,null,null,null,"00:00:00"]
[null,null,0,null,null,null,"00:00:00"]
[null,null,0,null,null,null,"00:00:00"]
[null,null,0,null,null,null,"00:00:00"]
[null,null,0,null,null,null,"00:00:00"]
[null,null,0,null,null,null,"00:00:00"]
[null,null,0,null,null,null,"00:00:00"]
[null,null,0,null,null,null,"00:00:00"]
[null,null,0,null,null,null,"00:00:00"]
[null,null,0,null,null,null,"00:00:00"]
[null,null,0,null,null,null,"00:00:00"]
[null,null,0,null,null,null,"00:00:00"]
[null,null,0,null,null,null,"00:00:00"]
[null,null,0,null,null,null,"00:00:00"]
[null,null,0,null,null,null,"00:00:00"]
[null,null,0,null,null,null,"00:00:00"]
[null,null,0,null,null,null,"00:00:00"]
[null,null,0,null,null,null,"00:00:00"]
[null,null,0,null,null,null,"00:00:00"]
[null,null,0,null,null,null,"00:00:00"]
[null,null,0,null,null,null,"00:00:00"]
[null,null,0,null,null,null,"00:00:00"]
[null,null,0,null,null,null,"00:00:00"]
[null,null,0,null,null,null,"00:00:00"]
[null,null,0,null,null,null,"00:00:00"]
[null,null,0,null,null,null,"00:00:00"]
[null,null,0,null,null,null,"00:00:00"]
[null,null,0,null,null,null,"00:00:00"]
[null,null,0,null,null,null,"00:00:00"]
[null,null,0,null,null,null,"00:00:00"]
[null,null,0,null,null,null,"00:00:00"]
[null,null,0,null,null,null,"00:00:00"]
[null,null,0,null,null,null,"00:00:00"]
[null,null,0,null,null,null,"00:00:00"]
[null,null,0,null,null,null,"00:00:00"]
[null,null,0,null,null,null,"00:00:00"]
[null,null,0,null,null,null,"00:00:00"]
[null,null,0,null,null,null,"00:00:00"]
[null,null,0,null,null,null,"00:00:00"]
[null,null,0,null,null,null,"00:00:00"]
[null,null,0,null,null,null,"00:00:00"]
[null,null,0,null,null,null,"00:00:00"]
[null,null,0,null,null,null,"00:00:00"]
[null,null,0,null,null,null,"00:00:00"]
[null,null,0,null,null,null,"00:00:00"]
[null,null,0,null,null,null,"00:00:00"]
[null,null,0,null,null,null,"00:00:00"]
[null,null,0,null,null,null,"00:00:00"]
[null,null,0,null,null,null,"00:00:00"]
[null,null,0,null,null,null,"00:00:00"]
[null,null,0,null,null,null,"00:00:00"]
[null,null,0,null,null,null,"00:00:00"]
[null,null,0,null,null,null,"00:00:00"]
[null,null,0,null,null,null,"00:00:00"]
[null,null,0,null,null,null,"00:00:00"]
[null,null,0,null,null,null,"00:00:00"]
[null,null,0,null,null,null,"00:00:00"]
[null,null,0,null,null,null,"00:00:00"]
[null,null,0,null,null,null,"00:00:00"]
[null,null,0,null,null,null,"00:00:00"]
[null,null,0,null,null,null,"00:00:00"]
[null,null,0,null,null,null,"00:00:00"]
[null,null,0,null,null,null,"00:00:00"]
[null,null,0,null,null,null,"00:00:00"]
[null,null,0,null,null,null,"00:00:00"]
[null,null,0,null,null,null,"00:00:00"]
[null,null,0,null,null,null,"00:00:00"]
[null,null,0,null,null,null,"00:00:00"]
[null,null,0,null,null,null,"00:00:00"]
[null,null,0,null,null,null,"00:00:00"]
[null,null,0,null,null,null,"00:00:00"]
[null,null,0,null,null,null,"00:00:00"]
[null,null,0,null,null,null,"00:00:00"]
[null,null,0,null,null,null,"00:00:00"]
[null,null,0,null,null,null,"00:00:00"]
[null,null,0,null,null,null,"00:00:00"]
[null,null,0,null,null,null,"00:00:00"]
[null,null,0,null,null,null,"00:00:00"]
[null,null,0,null,null,null,"00:00:00"]
[null,null,0,null,null,null,"00:00:00"]
[null,null,0,null,null,null,"00:00:00"]
[null,null,0,null,null,null,"00:00:00"]
[null,null,0,null,null,null,"00:00:00"]
[null,null,0,null,null,null,"00:00:00"]
[null,null,0,null,null,null,"00:00:00"]
[null,null,0,null,null,null,"00:00:00"]
[null,null,0,null,null,null,"00:00:00"]
[null,null,0,null,null,null,"00:00:00"]
[null,null,0,null,null,null,"00:00:00"]
[null,null,0,null,null,null,"00:00:00"]
[null,null,0,null,null,null,"00:00:00"]
[null,null,0,null,null,null,"00:00:00"]
[null,null,0,null,null,null,"00:00:00"]
[null,null,0,null,null,null,"00:00:00"]
[null,null,0,null,null,null,"00:00:00"]
[null,null,0,null,null,null,"00:00:00"]
[null,null,0,null,null,null,"00:00:00"]
[null,null,0,null,null,null,"00:00:00"]
[null,null,0,null,null,null,"00:00:00"]
[null,null,0,null,null,null,"00:00:00"]
[null,null,0,null,null,null,"00:00:00"]
[null,null,0,null,null,null,"00:00:00"]
[null,null,0,null,null,null,"00:00:00"]
[null,null,0,null,null,null,"00:00:00"]
[null,null,0,null,null,null,"00:00:00"]
[null,null,0,null,null,null,"00:00:00"]
[null,null,0,null,null,null,"00:00:00"]
[null,null,0,null,null,null,"00:00:00"]
[null,null,0,null,null,null,"00:00:00"]
[null,null,0,null,null,null,"00:00:00"]
[null,null,0,null,null,null,"00:00:00"]
[null,null,0,null,null,null,"00:00:00"]
[null,null,0,null,null,null,"00:00:00"]
[null,null,0,null,null,null,"00:00:00"]
[null,null,0,null,null,null,"00:00:00"]
[null,null,0,null,null,null,"00:00:00"]
[null,null,0,null,null,null,"00:00:00"]
[null,null,0,null,null,null,"00:00:00"]
[null,null,0,null,null,null,"00:00:00"]
[null,null,0,null,null,null,"00:00:00"]
[null,null,0,null,null,null,"00:00:00"]
[null,null,0,null,null,null,"00:00:00"]
[null,null,0,null,null,null,"00:00:00"]
[null,null,0,null,null,null,"00:00:00"]
[null,null,0,null,null,null,"00:00:00"]
[null,null,0,null,null,null,"00:00:00"]
[null,null,0,null,null,null,"00:00:00"]
[null,null,0,null,null,null,"00:00:00"]
[null,null,0,null,null,null,"00:00:00"]
[null,null,0,null,null,null,"00:00:00"]
[null,null,0,null,null,null,"00:00:00"]
[null,null,0,null,null,null,"00:00:00"]
[null,null,0,null,null,null,"00:00:00"]
[null,null,0,null,null,null,"00:00:00"]
[null,null,0,null,null,null,"00:00:00"]
[null,null,0,null,null,null,"00:00:00"]
[null,null,0,null,null,null,"00:00:00"]
[null,null,0,null,null,null,"00:00:00"]
[null,null,0,null,null,null,"00:00:00"]
[null,null,0,null,null,null,"00:00:00"]
[null,null,0,null,null,null,"00:00:00"]
[null,null,0,null,null,null,"00:00:00"]
[null,null,0,null,null,null,"00:00:00"]
[null,null,0,null,null,null,"00:00:00"]
[null,null,0,null,null,null,"00:00:00"]
[null,null,0,null,null,null,"00:00:00"]
[null,null,0,null,null,null,"00:00:00"]
[null,null,0,null,null,null,"00:00:00"]
[null,null,0,null,null,null,"00:00:00"]
[null,null,0,null,null,null,"00:00:00"]
[null,null,0,null,null,null,"00:00:00"]
[null,null,0,null,null,null,"00:00:00"]
[null,null,0,null,null,null,"00:00:00"]
[null,null,0,null,null,null,"00:00:00"]
[null,null,0,null,null,null,"00:00:00"]
[null,null,0,null,null,null,"00:00:00"]
[null,null,0,null,null,null,"00:00:00"]
[null,null,0,null,null,null,"00:00:00"]
[null,null,0,null,null,null,"00:00:00"]
[null,null,0,null,null,null,"00:00:00"]
[null,null,0,null,null,null,"00:00:00"]
[null,null,0,null,null,null,"00:00:00"]
[null,null,0,null,null,null,"00:00:00"]
[null,null,0,null,null,null,"00:00:00"]
[null,null,0,null,null,null,"00:00:00"]
[null,null,0,null,null,null,"00:00:00"]
[null,null,0,null,null,null,"00:00:00"]
[null,null,0,null,null,null,"00:00:00"]
[null,null,0,null,null,null,"00:00:00"]
[null,null,0,null,null,null,"00:00:00"]
[null,null,0,null,null,null,"00:00:00"]
[null,null,0,null,null,null,"00:00:00"]
[null,null,0,null,null,null,"00:00:00"]
[null,null,0,null,null,null,"00:00:00"]
[null,null,0,null,null,null,"00:00:00"]
[null,null,0,null,null,null,"00:00:00"]
[null,null,0,null,null,null,"00:00:00"]
[null,null,0,null,null,null,"00:00:00"]
[null,null,0,null,null,null,"00:00:00"]
[null,null,0,null,null,null,"00:00:00"]
[null,null,0,null,null,null,"00:00:00"]
[null,null,0,null,null,null,"00:00:00"]
[null,null,0,null,null,null,"00:00:00"]
[null,null,0,null,null,null,"00:00:00"]
[null,null,0,null,null,null,"00:00:00"]
[null,null,0,null,null,null,"00:00:00"]
[null,null,0,null,null,null,"00:00:00"]
[null,null,0,null,null,null,"00:00:00"]
[null,null,0,null,null,null,"00:00:00"]
[null,null,0,null,null,null,"00:00:00"]
[null,null,0,null,null,null,"00:00:00"]
[null,null,0,null,null,null,"00:00:00"]
[null,null,0,null,null,null,"00:00:00"]
[null,null,0,null,null,null,"00:00:00"]
[null,null,0,null,null,null,"00:00:00"]
[null,null,0,null,null,null,"00:00:00"]
[null,null,0,null,null,null,"00:00:00"]
[null,null,0,null,null,null,"00:00:00"]
[null,null,0,null,null,null,"00:00:00"]
[null,null,0,null,null,null,"00:00:00"]
[null,null,0,null,null,null,"00:00:00"]
[null,null,0,null,null,null,"00:00:00"]
[null,null,0,null,null,null,"00:00:00"]
[null,null,0,null,null,null,"00:00:00"]
[null,null,0,null,null,null,"00:00:00"]
[null,null,0,null,null,null,"00:00:00"]
[null,null,0,null,null,null,"00:00:00"]
[null,null,0,null,null,null,"00:00:00"]
[null,null,0,null,null,null,"00:00:00"]
[null,null,0,null,null,null,"00:00:00"]
[null,null,0,null,null,null,"00:00:00"]
[null,null,0,null,null,null,"00:00:00"]
[null,null,0,null,null,null,"00:00:00"]
[null,null,0,null,null,null,"00:00:00"]
[null,null,0,null,null,null,"00:00:00"]
[null,null,0,null,null,null,"00:00:00"]
[null,null,0,null,null,null,"00:00:00"]
[null,null,0,null,null,null,"00:00:00"]
[null,null,0,null,null,null,"00:00:00"]
[null,null,0,null,null,null,"00:00:00"]
[null,null,0,null,null,null,"00:00:00"]
[null,null,0,null,null,null,"00:00:00"]
[null,null,0,null,null,null,"00:00:00"]
[null,null,0,null,null,null,"00:00:00"]
[null,null,0,null,null,null,"00:00:00"]
[null,null,0,null,null,null,"00:00:00"]
[null,null,0,null,null,null,"00:00:00"]
[null,null,0,null,null,null,"00:00:00"]
[null,null,0,null,null,null,"00:00:00"]
[null,null,0,null,null,null,"00:00:00"]
[null,null,0,null,null,null,"00:00:00"]
[null,null,0,null,null,null,"00:00:00"]
[null,null,0,null,null,null,"00:00:00"]
[null,null,0,null,null,null,"00:00:00"]
[null,null,0,null,null,null,"00:00:00"]
[null,null,0,null,null,null,"00:00:00"]
[null,null,0,null,null,null,"00:00:00"]
[null,null,0,null,null,null,"00:00:00"]
[null,null,0,null,null,null,"00:00:00"]
[null,null,0,null,null,null,"00:00:00"]
[null,null,0,null,null,null,"00:00:00"]
[null,null,0,null,null,null,"00:00:00"]
[null,null,0,null,null,null,"00:00:00"]
[null,null,0,null,null,null,"00:00:00"]
[null,null,0,null,null,null,"00:00:00"]
[null,null,0,null,null,null,"00:00:00"]
[null,null,0,null,null,null,"00:00:00"]
[null,null,0,null,null,null,"00:00:00"]
[null,null,0,null,null,null,"00:00:00"]
[null,null,0,null,null,null,"00:00:00"]
[null,null,0,null,null,null,"00:00:00"]
[null,null,0,null,null,null,"00:00:00"]
[null,null,0,null,null,null,"00:00:00"]
[null,null,0,null,null,null,"00:00:00"]
[null,null,0,null,null,null,"00:00:00"]
[null,null,0,null,null,null,"00:00:00"]
[null,null,0,null,null,null,"00:00:00"]
[null,null,0,null,null,null,"00:00:00"]
[null,null,0,null,null,null,"00:00:00"]
[null,null,0,null,null,null,"00:00:00"]
[null,null,0,null,null,null,"00:00:00"]
[null,null,0,null,null,null,"00:00:00"]
[null,null,0,null,null,null,"00:00:00"]
[null,null,0,null,null,null,"00:00:00"]
[null,null,0,null,null,null,"00:00:00"]
[null,null,0,null,null,null,"00:00:00"]
[null,null,0,null,null,null,"00:00:00"]
[null,null,0,null,null,null,"00:00:00"]
[null,null,0,null,null,null,"00:00:00"]
[null,null,0,null,null,null,"00:00:00"]
[null,null,0,null,null,null,"00:00:00"]
[null,null,0,null,null,null,"00:00:00"]
[null,null,0,null,null,null,"00:00:00"]
[null,null,0,null,null,null,"00:00:00"]
[null,null,0,null,null,null,"00:00:00"]
[null,null,0,null,null,null,"00:00:00"]
[null,null,0,null,null,null,"00:00:00"]
[null,null,0,null,null,null,"00:00:00"]
[null,null,0,null,null,null,"00:00:00"]
[null,null,0,null,null,null,"00:00:00"]
[null,null,0,null,null,null,"00:00:00"]
[null,null,0,null,null,null,"00:00:00"]
[null,null,0,null,null,null,"00:00:00"]
[null,null,0,null,null,null,"00:00:00"]
[null,null,0,null,null,null,"00:00:00"]
[null,null,0,null,null,null,"00:00:00"]
[null,null,0,null,null,null,"00:00:00"]
[null,null,0,null,null,null,"00:00:00"]
[null,null,0,null,null,null,"00:00:00"]
[null,null,0,null,null,null,"00:00:00"]
[null,null,0,null,null,null,"00:00:00"]
[null,null,0,null,null,null,"00:00:00"]
[null,null,0,null,null,null,"00:00:00"]
[null,null,0,null,null,null,"00:00:00"]
[null,null,0,null,null,null,"00:00:00"]
[null,null,0,null,null,null,"00:00:00"]
[null,null,0,null,null,null,"00:00:00"]
[null,null,0,null,null,null,"00:00:00"]
[null,null,0,null,null,null,"00:00:00"]
[null,null,0,null,null,null,"00:00:00"]
[null,null,0,null,null,null,"00:00:00"]
[null,null,0,null,null,null,"00:00:00"]
[null,null,0,null,null,null,"00:00:00"]
[null,null,0,null,null,null,"00:00:00"]
[null,null,0,null,null,null,"00:00:00"]
[null,null,0,null,null,null,"00:00:00"]
[null,null,0,null,null,null,"00:00:00"]
[null,null,0,null,null,null,"00:00:00"]
[null,null,0,null,null,null,"00:00:00"]
[null,null,0,null,null,null,"00:00:00"]
[null,null,0,null,null,null,"00:00:00"]
[null,null,0,null,null,null,"00:00:00"]
[null,null,0,null,null,null,"00:00:00"]
[null,null,0,null,null,null,"00:00:00"]
[null,null,0,null,null,null,"00:00:00"]
[null,null,0,null,null,null,"00:00:00"]
[null,null,0,null,null,null,"00:00:00"]
[null,null,0,null,null,null,"00:00:00"]
[null,null,0,null,null,null,"00:00:00"]
[null,null,0,null,null,null,"00:00:00"]
[null,null,0,null,null,null,"00:00:00"]
[null,null,0,null,null,null,"00:00:00"]
[null,null,0,null,null,null,"00:00:00"]
[null,null,0,null,null,null,"00:00:00"]
[null,null,0,null,null,null,"00:00:00"]
[null,null,0,null,null,null,"00:00:00"]
[null,null,0,null,null,null,"00:00:00"]
[null,null,0,null,null,null,"00:00:00"]
[null,null,0,null,null,null,"00:00:00"]
[null,null,0,null,null,null,"00:00:00"]
[null,null,0,null,null,null,"00:00:00"]
[null,null,0,null,null,null,"00:00:00"]
[null,null,0,null,null,null,"00:00:00"]
[null,null,0,null,null,null,"00:00:00"]
[null,null,0,null,null,null,"00:00:00"]
[null,null,0,null,null,null,"00:00:00"]
[null,null,0,null,null,null,"00:00:00"]
[null,null,0,null,null,null,"00:00:00"]
[null,null,0,null,null,null,"00:00:00"]
[null,null,0,null,null,null,"00:00:00"]
[null,null,0,null,null,null,"00:00:00"]
[null,null,0,null,null,null,"00:00:00"]
[null,null,0,null,null,null,"00:00:00"]
[null,null,0,null,null,null,"00:00:00"]
[null,null,0,null,null,null,"00:00:00"]
[null,null,0,null,null,null,"00:00:00"]
[null,null,0,null,null,null,"00:00:00"]
[null,null,0,null,null,null,"00:00:00"]
[null,null,0,null,null,null,"00:00:00"]
[null,null,0,null,null,null,"00:00:00"]
[null,null,0,null,null,null,"00:00:00"]
[null,null,0,null,null,null,"00:00:00"]
[null,null,0,null,null,null,"00:00:00"]
[null,null,0,null,null,null,"00:00:00"]
[null,null,0,null,null,null,"00:00:00"]
[null,null,0,null,null,null,"00:00:00"]
[null,null,0,null,null,null,"00:00:00"]
[null,null,0,null,null,null,"00:00:00"]
[null,null,0,null,null,null,"00:00:00"]
[null,null,0,null,null,null,"00:00:00"]
[null,null,0,null,null,null,"00:00:00"]
[null,null,0,null,null,null,"00:00:00"]
[null,null,0,null,null,null,"00:00:00"]
[null,null,0,null,null,null,"00:00:00"]
[null,null,0,null,null,null,"00:00:00"]
[null,null,0,null,null,null,"00:00:00"]
[null,null,0,null,null,null,"00:00:00"]
[null,null,0,null,null,null,"00:00:00"]
[null,null,0,null,null,null,"00:00:00"]
[null,null,0,null,null,null,"00:00:00"]
[null,null,0,null,null,null,"00:00:00"]
[null,null,0,null,null,null,"00:00:00"]
[null,null,0,null,null,null,"00:00:00"]
[null,null,0,null,null,null,"00:00:00"]
[null,null,0,null,null,null,"00:00:00"]
[null,null,0,null,null,null,"00:00:00"]
[null,null,0,null,null,null,"00:00:00"]
[null,null,0,null,null,null,"00:00:00"]
[null,null,0,null,null,null,"00:00:00"]
[null,null,0,null,null,null,"00:00:00"]
[null,null,0,null,null,null,"00:00:00"]
[null,null,0,null,null,null,"00:00:00"]
[null,null,0,null,null,null,"00:00:00"]
[null,null,0,null,null,null,"00:00:00"]
[null,null,0,null,null,null,"00:00:00"]
[null,null,0,null,null,null,"00:00:00"]
[null,null,0,null,null,null,"00:00:00"]
[null,null,0,null,null,null,"00:00:00"]
[null,null,0,null,null,null,"00:00:00"]
[null,null,0,null,null,null,"00:00:00"]
[null,null,0,null,null,null,"00:00:00"]
[null,null,0,null,null,null,"00:00:00"]
[null,null,0,null,null,null,"00:00:00"]
[null,null,0,null,null,null,"00:00:00"]
[null,null,0,null,null,null,"00:00:00"]
[null,null,0,null,null,null,"00:00:00"]
[null,null,0,null,null,null,"00:00:00"]
[null,null,0,null,null,null,"00:00:00"]
[null,null,0,null,null,null,"00:00:00"]
[null,null,0,null,null,null,"00:00:00"]
[null,null,0,null,null,null,"00:00:00"]
[null,null,0,null,null,null,"00:00:00"]
[null,null,0,null,null,null,"00:00:00"]
[null,null,0,null,null,null,"00:00:00"]
[null,null,0,null,null,null,"00:00:00"]
[null,null,0,null,null,null,"00:00:00"]
[null,null,0,null,null,null,"00:00:00"]
[null,null,0,null,null,null,"00:00:00"]
[null,null,0,null,null,null,"00:00:00"]
[null,null,0,null,null,null,"00:00:00"]
[null,null,0,null,null,null,"00:00:00"]
[null,null,0,null,null,null,"00:00:00"]
[null,null,0,null,null,null,"00:00:00"]
[null,null,0,null,null,null,"00:00:00"]
[null,null,0,null,null,null,"00:00:00"]
[null,null,0,null,null,null,"00:00:00"]
[null,null,0,null,null,null,"00:00:00"]
[null,null,0,null,null,null,"00:00:00"]
[null,null,0,null,null,null,"00:00:00"]
[null,null,0,null,null,null,"00:00:00"]
[null,null,0,null,null,null,"00:00:00"]
[null,null,0,null,null,null,"00:00:00"]
[null,null,0,null,null,null,"00:00:00"]
[null,null,0,null,null,null,"00:00:00"]
[null,null,0,null,null,null,"00:00:00"]
[null,null,0,null,null,null,"00:00:00"]
[null,null,0,null,null,null,"00:00:00"]
[null,null,0,null,null,null,"00:00:00"]
[null,null,0,null,null,null,"00:00:00"]
[null,null,0,null,null,null,"00:00:00"]
[null,null,0,null,null,null,"00:00:00"]
[null,null,0,null,null,null,"00:00:00"]
[null,null,0,null,null,null,"00:00:00"]
[null,null,0,null,null,null,"00:00:00"]
[null,null,0,null,null,null,"00:00:00"]
[null,null,0,null,null,null,"00:00:00"]
[null,null,0,null,null,null,"00:00:00"]
[null,null,0,null,null,null,"00:00:00"]
[null,null,0,null,null,null,"00:00:00"]
[null,null,0,null,null,null,"00:00:00"]
[null,null,0,null,null,null,"00:00:00"]
[null,null,0,null,null,null,"00:00:00"]
[null,null,0,null,null,null,"00:00:00"]
[null,null,0,null,null,null,"00:00:00"]
[null,null,0,null,null,null,"00:00:00"]
[null,null,0,null,null,null,"00:00:00"]
[null,null,0,null,null,null,"00:00:00"]
[null,null,0,null,null,null,"00:00:00"]
[null,null,0,null,null,null,"00:00:00"]
[null,null,0,null,null,null,"00:00:00"]
[null,null,0,null,null,null,"00:00:00"]
[null,null,0,null,null,null,"00:00:00"]
[null,null,0,null,null,null,"00:00:00"]
[null,null,0,null,null,null,"00:00:00"]
[null,null,0,null,null,null,"00:00:00"]
[null,null,0,null,null,null,"00:00:00"]
[null,null,0,null,null,null,"00:00:00"]
[null,null,0,null,null,null,"00:00:00"]
[null,null,0,null,null,null,"00:00:00"]
[null,null,0,null,null,null,"00:00:00"]
[null,null,0,null,null,null,"00:00:00"]
[null,null,0,null,null,null,"00:00:00"]
[null,null,0,null,null,null,"00:00:00"]
[null,null,0,null,null,null,"00:00:00"]
[null,null,0,null,null,null,"00:00:00"]
[null,null,0,null,null,null,"00:00:00"]
[null,null,0,null,null,null,"00:00:00"]
[null,null,0,null,null,null,"00:00:00"]
[null,null,0,null,null,null,"00:00:00"]
[null,null,0,null,null,null,"00:00:00"]
[null,null,0,null,null,null,"00:00:00"]
[null,null,0,null,null,null,"00:00:00"]
[null,null,0,null,null,null,"00:00:00"]
[null,null,0,null,null,null,"00:00:00"]
[null,null,0,null,null,null,"00:00:00"]
[null,null,0,null,null,null,"00:00:00"]
[null,null,0,null,null,null,"00:00:00"]
[null,null,0,null,null,null,"00:00:00"]
[null,null,0,null,null,null,"00:00:00"]
[null,null,0,null,null,null,"00:00:00"]
[null,null,0,null,null,null,"00:00:00"]
[null,null,0,null,null,null,"00:00:00"]
[null,null,0,null,null,null,"00:00:00"]
[null,null,0,null,null,null,"00:00:00"]
[null,null,0,null,null,null,"00:00:00"]
[null,null,0,null,null,null,"00:00:00"]
[null,null,0,null,null,null,"00:00:00"]
[null,null,0,null,null,null,"00:00:00"]
[null,null,0,null,null,null,"00:00:00"]
[null,null,0,null,null,null,"00:00:00"]
[null,null,0,null,null,null,"00:00:00"]
[null,null,0,null,null,null,"00:00:00"]
[null,null,0,null,null,null,"00:00:00"]
[null,null,0,null,null,null,"00:00:00"]
[null,null,0,null,null,null,"00:00:00"]
[null,null,0,null,null,null,"00:00:00"]
[null,null,0,null,null,null,"00:00:00"]
[null,null,0,null,null,null,"00:00:00"]
[null,null,0,null,null,null,"00:00:00"]
[null,null,0,null,null,null,"00:00:00"]
[null,null,0,null,null,null,"00:00:00"]
[null,null,0,null,null,null,"00:00:00"]
[null,null,0,null,null,null,"00:00:00"]
[null,null,0,null,null,null,"00:00:00"]
[null,null,0,null,null,null,"00:00:00"]
[null,null,0,null,null,null,"00:00:00"]
[null,null,0,null,null,null,"00:00:00"]
[null,null,0,null,null,null,"00:00:00"]
[null,null,0,null,null,null,"00:00:00"]
[null,null,0,null,null,null,"00:00:00"]
[null,null,0,null,null,null,"00:00:00"]
[null,null,0,null,null,null,"00:00:00"]
[null,null,0,null,null,null,"00:00:00"]
[null,null,0,null,null,null,"00:00:00"]
[null,null,0,null,null,null,"00:00:00"]
[null,null,0,null,null,null,"00:00:00"]
[null,null,0,null,null,null,"00:00:00"]
[null,null,0,null,null,null,"00:00:00"]
[null,null,0,null,null,null,"00:00:00"]
[null,null,0,null,null,null,"00:00:00"]
[null,null,0,null,null,null,"00:00:00"]
[null,null,0,null,null,null,"00:00:00"]
[null,null,0,null,null,null,"00:00:00"]
[null,null,0,null,null,null,"00:00:00"]
[null,null,0,null,null,null,"00:00:00"]
[null,null,0,null,null,null,"00:00:00"]
[null,null,0,null,null,null,"00:00:00"]
[null,null,0,null,null,null,"00:00:00"]
[null,null,0,null,null,null,"00:00:00"]
[null,null,0,null,null,null,"00:00:00"]
[null,null,0,null,null,null,"00:00:00"]
[null,null,0,null,null,null,"00:00:00"]
[null,null,0,null,null,null,"00:00:00"]
[null,null,0,null,null,null,"00:00:00"]
[null,null,0,null,null,null,"00:00:00"]
[null,null,0,null,null,null,"00:00:00"]
[null,null,0,null,null,null,"00:00:00"]
[null,null,0,null,null,null,"00:00:00"]
[null,null,0,null,null,null,"00:00:00"]
[null,null,0,null,null,null,"00:00:00"]
[null,null,0,null,null,null,"00:00:00"]
[null,null,0,null,null,null,"00:00:00"]
[null,null,0,null,null,null,"00:00:00"]
[null,null,0,null,null,null,"00:00:00"]
[null,null,0,null,null,null,"00:00:00"]
[null,null,0,null,null,null,"00:00:00"]
[null,null,0,null,null,null,"00:00:00"]
[null,null,0,null,null,null,"00:00:00"]
[null,null,0,null,null,null,"00:00:00"]
[null,null,0,null,null,null,"00:00:00"]
[null,null,0,null,null,null,"00:00:00"]
[null,null,0,null,null,null,"00:00:00"]
[null,null,0,null,null,null,"00:00:00"]
[null,null,0,null,null,null,"00:00:00"]
[null,null,0,null,null,null,"00:00:00"]
[null,null,0,null,null,null,"00:00:00"]
[null,null,0,null,null,null,"00:00:00"]
[null,null,0,null,null,null,"00:00:00"]
[null,null,0,null,null,null,"00:00:00"]
[null,null,0,null,null,null,"00:00:00"]
[null,null,0,null,null,null,"00:00:00"]
[null,null,0,null,null,null,"00:00:00"]
[null,null,0,null,null,null,"00:00:00"]
[null,null,0,null,null,null,"00:00:00"]
[null,null,0,null,null,null,"00:00:00"]
[null,null,0,null,null,null,"00:00:00"]
[null,null,0,null,null,null,"00:00:00"]
[null,null,0,null,null,null,"00:00:00"]
[null,null,0,null,null,null,"00:00:00"]
[null,null,0,null,null,null,"00:00:00"]
[null,null,0,null,null,null,"00:00:00"]
[null,null,0,null,null,null,"00:00:00"]
[null,null,0,null,null,null,"00:00:00"]
[null,null,0,null,null,null,"00:00:00"]
[null,null,0,null,null,null,"00:00:00"]
[null,null,0,null,null,null,"00:00:00"]
[null,null,0,null,null,null,"00:00:00"]
[null,null,0,null,null,null,"00:00:00"]
[null,null,0,null,null,null,"00:00:00"]
[null,null,0,null,null,null,"00:00:00"]
[null,null,0,null,null,null,"00:00:00"]
[null,null,0,null,null,null,"00:00:00"]
[null,null,0,null,null,null,"00:00:00"]
[null,null,0,null,null,null,"00:00:00"]
[null,null,0,null,null,null,"00:00:00"]
[null,null,0,null,null,null,"00:00:00"]
[null,null,0,null,null,null,"00:00:00"]
[null,null,0,null,null,null,"00:00:00"]
[null,null,0,null,null,null,"00:00:00"]
[null,null,0,null,null,null,"00:00:00"]
[null,null,0,null,null,null,"00:00:00"]
[null,null,0,null,null,null,"00:00:00"]
[null,null,0,null,null,null,"00:00:00"]
[null,null,0,null,null,null,"00:00:00"]
[null,null,0,null,null,null,"00:00:00"]
[null,null,0,null,null,null,"00:00:00"]
[null,null,0,null,null,null,"00:00:00"]
[null,null,0,null,null,null,"00:00:00"]
[null,null,0,null,null,null,"00:00:00"]
[null,null,0,null,null,null,"00:00:00"]
[null,null,0,null,null,null,"00:00:00"]
[null,null,0,null,null,null,"00:00:00"]
[null,null,0,null,null,null,"00:00:00"]
[null,null,0,null,null,null,"00:00:00"]
[null,null,0,null,null,null,"00:00:00"]
[null,null,0,null,null,null,"00:00:00"]
[null,null,0,null,null,null,"00:00:00"]
[null,null,0,null,null,null,"00:00:00"]
[null,null,0,null,null,null,"00:00:00"]
[null,null,0,null,null,null,"00:00:00"]
[null,null,0,null,null,null,"00:00:00"]
[null,null,0,null,null,null,"00:00:00"]
[null,null,0,null,null,null,"00:00:00"]
[null,null,0,null,null,null,"00:00:00"]
[null,null,0,null,null,null,"00:00:00"]
[null,null,0,null,null,null,"00:00:00"]
[null,null,0,null,null,null,"00:00:00"]
[null,null,0,null,null,null,"00:00:00"]
[null,null,0,null,null,null,"00:00:00"]
[null,null,0,null,null,null,"00:00:00"]
[null,null,0,null,null,null,"00:00:00"]
[null,null,0,null,null,null,"00:00:00"]
[null,null,0,null,null,null,"00:00:00"]
[null,null,0,null,null,null,"00:00:00"]
[null,null,0,null,null,null,"00:00:00"]
[null,null,0,null,null,null,"00:00:00"]
[null,null,0,null,null,null,"00:00:00"]
[null,null,0,null,null,null,"00:00:00"]
[null,null,0,null,null,null,"00:00:00"]
[null,null,0,null,null,null,"00:00:00"]
[null,null,0,null,null,null,"00:00:00"]
[null,null,0,null,null,null,"00:00:00"]
[null,null,0,null,null,null,"00:00:00"]
[null,null,0,null,null,null,"00:00:00"]
[null,null,0,null,null,null,"00:00:00"]
[null,null,0,null,null,null,"00:00:00"]
[null,null,0,null,null,null,"00:00:00"]
[null,null,0,null,null,null,"00:00:00"]
[null,null,0,null,null,null,"00:00:00"]
[null,null,0,null,null,null,"00:00:00"]
[null,null,0,null,null,null,"00:00:00"]
[null,null,0,null,null,null,"00:00:00"]
[null,null,0,null,null,null,"00:00:00"]
[null,null,0,null,null,null,"00:00:00"]
[null,null,0,null,null,null,"00:00:00"]
[null,null,0,null,null,null,"00:00:00"]
[null,null,0,null,null,null,"00:00:00"]
[null,null,0,null,null,null,"00:00:00"]
[null,null,0,null,null,null,"00:00:00"]
[null,null,0,null,null,null,"00:00:00"]
[null,null,0,null,null,null,"00:00:00"]
[null,null,0,null,null,null,"00:00:00"]
[null,null,0,null,null,null,"00:00:00"]
[null,null,0,null,null,null,"00:00:00"]
[null,null,0,null,null,null,"00:00:00"]
[null,null,0,null,null,null,"00:00:00"]
[null,null,0,null,null,null,"00:00:00"]
[null,null,0,null,null,null,"00:00:00"]
[null,null,0,null,null,null,"00:00:00"]
[null,null,0,null,null,null,"00:00:00"]
[null,null,0,null,null,null,"00:00:00"]
[null,null,0,null,null,null,"00:00:00"]
[null,null,0,null,null,null,"00:00:00"]
[null,null,0,null,null,null,"00:00:00"]
[null,null,0,null,null,null,"00:00:00"]
[null,null,0,null,null,null,"00:00:00"]
[null,null,0,null,null,null,"00:00:00"]
[null,null,0,null,null,null,"00:00:00"]
[null,null,0,null,null,null,"00:00:00"]
[null,null,0,null,null,null,"00:00:00"]
[null,null,0,null,null,null,"00:00:00"]
[null,null,0,null,null,null,"00:00:00"]
[null,null,0,null,null,null,"00:00:00"]
[null,null,0,null,null,null,"00:00:00"]
[null,null,0,null,null,null,"00:00:00"]
[null,null,0,null,null,null,"00:00:00"]
[null,null,0,null,null,null,"00:00:00"]
[null,null,0,null,null,null,"00:00:00"]
[null,null,0,null,null,null,"00:00:00"]
[null,null,0,null,null,null,"00:00:00"]
[null,null,0,null,null,null,"00:00:00"]
[null,null,0,null,null,null,"00:00:00"]
[null,null,0,null,null,null,"00:00:00"]
[null,null,0,null,null,null,"00:00:00"]
[null,null,0,null,null,null,"00:00:00"]
[null,null,0,null,null,null,"00:00:00"]
[null,null,0,null,null,null,"00:00:00"]
[null,null,0,null,null,null,"00:00:00"]
[null,null,0,null,null,null,"00:00:00"]
[null,null,0,null,null,null,"00:00:00"]
[null,null,0,null,null,null,"00:00:00"]
[null,null,0,null,null,null,"00:00:00"]

{"sheet":"Norms","index":6,"n_rows":92,"n_cols":2,"rows_kept":92,"cut":false,"hidden":false,"merged":[]}
["Test position","%BW"]
["Shoulder"]
[]
["90* Abduction, HHD proximal to elbow",19.586426782402128]
["90* Abduction, HHD at wrist",14.500766073898959]
[]
["Flexion @ 0*",28.199990696958896]
["Flexion @ 90*",16.673242669081429]
["Flexion @180*",12.046397751967318]
[]
["IR @ 0*",23.720809779467722]
["IR @ 45* ABD",22.595865420396738]
["IR @ 90/0",24.205622042469322]
["IR @ 90/90*",14.029281951150207]
[]
["ER @ 0*",17.654068236210126]
["ER @ 45* Abd",19.639529436899576]
["ER @ 90/0",20.191029146336447]
["ER @ 90/90",14.328593523476883]
[]
["Extension @ Neutral",21.72579579009026]
["Extension @ 90*",18.482073344993651]
["Extension @ 180*",13.233620957636104]
[]
["Scapular Elevation",34.333953940311254]
[]
["Scapular Protraction",37.894673088846865]
[]
["Y",10.264308465918946]
["Elbow"]
[]
["Extension, shoulder @ 0*",20.230616554295164]
["Extension, shoulder @ 90* flex",19.271068922011256]
[]
["Flexion shoulder @ 0*",26.423583246888715]
["Flexion shoulder @ 90* flexion",22.901948510753677]
["Wrist"]
[]
["Extension @ 0*",15.875430988828587]
[]
["Flexion @ 0*",14.305414192529916]
["Hip"]
[]
["Flexion @ 90*",26.871277515675132]
[]
["Extension, HHD at ankle",24.288427061602775]
["Extension, HHD proximal to knee",26.193838537769569]
["Extension, hip in 30-90* flexion",45.399645589909255]
[]
["Abduction between 0-20*, short lever",32.255144058796638]
["Abduction 30* abduction",36.778510602718505]
["Abduction 0-20*, long lever",22.864016806012778]
[]
["Adduction @ 0* short lever",33.907982305138695]
["Adduction @ 0* long lever",20.689066545914461]
[]
["IR seated @ 90*",15.457603591645057]
["IR hip extended",16.490609908293845]
[]
["ER seated @ 90",16.995132290445877]
["ER Prone",17.071274810551728]
["Knee"]
[]
["Extension @ 90*",52.793772451306751]
[]
["Flexion near 0*",38.115629908573631]
["Flexion @ 90*",36.03719026185739]
["Ankle"]
[]
["PF with external fixation",180]
[]
["Dorsi Flexion @ 0*",30.910176718264843]
[]
["Eversion @ 0*",16.732283455665176]
[]
["Inversion @ 0*",22.390194558826625]
["Cervical"]
[]
["Cervical Flexion",17.014565915016806]
[]
["Cervical Extension",30.15660547593183]
[]
["Cervical SideBend",23.878420083351131]
[]
["IMTP",200]
[]
[]
[]
[]
[]
[9.8066499999999994]
[4.4821999999999997]