{"text_format":"1","workbook":"xlsx","n_sheets":5,"sheets":["キャラメイク","行動スキル","セッション進行表","リスト","凡例"],"not_rendered":{"charts":0,"images":0,"macros":0,"external_links":0,"defined_names":0,"comments":0,"pivot_tables":0},"unopened":[],"bounds":{"document_bytes":16777216,"sheet_cells":100000,"rows_first":2000,"rows_last":500,"rows_between":2000,"halvings":0,"cell_chars":16384,"cell_head_chars":4096},"cells_cut":0,"cells_raw":0,"read":"whole","date_system":"1900"}

{"sheet":"キャラメイク","index":0,"n_rows":104,"n_cols":13,"rows_kept":104,"cut":false,"hidden":false,"merged":[[100,7,100,8],[100,9,100,12],[101,7,101,8],[101,9,101,12],[102,7,102,8],[102,9,102,12],[103,7,103,8],[103,9,103,12],[1,1,8,1],[1,3,2,4],[7,5,8,5],[7,3,8,4],[7,6,8,7],[1,2,2,2],[3,3,4,7],[82,1,84,1],[82,2,82,3],[82,6,82,7],[83,2,84,3],[83,4,84,4],[83,5,84,5],[83,6,84,7],[50,1,74,1],[50,3,50,4],[65,3,66,4],[65,5,66,5],[65,6,66,6],[39,3,40,3],[39,4,40,4],[39,5,40,5],[51,3,52,4],[51,5,52,5],[98,7,98,12],[63,6,64,6],[63,7,64,7],[63,8,64,11],[67,8,68,11],[61,8,62,11],[65,7,66,7],[65,8,66,11],[41,9,42,9],[41,10,42,10],[41,11,42,11],[39,8,40,8],[39,9,40,9],[39,10,40,10],[39,11,40,11],[63,5,64,5],[99,7,99,8],[71,5,72,5],[71,6,72,6],[71,7,72,7],[71,8,72,11],[79,1,80,1],[79,2,80,3],[79,4,80,5],[79,6,80,7],[79,8,80,9],[79,10,80,11],[76,1,77,1],[76,2,77,3],[76,4,77,5],[76,6,77,7],[76,8,77,9],[76,10,77,11],[99,9,99,12],[85,7,85,12],[91,9,91,10],[92,9,92,10],[65,2,66,2],[86,2,96,6],[86,1,96,1],[73,7,74,7],[73,8,74,11],[71,2,72,2],[71,3,72,4],[42,2,43,2],[42,3,43,3],[42,4,43,4],[42,5,43,5],[50,8,50,11],[51,2,52,2],[69,2,70,2],[69,3,70,4],[69,5,70,5],[69,6,70,6],[69,7,70,7],[69,8,70,11],[67,2,68,2],[67,3,68,4],[67,5,68,5],[67,6,68,6],[67,7,68,7],[53,8,54,11],[55,6,56,6],[55,7,56,7],[61,2,62,2],[61,3,62,4],[61,5,62,5],[61,6,62,6],[61,7,62,7],[55,5,56,5],[59,2,60,2],[59,3,60,4],[59,5,60,5],[59,6,60,6],[59,7,60,7],[59,8,60,11],[53,2,54,2],[53,3,54,4],[53,5,54,5],[55,2,56,2],[55,3,56,4],[46,1,47,1],[46,2,47,2],[46,3,47,3],[46,4,47,5],[48,1,49,1],[48,2,49,2],[48,3,49,3],[48,4,49,4],[48,5,49,5],[37,8,38,8],[37,9,38,9],[37,10,38,10],[37,11,38,11],[33,8,34,8],[73,2,74,2],[73,3,74,4],[73,5,74,5],[73,6,74,6],[51,6,52,6],[51,7,52,7],[51,8,52,11],[55,8,56,11],[57,2,58,2],[57,3,58,4],[57,5,58,5],[57,6,58,6],[57,7,58,7],[57,8,58,11],[53,6,54,6],[53,7,54,7],[48,6,49,6],[63,2,64,2],[63,3,64,4],[101,1,101,2],[101,3,101,6],[48,7,49,7],[48,8,49,8],[48,9,49,9],[48,10,49,10],[48,11,49,11],[41,8,42,8],[24,7,42,7],[35,8,36,8],[25,8,26,8],[25,9,26,9],[25,10,26,10],[25,11,26,11],[27,8,28,8],[27,9,28,9],[35,2,36,2],[35,3,36,3],[35,4,36,4],[35,5,36,5],[37,2,38,2],[37,3,38,3],[37,4,38,4],[37,5,38,5],[7,2,8,2],[13,2,14,2],[13,3,14,3],[102,1,102,2],[102,3,102,6],[103,1,103,2],[103,3,103,6],[98,1,98,6],[99,1,99,2],[99,3,99,6],[11,2,12,2],[11,3,12,3],[100,1,100,2],[100,3,100,6],[24,1,40,1],[10,1,22,1],[27,5,28,5],[29,2,30,2],[29,3,30,3],[29,4,30,4],[29,5,30,5],[39,2,40,2],[31,5,32,5],[42,1,43,1],[15,3,16,3],[17,2,18,2],[17,3,18,3],[19,2,20,2],[19,3,20,3],[19,4,20,4],[21,2,22,2],[21,3,22,3],[21,4,22,4],[5,2,6,2],[5,3,6,3],[5,4,6,4],[5,5,6,5],[1,10,22,10],[1,11,22,15],[33,5,34,5],[29,8,30,8],[29,9,30,9],[29,10,30,10],[29,11,30,11],[31,8,32,8],[31,9,32,9],[31,10,32,10],[31,11,32,11],[27,10,28,10],[27,11,28,11],[3,2,4,2],[5,6,6,6],[5,7,6,7],[27,2,28,2],[27,3,28,3],[27,4,28,4],[15,2,16,2],[35,9,36,9],[33,9,34,9],[33,10,34,10],[33,11,34,11],[25,2,26,2],[25,3,26,3],[25,4,26,4],[31,2,32,2],[25,5,26,5],[33,2,34,2],[33,3,34,3],[33,4,34,4],[31,3,32,3],[31,4,32,4],[35,10,36,10],[35,11,36,11]]}
[]
[null,"プロフィール","プレイヤー名",null,null,null,null,null,null,null,"キャラクター\nイラスト"]
[]
[null,null,"プレイヤー\nキャラクター名"]
[]
[null,null,"階梯",1,"性別",null,"年齢"]
[]
[null,null,"職業",null,null,"出身地域"]
[]
[]
[null,"パラメータ","項目","基礎値",null,null,"階梯","パラメータ合計"]
[null,null,"力業",1,null,null,1,20]
[null,null,null,null,null,null,2,22]
[null,null,"霊力",1,null,null,3,24]
[null,null,null,null,null,null,4,26]
[null,null,"天賦",1,null,null,5,28]
[null,null,null,null,null,null,6,30]
[null,null,"技量",1,null,null,7,32]
[null,null,null,null,null,null,8,34]
[null,null,"知恵",1,"合計",null,9,36]
[null,null,null,null,null,null,10,38]
[null,null,"速度",1,{"$f":"SUM(D12:D22)","v":6}]
[]
[]
[null,"戦闘\nステータス","項目","基礎値","ボーナス","計",null,"技能\nステータス","項目","基礎値","ボーナス","計"]
[null,null,"体力",{"$f":"D12*3+20","v":23},null,{"$f":"D26+E26","v":23},null,null,"運動力",{"$f":"ROUNDDOWN((D12+D18)/3,0)","v":0},null,{"$f":"J26+K26","v":0}]
[]
[null,null,"精気",{"$f":"D14+D16+10","v":12},null,{"$f":"D28+E28","v":12},null,null,"洞察力",{"$f":"ROUNDDOWN((D14+D20)/3,0)","v":0},null,{"$f":"J28+K28","v":0}]
[]
[null,null,"加護",{"$f":"ROUNDDOWN(D16/2,0)","v":0},null,{"$f":"D30+E30","v":0},null,null,"隠密",{"$f":"ROUNDDOWN((D18+D22)/3,0)","v":0},null,{"$f":"J30+K30","v":0}]
[]
[null,null,"呪力",{"$f":"ROUNDDOWN((D14+D22)/3,0)","v":0},null,{"$f":"D32+E32","v":0},null,null,"察知",{"$f":"ROUNDDOWN((D14+D22)/3,0)","v":0},null,{"$f":"J32+K32","v":0}]
[]
[null,null,"命中",{"$f":"ROUNDDOWN((D18+D12)/3,0)","v":0},null,{"$f":"D34+E34","v":0},null,null,"霊的技術",{"$f":"ROUNDDOWN((D14+D18)/3,0)","v":0},null,{"$f":"J34+K34","v":0}]
[]
[null,null,"回避",{"$f":"ROUNDDOWN((D20+D22)/3,0)","v":0},null,{"$f":"D36+E36","v":0},null,null,"魔術知識",{"$f":"ROUNDDOWN((D16+D14)/3,0)","v":0},null,{"$f":"J36+K36","v":0}]
[]
[null,null,"行動値",{"$f":"ROUNDDOWN(D22+D20/2,0)","v":1},null,{"$f":"D38+E38","v":1},null,null,"一般知識",{"$f":"ROUNDDOWN((D20+D16)/3,0)","v":0},null,{"$f":"J38+K38","v":0}]
[]
[null,null,"財産点",{"$f":"ROUNDDOWN((D16+D20)/2,0)","v":1},null,{"$f":"D40+E40","v":1},null,null,"話術",{"$f":"ROUNDDOWN((D16+D18)/3,0)","v":0},null,{"$f":"J40+K40","v":0}]
[]
[null,null,null,null,null,null,null,null,"機敏さ",{"$f":"ROUNDDOWN((D20+D22)/3,0)","v":0},null,{"$f":"J42+K42","v":0}]
[null,"魂階上限","魂階",3,null,{"$f":"D43+E43","v":3}]
[]
[]
[]
[null,"宗派",{"$f":"IF((0+IF(C49=\"\",0,1)+IF(D49=\"\",0,1)+IF(E49=\"\",0,1)+IF(F49=\"\",0,1)+IF(G49=\"\",0,1)+IF(H49=\"\",0,1)+IF(I49=\"\",0,1)+IF(J49=\"\",0,1)+IF(K49=\"\",0,1)+IF(L49=\"\",0,1))=0,\"\",\nIF((0+IF(C49=\"\",0,1)+IF(D49=\"\",0,1)+IF(E49=\"\",0,1)+IF(F49=\"\",0,1)+IF(G49=\"\",0,1)+IF(H49=\"\",0,1)+IF(I49=\"\",0,1)+IF(J49=\"\",0,1)+IF(K49=\"\",0,1)+IF(L49=\"\",0,1))=1,\"純派\",\nIF((0+IF(C49=\"\",0,1)+IF(D49=\"\",0,1)+IF(E49=\"\",0,1)+IF(F49=\"\",0,1)+IF(G49=\"\",0,1)+IF(H49=\"\",0,1)+IF(I49=\"\",0,1)+IF(J49=\"\",0,1)+IF(K49=\"\",0,1)+IF(L49=\"\",0,1))=2,\"双派\",\n\"雑派\")))","v":""},"レゾン","　"]
[]
[null,"魔術系統"]
[]
[null,"魔術スキル","レベル（Lv）","スキル名",null,"消費","タイミング","対象","効果"]
[]
[]
[]
[]
[]
[]
[]
[]
[]
[]
[]
[]
[]
[]
[]
[]
[]
[]
[]
[]
[]
[]
[]
[]
[]
[null,"装備"]
[]
[]
[null,"消費アイテム"]
[]
[]
[null,"武器","レンジ/武具/属性",null,"素攻撃力","補正値","合計(武器攻撃力)"]
[null,null,"近/拳/無",null,{"$f":"VLOOKUP(C84,リスト!A2:C35,2,0)","v":"1d6"}]
[]
[null,null,null,null,null,null,null,"経験点計算表"]
[null,"プレイヤー\nキャラクター\n背景説明",null,null,null,null,null,"魔術スキル","階梯","フレーバー","武器取得","雑派ボーナス","初期経験値"]
[null,null,null,null,null,null,null,{"$f":"SUM(リスト!H3:H14)","v":0},{"$f":"0+IF(D6=2,10,0)+IF(D6=3,30,0)+IF(D6=4,60,0)+IF(D6=5,100,0)+IF(D6=6,150,0)+IF(D6=7,210,0)+IF(D6=8,280,0)+IF(D6=9,360,0)+IF(D6=10,450,0)","v":0},{"$f":"IF((IF(B100=\"―\",0,1)+IF(B101=\"―\",0,1)+IF(B102=\"―\",0,1)+IF(B103=\"―\",0,1)+IF(B104=\"―\",0,1))>2,\n(IF(B100=\"―\",0,1)+IF(B101=\"―\",0,1)+IF(B102=\"―\",0,1)+IF(B103=\"―\",0,1)+IF(B104=\"―\",0,1))*5-10,0)+\nIF((IF(H100=\"―\",0,1)+IF(H101=\"―\",0,1)+IF(H102=\"―\",0,1)+IF(H103=\"―\",0,1)+IF(H104=\"―\",0,1))>2,\n(IF(H100=\"―\",0,1)+IF(H101=\"―\",0,1)+IF(H102=\"―\",0,1)+IF(H103=\"―\",0,1)+IF(H104=\"―\",0,1))*5-10,0)","v":0},{"$f":"VLOOKUP(C84,リスト!A2:C35,3,0)","v":0},{"$f":"IF(C47=\"雑派\",20,0)","v":0},130]
[null,null,null,null,null,null,null,"消費アイテム","装備","その他","喪失経験値","取得経験値","最終合計"]
[null,null,null,null,null,null,null,0,0,0,0,0,{"$f":"(M88+L88+L90)-(H88+I88+J88+K88+H90+I90+J90+K90)","v":130}]
[]
[null,null,null,null,null,null,null,null,null,"の欄は自動計算"]
[null,null,null,null,null,null,null,null,null,"の欄は自己記入"]
[]
[]
[]
[]
[]
[null,"フレーバースキル",null,null,null,null,null,"フレーバーアイテム"]
[null,"―",null,null,null,null,null,"―"]
[null,"―",null,null,null,null,null,"―"]
[null,"―",null,null,null,null,null,"―"]
[null,"―",null,null,null,null,null,"―"]
[null,"―",null,null,null,null,null,"―"]

{"sheet":"行動スキル","index":1,"n_rows":112,"n_cols":10,"rows_kept":112,"cut":false,"hidden":false,"merged":[[107,1,107,9],[108,1,110,1],[108,2,110,9],[111,1,111,2],[111,3,111,9],[99,1,99,9],[100,1,102,1],[100,2,102,9],[103,1,103,2],[103,3,103,9],[105,1,106,5],[105,6,105,7],[106,6,106,7],[91,1,91,9],[92,1,94,1],[92,2,94,9],[95,1,95,2],[95,3,95,9],[97,1,98,5],[97,6,97,7],[98,6,98,7],[83,1,83,9],[84,1,86,1],[84,2,86,9],[87,1,87,2],[87,3,87,9],[89,1,90,5],[89,6,89,7],[90,6,90,7],[75,1,75,9],[76,1,78,1],[76,2,78,9],[79,1,79,2],[79,3,79,9],[81,1,82,5],[81,6,81,7],[82,6,82,7],[67,1,67,9],[68,1,70,1],[68,2,70,9],[71,1,71,2],[71,3,71,9],[73,1,74,5],[73,6,73,7],[74,6,74,7],[59,1,59,9],[60,1,62,1],[60,2,62,9],[63,1,63,2],[63,3,63,9],[65,1,66,5],[65,6,65,7],[66,6,66,7],[51,1,51,9],[52,1,54,1],[52,2,54,9],[55,1,55,2],[55,3,55,9],[57,1,58,5],[57,6,57,7],[58,6,58,7],[43,1,43,9],[44,1,46,1],[44,2,46,9],[47,1,47,2],[47,3,47,9],[49,1,50,5],[49,6,49,7],[50,6,50,7],[35,1,35,9],[36,1,38,1],[36,2,38,9],[39,1,39,2],[39,3,39,9],[41,1,42,5],[41,6,41,7],[42,6,42,7],[27,1,27,9],[28,1,30,1],[28,2,30,9],[31,1,31,2],[31,3,31,9],[33,1,34,5],[33,6,33,7],[34,6,34,7],[19,1,19,9],[20,1,22,1],[20,2,22,9],[23,1,23,2],[23,3,23,9],[25,1,26,5],[25,6,25,7],[26,6,26,7],[12,1,14,1],[12,2,14,9],[15,1,15,2],[15,3,15,9],[17,1,18,5],[17,6,17,7],[18,6,18,7],[7,1,7,2],[7,3,7,9],[9,1,10,5],[9,6,9,7],[10,6,10,7],[11,1,11,9],[1,1,2,5],[1,6,1,7],[2,6,2,7],[3,1,3,9],[4,1,6,1],[4,2,6,9]]}
[]
[null,"回　信念奮起",null,null,null,null,"消費",null,"タイミング","対象"]
[null,null,null,null,null,null,"なし",null,"下記参照","自身"]
[null,"人間に存在意義、存在理由など端から在りはしない。考え続け、生きなければならない。"]
[null,"効果","対象が選択しているレゾンに沿ってRPを行う、又は行っておく。\nGMが「セッション中、レゾンに沿ったRPを行っていた」と判断した時、対象は魂階を１つ取得する。"]
[]
[]
[null,"【取得・使用条件】",null,"スキル取得なしで使用可能。セッション中２回まで。"]
[]
[null,"回　ヒーリング・マジック",null,null,null,null,"消費",null,"タイミング","対象"]
[null,null,null,null,null,null,"任意の財産点",null,"E","自身"]
[null,"簡易的な治癒の魔術を行使する。"]
[null,"効果","対象の体力を回復する。財産点１消費につき体力２回復。1回あたりの消費上限：財産点５。\n"]
[]
[]
[null,"【取得・使用条件】",null,"スキル取得なしで使用可能。"]
[]
[null,"回　瞑想",null,null,null,null,"消費",null,"タイミング","対象"]
[null,null,null,null,null,null,"魂階１",null,"BA","自身"]
[null,"しばし瞑想することで精気を回復する。"]
[null,"効果","対象は行動を放棄する代わりに精気２ｄ６回復。\n"]
[]
[]
[null,"【取得・使用条件】",null,"スキル取得なしで使用可能。"]
[]
[null,"回　蘇生",null,null,null,null,"消費",null,"タイミング","対象"]
[null,null,null,null,null,null,"魂階２",null,"T終了時","自身"]
[null,"瀕死状態から即時蘇生する。"]
[null,"効果","対象の体力が０以下になった時に使用可能。\n体力を０まで戻し、そこから４ｄ６分回復。瀕死状態から回復します。"]
[]
[]
[null,"【取得・使用条件】",null,"スキル取得なしで使用可能。"]
[]
[null,"補　解呪（ディスペル）",null,null,null,null,"消費",null,"タイミング","対象"]
[null,null,null,null,null,null,"魂階１",null,"BA/E","自身"]
[null,"己の魂の一片を消費し、災厄を祓う。"]
[null,"効果","対象の状態異常を１つ解除する。ＢＡ使用時はこのスキルを使用してからターンを行ってよい。\n"]
[]
[]
[null,"【取得・使用条件】",null,"スキル取得なしで使用可能。"]
[]
[null,"補　力量判断",null,null,null,null,"消費",null,"タイミング","対象"]
[null,null,null,null,null,null,"なし",null,"I/BA","敵単体"]
[null,"魔術師として誰でも可能な技術。相手の力量が判れば百戦危うからず。"]
[null,"効果","対象と技能［魔術知識］対抗判定を行う。判定に成功した場合、敵のステータス及びスキルを開示する。\nどこまで開示するかはGMの判断に任せる。"]
[]
[]
[null,"【取得・使用条件】",null,"スキル取得なしで使用可能。"]
[]
[null,"補　離脱",null,null,null,null,"消費",null,"タイミング","対象"]
[null,null,null,null,null,null,"なし",null,"T開始時","敵全体"]
[null,"魔術師として誰でも可能な技術。撤退することも戦術である。"]
[null,"効果","対象と技能［機敏さ］対抗判定を行う。判定に勝利した場合、戦闘から離脱する。\n"]
[]
[]
[null,"【取得・使用条件】",null,"スキル取得なしで使用可能。"]
[]
[null,"補　手加減",null,null,null,null,"消費",null,"タイミング","対象"]
[null,null,null,null,null,null,"なし",null,"BA","自身"]
[null,"魔術師として誰でも可能な技術。時には力を加減する必要もある。"]
[null,"効果","対象が与える実ダメージを半減させる。\n"]
[]
[]
[null,"【取得・使用条件】",null,"スキル取得なしで使用可能。"]
[]
[null,"補　待機",null,null,null,null,"消費",null,"タイミング","対象"]
[null,null,null,null,null,null,"なし",null,"I","自身"]
[null,"魔術師として誰でも可能な技術。戦線は刻一刻と変化する。"]
[null,"効果","対象の行動値を無視してターンを一番最後に行う。対象以外がこのスキルを宣言した場合、味方であれば任意に順番を決めてよい。敵であればPL優先となる。"]
[]
[]
[null,"【取得・使用条件】",null,"スキル取得なしで使用可能。"]
[]
[null,"補　移動",null,null,null,null,"消費",null,"タイミング","対象"]
[null,null,null,null,null,null,"なし",null,"I/BA","自身"]
[null,"魔術師として誰でも可能な技術。戦線は刻一刻と変化する。"]
[null,"効果","対象を前衛又は後衛に配置する。\nI宣言時は精気消費なし。BA宣言時は精気２消費。"]
[]
[]
[null,"【取得・使用条件】",null,"スキル取得なしで使用可能。"]
[]
[null,"補　人払い",null,null,null,null,"消費",null,"タイミング","対象"]
[null,null,null,null,null,null,"なし",null,"任意","NPC"]
[null,"西洋東洋問わず在る、内と外を隔てる術。人払いの魔術を行使する。"]
[null,"効果","NPCを無力化する。どう無力化するかの演出は自由に決めて良い。\nただし一定以上魔術師としての素養を持つNPCやエネミーなどは無力化されない。"]
[]
[]
[null,"【取得・使用条件】",null,"スキル取得なしで使用可能。"]
[]
[null,"補　運命流転",null,null,null,null,"消費",null,"タイミング","対象"]
[null,null,null,null,null,null,"魂階１",null,"判定後","自身"]
[null,"万物、万象は流転する。状況は目まぐるしく変化する。\n如何なる場面に立たされようとも、魂を賭けて挑めばやり直せる。"]
[null,"効果","対象の判定を振り直す。対抗判定の場合は判定結果が出揃ってから振りなおすか決められる"]
[]
[]
[null,"【取得・使用条件】",null,"スキル取得なしで使用可能。判定後１回のみ使用可能。"]
[]
[null,"補　武器交換",null,null,null,null,"消費",null,"タイミング","対象"]
[null,null,null,null,null,null,"なし",null,"BA/BR","自身"]
[null,"魔術師として誰でも可能な技術。様々な武器が幅広い戦術を生むだろう。"]
[null,"効果","装備枠にある武器と武器枠にある武器を交換する。\n"]
[]
[]
[null,"【取得・使用条件】",null,"スキル取得なしで使用可能。"]
[]
[null,"物　武器攻撃",null,null,null,null,"消費",null,"タイミング","対象"]
[null,null,null,null,null,null,"なし",null,"BA","敵単体"]
[null,"霊気を宿した武器や拳で敵を討つ。"]
[null,"効果","自身の武器枠にある武器を使用して対象へ物理攻撃を行う。\n命中回避対抗判定を行い、判定に勝利すればダメージ判定を行う。"]
[]
[]
[null,"【取得・使用条件】",null,"スキル取得なしで使用可能。"]

{"sheet":"セッション進行表","index":2,"n_rows":33,"n_cols":10,"rows_kept":33,"cut":false,"hidden":false,"merged":[[25,7,26,7],[28,4,28,6],[29,4,29,6],[30,4,30,6],[31,4,31,6],[32,4,32,6],[31,1,31,3],[32,1,32,3],[27,4,27,6],[27,1,27,3],[28,1,28,3],[29,1,29,3],[30,1,30,3],[24,1,24,3],[24,5,24,6],[25,1,26,3],[25,4,26,4],[25,5,26,6],[21,1,21,2],[21,4,21,5],[22,1,22,2],[22,4,22,5],[22,7,23,7],[23,1,23,2],[23,4,23,5],[18,84,20,84],[19,1,20,1],[19,2,20,2],[19,3,20,3],[19,4,20,4],[19,5,20,5],[19,6,20,6],[19,7,20,7],[18,78,20,78],[18,79,20,79],[18,80,20,80],[18,81,20,81],[18,82,20,82],[18,83,20,83],[18,72,20,72],[18,73,20,73],[18,74,20,74],[18,75,20,75],[18,76,20,76],[18,77,20,77],[18,66,20,66],[18,67,20,67],[18,68,20,68],[18,69,20,69],[18,70,20,70],[18,71,20,71],[18,60,20,60],[18,61,20,61],[18,62,20,62],[18,63,20,63],[18,64,20,64],[18,65,20,65],[18,54,20,54],[18,55,20,55],[18,56,20,56],[18,57,20,57],[18,58,20,58],[18,59,20,59],[18,48,20,48],[18,49,20,49],[18,50,20,50],[18,51,20,51],[18,52,20,52],[18,53,20,53],[18,42,20,42],[18,43,20,43],[18,44,20,44],[18,45,20,45],[18,46,20,46],[18,47,20,47],[18,36,20,36],[18,37,20,37],[18,38,20,38],[18,39,20,39],[18,40,20,40],[18,41,20,41],[18,30,20,30],[18,31,20,31],[18,32,20,32],[18,33,20,33],[18,34,20,34],[18,35,20,35],[18,24,20,24],[18,25,20,25],[18,26,20,26],[18,27,20,27],[18,28,20,28],[18,29,20,29],[18,10,20,10],[18,11,20,11],[18,18,20,18],[18,19,20,19],[18,20,20,20],[18,21,20,21],[18,22,20,22],[18,23,20,23],[18,12,20,12],[18,13,20,13],[18,14,20,14],[18,15,20,15],[18,16,20,16],[18,17,20,17],[1,1,3,2],[1,3,3,5],[1,6,3,9],[4,1,16,2],[4,3,4,5],[5,3,5,5],[18,1,18,3],[18,4,18,6],[18,8,20,9],[15,3,15,5],[16,3,16,5],[6,3,6,5],[7,3,7,5],[8,3,8,5],[9,3,9,5],[10,3,10,5],[11,3,11,5],[12,3,12,5],[13,3,13,5],[14,3,14,5]]}
[]
[null,"名前",null,{"$f":"IF(キャラメイク!D4=\"\",\"\",キャラメイク!D4)","v":""},null,null,"memo"]
[]
[]
[null,"スキル",null,"名前",null,null,"精気","タイミング","対象","level"]
[null,null,null,{"$f":"IF(キャラメイク!D52=\"\",\"\",キャラメイク!D52)","v":""},null,null,{"$f":"IF(キャラメイク!F52=\"\",\"\",キャラメイク!F52)","v":""},{"$f":"IF(キャラメイク!G52=\"\",\"\",キャラメイク!G52)","v":""},{"$f":"IF(キャラメイク!H52=\"\",\"\",キャラメイク!H52)","v":""},{"$f":"IF(キャラメイク!C52=\"\",\"\",キャラメイク!C52)","v":""}]
[null,null,null,{"$f":"IF(キャラメイク!D54=\"\",\"\",キャラメイク!D54)","v":""},null,null,{"$f":"IF(キャラメイク!F54=\"\",\"\",キャラメイク!F54)","v":""},{"$f":"IF(キャラメイク!G54=\"\",\"\",キャラメイク!G54)","v":""},{"$f":"IF(キャラメイク!H54=\"\",\"\",キャラメイク!H54)","v":""},{"$f":"IF(キャラメイク!C54=\"\",\"\",キャラメイク!C54)","v":""}]
[null,null,null,{"$f":"IF(キャラメイク!D56=\"\",\"\",キャラメイク!D56)","v":""},null,null,{"$f":"IF(キャラメイク!F56=\"\",\"\",キャラメイク!F56)","v":""},{"$f":"IF(キャラメイク!G56=\"\",\"\",キャラメイク!G56)","v":""},{"$f":"IF(キャラメイク!H56=\"\",\"\",キャラメイク!H56)","v":""},{"$f":"IF(キャラメイク!C56=\"\",\"\",キャラメイク!C56)","v":""}]
[null,null,null,{"$f":"IF(キャラメイク!D58=\"\",\"\",キャラメイク!D58)","v":""},null,null,{"$f":"IF(キャラメイク!F58=\"\",\"\",キャラメイク!F58)","v":""},{"$f":"IF(キャラメイク!G58=\"\",\"\",キャラメイク!G58)","v":""},{"$f":"IF(キャラメイク!H58=\"\",\"\",キャラメイク!H58)","v":""},{"$f":"IF(キャラメイク!C58=\"\",\"\",キャラメイク!C58)","v":""}]
[null,null,null,{"$f":"IF(キャラメイク!D60=\"\",\"\",キャラメイク!D60)","v":""},null,null,{"$f":"IF(キャラメイク!F60=\"\",\"\",キャラメイク!F60)","v":""},{"$f":"IF(キャラメイク!G60=\"\",\"\",キャラメイク!G60)","v":""},{"$f":"IF(キャラメイク!H60=\"\",\"\",キャラメイク!H60)","v":""},{"$f":"IF(キャラメイク!C60=\"\",\"\",キャラメイク!C60)","v":""}]
[null,null,null,{"$f":"IF(キャラメイク!D62=\"\",\"\",キャラメイク!D62)","v":""},null,null,{"$f":"IF(キャラメイク!F62=\"\",\"\",キャラメイク!F62)","v":""},{"$f":"IF(キャラメイク!G62=\"\",\"\",キャラメイク!G62)","v":""},{"$f":"IF(キャラメイク!H62=\"\",\"\",キャラメイク!H62)","v":""},{"$f":"IF(キャラメイク!C62=\"\",\"\",キャラメイク!C62)","v":""}]
[null,null,null,{"$f":"IF(キャラメイク!D64=\"\",\"\",キャラメイク!D64)","v":""},null,null,{"$f":"IF(キャラメイク!F64=\"\",\"\",キャラメイク!F64)","v":""},{"$f":"IF(キャラメイク!G64=\"\",\"\",キャラメイク!G64)","v":""},{"$f":"IF(キャラメイク!H64=\"\",\"\",キャラメイク!H64)","v":""},{"$f":"IF(キャラメイク!C64=\"\",\"\",キャラメイク!C64)","v":""}]
[null,null,null,{"$f":"IF(キャラメイク!D66=\"\",\"\",キャラメイク!D66)","v":""},null,null,{"$f":"IF(キャラメイク!F66=\"\",\"\",キャラメイク!F66)","v":""},{"$f":"IF(キャラメイク!G66=\"\",\"\",キャラメイク!G66)","v":""},{"$f":"IF(キャラメイク!H66=\"\",\"\",キャラメイク!H66)","v":""},{"$f":"IF(キャラメイク!C66=\"\",\"\",キャラメイク!C66)","v":""}]
[null,null,null,{"$f":"IF(キャラメイク!D68=\"\",\"\",キャラメイク!D68)","v":""},null,null,{"$f":"IF(キャラメイク!F68=\"\",\"\",キャラメイク!F68)","v":""},{"$f":"IF(キャラメイク!G68=\"\",\"\",キャラメイク!G68)","v":""},{"$f":"IF(キャラメイク!H68=\"\",\"\",キャラメイク!H68)","v":""},{"$f":"IF(キャラメイク!C68=\"\",\"\",キャラメイク!C68)","v":""}]
[null,null,null,{"$f":"IF(キャラメイク!D70=\"\",\"\",キャラメイク!D70)","v":""},null,null,{"$f":"IF(キャラメイク!F70=\"\",\"\",キャラメイク!F70)","v":""},{"$f":"IF(キャラメイク!G70=\"\",\"\",キャラメイク!G70)","v":""},{"$f":"IF(キャラメイク!H70=\"\",\"\",キャラメイク!H70)","v":""},{"$f":"IF(キャラメイク!C70=\"\",\"\",キャラメイク!C70)","v":""}]
[null,null,null,{"$f":"IF(キャラメイク!D72=\"\",\"\",キャラメイク!D72)","v":""},null,null,{"$f":"IF(キャラメイク!F72=\"\",\"\",キャラメイク!F72)","v":""},{"$f":"IF(キャラメイク!G72=\"\",\"\",キャラメイク!G72)","v":""},{"$f":"IF(キャラメイク!H72=\"\",\"\",キャラメイク!H72)","v":""},{"$f":"IF(キャラメイク!C72=\"\",\"\",キャラメイク!C72)","v":""}]
[null,null,null,{"$f":"IF(キャラメイク!D74=\"\",\"\",キャラメイク!D74)","v":""},null,null,{"$f":"IF(キャラメイク!F74=\"\",\"\",キャラメイク!F74)","v":""},{"$f":"IF(キャラメイク!G74=\"\",\"\",キャラメイク!G74)","v":""},{"$f":"IF(キャラメイク!H74=\"\",\"\",キャラメイク!H74)","v":""},{"$f":"IF(キャラメイク!C74=\"\",\"\",キャラメイク!C74)","v":""}]
[]
[null,"体力",null,null,"精気",null,null,"魂階","シーン"]
[null,{"$f":"D20+SUM(K23:CG23)","v":23},null,{"$f":"キャラメイク!F26","v":23},{"$f":"G20+SUM(K24:CG24)","v":12},null,{"$f":"キャラメイク!F28","v":12},{"$f":"キャラメイク!F43+SUM(K22:CG22)&\" / \"&キャラメイク!F43","v":"3 / 3"}]
[]
[null,"加護",null,{"$f":"キャラメイク!F30","v":0},"回避",null,{"$f":"キャラメイク!F36","v":0},"財産点","魂階",{"$f":"キャラメイク!F43+SUM(K22:CG22)","v":3}]
[null,"呪力",null,{"$f":"キャラメイク!F32","v":0},"行動値",null,{"$f":"キャラメイク!F38","v":1},{"$f":"キャラメイク!F40+SUM(K25:CG25)&\" / \"&キャラメイク!F40","v":"1 / 1"},"体力",{"$f":"D20+SUM(K23:CG23)","v":23}]
[null,"命中",null,{"$f":"キャラメイク!F34","v":0},"技",null,{"$f":"キャラメイク!D18","v":1},null,"精気",{"$f":"G20+SUM(K24:CG24)","v":12}]
[null,"武器",null,null,"素攻撃力","補正",null,"合計","財産点",{"$f":"キャラメイク!F40+SUM(K25:CG25)","v":1}]
[null,{"$f":"キャラメイク!C84","v":"近/拳/無"},null,null,{"$f":"キャラメイク!E84","v":"1d6"},{"$f":"IF(キャラメイク!F84=\"\",\"\",キャラメイク!F84)","v":""},null,{"$f":"IF(キャラメイク!G84=\"\",\"\",キャラメイク!G84)","v":""}]
[]
[null,"装備",null,null,"消費アイテム"]
[null,{"$f":"IF(キャラメイク!C77=\"\",\"\",キャラメイク!C77)","v":""},null,null,{"$f":"IF(キャラメイク!C80=\"\",\"\",キャラメイク!C80)","v":""}]
[null,{"$f":"IF(キャラメイク!E77=\"\",\"\",キャラメイク!E77)","v":""},null,null,{"$f":"IF(キャラメイク!E80=\"\",\"\",キャラメイク!E80)","v":""}]
[null,{"$f":"IF(キャラメイク!G77=\"\",\"\",キャラメイク!G77)","v":""},null,null,{"$f":"IF(キャラメイク!G80=\"\",\"\",キャラメイク!G80)","v":""}]
[null,{"$f":"IF(キャラメイク!I77=\"\",\"\",キャラメイク!I77)","v":""},null,null,{"$f":"IF(キャラメイク!I80=\"\",\"\",キャラメイク!I80)","v":""}]
[null,{"$f":"IF(キャラメイク!K77=\"\",\"\",キャラメイク!K77)","v":""},null,null,{"$f":"IF(キャラメイク!K80=\"\",\"\",キャラメイク!K80)","v":""}]

{"sheet":"リスト","index":3,"n_rows":41,"n_cols":10,"rows_kept":41,"cut":false,"hidden":false,"merged":[]}
["武器","武器攻撃力","消費経験点","フレーバースキル","フレーバーアイテム","レゾン","魔術系統","スキル経験点",null,"出身地"]
["近/拳/無",{"$f":"IF(キャラメイク!D12>15,\"5d6\",IF(キャラメイク!D12>10,\"4d6\",IF(キャラメイク!D12>5,\"3d6\",IF(キャラメイク!D12>2,\"2d6\",\"1d6\"))))","v":"1d6"},0,"―","―","　"]
["近/御神刀/無","3d6",5,"妄執","携帯食料一日分","正義","祓魔術",{"$f":"0+IF(キャラメイク!C52=1,10,0)+IF(キャラメイク!C52=2,15,0)+IF(キャラメイク!C52=3,20,0)+IF(キャラメイク!C52=4,25,0)+IF(キャラメイク!C52=5,30,0)+IF(キャラメイク!C52=6,35,0)+IF(キャラメイク!C52=7,40,0)+IF(キャラメイク!C52=8,45,0)","v":0},null,"東アジア"]
["近/御神刀・改め/無","4d6",15,"信徒","魔術触媒セット","悪徳","死霊術",{"$f":"0+IF(キャラメイク!C54=1,10,0)+IF(キャラメイク!C54=2,15,0)+IF(キャラメイク!C54=3,20,0)+IF(キャラメイク!C54=4,25,0)+IF(キャラメイク!C54=5,30,0)+IF(キャラメイク!C54=6,35,0)+IF(キャラメイク!C54=7,40,0)+IF(キャラメイク!C54=8,45,0)","v":0},null,"南アジア"]
["近/御神刀・真打/無","5d6",30,"仁義","サバイバルグッズ","協和","ブードゥー教",{"$f":"0+IF(キャラメイク!C56=1,10,0)+IF(キャラメイク!C56=2,15,0)+IF(キャラメイク!C56=3,20,0)+IF(キャラメイク!C56=4,25,0)+IF(キャラメイク!C56=5,30,0)+IF(キャラメイク!C56=6,35,0)+IF(キャラメイク!C56=7,40,0)+IF(キャラメイク!C56=8,45,0)","v":0},null,"中央アジア"]
["近/十字剣/金","3d6",5,"悪徳","狩猟ナイフ","統治","カバラ",{"$f":"0+IF(キャラメイク!C58=1,10,0)+IF(キャラメイク!C58=2,15,0)+IF(キャラメイク!C58=3,20,0)+IF(キャラメイク!C58=4,25,0)+IF(キャラメイク!C58=5,30,0)+IF(キャラメイク!C58=6,35,0)+IF(キャラメイク!C58=7,40,0)+IF(キャラメイク!C58=8,45,0)","v":0},null,"北アジア"]
["近/清・十字剣/金","4d6",15,"堕落","テント","生存","ゾロアスター教",{"$f":"0+IF(キャラメイク!C60=1,10,0)+IF(キャラメイク!C60=2,15,0)+IF(キャラメイク!C60=3,20,0)+IF(キャラメイク!C60=4,25,0)+IF(キャラメイク!C60=5,30,0)+IF(キャラメイク!C60=6,35,0)+IF(キャラメイク!C60=7,40,0)+IF(キャラメイク!C60=8,45,0)","v":0},null,"西アジア"]
["近/聖・十字剣/金","5d6",30,"強欲","松明","救済","ヒンドゥー教",{"$f":"0+IF(キャラメイク!C62=1,10,0)+IF(キャラメイク!C62=2,15,0)+IF(キャラメイク!C62=3,20,0)+IF(キャラメイク!C62=4,25,0)+IF(キャラメイク!C62=5,30,0)+IF(キャラメイク!C62=6,35,0)+IF(キャラメイク!C62=7,40,0)+IF(キャラメイク!C62=8,45,0)","v":0},null,"北アメリカ"]
["近/メイス/無","6d6",15,"慈悲","地図","守護","道教",{"$f":"0+IF(キャラメイク!C64=1,10,0)+IF(キャラメイク!C64=2,15,0)+IF(キャラメイク!C64=3,20,0)+IF(キャラメイク!C64=4,25,0)+IF(キャラメイク!C64=5,30,0)+IF(キャラメイク!C64=6,35,0)+IF(キャラメイク!C64=7,40,0)+IF(キャラメイク!C64=8,45,0)","v":0},null,"南アメリカ"]
["近/量産型ミョルニル/金、木","8d6",30,"愛護","応急救急セット","復讐","形意拳",{"$f":"0+IF(キャラメイク!C66=1,10,0)+IF(キャラメイク!C66=2,15,0)+IF(キャラメイク!C66=3,20,0)+IF(キャラメイク!C66=4,25,0)+IF(キャラメイク!C66=5,30,0)+IF(キャラメイク!C66=6,35,0)+IF(キャラメイク!C66=7,40,0)+IF(キャラメイク!C66=8,45,0)","v":0},null,"北欧"]
["近/その他刀剣/金","4d6+2",15,"会話術","機械工具","研鑽","密教",{"$f":"0+IF(キャラメイク!C68=1,10,0)+IF(キャラメイク!C68=2,15,0)+IF(キャラメイク!C68=3,20,0)+IF(キャラメイク!C68=4,25,0)+IF(キャラメイク!C68=5,30,0)+IF(キャラメイク!C68=6,35,0)+IF(キャラメイク!C68=7,40,0)+IF(キャラメイク!C68=8,45,0)","v":0},null,"西欧"]
["近/贋作ダインスレイヴ/金","4d6+2",30,"上流階級","嗜好品：音楽プレイヤー","理解","陰陽道",{"$f":"0+IF(キャラメイク!C70=1,10,0)+IF(キャラメイク!C70=2,15,0)+IF(キャラメイク!C70=3,20,0)+IF(キャラメイク!C70=4,25,0)+IF(キャラメイク!C70=5,30,0)+IF(キャラメイク!C70=6,35,0)+IF(キャラメイク!C70=7,40,0)+IF(キャラメイク!C70=8,45,0)","v":0},null,"東欧"]
["近/人造グラム/無","5d6+2",30,"貧困","嗜好品：酒","教導","修験道",{"$f":"0+IF(キャラメイク!C72=1,10,0)+IF(キャラメイク!C72=2,15,0)+IF(キャラメイク!C72=3,20,0)+IF(キャラメイク!C72=4,25,0)+IF(キャラメイク!C72=5,30,0)+IF(キャラメイク!C72=6,35,0)+IF(キャラメイク!C72=7,40,0)+IF(キャラメイク!C72=8,45,0)","v":0},null,"南欧"]
["近/杖/木","3d6+2",15,"鳥獣語","嗜好品：甘味","反抗","神道",{"$f":"0+IF(キャラメイク!C74=1,10,0)+IF(キャラメイク!C74=2,15,0)+IF(キャラメイク!C74=3,20,0)+IF(キャラメイク!C74=4,25,0)+IF(キャラメイク!C74=5,30,0)+IF(キャラメイク!C74=6,35,0)+IF(キャラメイク!C74=7,40,0)+IF(キャラメイク!C74=8,45,0)","v":0},null,"アフリカ大陸"]
["近/粗製如意棒/木、金","4d6+2",30,"博学","嗜好品：缶詰","忌避","ソロモン王の鍵",null,null,"東南アジア大陸"]
["近/鞭/木","2d6+3",15,"武の嗜み","乗り物：軽量","栄誉","ルーン魔術"]
["近/鎖鎌/金","3ｄ6",15,"哲学者","乗り物：重量","蒐集","錬金術"]
["近/槍/金","3ｄ6+2",15,"能天気",null,null,"ドルイド教"]
["近/模造アラヴァドル/金、火","4ｄ6+3",30,"不老",null,null,"ケイオスマジック"]
["近/盾/無","2d6",15,"美形",null,null,"魔女宗（ウィッチクラフト）"]
["近/スヴェル/水","3d6",30,"傭兵",null,null,"吸血鬼（ヴァンパイア）"]
["近/超改造チェーンソー/無","4d6",25,"学生",null,null,"亞人（デミ・ヒューマン）"]
["遠/梓弓/無","3d6",5,"強面",null,null,"邪視（イーヴル・アイ）"]
["遠/梓弓・清/無","4d6+2",30,"観測者",null,null,"機械人形（オートマタ）"]
["遠/梓弓・鳴/無","4d6+2",30,"龍見の徒"]
["遠/暗器/近","2ｄ6+3",10,"部下"]
["遠/儀式用スタッフ/無","2d6+3",15,"中庸"]
["遠/劣化ガンバンテイン/無","3d6+3",30,"技術者"]
["遠/ハンドガン/金","3d6+2",10,"文学者"]
["遠/魔改造ハンドガン/金","4d6+2",30,"多言語"]
["遠/呪銃ウィンチェスターライフル/金","4d6+2",30,"純血"]
["遠/聖別ショットガン/金","5d6",30,"混血"]
["遠/投擲物/無、土、木","2ｄ6+3",10,"芸人"]
["遠/独鈷杵/金","4ｄ6",15,"結社"]
["遠/偽造ヴァジュラ/金、木","6ｄ6",40,"放浪"]
[null,null,null,"鋭敏な感覚"]
[null,null,null,"蒐集家"]
[null,null,null,"家事"]
[null,null,null,"ライダー"]
[null,null,null,"恩恵"]
[null,null,null,"ダブルフェイス"]

{"sheet":"凡例","index":4,"n_rows":107,"n_cols":15,"rows_kept":107,"cut":false,"hidden":false,"merged":[[28,10,29,10],[28,11,29,11],[28,12,29,12],[30,12,31,12],[30,3,31,3],[30,4,31,4],[30,5,31,5],[4,11,25,11],[4,12,25,16],[6,3,7,3],[6,4,7,8],[8,3,9,3],[8,4,9,4],[8,5,9,5],[8,6,9,6],[8,7,9,7],[8,8,9,8],[10,3,11,3],[10,4,11,5],[10,6,11,6],[10,7,11,8],[42,4,43,4],[42,5,43,5],[4,2,11,2],[4,3,5,3],[4,4,5,5],[22,4,23,4],[22,5,23,5],[24,3,25,3],[24,4,25,4],[24,5,25,5],[27,2,43,2],[40,3,41,3],[40,4,41,4],[40,5,41,5],[13,2,25,2],[14,3,15,3],[14,4,15,4],[16,3,17,3],[16,4,17,4],[18,3,19,3],[18,4,19,4],[20,3,21,3],[20,4,21,4],[22,3,23,3],[30,6,31,6],[30,9,31,9],[30,10,31,10],[30,11,31,11],[27,8,45,8],[28,3,29,3],[28,4,29,4],[28,5,29,5],[28,6,29,6],[28,9,29,9],[34,3,35,3],[34,4,35,4],[34,5,35,5],[34,6,35,6],[32,3,33,3],[32,4,33,4],[32,5,33,5],[32,6,33,6],[32,9,33,9],[32,10,33,10],[36,11,37,11],[40,6,41,6],[42,6,43,6],[42,3,43,3],[38,3,39,3],[38,4,39,4],[38,5,39,5],[38,6,39,6],[38,9,39,9],[38,10,39,10],[38,11,39,11],[38,12,39,12],[36,5,37,5],[36,6,37,6],[36,9,37,9],[36,10,37,10],[36,3,37,3],[36,4,37,4],[32,12,33,12],[34,9,35,9],[34,10,35,10],[34,11,35,11],[34,12,35,12],[32,11,33,11],[44,9,45,9],[44,10,45,10],[44,11,45,11],[44,12,45,12],[40,9,41,9],[40,10,41,10],[40,11,41,11],[40,12,41,12],[42,9,43,9],[42,10,43,10],[42,11,43,11],[42,12,43,12],[36,12,37,12],[45,2,46,2],[45,3,46,3],[45,4,46,4],[45,5,46,5],[45,6,46,6],[49,2,50,2],[49,3,50,3],[49,4,50,4],[49,5,50,6],[51,8,52,8],[51,9,52,9],[51,10,52,10],[51,11,52,11],[51,12,52,12],[53,2,77,2],[53,4,53,5],[53,9,53,12],[54,3,55,3],[54,4,55,5],[51,2,52,2],[51,3,52,3],[51,4,52,4],[51,5,52,5],[51,6,52,6],[51,7,52,7],[54,6,55,6],[54,7,55,7],[54,8,55,8],[54,9,55,12],[56,3,57,3],[56,4,57,5],[56,6,57,6],[56,7,57,7],[56,8,57,8],[56,9,57,12],[60,3,61,3],[60,4,61,5],[60,6,61,6],[60,7,61,7],[60,8,61,8],[60,9,61,12],[58,3,59,3],[58,4,59,5],[58,6,59,6],[58,7,59,7],[58,8,59,8],[58,9,59,12],[64,3,65,3],[64,4,65,5],[64,6,65,6],[64,7,65,7],[64,8,65,8],[64,9,65,12],[62,3,63,3],[62,4,63,5],[62,6,63,6],[62,7,63,7],[62,8,63,8],[62,9,63,12],[68,3,69,3],[68,4,69,5],[68,6,69,6],[68,7,69,7],[68,8,69,8],[68,9,69,12],[66,3,67,3],[66,4,67,5],[66,6,67,6],[66,7,67,7],[66,8,67,8],[66,9,67,12],[72,3,73,3],[72,4,73,5],[72,6,73,6],[72,7,73,7],[72,8,73,8],[72,9,73,12],[70,3,71,3],[70,4,71,5],[70,6,71,6],[70,7,71,7],[70,8,71,8],[70,9,71,12],[76,3,77,3],[76,4,77,5],[76,6,77,6],[76,7,77,7],[76,8,77,8],[76,9,77,12],[74,3,75,3],[74,4,75,5],[74,6,75,6],[74,7,75,7],[74,8,75,8],[74,9,75,12],[82,2,83,2],[82,3,83,4],[82,5,83,6],[82,7,83,8],[82,9,83,10],[82,11,83,12],[79,2,80,2],[79,3,80,4],[79,5,80,6],[79,7,80,8],[79,9,80,10],[79,11,80,12],[89,3,99,7],[101,2,101,7],[101,8,101,13],[85,2,87,2],[85,3,85,4],[85,7,85,8],[86,3,87,4],[86,5,87,5],[86,6,87,6],[86,7,87,8],[106,2,106,3],[106,4,106,7],[106,8,106,9],[106,10,106,13],[88,8,88,13],[94,10,94,11],[95,10,95,11],[104,2,104,3],[104,4,104,7],[104,8,104,9],[104,10,104,13],[105,2,105,3],[105,4,105,7],[105,8,105,9],[105,10,105,13],[102,2,102,3],[102,4,102,7],[102,8,102,9],[102,10,102,13],[103,2,103,3],[103,4,103,7],[103,8,103,9],[103,10,103,13],[89,2,99,2]]}
[]
[]
[]
[]
[null,null,"プロフィール","プレイヤー名","プレイヤー",null,null,null,null,null,null,"キャラクター\nイラスト"]
[]
[null,null,null,"プレイヤー\nキャラクター名","川崎マギカ"]
[]
[null,null,null,"階梯",2,"性別","男性","年齢",22]
[]
[null,null,null,"職業","IMF職員",null,"出身地域","東アジア"]
[]
[]
[null,null,"パラメータ","項目","基礎値",null,null,"階梯","パラメータ合計"]
[null,null,null,"力業",7,null,null,1,20]
[null,null,null,null,null,null,null,2,22]
[null,null,null,"霊力",5,null,null,3,24]
[null,null,null,null,null,null,null,4,26]
[null,null,null,"天賦",1,null,null,5,28]
[null,null,null,null,null,null,null,6,30]
[null,null,null,"技量",1,null,null,7,32]
[null,null,null,null,null,null,null,8,34]
[null,null,null,"知恵",7,"合計",null,9,36]
[null,null,null,null,null,null,null,10,38]
[null,null,null,"速度",1,{"$f":"SUM(E15:E25)","v":22}]
[]
[]
[null,null,"戦闘\nステータス","項目","基礎値","ボーナス","計",null,"技能\nステータス","項目","基礎値","ボーナス","計"]
[null,null,null,"体力",{"$f":"E15*3+20","v":41},4,{"$f":"E29+F29","v":45},null,null,"運動力",{"$f":"ROUNDDOWN((E15+E21)/3,0)","v":2},null,{"$f":"K29+L29","v":2}]
[]
[null,null,null,"精気",{"$f":"E17+E19+10","v":16},2,{"$f":"E31+F31","v":18},null,null,"洞察力",{"$f":"ROUNDDOWN((E17+E23)/3,0)","v":4},null,{"$f":"K31+L31","v":4}]
[]
[null,null,null,"加護",{"$f":"ROUNDDOWN(E19/2,0)","v":0},null,{"$f":"E33+F33","v":0},null,null,"隠密",{"$f":"ROUNDDOWN((E21+E25)/3,0)","v":0},null,{"$f":"K33+L33","v":0}]
[]
[null,null,null,"呪力",{"$f":"ROUNDDOWN((E17+E25)/3,0)","v":2},null,{"$f":"E35+F35","v":2},null,null,"察知",{"$f":"ROUNDDOWN((E17+E25)/3,0)","v":2},null,{"$f":"K35+L35","v":2}]
[]
[null,null,null,"命中",{"$f":"ROUNDDOWN((E21+E15)/3,0)","v":2},null,{"$f":"E37+F37","v":2},null,null,"霊的技術",{"$f":"ROUNDDOWN((E17+E21)/3,0)","v":2},null,{"$f":"K37+L37","v":2}]
[]
[null,null,null,"回避",{"$f":"ROUNDDOWN((E23+E25)/3,0)","v":2},1,{"$f":"E39+F39","v":3},null,null,"魔術知識",{"$f":"ROUNDDOWN((E19+E17)/3,0)","v":2},null,{"$f":"K39+L39","v":2}]
[]
[null,null,null,"行動値",{"$f":"ROUNDDOWN(E25+E23/2,0)","v":4},null,{"$f":"E41+F41","v":4},null,null,"一般知識",{"$f":"ROUNDDOWN((E23+E19)/3,0)","v":2},null,{"$f":"K41+L41","v":2}]
[]
[null,null,null,"財産点",{"$f":"ROUNDDOWN((E19+E23)/2,0)","v":4},null,{"$f":"E43+F43","v":4},null,null,"話術",{"$f":"ROUNDDOWN((E19+E21)/3,0)","v":0},null,{"$f":"K43+L43","v":0}]
[]
[null,null,null,null,null,null,null,null,null,"機敏さ",{"$f":"ROUNDDOWN((E23+E25)/3,0)","v":2},null,{"$f":"K45+L45","v":2}]
[null,null,"魂階上限","魂階",3,null,{"$f":"E46+F46","v":3}]
[]
[]
[]
[null,null,"宗派","純派","レゾン","教導"]
[null,null,null,{"$f":"キャラメイク!$M$88","v":130}]
[null,null,"魔術系統","祓魔術","ゾロアスター教"]
[]
[null,null,"魔術スキル","レベル（Lv）","スキル名",null,"消費","タイミング","対象","効果"]
[null,null,null,"特性","神への祈り",null,"なし","判定後","自身","対象の判定結果＋１。全ての判定に使用可能。連続使用可能。例：３回分連続使用することで判定結果+３する。セッション中［１+（階梯/２）］回まで。",null,null,null,null,{"$f":"0+IF(D55=1,10,0)+IF(D55=2,15,0)+IF(D55=3,20,0)+IF(D55=4,25,0)+IF(D55=5,30,0)+IF(D55=6,35,0)+IF(D55=7,40,0)+IF(D55=8,45,0)","v":0}]
[null,null,null,null,null,null,null,null,null,null,null,null,null,null,{"$f":"0+IF(D56=1,10,0)+IF(D56=2,15,0)+IF(D56=3,20,0)+IF(D56=4,25,0)+IF(D56=5,30,0)+IF(D56=6,35,0)+IF(D56=7,40,0)+IF(D56=8,45,0)","v":0}]
[null,null,null,"和御霊","主名厳命",null,"なし","T終了時","敵全体","自身の体力を３ｄ６回復して蘇生する。その後、対象へ対抗判定を行わず７ｄ６の実ダメージを与える。無効化・反射不可。セッション中１回まで。",null,null,null,null,0]
[null,null,null,null,null,null,null,null,null,null,null,null,null,null,0]
[null,null,null,1,"ザカリアの賛歌",null,3,"T終了時","味方単体","対象の状態異常を全て解除する。対象のターン開始時に割り込みで使用可能。",null,null,null,null,10]
[null,null,null,null,null,null,null,null,null,null,null,null,null,null,0]
[null,null,null,6,"悪龍アジダカーハ",null,5,"BR","敵単体","受けた実ダメージと同じ値だけ対象にも実ダメージを与える。カバーリング等複数回ダメージを受ける際はその津語使用回数を減らし、消費もその都度発生する。セッション中［Lv］回まで。",null,null,null,null,35]
[null,null,null,null,null,null,null,null,null,null,null,null,null,null,0]
[null,null,null,1,"洗礼の弾丸",null,"なし","常時","自身","対象の武器攻撃力＋１ｄ６。装備枠を一つ使用。また、武器枠に「銃器」があることが条件。",null,null,null,null,10]
[null,null,null,null,null,null,null,null,null,null,null,null,null,null,0]
[null,null,null,2,"肉体と精神の研鑽",null,"なし","常時","自身","対象の体力＋［Lv×２］、精気＋［Lv］",null,null,null,null,15]
[null,null,null,null,null,null,null,null,null,null,null,null,null,null,0]
[null,null,null,null,null,null,null,null,null,null,null,null,null,null,0]
[null,null,null,null,null,null,null,null,null,null,null,null,null,null,0]
[null,null,null,null,null,null,null,null,null,null,null,null,null,null,0]
[null,null,null,null,null,null,null,null,null,null,null,null,null,null,0]
[null,null,null,null,null,null,null,null,null,null,null,null,null,null,0]
[null,null,null,null,null,null,null,null,null,null,null,null,null,null,0]
[null,null,null,null,null,null,null,null,null,null,null,null,null,null,0]
[null,null,null,null,null,null,null,null,null,null,null,null,null,null,0]
[null,null,null,null,null,null,null,null,null,null,null,null,null,null,0]
[null,null,null,null,null,null,null,null,null,null,null,null,null,null,0]
[null,null,null,null,null,null,null,null,null,null,null,null,null,null,0]
[null,null,null,null,null,null,null,null,null,null,null,null,null,null,0]
[null,null,null,null,null,null,null,null,null,null,null,null,null,null,{"$f":"0+IF(L129=1,10,0)+IF(L129=2,15,0)+IF(L129=3,20,0)+IF(L129=4,25,0)+IF(L129=5,30,0)+IF(L129=6,35,0)+IF(L129=7,40,0)+IF(L129=8,45,0)","v":0}]
[null,null,"装備","着流し",null,null,null,null,null,null,null,"（洗礼の弾丸）"]
[]
[]
[null,null,"消費アイテム","霊薬ソーマ"]
[]
[]
[null,null,"武器","レンジ/武具/属性",null,"素攻撃力","補正値","合計(武器攻撃力)"]
[null,null,null,"近/スヴェル/水",null,"3d6+2","1d6","4d6+2"]
[]
[null,null,null,null,null,null,null,null,"経験点計算表"]
[null,null,"プレイヤー\nキャラクター\n背景説明","「荒廃のマギカ、楽しんでくれよな！」\nその思いを胸に抱く、新米魔術士。",null,null,null,null,"魔術スキル","階梯","フレーバー","武器取得","雑派ボーナス","初期経験値"]
[null,null,null,null,null,null,null,null,{"$f":"SUM(リスト!H6:H17)","v":0},{"$f":"0+IF(D9=2,10,0)+IF(D9=3,30,0)+IF(D9=4,60,0)+IF(D9=5,100,0)+IF(D9=6,150,0)+IF(D9=7,210,0)+IF(D9=8,280,0)+IF(D9=9,360,0)+IF(D9=10,450,0)","v":0},{"$f":"IF((IF(C103=\"―\",0,1)+IF(C104=\"―\",0,1)+IF(C105=\"―\",0,1)+IF(C106=\"―\",0,1)+IF(C107=\"―\",0,1))>2,\n(IF(C103=\"―\",0,1)+IF(C104=\"―\",0,1)+IF(C105=\"―\",0,1)+IF(C106=\"―\",0,1)+IF(C107=\"―\",0,1))*5-10,0)+\nIF((IF(I103=\"―\",0,1)+IF(I104=\"―\",0,1)+IF(I105=\"―\",0,1)+IF(I106=\"―\",0,1)+IF(I107=\"―\",0,1))>2,\n(IF(I103=\"―\",0,1)+IF(I104=\"―\",0,1)+IF(I105=\"―\",0,1)+IF(I106=\"―\",0,1)+IF(I107=\"―\",0,1))*5-10,0)","v":0},{"$f":"VLOOKUP(D87,リスト!A5:C38,3,0)","v":30},{"$f":"IF(D50=\"雑派\",20,0)","v":0},100]
[null,null,null,null,null,null,null,null,"消費アイテム","装備","その他","喪失経験値","取得経験値","最終合計"]
[null,null,null,null,null,null,null,null,0,0,0,0,0,{"$f":"(N91+M91+M93)-(I91+J91+K91+L91+I93+J93+K93+L93)","v":70}]
[]
[null,null,null,null,null,null,null,null,null,null,"の欄は自動計算"]
[null,null,null,null,null,null,null,null,null,null,"の欄は自己記入"]
[]
[]
[]
[]
[]
[null,null,"フレーバースキル",null,null,null,null,null,"フレーバーアイテム"]
[null,null,"―",null,null,null,null,null,"―"]
[null,null,"―",null,null,null,null,null,"―"]
[null,null,"―",null,null,null,null,null,"―"]
[null,null,"―",null,null,null,null,null,"―"]
[null,null,"―",null,null,null,null,null,"―"]