{"text_format":"1","workbook":"xlsx","n_sheets":4,"sheets":["Dashboard","mapping","Data","Calculations"],"not_rendered":{"charts":7,"images":0,"macros":1,"external_links":0,"defined_names":21,"comments":1,"pivot_tables":0},"unopened":[],"bounds":{"document_bytes":16777216,"sheet_cells":100000,"rows_first":2000,"rows_last":500,"rows_between":2000,"halvings":0,"cell_chars":16384,"cell_head_chars":4096},"cells_cut":0,"cells_raw":0,"read":"whole","date_system":"1900"}

{"sheet":"Dashboard","index":0,"n_rows":32,"n_cols":40,"rows_kept":32,"cut":false,"hidden":false,"merged":[[31,12,31,19],[19,12,19,19],[4,37,4,39],[0,35,0,39],[26,26,26,31],[25,26,25,31],[5,26,5,27],[5,30,5,31],[4,26,4,31],[5,37,5,39],[6,26,6,31],[5,28,5,29],[13,5,13,7],[14,5,14,7],[15,5,15,7],[16,5,16,7],[17,5,17,7],[4,2,4,3],[5,2,5,3],[6,2,6,3],[7,2,7,3],[8,2,8,3]]}
[null," Excel Users Salary Survey Analysis",null,null,null,null,null,null,null,null,null,null,null,null,null,null,null,null,null,null,null,"?",null,null,null,null,null,null,null,null,null,null,null,null,null,"By Jean-Marc Voyer"]
[]
[null,"Random facts from the study",null,null,null,null,null,null,null,null,null,null,null,null,null,null,null,null,null,null,null,"Average salary by Continent by Job Type, Experience, Daily usage of Excel"]
[]
[null,"•",{"$f":"+Calculations!CU3","v":651},null,{"$f":"+Calculations!CV3","v":"Participants in the world with less then 2 years of experience."},null,null,null,null,null,null,null,null,null,null,null,null,null,null,null,null,"Choose Continent :",null,null,null,null,"North America",null,null,null,null,null,null,"Continent Average",null,null,null,{"$f":"+Calculations!J47","v":74937.961529109292}]
[null,"•",{"$f":"+Calculations!CU4","v":"11.8%"},null,{"$f":"+Calculations!CV4","v":"Participants working as Consultant have more then 24 years of experience."},null,null,null,null,null,null,null,null,null,null,null,null,null,null,null,null,"Experience",null,null,null,"From :",0,null,"To :",null,99,null,null,"World Average",null,null,null,{"$f":"+Calculations!I47","v":50744.550092257872}]
[null,"•",{"$f":"+Calculations!CU5","v":"55353 $"},null,{"$f":"+Calculations!CV5","v":"Average salary of participants with more then 5 years of experience."},null,null,null,null,null,null,null,null,null,null,null,null,null,null,null,null,"Choose Excel usage  :",null,null,null,null,"1 or 2 hours a day"]
[null,"•",{"$f":"+Calculations!CU6","v":"68.5%"},null,{"$f":"+Calculations!CV6","v":"Participants working as Specialist have less then 10 years of experience."}]
[null,"•",{"$f":"+Calculations!CU7","v":"43571 $"},null,{"$f":"+Calculations!CV7","v":"Average salary of participants using Excel more then 8 hours a day."}]
[]
[null,"Top 5 countries by…"]
[]
[null,"#",null,"Country",null,null,null,"   Average Salary",null,null,null,null,"  Experience",null,null,"       Nb of responses"]
[null,{"$f":"+Calculations!BL8","v":1},{"$f":"+Calculations!BM8","v":"USA"},null,null,{"$f":"+Calculations!BN8","v":72738.12965964344},null,null,null,null,null,{"$f":"+Calculations!BO8","v":10.292035398230089},null,null,null,{"$f":"+Calculations!BP8","v":617},null,null,{"$f":"IF(P14<WarningResponse,\"*\",\"\")","v":""}]
[null,{"$f":"+Calculations!BL9","v":2},{"$f":"+Calculations!BM9","v":"India"},null,null,{"$f":"+Calculations!BN9","v":13529.430894182482},null,null,null,null,null,{"$f":"+Calculations!BO9","v":6.4691823899371066},null,null,null,{"$f":"+Calculations!BP9","v":565},null,null,{"$f":"IF(P15<WarningResponse,\"*\",\"\")","v":""}]
[null,{"$f":"+Calculations!BL10","v":3},{"$f":"+Calculations!BM10","v":"UK"},null,null,{"$f":"+Calculations!BN10","v":67240.730112795849},null,null,null,null,null,{"$f":"+Calculations!BO10","v":10.382882882882884},null,null,null,{"$f":"+Calculations!BP10","v":154},null,null,""]
[null,{"$f":"+Calculations!BL11","v":4},{"$f":"+Calculations!BM11","v":"Australia"},null,null,{"$f":"+Calculations!BN11","v":92857.629854916348},null,null,null,null,null,{"$f":"+Calculations!BO11","v":10.26},null,null,null,{"$f":"+Calculations!BP11","v":81},null,null,""]
[null,{"$f":"+Calculations!BL12","v":5},{"$f":"+Calculations!BM12","v":"Canada"},null,null,{"$f":"+Calculations!BN12","v":89799.526836779929},null,null,null,null,null,{"$f":"+Calculations!BO12","v":8.75},null,null,null,{"$f":"+Calculations!BP12","v":58},null,null,""]
[null,"* Note : Less then 10 responses for this country. Use data with diligence."]
[null,"Average salary by…",null,null,null,null,null,null,null,null,null,"choose : ","Years of experience with Excel"]
[]
[]
[]
[null,null,null,null,null,null,null,null,null,null,null,null,null,null,null,null,null,null,null,null,null,"Salary boxplot",null,null,null,null,null,null,null,null,null,null,null,null,null,null,"Legend : "]
[]
[null,null,null,null,null,null,null,null,null,null,null,null,null,null,null,null,null,null,null,null,null,"Choose Continent #1",null,null,null,null,"Asia",null,null,null,null,null,null,null,null,null,"Q1","Q2","Q3","Q4"]
[null,null,null,null,null,null,null,null,null,null,null,null,null,null,null,null,null,null,null,null,null,"Choose Continent #2",null,null,null,null,"North America",null,null,null,null,null,null,null,null,null,"Q1","Q2","Q3","Q4"]
[]
[]
[]
[]
[null,"Proportion of participants by…",null,null,null,null,null,null,null,null,null,"choose : ","Daily usage of Excel in hours"]

{"sheet":"mapping","index":1,"n_rows":212,"n_cols":38,"rows_kept":212,"cut":false,"hidden":false,"merged":[[0,1,0,2]]}
[null,"Mapping Sheet",null,null,null,null,"Source: Xrates on 6/21/2012","and xe.com",null,null,null,null,null,"Added data >>>",null,null,null,"Continent Mapping",null,null,"List of countries by GDP (PPP) per capita",null,null,null,null,null,null,"Liste of Job types",null,"List of clean Country"]
[null,null,null,null,null,null,null,null,null,null,null,null,null,null,null,null,null,"http://www.worldatlas.com/cntycont.htm",null,null,"PPP : Purchasing Power Parity",null,null,null,null,null,null,"(sorted filtered list from Data)",null,"(sorted filtered list from Data)"]
[null,null,null,null,null,null,null,null,null,null,null,null,null,"Clean Continent",null,"Clean PPP",null,"modified cells",null,null,"http://en.wikipedia.org/wiki/List_of_countries_by_GDP_(PPP)_per_capita"]
[null,"Currency Mapping",null,null,null,null,null,null,null,null,null,"Country Mapping",null,null,null,"NA = 1 ",null,null,null,null,"International Monetary Fund (2010-11)",null,null,null,null,null,null,"List Job Types",null,"List Clean Country",null,"Continent",null,"How many hours of a day you work on Excel","Min","Max",null,"Lists for Graph"]
[null,"Currency","in USD",null,null,null,"Value of 1 American Dollar",null,null,null,null,"Actual","Mapping","Continent","PPP Factor","Clean PPP",null,"Country","Continent",null,null,"Ref = USA :",48387,null,null,null,null,"Accountant",null,"Albania",null,"Asia",null,"*",-1,99,null,"Years of experience with Excel"]
[null,"USD",1,null,null,null,"     Argentine Peso ",4.4927299999999999,"ARS",null,null,"USA","USA",{"$f":"VLOOKUP(tblCountries[[#This Row],[Mapping]],tblContinent[#All],2,0)","v":"North Amer."},{"$f":"VLOOKUP(tblCountries[[#This Row],[Mapping]],tblPPP[],3,0)","v":1},{"$f":"IFERROR(tblCountries[[#This Row],[PPP Factor]],1)","v":1},null,"Afghanistan","Asia",null,"Country","Intl $","PPP Ratio Vs US",null,null,null,null,"Analyst",null,"Arabian Gulf",null,"Europe",null,"Excel ?!? What Excel?",1,1,null,"Daily usage of Excel in hours"]
[null,"EUR",{"$f":"1/INDEX($H$6:$H$66,MATCH(tblXrate[[#This Row],[Currency]],$I$6:$I$66,0))","v":1.2703994389916078},null,null,null,"     Australian Dollar ",0.98047899999999999,"AUD",null,null,"India","India",{"$f":"VLOOKUP(tblCountries[[#This Row],[Mapping]],tblContinent[#All],2,0)","v":"Asia"},{"$f":"VLOOKUP(tblCountries[[#This Row],[Mapping]],tblPPP[],3,0)","v":13.098808879263672},{"$f":"IFERROR(tblCountries[[#This Row],[PPP Factor]],1)","v":13.098808879263672},null,"Albania","Europe",null,"Afghanistan","956",{"$f":"$W$5/V7","v":50.614016736401673},null,null,null,null,"Consultant",null,"Argentina",null,"Africa",null,"1 or 2 hours a day",2,2]
[null,"PKR",{"$f":"1/INDEX($H$6:$H$66,MATCH(tblXrate[[#This Row],[Currency]],$I$6:$I$66,0))","v":1.0614088716799131E-2},null,null,null,"     Botswana Pula ",7.6569700000000003,"BWP",null,null,"UK","UK",{"$f":"VLOOKUP(tblCountries[[#This Row],[Mapping]],tblContinent[#All],2,0)","v":"Europe"},{"$f":"VLOOKUP(tblCountries[[#This Row],[Mapping]],tblPPP[],3,0)","v":1.3407315045719035},{"$f":"IFERROR(tblCountries[[#This Row],[PPP Factor]],1)","v":1.3407315045719035},null,"Algeria","Africa",null,"Albania","7741",6.2507427980881021,null,null,null,null,"Controller",null,"Armenia",null,"North Amer.",null,"2 to 3 hours per day",3,3]
[null,"INR",{"$f":"1/INDEX($H$6:$H$66,MATCH(tblXrate[[#This Row],[Currency]],$I$6:$I$66,0))","v":1.7807916687442568E-2},null,null,null,"     Brazilian Real ",2.0231400000000002,"BRL",null,null,"Australia","Australia",{"$f":"VLOOKUP(tblCountries[[#This Row],[Mapping]],tblContinent[#All],2,0)","v":"Oceania"},{"$f":"VLOOKUP(tblCountries[[#This Row],[Mapping]],tblPPP[],3,0)","v":1.2026395585822935},{"$f":"IFERROR(tblCountries[[#This Row],[PPP Factor]],1)","v":1.2026395585822935},null,"Andorra","Europe",null,"Algeria","7333",6.598527205782081,null,null,null,null,"CXO or Top Mgmt.",null,"Aruba",null,"South Amer.",null,"4 to 6 hours a day",4,4]
[null,"GBP",{"$f":"1/INDEX($H$6:$H$66,MATCH(tblXrate[[#This Row],[Currency]],$I$6:$I$66,0))","v":1.5761782720672841},null,null,null,"     British Pound ",0.63444599999999995,"GBP",null,null,"Canada","Canada",{"$f":"VLOOKUP(tblCountries[[#This Row],[Mapping]],tblContinent[#All],2,0)","v":"North Amer."},{"$f":"VLOOKUP(tblCountries[[#This Row],[Mapping]],tblPPP[],3,0)","v":1.1935324732986359},{"$f":"IFERROR(tblCountries[[#This Row],[PPP Factor]],1)","v":1.1935324732986359},null,"Angola","Africa",null,"Angola","5895",8.2081424936386771,null,null,null,null,"Engineer",null,"Asia",null,"Oceania",null,"All the 8 hours baby, all the 8!",5,5]
[null,"AUD",{"$f":"1/INDEX($H$6:$H$66,MATCH(tblXrate[[#This Row],[Currency]],$I$6:$I$66,0))","v":1.0199096564026358},null,null,null,"     Brunei dollar ",1.2686999999999999,"BND",null,null,"Pakistan","Pakistan",{"$f":"VLOOKUP(tblCountries[[#This Row],[Mapping]],tblContinent[#All],2,0)","v":"Asia"},{"$f":"VLOOKUP(tblCountries[[#This Row],[Mapping]],tblPPP[],3,0)","v":17.361679224973088},{"$f":"IFERROR(tblCountries[[#This Row],[PPP Factor]],1)","v":17.361679224973088},null,"Antigua and Barbuda","North Amer.",null,"Antigua and Barbuda","17981",2.6910071742394752,null,null,null,null,"Manager",null,"Australia"]
[null,"CAD",{"$f":"1/INDEX($H$6:$H$66,MATCH(tblXrate[[#This Row],[Currency]],$I$6:$I$66,0))","v":0.98336152303032687},null,null,null,"     Bulgarian Lev ",1.53952,"BGN",null,null,"South Africa","South Africa",{"$f":"VLOOKUP(tblCountries[[#This Row],[Mapping]],tblContinent[#All],2,0)","v":"Africa"},{"$f":"VLOOKUP(tblCountries[[#This Row],[Mapping]],tblPPP[],3,0)","v":4.4096418481727877},{"$f":"IFERROR(tblCountries[[#This Row],[PPP Factor]],1)","v":4.4096418481727877},null,"Argentina","South Amer.",null,"Argentina","17516",2.7624457638730302,null,null,null,null,"Misc.",null,"Austria"]
[null,"PHP",{"$f":"1/INDEX($H$6:$H$66,MATCH(tblXrate[[#This Row],[Currency]],$I$6:$I$66,0))","v":2.3705052257787702E-2},null,null,null,"     Canadian Dollar ",1.01692,"CAD",null,null,"Germany","Germany",{"$f":"VLOOKUP(tblCountries[[#This Row],[Mapping]],tblContinent[#All],2,0)","v":"Europe"},{"$f":"VLOOKUP(tblCountries[[#This Row],[Mapping]],tblPPP[],3,0)","v":1.276802913159353},{"$f":"IFERROR(tblCountries[[#This Row],[PPP Factor]],1)","v":1.276802913159353},null,"Armenia","Europe",null,"Armenia","5384",8.9871842496285286,null,null,null,null,"Reporting",null,"Azerbaijan"]
[null,"AED",{"$f":"1/INDEX($H$6:$H$66,MATCH(tblXrate[[#This Row],[Currency]],$I$6:$I$66,0))","v":0.27221921268759308},null,null,null,"     Chilean Peso ",497.26799999999997,"CLP",null,null,"UAE","UAE",{"$f":"VLOOKUP(tblCountries[[#This Row],[Mapping]],tblContinent[#All],2,0)","v":"Asia"},{"$f":"VLOOKUP(tblCountries[[#This Row],[Mapping]],tblPPP[],3,0)","v":1.0047551808629926},{"$f":"IFERROR(tblCountries[[#This Row],[PPP Factor]],1)","v":1.0047551808629926},null,"Australia","Oceania",null,"Australia","40234",1.2026395585822935,null,null,null,null,"Specialist",null,"Baltic",null,"Continent (full)"]
[null,"MXN",{"$f":"1/INDEX($H$6:$H$66,MATCH(tblXrate[[#This Row],[Currency]],$I$6:$I$66,0))","v":7.3046552567951561E-2},null,null,null,"     Chinese Yuan ",6.3609099999999996,"CNY",null,null,"Brazil","Brazil",{"$f":"VLOOKUP(tblCountries[[#This Row],[Mapping]],tblContinent[#All],2,0)","v":"South Amer."},{"$f":"VLOOKUP(tblCountries[[#This Row],[Mapping]],tblPPP[],3,0)","v":4.1113943410655107},{"$f":"IFERROR(tblCountries[[#This Row],[PPP Factor]],1)","v":4.1113943410655107},null,"Austria","Europe",null,"Austria","41822",1.1569747979532303,null,null,null,null,null,null,"Bangladesh",null,"Asia"]
[null,"SEK",{"$f":"1/INDEX($H$6:$H$66,MATCH(tblXrate[[#This Row],[Currency]],$I$6:$I$66,0))","v":0.14365525038391866},null,null,null,"     Colombian Peso ",1769.79,"COP",null,null,"Netherlands","Netherlands",{"$f":"VLOOKUP(tblCountries[[#This Row],[Mapping]],tblContinent[#All],2,0)","v":"Europe"},{"$f":"VLOOKUP(tblCountries[[#This Row],[Mapping]],tblPPP[],3,0)","v":1.1470734656141099},{"$f":"IFERROR(tblCountries[[#This Row],[PPP Factor]],1)","v":1.1470734656141099},null,"Azerbaijan","Europe",null,"Azerbaijan","10202",4.7428935502842577,null,null,null,null,null,null,"Belgium",null,"Europe"]
[null,"BDT",{"$f":"1/INDEX($H$6:$H$66,MATCH(tblXrate[[#This Row],[Currency]],$I$6:$I$66,0))","v":1.2220845340313881E-2},null,null,null,"     Croatian Kuna ",5.9367099999999997,"HRK",null,null,"Singapore","Singapore",{"$f":"VLOOKUP(tblCountries[[#This Row],[Mapping]],tblContinent[#All],2,0)","v":"Asia"},{"$f":"VLOOKUP(tblCountries[[#This Row],[Mapping]],tblPPP[],3,0)","v":0.81035320125270049},{"$f":"IFERROR(tblCountries[[#This Row],[PPP Factor]],1)","v":0.81035320125270049},null,"Bahamas","North Amer.",null,"Bahamas, The","30959",1.5629380793953294,null,null,null,null,null,null,"Bermuda",null,"Africa"]
[null,"COSTARICAN",{"$f":"1/INDEX($H$6:$H$66,MATCH(tblXrate[[#This Row],[Currency]],$I$6:$I$66,0))","v":2.0078305391024996E-3},null,null,null,"     Danish Krone ",5.8512300000000002,"DKK",null,null,"Philippines","Philippines",{"$f":"VLOOKUP(tblCountries[[#This Row],[Mapping]],tblContinent[#All],2,0)","v":"Asia"},{"$f":"VLOOKUP(tblCountries[[#This Row],[Mapping]],tblPPP[],3,0)","v":11.879941075374417},{"$f":"IFERROR(tblCountries[[#This Row],[PPP Factor]],1)","v":11.879941075374417},null,"Bahrain","Asia",null,"Bahrain","27556",1.7559515169110176,null,null,null,null,null,null,"Bhutan",null,"North America"]
[null,"ZAR",{"$f":"1/INDEX($H$6:$H$66,MATCH(tblXrate[[#This Row],[Currency]],$I$6:$I$66,0))","v":0.12192177986291114},null,null,null,"     Euro ",0.78715400000000002,"EUR",null,null,"Portugal","Portugal",{"$f":"VLOOKUP(tblCountries[[#This Row],[Mapping]],tblContinent[#All],2,0)","v":"Europe"},{"$f":"VLOOKUP(tblCountries[[#This Row],[Mapping]],tblPPP[],3,0)","v":2.0712726338769745},{"$f":"IFERROR(tblCountries[[#This Row],[PPP Factor]],1)","v":2.0712726338769745},null,"Bangladesh","Asia",null,"Bangladesh","1693",28.580626107501477,null,null,null,null,null,null,"Bolivia",null,"South America"]
[null,"NZD",{"$f":"1/INDEX($H$6:$H$66,MATCH(tblXrate[[#This Row],[Currency]],$I$6:$I$66,0))","v":0.79758809360493876},null,null,null,"     Hong Kong Dollar ",7.7588900000000001,"HKD",null,null,"Spain","Spain",{"$f":"VLOOKUP(tblCountries[[#This Row],[Mapping]],tblContinent[#All],2,0)","v":"Europe"},{"$f":"VLOOKUP(tblCountries[[#This Row],[Mapping]],tblPPP[],3,0)","v":1.5799320838503232},{"$f":"IFERROR(tblCountries[[#This Row],[PPP Factor]],1)","v":1.5799320838503232},null,"Barbados","North Amer.",null,"Barbados","23417",2.0663193406499554,null,null,null,null,null,null,"Brazil",null,"Oceania"]
[null,"CNY",{"$f":"1/INDEX($H$6:$H$66,MATCH(tblXrate[[#This Row],[Currency]],$I$6:$I$66,0))","v":0.15721021048875083},null,null,null,"     Hungarian Forint ",225.874,"HUF",null,null,"New Zealand","New Zealand",{"$f":"VLOOKUP(tblCountries[[#This Row],[Mapping]],tblContinent[#All],2,0)","v":"Oceania"},{"$f":"VLOOKUP(tblCountries[[#This Row],[Mapping]],tblPPP[],3,0)","v":1.7488434292323261},{"$f":"IFERROR(tblCountries[[#This Row],[PPP Factor]],1)","v":1.7488434292323261},null,"Belarus","Europe",null,"Belarus","15028",3.2197897258450894,null,null,null,null,null,null,"Bulgaria"]
[null,"EGYPT",{"$f":"1/INDEX($H$6:$H$66,MATCH(tblXrate[[#This Row],[Currency]],$I$6:$I$66,0))","v":0.16526194017517765},null,null,null,"     Iceland Krona ",124.697,"ISK",null,null,"Russia","Russia",{"$f":"VLOOKUP(tblCountries[[#This Row],[Mapping]],tblContinent[#All],2,0)","v":"Asia"},{"$f":"VLOOKUP(tblCountries[[#This Row],[Mapping]],tblPPP[],3,0)","v":2.8911926386233269},{"$f":"IFERROR(tblCountries[[#This Row],[PPP Factor]],1)","v":2.8911926386233269},null,"Belgium","Europe",null,"Belgium","37737",1.2822163924000318,null,null,null,null,null,null,"Cambodia"]
[null,"NAIRA",{"$f":"1/INDEX($H$6:$H$66,MATCH(tblXrate[[#This Row],[Currency]],$I$6:$I$66,0))","v":6.1633281972265025E-3},null,null,null,"     Indian Rupee ",56.154800000000002,"INR",null,null,"Saudi Arabia","Saudi Arabia",{"$f":"VLOOKUP(tblCountries[[#This Row],[Mapping]],tblContinent[#All],2,0)","v":"Asia"},{"$f":"VLOOKUP(tblCountries[[#This Row],[Mapping]],tblPPP[],3,0)","v":1.9964104468374799},{"$f":"IFERROR(tblCountries[[#This Row],[PPP Factor]],1)","v":1.9964104468374799},null,"Belize","North Amer.",null,"Belize","8264",5.8551548886737654,null,null,null,null,null,null,"Canada"]
[null,"AED",{"$f":"1/INDEX($H$6:$H$66,MATCH(tblXrate[[#This Row],[Currency]],$I$6:$I$66,0))","v":0.27221921268759308},null,null,null,"     Indonesian Rupiah ",9443.81,"IDR",null,null,"Mexico","Mexico",{"$f":"VLOOKUP(tblCountries[[#This Row],[Mapping]],tblContinent[#All],2,0)","v":"North Amer."},{"$f":"VLOOKUP(tblCountries[[#This Row],[Mapping]],tblPPP[],3,0)","v":3.3119096509240245},{"$f":"IFERROR(tblCountries[[#This Row],[PPP Factor]],1)","v":3.3119096509240245},null,"Benin","Africa",null,"Benin","1481",32.671843349088455,null,null,null,null,null,null,"CEE"]
[null,"BRL",{"$f":"1/INDEX($H$6:$H$66,MATCH(tblXrate[[#This Row],[Currency]],$I$6:$I$66,0))","v":0.49428116689897877},null,null,null,"     Israeli New Shekel ",3.86721,"ILS",null,null,"Indonesia","Indonesia",{"$f":"VLOOKUP(tblCountries[[#This Row],[Mapping]],tblContinent[#All],2,0)","v":"Asia"},{"$f":"VLOOKUP(tblCountries[[#This Row],[Mapping]],tblPPP[],3,0)","v":10.370124303471924},{"$f":"IFERROR(tblCountries[[#This Row],[PPP Factor]],1)","v":10.370124303471924},null,"Bhutan","Asia",null,"Bhutan","6112",7.916721204188482,null,null,null,null,null,null,"Central America"]
[null,"RON",{"$f":"1/INDEX($H$6:$H$66,MATCH(tblXrate[[#This Row],[Currency]],$I$6:$I$66,0))","v":0.28461323906942854},null,null,null,"     Japanese Yen ",78.904300000000006,"JPY",null,null,"Norway","Norway",{"$f":"VLOOKUP(tblCountries[[#This Row],[Mapping]],tblContinent[#All],2,0)","v":"Europe"},{"$f":"VLOOKUP(tblCountries[[#This Row],[Mapping]],tblPPP[],3,0)","v":0.90492042415514951},{"$f":"IFERROR(tblCountries[[#This Row],[PPP Factor]],1)","v":0.90492042415514951},null,"Bolivia","South Amer.",null,"Bolivia","4789",10.103779494675297,null,null,null,null,null,null,"China"]
[null,"USD",1,null,null,null,"     Kazakhstani Tenge ",148.88,"KZT",null,null,"malaysia","Malaysia",{"$f":"VLOOKUP(tblCountries[[#This Row],[Mapping]],tblContinent[#All],2,0)","v":"Asia"},{"$f":"VLOOKUP(tblCountries[[#This Row],[Mapping]],tblPPP[],3,0)","v":3.1081063720452211},{"$f":"IFERROR(tblCountries[[#This Row],[PPP Factor]],1)","v":3.1081063720452211},null,"Bosnia and Herzegovina","Europe",null,"Bosnia and Herzegovina","8133",5.9494651420140165,null,null,null,null,null,null,"Colombia"]
[null,"MYR",{"$f":"1/INDEX($H$6:$H$66,MATCH(tblXrate[[#This Row],[Currency]],$I$6:$I$66,0))","v":0.31680056770661735},null,null,null,"     Kuwaiti Dinar ",0.27939999999999998,"KWD",null,null,"The Netherlands","Netherlands",{"$f":"VLOOKUP(tblCountries[[#This Row],[Mapping]],tblContinent[#All],2,0)","v":"Europe"},{"$f":"VLOOKUP(tblCountries[[#This Row],[Mapping]],tblPPP[],3,0)","v":1.1470734656141099},{"$f":"IFERROR(tblCountries[[#This Row],[PPP Factor]],1)","v":1.1470734656141099},null,"Botswana","Africa",null,"Botswana","16030",3.018527760449158,null,null,null,null,null,null,"Costa Rica"]
[null,"LKR",{"$f":"1/INDEX($H$6:$H$66,MATCH(tblXrate[[#This Row],[Currency]],$I$6:$I$66,0))","v":7.5240581760178168E-3},null,null,null,"     Latvian Lat ",0.548489,"LVL",null,null,"Romania","Romania",{"$f":"VLOOKUP(tblCountries[[#This Row],[Mapping]],tblContinent[#All],2,0)","v":"Europe"},{"$f":"VLOOKUP(tblCountries[[#This Row],[Mapping]],tblPPP[],3,0)","v":3.8784065405578709},{"$f":"IFERROR(tblCountries[[#This Row],[PPP Factor]],1)","v":3.8784065405578709},null,"Brazil","South Amer.",null,"Brazil","11769",4.1113943410655107,null,null,null,null,null,null,"Croatia"]
[null,"SGD",{"$f":"1/INDEX($H$6:$H$66,MATCH(tblXrate[[#This Row],[Currency]],$I$6:$I$66,0))","v":0.78882394238429931},null,null,null,"     Libyan Dinar ",1.9323999999999999,"LYD",null,null,"Poland","Poland",{"$f":"VLOOKUP(tblCountries[[#This Row],[Mapping]],tblContinent[#All],2,0)","v":"Europe"},{"$f":"VLOOKUP(tblCountries[[#This Row],[Mapping]],tblPPP[],3,0)","v":2.3796105045736207},{"$f":"IFERROR(tblCountries[[#This Row],[PPP Factor]],1)","v":2.3796105045736207},null,"Brunei","Asia",null,"Brunei","49384",0.97981127490685238,null,null,null,null,null,null,"Czech Republic"]
[null,"GBP",{"$f":"1/INDEX($H$6:$H$66,MATCH(tblXrate[[#This Row],[Currency]],$I$6:$I$66,0))","v":1.5761782720672841},null,null,null,"     Lithuanian Litas ",2.7178800000000001,"LTL",null,null,"italy","italy",{"$f":"VLOOKUP(tblCountries[[#This Row],[Mapping]],tblContinent[#All],2,0)","v":"Europe"},{"$f":"VLOOKUP(tblCountries[[#This Row],[Mapping]],tblPPP[],3,0)","v":1.5883337710084033},{"$f":"IFERROR(tblCountries[[#This Row],[PPP Factor]],1)","v":1.5883337710084033},null,"Bulgaria","Europe",null,"Bulgaria","13597",3.5586526439655808,null,null,null,null,null,null,"Denmark"]
[null,"DOP",{"$f":"1/INDEX($H$6:$H$66,MATCH(tblXrate[[#This Row],[Currency]],$I$6:$I$66,0))","v":2.5673940949935813E-2},null,null,null,"     Malaysian Ringgit ",3.1565599999999998,"MYR",null,null,"Hungary","Hungary",{"$f":"VLOOKUP(tblCountries[[#This Row],[Mapping]],tblContinent[#All],2,0)","v":"Europe"},{"$f":"VLOOKUP(tblCountries[[#This Row],[Mapping]],tblPPP[],3,0)","v":2.4698586085447398},{"$f":"IFERROR(tblCountries[[#This Row],[PPP Factor]],1)","v":2.4698586085447398},null,"Burkina","Africa",null,"Burkina Faso","1466",33.006139154160984,null,null,null,null,null,null,"Dominican Republic"]
[null,"PLN",{"$f":"1/INDEX($H$6:$H$66,MATCH(tblXrate[[#This Row],[Currency]],$I$6:$I$66,0))","v":0.30031472983686902},null,null,null,"     Mauritius Rupee ",30.715900000000001,"MUR",null,null,"Denmark","Denmark",{"$f":"VLOOKUP(tblCountries[[#This Row],[Mapping]],tblContinent[#All],2,0)","v":"Europe"},{"$f":"VLOOKUP(tblCountries[[#This Row],[Mapping]],tblPPP[],3,0)","v":1.3024063307493541},{"$f":"IFERROR(tblCountries[[#This Row],[PPP Factor]],1)","v":1.3024063307493541},null,"Burma (Myanmar)","Asia",null,"Burma","1325",36.518490566037734,null,null,null,null,null,null,"Dubai"]
[null,"KENYA",{"$f":"1/INDEX($H$6:$H$66,MATCH(tblXrate[[#This Row],[Currency]],$I$6:$I$66,0))","v":1.1976047904191617E-2},null,null,null,"     Mexican Peso ",13.6899,"MXN",null,null,"Ireland","Ireland",{"$f":"VLOOKUP(tblCountries[[#This Row],[Mapping]],tblContinent[#All],2,0)","v":"Europe"},{"$f":"VLOOKUP(tblCountries[[#This Row],[Mapping]],tblPPP[],3,0)","v":1.2206917429803981},{"$f":"IFERROR(tblCountries[[#This Row],[PPP Factor]],1)","v":1.2206917429803981},null,"Burundi","Africa",null,"Burundi","615",78.678048780487799,null,null,null,null,null,null,"Egypt"]
[null,"DKK",{"$f":"1/INDEX($H$6:$H$66,MATCH(tblXrate[[#This Row],[Currency]],$I$6:$I$66,0))","v":0.17090423722875361},null,null,null,"     Nepalese Rupee ",89.65,"NPR",null,null,"Israel","Israel",{"$f":"VLOOKUP(tblCountries[[#This Row],[Mapping]],tblContinent[#All],2,0)","v":"Asia"},{"$f":"VLOOKUP(tblCountries[[#This Row],[Mapping]],tblPPP[],3,0)","v":1.5621307506053268},{"$f":"IFERROR(tblCountries[[#This Row],[PPP Factor]],1)","v":1.5621307506053268},null,"Cambodia","Asia",null,"Cambodia","2216",21.835288808664259,null,null,null,null,null,null,"Estonia"]
[null,"IDR",{"$f":"1/INDEX($H$6:$H$66,MATCH(tblXrate[[#This Row],[Currency]],$I$6:$I$66,0))","v":1.0588946622178973E-4},null,null,null,"     New Zealand Dollar ",1.2537799999999999,"NZD",null,null,"France","France",{"$f":"VLOOKUP(tblCountries[[#This Row],[Mapping]],tblContinent[#All],2,0)","v":"Europe"},{"$f":"VLOOKUP(tblCountries[[#This Row],[Mapping]],tblPPP[],3,0)","v":1.3763511207190806},{"$f":"IFERROR(tblCountries[[#This Row],[PPP Factor]],1)","v":1.3763511207190806},null,"Cameroon","Africa",null,"Cameroon","2257",21.438635356668144,null,null,null,null,null,null,"Ethiopia"]
[null,"MONGOLIAN",{"$f":"1/INDEX($H$6:$H$66,MATCH(tblXrate[[#This Row],[Currency]],$I$6:$I$66,0))","v":7.5642965204236008E-4},null,null,null,"     Norwegian Kroner ",5.9083800000000002,"NOK",null,null,"Colombia","Colombia",{"$f":"VLOOKUP(tblCountries[[#This Row],[Mapping]],tblContinent[#All],2,0)","v":"South Amer."},{"$f":"VLOOKUP(tblCountries[[#This Row],[Mapping]],tblPPP[],3,0)","v":4.721143526197678},{"$f":"IFERROR(tblCountries[[#This Row],[PPP Factor]],1)","v":4.721143526197678},null,"Canada","North Amer.",null,"Canada","40541",1.1935324732986359,null,null,null,null,null,null,"Europe"]
[null,"JPY",{"$f":"1/INDEX($H$6:$H$66,MATCH(tblXrate[[#This Row],[Currency]],$I$6:$I$66,0))","v":1.2673580527296991E-2},null,null,null,"     Omani Rial ",0.38450000000000001,"OMR",null,null,"Switzerland","Switzerland",{"$f":"VLOOKUP(tblCountries[[#This Row],[Mapping]],tblContinent[#All],2,0)","v":"Europe"},{"$f":"VLOOKUP(tblCountries[[#This Row],[Mapping]],tblPPP[],3,0)","v":1.1156790408116208},{"$f":"IFERROR(tblCountries[[#This Row],[PPP Factor]],1)","v":1.1156790408116208},null,"Cape Verde","Africa",null,"Cape Verde","3947",12.259184190524449,null,null,null,null,null,null,"Finland"]
[null,"SAR",{"$f":"1/INDEX($H$6:$H$66,MATCH(tblXrate[[#This Row],[Currency]],$I$6:$I$66,0))","v":0.26666666666666666},null,null,null,"     Pakistan Rupee ",94.214399999999998,"PKR",null,null,"Sri Lanka","Sri Lanka",{"$f":"VLOOKUP(tblCountries[[#This Row],[Mapping]],tblContinent[#All],2,0)","v":"Asia"},{"$f":"VLOOKUP(tblCountries[[#This Row],[Mapping]],tblPPP[],3,0)","v":8.5278463165315479},{"$f":"IFERROR(tblCountries[[#This Row],[PPP Factor]],1)","v":8.5278463165315479},null,"Central African Republic","Africa",null,"Central African Republic","768",{"$f":"$W$5/V39","v":63.00390625},null,null,null,null,null,null,"France"]
[null,"MAD",{"$f":"1/INDEX($H$6:$H$66,MATCH(tblXrate[[#This Row],[Currency]],$I$6:$I$66,0))","v":0.11454753722794959},null,null,null,"     Philippine Peso ",42.185099999999998,"PHP",null,null,"Belgium","Belgium",{"$f":"VLOOKUP(tblCountries[[#This Row],[Mapping]],tblContinent[#All],2,0)","v":"Europe"},{"$f":"VLOOKUP(tblCountries[[#This Row],[Mapping]],tblPPP[],3,0)","v":1.2822163924000318},{"$f":"IFERROR(tblCountries[[#This Row],[PPP Factor]],1)","v":1.2822163924000318},null,"Chad","Africa",null,"Chad","1865",25.944772117962465,null,null,null,null,null,null,"Germany"]
[null,"MUR",{"$f":"1/INDEX($H$6:$H$66,MATCH(tblXrate[[#This Row],[Currency]],$I$6:$I$66,0))","v":3.2556428429575561E-2},null,null,null,"     Qatari Rial ",3.64,"QAR",null,null,"Dubai","Dubai",{"$f":"VLOOKUP(tblCountries[[#This Row],[Mapping]],tblContinent[#All],2,0)","v":"Asia"},{"$f":"VLOOKUP(tblCountries[[#This Row],[Mapping]],tblPPP[],3,0)","v":{"$error":"#N/A"}},{"$f":"IFERROR(tblCountries[[#This Row],[PPP Factor]],1)","v":1},null,"Chile","South Amer.",null,"Chile","17222",2.8096039948902565,null,null,null,null,null,null,"Ghana"]
[null,"NOK",{"$f":"1/INDEX($H$6:$H$66,MATCH(tblXrate[[#This Row],[Currency]],$I$6:$I$66,0))","v":0.16925113144381371},null,null,null,"     Romanian Leu ",3.5135399999999999,"RON",null,null,"Ukraine","Ukraine",{"$f":"VLOOKUP(tblCountries[[#This Row],[Mapping]],tblContinent[#All],2,0)","v":"Europe"},{"$f":"VLOOKUP(tblCountries[[#This Row],[Mapping]],tblPPP[],3,0)","v":6.6897552882621323},{"$f":"IFERROR(tblCountries[[#This Row],[PPP Factor]],1)","v":6.6897552882621323},null,"China","Asia",null,"China","8382",5.7727272727272725,null,null,null,null,null,null,"Greece"]
[null,"CHF",{"$f":"1/INDEX($H$6:$H$66,MATCH(tblXrate[[#This Row],[Currency]],$I$6:$I$66,0))","v":1.0578730615798488},null,null,null,"     Russian Ruble ",32.5458,"RUB",null,null,"Kuwait","Kuwait",{"$f":"VLOOKUP(tblCountries[[#This Row],[Mapping]],tblContinent[#All],2,0)","v":"Asia"},{"$f":"VLOOKUP(tblCountries[[#This Row],[Mapping]],tblPPP[],3,0)","v":1.1606102036410737},{"$f":"IFERROR(tblCountries[[#This Row],[PPP Factor]],1)","v":1.1606102036410737},null,"Colombia","South Amer.",null,"Colombia","10249",4.721143526197678,null,null,null,null,null,null,"Guyana"]
[null,"ETB",{"$f":"1/INDEX($H$6:$H$66,MATCH(tblXrate[[#This Row],[Currency]],$I$6:$I$66,0))","v":5.6561085972850679E-2},null,null,null,"     Saudi Riyal ",3.75,"SAR",null,null,"iran","iran",{"$f":"VLOOKUP(tblCountries[[#This Row],[Mapping]],tblContinent[#All],2,0)","v":"Asia"},{"$f":"VLOOKUP(tblCountries[[#This Row],[Mapping]],tblPPP[],3,0)","v":3.706963916341071},{"$f":"IFERROR(tblCountries[[#This Row],[PPP Factor]],1)","v":3.706963916341071},null,"Comoros","Africa",null,"Comoros","1232",39.275162337662337,null,null,null,null,null,null,"Hong Kong"]
[null,null,null,null,null,null,"     Singapore Dollar ",1.2677099999999999,"SGD",null,null,"Qatar","Qatar",{"$f":"VLOOKUP(tblCountries[[#This Row],[Mapping]],tblContinent[#All],2,0)","v":"Asia"},{"$f":"VLOOKUP(tblCountries[[#This Row],[Mapping]],tblPPP[],3,0)","v":0.4700368164906793},{"$f":"IFERROR(tblCountries[[#This Row],[PPP Factor]],1)","v":0.4700368164906793},null,"Congo","Africa",null,"Congo, Democratic Republic of the","348",139.04310344827587,null,null,null,null,null,null,"Hungary"]
[null,null,null,null,null,null,"     South African Rand ",8.2019800000000007,"ZAR",null,null,"Nigeria","Nigeria",{"$f":"VLOOKUP(tblCountries[[#This Row],[Mapping]],tblContinent[#All],2,0)","v":"Africa"},{"$f":"VLOOKUP(tblCountries[[#This Row],[Mapping]],tblPPP[],3,0)","v":18.769200930954227},{"$f":"IFERROR(tblCountries[[#This Row],[PPP Factor]],1)","v":18.769200930954227},null,"Congo, Democratic Republic of","Africa",null,"Congo, Republic of the","4589",10.544127260841142,null,null,null,null,null,null,"Iceland"]
[null,null,null,null,null,null,"     South Korean Won ",1151.0899999999999,"KRW",null,null,"Finland","Finland",{"$f":"VLOOKUP(tblCountries[[#This Row],[Mapping]],tblContinent[#All],2,0)","v":"Europe"},{"$f":"VLOOKUP(tblCountries[[#This Row],[Mapping]],tblPPP[],3,0)","v":1.3353295065680539},{"$f":"IFERROR(tblCountries[[#This Row],[PPP Factor]],1)","v":1.3353295065680539},null,"Costa Rica","North Amer.",null,"Costa Rica","11927",4.0569296554037058,null,null,null,null,null,null,"India"]
[null,null,null,null,null,null,"     Sri Lanka Rupee ",132.90700000000001,"LKR",null,null,"Europe","Europe",{"$f":"VLOOKUP(tblCountries[[#This Row],[Mapping]],tblContinent[#All],2,0)","v":"Europe"},{"$f":"VLOOKUP(tblCountries[[#This Row],[Mapping]],tblPPP[],3,0)","v":{"$error":"#N/A"}},{"$f":"IFERROR(tblCountries[[#This Row],[PPP Factor]],1)","v":1},null,"Croatia","Europe",null,"Côte d'Ivoire","1590",30.432075471698113,null,null,null,null,null,null,"Indonesia"]
[null,null,null,null,null,null,"     Swedish Krona ",6.9611099999999997,"SEK",null,null,"Japan","Japan",{"$f":"VLOOKUP(tblCountries[[#This Row],[Mapping]],tblContinent[#All],2,0)","v":"Asia"},{"$f":"VLOOKUP(tblCountries[[#This Row],[Mapping]],tblPPP[],3,0)","v":1.392832469775475},{"$f":"IFERROR(tblCountries[[#This Row],[PPP Factor]],1)","v":1.392832469775475},null,"Cuba","North Amer.",null,"Croatia","18192",2.6597955145118735,null,null,null,null,null,null,"Iran"]
[null,null,null,null,null,null,"     Swiss Franc ",0.94529300000000005,"CHF",null,null,"Brasil","Brazil",{"$f":"VLOOKUP(tblCountries[[#This Row],[Mapping]],tblContinent[#All],2,0)","v":"South Amer."},{"$f":"VLOOKUP(tblCountries[[#This Row],[Mapping]],tblPPP[],3,0)","v":4.1113943410655107},{"$f":"IFERROR(tblCountries[[#This Row],[PPP Factor]],1)","v":4.1113943410655107},null,"Cyprus","Europe",null,"Cyprus","29074",1.6642704822177892,null,null,null,null,null,null,"Ireland"]
[null,null,null,null,null,null,"     Taiwan Dollar ",29.859400000000001,"TWD",null,null,"nz","New Zealand",{"$f":"VLOOKUP(tblCountries[[#This Row],[Mapping]],tblContinent[#All],2,0)","v":"Oceania"},{"$f":"VLOOKUP(tblCountries[[#This Row],[Mapping]],tblPPP[],3,0)","v":1.7488434292323261},{"$f":"IFERROR(tblCountries[[#This Row],[PPP Factor]],1)","v":1.7488434292323261},null,"Czech Republic","Europe",null,"Czech Republic","27062",1.788005321114478,null,null,null,null,null,null,"Israel"]
[null,null,null,null,null,null,"     Thai Baht ",31.500299999999999,"THB",null,null,"Greece","Greece",{"$f":"VLOOKUP(tblCountries[[#This Row],[Mapping]],tblContinent[#All],2,0)","v":"Europe"},{"$f":"VLOOKUP(tblCountries[[#This Row],[Mapping]],tblPPP[],3,0)","v":1.8402297102000456},{"$f":"IFERROR(tblCountries[[#This Row],[PPP Factor]],1)","v":1.8402297102000456},null,"Denmark","Europe",null,"Denmark","37152",1.3024063307493541,null,null,null,null,null,null,"Italy"]
[null,null,null,null,null,null,"     Trinidad/Tobago Dollar ",6.3912199999999997,"TTD",null,null,"ksa","USA",{"$f":"VLOOKUP(tblCountries[[#This Row],[Mapping]],tblContinent[#All],2,0)","v":"North Amer."},{"$f":"VLOOKUP(tblCountries[[#This Row],[Mapping]],tblPPP[],3,0)","v":1},{"$f":"IFERROR(tblCountries[[#This Row],[PPP Factor]],1)","v":1},null,"Djibouti","Africa",null,"Djibouti","2642",18.314534443603332,null,null,null,null,null,null,"Japan"]
[null,null,null,null,null,null,"     Turkish Lira ",1.79447,"TRY",null,null,"Panama","Panama",{"$f":"VLOOKUP(tblCountries[[#This Row],[Mapping]],tblContinent[#All],2,0)","v":"North Amer."},{"$f":"VLOOKUP(tblCountries[[#This Row],[Mapping]],tblPPP[],3,0)","v":3.4324324324324325},{"$f":"IFERROR(tblCountries[[#This Row],[PPP Factor]],1)","v":3.4324324324324325},null,"Dominica","North Amer.",null,"Dominica","13816",3.5022437753329472,null,null,null,null,null,null,"Kenya"]
[null,null,null,null,null,null,"     Venezuelan Bolivar ",4.2940199999999997,"VEF",null,null,"Turkey","Turkey",{"$f":"VLOOKUP(tblCountries[[#This Row],[Mapping]],tblContinent[#All],2,0)","v":"Asia"},{"$f":"VLOOKUP(tblCountries[[#This Row],[Mapping]],tblPPP[],3,0)","v":3.3331266790659226},{"$f":"IFERROR(tblCountries[[#This Row],[PPP Factor]],1)","v":3.3331266790659226},null,"Dominican Republic","North Amer.",null,"Dominican Republic","9287",5.2101862818994293,null,null,null,null,null,null,"Kuwait"]
[null,null,null,null,null,null,"UAE Dirham",3.6735099999999998,"AED",null,null,"Sweden","Sweden",{"$f":"VLOOKUP(tblCountries[[#This Row],[Mapping]],tblContinent[#All],2,0)","v":"Europe"},{"$f":"VLOOKUP(tblCountries[[#This Row],[Mapping]],tblPPP[],3,0)","v":1.1978759221666584},{"$f":"IFERROR(tblCountries[[#This Row],[PPP Factor]],1)","v":1.1978759221666584},null,"East Timor","Asia",null,"East Timor","8701",5.5610849327663487,null,null,null,null,null,null,"Kuwait"]
[null,null,null,null,null,null,"Bangladesh Takha",81.827399999999997,"BDT",null,null,"china","china",{"$f":"VLOOKUP(tblCountries[[#This Row],[Mapping]],tblContinent[#All],2,0)","v":"Asia"},{"$f":"VLOOKUP(tblCountries[[#This Row],[Mapping]],tblPPP[],3,0)","v":5.7727272727272725},{"$f":"IFERROR(tblCountries[[#This Row],[PPP Factor]],1)","v":5.7727272727272725},null,"Ecuador","South Amer.",null,"Ecuador","8492",5.6979510127178523,null,null,null,null,null,null,"Latin America"]
[null,null,null,null,null,null,"Costarican CRC",498.05,"Costarican",null,null,"Bangladesh","Bangladesh",{"$f":"VLOOKUP(tblCountries[[#This Row],[Mapping]],tblContinent[#All],2,0)","v":"Asia"},{"$f":"VLOOKUP(tblCountries[[#This Row],[Mapping]],tblPPP[],3,0)","v":28.580626107501477},{"$f":"IFERROR(tblCountries[[#This Row],[PPP Factor]],1)","v":28.580626107501477},null,"Egypt","Africa",null,"Egypt","6540",7.3986238532110091,null,null,null,null,null,null,"Lesotho"]
[null,null,null,null,null,null,"Egyptian Pound",6.0510000000000002,"Egypt",null,null,"Croatia","Croatia",{"$f":"VLOOKUP(tblCountries[[#This Row],[Mapping]],tblContinent[#All],2,0)","v":"Europe"},{"$f":"VLOOKUP(tblCountries[[#This Row],[Mapping]],tblPPP[],3,0)","v":2.6597955145118735},{"$f":"IFERROR(tblCountries[[#This Row],[PPP Factor]],1)","v":2.6597955145118735},null,"El Salvador","North Amer.",null,"El Salvador","7550",6.4088741721854303,null,null,null,null,null,null,"Libya"]
[null,null,null,null,null,null,"Nigerian Naira",162.25,"NAIRA",null,null,"United Arab Emirates","UAE",{"$f":"VLOOKUP(tblCountries[[#This Row],[Mapping]],tblContinent[#All],2,0)","v":"Asia"},{"$f":"VLOOKUP(tblCountries[[#This Row],[Mapping]],tblPPP[],3,0)","v":1.0047551808629926},{"$f":"IFERROR(tblCountries[[#This Row],[PPP Factor]],1)","v":1.0047551808629926},null,"Equatorial Guinea","Africa",null,"Equatorial Guinea[6]","19356",2.4998450092994422,null,null,null,null,null,null,"Lithuania"]
[null,null,null,null,null,null,"Dominican Peso",38.950000000000003,"DOP",null,null,"MÃ©xico","Mexico",{"$f":"VLOOKUP(tblCountries[[#This Row],[Mapping]],tblContinent[#All],2,0)","v":"North Amer."},{"$f":"VLOOKUP(tblCountries[[#This Row],[Mapping]],tblPPP[],3,0)","v":3.3119096509240245},{"$f":"IFERROR(tblCountries[[#This Row],[PPP Factor]],1)","v":3.3119096509240245},null,"Eritrea","Africa",null,"Eritrea","735",65.832653061224491,null,null,null,null,null,null,"Malaysia"]
[null,null,null,null,null,null,"Polish Zloty",3.3298399999999999,"PLN",null,null,"Zambia","Zambia",{"$f":"VLOOKUP(tblCountries[[#This Row],[Mapping]],tblContinent[#All],2,0)","v":"Africa"},{"$f":"VLOOKUP(tblCountries[[#This Row],[Mapping]],tblPPP[],3,0)","v":30.03538175046555},{"$f":"IFERROR(tblCountries[[#This Row],[PPP Factor]],1)","v":30.03538175046555},null,"Estonia","Europe",null,"Estonia","20380",2.3742394504416096,null,null,null,null,null,null,"Mauritius"]
[null,null,null,null,null,null,"Kenyan Shilling",83.5,"Kenya",null,null,"Tunisia","Tunisia",{"$f":"VLOOKUP(tblCountries[[#This Row],[Mapping]],tblContinent[#All],2,0)","v":"Africa"},{"$f":"VLOOKUP(tblCountries[[#This Row],[Mapping]],tblPPP[],3,0)","v":5.1051909685587678},{"$f":"IFERROR(tblCountries[[#This Row],[PPP Factor]],1)","v":5.1051909685587678},null,"Ethiopia","Africa",null,"Ethiopia","1093",44.269899359560839,null,null,null,null,null,null,"Mexico"]
[null,null,null,null,null,null,"Mongolian Tughrik",1322,"Mongolian",null,null,"Saudi Arabai","Saudi Arabia",{"$f":"VLOOKUP(tblCountries[[#This Row],[Mapping]],tblContinent[#All],2,0)","v":"Asia"},{"$f":"VLOOKUP(tblCountries[[#This Row],[Mapping]],tblPPP[],3,0)","v":1.9964104468374799},{"$f":"IFERROR(tblCountries[[#This Row],[PPP Factor]],1)","v":1.9964104468374799},null,"Fiji","Oceania",null,"European Union","31607",1.5308950548929035,null,null,null,null,null,null,"Mongolia"]
[null,null,null,null,null,null,"Moroccan Dirham",8.73,"MAD",null,null,"Ethiopia","Ethiopia",{"$f":"VLOOKUP(tblCountries[[#This Row],[Mapping]],tblContinent[#All],2,0)","v":"Africa"},{"$f":"VLOOKUP(tblCountries[[#This Row],[Mapping]],tblPPP[],3,0)","v":44.269899359560839},{"$f":"IFERROR(tblCountries[[#This Row],[PPP Factor]],1)","v":44.269899359560839},null,"Finland","Europe",null,"Fiji","4620",10.473376623376623,null,null,null,null,null,null,"Montenegro"]
[null,null,null,null,null,null,"Ethiopian Birr",17.68,"ETB",null,null,"CEE","CEE",{"$f":"VLOOKUP(tblCountries[[#This Row],[Mapping]],tblContinent[#All],2,0)","v":"Europe"},{"$f":"VLOOKUP(tblCountries[[#This Row],[Mapping]],tblPPP[],3,0)","v":{"$error":"#N/A"}},{"$f":"IFERROR(tblCountries[[#This Row],[PPP Factor]],1)","v":1},null,"France","Europe",null,"Finland","36236",1.3353295065680539,null,null,null,null,null,null,"Morocco"]
[null,null,null,null,null,null,null,null,null,null,null,"SouthAfrica","South Africa",{"$f":"VLOOKUP(tblCountries[[#This Row],[Mapping]],tblContinent[#All],2,0)","v":"Africa"},{"$f":"VLOOKUP(tblCountries[[#This Row],[Mapping]],tblPPP[],3,0)","v":4.4096418481727877},{"$f":"IFERROR(tblCountries[[#This Row],[PPP Factor]],1)","v":4.4096418481727877},null,"Gabon","Africa",null,"France","35156",1.3763511207190806,null,null,null,null,null,null,"mozambique"]
[null,null,null,null,null,null,null,null,null,null,null,"Central America","Central America",{"$f":"VLOOKUP(tblCountries[[#This Row],[Mapping]],tblContinent[#All],2,0)","v":"South Amer."},{"$f":"VLOOKUP(tblCountries[[#This Row],[Mapping]],tblPPP[],3,0)","v":{"$error":"#N/A"}},{"$f":"IFERROR(tblCountries[[#This Row],[PPP Factor]],1)","v":1},null,"Gambia","Africa",null,"Gabon","16183",2.9899894951492305,null,null,null,null,null,null,"Myanmar"]
[null,null,null,null,null,null,null,null,null,null,null,"Uruguay","Uruguay",{"$f":"VLOOKUP(tblCountries[[#This Row],[Mapping]],tblContinent[#All],2,0)","v":"South Amer."},{"$f":"VLOOKUP(tblCountries[[#This Row],[Mapping]],tblPPP[],3,0)","v":3.2016806722689077},{"$f":"IFERROR(tblCountries[[#This Row],[PPP Factor]],1)","v":3.2016806722689077},null,"Georgia","Europe",null,"Gambia, The","1943",24.903242408646424,null,null,null,null,null,null,"Netherlands"]
[null,null,null,null,null,null,null,null,null,null,null,"Kenya","Kenya",{"$f":"VLOOKUP(tblCountries[[#This Row],[Mapping]],tblContinent[#All],2,0)","v":"Africa"},{"$f":"VLOOKUP(tblCountries[[#This Row],[Mapping]],tblPPP[],3,0)","v":27.713058419243985},{"$f":"IFERROR(tblCountries[[#This Row],[PPP Factor]],1)","v":27.713058419243985},null,"Germany","Europe",null,"Georgia","5491",8.8120560917865607,null,null,null,null,null,null,"New Zealand"]
[null,null,null,null,null,null,null,null,null,null,null,"Republica Dominicana","Dominican Republic",{"$f":"VLOOKUP(tblCountries[[#This Row],[Mapping]],tblContinent[#All],2,0)","v":"North Amer."},{"$f":"VLOOKUP(tblCountries[[#This Row],[Mapping]],tblPPP[],3,0)","v":5.2101862818994293},{"$f":"IFERROR(tblCountries[[#This Row],[PPP Factor]],1)","v":5.2101862818994293},null,"Ghana","Africa",null,"Germany","37897",{"$f":"$W$5/V71","v":1.276802913159353},null,null,null,null,null,null,"Nigeria"]
[null,null,null,null,null,null,null,null,null,null,null,"Kingdom of Saudi Arabia","Saudi Arabia",{"$f":"VLOOKUP(tblCountries[[#This Row],[Mapping]],tblContinent[#All],2,0)","v":"Asia"},{"$f":"VLOOKUP(tblCountries[[#This Row],[Mapping]],tblPPP[],3,0)","v":1.9964104468374799},{"$f":"IFERROR(tblCountries[[#This Row],[PPP Factor]],1)","v":1.9964104468374799},null,"Greece","Europe",null,"Ghana","3083",15.69477781381771,null,null,null,null,null,null,"Norway"]
[null,null,null,null,null,null,null,null,null,null,null,"Slovakia","Slovakia",{"$f":"VLOOKUP(tblCountries[[#This Row],[Mapping]],tblContinent[#All],2,0)","v":"Europe"},{"$f":"VLOOKUP(tblCountries[[#This Row],[Mapping]],tblPPP[],3,0)","v":2.0763388259526261},{"$f":"IFERROR(tblCountries[[#This Row],[PPP Factor]],1)","v":2.0763388259526261},null,"Grenada","North Amer.",null,"Greece","26294",1.8402297102000456,null,null,null,null,null,null,"Oman"]
[null,null,null,null,null,null,null,null,null,null,null,"Austria","Austria",{"$f":"VLOOKUP(tblCountries[[#This Row],[Mapping]],tblContinent[#All],2,0)","v":"Europe"},{"$f":"VLOOKUP(tblCountries[[#This Row],[Mapping]],tblPPP[],3,0)","v":1.1569747979532303},{"$f":"IFERROR(tblCountries[[#This Row],[PPP Factor]],1)","v":1.1569747979532303},null,"Guatemala","North Amer.",null,"Grenada","13896",3.4820811744386875,null,null,null,null,null,null,"Pakistan"]
[null,null,null,null,null,null,null,null,null,null,null,"Guyana","Guyana",{"$f":"VLOOKUP(tblCountries[[#This Row],[Mapping]],tblContinent[#All],2,0)","v":"South Amer."},{"$f":"VLOOKUP(tblCountries[[#This Row],[Mapping]],tblPPP[],3,0)","v":6.4809804446825607},{"$f":"IFERROR(tblCountries[[#This Row],[PPP Factor]],1)","v":6.4809804446825607},null,"Guinea","Africa",null,"Guatemala","5070",9.5437869822485215,null,null,null,null,null,null,"Panama"]
[null,null,null,null,null,null,null,null,null,null,null,"Azerbaijan","Azerbaijan",{"$f":"VLOOKUP(tblCountries[[#This Row],[Mapping]],tblContinent[#All],2,0)","v":"Europe"},{"$f":"VLOOKUP(tblCountries[[#This Row],[Mapping]],tblPPP[],3,0)","v":4.7428935502842577},{"$f":"IFERROR(tblCountries[[#This Row],[PPP Factor]],1)","v":4.7428935502842577},null,"Guinea-Bissau","Africa",null,"Guinea","1083",44.6786703601108,null,null,null,null,null,null,"Paraguay"]
[null,null,null,null,null,null,null,null,null,null,null,"Bulgaria","Bulgaria",{"$f":"VLOOKUP(tblCountries[[#This Row],[Mapping]],tblContinent[#All],2,0)","v":"Europe"},{"$f":"VLOOKUP(tblCountries[[#This Row],[Mapping]],tblPPP[],3,0)","v":3.5586526439655808},{"$f":"IFERROR(tblCountries[[#This Row],[PPP Factor]],1)","v":3.5586526439655808},null,"Guyana","South Amer.",null,"Guinea-Bissau","1144",42.296328671328673,null,null,null,null,null,null,"Peru"]
[null,null,null,null,null,null,null,null,null,null,null,"Kuwait ","Kuwait",{"$f":"VLOOKUP(tblCountries[[#This Row],[Mapping]],tblContinent[#All],2,0)","v":"Asia"},{"$f":"VLOOKUP(tblCountries[[#This Row],[Mapping]],tblPPP[],3,0)","v":1.1606102036410737},{"$f":"IFERROR(tblCountries[[#This Row],[PPP Factor]],1)","v":1.1606102036410737},null,"Haiti","North Amer.",null,"Guyana","7466",6.4809804446825607,null,null,null,null,null,null,"Philippines"]
[null,null,null,null,null,null,null,null,null,null,null,"Peru","Peru",{"$f":"VLOOKUP(tblCountries[[#This Row],[Mapping]],tblContinent[#All],2,0)","v":"South Amer."},{"$f":"VLOOKUP(tblCountries[[#This Row],[Mapping]],tblPPP[],3,0)","v":4.8088849135360761},{"$f":"IFERROR(tblCountries[[#This Row],[PPP Factor]],1)","v":4.8088849135360761},null,"Honduras","North Amer.",null,"Haiti","1235",39.179757085020242,null,null,null,null,null,null,"Poland"]
[null,null,null,null,null,null,null,null,null,null,null,"Vietnam","Vietnam",{"$f":"VLOOKUP(tblCountries[[#This Row],[Mapping]],tblContinent[#All],2,0)","v":"Asia"},{"$f":"VLOOKUP(tblCountries[[#This Row],[Mapping]],tblPPP[],3,0)","v":14.405180113128907},{"$f":"IFERROR(tblCountries[[#This Row],[PPP Factor]],1)","v":14.405180113128907},null,"Hungary","Europe",null,"Honduras","4345",11.136248561565017,null,null,null,null,null,null,"Portugal"]
[null,null,null,null,null,null,null,null,null,null,null,"Armenia","Armenia",{"$f":"VLOOKUP(tblCountries[[#This Row],[Mapping]],tblContinent[#All],2,0)","v":"Europe"},{"$f":"VLOOKUP(tblCountries[[#This Row],[Mapping]],tblPPP[],3,0)","v":8.9871842496285286},{"$f":"IFERROR(tblCountries[[#This Row],[PPP Factor]],1)","v":8.9871842496285286},null,"Iceland","Europe",null,"Hong Kong","49137",0.98473655290310769,null,null,null,null,null,null,"Qatar"]
[null,null,null,null,null,null,null,null,null,null,null,"Zimbabwe","Zimbabwe",{"$f":"VLOOKUP(tblCountries[[#This Row],[Mapping]],tblContinent[#All],2,0)","v":"Africa"},{"$f":"VLOOKUP(tblCountries[[#This Row],[Mapping]],tblPPP[],3,0)","v":99.357289527720738},{"$f":"IFERROR(tblCountries[[#This Row],[PPP Factor]],1)","v":99.357289527720738},null,"India","Asia",null,"Hungary","19591",2.4698586085447398,null,null,null,null,null,null,"Republic of Georgia"]
[null,null,null,null,null,null,null,null,null,null,null,"RSA","South Africa",{"$f":"VLOOKUP(tblCountries[[#This Row],[Mapping]],tblContinent[#All],2,0)","v":"Africa"},{"$f":"VLOOKUP(tblCountries[[#This Row],[Mapping]],tblPPP[],3,0)","v":4.4096418481727877},{"$f":"IFERROR(tblCountries[[#This Row],[PPP Factor]],1)","v":4.4096418481727877},null,"Indonesia","Asia",null,"Iceland","38061",1.2713013320722,null,null,null,null,null,null,"Romania"]
[null,null,null,null,null,null,null,null,null,null,null,"Libya","Libya",{"$f":"VLOOKUP(tblCountries[[#This Row],[Mapping]],tblContinent[#All],2,0)","v":"Africa"},{"$f":"VLOOKUP(tblCountries[[#This Row],[Mapping]],tblPPP[],3,0)","v":8.3613271124935196},{"$f":"IFERROR(tblCountries[[#This Row],[PPP Factor]],1)","v":8.3613271124935196},null,"Iran","Asia",null,"India","3694",13.098808879263672,null,null,null,null,null,null,"Russia"]
[null,null,null,null,null,null,null,null,null,null,null,"self-employed","self-employed",{"$f":"VLOOKUP(tblCountries[[#This Row],[Mapping]],tblContinent[#All],2,0)","v":0},{"$f":"VLOOKUP(tblCountries[[#This Row],[Mapping]],tblPPP[],3,0)","v":{"$error":"#N/A"}},{"$f":"IFERROR(tblCountries[[#This Row],[PPP Factor]],1)","v":1},null,"Iraq","Asia",null,"Indonesia","4666",10.370124303471924,null,null,null,null,null,null,"Saudi Arabia"]
[null,null,null,null,null,null,null,null,null,null,null,"Lithuania","Lithuania",{"$f":"VLOOKUP(tblCountries[[#This Row],[Mapping]],tblContinent[#All],2,0)","v":"Europe"},{"$f":"VLOOKUP(tblCountries[[#This Row],[Mapping]],tblPPP[],3,0)","v":2.5661327959270257},{"$f":"IFERROR(tblCountries[[#This Row],[PPP Factor]],1)","v":2.5661327959270257},null,"Ireland","Europe",null,"Iran","13053",3.706963916341071,null,null,null,null,null,null,"self-employed"]
[null,null,null,null,null,null,null,null,null,null,null,"Somalia","Somalia",{"$f":"VLOOKUP(tblCountries[[#This Row],[Mapping]],tblContinent[#All],2,0)","v":"Africa"},{"$f":"VLOOKUP(tblCountries[[#This Row],[Mapping]],tblPPP[],3,0)","v":{"$error":"#N/A"}},{"$f":"IFERROR(tblCountries[[#This Row],[PPP Factor]],1)","v":1},null,"Israel","Asia",null,"Iraq","3886",12.451621204323212,null,null,null,null,null,null,"Singapore"]
[null,null,null,null,null,null,null,null,null,null,null,"Colombia - South America","Colombia",{"$f":"VLOOKUP(tblCountries[[#This Row],[Mapping]],tblContinent[#All],2,0)","v":"South Amer."},{"$f":"VLOOKUP(tblCountries[[#This Row],[Mapping]],tblPPP[],3,0)","v":4.721143526197678},{"$f":"IFERROR(tblCountries[[#This Row],[PPP Factor]],1)","v":4.721143526197678},null,"Italy","Europe",null,"Ireland","39639",1.2206917429803981,null,null,null,null,null,null,"Slovakia"]
[null,null,null,null,null,null,null,null,null,null,null,"BRA","Brazil",{"$f":"VLOOKUP(tblCountries[[#This Row],[Mapping]],tblContinent[#All],2,0)","v":"South Amer."},{"$f":"VLOOKUP(tblCountries[[#This Row],[Mapping]],tblPPP[],3,0)","v":4.1113943410655107},{"$f":"IFERROR(tblCountries[[#This Row],[PPP Factor]],1)","v":4.1113943410655107},null,"Ivory Coast","Africa",null,"Israel","30975",1.5621307506053268,null,null,null,null,null,null,"Slovenia"]
[null,null,null,null,null,null,null,null,null,null,null,"mainland Europe (Euro zone)","Europe",{"$f":"VLOOKUP(tblCountries[[#This Row],[Mapping]],tblContinent[#All],2,0)","v":"Europe"},{"$f":"VLOOKUP(tblCountries[[#This Row],[Mapping]],tblPPP[],3,0)","v":{"$error":"#N/A"}},{"$f":"IFERROR(tblCountries[[#This Row],[PPP Factor]],1)","v":1},null,"Jamaica","North Amer.",null,"Italy","30464",1.5883337710084033,null,null,null,null,null,null,"Somalia"]
[null,null,null,null,null,null,null,null,null,null,null,"Thailand","Thailand",{"$f":"VLOOKUP(tblCountries[[#This Row],[Mapping]],tblContinent[#All],2,0)","v":"Asia"},{"$f":"VLOOKUP(tblCountries[[#This Row],[Mapping]],tblPPP[],3,0)","v":5.1497445721583652},{"$f":"IFERROR(tblCountries[[#This Row],[PPP Factor]],1)","v":5.1497445721583652},null,"Japan","Asia",null,"Jamaica","9029",5.3590652342452101,null,null,null,null,null,null,"South Africa"]
[null,null,null,null,null,null,null,null,null,null,null,"Continental Europe","CEE",{"$f":"VLOOKUP(tblCountries[[#This Row],[Mapping]],tblContinent[#All],2,0)","v":"Europe"},{"$f":"VLOOKUP(tblCountries[[#This Row],[Mapping]],tblPPP[],3,0)","v":{"$error":"#N/A"}},{"$f":"IFERROR(tblCountries[[#This Row],[PPP Factor]],1)","v":1},null,"Jordan","Asia",null,"Japan","34740",1.392832469775475,null,null,null,null,null,null,"Spain"]
[null,null,null,null,null,null,null,null,null,null,null,"Asia","Asia",{"$f":"VLOOKUP(tblCountries[[#This Row],[Mapping]],tblContinent[#All],2,0)","v":"Asia"},{"$f":"VLOOKUP(tblCountries[[#This Row],[Mapping]],tblPPP[],3,0)","v":{"$error":"#N/A"}},{"$f":"IFERROR(tblCountries[[#This Row],[PPP Factor]],1)","v":1},null,"Kazakhstan","Asia",null,"Jordan","5900",8.2011864406779669,null,null,null,null,null,null,"Sri Lanka"]
[null,null,null,null,null,null,null,null,null,null,null,"Mauritius","Mauritius",{"$f":"VLOOKUP(tblCountries[[#This Row],[Mapping]],tblContinent[#All],2,0)","v":"Africa"},{"$f":"VLOOKUP(tblCountries[[#This Row],[Mapping]],tblPPP[],3,0)","v":3.2357228835094287},{"$f":"IFERROR(tblCountries[[#This Row],[PPP Factor]],1)","v":3.2357228835094287},null,"Kenya","Africa",null,"Kazakhstan","13001",3.7217906314898852,null,null,null,null,null,null,"Sweden"]
[null,null,null,null,null,null,null,null,null,null,null,"Cambodia","Cambodia",{"$f":"VLOOKUP(tblCountries[[#This Row],[Mapping]],tblContinent[#All],2,0)","v":"Asia"},{"$f":"VLOOKUP(tblCountries[[#This Row],[Mapping]],tblPPP[],3,0)","v":21.835288808664259},{"$f":"IFERROR(tblCountries[[#This Row],[PPP Factor]],1)","v":21.835288808664259},null,"Kiribati","Oceania",null,"Kenya","1746",27.713058419243985,null,null,null,null,null,null,"Switzerland"]
[null,null,null,null,null,null,null,null,null,null,null,"Costa Rica","Costa Rica",{"$f":"VLOOKUP(tblCountries[[#This Row],[Mapping]],tblContinent[#All],2,0)","v":"North Amer."},{"$f":"VLOOKUP(tblCountries[[#This Row],[Mapping]],tblPPP[],3,0)","v":4.0569296554037058},{"$f":"IFERROR(tblCountries[[#This Row],[PPP Factor]],1)","v":4.0569296554037058},null,"Korea, North","Asia",null,"Kiribati","5722",8.4563089828731215,null,null,null,null,null,null,"Thailand"]
[null,null,null,null,null,null,null,null,null,null,null,"Viet Nam","Vietnam",{"$f":"VLOOKUP(tblCountries[[#This Row],[Mapping]],tblContinent[#All],2,0)","v":"Asia"},{"$f":"VLOOKUP(tblCountries[[#This Row],[Mapping]],tblPPP[],3,0)","v":14.405180113128907},{"$f":"IFERROR(tblCountries[[#This Row],[PPP Factor]],1)","v":14.405180113128907},null,"Korea, South","Asia",null,"Korea, South","31714",1.525729961531185,null,null,null,null,null,null,"Tunisia"]
[null,null,null,null,null,null,null,null,null,null,null,"Mongolia","Mongolia",{"$f":"VLOOKUP(tblCountries[[#This Row],[Mapping]],tblContinent[#All],2,0)","v":"Asia"},{"$f":"VLOOKUP(tblCountries[[#This Row],[Mapping]],tblPPP[],3,0)","v":10.199620573355817},{"$f":"IFERROR(tblCountries[[#This Row],[PPP Factor]],1)","v":10.199620573355817},null,"Kuwait","Asia",null,"Kosovo[8]","7044",6.8692504258943785,null,null,null,null,null,null,"Turkey"]
[null,null,null,null,null,null,null,null,null,null,null,"Estonia","Estonia",{"$f":"VLOOKUP(tblCountries[[#This Row],[Mapping]],tblContinent[#All],2,0)","v":"Europe"},{"$f":"VLOOKUP(tblCountries[[#This Row],[Mapping]],tblPPP[],3,0)","v":2.3742394504416096},{"$f":"IFERROR(tblCountries[[#This Row],[PPP Factor]],1)","v":2.3742394504416096},null,"Kyrgyzstan","Asia",null,"Kuwait","41691",1.1606102036410737,null,null,null,null,null,null,"UAE"]
[null,null,null,null,null,null,null,null,null,null,null,"Montenegro","Montenegro",{"$f":"VLOOKUP(tblCountries[[#This Row],[Mapping]],tblContinent[#All],2,0)","v":"Europe"},{"$f":"VLOOKUP(tblCountries[[#This Row],[Mapping]],tblPPP[],3,0)","v":4.1911650064963188},{"$f":"IFERROR(tblCountries[[#This Row],[PPP Factor]],1)","v":4.1911650064963188},null,"Laos","Asia",null,"Kyrgyzstan","2372",20.399241146711635,null,null,null,null,null,null,"Uganda"]
[null,null,null,null,null,null,null,null,null,null,null,"EU","Europe",{"$f":"VLOOKUP(tblCountries[[#This Row],[Mapping]],tblContinent[#All],2,0)","v":"Europe"},{"$f":"VLOOKUP(tblCountries[[#This Row],[Mapping]],tblPPP[],3,0)","v":{"$error":"#N/A"}},{"$f":"IFERROR(tblCountries[[#This Row],[PPP Factor]],1)","v":1},null,"Latvia","Europe",null,"Laos","2659",18.197442647611883,null,null,null,null,null,null,"UK"]
[null,null,null,null,null,null,null,null,null,null,null,"Morocco","Morocco",{"$f":"VLOOKUP(tblCountries[[#This Row],[Mapping]],tblContinent[#All],2,0)","v":"Africa"},{"$f":"VLOOKUP(tblCountries[[#This Row],[Mapping]],tblPPP[],3,0)","v":9.5777909738717337},{"$f":"IFERROR(tblCountries[[#This Row],[PPP Factor]],1)","v":9.5777909738717337},null,"Lebanon","Asia",null,"Latvia","15662",3.0894521772442856,null,null,null,null,null,null,"Ukraine"]
[null,null,null,null,null,null,null,null,null,null,null,"Republic of Georgia","Republic of Georgia",{"$f":"VLOOKUP(tblCountries[[#This Row],[Mapping]],tblContinent[#All],2,0)","v":"Asia"},{"$f":"VLOOKUP(tblCountries[[#This Row],[Mapping]],tblPPP[],3,0)","v":{"$error":"#N/A"}},{"$f":"IFERROR(tblCountries[[#This Row],[PPP Factor]],1)","v":1},null,"Lesotho","Africa",null,"Lebanon","15523",{"$f":"$W$5/V103","v":3.1171165367519165},null,null,null,null,null,null,"Uruguay"]
[null,null,null,null,null,null,null,null,null,null,null,"mozambique","mozambique",{"$f":"VLOOKUP(tblCountries[[#This Row],[Mapping]],tblContinent[#All],2,0)","v":"Africa"},{"$f":"VLOOKUP(tblCountries[[#This Row],[Mapping]],tblPPP[],3,0)","v":44.596313364055298},{"$f":"IFERROR(tblCountries[[#This Row],[PPP Factor]],1)","v":44.596313364055298},null,"Liberia","Africa",null,"Lesotho","1960",24.687244897959182,null,null,null,null,null,null,"USA"]
[null,null,null,null,null,null,null,null,null,null,null,"europe/Croatia","Croatia",{"$f":"VLOOKUP(tblCountries[[#This Row],[Mapping]],tblContinent[#All],2,0)","v":"Europe"},{"$f":"VLOOKUP(tblCountries[[#This Row],[Mapping]],tblPPP[],3,0)","v":2.6597955145118735},{"$f":"IFERROR(tblCountries[[#This Row],[PPP Factor]],1)","v":2.6597955145118735},null,"Libya","Africa",null,"Liberia","456",106.11184210526316,null,null,null,null,null,null,"Vietnam"]
[null,null,null,null,null,null,null,null,null,null,null,"Myanmar","Myanmar",{"$f":"VLOOKUP(tblCountries[[#This Row],[Mapping]],tblContinent[#All],2,0)","v":"Asia"},{"$f":"VLOOKUP(tblCountries[[#This Row],[Mapping]],tblPPP[],3,0)","v":{"$error":"#N/A"}},{"$f":"IFERROR(tblCountries[[#This Row],[PPP Factor]],1)","v":1},null,"Liechtenstein","Europe",null,"Libya","5787",8.3613271124935196,null,null,null,null,null,null,"Zambia"]
[null,null,null,null,null,null,null,null,null,null,null,"Bermuda","Bermuda",{"$f":"VLOOKUP(tblCountries[[#This Row],[Mapping]],tblContinent[#All],2,0)","v":"South Amer."},{"$f":"VLOOKUP(tblCountries[[#This Row],[Mapping]],tblPPP[],3,0)","v":{"$error":"#N/A"}},{"$f":"IFERROR(tblCountries[[#This Row],[PPP Factor]],1)","v":1},null,"Lithuania","Europe",null,"Lithuania","18856",2.5661327959270257,null,null,null,null,null,null,"Zimbabwe"]
[null,null,null,null,null,null,null,null,null,null,null,"Myanmar [Burma]","Myanmar",{"$f":"VLOOKUP(tblCountries[[#This Row],[Mapping]],tblContinent[#All],2,0)","v":"Asia"},{"$f":"VLOOKUP(tblCountries[[#This Row],[Mapping]],tblPPP[],3,0)","v":{"$error":"#N/A"}},{"$f":"IFERROR(tblCountries[[#This Row],[PPP Factor]],1)","v":1},null,"Luxembourg","Europe",null,"Luxembourg","80119",0.60393914052846387]
[null,null,null,null,null,null,null,null,null,null,null,"FR","France",{"$f":"VLOOKUP(tblCountries[[#This Row],[Mapping]],tblContinent[#All],2,0)","v":"Europe"},{"$f":"VLOOKUP(tblCountries[[#This Row],[Mapping]],tblPPP[],3,0)","v":1.3763511207190806},{"$f":"IFERROR(tblCountries[[#This Row],[PPP Factor]],1)","v":1.3763511207190806},null,"Macedonia","Europe",null,"Macedonia, Republic of","10367",4.6674061927269221]
[null,null,null,null,null,null,null,null,null,null,null,"MYS","Malaysia",{"$f":"VLOOKUP(tblCountries[[#This Row],[Mapping]],tblContinent[#All],2,0)","v":"Asia"},{"$f":"VLOOKUP(tblCountries[[#This Row],[Mapping]],tblPPP[],3,0)","v":3.1081063720452211},{"$f":"IFERROR(tblCountries[[#This Row],[PPP Factor]],1)","v":3.1081063720452211},null,"Madagascar","Africa",null,"Madagascar","934",51.806209850107066]
[null,null,null,null,null,null,null,null,null,null,null,"Bhutan","Bhutan",{"$f":"VLOOKUP(tblCountries[[#This Row],[Mapping]],tblContinent[#All],2,0)","v":"Asia"},{"$f":"VLOOKUP(tblCountries[[#This Row],[Mapping]],tblPPP[],3,0)","v":7.916721204188482},{"$f":"IFERROR(tblCountries[[#This Row],[PPP Factor]],1)","v":7.916721204188482},null,"Malawi","Africa",null,"Malawi","860",56.263953488372096]
[null,null,null,null,null,null,null,null,null,null,null,"Baltic","Baltic",{"$f":"VLOOKUP(tblCountries[[#This Row],[Mapping]],tblContinent[#All],2,0)","v":"Europe"},{"$f":"VLOOKUP(tblCountries[[#This Row],[Mapping]],tblPPP[],3,0)","v":{"$error":"#N/A"}},{"$f":"IFERROR(tblCountries[[#This Row],[PPP Factor]],1)","v":1},null,"Malaysia","Asia",null,"Malaysia","15568",3.1081063720452211]
[null,null,null,null,null,null,null,null,null,null,null,"Slovenia","Slovenia",{"$f":"VLOOKUP(tblCountries[[#This Row],[Mapping]],tblContinent[#All],2,0)","v":"Europe"},{"$f":"VLOOKUP(tblCountries[[#This Row],[Mapping]],tblPPP[],3,0)","v":1.6893722505411632},{"$f":"IFERROR(tblCountries[[#This Row],[PPP Factor]],1)","v":1.6893722505411632},null,"Maldives","Asia",null,"Maldives","8731",5.5419768640476459]
[null,null,null,null,null,null,null,null,null,null,null,"New  Zealand","New Zealand",{"$f":"VLOOKUP(tblCountries[[#This Row],[Mapping]],tblContinent[#All],2,0)","v":"Oceania"},{"$f":"VLOOKUP(tblCountries[[#This Row],[Mapping]],tblPPP[],3,0)","v":1.7488434292323261},{"$f":"IFERROR(tblCountries[[#This Row],[PPP Factor]],1)","v":1.7488434292323261},null,"Mali","Africa",null,"Mali","1128",42.896276595744681]
[null,null,null,null,null,null,null,null,null,null,null,"Bolivia","Bolivia",{"$f":"VLOOKUP(tblCountries[[#This Row],[Mapping]],tblContinent[#All],2,0)","v":"South Amer."},{"$f":"VLOOKUP(tblCountries[[#This Row],[Mapping]],tblPPP[],3,0)","v":10.103779494675297},{"$f":"IFERROR(tblCountries[[#This Row],[PPP Factor]],1)","v":10.103779494675297},null,"Malta","Europe",null,"Malta","25428",1.902902312411515]
[null,null,null,null,null,null,null,null,null,null,null,"Czech Republic","Czech Republic",{"$f":"VLOOKUP(tblCountries[[#This Row],[Mapping]],tblContinent[#All],2,0)","v":"Europe"},{"$f":"VLOOKUP(tblCountries[[#This Row],[Mapping]],tblPPP[],3,0)","v":1.788005321114478},{"$f":"IFERROR(tblCountries[[#This Row],[PPP Factor]],1)","v":1.788005321114478},null,"Marshall Islands","Oceania",null,"Mauritania","2179",22.206057824690223]
[null,null,null,null,null,null,null,null,null,null,null,"Ghana","Ghana",{"$f":"VLOOKUP(tblCountries[[#This Row],[Mapping]],tblContinent[#All],2,0)","v":"Africa"},{"$f":"VLOOKUP(tblCountries[[#This Row],[Mapping]],tblPPP[],3,0)","v":15.69477781381771},{"$f":"IFERROR(tblCountries[[#This Row],[PPP Factor]],1)","v":15.69477781381771},null,"Mauritania","Africa",null,"Mauritius","14954",3.2357228835094287]
[null,null,null,null,null,null,null,null,null,null,null,"bangkok","Thailand",{"$f":"VLOOKUP(tblCountries[[#This Row],[Mapping]],tblContinent[#All],2,0)","v":"Asia"},{"$f":"VLOOKUP(tblCountries[[#This Row],[Mapping]],tblPPP[],3,0)","v":5.1497445721583652},{"$f":"IFERROR(tblCountries[[#This Row],[PPP Factor]],1)","v":5.1497445721583652},null,"Mauritius","Africa",null,"Mexico","14610",3.3119096509240245]
[null,null,null,null,null,null,null,null,null,null,null,"srilanka","Sri Lanka",{"$f":"VLOOKUP(tblCountries[[#This Row],[Mapping]],tblContinent[#All],2,0)","v":"Asia"},{"$f":"VLOOKUP(tblCountries[[#This Row],[Mapping]],tblPPP[],3,0)","v":8.5278463165315479},{"$f":"IFERROR(tblCountries[[#This Row],[PPP Factor]],1)","v":8.5278463165315479},null,"Mexico","North Amer.",null,"Moldova","3373",14.345389860658168]
[null,null,null,null,null,null,null,null,null,null,null,"NL","Netherlands",{"$f":"VLOOKUP(tblCountries[[#This Row],[Mapping]],tblContinent[#All],2,0)","v":"Europe"},{"$f":"VLOOKUP(tblCountries[[#This Row],[Mapping]],tblPPP[],3,0)","v":1.1470734656141099},{"$f":"IFERROR(tblCountries[[#This Row],[PPP Factor]],1)","v":1.1470734656141099},null,"Micronesia","Oceania",null,"Mongolia","4744",10.199620573355817]
[null,null,null,null,null,null,null,null,null,null,null,"Hong Kong","Hong Kong",{"$f":"VLOOKUP(tblCountries[[#This Row],[Mapping]],tblContinent[#All],2,0)","v":"Asia"},{"$f":"VLOOKUP(tblCountries[[#This Row],[Mapping]],tblPPP[],3,0)","v":0.98473655290310769},{"$f":"IFERROR(tblCountries[[#This Row],[PPP Factor]],1)","v":0.98473655290310769},null,"Moldova","Europe",null,"Montenegro","11545",4.1911650064963188]
[null,null,null,null,null,null,null,null,null,null,null,"nld","New Zealand",{"$f":"VLOOKUP(tblCountries[[#This Row],[Mapping]],tblContinent[#All],2,0)","v":"Oceania"},{"$f":"VLOOKUP(tblCountries[[#This Row],[Mapping]],tblPPP[],3,0)","v":1.7488434292323261},{"$f":"IFERROR(tblCountries[[#This Row],[PPP Factor]],1)","v":1.7488434292323261},null,"Monaco","Europe",null,"Morocco","5052",9.5777909738717337]
[null,null,null,null,null,null,null,null,null,null,null,"Aruba","Aruba",{"$f":"VLOOKUP(tblCountries[[#This Row],[Mapping]],tblContinent[#All],2,0)","v":"South Amer."},{"$f":"VLOOKUP(tblCountries[[#This Row],[Mapping]],tblPPP[],3,0)","v":{"$error":"#N/A"}},{"$f":"IFERROR(tblCountries[[#This Row],[PPP Factor]],1)","v":1},null,"Mongolia","Asia",null,"Mozambique","1085",44.596313364055298]
[null,null,null,null,null,null,null,null,null,null,null,"DK","Denmark",{"$f":"VLOOKUP(tblCountries[[#This Row],[Mapping]],tblContinent[#All],2,0)","v":"Europe"},{"$f":"VLOOKUP(tblCountries[[#This Row],[Mapping]],tblPPP[],3,0)","v":1.3024063307493541},{"$f":"IFERROR(tblCountries[[#This Row],[PPP Factor]],1)","v":1.3024063307493541},null,"Montenegro","Europe",null,"Namibia","7363",6.5716419937525465]
[null,null,null,null,null,null,null,null,null,null,null,"Iceland","Iceland",{"$f":"VLOOKUP(tblCountries[[#This Row],[Mapping]],tblContinent[#All],2,0)","v":"Europe"},{"$f":"VLOOKUP(tblCountries[[#This Row],[Mapping]],tblPPP[],3,0)","v":1.2713013320722},{"$f":"IFERROR(tblCountries[[#This Row],[PPP Factor]],1)","v":1.2713013320722},null,"Morocco","Africa",null,"Nepal","1328",36.435993975903614]
[null,null,null,null,null,null,null,null,null,null,null,"Dominican Republic","Dominican Republic",{"$f":"VLOOKUP(tblCountries[[#This Row],[Mapping]],tblContinent[#All],2,0)","v":"North Amer."},{"$f":"VLOOKUP(tblCountries[[#This Row],[Mapping]],tblPPP[],3,0)","v":5.2101862818994293},{"$f":"IFERROR(tblCountries[[#This Row],[PPP Factor]],1)","v":5.2101862818994293},null,"Mozambique","Africa",null,"Netherlands","42183",1.1470734656141099]
[null,null,null,null,null,null,null,null,null,null,null,"Uganda","Uganda",{"$f":"VLOOKUP(tblCountries[[#This Row],[Mapping]],tblContinent[#All],2,0)","v":"Africa"},{"$f":"VLOOKUP(tblCountries[[#This Row],[Mapping]],tblPPP[],3,0)","v":36.740318906605921},{"$f":"IFERROR(tblCountries[[#This Row],[PPP Factor]],1)","v":36.740318906605921},null,"Namibia","Africa",null,"New Zealand","27668",1.7488434292323261]
[null,null,null,null,null,null,null,null,null,null,null,"Oman","Oman",{"$f":"VLOOKUP(tblCountries[[#This Row],[Mapping]],tblContinent[#All],2,0)","v":"Asia"},{"$f":"VLOOKUP(tblCountries[[#This Row],[Mapping]],tblPPP[],3,0)","v":1.824616312832309},{"$f":"IFERROR(tblCountries[[#This Row],[PPP Factor]],1)","v":1.824616312832309},null,"Nauru","Oceania",null,"Nicaragua","3206",15.092638802245789]
[null,null,null,null,null,null,null,null,null,null,null,"Inonesia","Indonesia",{"$f":"VLOOKUP(tblCountries[[#This Row],[Mapping]],tblContinent[#All],2,0)","v":"Asia"},{"$f":"VLOOKUP(tblCountries[[#This Row],[Mapping]],tblPPP[],3,0)","v":10.370124303471924},{"$f":"IFERROR(tblCountries[[#This Row],[PPP Factor]],1)","v":10.370124303471924},null,"Nepal","Asia",null,"Niger","771",62.75875486381323]
[null,null,null,null,null,null,null,null,null,null,null,"Argentina","Argentina",{"$f":"VLOOKUP(tblCountries[[#This Row],[Mapping]],tblContinent[#All],2,0)","v":"South Amer."},{"$f":"VLOOKUP(tblCountries[[#This Row],[Mapping]],tblPPP[],3,0)","v":2.7624457638730302},{"$f":"IFERROR(tblCountries[[#This Row],[PPP Factor]],1)","v":2.7624457638730302},null,"Netherlands","Europe",null,"Nigeria","2578",18.769200930954227]
[null,null,null,null,null,null,null,null,null,null,null,"United Arab Emriate","UAE",{"$f":"VLOOKUP(tblCountries[[#This Row],[Mapping]],tblContinent[#All],2,0)","v":"Asia"},{"$f":"VLOOKUP(tblCountries[[#This Row],[Mapping]],tblPPP[],3,0)","v":1.0047551808629926},{"$f":"IFERROR(tblCountries[[#This Row],[PPP Factor]],1)","v":1.0047551808629926},null,"New Zealand","Oceania",null,"Norway","53471",0.90492042415514951]
[null,null,null,null,null,null,null,null,null,null,null,"Pakistan, Angola","Pakistan",{"$f":"VLOOKUP(tblCountries[[#This Row],[Mapping]],tblContinent[#All],2,0)","v":"Asia"},{"$f":"VLOOKUP(tblCountries[[#This Row],[Mapping]],tblPPP[],3,0)","v":17.361679224973088},{"$f":"IFERROR(tblCountries[[#This Row],[PPP Factor]],1)","v":17.361679224973088},null,"Nicaragua","North Amer.",null,"Oman","26519",1.824616312832309]
[null,null,null,null,null,null,null,null,null,null,null,"Canad","Canada",{"$f":"VLOOKUP(tblCountries[[#This Row],[Mapping]],tblContinent[#All],2,0)","v":"North Amer."},{"$f":"VLOOKUP(tblCountries[[#This Row],[Mapping]],tblPPP[],3,0)","v":1.1935324732986359},{"$f":"IFERROR(tblCountries[[#This Row],[PPP Factor]],1)","v":1.1935324732986359},null,"Niger","Africa",null,"Pakistan","2787",17.361679224973088]
[null,null,null,null,null,null,null,null,null,null,null,"Egypt","Egypt",{"$f":"VLOOKUP(tblCountries[[#This Row],[Mapping]],tblContinent[#All],2,0)","v":"Africa"},{"$f":"VLOOKUP(tblCountries[[#This Row],[Mapping]],tblPPP[],3,0)","v":7.3986238532110091},{"$f":"IFERROR(tblCountries[[#This Row],[PPP Factor]],1)","v":7.3986238532110091},null,"Nigeria","Africa",null,"Panama","14097",3.4324324324324325]
[null,null,null,null,null,null,null,null,null,null,null,"arabian Gulf","arabian Gulf",{"$f":"VLOOKUP(tblCountries[[#This Row],[Mapping]],tblContinent[#All],2,0)","v":"Asia"},{"$f":"VLOOKUP(tblCountries[[#This Row],[Mapping]],tblPPP[],3,0)","v":{"$error":"#N/A"}},{"$f":"IFERROR(tblCountries[[#This Row],[PPP Factor]],1)","v":1},null,"Norway","Europe",null,"Papua New Guinea","2532",{"$f":"$W$5/V135","v":19.110189573459717}]
[null,null,null,null,null,null,null,null,null,null,null,"Paraguay","Paraguay",{"$f":"VLOOKUP(tblCountries[[#This Row],[Mapping]],tblContinent[#All],2,0)","v":"South Amer."},{"$f":"VLOOKUP(tblCountries[[#This Row],[Mapping]],tblPPP[],3,0)","v":8.939035654904858},{"$f":"IFERROR(tblCountries[[#This Row],[PPP Factor]],1)","v":8.939035654904858},null,"Oman","Asia",null,"Paraguay","5413",8.939035654904858]
[null,null,null,null,null,null,null,null,null,null,null,"Latin America","Latin America",{"$f":"VLOOKUP(tblCountries[[#This Row],[Mapping]],tblContinent[#All],2,0)","v":"South Amer."},{"$f":"VLOOKUP(tblCountries[[#This Row],[Mapping]],tblPPP[],3,0)","v":{"$error":"#N/A"}},{"$f":"IFERROR(tblCountries[[#This Row],[PPP Factor]],1)","v":1},null,"Pakistan","Asia",null,"Peru","10062",4.8088849135360761]
[null,null,null,null,null,null,null,null,null,null,null,"Albania","Albania",{"$f":"VLOOKUP(tblCountries[[#This Row],[Mapping]],tblContinent[#All],2,0)","v":"Europe"},{"$f":"VLOOKUP(tblCountries[[#This Row],[Mapping]],tblPPP[],3,0)","v":6.2507427980881021},{"$f":"IFERROR(tblCountries[[#This Row],[PPP Factor]],1)","v":6.2507427980881021},null,"Palau","Oceania",null,"Philippines","4073",11.879941075374417]
[null,null,null,null,null,null,null,null,null,null,null,"Lesotho","Lesotho",{"$f":"VLOOKUP(tblCountries[[#This Row],[Mapping]],tblContinent[#All],2,0)","v":"Africa"},{"$f":"VLOOKUP(tblCountries[[#This Row],[Mapping]],tblPPP[],3,0)","v":24.687244897959182},{"$f":"IFERROR(tblCountries[[#This Row],[PPP Factor]],1)","v":24.687244897959182},null,"Panama","North Amer.",null,"Poland","20334",2.3796105045736207]
[null,null,null,null,null,null,null,null,null,null,null,null,null,null,null,null,null,"Papua New Guinea","Oceania",null,"Portugal","23361",2.0712726338769745]
[null,null,null,null,null,null,null,null,null,null,null,null,null,null,null,null,null,"Paraguay","South Amer.",null,"Qatar","102943",0.4700368164906793]
[null,null,null,null,null,null,null,null,null,null,null,null,null,null,null,null,null,"Peru","South Amer.",null,"Romania","12476",3.8784065405578709]
[null,null,null,null,null,null,null,null,null,null,null,null,null,null,null,null,null,"Philippines","Asia",null,"Russia","16736",2.8911926386233269]
[null,null,null,null,null,null,null,null,null,null,null,null,null,null,null,null,null,"Poland","Europe",null,"Rwanda","1341",36.082774049217001]
[null,null,null,null,null,null,null,null,null,null,null,null,null,null,null,null,null,"Portugal","Europe",null,"Saint Kitts and Nevis","15573",3.107108456944712]
[null,null,null,null,null,null,null,null,null,null,null,null,null,null,null,null,null,"Qatar","Asia",null,"Saint Lucia","12607",3.8381058142301896]
[null,null,null,null,null,null,null,null,null,null,null,null,null,null,null,null,null,"Romania","Europe",null,"Saint Vincent and the Grenadines","11491",4.2108606735706209]
[null,null,null,null,null,null,null,null,null,null,null,null,null,null,null,null,null,"Russia","Asia",null,"Samoa","5965",8.1118189438390615]
[null,null,null,null,null,null,null,null,null,null,null,null,null,null,null,null,null,"Rwanda","Africa",null,"São Tomé and Príncipe","2252",21.486234458259325]
[null,null,null,null,null,null,null,null,null,null,null,null,null,null,null,null,null,"Saint Kitts and Nevis","North Amer.",null,"Saudi Arabia","24237",1.9964104468374799]
[null,null,null,null,null,null,null,null,null,null,null,null,null,null,null,null,null,"Saint Lucia","North Amer.",null,"Senegal","1871",25.861571352218064]
[null,null,null,null,null,null,null,null,null,null,null,null,null,null,null,null,null,"Saint Vincent and the Grenadines","North Amer.",null,"Serbia","10642",4.5467957150911484]
[null,null,null,null,null,null,null,null,null,null,null,null,null,null,null,null,null,"Samoa","Oceania",null,"Seychelles","24726",1.9569279301140501]
[null,null,null,null,null,null,null,null,null,null,null,null,null,null,null,null,null,"San Marino","Europe",null,"Sierra Leone","849",56.992932862190813]
[null,null,null,null,null,null,null,null,null,null,null,null,null,null,null,null,null,"Sao Tome and Principe","Africa",null,"Singapore","59711",0.81035320125270049]
[null,null,null,null,null,null,null,null,null,null,null,null,null,null,null,null,null,"Saudi Arabia","Asia",null,"Slovakia","23304",2.0763388259526261]
[null,null,null,null,null,null,null,null,null,null,null,null,null,null,null,null,null,"Senegal","Africa",null,"Slovenia","28642",1.6893722505411632]
[null,null,null,null,null,null,null,null,null,null,null,null,null,null,null,null,null,"Serbia","Europe",null,"Solomon Islands","3192",15.158834586466165]
[null,null,null,null,null,null,null,null,null,null,null,null,null,null,null,null,null,"Seychelles","Africa",null,"South Africa","10973",4.4096418481727877]
[null,null,null,null,null,null,null,null,null,null,null,null,null,null,null,null,null,"Sierra Leone","Africa",null,"Spain","30626",1.5799320838503232]
[null,null,null,null,null,null,null,null,null,null,null,null,null,null,null,null,null,"Singapore","Asia",null,"Sri Lanka","5674",8.5278463165315479]
[null,null,null,null,null,null,null,null,null,null,null,null,null,null,null,null,null,"Slovakia","Europe",null,"Sudan &  South Sudan[9]","2726",17.750183418928835]
[null,null,null,null,null,null,null,null,null,null,null,null,null,null,null,null,null,"Slovenia","Europe",null,"Suriname","9475",5.1068073878627969]
[null,null,null,null,null,null,null,null,null,null,null,null,null,null,null,null,null,"Solomon Islands","Oceania",null,"Swaziland","5302",9.1261788004526601]
[null,null,null,null,null,null,null,null,null,null,null,null,null,null,null,null,null,"Somalia","Africa",null,"Sweden","40394",1.1978759221666584]
[null,null,null,null,null,null,null,null,null,null,null,null,null,null,null,null,null,"South Africa","Africa",null,"Switzerland","43370",1.1156790408116208]
[null,null,null,null,null,null,null,null,null,null,null,null,null,null,null,null,null,"South Sudan","Africa",null,"Syria","5041",{"$f":"$W$5/V167","v":9.5986907359650857}]
[null,null,null,null,null,null,null,null,null,null,null,null,null,null,null,null,null,"Spain","Europe",null,"Taiwan","37720",1.2827942735949098]
[null,null,null,null,null,null,null,null,null,null,null,null,null,null,null,null,null,"Sri Lanka","Asia",null,"Tajikistan","2067",23.409288824383164]
[null,null,null,null,null,null,null,null,null,null,null,null,null,null,null,null,null,"Sudan","Africa",null,"Tanzania","1515",31.938613861386138]
[null,null,null,null,null,null,null,null,null,null,null,null,null,null,null,null,null,"Suriname","South Amer.",null,"Thailand","9396",5.1497445721583652]
[null,null,null,null,null,null,null,null,null,null,null,null,null,null,null,null,null,"Swaziland","Africa",null,"Togo","899",53.823136818687431]
[null,null,null,null,null,null,null,null,null,null,null,null,null,null,null,null,null,"Sweden","Europe",null,"Tonga","7344",6.5886437908496731]
[null,null,null,null,null,null,null,null,null,null,null,null,null,null,null,null,null,"Switzerland","Europe",null,"Trinidad and Tobago","20053",2.412955667481175]
[null,null,null,null,null,null,null,null,null,null,null,null,null,null,null,null,null,"Syria","Asia",null,"Tunisia","9478",5.1051909685587678]
[null,null,null,null,null,null,null,null,null,null,null,null,null,null,null,null,null,"Tajikistan","Asia",null,"Turkey","14517",3.3331266790659226]
[null,null,null,null,null,null,null,null,null,null,null,null,null,null,null,null,null,"Tanzania","Africa",null,"Turkmenistan","7846",6.167091511598267]
[null,null,null,null,null,null,null,null,null,null,null,null,null,null,null,null,null,"Thailand","Asia",null,"Tuvalu[8]","3509",13.789398689085209]
[null,null,null,null,null,null,null,null,null,null,null,null,null,null,null,null,null,"Togo","Africa",null,"Uganda","1317",36.740318906605921]
[null,null,null,null,null,null,null,null,null,null,null,null,null,null,null,null,null,"Tonga","Oceania",null,"Ukraine","7233",6.6897552882621323]
[null,null,null,null,null,null,null,null,null,null,null,null,null,null,null,null,null,"Trinidad and Tobago","North Amer.",null,"UAE","48158",1.0047551808629926]
[null,null,null,null,null,null,null,null,null,null,null,null,null,null,null,null,null,"Tunisia","Africa",null,"UK","36090",1.3407315045719035]
[null,null,null,null,null,null,null,null,null,null,null,null,null,null,null,null,null,"Turkey","Asia",null,"USA","48387",1]
[null,null,null,null,null,null,null,null,null,null,null,null,null,null,null,null,null,"Turkmenistan","Asia",null,"Uruguay","15113",3.2016806722689077]
[null,null,null,null,null,null,null,null,null,null,null,null,null,null,null,null,null,"Tuvalu","Oceania",null,"Uzbekistan","3302",14.653846153846153]
[null,null,null,null,null,null,null,null,null,null,null,null,null,null,null,null,null,"Uganda","Africa",null,"Vanuatu","4916",9.8427583401139138]
[null,null,null,null,null,null,null,null,null,null,null,null,null,null,null,null,null,"Ukraine","Europe",null,"Venezuela","12568",3.8500159134309357]
[null,null,null,null,null,null,null,null,null,null,null,null,null,null,null,null,null,"United Arab Emirates","Asia",null,"Vietnam","3359",14.405180113128907]
[null,null,null,null,null,null,null,null,null,null,null,null,null,null,null,null,null,"United Kingdom","Europe",null,"World[7]","11489",4.2115936983201321]
[null,null,null,null,null,null,null,null,null,null,null,null,null,null,null,null,null,"UK","Europe",null,"Yemen","2307",20.9739921976593]
[null,null,null,null,null,null,null,null,null,null,null,null,null,null,null,null,null,"United States","North Amer.",null,"Zambia","1611",30.03538175046555]
[null,null,null,null,null,null,null,null,null,null,null,null,null,null,null,null,null,"USA","North Amer.",null,"Zimbabwe","487",99.357289527720738]
[null,null,null,null,null,null,null,null,null,null,null,null,null,null,null,null,null,"Bermuda","South Amer."]
[null,null,null,null,null,null,null,null,null,null,null,null,null,null,null,null,null,"Dubai","Asia"]
[null,null,null,null,null,null,null,null,null,null,null,null,null,null,null,null,null,"UAE","Asia"]
[null,null,null,null,null,null,null,null,null,null,null,null,null,null,null,null,null,"Arabian Gulf","Asia"]
[null,null,null,null,null,null,null,null,null,null,null,null,null,null,null,null,null,"Europe","Europe"]
[null,null,null,null,null,null,null,null,null,null,null,null,null,null,null,null,null,"Asia","Asia"]
[null,null,null,null,null,null,null,null,null,null,null,null,null,null,null,null,null,"Latin America","South Amer."]
[null,null,null,null,null,null,null,null,null,null,null,null,null,null,null,null,null,"Zimbabwe","Africa"]
[null,null,null,null,null,null,null,null,null,null,null,null,null,null,null,null,null,"Hong Kong","Asia"]
[null,null,null,null,null,null,null,null,null,null,null,null,null,null,null,null,null,"Vietnam","Asia"]
[null,null,null,null,null,null,null,null,null,null,null,null,null,null,null,null,null,"Uruguay","South Amer."]
[null,null,null,null,null,null,null,null,null,null,null,null,null,null,null,null,null,"Central America","South Amer."]
[null,null,null,null,null,null,null,null,null,null,null,null,null,null,null,null,null,"Myanmar","Asia"]
[null,null,null,null,null,null,null,null,null,null,null,null,null,null,null,null,null,"Aruba","South Amer."]
[null,null,null,null,null,null,null,null,null,null,null,null,null,null,null,null,null,"CEE","Europe"]
[null,null,null,null,null,null,null,null,null,null,null,null,null,null,null,null,null,"Republic of Georgia","Asia"]
[null,null,null,null,null,null,null,null,null,null,null,null,null,null,null,null,null,"MYS"]
[null,null,null,null,null,null,null,null,null,null,null,null,null,null,null,null,null,"Baltic","Europe"]
[null,null,null,null,null,null,null,null,null,null,null,null,null,null,null,null,null,"self-employed"]
[null,null,null,null,null,null,null,null,null,null,null,null,null,null,null,null,null,"Zambia","Africa"]

{"sheet":"Data","index":2,"n_rows":1888,"n_cols":17,"rows_kept":1888,"cut":false,"hidden":false,"merged":[[0,1,0,4]]}
[null,"Excel Salary Survey Data",null,null,null,null,12,null,null,null,null,null,null,null,null,"PPP ?",false]
[]
[null,"Note: Experience data is not available for first few hundred rows.",null,null,null,null,null,null,null,null,null,null,null,"Added data >>>>>"]
[]
[null,"Unique ID","Timestamp","Your Salary","clean Salary (in local currency)","Currency","Salary in USD","Your Job Title","Job Type","Where do you work","clean Country","How many hours of a day you work on Excel","Years of Experience","Continent","Code Hours","PPP Factor","Salary"]
[null,"ID0001","2012-05-25T03:11:32",5846,5846,"USD",{"$f":"tblSalaries[[#This Row],[clean Salary (in local currency)]]*VLOOKUP(tblSalaries[[#This Row],[Currency]],tblXrate[],2,FALSE)","v":5846},"MIS Analyst","Analyst","India",{"$f":"VLOOKUP(tblSalaries[[#This Row],[Where do you work]],tblCountries[[Actual]:[Mapping]],2,FALSE)","v":"India"},"4 to 6 hours a day",null,{"$f":"VLOOKUP(K6,tblCountries[],3,0)","v":"Asia"},{"$f":"VLOOKUP(tblSalaries[[#This Row],[How many hours of a day you work on Excel]],tblHours,2,0)","v":4},{"$f":"VLOOKUP(tblSalaries[[#This Row],[clean Country]],tblCountries[],5,0)","v":13.098808879263672},{"$f":"IF($Q$1,tblSalaries[[#This Row],[PPP Factor]]*tblSalaries[[#This Row],[Salary in USD]],tblSalaries[[#This Row],[Salary in USD]])","v":5846}]
[null,"ID0002","2012-05-25T03:13:13","15000 usd",15000,"USD",{"$f":"tblSalaries[[#This Row],[clean Salary (in local currency)]]*VLOOKUP(tblSalaries[[#This Row],[Currency]],tblXrate[],2,FALSE)","v":15000},"cost control","Controller","europe/Croatia",{"$f":"VLOOKUP(tblSalaries[[#This Row],[Where do you work]],tblCountries[[Actual]:[Mapping]],2,FALSE)","v":"Croatia"},"All the 8 hours baby, all the 8!",null,{"$f":"VLOOKUP(K7,tblCountries[],3,0)","v":"Europe"},{"$f":"VLOOKUP(tblSalaries[[#This Row],[How many hours of a day you work on Excel]],tblHours,2,0)","v":5},{"$f":"VLOOKUP(tblSalaries[[#This Row],[clean Country]],tblCountries[],5,0)","v":2.6597955145118735},{"$f":"IF($Q$1,tblSalaries[[#This Row],[PPP Factor]]*tblSalaries[[#This Row],[Salary in USD]],tblSalaries[[#This Row],[Salary in USD]])","v":15000}]
[null,"ID0003","2012-05-25T03:16:26",58000,58000,"USD",{"$f":"tblSalaries[[#This Row],[clean Salary (in local currency)]]*VLOOKUP(tblSalaries[[#This Row],[Currency]],tblXrate[],2,FALSE)","v":58000},"Financial Analyst","Analyst","USA",{"$f":"VLOOKUP(tblSalaries[[#This Row],[Where do you work]],tblCountries[[Actual]:[Mapping]],2,FALSE)","v":"USA"},"All the 8 hours baby, all the 8!",null,{"$f":"VLOOKUP(K8,tblCountries[],3,0)","v":"North Amer."},{"$f":"VLOOKUP(tblSalaries[[#This Row],[How many hours of a day you work on Excel]],tblHours,2,0)","v":5},{"$f":"VLOOKUP(tblSalaries[[#This Row],[clean Country]],tblCountries[],5,0)","v":1},{"$f":"IF($Q$1,tblSalaries[[#This Row],[PPP Factor]]*tblSalaries[[#This Row],[Salary in USD]],tblSalaries[[#This Row],[Salary in USD]])","v":58000}]
[null,"ID0004","2012-05-25T03:23:42",48000,48000,"USD",{"$f":"tblSalaries[[#This Row],[clean Salary (in local currency)]]*VLOOKUP(tblSalaries[[#This Row],[Currency]],tblXrate[],2,FALSE)","v":48000},"Quality Control","Controller","Pakistan",{"$f":"VLOOKUP(tblSalaries[[#This Row],[Where do you work]],tblCountries[[Actual]:[Mapping]],2,FALSE)","v":"Pakistan"},"2 to 3 hours per day",null,{"$f":"VLOOKUP(K9,tblCountries[],3,0)","v":"Asia"},{"$f":"VLOOKUP(tblSalaries[[#This Row],[How many hours of a day you work on Excel]],tblHours,2,0)","v":3},{"$f":"VLOOKUP(tblSalaries[[#This Row],[clean Country]],tblCountries[],5,0)","v":17.361679224973088},{"$f":"IF($Q$1,tblSalaries[[#This Row],[PPP Factor]]*tblSalaries[[#This Row],[Salary in USD]],tblSalaries[[#This Row],[Salary in USD]])","v":48000}]
[null,"ID0005","2012-05-25T03:27:04",54000,54000,"USD",{"$f":"tblSalaries[[#This Row],[clean Salary (in local currency)]]*VLOOKUP(tblSalaries[[#This Row],[Currency]],tblXrate[],2,FALSE)","v":54000},"Quality Engineer","Engineer","USA",{"$f":"VLOOKUP(tblSalaries[[#This Row],[Where do you work]],tblCountries[[Actual]:[Mapping]],2,FALSE)","v":"USA"},"All the 8 hours baby, all the 8!",null,{"$f":"VLOOKUP(K10,tblCountries[],3,0)","v":"North Amer."},{"$f":"VLOOKUP(tblSalaries[[#This Row],[How many hours of a day you work on Excel]],tblHours,2,0)","v":5},{"$f":"VLOOKUP(tblSalaries[[#This Row],[clean Country]],tblCountries[],5,0)","v":1},{"$f":"IF($Q$1,tblSalaries[[#This Row],[PPP Factor]]*tblSalaries[[#This Row],[Salary in USD]],tblSalaries[[#This Row],[Salary in USD]])","v":54000}]
[null,"ID0006","2012-05-25T03:28:28",41731,41731,"USD",{"$f":"tblSalaries[[#This Row],[clean Salary (in local currency)]]*VLOOKUP(tblSalaries[[#This Row],[Currency]],tblXrate[],2,FALSE)","v":41731},"Analyst","Analyst","Iceland",{"$f":"VLOOKUP(tblSalaries[[#This Row],[Where do you work]],tblCountries[[Actual]:[Mapping]],2,FALSE)","v":"Iceland"},"All the 8 hours baby, all the 8!",null,{"$f":"VLOOKUP(K11,tblCountries[],3,0)","v":"Europe"},{"$f":"VLOOKUP(tblSalaries[[#This Row],[How many hours of a day you work on Excel]],tblHours,2,0)","v":5},{"$f":"VLOOKUP(tblSalaries[[#This Row],[clean Country]],tblCountries[],5,0)","v":1.2713013320722},{"$f":"IF($Q$1,tblSalaries[[#This Row],[PPP Factor]]*tblSalaries[[#This Row],[Salary in USD]],tblSalaries[[#This Row],[Salary in USD]])","v":41731}]
[null,"ID0007","2012-05-25T03:33:51",145000,145000,"EUR",{"$f":"tblSalaries[[#This Row],[clean Salary (in local currency)]]*VLOOKUP(tblSalaries[[#This Row],[Currency]],tblXrate[],2,FALSE)","v":184207.91865378313},"senior project manager","Manager","Germany",{"$f":"VLOOKUP(tblSalaries[[#This Row],[Where do you work]],tblCountries[[Actual]:[Mapping]],2,FALSE)","v":"Germany"},"1 or 2 hours a day",null,{"$f":"VLOOKUP(K12,tblCountries[],3,0)","v":"Europe"},{"$f":"VLOOKUP(tblSalaries[[#This Row],[How many hours of a day you work on Excel]],tblHours,2,0)","v":2},{"$f":"VLOOKUP(tblSalaries[[#This Row],[clean Country]],tblCountries[],5,0)","v":1.276802913159353},{"$f":"IF($Q$1,tblSalaries[[#This Row],[PPP Factor]]*tblSalaries[[#This Row],[Salary in USD]],tblSalaries[[#This Row],[Salary in USD]])","v":184207.91865378313}]
[null,"ID0008","2012-05-25T03:36:37",12000,12000,"USD",{"$f":"tblSalaries[[#This Row],[clean Salary (in local currency)]]*VLOOKUP(tblSalaries[[#This Row],[Currency]],tblXrate[],2,FALSE)","v":12000},"Assistant SP&A","Analyst","Ukraine",{"$f":"VLOOKUP(tblSalaries[[#This Row],[Where do you work]],tblCountries[[Actual]:[Mapping]],2,FALSE)","v":"Ukraine"},"All the 8 hours baby, all the 8!",null,{"$f":"VLOOKUP(K13,tblCountries[],3,0)","v":"Europe"},{"$f":"VLOOKUP(tblSalaries[[#This Row],[How many hours of a day you work on Excel]],tblHours,2,0)","v":5},{"$f":"VLOOKUP(tblSalaries[[#This Row],[clean Country]],tblCountries[],5,0)","v":6.6897552882621323},{"$f":"IF($Q$1,tblSalaries[[#This Row],[PPP Factor]]*tblSalaries[[#This Row],[Salary in USD]],tblSalaries[[#This Row],[Salary in USD]])","v":12000}]
[null,"ID0009","2012-05-25T03:37:17","44000 $",44000,"USD",{"$f":"tblSalaries[[#This Row],[clean Salary (in local currency)]]*VLOOKUP(tblSalaries[[#This Row],[Currency]],tblXrate[],2,FALSE)","v":44000},"CFO","CXO or Top Mgmt.","Portugal",{"$f":"VLOOKUP(tblSalaries[[#This Row],[Where do you work]],tblCountries[[Actual]:[Mapping]],2,FALSE)","v":"Portugal"},"1 or 2 hours a day",null,{"$f":"VLOOKUP(K14,tblCountries[],3,0)","v":"Europe"},{"$f":"VLOOKUP(tblSalaries[[#This Row],[How many hours of a day you work on Excel]],tblHours,2,0)","v":2},{"$f":"VLOOKUP(tblSalaries[[#This Row],[clean Country]],tblCountries[],5,0)","v":2.0712726338769745},{"$f":"IF($Q$1,tblSalaries[[#This Row],[PPP Factor]]*tblSalaries[[#This Row],[Salary in USD]],tblSalaries[[#This Row],[Salary in USD]])","v":44000}]
[null,"ID0010","2012-05-25T03:38:57","PKR 8,000",1152000,"PKR",{"$f":"tblSalaries[[#This Row],[clean Salary (in local currency)]]*VLOOKUP(tblSalaries[[#This Row],[Currency]],tblXrate[],2,FALSE)","v":12227.430201752599},"Audit Trainee ","Accountant","Pakistan",{"$f":"VLOOKUP(tblSalaries[[#This Row],[Where do you work]],tblCountries[[Actual]:[Mapping]],2,FALSE)","v":"Pakistan"},"All the 8 hours baby, all the 8!",null,{"$f":"VLOOKUP(K15,tblCountries[],3,0)","v":"Asia"},{"$f":"VLOOKUP(tblSalaries[[#This Row],[How many hours of a day you work on Excel]],tblHours,2,0)","v":5},{"$f":"VLOOKUP(tblSalaries[[#This Row],[clean Country]],tblCountries[],5,0)","v":17.361679224973088},{"$f":"IF($Q$1,tblSalaries[[#This Row],[PPP Factor]]*tblSalaries[[#This Row],[Salary in USD]],tblSalaries[[#This Row],[Salary in USD]])","v":12227.430201752599}]
[null,"ID0011","2012-05-25T03:43:45","â‚¬ 51650",51650,"EUR",{"$f":"tblSalaries[[#This Row],[clean Salary (in local currency)]]*VLOOKUP(tblSalaries[[#This Row],[Currency]],tblXrate[],2,FALSE)","v":65616.131023916547},"Training Specialist","Specialist","Ireland",{"$f":"VLOOKUP(tblSalaries[[#This Row],[Where do you work]],tblCountries[[Actual]:[Mapping]],2,FALSE)","v":"Ireland"},"2 to 3 hours per day",null,{"$f":"VLOOKUP(K16,tblCountries[],3,0)","v":"Europe"},{"$f":"VLOOKUP(tblSalaries[[#This Row],[How many hours of a day you work on Excel]],tblHours,2,0)","v":3},{"$f":"VLOOKUP(tblSalaries[[#This Row],[clean Country]],tblCountries[],5,0)","v":1.2206917429803981},{"$f":"IF($Q$1,tblSalaries[[#This Row],[PPP Factor]]*tblSalaries[[#This Row],[Salary in USD]],tblSalaries[[#This Row],[Salary in USD]])","v":65616.131023916547}]
[null,"ID0012","2012-05-25T03:43:56",14000,14000,"USD",{"$f":"tblSalaries[[#This Row],[clean Salary (in local currency)]]*VLOOKUP(tblSalaries[[#This Row],[Currency]],tblXrate[],2,FALSE)","v":14000},"quality engineer","Engineer","Hungary",{"$f":"VLOOKUP(tblSalaries[[#This Row],[Where do you work]],tblCountries[[Actual]:[Mapping]],2,FALSE)","v":"Hungary"},"4 to 6 hours a day",null,{"$f":"VLOOKUP(K17,tblCountries[],3,0)","v":"Europe"},{"$f":"VLOOKUP(tblSalaries[[#This Row],[How many hours of a day you work on Excel]],tblHours,2,0)","v":4},{"$f":"VLOOKUP(tblSalaries[[#This Row],[clean Country]],tblCountries[],5,0)","v":2.4698586085447398},{"$f":"IF($Q$1,tblSalaries[[#This Row],[PPP Factor]]*tblSalaries[[#This Row],[Salary in USD]],tblSalaries[[#This Row],[Salary in USD]])","v":14000}]
[null,"ID0013","2012-05-25T03:48:53","749000 INR",749000,"INR",{"$f":"tblSalaries[[#This Row],[clean Salary (in local currency)]]*VLOOKUP(tblSalaries[[#This Row],[Currency]],tblXrate[],2,FALSE)","v":13338.129598894484},"Senion Analyst","Analyst","India",{"$f":"VLOOKUP(tblSalaries[[#This Row],[Where do you work]],tblCountries[[Actual]:[Mapping]],2,FALSE)","v":"India"},"All the 8 hours baby, all the 8!",null,{"$f":"VLOOKUP(K18,tblCountries[],3,0)","v":"Asia"},{"$f":"VLOOKUP(tblSalaries[[#This Row],[How many hours of a day you work on Excel]],tblHours,2,0)","v":5},{"$f":"VLOOKUP(tblSalaries[[#This Row],[clean Country]],tblCountries[],5,0)","v":13.098808879263672},{"$f":"IF($Q$1,tblSalaries[[#This Row],[PPP Factor]]*tblSalaries[[#This Row],[Salary in USD]],tblSalaries[[#This Row],[Salary in USD]])","v":13338.129598894484}]
[null,"ID0014","2012-05-25T03:50:58",49000,49000,"USD",{"$f":"tblSalaries[[#This Row],[clean Salary (in local currency)]]*VLOOKUP(tblSalaries[[#This Row],[Currency]],tblXrate[],2,FALSE)","v":49000},"business analyst","Analyst","USA",{"$f":"VLOOKUP(tblSalaries[[#This Row],[Where do you work]],tblCountries[[Actual]:[Mapping]],2,FALSE)","v":"USA"},"All the 8 hours baby, all the 8!",null,{"$f":"VLOOKUP(K19,tblCountries[],3,0)","v":"North Amer."},{"$f":"VLOOKUP(tblSalaries[[#This Row],[How many hours of a day you work on Excel]],tblHours,2,0)","v":5},{"$f":"VLOOKUP(tblSalaries[[#This Row],[clean Country]],tblCountries[],5,0)","v":1},{"$f":"IF($Q$1,tblSalaries[[#This Row],[PPP Factor]]*tblSalaries[[#This Row],[Salary in USD]],tblSalaries[[#This Row],[Salary in USD]])","v":49000}]
[null,"ID0015","2012-05-25T03:53:22",85000,85000,"USD",{"$f":"tblSalaries[[#This Row],[clean Salary (in local currency)]]*VLOOKUP(tblSalaries[[#This Row],[Currency]],tblXrate[],2,FALSE)","v":85000},"Project Engineer","Engineer","USA",{"$f":"VLOOKUP(tblSalaries[[#This Row],[Where do you work]],tblCountries[[Actual]:[Mapping]],2,FALSE)","v":"USA"},"1 or 2 hours a day",null,{"$f":"VLOOKUP(K20,tblCountries[],3,0)","v":"North Amer."},{"$f":"VLOOKUP(tblSalaries[[#This Row],[How many hours of a day you work on Excel]],tblHours,2,0)","v":2},{"$f":"VLOOKUP(tblSalaries[[#This Row],[clean Country]],tblCountries[],5,0)","v":1},{"$f":"IF($Q$1,tblSalaries[[#This Row],[PPP Factor]]*tblSalaries[[#This Row],[Salary in USD]],tblSalaries[[#This Row],[Salary in USD]])","v":85000}]
[null,"ID0016","2012-05-25T03:56:40",75000,75000,"USD",{"$f":"tblSalaries[[#This Row],[clean Salary (in local currency)]]*VLOOKUP(tblSalaries[[#This Row],[Currency]],tblXrate[],2,FALSE)","v":75000},"Sr Project Engineer","Engineer","USA",{"$f":"VLOOKUP(tblSalaries[[#This Row],[Where do you work]],tblCountries[[Actual]:[Mapping]],2,FALSE)","v":"USA"},"All the 8 hours baby, all the 8!",null,{"$f":"VLOOKUP(K21,tblCountries[],3,0)","v":"North Amer."},{"$f":"VLOOKUP(tblSalaries[[#This Row],[How many hours of a day you work on Excel]],tblHours,2,0)","v":5},{"$f":"VLOOKUP(tblSalaries[[#This Row],[clean Country]],tblCountries[],5,0)","v":1},{"$f":"IF($Q$1,tblSalaries[[#This Row],[PPP Factor]]*tblSalaries[[#This Row],[Salary in USD]],tblSalaries[[#This Row],[Salary in USD]])","v":75000}]
[null,"ID0017","2012-05-25T04:10:11",107000,107000,"USD",{"$f":"tblSalaries[[#This Row],[clean Salary (in local currency)]]*VLOOKUP(tblSalaries[[#This Row],[Currency]],tblXrate[],2,FALSE)","v":107000},"Business Development","Manager","Switzerland",{"$f":"VLOOKUP(tblSalaries[[#This Row],[Where do you work]],tblCountries[[Actual]:[Mapping]],2,FALSE)","v":"Switzerland"},"4 to 6 hours a day",null,{"$f":"VLOOKUP(K22,tblCountries[],3,0)","v":"Europe"},{"$f":"VLOOKUP(tblSalaries[[#This Row],[How many hours of a day you work on Excel]],tblHours,2,0)","v":4},{"$f":"VLOOKUP(tblSalaries[[#This Row],[clean Country]],tblCountries[],5,0)","v":1.1156790408116208},{"$f":"IF($Q$1,tblSalaries[[#This Row],[PPP Factor]]*tblSalaries[[#This Row],[Salary in USD]],tblSalaries[[#This Row],[Salary in USD]])","v":107000}]
[null,"ID0018","2012-05-25T04:10:44",45000,45000,"USD",{"$f":"tblSalaries[[#This Row],[clean Salary (in local currency)]]*VLOOKUP(tblSalaries[[#This Row],[Currency]],tblXrate[],2,FALSE)","v":45000},"Excel Report Writer","Reporting","South Africa",{"$f":"VLOOKUP(tblSalaries[[#This Row],[Where do you work]],tblCountries[[Actual]:[Mapping]],2,FALSE)","v":"South Africa"},"All the 8 hours baby, all the 8!",null,{"$f":"VLOOKUP(K23,tblCountries[],3,0)","v":"Africa"},{"$f":"VLOOKUP(tblSalaries[[#This Row],[How many hours of a day you work on Excel]],tblHours,2,0)","v":5},{"$f":"VLOOKUP(tblSalaries[[#This Row],[clean Country]],tblCountries[],5,0)","v":4.4096418481727877},{"$f":"IF($Q$1,tblSalaries[[#This Row],[PPP Factor]]*tblSalaries[[#This Row],[Salary in USD]],tblSalaries[[#This Row],[Salary in USD]])","v":45000}]
[null,"ID0019","2012-05-25T04:16:32",550000,550000,"INR",{"$f":"tblSalaries[[#This Row],[clean Salary (in local currency)]]*VLOOKUP(tblSalaries[[#This Row],[Currency]],tblXrate[],2,FALSE)","v":9794.354178093412},"AGM","Manager","India",{"$f":"VLOOKUP(tblSalaries[[#This Row],[Where do you work]],tblCountries[[Actual]:[Mapping]],2,FALSE)","v":"India"},"2 to 3 hours per day",null,{"$f":"VLOOKUP(K24,tblCountries[],3,0)","v":"Asia"},{"$f":"VLOOKUP(tblSalaries[[#This Row],[How many hours of a day you work on Excel]],tblHours,2,0)","v":3},{"$f":"VLOOKUP(tblSalaries[[#This Row],[clean Country]],tblCountries[],5,0)","v":13.098808879263672},{"$f":"IF($Q$1,tblSalaries[[#This Row],[PPP Factor]]*tblSalaries[[#This Row],[Salary in USD]],tblSalaries[[#This Row],[Salary in USD]])","v":9794.354178093412}]
[null,"ID0020","2012-05-25T04:19:22",50000,50000,"USD",{"$f":"tblSalaries[[#This Row],[clean Salary (in local currency)]]*VLOOKUP(tblSalaries[[#This Row],[Currency]],tblXrate[],2,FALSE)","v":50000},"GM","Manager","India",{"$f":"VLOOKUP(tblSalaries[[#This Row],[Where do you work]],tblCountries[[Actual]:[Mapping]],2,FALSE)","v":"India"},"1 or 2 hours a day",null,{"$f":"VLOOKUP(K25,tblCountries[],3,0)","v":"Asia"},{"$f":"VLOOKUP(tblSalaries[[#This Row],[How many hours of a day you work on Excel]],tblHours,2,0)","v":2},{"$f":"VLOOKUP(tblSalaries[[#This Row],[clean Country]],tblCountries[],5,0)","v":13.098808879263672},{"$f":"IF($Q$1,tblSalaries[[#This Row],[PPP Factor]]*tblSalaries[[#This Row],[Salary in USD]],tblSalaries[[#This Row],[Salary in USD]])","v":50000}]
[null,"ID0021","2012-05-25T04:24:01",13500,13500,"USD",{"$f":"tblSalaries[[#This Row],[clean Salary (in local currency)]]*VLOOKUP(tblSalaries[[#This Row],[Currency]],tblXrate[],2,FALSE)","v":13500},"DSE Co-ordinator","Manager","India",{"$f":"VLOOKUP(tblSalaries[[#This Row],[Where do you work]],tblCountries[[Actual]:[Mapping]],2,FALSE)","v":"India"},"4 to 6 hours a day",null,{"$f":"VLOOKUP(K26,tblCountries[],3,0)","v":"Asia"},{"$f":"VLOOKUP(tblSalaries[[#This Row],[How many hours of a day you work on Excel]],tblHours,2,0)","v":4},{"$f":"VLOOKUP(tblSalaries[[#This Row],[clean Country]],tblCountries[],5,0)","v":13.098808879263672},{"$f":"IF($Q$1,tblSalaries[[#This Row],[PPP Factor]]*tblSalaries[[#This Row],[Salary in USD]],tblSalaries[[#This Row],[Salary in USD]])","v":13500}]
[null,"ID0022","2012-05-25T04:24:12",96000,96000,"USD",{"$f":"tblSalaries[[#This Row],[clean Salary (in local currency)]]*VLOOKUP(tblSalaries[[#This Row],[Currency]],tblXrate[],2,FALSE)","v":96000},"Analyst","Analyst","USA",{"$f":"VLOOKUP(tblSalaries[[#This Row],[Where do you work]],tblCountries[[Actual]:[Mapping]],2,FALSE)","v":"USA"},"2 to 3 hours per day",null,{"$f":"VLOOKUP(K27,tblCountries[],3,0)","v":"North Amer."},{"$f":"VLOOKUP(tblSalaries[[#This Row],[How many hours of a day you work on Excel]],tblHours,2,0)","v":3},{"$f":"VLOOKUP(tblSalaries[[#This Row],[clean Country]],tblCountries[],5,0)","v":1},{"$f":"IF($Q$1,tblSalaries[[#This Row],[PPP Factor]]*tblSalaries[[#This Row],[Salary in USD]],tblSalaries[[#This Row],[Salary in USD]])","v":96000}]
[null,"ID0023","2012-05-25T04:31:41",1000000,1000000,"INR",{"$f":"tblSalaries[[#This Row],[clean Salary (in local currency)]]*VLOOKUP(tblSalaries[[#This Row],[Currency]],tblXrate[],2,FALSE)","v":17807.916687442568},"Manager","Manager","India",{"$f":"VLOOKUP(tblSalaries[[#This Row],[Where do you work]],tblCountries[[Actual]:[Mapping]],2,FALSE)","v":"India"},"4 to 6 hours a day",null,{"$f":"VLOOKUP(K28,tblCountries[],3,0)","v":"Asia"},{"$f":"VLOOKUP(tblSalaries[[#This Row],[How many hours of a day you work on Excel]],tblHours,2,0)","v":4},{"$f":"VLOOKUP(tblSalaries[[#This Row],[clean Country]],tblCountries[],5,0)","v":13.098808879263672},{"$f":"IF($Q$1,tblSalaries[[#This Row],[PPP Factor]]*tblSalaries[[#This Row],[Salary in USD]],tblSalaries[[#This Row],[Salary in USD]])","v":17807.916687442568}]
[null,"ID0024","2012-05-25T04:32:49",75000,75000,"USD",{"$f":"tblSalaries[[#This Row],[clean Salary (in local currency)]]*VLOOKUP(tblSalaries[[#This Row],[Currency]],tblXrate[],2,FALSE)","v":75000},"Marketing Director","CXO or Top Mgmt.","USA",{"$f":"VLOOKUP(tblSalaries[[#This Row],[Where do you work]],tblCountries[[Actual]:[Mapping]],2,FALSE)","v":"USA"},"4 to 6 hours a day",null,{"$f":"VLOOKUP(K29,tblCountries[],3,0)","v":"North Amer."},{"$f":"VLOOKUP(tblSalaries[[#This Row],[How many hours of a day you work on Excel]],tblHours,2,0)","v":4},{"$f":"VLOOKUP(tblSalaries[[#This Row],[clean Country]],tblCountries[],5,0)","v":1},{"$f":"IF($Q$1,tblSalaries[[#This Row],[PPP Factor]]*tblSalaries[[#This Row],[Salary in USD]],tblSalaries[[#This Row],[Salary in USD]])","v":75000}]
[null,"ID0025","2012-05-25T04:43:51","40000 us",40000,"USD",{"$f":"tblSalaries[[#This Row],[clean Salary (in local currency)]]*VLOOKUP(tblSalaries[[#This Row],[Currency]],tblXrate[],2,FALSE)","v":40000},"sales and marketing","Manager","USA",{"$f":"VLOOKUP(tblSalaries[[#This Row],[Where do you work]],tblCountries[[Actual]:[Mapping]],2,FALSE)","v":"USA"},"2 to 3 hours per day",null,{"$f":"VLOOKUP(K30,tblCountries[],3,0)","v":"North Amer."},{"$f":"VLOOKUP(tblSalaries[[#This Row],[How many hours of a day you work on Excel]],tblHours,2,0)","v":3},{"$f":"VLOOKUP(tblSalaries[[#This Row],[clean Country]],tblCountries[],5,0)","v":1},{"$f":"IF($Q$1,tblSalaries[[#This Row],[PPP Factor]]*tblSalaries[[#This Row],[Salary in USD]],tblSalaries[[#This Row],[Salary in USD]])","v":40000}]
[null,"ID0026","2012-05-25T04:45:01",60000,60000,"USD",{"$f":"tblSalaries[[#This Row],[clean Salary (in local currency)]]*VLOOKUP(tblSalaries[[#This Row],[Currency]],tblXrate[],2,FALSE)","v":60000},"Analyst II","Analyst","USA",{"$f":"VLOOKUP(tblSalaries[[#This Row],[Where do you work]],tblCountries[[Actual]:[Mapping]],2,FALSE)","v":"USA"},"All the 8 hours baby, all the 8!",null,{"$f":"VLOOKUP(K31,tblCountries[],3,0)","v":"North Amer."},{"$f":"VLOOKUP(tblSalaries[[#This Row],[How many hours of a day you work on Excel]],tblHours,2,0)","v":5},{"$f":"VLOOKUP(tblSalaries[[#This Row],[clean Country]],tblCountries[],5,0)","v":1},{"$f":"IF($Q$1,tblSalaries[[#This Row],[PPP Factor]]*tblSalaries[[#This Row],[Salary in USD]],tblSalaries[[#This Row],[Salary in USD]])","v":60000}]
[null,"ID0028","2012-05-25T04:48:33",2700,32400,"EUR",{"$f":"tblSalaries[[#This Row],[clean Salary (in local currency)]]*VLOOKUP(tblSalaries[[#This Row],[Currency]],tblXrate[],2,FALSE)","v":41160.941823328096},"Project Leader","Manager","Belgium",{"$f":"VLOOKUP(tblSalaries[[#This Row],[Where do you work]],tblCountries[[Actual]:[Mapping]],2,FALSE)","v":"Belgium"},"4 to 6 hours a day",null,{"$f":"VLOOKUP(K32,tblCountries[],3,0)","v":"Europe"},{"$f":"VLOOKUP(tblSalaries[[#This Row],[How many hours of a day you work on Excel]],tblHours,2,0)","v":4},{"$f":"VLOOKUP(tblSalaries[[#This Row],[clean Country]],tblCountries[],5,0)","v":1.2822163924000318},{"$f":"IF($Q$1,tblSalaries[[#This Row],[PPP Factor]]*tblSalaries[[#This Row],[Salary in USD]],tblSalaries[[#This Row],[Salary in USD]])","v":41160.941823328096}]
[null,"ID0029","2012-05-25T04:52:23","900000 INR",900000,"INR",{"$f":"tblSalaries[[#This Row],[clean Salary (in local currency)]]*VLOOKUP(tblSalaries[[#This Row],[Currency]],tblXrate[],2,FALSE)","v":16027.125018698311},"Applications Engineer","Engineer","India",{"$f":"VLOOKUP(tblSalaries[[#This Row],[Where do you work]],tblCountries[[Actual]:[Mapping]],2,FALSE)","v":"India"},"1 or 2 hours a day",null,{"$f":"VLOOKUP(K33,tblCountries[],3,0)","v":"Asia"},{"$f":"VLOOKUP(tblSalaries[[#This Row],[How many hours of a day you work on Excel]],tblHours,2,0)","v":2},{"$f":"VLOOKUP(tblSalaries[[#This Row],[clean Country]],tblCountries[],5,0)","v":13.098808879263672},{"$f":"IF($Q$1,tblSalaries[[#This Row],[PPP Factor]]*tblSalaries[[#This Row],[Salary in USD]],tblSalaries[[#This Row],[Salary in USD]])","v":16027.125018698311}]
[null,"ID0030","2012-05-25T04:55:35","Rs 600000",600000,"INR",{"$f":"tblSalaries[[#This Row],[clean Salary (in local currency)]]*VLOOKUP(tblSalaries[[#This Row],[Currency]],tblXrate[],2,FALSE)","v":10684.750012465542},"strategy manager","Manager","India",{"$f":"VLOOKUP(tblSalaries[[#This Row],[Where do you work]],tblCountries[[Actual]:[Mapping]],2,FALSE)","v":"India"},"4 to 6 hours a day",null,{"$f":"VLOOKUP(K34,tblCountries[],3,0)","v":"Asia"},{"$f":"VLOOKUP(tblSalaries[[#This Row],[How many hours of a day you work on Excel]],tblHours,2,0)","v":4},{"$f":"VLOOKUP(tblSalaries[[#This Row],[clean Country]],tblCountries[],5,0)","v":13.098808879263672},{"$f":"IF($Q$1,tblSalaries[[#This Row],[PPP Factor]]*tblSalaries[[#This Row],[Salary in USD]],tblSalaries[[#This Row],[Salary in USD]])","v":10684.750012465542}]
[null,"ID0031","2012-05-25T04:55:48",41000,41000,"USD",{"$f":"tblSalaries[[#This Row],[clean Salary (in local currency)]]*VLOOKUP(tblSalaries[[#This Row],[Currency]],tblXrate[],2,FALSE)","v":41000},"Chief of the department of public budget analisis and forecasting","Manager","Russia",{"$f":"VLOOKUP(tblSalaries[[#This Row],[Where do you work]],tblCountries[[Actual]:[Mapping]],2,FALSE)","v":"Russia"},"All the 8 hours baby, all the 8!",null,{"$f":"VLOOKUP(K35,tblCountries[],3,0)","v":"Asia"},{"$f":"VLOOKUP(tblSalaries[[#This Row],[How many hours of a day you work on Excel]],tblHours,2,0)","v":5},{"$f":"VLOOKUP(tblSalaries[[#This Row],[clean Country]],tblCountries[],5,0)","v":2.8911926386233269},{"$f":"IF($Q$1,tblSalaries[[#This Row],[PPP Factor]]*tblSalaries[[#This Row],[Salary in USD]],tblSalaries[[#This Row],[Salary in USD]])","v":41000}]
[null,"ID0032","2012-05-25T04:57:06","360000 INR",360000,"INR",{"$f":"tblSalaries[[#This Row],[clean Salary (in local currency)]]*VLOOKUP(tblSalaries[[#This Row],[Currency]],tblXrate[],2,FALSE)","v":6410.8500074793246},"Specialist","Specialist","India",{"$f":"VLOOKUP(tblSalaries[[#This Row],[Where do you work]],tblCountries[[Actual]:[Mapping]],2,FALSE)","v":"India"},"4 to 6 hours a day",null,{"$f":"VLOOKUP(K36,tblCountries[],3,0)","v":"Asia"},{"$f":"VLOOKUP(tblSalaries[[#This Row],[How many hours of a day you work on Excel]],tblHours,2,0)","v":4},{"$f":"VLOOKUP(tblSalaries[[#This Row],[clean Country]],tblCountries[],5,0)","v":13.098808879263672},{"$f":"IF($Q$1,tblSalaries[[#This Row],[PPP Factor]]*tblSalaries[[#This Row],[Salary in USD]],tblSalaries[[#This Row],[Salary in USD]])","v":6410.8500074793246}]
[null,"ID0033","2012-05-25T04:58:45","Â£35000",35000,"GBP",{"$f":"tblSalaries[[#This Row],[clean Salary (in local currency)]]*VLOOKUP(tblSalaries[[#This Row],[Currency]],tblXrate[],2,FALSE)","v":55166.239522354947},"Management Information Analyst","Analyst","UK",{"$f":"VLOOKUP(tblSalaries[[#This Row],[Where do you work]],tblCountries[[Actual]:[Mapping]],2,FALSE)","v":"UK"},"All the 8 hours baby, all the 8!",null,{"$f":"VLOOKUP(K37,tblCountries[],3,0)","v":"Europe"},{"$f":"VLOOKUP(tblSalaries[[#This Row],[How many hours of a day you work on Excel]],tblHours,2,0)","v":5},{"$f":"VLOOKUP(tblSalaries[[#This Row],[clean Country]],tblCountries[],5,0)","v":1.3407315045719035},{"$f":"IF($Q$1,tblSalaries[[#This Row],[PPP Factor]]*tblSalaries[[#This Row],[Salary in USD]],tblSalaries[[#This Row],[Salary in USD]])","v":55166.239522354947}]
[null,"ID0035","2012-05-25T05:01:09","1600 $",19200,"USD",{"$f":"tblSalaries[[#This Row],[clean Salary (in local currency)]]*VLOOKUP(tblSalaries[[#This Row],[Currency]],tblXrate[],2,FALSE)","v":19200},"Analyst","Analyst","Poland",{"$f":"VLOOKUP(tblSalaries[[#This Row],[Where do you work]],tblCountries[[Actual]:[Mapping]],2,FALSE)","v":"Poland"},"2 to 3 hours per day",null,{"$f":"VLOOKUP(K38,tblCountries[],3,0)","v":"Europe"},{"$f":"VLOOKUP(tblSalaries[[#This Row],[How many hours of a day you work on Excel]],tblHours,2,0)","v":3},{"$f":"VLOOKUP(tblSalaries[[#This Row],[clean Country]],tblCountries[],5,0)","v":2.3796105045736207},{"$f":"IF($Q$1,tblSalaries[[#This Row],[PPP Factor]]*tblSalaries[[#This Row],[Salary in USD]],tblSalaries[[#This Row],[Salary in USD]])","v":19200}]
[null,"ID0036","2012-05-25T05:04:12",500000,500000,"INR",{"$f":"tblSalaries[[#This Row],[clean Salary (in local currency)]]*VLOOKUP(tblSalaries[[#This Row],[Currency]],tblXrate[],2,FALSE)","v":8903.9583437212841},"Senior Consultant","Consultant","India",{"$f":"VLOOKUP(tblSalaries[[#This Row],[Where do you work]],tblCountries[[Actual]:[Mapping]],2,FALSE)","v":"India"},"All the 8 hours baby, all the 8!",null,{"$f":"VLOOKUP(K39,tblCountries[],3,0)","v":"Asia"},{"$f":"VLOOKUP(tblSalaries[[#This Row],[How many hours of a day you work on Excel]],tblHours,2,0)","v":5},{"$f":"VLOOKUP(tblSalaries[[#This Row],[clean Country]],tblCountries[],5,0)","v":13.098808879263672},{"$f":"IF($Q$1,tblSalaries[[#This Row],[PPP Factor]]*tblSalaries[[#This Row],[Salary in USD]],tblSalaries[[#This Row],[Salary in USD]])","v":8903.9583437212841}]
[null,"ID0037","2012-05-25T05:07:31",150000,150000,"USD",{"$f":"tblSalaries[[#This Row],[clean Salary (in local currency)]]*VLOOKUP(tblSalaries[[#This Row],[Currency]],tblXrate[],2,FALSE)","v":150000},"Portfolio Manager","Manager","USA",{"$f":"VLOOKUP(tblSalaries[[#This Row],[Where do you work]],tblCountries[[Actual]:[Mapping]],2,FALSE)","v":"USA"},"2 to 3 hours per day",null,{"$f":"VLOOKUP(K40,tblCountries[],3,0)","v":"North Amer."},{"$f":"VLOOKUP(tblSalaries[[#This Row],[How many hours of a day you work on Excel]],tblHours,2,0)","v":3},{"$f":"VLOOKUP(tblSalaries[[#This Row],[clean Country]],tblCountries[],5,0)","v":1},{"$f":"IF($Q$1,tblSalaries[[#This Row],[PPP Factor]]*tblSalaries[[#This Row],[Salary in USD]],tblSalaries[[#This Row],[Salary in USD]])","v":150000}]
[null,"ID0038","2012-05-25T05:10:29",69000,69000,"USD",{"$f":"tblSalaries[[#This Row],[clean Salary (in local currency)]]*VLOOKUP(tblSalaries[[#This Row],[Currency]],tblXrate[],2,FALSE)","v":69000},"Design Engineer","Engineer","USA",{"$f":"VLOOKUP(tblSalaries[[#This Row],[Where do you work]],tblCountries[[Actual]:[Mapping]],2,FALSE)","v":"USA"},"4 to 6 hours a day",null,{"$f":"VLOOKUP(K41,tblCountries[],3,0)","v":"North Amer."},{"$f":"VLOOKUP(tblSalaries[[#This Row],[How many hours of a day you work on Excel]],tblHours,2,0)","v":4},{"$f":"VLOOKUP(tblSalaries[[#This Row],[clean Country]],tblCountries[],5,0)","v":1},{"$f":"IF($Q$1,tblSalaries[[#This Row],[PPP Factor]]*tblSalaries[[#This Row],[Salary in USD]],tblSalaries[[#This Row],[Salary in USD]])","v":69000}]
[null,"ID0039","2012-05-25T05:11:37",30000,30000,"USD",{"$f":"tblSalaries[[#This Row],[clean Salary (in local currency)]]*VLOOKUP(tblSalaries[[#This Row],[Currency]],tblXrate[],2,FALSE)","v":30000},"Academic Advisor","Consultant","USA",{"$f":"VLOOKUP(tblSalaries[[#This Row],[Where do you work]],tblCountries[[Actual]:[Mapping]],2,FALSE)","v":"USA"},"2 to 3 hours per day",null,{"$f":"VLOOKUP(K42,tblCountries[],3,0)","v":"North Amer."},{"$f":"VLOOKUP(tblSalaries[[#This Row],[How many hours of a day you work on Excel]],tblHours,2,0)","v":3},{"$f":"VLOOKUP(tblSalaries[[#This Row],[clean Country]],tblCountries[],5,0)","v":1},{"$f":"IF($Q$1,tblSalaries[[#This Row],[PPP Factor]]*tblSalaries[[#This Row],[Salary in USD]],tblSalaries[[#This Row],[Salary in USD]])","v":30000}]
[null,"ID0040","2012-05-25T05:13:50","Rs. 400000",400000,"INR",{"$f":"tblSalaries[[#This Row],[clean Salary (in local currency)]]*VLOOKUP(tblSalaries[[#This Row],[Currency]],tblXrate[],2,FALSE)","v":7123.1666749770275},"Coordination","Manager","India",{"$f":"VLOOKUP(tblSalaries[[#This Row],[Where do you work]],tblCountries[[Actual]:[Mapping]],2,FALSE)","v":"India"},"4 to 6 hours a day",null,{"$f":"VLOOKUP(K43,tblCountries[],3,0)","v":"Asia"},{"$f":"VLOOKUP(tblSalaries[[#This Row],[How many hours of a day you work on Excel]],tblHours,2,0)","v":4},{"$f":"VLOOKUP(tblSalaries[[#This Row],[clean Country]],tblCountries[],5,0)","v":13.098808879263672},{"$f":"IF($Q$1,tblSalaries[[#This Row],[PPP Factor]]*tblSalaries[[#This Row],[Salary in USD]],tblSalaries[[#This Row],[Salary in USD]])","v":7123.1666749770275}]
[null,"ID0041","2012-05-25T05:18:48",70000,70000,"AUD",{"$f":"tblSalaries[[#This Row],[clean Salary (in local currency)]]*VLOOKUP(tblSalaries[[#This Row],[Currency]],tblXrate[],2,FALSE)","v":71393.675948184507},"consultant","Consultant","Australia",{"$f":"VLOOKUP(tblSalaries[[#This Row],[Where do you work]],tblCountries[[Actual]:[Mapping]],2,FALSE)","v":"Australia"},"2 to 3 hours per day",null,{"$f":"VLOOKUP(K44,tblCountries[],3,0)","v":"Oceania"},{"$f":"VLOOKUP(tblSalaries[[#This Row],[How many hours of a day you work on Excel]],tblHours,2,0)","v":3},{"$f":"VLOOKUP(tblSalaries[[#This Row],[clean Country]],tblCountries[],5,0)","v":1.2026395585822935},{"$f":"IF($Q$1,tblSalaries[[#This Row],[PPP Factor]]*tblSalaries[[#This Row],[Salary in USD]],tblSalaries[[#This Row],[Salary in USD]])","v":71393.675948184507}]
[null,"ID0042","2012-05-25T05:20:10",14500,14500,"USD",{"$f":"tblSalaries[[#This Row],[clean Salary (in local currency)]]*VLOOKUP(tblSalaries[[#This Row],[Currency]],tblXrate[],2,FALSE)","v":14500},"Business Analsyt","Analyst","India",{"$f":"VLOOKUP(tblSalaries[[#This Row],[Where do you work]],tblCountries[[Actual]:[Mapping]],2,FALSE)","v":"India"},"4 to 6 hours a day",null,{"$f":"VLOOKUP(K45,tblCountries[],3,0)","v":"Asia"},{"$f":"VLOOKUP(tblSalaries[[#This Row],[How many hours of a day you work on Excel]],tblHours,2,0)","v":4},{"$f":"VLOOKUP(tblSalaries[[#This Row],[clean Country]],tblCountries[],5,0)","v":13.098808879263672},{"$f":"IF($Q$1,tblSalaries[[#This Row],[PPP Factor]]*tblSalaries[[#This Row],[Salary in USD]],tblSalaries[[#This Row],[Salary in USD]])","v":14500}]
[null,"ID0043","2012-05-25T05:30:39",70000,70000,"CAD",{"$f":"tblSalaries[[#This Row],[clean Salary (in local currency)]]*VLOOKUP(tblSalaries[[#This Row],[Currency]],tblXrate[],2,FALSE)","v":68835.306612122877},"Product Engineer","Engineer","Canada",{"$f":"VLOOKUP(tblSalaries[[#This Row],[Where do you work]],tblCountries[[Actual]:[Mapping]],2,FALSE)","v":"Canada"},"2 to 3 hours per day",null,{"$f":"VLOOKUP(K46,tblCountries[],3,0)","v":"North Amer."},{"$f":"VLOOKUP(tblSalaries[[#This Row],[How many hours of a day you work on Excel]],tblHours,2,0)","v":3},{"$f":"VLOOKUP(tblSalaries[[#This Row],[clean Country]],tblCountries[],5,0)","v":1.1935324732986359},{"$f":"IF($Q$1,tblSalaries[[#This Row],[PPP Factor]]*tblSalaries[[#This Row],[Salary in USD]],tblSalaries[[#This Row],[Salary in USD]])","v":68835.306612122877}]
[null,"ID0044","2012-05-25T05:35:28",58000,58000,"USD",{"$f":"tblSalaries[[#This Row],[clean Salary (in local currency)]]*VLOOKUP(tblSalaries[[#This Row],[Currency]],tblXrate[],2,FALSE)","v":58000},"Senior Accountant","Accountant","USA",{"$f":"VLOOKUP(tblSalaries[[#This Row],[Where do you work]],tblCountries[[Actual]:[Mapping]],2,FALSE)","v":"USA"},"4 to 6 hours a day",null,{"$f":"VLOOKUP(K47,tblCountries[],3,0)","v":"North Amer."},{"$f":"VLOOKUP(tblSalaries[[#This Row],[How many hours of a day you work on Excel]],tblHours,2,0)","v":4},{"$f":"VLOOKUP(tblSalaries[[#This Row],[clean Country]],tblCountries[],5,0)","v":1},{"$f":"IF($Q$1,tblSalaries[[#This Row],[PPP Factor]]*tblSalaries[[#This Row],[Salary in USD]],tblSalaries[[#This Row],[Salary in USD]])","v":58000}]
[null,"ID0045","2012-05-25T05:45:01",90000,90000,"USD",{"$f":"tblSalaries[[#This Row],[clean Salary (in local currency)]]*VLOOKUP(tblSalaries[[#This Row],[Currency]],tblXrate[],2,FALSE)","v":90000},"Scientist","Misc.","USA",{"$f":"VLOOKUP(tblSalaries[[#This Row],[Where do you work]],tblCountries[[Actual]:[Mapping]],2,FALSE)","v":"USA"},"1 or 2 hours a day",null,{"$f":"VLOOKUP(K48,tblCountries[],3,0)","v":"North Amer."},{"$f":"VLOOKUP(tblSalaries[[#This Row],[How many hours of a day you work on Excel]],tblHours,2,0)","v":2},{"$f":"VLOOKUP(tblSalaries[[#This Row],[clean Country]],tblCountries[],5,0)","v":1},{"$f":"IF($Q$1,tblSalaries[[#This Row],[PPP Factor]]*tblSalaries[[#This Row],[Salary in USD]],tblSalaries[[#This Row],[Salary in USD]])","v":90000}]
[null,"ID0046","2012-05-25T05:46:47",800000,800000,"INR",{"$f":"tblSalaries[[#This Row],[clean Salary (in local currency)]]*VLOOKUP(tblSalaries[[#This Row],[Currency]],tblXrate[],2,FALSE)","v":14246.333349954055},"Team Lead","Manager","India",{"$f":"VLOOKUP(tblSalaries[[#This Row],[Where do you work]],tblCountries[[Actual]:[Mapping]],2,FALSE)","v":"India"},"2 to 3 hours per day",null,{"$f":"VLOOKUP(K49,tblCountries[],3,0)","v":"Asia"},{"$f":"VLOOKUP(tblSalaries[[#This Row],[How many hours of a day you work on Excel]],tblHours,2,0)","v":3},{"$f":"VLOOKUP(tblSalaries[[#This Row],[clean Country]],tblCountries[],5,0)","v":13.098808879263672},{"$f":"IF($Q$1,tblSalaries[[#This Row],[PPP Factor]]*tblSalaries[[#This Row],[Salary in USD]],tblSalaries[[#This Row],[Salary in USD]])","v":14246.333349954055}]
[null,"ID0047","2012-05-25T05:47:10",32000,32000,"GBP",{"$f":"tblSalaries[[#This Row],[clean Salary (in local currency)]]*VLOOKUP(tblSalaries[[#This Row],[Currency]],tblXrate[],2,FALSE)","v":50437.70470615309},"Senior intelligence analyst","Analyst","UK",{"$f":"VLOOKUP(tblSalaries[[#This Row],[Where do you work]],tblCountries[[Actual]:[Mapping]],2,FALSE)","v":"UK"},"4 to 6 hours a day",null,{"$f":"VLOOKUP(K50,tblCountries[],3,0)","v":"Europe"},{"$f":"VLOOKUP(tblSalaries[[#This Row],[How many hours of a day you work on Excel]],tblHours,2,0)","v":4},{"$f":"VLOOKUP(tblSalaries[[#This Row],[clean Country]],tblCountries[],5,0)","v":1.3407315045719035},{"$f":"IF($Q$1,tblSalaries[[#This Row],[PPP Factor]]*tblSalaries[[#This Row],[Salary in USD]],tblSalaries[[#This Row],[Salary in USD]])","v":50437.70470615309}]
[null,"ID0048","2012-05-25T05:47:52",1000,12000,"USD",{"$f":"tblSalaries[[#This Row],[clean Salary (in local currency)]]*VLOOKUP(tblSalaries[[#This Row],[Currency]],tblXrate[],2,FALSE)","v":12000},"Freelance consultant","Consultant","USA",{"$f":"VLOOKUP(tblSalaries[[#This Row],[Where do you work]],tblCountries[[Actual]:[Mapping]],2,FALSE)","v":"USA"},"1 or 2 hours a day",null,{"$f":"VLOOKUP(K51,tblCountries[],3,0)","v":"North Amer."},{"$f":"VLOOKUP(tblSalaries[[#This Row],[How many hours of a day you work on Excel]],tblHours,2,0)","v":2},{"$f":"VLOOKUP(tblSalaries[[#This Row],[clean Country]],tblCountries[],5,0)","v":1},{"$f":"IF($Q$1,tblSalaries[[#This Row],[PPP Factor]]*tblSalaries[[#This Row],[Salary in USD]],tblSalaries[[#This Row],[Salary in USD]])","v":12000}]
[null,"ID0049","2012-05-25T06:04:42","â‚¬ 45",45000,"EUR",{"$f":"tblSalaries[[#This Row],[clean Salary (in local currency)]]*VLOOKUP(tblSalaries[[#This Row],[Currency]],tblXrate[],2,FALSE)","v":57167.974754622352},"Online Traffic Manager / Web Analist","Manager","The Netherlands",{"$f":"VLOOKUP(tblSalaries[[#This Row],[Where do you work]],tblCountries[[Actual]:[Mapping]],2,FALSE)","v":"Netherlands"},"4 to 6 hours a day",null,{"$f":"VLOOKUP(K52,tblCountries[],3,0)","v":"Europe"},{"$f":"VLOOKUP(tblSalaries[[#This Row],[How many hours of a day you work on Excel]],tblHours,2,0)","v":4},{"$f":"VLOOKUP(tblSalaries[[#This Row],[clean Country]],tblCountries[],5,0)","v":1.1470734656141099},{"$f":"IF($Q$1,tblSalaries[[#This Row],[PPP Factor]]*tblSalaries[[#This Row],[Salary in USD]],tblSalaries[[#This Row],[Salary in USD]])","v":57167.974754622352}]
[null,"ID0050","2012-05-25T06:04:57","100000 USD",100000,"USD",{"$f":"tblSalaries[[#This Row],[clean Salary (in local currency)]]*VLOOKUP(tblSalaries[[#This Row],[Currency]],tblXrate[],2,FALSE)","v":100000},"Seinor Financial Analyst","Analyst","Germany",{"$f":"VLOOKUP(tblSalaries[[#This Row],[Where do you work]],tblCountries[[Actual]:[Mapping]],2,FALSE)","v":"Germany"},"All the 8 hours baby, all the 8!",null,{"$f":"VLOOKUP(K53,tblCountries[],3,0)","v":"Europe"},{"$f":"VLOOKUP(tblSalaries[[#This Row],[How many hours of a day you work on Excel]],tblHours,2,0)","v":5},{"$f":"VLOOKUP(tblSalaries[[#This Row],[clean Country]],tblCountries[],5,0)","v":1.276802913159353},{"$f":"IF($Q$1,tblSalaries[[#This Row],[PPP Factor]]*tblSalaries[[#This Row],[Salary in USD]],tblSalaries[[#This Row],[Salary in USD]])","v":100000}]
[null,"ID0051","2012-05-25T06:05:17",57000,57000,"USD",{"$f":"tblSalaries[[#This Row],[clean Salary (in local currency)]]*VLOOKUP(tblSalaries[[#This Row],[Currency]],tblXrate[],2,FALSE)","v":57000},"Senior Accounting Supervisor","Accountant","USA",{"$f":"VLOOKUP(tblSalaries[[#This Row],[Where do you work]],tblCountries[[Actual]:[Mapping]],2,FALSE)","v":"USA"},"2 to 3 hours per day",null,{"$f":"VLOOKUP(K54,tblCountries[],3,0)","v":"North Amer."},{"$f":"VLOOKUP(tblSalaries[[#This Row],[How many hours of a day you work on Excel]],tblHours,2,0)","v":3},{"$f":"VLOOKUP(tblSalaries[[#This Row],[clean Country]],tblCountries[],5,0)","v":1},{"$f":"IF($Q$1,tblSalaries[[#This Row],[PPP Factor]]*tblSalaries[[#This Row],[Salary in USD]],tblSalaries[[#This Row],[Salary in USD]])","v":57000}]
[null,"ID0052","2012-05-25T06:07:15",40000,40000,"GBP",{"$f":"tblSalaries[[#This Row],[clean Salary (in local currency)]]*VLOOKUP(tblSalaries[[#This Row],[Currency]],tblXrate[],2,FALSE)","v":63047.130882691366},"Senior Accountant","Accountant","UK",{"$f":"VLOOKUP(tblSalaries[[#This Row],[Where do you work]],tblCountries[[Actual]:[Mapping]],2,FALSE)","v":"UK"},"4 to 6 hours a day",null,{"$f":"VLOOKUP(K55,tblCountries[],3,0)","v":"Europe"},{"$f":"VLOOKUP(tblSalaries[[#This Row],[How many hours of a day you work on Excel]],tblHours,2,0)","v":4},{"$f":"VLOOKUP(tblSalaries[[#This Row],[clean Country]],tblCountries[],5,0)","v":1.3407315045719035},{"$f":"IF($Q$1,tblSalaries[[#This Row],[PPP Factor]]*tblSalaries[[#This Row],[Salary in USD]],tblSalaries[[#This Row],[Salary in USD]])","v":63047.130882691366}]
[null,"ID0053","2012-05-25T06:09:44","2000 Euros",24000,"EUR",{"$f":"tblSalaries[[#This Row],[clean Salary (in local currency)]]*VLOOKUP(tblSalaries[[#This Row],[Currency]],tblXrate[],2,FALSE)","v":30489.586535798586},"PPC Manager","Manager","Germany",{"$f":"VLOOKUP(tblSalaries[[#This Row],[Where do you work]],tblCountries[[Actual]:[Mapping]],2,FALSE)","v":"Germany"},"All the 8 hours baby, all the 8!",null,{"$f":"VLOOKUP(K56,tblCountries[],3,0)","v":"Europe"},{"$f":"VLOOKUP(tblSalaries[[#This Row],[How many hours of a day you work on Excel]],tblHours,2,0)","v":5},{"$f":"VLOOKUP(tblSalaries[[#This Row],[clean Country]],tblCountries[],5,0)","v":1.276802913159353},{"$f":"IF($Q$1,tblSalaries[[#This Row],[PPP Factor]]*tblSalaries[[#This Row],[Salary in USD]],tblSalaries[[#This Row],[Salary in USD]])","v":30489.586535798586}]
[null,"ID0054","2012-05-25T06:10:18",4320,4320,"USD",{"$f":"tblSalaries[[#This Row],[clean Salary (in local currency)]]*VLOOKUP(tblSalaries[[#This Row],[Currency]],tblXrate[],2,FALSE)","v":4320},"Financial Planner","Accountant","India",{"$f":"VLOOKUP(tblSalaries[[#This Row],[Where do you work]],tblCountries[[Actual]:[Mapping]],2,FALSE)","v":"India"},"2 to 3 hours per day",null,{"$f":"VLOOKUP(K57,tblCountries[],3,0)","v":"Asia"},{"$f":"VLOOKUP(tblSalaries[[#This Row],[How many hours of a day you work on Excel]],tblHours,2,0)","v":3},{"$f":"VLOOKUP(tblSalaries[[#This Row],[clean Country]],tblCountries[],5,0)","v":13.098808879263672},{"$f":"IF($Q$1,tblSalaries[[#This Row],[PPP Factor]]*tblSalaries[[#This Row],[Salary in USD]],tblSalaries[[#This Row],[Salary in USD]])","v":4320}]
[null,"ID0055","2012-05-25T06:15:42",62000,62000,"USD",{"$f":"tblSalaries[[#This Row],[clean Salary (in local currency)]]*VLOOKUP(tblSalaries[[#This Row],[Currency]],tblXrate[],2,FALSE)","v":62000},"Analyst","Analyst","USA",{"$f":"VLOOKUP(tblSalaries[[#This Row],[Where do you work]],tblCountries[[Actual]:[Mapping]],2,FALSE)","v":"USA"},"4 to 6 hours a day",null,{"$f":"VLOOKUP(K58,tblCountries[],3,0)","v":"North Amer."},{"$f":"VLOOKUP(tblSalaries[[#This Row],[How many hours of a day you work on Excel]],tblHours,2,0)","v":4},{"$f":"VLOOKUP(tblSalaries[[#This Row],[clean Country]],tblCountries[],5,0)","v":1},{"$f":"IF($Q$1,tblSalaries[[#This Row],[PPP Factor]]*tblSalaries[[#This Row],[Salary in USD]],tblSalaries[[#This Row],[Salary in USD]])","v":62000}]
[null,"ID0056","2012-05-25T06:26:44",7500,7500,"USD",{"$f":"tblSalaries[[#This Row],[clean Salary (in local currency)]]*VLOOKUP(tblSalaries[[#This Row],[Currency]],tblXrate[],2,FALSE)","v":7500},"Analyst","Analyst","India",{"$f":"VLOOKUP(tblSalaries[[#This Row],[Where do you work]],tblCountries[[Actual]:[Mapping]],2,FALSE)","v":"India"},"4 to 6 hours a day",null,{"$f":"VLOOKUP(K59,tblCountries[],3,0)","v":"Asia"},{"$f":"VLOOKUP(tblSalaries[[#This Row],[How many hours of a day you work on Excel]],tblHours,2,0)","v":4},{"$f":"VLOOKUP(tblSalaries[[#This Row],[clean Country]],tblCountries[],5,0)","v":13.098808879263672},{"$f":"IF($Q$1,tblSalaries[[#This Row],[PPP Factor]]*tblSalaries[[#This Row],[Salary in USD]],tblSalaries[[#This Row],[Salary in USD]])","v":7500}]
[null,"ID0057","2012-05-25T06:27:29","Â£18000",18000,"GBP",{"$f":"tblSalaries[[#This Row],[clean Salary (in local currency)]]*VLOOKUP(tblSalaries[[#This Row],[Currency]],tblXrate[],2,FALSE)","v":28371.208897211112},"Building Design and Performance Researcher","Manager","UK",{"$f":"VLOOKUP(tblSalaries[[#This Row],[Where do you work]],tblCountries[[Actual]:[Mapping]],2,FALSE)","v":"UK"},"1 or 2 hours a day",null,{"$f":"VLOOKUP(K60,tblCountries[],3,0)","v":"Europe"},{"$f":"VLOOKUP(tblSalaries[[#This Row],[How many hours of a day you work on Excel]],tblHours,2,0)","v":2},{"$f":"VLOOKUP(tblSalaries[[#This Row],[clean Country]],tblCountries[],5,0)","v":1.3407315045719035},{"$f":"IF($Q$1,tblSalaries[[#This Row],[PPP Factor]]*tblSalaries[[#This Row],[Salary in USD]],tblSalaries[[#This Row],[Salary in USD]])","v":28371.208897211112}]
[null,"ID0058","2012-05-25T06:49:25",49000,49000,"EUR",{"$f":"tblSalaries[[#This Row],[clean Salary (in local currency)]]*VLOOKUP(tblSalaries[[#This Row],[Currency]],tblXrate[],2,FALSE)","v":62249.572510588783},"Project leader","Manager","France",{"$f":"VLOOKUP(tblSalaries[[#This Row],[Where do you work]],tblCountries[[Actual]:[Mapping]],2,FALSE)","v":"France"},"2 to 3 hours per day",null,{"$f":"VLOOKUP(K61,tblCountries[],3,0)","v":"Europe"},{"$f":"VLOOKUP(tblSalaries[[#This Row],[How many hours of a day you work on Excel]],tblHours,2,0)","v":3},{"$f":"VLOOKUP(tblSalaries[[#This Row],[clean Country]],tblCountries[],5,0)","v":1.3763511207190806},{"$f":"IF($Q$1,tblSalaries[[#This Row],[PPP Factor]]*tblSalaries[[#This Row],[Salary in USD]],tblSalaries[[#This Row],[Salary in USD]])","v":62249.572510588783}]
[null,"ID0059","2012-05-25T06:57:52",38000,38000,"USD",{"$f":"tblSalaries[[#This Row],[clean Salary (in local currency)]]*VLOOKUP(tblSalaries[[#This Row],[Currency]],tblXrate[],2,FALSE)","v":38000},"Senior Analyst","Analyst","USA",{"$f":"VLOOKUP(tblSalaries[[#This Row],[Where do you work]],tblCountries[[Actual]:[Mapping]],2,FALSE)","v":"USA"},"4 to 6 hours a day",null,{"$f":"VLOOKUP(K62,tblCountries[],3,0)","v":"North Amer."},{"$f":"VLOOKUP(tblSalaries[[#This Row],[How many hours of a day you work on Excel]],tblHours,2,0)","v":4},{"$f":"VLOOKUP(tblSalaries[[#This Row],[clean Country]],tblCountries[],5,0)","v":1},{"$f":"IF($Q$1,tblSalaries[[#This Row],[PPP Factor]]*tblSalaries[[#This Row],[Salary in USD]],tblSalaries[[#This Row],[Salary in USD]])","v":38000}]
[null,"ID0060","2012-05-25T07:00:52",41000,41000,"USD",{"$f":"tblSalaries[[#This Row],[clean Salary (in local currency)]]*VLOOKUP(tblSalaries[[#This Row],[Currency]],tblXrate[],2,FALSE)","v":41000},"Specialist","Specialist","USA",{"$f":"VLOOKUP(tblSalaries[[#This Row],[Where do you work]],tblCountries[[Actual]:[Mapping]],2,FALSE)","v":"USA"},"4 to 6 hours a day",null,{"$f":"VLOOKUP(K63,tblCountries[],3,0)","v":"North Amer."},{"$f":"VLOOKUP(tblSalaries[[#This Row],[How many hours of a day you work on Excel]],tblHours,2,0)","v":4},{"$f":"VLOOKUP(tblSalaries[[#This Row],[clean Country]],tblCountries[],5,0)","v":1},{"$f":"IF($Q$1,tblSalaries[[#This Row],[PPP Factor]]*tblSalaries[[#This Row],[Salary in USD]],tblSalaries[[#This Row],[Salary in USD]])","v":41000}]
[null,"ID0061","2012-05-25T07:11:09",68000,68000,"USD",{"$f":"tblSalaries[[#This Row],[clean Salary (in local currency)]]*VLOOKUP(tblSalaries[[#This Row],[Currency]],tblXrate[],2,FALSE)","v":68000},"Engineering Data Analyst","Analyst","USA",{"$f":"VLOOKUP(tblSalaries[[#This Row],[Where do you work]],tblCountries[[Actual]:[Mapping]],2,FALSE)","v":"USA"},"All the 8 hours baby, all the 8!",null,{"$f":"VLOOKUP(K64,tblCountries[],3,0)","v":"North Amer."},{"$f":"VLOOKUP(tblSalaries[[#This Row],[How many hours of a day you work on Excel]],tblHours,2,0)","v":5},{"$f":"VLOOKUP(tblSalaries[[#This Row],[clean Country]],tblCountries[],5,0)","v":1},{"$f":"IF($Q$1,tblSalaries[[#This Row],[PPP Factor]]*tblSalaries[[#This Row],[Salary in USD]],tblSalaries[[#This Row],[Salary in USD]])","v":68000}]
[null,"ID0062","2012-05-25T07:13:31",56000,56000,"CAD",{"$f":"tblSalaries[[#This Row],[clean Salary (in local currency)]]*VLOOKUP(tblSalaries[[#This Row],[Currency]],tblXrate[],2,FALSE)","v":55068.245289698301},"Sales Analyst","Analyst","CANADA",{"$f":"VLOOKUP(tblSalaries[[#This Row],[Where do you work]],tblCountries[[Actual]:[Mapping]],2,FALSE)","v":"Canada"},"All the 8 hours baby, all the 8!",null,{"$f":"VLOOKUP(K65,tblCountries[],3,0)","v":"North Amer."},{"$f":"VLOOKUP(tblSalaries[[#This Row],[How many hours of a day you work on Excel]],tblHours,2,0)","v":5},{"$f":"VLOOKUP(tblSalaries[[#This Row],[clean Country]],tblCountries[],5,0)","v":1.1935324732986359},{"$f":"IF($Q$1,tblSalaries[[#This Row],[PPP Factor]]*tblSalaries[[#This Row],[Salary in USD]],tblSalaries[[#This Row],[Salary in USD]])","v":55068.245289698301}]
[null,"ID0063","2012-05-25T07:15:12",61000,61000,"USD",{"$f":"tblSalaries[[#This Row],[clean Salary (in local currency)]]*VLOOKUP(tblSalaries[[#This Row],[Currency]],tblXrate[],2,FALSE)","v":61000},"Coordinator Of Costa and Buget","Manager","Brasil",{"$f":"VLOOKUP(tblSalaries[[#This Row],[Where do you work]],tblCountries[[Actual]:[Mapping]],2,FALSE)","v":"Brazil"},"All the 8 hours baby, all the 8!",null,{"$f":"VLOOKUP(K66,tblCountries[],3,0)","v":"South Amer."},{"$f":"VLOOKUP(tblSalaries[[#This Row],[How many hours of a day you work on Excel]],tblHours,2,0)","v":5},{"$f":"VLOOKUP(tblSalaries[[#This Row],[clean Country]],tblCountries[],5,0)","v":4.1113943410655107},{"$f":"IF($Q$1,tblSalaries[[#This Row],[PPP Factor]]*tblSalaries[[#This Row],[Salary in USD]],tblSalaries[[#This Row],[Salary in USD]])","v":61000}]
[null,"ID0064","2012-05-25T07:18:53",43000,43000,"EUR",{"$f":"tblSalaries[[#This Row],[clean Salary (in local currency)]]*VLOOKUP(tblSalaries[[#This Row],[Currency]],tblXrate[],2,FALSE)","v":54627.175876639136},"SAP consultant","Consultant","FR",{"$f":"VLOOKUP(tblSalaries[[#This Row],[Where do you work]],tblCountries[[Actual]:[Mapping]],2,FALSE)","v":"France"},"4 to 6 hours a day",null,{"$f":"VLOOKUP(K67,tblCountries[],3,0)","v":"Europe"},{"$f":"VLOOKUP(tblSalaries[[#This Row],[How many hours of a day you work on Excel]],tblHours,2,0)","v":4},{"$f":"VLOOKUP(tblSalaries[[#This Row],[clean Country]],tblCountries[],5,0)","v":1.3763511207190806},{"$f":"IF($Q$1,tblSalaries[[#This Row],[PPP Factor]]*tblSalaries[[#This Row],[Salary in USD]],tblSalaries[[#This Row],[Salary in USD]])","v":54627.175876639136}]
[null,"ID0065","2012-05-25T07:20:08",85000,85000,"USD",{"$f":"tblSalaries[[#This Row],[clean Salary (in local currency)]]*VLOOKUP(tblSalaries[[#This Row],[Currency]],tblXrate[],2,FALSE)","v":85000},"Manager","Manager","USA",{"$f":"VLOOKUP(tblSalaries[[#This Row],[Where do you work]],tblCountries[[Actual]:[Mapping]],2,FALSE)","v":"USA"},"4 to 6 hours a day",null,{"$f":"VLOOKUP(K68,tblCountries[],3,0)","v":"North Amer."},{"$f":"VLOOKUP(tblSalaries[[#This Row],[How many hours of a day you work on Excel]],tblHours,2,0)","v":4},{"$f":"VLOOKUP(tblSalaries[[#This Row],[clean Country]],tblCountries[],5,0)","v":1},{"$f":"IF($Q$1,tblSalaries[[#This Row],[PPP Factor]]*tblSalaries[[#This Row],[Salary in USD]],tblSalaries[[#This Row],[Salary in USD]])","v":85000}]
[null,"ID0066","2012-05-25T07:21:18","â‚¬ 38000",38000,"EUR",{"$f":"tblSalaries[[#This Row],[clean Salary (in local currency)]]*VLOOKUP(tblSalaries[[#This Row],[Currency]],tblXrate[],2,FALSE)","v":48275.178681681093},"busines analist","Analyst","The Netherlands",{"$f":"VLOOKUP(tblSalaries[[#This Row],[Where do you work]],tblCountries[[Actual]:[Mapping]],2,FALSE)","v":"Netherlands"},"1 or 2 hours a day",null,{"$f":"VLOOKUP(K69,tblCountries[],3,0)","v":"Europe"},{"$f":"VLOOKUP(tblSalaries[[#This Row],[How many hours of a day you work on Excel]],tblHours,2,0)","v":2},{"$f":"VLOOKUP(tblSalaries[[#This Row],[clean Country]],tblCountries[],5,0)","v":1.1470734656141099},{"$f":"IF($Q$1,tblSalaries[[#This Row],[PPP Factor]]*tblSalaries[[#This Row],[Salary in USD]],tblSalaries[[#This Row],[Salary in USD]])","v":48275.178681681093}]
[null,"ID0067","2012-05-25T07:25:12",85000,85000,"AUD",{"$f":"tblSalaries[[#This Row],[clean Salary (in local currency)]]*VLOOKUP(tblSalaries[[#This Row],[Currency]],tblXrate[],2,FALSE)","v":86692.320794224041},"head of data","CXO or Top Mgmt.","Australia",{"$f":"VLOOKUP(tblSalaries[[#This Row],[Where do you work]],tblCountries[[Actual]:[Mapping]],2,FALSE)","v":"Australia"},"4 to 6 hours a day",null,{"$f":"VLOOKUP(K70,tblCountries[],3,0)","v":"Oceania"},{"$f":"VLOOKUP(tblSalaries[[#This Row],[How many hours of a day you work on Excel]],tblHours,2,0)","v":4},{"$f":"VLOOKUP(tblSalaries[[#This Row],[clean Country]],tblCountries[],5,0)","v":1.2026395585822935},{"$f":"IF($Q$1,tblSalaries[[#This Row],[PPP Factor]]*tblSalaries[[#This Row],[Salary in USD]],tblSalaries[[#This Row],[Salary in USD]])","v":86692.320794224041}]
[null,"ID0068","2012-05-25T07:29:12",85087,85087,"USD",{"$f":"tblSalaries[[#This Row],[clean Salary (in local currency)]]*VLOOKUP(tblSalaries[[#This Row],[Currency]],tblXrate[],2,FALSE)","v":85087},"Business Systems Analyst","Analyst","USA",{"$f":"VLOOKUP(tblSalaries[[#This Row],[Where do you work]],tblCountries[[Actual]:[Mapping]],2,FALSE)","v":"USA"},"2 to 3 hours per day",null,{"$f":"VLOOKUP(K71,tblCountries[],3,0)","v":"North Amer."},{"$f":"VLOOKUP(tblSalaries[[#This Row],[How many hours of a day you work on Excel]],tblHours,2,0)","v":3},{"$f":"VLOOKUP(tblSalaries[[#This Row],[clean Country]],tblCountries[],5,0)","v":1},{"$f":"IF($Q$1,tblSalaries[[#This Row],[PPP Factor]]*tblSalaries[[#This Row],[Salary in USD]],tblSalaries[[#This Row],[Salary in USD]])","v":85087}]
[null,"ID0069","2012-05-25T07:38:22",50000,50000,"USD",{"$f":"tblSalaries[[#This Row],[clean Salary (in local currency)]]*VLOOKUP(tblSalaries[[#This Row],[Currency]],tblXrate[],2,FALSE)","v":50000},"Financial Analyst II","Analyst","USA",{"$f":"VLOOKUP(tblSalaries[[#This Row],[Where do you work]],tblCountries[[Actual]:[Mapping]],2,FALSE)","v":"USA"},"All the 8 hours baby, all the 8!",null,{"$f":"VLOOKUP(K72,tblCountries[],3,0)","v":"North Amer."},{"$f":"VLOOKUP(tblSalaries[[#This Row],[How many hours of a day you work on Excel]],tblHours,2,0)","v":5},{"$f":"VLOOKUP(tblSalaries[[#This Row],[clean Country]],tblCountries[],5,0)","v":1},{"$f":"IF($Q$1,tblSalaries[[#This Row],[PPP Factor]]*tblSalaries[[#This Row],[Salary in USD]],tblSalaries[[#This Row],[Salary in USD]])","v":50000}]
[null,"ID0070","2012-05-25T07:47:00",100000,100000,"USD",{"$f":"tblSalaries[[#This Row],[clean Salary (in local currency)]]*VLOOKUP(tblSalaries[[#This Row],[Currency]],tblXrate[],2,FALSE)","v":100000},"Mngr MI","Manager","RSA",{"$f":"VLOOKUP(tblSalaries[[#This Row],[Where do you work]],tblCountries[[Actual]:[Mapping]],2,FALSE)","v":"South Africa"},"4 to 6 hours a day",null,{"$f":"VLOOKUP(K73,tblCountries[],3,0)","v":"Africa"},{"$f":"VLOOKUP(tblSalaries[[#This Row],[How many hours of a day you work on Excel]],tblHours,2,0)","v":4},{"$f":"VLOOKUP(tblSalaries[[#This Row],[clean Country]],tblCountries[],5,0)","v":4.4096418481727877},{"$f":"IF($Q$1,tblSalaries[[#This Row],[PPP Factor]]*tblSalaries[[#This Row],[Salary in USD]],tblSalaries[[#This Row],[Salary in USD]])","v":100000}]
[null,"ID0071","2012-05-25T22:49:00",57000,57000,"USD",{"$f":"tblSalaries[[#This Row],[clean Salary (in local currency)]]*VLOOKUP(tblSalaries[[#This Row],[Currency]],tblXrate[],2,FALSE)","v":57000},"sales analyst","Analyst","USA",{"$f":"VLOOKUP(tblSalaries[[#This Row],[Where do you work]],tblCountries[[Actual]:[Mapping]],2,FALSE)","v":"USA"},"4 to 6 hours a day",null,{"$f":"VLOOKUP(K74,tblCountries[],3,0)","v":"North Amer."},{"$f":"VLOOKUP(tblSalaries[[#This Row],[How many hours of a day you work on Excel]],tblHours,2,0)","v":4},{"$f":"VLOOKUP(tblSalaries[[#This Row],[clean Country]],tblCountries[],5,0)","v":1},{"$f":"IF($Q$1,tblSalaries[[#This Row],[PPP Factor]]*tblSalaries[[#This Row],[Salary in USD]],tblSalaries[[#This Row],[Salary in USD]])","v":57000}]
[null,"ID0072","2012-05-25T22:52:28",75000,75000,"USD",{"$f":"tblSalaries[[#This Row],[clean Salary (in local currency)]]*VLOOKUP(tblSalaries[[#This Row],[Currency]],tblXrate[],2,FALSE)","v":75000},"Consumer Research Program Manager","Manager","USA",{"$f":"VLOOKUP(tblSalaries[[#This Row],[Where do you work]],tblCountries[[Actual]:[Mapping]],2,FALSE)","v":"USA"},"All the 8 hours baby, all the 8!",null,{"$f":"VLOOKUP(K75,tblCountries[],3,0)","v":"North Amer."},{"$f":"VLOOKUP(tblSalaries[[#This Row],[How many hours of a day you work on Excel]],tblHours,2,0)","v":5},{"$f":"VLOOKUP(tblSalaries[[#This Row],[clean Country]],tblCountries[],5,0)","v":1},{"$f":"IF($Q$1,tblSalaries[[#This Row],[PPP Factor]]*tblSalaries[[#This Row],[Salary in USD]],tblSalaries[[#This Row],[Salary in USD]])","v":75000}]
[null,"ID0073","2012-05-25T22:59:05","$AUD100000",100000,"AUD",{"$f":"tblSalaries[[#This Row],[clean Salary (in local currency)]]*VLOOKUP(tblSalaries[[#This Row],[Currency]],tblXrate[],2,FALSE)","v":101990.96564026357},"technical trainer","Manager","Australia",{"$f":"VLOOKUP(tblSalaries[[#This Row],[Where do you work]],tblCountries[[Actual]:[Mapping]],2,FALSE)","v":"Australia"},"4 to 6 hours a day",null,{"$f":"VLOOKUP(K76,tblCountries[],3,0)","v":"Oceania"},{"$f":"VLOOKUP(tblSalaries[[#This Row],[How many hours of a day you work on Excel]],tblHours,2,0)","v":4},{"$f":"VLOOKUP(tblSalaries[[#This Row],[clean Country]],tblCountries[],5,0)","v":1.2026395585822935},{"$f":"IF($Q$1,tblSalaries[[#This Row],[PPP Factor]]*tblSalaries[[#This Row],[Salary in USD]],tblSalaries[[#This Row],[Salary in USD]])","v":101990.96564026357}]
[null,"ID0074","2012-05-25T23:01:20",2785,33420,"USD",{"$f":"tblSalaries[[#This Row],[clean Salary (in local currency)]]*VLOOKUP(tblSalaries[[#This Row],[Currency]],tblXrate[],2,FALSE)","v":33420},"Process Flow Coordinator","Manager","United Arab Emirates",{"$f":"VLOOKUP(tblSalaries[[#This Row],[Where do you work]],tblCountries[[Actual]:[Mapping]],2,FALSE)","v":"UAE"},"All the 8 hours baby, all the 8!",null,{"$f":"VLOOKUP(K77,tblCountries[],3,0)","v":"Asia"},{"$f":"VLOOKUP(tblSalaries[[#This Row],[How many hours of a day you work on Excel]],tblHours,2,0)","v":5},{"$f":"VLOOKUP(tblSalaries[[#This Row],[clean Country]],tblCountries[],5,0)","v":1.0047551808629926},{"$f":"IF($Q$1,tblSalaries[[#This Row],[PPP Factor]]*tblSalaries[[#This Row],[Salary in USD]],tblSalaries[[#This Row],[Salary in USD]])","v":33420}]
[null,"ID0075","2012-05-25T23:03:00",59450,59450,"CAD",{"$f":"tblSalaries[[#This Row],[clean Salary (in local currency)]]*VLOOKUP(tblSalaries[[#This Row],[Currency]],tblXrate[],2,FALSE)","v":58460.842544152933},"Process Improvement Specialist","Specialist","Canada",{"$f":"VLOOKUP(tblSalaries[[#This Row],[Where do you work]],tblCountries[[Actual]:[Mapping]],2,FALSE)","v":"Canada"},"All the 8 hours baby, all the 8!",null,{"$f":"VLOOKUP(K78,tblCountries[],3,0)","v":"North Amer."},{"$f":"VLOOKUP(tblSalaries[[#This Row],[How many hours of a day you work on Excel]],tblHours,2,0)","v":5},{"$f":"VLOOKUP(tblSalaries[[#This Row],[clean Country]],tblCountries[],5,0)","v":1.1935324732986359},{"$f":"IF($Q$1,tblSalaries[[#This Row],[PPP Factor]]*tblSalaries[[#This Row],[Salary in USD]],tblSalaries[[#This Row],[Salary in USD]])","v":58460.842544152933}]
[null,"ID0076","2012-05-25T23:12:29",15000,15000,"USD",{"$f":"tblSalaries[[#This Row],[clean Salary (in local currency)]]*VLOOKUP(tblSalaries[[#This Row],[Currency]],tblXrate[],2,FALSE)","v":15000},"Excel Programmer Consultant","Consultant","USA",{"$f":"VLOOKUP(tblSalaries[[#This Row],[Where do you work]],tblCountries[[Actual]:[Mapping]],2,FALSE)","v":"USA"},"All the 8 hours baby, all the 8!",null,{"$f":"VLOOKUP(K79,tblCountries[],3,0)","v":"North Amer."},{"$f":"VLOOKUP(tblSalaries[[#This Row],[How many hours of a day you work on Excel]],tblHours,2,0)","v":5},{"$f":"VLOOKUP(tblSalaries[[#This Row],[clean Country]],tblCountries[],5,0)","v":1},{"$f":"IF($Q$1,tblSalaries[[#This Row],[PPP Factor]]*tblSalaries[[#This Row],[Salary in USD]],tblSalaries[[#This Row],[Salary in USD]])","v":15000}]
[null,"ID0077","2012-05-25T23:15:34","US $60,000",60000,"USD",{"$f":"tblSalaries[[#This Row],[clean Salary (in local currency)]]*VLOOKUP(tblSalaries[[#This Row],[Currency]],tblXrate[],2,FALSE)","v":60000},"Statistical Analyst","Analyst","Canada",{"$f":"VLOOKUP(tblSalaries[[#This Row],[Where do you work]],tblCountries[[Actual]:[Mapping]],2,FALSE)","v":"Canada"},"1 or 2 hours a day",null,{"$f":"VLOOKUP(K80,tblCountries[],3,0)","v":"North Amer."},{"$f":"VLOOKUP(tblSalaries[[#This Row],[How many hours of a day you work on Excel]],tblHours,2,0)","v":2},{"$f":"VLOOKUP(tblSalaries[[#This Row],[clean Country]],tblCountries[],5,0)","v":1.1935324732986359},{"$f":"IF($Q$1,tblSalaries[[#This Row],[PPP Factor]]*tblSalaries[[#This Row],[Salary in USD]],tblSalaries[[#This Row],[Salary in USD]])","v":60000}]
[null,"ID0078","2012-05-25T23:18:45",100000,100000,"GBP",{"$f":"tblSalaries[[#This Row],[clean Salary (in local currency)]]*VLOOKUP(tblSalaries[[#This Row],[Currency]],tblXrate[],2,FALSE)","v":157617.8272067284},"Analyst","Analyst","UK",{"$f":"VLOOKUP(tblSalaries[[#This Row],[Where do you work]],tblCountries[[Actual]:[Mapping]],2,FALSE)","v":"UK"},"2 to 3 hours per day",null,{"$f":"VLOOKUP(K81,tblCountries[],3,0)","v":"Europe"},{"$f":"VLOOKUP(tblSalaries[[#This Row],[How many hours of a day you work on Excel]],tblHours,2,0)","v":3},{"$f":"VLOOKUP(tblSalaries[[#This Row],[clean Country]],tblCountries[],5,0)","v":1.3407315045719035},{"$f":"IF($Q$1,tblSalaries[[#This Row],[PPP Factor]]*tblSalaries[[#This Row],[Salary in USD]],tblSalaries[[#This Row],[Salary in USD]])","v":157617.8272067284}]
[null,"ID0079","2012-05-25T23:20:46","Us$ 18000",18000,"USD",{"$f":"tblSalaries[[#This Row],[clean Salary (in local currency)]]*VLOOKUP(tblSalaries[[#This Row],[Currency]],tblXrate[],2,FALSE)","v":18000},"Operational Analyst","Analyst","Saudi Arabia",{"$f":"VLOOKUP(tblSalaries[[#This Row],[Where do you work]],tblCountries[[Actual]:[Mapping]],2,FALSE)","v":"Saudi Arabia"},"All the 8 hours baby, all the 8!",null,{"$f":"VLOOKUP(K82,tblCountries[],3,0)","v":"Asia"},{"$f":"VLOOKUP(tblSalaries[[#This Row],[How many hours of a day you work on Excel]],tblHours,2,0)","v":5},{"$f":"VLOOKUP(tblSalaries[[#This Row],[clean Country]],tblCountries[],5,0)","v":1.9964104468374799},{"$f":"IF($Q$1,tblSalaries[[#This Row],[PPP Factor]]*tblSalaries[[#This Row],[Salary in USD]],tblSalaries[[#This Row],[Salary in USD]])","v":18000}]
[null,"ID0080","2012-05-25T23:31:16",50000,50000,"USD",{"$f":"tblSalaries[[#This Row],[clean Salary (in local currency)]]*VLOOKUP(tblSalaries[[#This Row],[Currency]],tblXrate[],2,FALSE)","v":50000},"Exceler","Manager","USA",{"$f":"VLOOKUP(tblSalaries[[#This Row],[Where do you work]],tblCountries[[Actual]:[Mapping]],2,FALSE)","v":"USA"},"2 to 3 hours per day",null,{"$f":"VLOOKUP(K83,tblCountries[],3,0)","v":"North Amer."},{"$f":"VLOOKUP(tblSalaries[[#This Row],[How many hours of a day you work on Excel]],tblHours,2,0)","v":3},{"$f":"VLOOKUP(tblSalaries[[#This Row],[clean Country]],tblCountries[],5,0)","v":1},{"$f":"IF($Q$1,tblSalaries[[#This Row],[PPP Factor]]*tblSalaries[[#This Row],[Salary in USD]],tblSalaries[[#This Row],[Salary in USD]])","v":50000}]
[null,"ID0081","2012-05-25T23:33:15",26000,26000,"USD",{"$f":"tblSalaries[[#This Row],[clean Salary (in local currency)]]*VLOOKUP(tblSalaries[[#This Row],[Currency]],tblXrate[],2,FALSE)","v":26000},"Marketing Analyst","Analyst","Panama",{"$f":"VLOOKUP(tblSalaries[[#This Row],[Where do you work]],tblCountries[[Actual]:[Mapping]],2,FALSE)","v":"Panama"},"All the 8 hours baby, all the 8!",null,{"$f":"VLOOKUP(K84,tblCountries[],3,0)","v":"North Amer."},{"$f":"VLOOKUP(tblSalaries[[#This Row],[How many hours of a day you work on Excel]],tblHours,2,0)","v":5},{"$f":"VLOOKUP(tblSalaries[[#This Row],[clean Country]],tblCountries[],5,0)","v":3.4324324324324325},{"$f":"IF($Q$1,tblSalaries[[#This Row],[PPP Factor]]*tblSalaries[[#This Row],[Salary in USD]],tblSalaries[[#This Row],[Salary in USD]])","v":26000}]
[null,"ID0082","2012-05-25T23:49:27","Â£30000",30000,"GBP",{"$f":"tblSalaries[[#This Row],[clean Salary (in local currency)]]*VLOOKUP(tblSalaries[[#This Row],[Currency]],tblXrate[],2,FALSE)","v":47285.348162018527},"Database Manager","Manager","UK",{"$f":"VLOOKUP(tblSalaries[[#This Row],[Where do you work]],tblCountries[[Actual]:[Mapping]],2,FALSE)","v":"UK"},"4 to 6 hours a day",null,{"$f":"VLOOKUP(K85,tblCountries[],3,0)","v":"Europe"},{"$f":"VLOOKUP(tblSalaries[[#This Row],[How many hours of a day you work on Excel]],tblHours,2,0)","v":4},{"$f":"VLOOKUP(tblSalaries[[#This Row],[clean Country]],tblCountries[],5,0)","v":1.3407315045719035},{"$f":"IF($Q$1,tblSalaries[[#This Row],[PPP Factor]]*tblSalaries[[#This Row],[Salary in USD]],tblSalaries[[#This Row],[Salary in USD]])","v":47285.348162018527}]
[null,"ID0083","2012-05-26T00:00:52",150000,150000,"USD",{"$f":"tblSalaries[[#This Row],[clean Salary (in local currency)]]*VLOOKUP(tblSalaries[[#This Row],[Currency]],tblXrate[],2,FALSE)","v":150000},"Director","CXO or Top Mgmt.","USA",{"$f":"VLOOKUP(tblSalaries[[#This Row],[Where do you work]],tblCountries[[Actual]:[Mapping]],2,FALSE)","v":"USA"},"All the 8 hours baby, all the 8!",null,{"$f":"VLOOKUP(K86,tblCountries[],3,0)","v":"North Amer."},{"$f":"VLOOKUP(tblSalaries[[#This Row],[How many hours of a day you work on Excel]],tblHours,2,0)","v":5},{"$f":"VLOOKUP(tblSalaries[[#This Row],[clean Country]],tblCountries[],5,0)","v":1},{"$f":"IF($Q$1,tblSalaries[[#This Row],[PPP Factor]]*tblSalaries[[#This Row],[Salary in USD]],tblSalaries[[#This Row],[Salary in USD]])","v":150000}]
[null,"ID0084","2012-05-26T00:05:45",120000,120000,"USD",{"$f":"tblSalaries[[#This Row],[clean Salary (in local currency)]]*VLOOKUP(tblSalaries[[#This Row],[Currency]],tblXrate[],2,FALSE)","v":120000},"Manager, Forecasts & Budgets","Manager","USA",{"$f":"VLOOKUP(tblSalaries[[#This Row],[Where do you work]],tblCountries[[Actual]:[Mapping]],2,FALSE)","v":"USA"},"4 to 6 hours a day",null,{"$f":"VLOOKUP(K87,tblCountries[],3,0)","v":"North Amer."},{"$f":"VLOOKUP(tblSalaries[[#This Row],[How many hours of a day you work on Excel]],tblHours,2,0)","v":4},{"$f":"VLOOKUP(tblSalaries[[#This Row],[clean Country]],tblCountries[],5,0)","v":1},{"$f":"IF($Q$1,tblSalaries[[#This Row],[PPP Factor]]*tblSalaries[[#This Row],[Salary in USD]],tblSalaries[[#This Row],[Salary in USD]])","v":120000}]
[null,"ID0085","2012-05-26T00:10:17",500000,500000,"INR",{"$f":"tblSalaries[[#This Row],[clean Salary (in local currency)]]*VLOOKUP(tblSalaries[[#This Row],[Currency]],tblXrate[],2,FALSE)","v":8903.9583437212841},"Senior Consultant","Consultant","India",{"$f":"VLOOKUP(tblSalaries[[#This Row],[Where do you work]],tblCountries[[Actual]:[Mapping]],2,FALSE)","v":"India"},"All the 8 hours baby, all the 8!",null,{"$f":"VLOOKUP(K88,tblCountries[],3,0)","v":"Asia"},{"$f":"VLOOKUP(tblSalaries[[#This Row],[How many hours of a day you work on Excel]],tblHours,2,0)","v":5},{"$f":"VLOOKUP(tblSalaries[[#This Row],[clean Country]],tblCountries[],5,0)","v":13.098808879263672},{"$f":"IF($Q$1,tblSalaries[[#This Row],[PPP Factor]]*tblSalaries[[#This Row],[Salary in USD]],tblSalaries[[#This Row],[Salary in USD]])","v":8903.9583437212841}]
[null,"ID0086","2012-05-26T00:11:21","US $ 31330.00",31330,"USD",{"$f":"tblSalaries[[#This Row],[clean Salary (in local currency)]]*VLOOKUP(tblSalaries[[#This Row],[Currency]],tblXrate[],2,FALSE)","v":31330},"VBA Analyst","Analyst","Brazil",{"$f":"VLOOKUP(tblSalaries[[#This Row],[Where do you work]],tblCountries[[Actual]:[Mapping]],2,FALSE)","v":"Brazil"},"All the 8 hours baby, all the 8!",null,{"$f":"VLOOKUP(K89,tblCountries[],3,0)","v":"South Amer."},{"$f":"VLOOKUP(tblSalaries[[#This Row],[How many hours of a day you work on Excel]],tblHours,2,0)","v":5},{"$f":"VLOOKUP(tblSalaries[[#This Row],[clean Country]],tblCountries[],5,0)","v":4.1113943410655107},{"$f":"IF($Q$1,tblSalaries[[#This Row],[PPP Factor]]*tblSalaries[[#This Row],[Salary in USD]],tblSalaries[[#This Row],[Salary in USD]])","v":31330}]
[null,"ID0087","2012-05-26T00:15:17",110000,110000,"USD",{"$f":"tblSalaries[[#This Row],[clean Salary (in local currency)]]*VLOOKUP(tblSalaries[[#This Row],[Currency]],tblXrate[],2,FALSE)","v":110000},"Senior Scheduling Engineer","Engineer","USA",{"$f":"VLOOKUP(tblSalaries[[#This Row],[Where do you work]],tblCountries[[Actual]:[Mapping]],2,FALSE)","v":"USA"},"2 to 3 hours per day",null,{"$f":"VLOOKUP(K90,tblCountries[],3,0)","v":"North Amer."},{"$f":"VLOOKUP(tblSalaries[[#This Row],[How many hours of a day you work on Excel]],tblHours,2,0)","v":3},{"$f":"VLOOKUP(tblSalaries[[#This Row],[clean Country]],tblCountries[],5,0)","v":1},{"$f":"IF($Q$1,tblSalaries[[#This Row],[PPP Factor]]*tblSalaries[[#This Row],[Salary in USD]],tblSalaries[[#This Row],[Salary in USD]])","v":110000}]
[null,"ID0088","2012-05-26T00:22:49","81,000USD",81000,"USD",{"$f":"tblSalaries[[#This Row],[clean Salary (in local currency)]]*VLOOKUP(tblSalaries[[#This Row],[Currency]],tblXrate[],2,FALSE)","v":81000},"Strategy Consultant","Consultant","UK",{"$f":"VLOOKUP(tblSalaries[[#This Row],[Where do you work]],tblCountries[[Actual]:[Mapping]],2,FALSE)","v":"UK"},"4 to 6 hours a day",null,{"$f":"VLOOKUP(K91,tblCountries[],3,0)","v":"Europe"},{"$f":"VLOOKUP(tblSalaries[[#This Row],[How many hours of a day you work on Excel]],tblHours,2,0)","v":4},{"$f":"VLOOKUP(tblSalaries[[#This Row],[clean Country]],tblCountries[],5,0)","v":1.3407315045719035},{"$f":"IF($Q$1,tblSalaries[[#This Row],[PPP Factor]]*tblSalaries[[#This Row],[Salary in USD]],tblSalaries[[#This Row],[Salary in USD]])","v":81000}]
[null,"ID0089","2012-05-26T00:39:04",40000,40000,"USD",{"$f":"tblSalaries[[#This Row],[clean Salary (in local currency)]]*VLOOKUP(tblSalaries[[#This Row],[Currency]],tblXrate[],2,FALSE)","v":40000},"Admin","Analyst","USA",{"$f":"VLOOKUP(tblSalaries[[#This Row],[Where do you work]],tblCountries[[Actual]:[Mapping]],2,FALSE)","v":"USA"},"4 to 6 hours a day",null,{"$f":"VLOOKUP(K92,tblCountries[],3,0)","v":"North Amer."},{"$f":"VLOOKUP(tblSalaries[[#This Row],[How many hours of a day you work on Excel]],tblHours,2,0)","v":4},{"$f":"VLOOKUP(tblSalaries[[#This Row],[clean Country]],tblCountries[],5,0)","v":1},{"$f":"IF($Q$1,tblSalaries[[#This Row],[PPP Factor]]*tblSalaries[[#This Row],[Salary in USD]],tblSalaries[[#This Row],[Salary in USD]])","v":40000}]
[null,"ID0090","2012-05-26T00:39:28",42000,42000,"CAD",{"$f":"tblSalaries[[#This Row],[clean Salary (in local currency)]]*VLOOKUP(tblSalaries[[#This Row],[Currency]],tblXrate[],2,FALSE)","v":41301.183967273726},"IT Asset Administrator","Analyst","Canada",{"$f":"VLOOKUP(tblSalaries[[#This Row],[Where do you work]],tblCountries[[Actual]:[Mapping]],2,FALSE)","v":"Canada"},"4 to 6 hours a day",null,{"$f":"VLOOKUP(K93,tblCountries[],3,0)","v":"North Amer."},{"$f":"VLOOKUP(tblSalaries[[#This Row],[How many hours of a day you work on Excel]],tblHours,2,0)","v":4},{"$f":"VLOOKUP(tblSalaries[[#This Row],[clean Country]],tblCountries[],5,0)","v":1.1935324732986359},{"$f":"IF($Q$1,tblSalaries[[#This Row],[PPP Factor]]*tblSalaries[[#This Row],[Salary in USD]],tblSalaries[[#This Row],[Salary in USD]])","v":41301.183967273726}]
[null,"ID0091","2012-05-26T00:39:36",125000,125000,"USD",{"$f":"tblSalaries[[#This Row],[clean Salary (in local currency)]]*VLOOKUP(tblSalaries[[#This Row],[Currency]],tblXrate[],2,FALSE)","v":125000},"Director of Marketing","CXO or Top Mgmt.","USA",{"$f":"VLOOKUP(tblSalaries[[#This Row],[Where do you work]],tblCountries[[Actual]:[Mapping]],2,FALSE)","v":"USA"},"4 to 6 hours a day",null,{"$f":"VLOOKUP(K94,tblCountries[],3,0)","v":"North Amer."},{"$f":"VLOOKUP(tblSalaries[[#This Row],[How many hours of a day you work on Excel]],tblHours,2,0)","v":4},{"$f":"VLOOKUP(tblSalaries[[#This Row],[clean Country]],tblCountries[],5,0)","v":1},{"$f":"IF($Q$1,tblSalaries[[#This Row],[PPP Factor]]*tblSalaries[[#This Row],[Salary in USD]],tblSalaries[[#This Row],[Salary in USD]])","v":125000}]
[null,"ID0092","2012-05-26T00:39:38",36000,36000,"USD",{"$f":"tblSalaries[[#This Row],[clean Salary (in local currency)]]*VLOOKUP(tblSalaries[[#This Row],[Currency]],tblXrate[],2,FALSE)","v":36000},"Graphic Design Manager","Manager","USA",{"$f":"VLOOKUP(tblSalaries[[#This Row],[Where do you work]],tblCountries[[Actual]:[Mapping]],2,FALSE)","v":"USA"},"2 to 3 hours per day",null,{"$f":"VLOOKUP(K95,tblCountries[],3,0)","v":"North Amer."},{"$f":"VLOOKUP(tblSalaries[[#This Row],[How many hours of a day you work on Excel]],tblHours,2,0)","v":3},{"$f":"VLOOKUP(tblSalaries[[#This Row],[clean Country]],tblCountries[],5,0)","v":1},{"$f":"IF($Q$1,tblSalaries[[#This Row],[PPP Factor]]*tblSalaries[[#This Row],[Salary in USD]],tblSalaries[[#This Row],[Salary in USD]])","v":36000}]
[null,"ID0093","2012-05-26T00:39:54","Rs. 12,000/-",144000,"INR",{"$f":"tblSalaries[[#This Row],[clean Salary (in local currency)]]*VLOOKUP(tblSalaries[[#This Row],[Currency]],tblXrate[],2,FALSE)","v":2564.3400029917298},"Financial Consultant","Consultant","India",{"$f":"VLOOKUP(tblSalaries[[#This Row],[Where do you work]],tblCountries[[Actual]:[Mapping]],2,FALSE)","v":"India"},"1 or 2 hours a day",null,{"$f":"VLOOKUP(K96,tblCountries[],3,0)","v":"Asia"},{"$f":"VLOOKUP(tblSalaries[[#This Row],[How many hours of a day you work on Excel]],tblHours,2,0)","v":2},{"$f":"VLOOKUP(tblSalaries[[#This Row],[clean Country]],tblCountries[],5,0)","v":13.098808879263672},{"$f":"IF($Q$1,tblSalaries[[#This Row],[PPP Factor]]*tblSalaries[[#This Row],[Salary in USD]],tblSalaries[[#This Row],[Salary in USD]])","v":2564.3400029917298}]
[null,"ID0094","2012-05-26T00:40:00",75000,75000,"USD",{"$f":"tblSalaries[[#This Row],[clean Salary (in local currency)]]*VLOOKUP(tblSalaries[[#This Row],[Currency]],tblXrate[],2,FALSE)","v":75000},"Data Analyst","Analyst","USA",{"$f":"VLOOKUP(tblSalaries[[#This Row],[Where do you work]],tblCountries[[Actual]:[Mapping]],2,FALSE)","v":"USA"},"1 or 2 hours a day",null,{"$f":"VLOOKUP(K97,tblCountries[],3,0)","v":"North Amer."},{"$f":"VLOOKUP(tblSalaries[[#This Row],[How many hours of a day you work on Excel]],tblHours,2,0)","v":2},{"$f":"VLOOKUP(tblSalaries[[#This Row],[clean Country]],tblCountries[],5,0)","v":1},{"$f":"IF($Q$1,tblSalaries[[#This Row],[PPP Factor]]*tblSalaries[[#This Row],[Salary in USD]],tblSalaries[[#This Row],[Salary in USD]])","v":75000}]
[null,"ID0095","2012-05-26T00:40:20",95000,95000,"USD",{"$f":"tblSalaries[[#This Row],[clean Salary (in local currency)]]*VLOOKUP(tblSalaries[[#This Row],[Currency]],tblXrate[],2,FALSE)","v":95000},"CFO","CXO or Top Mgmt.","USA",{"$f":"VLOOKUP(tblSalaries[[#This Row],[Where do you work]],tblCountries[[Actual]:[Mapping]],2,FALSE)","v":"USA"},"4 to 6 hours a day",null,{"$f":"VLOOKUP(K98,tblCountries[],3,0)","v":"North Amer."},{"$f":"VLOOKUP(tblSalaries[[#This Row],[How many hours of a day you work on Excel]],tblHours,2,0)","v":4},{"$f":"VLOOKUP(tblSalaries[[#This Row],[clean Country]],tblCountries[],5,0)","v":1},{"$f":"IF($Q$1,tblSalaries[[#This Row],[PPP Factor]]*tblSalaries[[#This Row],[Salary in USD]],tblSalaries[[#This Row],[Salary in USD]])","v":95000}]
[null,"ID0096","2012-05-26T00:40:27",24000,24000,"USD",{"$f":"tblSalaries[[#This Row],[clean Salary (in local currency)]]*VLOOKUP(tblSalaries[[#This Row],[Currency]],tblXrate[],2,FALSE)","v":24000},"Paraeducator","Manager","USA",{"$f":"VLOOKUP(tblSalaries[[#This Row],[Where do you work]],tblCountries[[Actual]:[Mapping]],2,FALSE)","v":"USA"},"2 to 3 hours per day",null,{"$f":"VLOOKUP(K99,tblCountries[],3,0)","v":"North Amer."},{"$f":"VLOOKUP(tblSalaries[[#This Row],[How many hours of a day you work on Excel]],tblHours,2,0)","v":3},{"$f":"VLOOKUP(tblSalaries[[#This Row],[clean Country]],tblCountries[],5,0)","v":1},{"$f":"IF($Q$1,tblSalaries[[#This Row],[PPP Factor]]*tblSalaries[[#This Row],[Salary in USD]],tblSalaries[[#This Row],[Salary in USD]])","v":24000}]
[null,"ID0097","2012-05-26T00:40:31","91,000 USD",91000,"USD",{"$f":"tblSalaries[[#This Row],[clean Salary (in local currency)]]*VLOOKUP(tblSalaries[[#This Row],[Currency]],tblXrate[],2,FALSE)","v":91000},"Channel Marketing Manager","Manager","USA",{"$f":"VLOOKUP(tblSalaries[[#This Row],[Where do you work]],tblCountries[[Actual]:[Mapping]],2,FALSE)","v":"USA"},"1 or 2 hours a day",null,{"$f":"VLOOKUP(K100,tblCountries[],3,0)","v":"North Amer."},{"$f":"VLOOKUP(tblSalaries[[#This Row],[How many hours of a day you work on Excel]],tblHours,2,0)","v":2},{"$f":"VLOOKUP(tblSalaries[[#This Row],[clean Country]],tblCountries[],5,0)","v":1},{"$f":"IF($Q$1,tblSalaries[[#This Row],[PPP Factor]]*tblSalaries[[#This Row],[Salary in USD]],tblSalaries[[#This Row],[Salary in USD]])","v":91000}]
[null,"ID0098","2012-05-26T00:40:39",40000,40000,"USD",{"$f":"tblSalaries[[#This Row],[clean Salary (in local currency)]]*VLOOKUP(tblSalaries[[#This Row],[Currency]],tblXrate[],2,FALSE)","v":40000},"Sales and Marketing Analyst ","Analyst","USA",{"$f":"VLOOKUP(tblSalaries[[#This Row],[Where do you work]],tblCountries[[Actual]:[Mapping]],2,FALSE)","v":"USA"},"4 to 6 hours a day",null,{"$f":"VLOOKUP(K101,tblCountries[],3,0)","v":"North Amer."},{"$f":"VLOOKUP(tblSalaries[[#This Row],[How many hours of a day you work on Excel]],tblHours,2,0)","v":4},{"$f":"VLOOKUP(tblSalaries[[#This Row],[clean Country]],tblCountries[],5,0)","v":1},{"$f":"IF($Q$1,tblSalaries[[#This Row],[PPP Factor]]*tblSalaries[[#This Row],[Salary in USD]],tblSalaries[[#This Row],[Salary in USD]])","v":40000}]
[null,"ID0099","2012-05-26T00:40:40",57000,57000,"USD",{"$f":"tblSalaries[[#This Row],[clean Salary (in local currency)]]*VLOOKUP(tblSalaries[[#This Row],[Currency]],tblXrate[],2,FALSE)","v":57000},"Production Scheduler","Manager","USA",{"$f":"VLOOKUP(tblSalaries[[#This Row],[Where do you work]],tblCountries[[Actual]:[Mapping]],2,FALSE)","v":"USA"},"4 to 6 hours a day",null,{"$f":"VLOOKUP(K102,tblCountries[],3,0)","v":"North Amer."},{"$f":"VLOOKUP(tblSalaries[[#This Row],[How many hours of a day you work on Excel]],tblHours,2,0)","v":4},{"$f":"VLOOKUP(tblSalaries[[#This Row],[clean Country]],tblCountries[],5,0)","v":1},{"$f":"IF($Q$1,tblSalaries[[#This Row],[PPP Factor]]*tblSalaries[[#This Row],[Salary in USD]],tblSalaries[[#This Row],[Salary in USD]])","v":57000}]
[null,"ID0100","2012-05-26T00:40:41",74000,74000,"USD",{"$f":"tblSalaries[[#This Row],[clean Salary (in local currency)]]*VLOOKUP(tblSalaries[[#This Row],[Currency]],tblXrate[],2,FALSE)","v":74000},"Senior Consultant","Consultant","USA",{"$f":"VLOOKUP(tblSalaries[[#This Row],[Where do you work]],tblCountries[[Actual]:[Mapping]],2,FALSE)","v":"USA"},"4 to 6 hours a day",null,{"$f":"VLOOKUP(K103,tblCountries[],3,0)","v":"North Amer."},{"$f":"VLOOKUP(tblSalaries[[#This Row],[How many hours of a day you work on Excel]],tblHours,2,0)","v":4},{"$f":"VLOOKUP(tblSalaries[[#This Row],[clean Country]],tblCountries[],5,0)","v":1},{"$f":"IF($Q$1,tblSalaries[[#This Row],[PPP Factor]]*tblSalaries[[#This Row],[Salary in USD]],tblSalaries[[#This Row],[Salary in USD]])","v":74000}]
[null,"ID0101","2012-05-26T00:40:42","80k",80000,"USD",{"$f":"tblSalaries[[#This Row],[clean Salary (in local currency)]]*VLOOKUP(tblSalaries[[#This Row],[Currency]],tblXrate[],2,FALSE)","v":80000},"financial analyst","Analyst","USA",{"$f":"VLOOKUP(tblSalaries[[#This Row],[Where do you work]],tblCountries[[Actual]:[Mapping]],2,FALSE)","v":"USA"},"4 to 6 hours a day",null,{"$f":"VLOOKUP(K104,tblCountries[],3,0)","v":"North Amer."},{"$f":"VLOOKUP(tblSalaries[[#This Row],[How many hours of a day you work on Excel]],tblHours,2,0)","v":4},{"$f":"VLOOKUP(tblSalaries[[#This Row],[clean Country]],tblCountries[],5,0)","v":1},{"$f":"IF($Q$1,tblSalaries[[#This Row],[PPP Factor]]*tblSalaries[[#This Row],[Salary in USD]],tblSalaries[[#This Row],[Salary in USD]])","v":80000}]
[null,"ID0102","2012-05-26T00:40:46",90000,90000,"USD",{"$f":"tblSalaries[[#This Row],[clean Salary (in local currency)]]*VLOOKUP(tblSalaries[[#This Row],[Currency]],tblXrate[],2,FALSE)","v":90000},"Product Specialist","Specialist","USA",{"$f":"VLOOKUP(tblSalaries[[#This Row],[Where do you work]],tblCountries[[Actual]:[Mapping]],2,FALSE)","v":"USA"},"4 to 6 hours a day",null,{"$f":"VLOOKUP(K105,tblCountries[],3,0)","v":"North Amer."},{"$f":"VLOOKUP(tblSalaries[[#This Row],[How many hours of a day you work on Excel]],tblHours,2,0)","v":4},{"$f":"VLOOKUP(tblSalaries[[#This Row],[clean Country]],tblCountries[],5,0)","v":1},{"$f":"IF($Q$1,tblSalaries[[#This Row],[PPP Factor]]*tblSalaries[[#This Row],[Salary in USD]],tblSalaries[[#This Row],[Salary in USD]])","v":90000}]
[null,"ID0103","2012-05-26T00:40:48",21000,21000,"USD",{"$f":"tblSalaries[[#This Row],[clean Salary (in local currency)]]*VLOOKUP(tblSalaries[[#This Row],[Currency]],tblXrate[],2,FALSE)","v":21000},"IT support","Analyst","arabian Gulf",{"$f":"VLOOKUP(tblSalaries[[#This Row],[Where do you work]],tblCountries[[Actual]:[Mapping]],2,FALSE)","v":"arabian Gulf"},"1 or 2 hours a day",null,{"$f":"VLOOKUP(K106,tblCountries[],3,0)","v":"Asia"},{"$f":"VLOOKUP(tblSalaries[[#This Row],[How many hours of a day you work on Excel]],tblHours,2,0)","v":2},{"$f":"VLOOKUP(tblSalaries[[#This Row],[clean Country]],tblCountries[],5,0)","v":1},{"$f":"IF($Q$1,tblSalaries[[#This Row],[PPP Factor]]*tblSalaries[[#This Row],[Salary in USD]],tblSalaries[[#This Row],[Salary in USD]])","v":21000}]
[null,"ID0104","2012-05-26T00:40:50",52000,52000,"USD",{"$f":"tblSalaries[[#This Row],[clean Salary (in local currency)]]*VLOOKUP(tblSalaries[[#This Row],[Currency]],tblXrate[],2,FALSE)","v":52000},"sr. project coordinator","Manager","USA",{"$f":"VLOOKUP(tblSalaries[[#This Row],[Where do you work]],tblCountries[[Actual]:[Mapping]],2,FALSE)","v":"USA"},"4 to 6 hours a day",null,{"$f":"VLOOKUP(K107,tblCountries[],3,0)","v":"North Amer."},{"$f":"VLOOKUP(tblSalaries[[#This Row],[How many hours of a day you work on Excel]],tblHours,2,0)","v":4},{"$f":"VLOOKUP(tblSalaries[[#This Row],[clean Country]],tblCountries[],5,0)","v":1},{"$f":"IF($Q$1,tblSalaries[[#This Row],[PPP Factor]]*tblSalaries[[#This Row],[Salary in USD]],tblSalaries[[#This Row],[Salary in USD]])","v":52000}]
[null,"ID0105","2012-05-26T00:40:52",19200,19200,"USD",{"$f":"tblSalaries[[#This Row],[clean Salary (in local currency)]]*VLOOKUP(tblSalaries[[#This Row],[Currency]],tblXrate[],2,FALSE)","v":19200},"Sr Administrative Assistant","Analyst","Mexico",{"$f":"VLOOKUP(tblSalaries[[#This Row],[Where do you work]],tblCountries[[Actual]:[Mapping]],2,FALSE)","v":"Mexico"},"4 to 6 hours a day",null,{"$f":"VLOOKUP(K108,tblCountries[],3,0)","v":"North Amer."},{"$f":"VLOOKUP(tblSalaries[[#This Row],[How many hours of a day you work on Excel]],tblHours,2,0)","v":4},{"$f":"VLOOKUP(tblSalaries[[#This Row],[clean Country]],tblCountries[],5,0)","v":3.3119096509240245},{"$f":"IF($Q$1,tblSalaries[[#This Row],[PPP Factor]]*tblSalaries[[#This Row],[Salary in USD]],tblSalaries[[#This Row],[Salary in USD]])","v":19200}]
[null,"ID0106","2012-05-26T00:40:57",36000,36000,"USD",{"$f":"tblSalaries[[#This Row],[clean Salary (in local currency)]]*VLOOKUP(tblSalaries[[#This Row],[Currency]],tblXrate[],2,FALSE)","v":36000},"Analyst","Analyst","USA",{"$f":"VLOOKUP(tblSalaries[[#This Row],[Where do you work]],tblCountries[[Actual]:[Mapping]],2,FALSE)","v":"USA"},"4 to 6 hours a day",null,{"$f":"VLOOKUP(K109,tblCountries[],3,0)","v":"North Amer."},{"$f":"VLOOKUP(tblSalaries[[#This Row],[How many hours of a day you work on Excel]],tblHours,2,0)","v":4},{"$f":"VLOOKUP(tblSalaries[[#This Row],[clean Country]],tblCountries[],5,0)","v":1},{"$f":"IF($Q$1,tblSalaries[[#This Row],[PPP Factor]]*tblSalaries[[#This Row],[Salary in USD]],tblSalaries[[#This Row],[Salary in USD]])","v":36000}]
[null,"ID0107","2012-05-26T00:41:02",57400,57400,"USD",{"$f":"tblSalaries[[#This Row],[clean Salary (in local currency)]]*VLOOKUP(tblSalaries[[#This Row],[Currency]],tblXrate[],2,FALSE)","v":57400},"IT Analyst","Analyst","USA",{"$f":"VLOOKUP(tblSalaries[[#This Row],[Where do you work]],tblCountries[[Actual]:[Mapping]],2,FALSE)","v":"USA"},"4 to 6 hours a day",null,{"$f":"VLOOKUP(K110,tblCountries[],3,0)","v":"North Amer."},{"$f":"VLOOKUP(tblSalaries[[#This Row],[How many hours of a day you work on Excel]],tblHours,2,0)","v":4},{"$f":"VLOOKUP(tblSalaries[[#This Row],[clean Country]],tblCountries[],5,0)","v":1},{"$f":"IF($Q$1,tblSalaries[[#This Row],[PPP Factor]]*tblSalaries[[#This Row],[Salary in USD]],tblSalaries[[#This Row],[Salary in USD]])","v":57400}]
[null,"ID0108","2012-05-26T00:41:03",66000,66000,"USD",{"$f":"tblSalaries[[#This Row],[clean Salary (in local currency)]]*VLOOKUP(tblSalaries[[#This Row],[Currency]],tblXrate[],2,FALSE)","v":66000},"Analyst","Analyst","USA",{"$f":"VLOOKUP(tblSalaries[[#This Row],[Where do you work]],tblCountries[[Actual]:[Mapping]],2,FALSE)","v":"USA"},"2 to 3 hours per day",null,{"$f":"VLOOKUP(K111,tblCountries[],3,0)","v":"North Amer."},{"$f":"VLOOKUP(tblSalaries[[#This Row],[How many hours of a day you work on Excel]],tblHours,2,0)","v":3},{"$f":"VLOOKUP(tblSalaries[[#This Row],[clean Country]],tblCountries[],5,0)","v":1},{"$f":"IF($Q$1,tblSalaries[[#This Row],[PPP Factor]]*tblSalaries[[#This Row],[Salary in USD]],tblSalaries[[#This Row],[Salary in USD]])","v":66000}]
[null,"ID0109","2012-05-26T00:41:06",35000,35000,"EUR",{"$f":"tblSalaries[[#This Row],[clean Salary (in local currency)]]*VLOOKUP(tblSalaries[[#This Row],[Currency]],tblXrate[],2,FALSE)","v":44463.980364706273},"Project manager","Manager","Greece",{"$f":"VLOOKUP(tblSalaries[[#This Row],[Where do you work]],tblCountries[[Actual]:[Mapping]],2,FALSE)","v":"Greece"},"4 to 6 hours a day",null,{"$f":"VLOOKUP(K112,tblCountries[],3,0)","v":"Europe"},{"$f":"VLOOKUP(tblSalaries[[#This Row],[How many hours of a day you work on Excel]],tblHours,2,0)","v":4},{"$f":"VLOOKUP(tblSalaries[[#This Row],[clean Country]],tblCountries[],5,0)","v":1.8402297102000456},{"$f":"IF($Q$1,tblSalaries[[#This Row],[PPP Factor]]*tblSalaries[[#This Row],[Salary in USD]],tblSalaries[[#This Row],[Salary in USD]])","v":44463.980364706273}]
[null,"ID0111","2012-05-26T00:41:16","$85,000+",85000,"USD",{"$f":"tblSalaries[[#This Row],[clean Salary (in local currency)]]*VLOOKUP(tblSalaries[[#This Row],[Currency]],tblXrate[],2,FALSE)","v":85000},"Strategic Analyst","Analyst","USA",{"$f":"VLOOKUP(tblSalaries[[#This Row],[Where do you work]],tblCountries[[Actual]:[Mapping]],2,FALSE)","v":"USA"},"4 to 6 hours a day",null,{"$f":"VLOOKUP(K113,tblCountries[],3,0)","v":"North Amer."},{"$f":"VLOOKUP(tblSalaries[[#This Row],[How many hours of a day you work on Excel]],tblHours,2,0)","v":4},{"$f":"VLOOKUP(tblSalaries[[#This Row],[clean Country]],tblCountries[],5,0)","v":1},{"$f":"IF($Q$1,tblSalaries[[#This Row],[PPP Factor]]*tblSalaries[[#This Row],[Salary in USD]],tblSalaries[[#This Row],[Salary in USD]])","v":85000}]
[null,"ID0112","2012-05-26T00:41:22",50000,50000,"USD",{"$f":"tblSalaries[[#This Row],[clean Salary (in local currency)]]*VLOOKUP(tblSalaries[[#This Row],[Currency]],tblXrate[],2,FALSE)","v":50000},"Transportation Specialist","Specialist","USA",{"$f":"VLOOKUP(tblSalaries[[#This Row],[Where do you work]],tblCountries[[Actual]:[Mapping]],2,FALSE)","v":"USA"},"4 to 6 hours a day",null,{"$f":"VLOOKUP(K114,tblCountries[],3,0)","v":"North Amer."},{"$f":"VLOOKUP(tblSalaries[[#This Row],[How many hours of a day you work on Excel]],tblHours,2,0)","v":4},{"$f":"VLOOKUP(tblSalaries[[#This Row],[clean Country]],tblCountries[],5,0)","v":1},{"$f":"IF($Q$1,tblSalaries[[#This Row],[PPP Factor]]*tblSalaries[[#This Row],[Salary in USD]],tblSalaries[[#This Row],[Salary in USD]])","v":50000}]
[null,"ID0113","2012-05-26T00:41:27","$58,000 USD",58000,"USD",{"$f":"tblSalaries[[#This Row],[clean Salary (in local currency)]]*VLOOKUP(tblSalaries[[#This Row],[Currency]],tblXrate[],2,FALSE)","v":58000},"Operations Programs Support","Manager","USA",{"$f":"VLOOKUP(tblSalaries[[#This Row],[Where do you work]],tblCountries[[Actual]:[Mapping]],2,FALSE)","v":"USA"},"4 to 6 hours a day",null,{"$f":"VLOOKUP(K115,tblCountries[],3,0)","v":"North Amer."},{"$f":"VLOOKUP(tblSalaries[[#This Row],[How many hours of a day you work on Excel]],tblHours,2,0)","v":4},{"$f":"VLOOKUP(tblSalaries[[#This Row],[clean Country]],tblCountries[],5,0)","v":1},{"$f":"IF($Q$1,tblSalaries[[#This Row],[PPP Factor]]*tblSalaries[[#This Row],[Salary in USD]],tblSalaries[[#This Row],[Salary in USD]])","v":58000}]
[null,"ID0114","2012-05-26T00:41:28",37900,37900,"USD",{"$f":"tblSalaries[[#This Row],[clean Salary (in local currency)]]*VLOOKUP(tblSalaries[[#This Row],[Currency]],tblXrate[],2,FALSE)","v":37900},"Accounting Coordinator","Accountant","USA",{"$f":"VLOOKUP(tblSalaries[[#This Row],[Where do you work]],tblCountries[[Actual]:[Mapping]],2,FALSE)","v":"USA"},"All the 8 hours baby, all the 8!",null,{"$f":"VLOOKUP(K116,tblCountries[],3,0)","v":"North Amer."},{"$f":"VLOOKUP(tblSalaries[[#This Row],[How many hours of a day you work on Excel]],tblHours,2,0)","v":5},{"$f":"VLOOKUP(tblSalaries[[#This Row],[clean Country]],tblCountries[],5,0)","v":1},{"$f":"IF($Q$1,tblSalaries[[#This Row],[PPP Factor]]*tblSalaries[[#This Row],[Salary in USD]],tblSalaries[[#This Row],[Salary in USD]])","v":37900}]
[null,"ID0115","2012-05-26T00:41:30",4000,48000,"USD",{"$f":"tblSalaries[[#This Row],[clean Salary (in local currency)]]*VLOOKUP(tblSalaries[[#This Row],[Currency]],tblXrate[],2,FALSE)","v":48000},"Asst.Manager Finance","Manager","UAE",{"$f":"VLOOKUP(tblSalaries[[#This Row],[Where do you work]],tblCountries[[Actual]:[Mapping]],2,FALSE)","v":"UAE"},"2 to 3 hours per day",null,{"$f":"VLOOKUP(K117,tblCountries[],3,0)","v":"Asia"},{"$f":"VLOOKUP(tblSalaries[[#This Row],[How many hours of a day you work on Excel]],tblHours,2,0)","v":3},{"$f":"VLOOKUP(tblSalaries[[#This Row],[clean Country]],tblCountries[],5,0)","v":1.0047551808629926},{"$f":"IF($Q$1,tblSalaries[[#This Row],[PPP Factor]]*tblSalaries[[#This Row],[Salary in USD]],tblSalaries[[#This Row],[Salary in USD]])","v":48000}]
[null,"ID0116","2012-05-26T00:41:32",67000,67000,"USD",{"$f":"tblSalaries[[#This Row],[clean Salary (in local currency)]]*VLOOKUP(tblSalaries[[#This Row],[Currency]],tblXrate[],2,FALSE)","v":67000},"Operations Cost Analyst","Analyst","USA",{"$f":"VLOOKUP(tblSalaries[[#This Row],[Where do you work]],tblCountries[[Actual]:[Mapping]],2,FALSE)","v":"USA"},"4 to 6 hours a day",null,{"$f":"VLOOKUP(K118,tblCountries[],3,0)","v":"North Amer."},{"$f":"VLOOKUP(tblSalaries[[#This Row],[How many hours of a day you work on Excel]],tblHours,2,0)","v":4},{"$f":"VLOOKUP(tblSalaries[[#This Row],[clean Country]],tblCountries[],5,0)","v":1},{"$f":"IF($Q$1,tblSalaries[[#This Row],[PPP Factor]]*tblSalaries[[#This Row],[Salary in USD]],tblSalaries[[#This Row],[Salary in USD]])","v":67000}]
[null,"ID0117","2012-05-26T00:41:35",85000,85000,"USD",{"$f":"tblSalaries[[#This Row],[clean Salary (in local currency)]]*VLOOKUP(tblSalaries[[#This Row],[Currency]],tblXrate[],2,FALSE)","v":85000},"Financial Controller","Controller","UAE",{"$f":"VLOOKUP(tblSalaries[[#This Row],[Where do you work]],tblCountries[[Actual]:[Mapping]],2,FALSE)","v":"UAE"},"4 to 6 hours a day",null,{"$f":"VLOOKUP(K119,tblCountries[],3,0)","v":"Asia"},{"$f":"VLOOKUP(tblSalaries[[#This Row],[How many hours of a day you work on Excel]],tblHours,2,0)","v":4},{"$f":"VLOOKUP(tblSalaries[[#This Row],[clean Country]],tblCountries[],5,0)","v":1.0047551808629926},{"$f":"IF($Q$1,tblSalaries[[#This Row],[PPP Factor]]*tblSalaries[[#This Row],[Salary in USD]],tblSalaries[[#This Row],[Salary in USD]])","v":85000}]
[null,"ID0118","2012-05-26T00:41:35",56160,56160,"USD",{"$f":"tblSalaries[[#This Row],[clean Salary (in local currency)]]*VLOOKUP(tblSalaries[[#This Row],[Currency]],tblXrate[],2,FALSE)","v":56160},"Utilization Analyst","Analyst","USA",{"$f":"VLOOKUP(tblSalaries[[#This Row],[Where do you work]],tblCountries[[Actual]:[Mapping]],2,FALSE)","v":"USA"},"4 to 6 hours a day",null,{"$f":"VLOOKUP(K120,tblCountries[],3,0)","v":"North Amer."},{"$f":"VLOOKUP(tblSalaries[[#This Row],[How many hours of a day you work on Excel]],tblHours,2,0)","v":4},{"$f":"VLOOKUP(tblSalaries[[#This Row],[clean Country]],tblCountries[],5,0)","v":1},{"$f":"IF($Q$1,tblSalaries[[#This Row],[PPP Factor]]*tblSalaries[[#This Row],[Salary in USD]],tblSalaries[[#This Row],[Salary in USD]])","v":56160}]
[null,"ID0119","2012-05-26T00:41:38",2000,24000,"USD",{"$f":"tblSalaries[[#This Row],[clean Salary (in local currency)]]*VLOOKUP(tblSalaries[[#This Row],[Currency]],tblXrate[],2,FALSE)","v":24000},"Researcher","Manager","Colombia",{"$f":"VLOOKUP(tblSalaries[[#This Row],[Where do you work]],tblCountries[[Actual]:[Mapping]],2,FALSE)","v":"Colombia"},"All the 8 hours baby, all the 8!",null,{"$f":"VLOOKUP(K121,tblCountries[],3,0)","v":"South Amer."},{"$f":"VLOOKUP(tblSalaries[[#This Row],[How many hours of a day you work on Excel]],tblHours,2,0)","v":5},{"$f":"VLOOKUP(tblSalaries[[#This Row],[clean Country]],tblCountries[],5,0)","v":4.721143526197678},{"$f":"IF($Q$1,tblSalaries[[#This Row],[PPP Factor]]*tblSalaries[[#This Row],[Salary in USD]],tblSalaries[[#This Row],[Salary in USD]])","v":24000}]
[null,"ID0120","2012-05-26T00:41:38",52000,52000,"USD",{"$f":"tblSalaries[[#This Row],[clean Salary (in local currency)]]*VLOOKUP(tblSalaries[[#This Row],[Currency]],tblXrate[],2,FALSE)","v":52000},"Market Analyst","Analyst","USA",{"$f":"VLOOKUP(tblSalaries[[#This Row],[Where do you work]],tblCountries[[Actual]:[Mapping]],2,FALSE)","v":"USA"},"Excel ?!? What Excel?",null,{"$f":"VLOOKUP(K122,tblCountries[],3,0)","v":"North Amer."},{"$f":"VLOOKUP(tblSalaries[[#This Row],[How many hours of a day you work on Excel]],tblHours,2,0)","v":1},{"$f":"VLOOKUP(tblSalaries[[#This Row],[clean Country]],tblCountries[],5,0)","v":1},{"$f":"IF($Q$1,tblSalaries[[#This Row],[PPP Factor]]*tblSalaries[[#This Row],[Salary in USD]],tblSalaries[[#This Row],[Salary in USD]])","v":52000}]
[null,"ID0121","2012-05-26T00:41:41",60000,60000,"CAD",{"$f":"tblSalaries[[#This Row],[clean Salary (in local currency)]]*VLOOKUP(tblSalaries[[#This Row],[Currency]],tblXrate[],2,FALSE)","v":59001.691381819612},"Web Developer","Analyst","Canada",{"$f":"VLOOKUP(tblSalaries[[#This Row],[Where do you work]],tblCountries[[Actual]:[Mapping]],2,FALSE)","v":"Canada"},"Excel ?!? What Excel?",null,{"$f":"VLOOKUP(K123,tblCountries[],3,0)","v":"North Amer."},{"$f":"VLOOKUP(tblSalaries[[#This Row],[How many hours of a day you work on Excel]],tblHours,2,0)","v":1},{"$f":"VLOOKUP(tblSalaries[[#This Row],[clean Country]],tblCountries[],5,0)","v":1.1935324732986359},{"$f":"IF($Q$1,tblSalaries[[#This Row],[PPP Factor]]*tblSalaries[[#This Row],[Salary in USD]],tblSalaries[[#This Row],[Salary in USD]])","v":59001.691381819612}]
[null,"ID0122","2012-05-26T00:41:43",70000,70000,"USD",{"$f":"tblSalaries[[#This Row],[clean Salary (in local currency)]]*VLOOKUP(tblSalaries[[#This Row],[Currency]],tblXrate[],2,FALSE)","v":70000},"Sr. Acct","Accountant","USA",{"$f":"VLOOKUP(tblSalaries[[#This Row],[Where do you work]],tblCountries[[Actual]:[Mapping]],2,FALSE)","v":"USA"},"All the 8 hours baby, all the 8!",null,{"$f":"VLOOKUP(K124,tblCountries[],3,0)","v":"North Amer."},{"$f":"VLOOKUP(tblSalaries[[#This Row],[How many hours of a day you work on Excel]],tblHours,2,0)","v":5},{"$f":"VLOOKUP(tblSalaries[[#This Row],[clean Country]],tblCountries[],5,0)","v":1},{"$f":"IF($Q$1,tblSalaries[[#This Row],[PPP Factor]]*tblSalaries[[#This Row],[Salary in USD]],tblSalaries[[#This Row],[Salary in USD]])","v":70000}]
[null,"ID0123","2012-05-26T00:41:56",50000,50000,"USD",{"$f":"tblSalaries[[#This Row],[clean Salary (in local currency)]]*VLOOKUP(tblSalaries[[#This Row],[Currency]],tblXrate[],2,FALSE)","v":50000},"Information Systems Specialist","Specialist","USA",{"$f":"VLOOKUP(tblSalaries[[#This Row],[Where do you work]],tblCountries[[Actual]:[Mapping]],2,FALSE)","v":"USA"},"4 to 6 hours a day",null,{"$f":"VLOOKUP(K125,tblCountries[],3,0)","v":"North Amer."},{"$f":"VLOOKUP(tblSalaries[[#This Row],[How many hours of a day you work on Excel]],tblHours,2,0)","v":4},{"$f":"VLOOKUP(tblSalaries[[#This Row],[clean Country]],tblCountries[],5,0)","v":1},{"$f":"IF($Q$1,tblSalaries[[#This Row],[PPP Factor]]*tblSalaries[[#This Row],[Salary in USD]],tblSalaries[[#This Row],[Salary in USD]])","v":50000}]
[null,"ID0124","2012-05-26T00:41:58",2300000,2300000,"INR",{"$f":"tblSalaries[[#This Row],[clean Salary (in local currency)]]*VLOOKUP(tblSalaries[[#This Row],[Currency]],tblXrate[],2,FALSE)","v":40958.208381117904},"Analytics lead","Analyst","India",{"$f":"VLOOKUP(tblSalaries[[#This Row],[Where do you work]],tblCountries[[Actual]:[Mapping]],2,FALSE)","v":"India"},"1 or 2 hours a day",null,{"$f":"VLOOKUP(K126,tblCountries[],3,0)","v":"Asia"},{"$f":"VLOOKUP(tblSalaries[[#This Row],[How many hours of a day you work on Excel]],tblHours,2,0)","v":2},{"$f":"VLOOKUP(tblSalaries[[#This Row],[clean Country]],tblCountries[],5,0)","v":13.098808879263672},{"$f":"IF($Q$1,tblSalaries[[#This Row],[PPP Factor]]*tblSalaries[[#This Row],[Salary in USD]],tblSalaries[[#This Row],[Salary in USD]])","v":40958.208381117904}]
[null,"ID0125","2012-05-26T00:42:00",80000,80000,"USD",{"$f":"tblSalaries[[#This Row],[clean Salary (in local currency)]]*VLOOKUP(tblSalaries[[#This Row],[Currency]],tblXrate[],2,FALSE)","v":80000},"Financial Analyst","Analyst","USA",{"$f":"VLOOKUP(tblSalaries[[#This Row],[Where do you work]],tblCountries[[Actual]:[Mapping]],2,FALSE)","v":"USA"},"4 to 6 hours a day",null,{"$f":"VLOOKUP(K127,tblCountries[],3,0)","v":"North Amer."},{"$f":"VLOOKUP(tblSalaries[[#This Row],[How many hours of a day you work on Excel]],tblHours,2,0)","v":4},{"$f":"VLOOKUP(tblSalaries[[#This Row],[clean Country]],tblCountries[],5,0)","v":1},{"$f":"IF($Q$1,tblSalaries[[#This Row],[PPP Factor]]*tblSalaries[[#This Row],[Salary in USD]],tblSalaries[[#This Row],[Salary in USD]])","v":80000}]
[null,"ID0126","2012-05-26T00:42:08",128000,128000,"USD",{"$f":"tblSalaries[[#This Row],[clean Salary (in local currency)]]*VLOOKUP(tblSalaries[[#This Row],[Currency]],tblXrate[],2,FALSE)","v":128000},"Actuary","Manager","USA",{"$f":"VLOOKUP(tblSalaries[[#This Row],[Where do you work]],tblCountries[[Actual]:[Mapping]],2,FALSE)","v":"USA"},"All the 8 hours baby, all the 8!",null,{"$f":"VLOOKUP(K128,tblCountries[],3,0)","v":"North Amer."},{"$f":"VLOOKUP(tblSalaries[[#This Row],[How many hours of a day you work on Excel]],tblHours,2,0)","v":5},{"$f":"VLOOKUP(tblSalaries[[#This Row],[clean Country]],tblCountries[],5,0)","v":1},{"$f":"IF($Q$1,tblSalaries[[#This Row],[PPP Factor]]*tblSalaries[[#This Row],[Salary in USD]],tblSalaries[[#This Row],[Salary in USD]])","v":128000}]
[null,"ID0127","2012-05-26T00:42:10","US $44,000",44000,"USD",{"$f":"tblSalaries[[#This Row],[clean Salary (in local currency)]]*VLOOKUP(tblSalaries[[#This Row],[Currency]],tblXrate[],2,FALSE)","v":44000},"School Tech Coordinator","Manager","USA",{"$f":"VLOOKUP(tblSalaries[[#This Row],[Where do you work]],tblCountries[[Actual]:[Mapping]],2,FALSE)","v":"USA"},"1 or 2 hours a day",null,{"$f":"VLOOKUP(K129,tblCountries[],3,0)","v":"North Amer."},{"$f":"VLOOKUP(tblSalaries[[#This Row],[How many hours of a day you work on Excel]],tblHours,2,0)","v":2},{"$f":"VLOOKUP(tblSalaries[[#This Row],[clean Country]],tblCountries[],5,0)","v":1},{"$f":"IF($Q$1,tblSalaries[[#This Row],[PPP Factor]]*tblSalaries[[#This Row],[Salary in USD]],tblSalaries[[#This Row],[Salary in USD]])","v":44000}]
[null,"ID0128","2012-05-26T00:42:11",65000,65000,"USD",{"$f":"tblSalaries[[#This Row],[clean Salary (in local currency)]]*VLOOKUP(tblSalaries[[#This Row],[Currency]],tblXrate[],2,FALSE)","v":65000},"sr accountant","Accountant","USA",{"$f":"VLOOKUP(tblSalaries[[#This Row],[Where do you work]],tblCountries[[Actual]:[Mapping]],2,FALSE)","v":"USA"},"All the 8 hours baby, all the 8!",null,{"$f":"VLOOKUP(K130,tblCountries[],3,0)","v":"North Amer."},{"$f":"VLOOKUP(tblSalaries[[#This Row],[How many hours of a day you work on Excel]],tblHours,2,0)","v":5},{"$f":"VLOOKUP(tblSalaries[[#This Row],[clean Country]],tblCountries[],5,0)","v":1},{"$f":"IF($Q$1,tblSalaries[[#This Row],[PPP Factor]]*tblSalaries[[#This Row],[Salary in USD]],tblSalaries[[#This Row],[Salary in USD]])","v":65000}]
[null,"ID0129","2012-05-26T00:42:32","36000 usd",36000,"USD",{"$f":"tblSalaries[[#This Row],[clean Salary (in local currency)]]*VLOOKUP(tblSalaries[[#This Row],[Currency]],tblXrate[],2,FALSE)","v":36000},"senior accountant","Accountant","Turkey",{"$f":"VLOOKUP(tblSalaries[[#This Row],[Where do you work]],tblCountries[[Actual]:[Mapping]],2,FALSE)","v":"Turkey"},"4 to 6 hours a day",null,{"$f":"VLOOKUP(K131,tblCountries[],3,0)","v":"Asia"},{"$f":"VLOOKUP(tblSalaries[[#This Row],[How many hours of a day you work on Excel]],tblHours,2,0)","v":4},{"$f":"VLOOKUP(tblSalaries[[#This Row],[clean Country]],tblCountries[],5,0)","v":3.3331266790659226},{"$f":"IF($Q$1,tblSalaries[[#This Row],[PPP Factor]]*tblSalaries[[#This Row],[Salary in USD]],tblSalaries[[#This Row],[Salary in USD]])","v":36000}]
[null,"ID0130","2012-05-26T00:42:34",1000,12000,"USD",{"$f":"tblSalaries[[#This Row],[clean Salary (in local currency)]]*VLOOKUP(tblSalaries[[#This Row],[Currency]],tblXrate[],2,FALSE)","v":12000},"Freelance","Consultant","Pakistan",{"$f":"VLOOKUP(tblSalaries[[#This Row],[Where do you work]],tblCountries[[Actual]:[Mapping]],2,FALSE)","v":"Pakistan"},"1 or 2 hours a day",null,{"$f":"VLOOKUP(K132,tblCountries[],3,0)","v":"Asia"},{"$f":"VLOOKUP(tblSalaries[[#This Row],[How many hours of a day you work on Excel]],tblHours,2,0)","v":2},{"$f":"VLOOKUP(tblSalaries[[#This Row],[clean Country]],tblCountries[],5,0)","v":17.361679224973088},{"$f":"IF($Q$1,tblSalaries[[#This Row],[PPP Factor]]*tblSalaries[[#This Row],[Salary in USD]],tblSalaries[[#This Row],[Salary in USD]])","v":12000}]
[null,"ID0131","2012-05-26T00:42:41",28159.200000000001,28159,"GBP",{"$f":"tblSalaries[[#This Row],[clean Salary (in local currency)]]*VLOOKUP(tblSalaries[[#This Row],[Currency]],tblXrate[],2,FALSE)","v":44383.603963142654},"Data Analyst","Analyst","UK",{"$f":"VLOOKUP(tblSalaries[[#This Row],[Where do you work]],tblCountries[[Actual]:[Mapping]],2,FALSE)","v":"UK"},"All the 8 hours baby, all the 8!",null,{"$f":"VLOOKUP(K133,tblCountries[],3,0)","v":"Europe"},{"$f":"VLOOKUP(tblSalaries[[#This Row],[How many hours of a day you work on Excel]],tblHours,2,0)","v":5},{"$f":"VLOOKUP(tblSalaries[[#This Row],[clean Country]],tblCountries[],5,0)","v":1.3407315045719035},{"$f":"IF($Q$1,tblSalaries[[#This Row],[PPP Factor]]*tblSalaries[[#This Row],[Salary in USD]],tblSalaries[[#This Row],[Salary in USD]])","v":44383.603963142654}]
[null,"ID0132","2012-05-26T00:42:46",45000,45000,"USD",{"$f":"tblSalaries[[#This Row],[clean Salary (in local currency)]]*VLOOKUP(tblSalaries[[#This Row],[Currency]],tblXrate[],2,FALSE)","v":45000},"DBA","Analyst","USA",{"$f":"VLOOKUP(tblSalaries[[#This Row],[Where do you work]],tblCountries[[Actual]:[Mapping]],2,FALSE)","v":"USA"},"4 to 6 hours a day",null,{"$f":"VLOOKUP(K134,tblCountries[],3,0)","v":"North Amer."},{"$f":"VLOOKUP(tblSalaries[[#This Row],[How many hours of a day you work on Excel]],tblHours,2,0)","v":4},{"$f":"VLOOKUP(tblSalaries[[#This Row],[clean Country]],tblCountries[],5,0)","v":1},{"$f":"IF($Q$1,tblSalaries[[#This Row],[PPP Factor]]*tblSalaries[[#This Row],[Salary in USD]],tblSalaries[[#This Row],[Salary in USD]])","v":45000}]
[null,"ID0133","2012-05-26T00:42:58",54000,54000,"USD",{"$f":"tblSalaries[[#This Row],[clean Salary (in local currency)]]*VLOOKUP(tblSalaries[[#This Row],[Currency]],tblXrate[],2,FALSE)","v":54000},"Research Analyst","Analyst","USA",{"$f":"VLOOKUP(tblSalaries[[#This Row],[Where do you work]],tblCountries[[Actual]:[Mapping]],2,FALSE)","v":"USA"},"2 to 3 hours per day",null,{"$f":"VLOOKUP(K135,tblCountries[],3,0)","v":"North Amer."},{"$f":"VLOOKUP(tblSalaries[[#This Row],[How many hours of a day you work on Excel]],tblHours,2,0)","v":3},{"$f":"VLOOKUP(tblSalaries[[#This Row],[clean Country]],tblCountries[],5,0)","v":1},{"$f":"IF($Q$1,tblSalaries[[#This Row],[PPP Factor]]*tblSalaries[[#This Row],[Salary in USD]],tblSalaries[[#This Row],[Salary in USD]])","v":54000}]
[null,"ID0134","2012-05-26T00:43:03",70000,70000,"GBP",{"$f":"tblSalaries[[#This Row],[clean Salary (in local currency)]]*VLOOKUP(tblSalaries[[#This Row],[Currency]],tblXrate[],2,FALSE)","v":110332.47904470989},"Project Manager","Manager","UK",{"$f":"VLOOKUP(tblSalaries[[#This Row],[Where do you work]],tblCountries[[Actual]:[Mapping]],2,FALSE)","v":"UK"},"2 to 3 hours per day",null,{"$f":"VLOOKUP(K136,tblCountries[],3,0)","v":"Europe"},{"$f":"VLOOKUP(tblSalaries[[#This Row],[How many hours of a day you work on Excel]],tblHours,2,0)","v":3},{"$f":"VLOOKUP(tblSalaries[[#This Row],[clean Country]],tblCountries[],5,0)","v":1.3407315045719035},{"$f":"IF($Q$1,tblSalaries[[#This Row],[PPP Factor]]*tblSalaries[[#This Row],[Salary in USD]],tblSalaries[[#This Row],[Salary in USD]])","v":110332.47904470989}]
[null,"ID0135","2012-05-26T00:43:07",71000,71000,"USD",{"$f":"tblSalaries[[#This Row],[clean Salary (in local currency)]]*VLOOKUP(tblSalaries[[#This Row],[Currency]],tblXrate[],2,FALSE)","v":71000},"Market Research Analyst","Analyst","USA",{"$f":"VLOOKUP(tblSalaries[[#This Row],[Where do you work]],tblCountries[[Actual]:[Mapping]],2,FALSE)","v":"USA"},"4 to 6 hours a day",null,{"$f":"VLOOKUP(K137,tblCountries[],3,0)","v":"North Amer."},{"$f":"VLOOKUP(tblSalaries[[#This Row],[How many hours of a day you work on Excel]],tblHours,2,0)","v":4},{"$f":"VLOOKUP(tblSalaries[[#This Row],[clean Country]],tblCountries[],5,0)","v":1},{"$f":"IF($Q$1,tblSalaries[[#This Row],[PPP Factor]]*tblSalaries[[#This Row],[Salary in USD]],tblSalaries[[#This Row],[Salary in USD]])","v":71000}]
[null,"ID0136","2012-05-26T00:43:08",800000,800000,"INR",{"$f":"tblSalaries[[#This Row],[clean Salary (in local currency)]]*VLOOKUP(tblSalaries[[#This Row],[Currency]],tblXrate[],2,FALSE)","v":14246.333349954055},"Manager : Accounts","Manager","India",{"$f":"VLOOKUP(tblSalaries[[#This Row],[Where do you work]],tblCountries[[Actual]:[Mapping]],2,FALSE)","v":"India"},"2 to 3 hours per day",null,{"$f":"VLOOKUP(K138,tblCountries[],3,0)","v":"Asia"},{"$f":"VLOOKUP(tblSalaries[[#This Row],[How many hours of a day you work on Excel]],tblHours,2,0)","v":3},{"$f":"VLOOKUP(tblSalaries[[#This Row],[clean Country]],tblCountries[],5,0)","v":13.098808879263672},{"$f":"IF($Q$1,tblSalaries[[#This Row],[PPP Factor]]*tblSalaries[[#This Row],[Salary in USD]],tblSalaries[[#This Row],[Salary in USD]])","v":14246.333349954055}]
[null,"ID0137","2012-05-26T00:43:17",70000,70000,"CAD",{"$f":"tblSalaries[[#This Row],[clean Salary (in local currency)]]*VLOOKUP(tblSalaries[[#This Row],[Currency]],tblXrate[],2,FALSE)","v":68835.306612122877},"project manager","Manager","canada",{"$f":"VLOOKUP(tblSalaries[[#This Row],[Where do you work]],tblCountries[[Actual]:[Mapping]],2,FALSE)","v":"Canada"},"4 to 6 hours a day",null,{"$f":"VLOOKUP(K139,tblCountries[],3,0)","v":"North Amer."},{"$f":"VLOOKUP(tblSalaries[[#This Row],[How many hours of a day you work on Excel]],tblHours,2,0)","v":4},{"$f":"VLOOKUP(tblSalaries[[#This Row],[clean Country]],tblCountries[],5,0)","v":1.1935324732986359},{"$f":"IF($Q$1,tblSalaries[[#This Row],[PPP Factor]]*tblSalaries[[#This Row],[Salary in USD]],tblSalaries[[#This Row],[Salary in USD]])","v":68835.306612122877}]
[null,"ID0138","2012-05-26T00:43:25",50000,50000,"CAD",{"$f":"tblSalaries[[#This Row],[clean Salary (in local currency)]]*VLOOKUP(tblSalaries[[#This Row],[Currency]],tblXrate[],2,FALSE)","v":49168.076151516347},"Inventory manger","Manager","Canada",{"$f":"VLOOKUP(tblSalaries[[#This Row],[Where do you work]],tblCountries[[Actual]:[Mapping]],2,FALSE)","v":"Canada"},"4 to 6 hours a day",null,{"$f":"VLOOKUP(K140,tblCountries[],3,0)","v":"North Amer."},{"$f":"VLOOKUP(tblSalaries[[#This Row],[How many hours of a day you work on Excel]],tblHours,2,0)","v":4},{"$f":"VLOOKUP(tblSalaries[[#This Row],[clean Country]],tblCountries[],5,0)","v":1.1935324732986359},{"$f":"IF($Q$1,tblSalaries[[#This Row],[PPP Factor]]*tblSalaries[[#This Row],[Salary in USD]],tblSalaries[[#This Row],[Salary in USD]])","v":49168.076151516347}]
[null,"ID0139","2012-05-26T00:43:27",40000,40000,"USD",{"$f":"tblSalaries[[#This Row],[clean Salary (in local currency)]]*VLOOKUP(tblSalaries[[#This Row],[Currency]],tblXrate[],2,FALSE)","v":40000},"Business Analyst","Analyst","USA",{"$f":"VLOOKUP(tblSalaries[[#This Row],[Where do you work]],tblCountries[[Actual]:[Mapping]],2,FALSE)","v":"USA"},"4 to 6 hours a day",null,{"$f":"VLOOKUP(K141,tblCountries[],3,0)","v":"North Amer."},{"$f":"VLOOKUP(tblSalaries[[#This Row],[How many hours of a day you work on Excel]],tblHours,2,0)","v":4},{"$f":"VLOOKUP(tblSalaries[[#This Row],[clean Country]],tblCountries[],5,0)","v":1},{"$f":"IF($Q$1,tblSalaries[[#This Row],[PPP Factor]]*tblSalaries[[#This Row],[Salary in USD]],tblSalaries[[#This Row],[Salary in USD]])","v":40000}]
[null,"ID0140","2012-05-26T00:43:34","$62,000 CND",62000,"CAD",{"$f":"tblSalaries[[#This Row],[clean Salary (in local currency)]]*VLOOKUP(tblSalaries[[#This Row],[Currency]],tblXrate[],2,FALSE)","v":60968.414427880263},"Process Technician","Analyst","Canada",{"$f":"VLOOKUP(tblSalaries[[#This Row],[Where do you work]],tblCountries[[Actual]:[Mapping]],2,FALSE)","v":"Canada"},"2 to 3 hours per day",null,{"$f":"VLOOKUP(K142,tblCountries[],3,0)","v":"North Amer."},{"$f":"VLOOKUP(tblSalaries[[#This Row],[How many hours of a day you work on Excel]],tblHours,2,0)","v":3},{"$f":"VLOOKUP(tblSalaries[[#This Row],[clean Country]],tblCountries[],5,0)","v":1.1935324732986359},{"$f":"IF($Q$1,tblSalaries[[#This Row],[PPP Factor]]*tblSalaries[[#This Row],[Salary in USD]],tblSalaries[[#This Row],[Salary in USD]])","v":60968.414427880263}]
[null,"ID0141","2012-05-26T00:43:36","28000rs",336000,"INR",{"$f":"tblSalaries[[#This Row],[clean Salary (in local currency)]]*VLOOKUP(tblSalaries[[#This Row],[Currency]],tblXrate[],2,FALSE)","v":5983.4600069807029},"MIS Team Leader","Reporting","India",{"$f":"VLOOKUP(tblSalaries[[#This Row],[Where do you work]],tblCountries[[Actual]:[Mapping]],2,FALSE)","v":"India"},"4 to 6 hours a day",null,{"$f":"VLOOKUP(K143,tblCountries[],3,0)","v":"Asia"},{"$f":"VLOOKUP(tblSalaries[[#This Row],[How many hours of a day you work on Excel]],tblHours,2,0)","v":4},{"$f":"VLOOKUP(tblSalaries[[#This Row],[clean Country]],tblCountries[],5,0)","v":13.098808879263672},{"$f":"IF($Q$1,tblSalaries[[#This Row],[PPP Factor]]*tblSalaries[[#This Row],[Salary in USD]],tblSalaries[[#This Row],[Salary in USD]])","v":5983.4600069807029}]
[null,"ID0142","2012-05-26T00:43:36",53000,53000,"USD",{"$f":"tblSalaries[[#This Row],[clean Salary (in local currency)]]*VLOOKUP(tblSalaries[[#This Row],[Currency]],tblXrate[],2,FALSE)","v":53000},"Data Analyst","Analyst","USA",{"$f":"VLOOKUP(tblSalaries[[#This Row],[Where do you work]],tblCountries[[Actual]:[Mapping]],2,FALSE)","v":"USA"},"4 to 6 hours a day",null,{"$f":"VLOOKUP(K144,tblCountries[],3,0)","v":"North Amer."},{"$f":"VLOOKUP(tblSalaries[[#This Row],[How many hours of a day you work on Excel]],tblHours,2,0)","v":4},{"$f":"VLOOKUP(tblSalaries[[#This Row],[clean Country]],tblCountries[],5,0)","v":1},{"$f":"IF($Q$1,tblSalaries[[#This Row],[PPP Factor]]*tblSalaries[[#This Row],[Salary in USD]],tblSalaries[[#This Row],[Salary in USD]])","v":53000}]
[null,"ID0143","2012-05-26T00:43:49",104000,104000,"USD",{"$f":"tblSalaries[[#This Row],[clean Salary (in local currency)]]*VLOOKUP(tblSalaries[[#This Row],[Currency]],tblXrate[],2,FALSE)","v":104000},"Finance Director","CXO or Top Mgmt.","USA",{"$f":"VLOOKUP(tblSalaries[[#This Row],[Where do you work]],tblCountries[[Actual]:[Mapping]],2,FALSE)","v":"USA"},"2 to 3 hours per day",null,{"$f":"VLOOKUP(K145,tblCountries[],3,0)","v":"North Amer."},{"$f":"VLOOKUP(tblSalaries[[#This Row],[How many hours of a day you work on Excel]],tblHours,2,0)","v":3},{"$f":"VLOOKUP(tblSalaries[[#This Row],[clean Country]],tblCountries[],5,0)","v":1},{"$f":"IF($Q$1,tblSalaries[[#This Row],[PPP Factor]]*tblSalaries[[#This Row],[Salary in USD]],tblSalaries[[#This Row],[Salary in USD]])","v":104000}]
[null,"ID0144","2012-05-26T00:44:02",57000,57000,"USD",{"$f":"tblSalaries[[#This Row],[clean Salary (in local currency)]]*VLOOKUP(tblSalaries[[#This Row],[Currency]],tblXrate[],2,FALSE)","v":57000},"Industrial Engineer","Engineer","USA",{"$f":"VLOOKUP(tblSalaries[[#This Row],[Where do you work]],tblCountries[[Actual]:[Mapping]],2,FALSE)","v":"USA"},"4 to 6 hours a day",null,{"$f":"VLOOKUP(K146,tblCountries[],3,0)","v":"North Amer."},{"$f":"VLOOKUP(tblSalaries[[#This Row],[How many hours of a day you work on Excel]],tblHours,2,0)","v":4},{"$f":"VLOOKUP(tblSalaries[[#This Row],[clean Country]],tblCountries[],5,0)","v":1},{"$f":"IF($Q$1,tblSalaries[[#This Row],[PPP Factor]]*tblSalaries[[#This Row],[Salary in USD]],tblSalaries[[#This Row],[Salary in USD]])","v":57000}]
[null,"ID0145","2012-05-26T00:44:09",45000,45000,"USD",{"$f":"tblSalaries[[#This Row],[clean Salary (in local currency)]]*VLOOKUP(tblSalaries[[#This Row],[Currency]],tblXrate[],2,FALSE)","v":45000},"data analyst","Analyst","USA",{"$f":"VLOOKUP(tblSalaries[[#This Row],[Where do you work]],tblCountries[[Actual]:[Mapping]],2,FALSE)","v":"USA"},"2 to 3 hours per day",null,{"$f":"VLOOKUP(K147,tblCountries[],3,0)","v":"North Amer."},{"$f":"VLOOKUP(tblSalaries[[#This Row],[How many hours of a day you work on Excel]],tblHours,2,0)","v":3},{"$f":"VLOOKUP(tblSalaries[[#This Row],[clean Country]],tblCountries[],5,0)","v":1},{"$f":"IF($Q$1,tblSalaries[[#This Row],[PPP Factor]]*tblSalaries[[#This Row],[Salary in USD]],tblSalaries[[#This Row],[Salary in USD]])","v":45000}]
[null,"ID0146","2012-05-26T00:44:15",92000,92000,"USD",{"$f":"tblSalaries[[#This Row],[clean Salary (in local currency)]]*VLOOKUP(tblSalaries[[#This Row],[Currency]],tblXrate[],2,FALSE)","v":92000},"Senior Financial & Systems Analyst","Analyst","USA",{"$f":"VLOOKUP(tblSalaries[[#This Row],[Where do you work]],tblCountries[[Actual]:[Mapping]],2,FALSE)","v":"USA"},"4 to 6 hours a day",null,{"$f":"VLOOKUP(K148,tblCountries[],3,0)","v":"North Amer."},{"$f":"VLOOKUP(tblSalaries[[#This Row],[How many hours of a day you work on Excel]],tblHours,2,0)","v":4},{"$f":"VLOOKUP(tblSalaries[[#This Row],[clean Country]],tblCountries[],5,0)","v":1},{"$f":"IF($Q$1,tblSalaries[[#This Row],[PPP Factor]]*tblSalaries[[#This Row],[Salary in USD]],tblSalaries[[#This Row],[Salary in USD]])","v":92000}]
[null,"ID0147","2012-05-26T00:44:18",88000,88000,"USD",{"$f":"tblSalaries[[#This Row],[clean Salary (in local currency)]]*VLOOKUP(tblSalaries[[#This Row],[Currency]],tblXrate[],2,FALSE)","v":88000},"project manager - metrics","Manager","USA",{"$f":"VLOOKUP(tblSalaries[[#This Row],[Where do you work]],tblCountries[[Actual]:[Mapping]],2,FALSE)","v":"USA"},"4 to 6 hours a day",null,{"$f":"VLOOKUP(K149,tblCountries[],3,0)","v":"North Amer."},{"$f":"VLOOKUP(tblSalaries[[#This Row],[How many hours of a day you work on Excel]],tblHours,2,0)","v":4},{"$f":"VLOOKUP(tblSalaries[[#This Row],[clean Country]],tblCountries[],5,0)","v":1},{"$f":"IF($Q$1,tblSalaries[[#This Row],[PPP Factor]]*tblSalaries[[#This Row],[Salary in USD]],tblSalaries[[#This Row],[Salary in USD]])","v":88000}]
[null,"ID0148","2012-05-26T00:44:20",80000,80000,"USD",{"$f":"tblSalaries[[#This Row],[clean Salary (in local currency)]]*VLOOKUP(tblSalaries[[#This Row],[Currency]],tblXrate[],2,FALSE)","v":80000},"Informatics Research Analyst","Analyst","USA",{"$f":"VLOOKUP(tblSalaries[[#This Row],[Where do you work]],tblCountries[[Actual]:[Mapping]],2,FALSE)","v":"USA"},"2 to 3 hours per day",null,{"$f":"VLOOKUP(K150,tblCountries[],3,0)","v":"North Amer."},{"$f":"VLOOKUP(tblSalaries[[#This Row],[How many hours of a day you work on Excel]],tblHours,2,0)","v":3},{"$f":"VLOOKUP(tblSalaries[[#This Row],[clean Country]],tblCountries[],5,0)","v":1},{"$f":"IF($Q$1,tblSalaries[[#This Row],[PPP Factor]]*tblSalaries[[#This Row],[Salary in USD]],tblSalaries[[#This Row],[Salary in USD]])","v":80000}]
[null,"ID0149","2012-05-26T00:44:22",69000,69000,"USD",{"$f":"tblSalaries[[#This Row],[clean Salary (in local currency)]]*VLOOKUP(tblSalaries[[#This Row],[Currency]],tblXrate[],2,FALSE)","v":69000},"Business Technical Consultant","Consultant","USA",{"$f":"VLOOKUP(tblSalaries[[#This Row],[Where do you work]],tblCountries[[Actual]:[Mapping]],2,FALSE)","v":"USA"},"4 to 6 hours a day",null,{"$f":"VLOOKUP(K151,tblCountries[],3,0)","v":"North Amer."},{"$f":"VLOOKUP(tblSalaries[[#This Row],[How many hours of a day you work on Excel]],tblHours,2,0)","v":4},{"$f":"VLOOKUP(tblSalaries[[#This Row],[clean Country]],tblCountries[],5,0)","v":1},{"$f":"IF($Q$1,tblSalaries[[#This Row],[PPP Factor]]*tblSalaries[[#This Row],[Salary in USD]],tblSalaries[[#This Row],[Salary in USD]])","v":69000}]
[null,"ID0150","2012-05-26T00:44:23",50000,50000,"USD",{"$f":"tblSalaries[[#This Row],[clean Salary (in local currency)]]*VLOOKUP(tblSalaries[[#This Row],[Currency]],tblXrate[],2,FALSE)","v":50000},"Business Operations Reporting Analyst","Analyst","Mexico",{"$f":"VLOOKUP(tblSalaries[[#This Row],[Where do you work]],tblCountries[[Actual]:[Mapping]],2,FALSE)","v":"Mexico"},"All the 8 hours baby, all the 8!",null,{"$f":"VLOOKUP(K152,tblCountries[],3,0)","v":"North Amer."},{"$f":"VLOOKUP(tblSalaries[[#This Row],[How many hours of a day you work on Excel]],tblHours,2,0)","v":5},{"$f":"VLOOKUP(tblSalaries[[#This Row],[clean Country]],tblCountries[],5,0)","v":3.3119096509240245},{"$f":"IF($Q$1,tblSalaries[[#This Row],[PPP Factor]]*tblSalaries[[#This Row],[Salary in USD]],tblSalaries[[#This Row],[Salary in USD]])","v":50000}]
[null,"ID0151","2012-05-26T00:44:40",35000,35000,"USD",{"$f":"tblSalaries[[#This Row],[clean Salary (in local currency)]]*VLOOKUP(tblSalaries[[#This Row],[Currency]],tblXrate[],2,FALSE)","v":35000},"Program Services Coordinator","Manager","USA",{"$f":"VLOOKUP(tblSalaries[[#This Row],[Where do you work]],tblCountries[[Actual]:[Mapping]],2,FALSE)","v":"USA"},"2 to 3 hours per day",null,{"$f":"VLOOKUP(K153,tblCountries[],3,0)","v":"North Amer."},{"$f":"VLOOKUP(tblSalaries[[#This Row],[How many hours of a day you work on Excel]],tblHours,2,0)","v":3},{"$f":"VLOOKUP(tblSalaries[[#This Row],[clean Country]],tblCountries[],5,0)","v":1},{"$f":"IF($Q$1,tblSalaries[[#This Row],[PPP Factor]]*tblSalaries[[#This Row],[Salary in USD]],tblSalaries[[#This Row],[Salary in USD]])","v":35000}]
[null,"ID0152","2012-05-26T00:44:59",96000,96000,"USD",{"$f":"tblSalaries[[#This Row],[clean Salary (in local currency)]]*VLOOKUP(tblSalaries[[#This Row],[Currency]],tblXrate[],2,FALSE)","v":96000},"Specialist - Finance Planning and Analysis","Analyst","USA",{"$f":"VLOOKUP(tblSalaries[[#This Row],[Where do you work]],tblCountries[[Actual]:[Mapping]],2,FALSE)","v":"USA"},"4 to 6 hours a day",null,{"$f":"VLOOKUP(K154,tblCountries[],3,0)","v":"North Amer."},{"$f":"VLOOKUP(tblSalaries[[#This Row],[How many hours of a day you work on Excel]],tblHours,2,0)","v":4},{"$f":"VLOOKUP(tblSalaries[[#This Row],[clean Country]],tblCountries[],5,0)","v":1},{"$f":"IF($Q$1,tblSalaries[[#This Row],[PPP Factor]]*tblSalaries[[#This Row],[Salary in USD]],tblSalaries[[#This Row],[Salary in USD]])","v":96000}]
[null,"ID0153","2012-05-26T00:45:00",65000,65000,"USD",{"$f":"tblSalaries[[#This Row],[clean Salary (in local currency)]]*VLOOKUP(tblSalaries[[#This Row],[Currency]],tblXrate[],2,FALSE)","v":65000},"Sr Accountant","Accountant","USA",{"$f":"VLOOKUP(tblSalaries[[#This Row],[Where do you work]],tblCountries[[Actual]:[Mapping]],2,FALSE)","v":"USA"},"All the 8 hours baby, all the 8!",null,{"$f":"VLOOKUP(K155,tblCountries[],3,0)","v":"North Amer."},{"$f":"VLOOKUP(tblSalaries[[#This Row],[How many hours of a day you work on Excel]],tblHours,2,0)","v":5},{"$f":"VLOOKUP(tblSalaries[[#This Row],[clean Country]],tblCountries[],5,0)","v":1},{"$f":"IF($Q$1,tblSalaries[[#This Row],[PPP Factor]]*tblSalaries[[#This Row],[Salary in USD]],tblSalaries[[#This Row],[Salary in USD]])","v":65000}]
[null,"ID0154","2012-05-26T00:45:06",37440,37440,"USD",{"$f":"tblSalaries[[#This Row],[clean Salary (in local currency)]]*VLOOKUP(tblSalaries[[#This Row],[Currency]],tblXrate[],2,FALSE)","v":37440},"sales analyst","Analyst","USA",{"$f":"VLOOKUP(tblSalaries[[#This Row],[Where do you work]],tblCountries[[Actual]:[Mapping]],2,FALSE)","v":"USA"},"All the 8 hours baby, all the 8!",null,{"$f":"VLOOKUP(K156,tblCountries[],3,0)","v":"North Amer."},{"$f":"VLOOKUP(tblSalaries[[#This Row],[How many hours of a day you work on Excel]],tblHours,2,0)","v":5},{"$f":"VLOOKUP(tblSalaries[[#This Row],[clean Country]],tblCountries[],5,0)","v":1},{"$f":"IF($Q$1,tblSalaries[[#This Row],[PPP Factor]]*tblSalaries[[#This Row],[Salary in USD]],tblSalaries[[#This Row],[Salary in USD]])","v":37440}]
[null,"ID0155","2012-05-26T00:45:11",15500,15500,"USD",{"$f":"tblSalaries[[#This Row],[clean Salary (in local currency)]]*VLOOKUP(tblSalaries[[#This Row],[Currency]],tblXrate[],2,FALSE)","v":15500},"Proces auditor","Accountant","Mexico",{"$f":"VLOOKUP(tblSalaries[[#This Row],[Where do you work]],tblCountries[[Actual]:[Mapping]],2,FALSE)","v":"Mexico"},"All the 8 hours baby, all the 8!",null,{"$f":"VLOOKUP(K157,tblCountries[],3,0)","v":"North Amer."},{"$f":"VLOOKUP(tblSalaries[[#This Row],[How many hours of a day you work on Excel]],tblHours,2,0)","v":5},{"$f":"VLOOKUP(tblSalaries[[#This Row],[clean Country]],tblCountries[],5,0)","v":3.3119096509240245},{"$f":"IF($Q$1,tblSalaries[[#This Row],[PPP Factor]]*tblSalaries[[#This Row],[Salary in USD]],tblSalaries[[#This Row],[Salary in USD]])","v":15500}]
[null,"ID0156","2012-05-26T00:45:17","90000 USD",90000,"USD",{"$f":"tblSalaries[[#This Row],[clean Salary (in local currency)]]*VLOOKUP(tblSalaries[[#This Row],[Currency]],tblXrate[],2,FALSE)","v":90000},"Senior Data Quality Analyst","Analyst","USA",{"$f":"VLOOKUP(tblSalaries[[#This Row],[Where do you work]],tblCountries[[Actual]:[Mapping]],2,FALSE)","v":"USA"},"2 to 3 hours per day",null,{"$f":"VLOOKUP(K158,tblCountries[],3,0)","v":"North Amer."},{"$f":"VLOOKUP(tblSalaries[[#This Row],[How many hours of a day you work on Excel]],tblHours,2,0)","v":3},{"$f":"VLOOKUP(tblSalaries[[#This Row],[clean Country]],tblCountries[],5,0)","v":1},{"$f":"IF($Q$1,tblSalaries[[#This Row],[PPP Factor]]*tblSalaries[[#This Row],[Salary in USD]],tblSalaries[[#This Row],[Salary in USD]])","v":90000}]
[null,"ID0157","2012-05-26T00:45:46",66500,66500,"USD",{"$f":"tblSalaries[[#This Row],[clean Salary (in local currency)]]*VLOOKUP(tblSalaries[[#This Row],[Currency]],tblXrate[],2,FALSE)","v":66500},"Sr Business Analyst","Analyst","USA",{"$f":"VLOOKUP(tblSalaries[[#This Row],[Where do you work]],tblCountries[[Actual]:[Mapping]],2,FALSE)","v":"USA"},"All the 8 hours baby, all the 8!",null,{"$f":"VLOOKUP(K159,tblCountries[],3,0)","v":"North Amer."},{"$f":"VLOOKUP(tblSalaries[[#This Row],[How many hours of a day you work on Excel]],tblHours,2,0)","v":5},{"$f":"VLOOKUP(tblSalaries[[#This Row],[clean Country]],tblCountries[],5,0)","v":1},{"$f":"IF($Q$1,tblSalaries[[#This Row],[PPP Factor]]*tblSalaries[[#This Row],[Salary in USD]],tblSalaries[[#This Row],[Salary in USD]])","v":66500}]
[null,"ID0158","2012-05-26T00:45:49",100000,100000,"USD",{"$f":"tblSalaries[[#This Row],[clean Salary (in local currency)]]*VLOOKUP(tblSalaries[[#This Row],[Currency]],tblXrate[],2,FALSE)","v":100000},"COST ACCOUNTANT","Accountant","USA",{"$f":"VLOOKUP(tblSalaries[[#This Row],[Where do you work]],tblCountries[[Actual]:[Mapping]],2,FALSE)","v":"USA"},"All the 8 hours baby, all the 8!",null,{"$f":"VLOOKUP(K160,tblCountries[],3,0)","v":"North Amer."},{"$f":"VLOOKUP(tblSalaries[[#This Row],[How many hours of a day you work on Excel]],tblHours,2,0)","v":5},{"$f":"VLOOKUP(tblSalaries[[#This Row],[clean Country]],tblCountries[],5,0)","v":1},{"$f":"IF($Q$1,tblSalaries[[#This Row],[PPP Factor]]*tblSalaries[[#This Row],[Salary in USD]],tblSalaries[[#This Row],[Salary in USD]])","v":100000}]
[null,"ID0159","2012-05-26T00:45:51","Â£32250",32250,"GBP",{"$f":"tblSalaries[[#This Row],[clean Salary (in local currency)]]*VLOOKUP(tblSalaries[[#This Row],[Currency]],tblXrate[],2,FALSE)","v":50831.74927416991},"project Support","Manager","UK",{"$f":"VLOOKUP(tblSalaries[[#This Row],[Where do you work]],tblCountries[[Actual]:[Mapping]],2,FALSE)","v":"UK"},"4 to 6 hours a day",null,{"$f":"VLOOKUP(K161,tblCountries[],3,0)","v":"Europe"},{"$f":"VLOOKUP(tblSalaries[[#This Row],[How many hours of a day you work on Excel]],tblHours,2,0)","v":4},{"$f":"VLOOKUP(tblSalaries[[#This Row],[clean Country]],tblCountries[],5,0)","v":1.3407315045719035},{"$f":"IF($Q$1,tblSalaries[[#This Row],[PPP Factor]]*tblSalaries[[#This Row],[Salary in USD]],tblSalaries[[#This Row],[Salary in USD]])","v":50831.74927416991}]
[null,"ID0160","2012-05-26T00:45:53",420000,420000,"INR",{"$f":"tblSalaries[[#This Row],[clean Salary (in local currency)]]*VLOOKUP(tblSalaries[[#This Row],[Currency]],tblXrate[],2,FALSE)","v":7479.3250087258784},"managerial","Manager","India",{"$f":"VLOOKUP(tblSalaries[[#This Row],[Where do you work]],tblCountries[[Actual]:[Mapping]],2,FALSE)","v":"India"},"1 or 2 hours a day",null,{"$f":"VLOOKUP(K162,tblCountries[],3,0)","v":"Asia"},{"$f":"VLOOKUP(tblSalaries[[#This Row],[How many hours of a day you work on Excel]],tblHours,2,0)","v":2},{"$f":"VLOOKUP(tblSalaries[[#This Row],[clean Country]],tblCountries[],5,0)","v":13.098808879263672},{"$f":"IF($Q$1,tblSalaries[[#This Row],[PPP Factor]]*tblSalaries[[#This Row],[Salary in USD]],tblSalaries[[#This Row],[Salary in USD]])","v":7479.3250087258784}]
[null,"ID0161","2012-05-26T00:46:00",75000,75000,"USD",{"$f":"tblSalaries[[#This Row],[clean Salary (in local currency)]]*VLOOKUP(tblSalaries[[#This Row],[Currency]],tblXrate[],2,FALSE)","v":75000},"Program Analyst","Analyst","USA",{"$f":"VLOOKUP(tblSalaries[[#This Row],[Where do you work]],tblCountries[[Actual]:[Mapping]],2,FALSE)","v":"USA"},"1 or 2 hours a day",null,{"$f":"VLOOKUP(K163,tblCountries[],3,0)","v":"North Amer."},{"$f":"VLOOKUP(tblSalaries[[#This Row],[How many hours of a day you work on Excel]],tblHours,2,0)","v":2},{"$f":"VLOOKUP(tblSalaries[[#This Row],[clean Country]],tblCountries[],5,0)","v":1},{"$f":"IF($Q$1,tblSalaries[[#This Row],[PPP Factor]]*tblSalaries[[#This Row],[Salary in USD]],tblSalaries[[#This Row],[Salary in USD]])","v":75000}]
[null,"ID0162","2012-05-26T00:46:25",58,58000,"USD",{"$f":"tblSalaries[[#This Row],[clean Salary (in local currency)]]*VLOOKUP(tblSalaries[[#This Row],[Currency]],tblXrate[],2,FALSE)","v":58000},"Team Lead - Computer Discounts","Manager","Canada",{"$f":"VLOOKUP(tblSalaries[[#This Row],[Where do you work]],tblCountries[[Actual]:[Mapping]],2,FALSE)","v":"Canada"},"1 or 2 hours a day",null,{"$f":"VLOOKUP(K164,tblCountries[],3,0)","v":"North Amer."},{"$f":"VLOOKUP(tblSalaries[[#This Row],[How many hours of a day you work on Excel]],tblHours,2,0)","v":2},{"$f":"VLOOKUP(tblSalaries[[#This Row],[clean Country]],tblCountries[],5,0)","v":1.1935324732986359},{"$f":"IF($Q$1,tblSalaries[[#This Row],[PPP Factor]]*tblSalaries[[#This Row],[Salary in USD]],tblSalaries[[#This Row],[Salary in USD]])","v":58000}]
[null,"ID0163","2012-05-26T00:46:29",55000,55000,"USD",{"$f":"tblSalaries[[#This Row],[clean Salary (in local currency)]]*VLOOKUP(tblSalaries[[#This Row],[Currency]],tblXrate[],2,FALSE)","v":55000},"Change Architect","Manager","USA",{"$f":"VLOOKUP(tblSalaries[[#This Row],[Where do you work]],tblCountries[[Actual]:[Mapping]],2,FALSE)","v":"USA"},"2 to 3 hours per day",null,{"$f":"VLOOKUP(K165,tblCountries[],3,0)","v":"North Amer."},{"$f":"VLOOKUP(tblSalaries[[#This Row],[How many hours of a day you work on Excel]],tblHours,2,0)","v":3},{"$f":"VLOOKUP(tblSalaries[[#This Row],[clean Country]],tblCountries[],5,0)","v":1},{"$f":"IF($Q$1,tblSalaries[[#This Row],[PPP Factor]]*tblSalaries[[#This Row],[Salary in USD]],tblSalaries[[#This Row],[Salary in USD]])","v":55000}]
[null,"ID0164","2012-05-26T00:47:42",60000,60000,"USD",{"$f":"tblSalaries[[#This Row],[clean Salary (in local currency)]]*VLOOKUP(tblSalaries[[#This Row],[Currency]],tblXrate[],2,FALSE)","v":60000},"Telecom Technician","Analyst","USA",{"$f":"VLOOKUP(tblSalaries[[#This Row],[Where do you work]],tblCountries[[Actual]:[Mapping]],2,FALSE)","v":"USA"},"4 to 6 hours a day",null,{"$f":"VLOOKUP(K166,tblCountries[],3,0)","v":"North Amer."},{"$f":"VLOOKUP(tblSalaries[[#This Row],[How many hours of a day you work on Excel]],tblHours,2,0)","v":4},{"$f":"VLOOKUP(tblSalaries[[#This Row],[clean Country]],tblCountries[],5,0)","v":1},{"$f":"IF($Q$1,tblSalaries[[#This Row],[PPP Factor]]*tblSalaries[[#This Row],[Salary in USD]],tblSalaries[[#This Row],[Salary in USD]])","v":60000}]
[null,"ID0165","2012-05-26T00:47:45","Rs. 1300000",1300000,"INR",{"$f":"tblSalaries[[#This Row],[clean Salary (in local currency)]]*VLOOKUP(tblSalaries[[#This Row],[Currency]],tblXrate[],2,FALSE)","v":23150.291693675339},"Manager","Manager","India",{"$f":"VLOOKUP(tblSalaries[[#This Row],[Where do you work]],tblCountries[[Actual]:[Mapping]],2,FALSE)","v":"India"},"4 to 6 hours a day",null,{"$f":"VLOOKUP(K167,tblCountries[],3,0)","v":"Asia"},{"$f":"VLOOKUP(tblSalaries[[#This Row],[How many hours of a day you work on Excel]],tblHours,2,0)","v":4},{"$f":"VLOOKUP(tblSalaries[[#This Row],[clean Country]],tblCountries[],5,0)","v":13.098808879263672},{"$f":"IF($Q$1,tblSalaries[[#This Row],[PPP Factor]]*tblSalaries[[#This Row],[Salary in USD]],tblSalaries[[#This Row],[Salary in USD]])","v":23150.291693675339}]
[null,"ID0166","2012-05-26T00:47:50",107000,107000,"CAD",{"$f":"tblSalaries[[#This Row],[clean Salary (in local currency)]]*VLOOKUP(tblSalaries[[#This Row],[Currency]],tblXrate[],2,FALSE)","v":105219.68296424497},"Manager, Asset Optimization","Manager","Canada",{"$f":"VLOOKUP(tblSalaries[[#This Row],[Where do you work]],tblCountries[[Actual]:[Mapping]],2,FALSE)","v":"Canada"},"2 to 3 hours per day",null,{"$f":"VLOOKUP(K168,tblCountries[],3,0)","v":"North Amer."},{"$f":"VLOOKUP(tblSalaries[[#This Row],[How many hours of a day you work on Excel]],tblHours,2,0)","v":3},{"$f":"VLOOKUP(tblSalaries[[#This Row],[clean Country]],tblCountries[],5,0)","v":1.1935324732986359},{"$f":"IF($Q$1,tblSalaries[[#This Row],[PPP Factor]]*tblSalaries[[#This Row],[Salary in USD]],tblSalaries[[#This Row],[Salary in USD]])","v":105219.68296424497}]
[null,"ID0167","2012-05-26T00:47:57",145000,145000,"USD",{"$f":"tblSalaries[[#This Row],[clean Salary (in local currency)]]*VLOOKUP(tblSalaries[[#This Row],[Currency]],tblXrate[],2,FALSE)","v":145000},"Financialcontroller","Controller","Switzerland",{"$f":"VLOOKUP(tblSalaries[[#This Row],[Where do you work]],tblCountries[[Actual]:[Mapping]],2,FALSE)","v":"Switzerland"},"All the 8 hours baby, all the 8!",null,{"$f":"VLOOKUP(K169,tblCountries[],3,0)","v":"Europe"},{"$f":"VLOOKUP(tblSalaries[[#This Row],[How many hours of a day you work on Excel]],tblHours,2,0)","v":5},{"$f":"VLOOKUP(tblSalaries[[#This Row],[clean Country]],tblCountries[],5,0)","v":1.1156790408116208},{"$f":"IF($Q$1,tblSalaries[[#This Row],[PPP Factor]]*tblSalaries[[#This Row],[Salary in USD]],tblSalaries[[#This Row],[Salary in USD]])","v":145000}]
[null,"ID0168","2012-05-26T00:48:04",22880,22880,"USD",{"$f":"tblSalaries[[#This Row],[clean Salary (in local currency)]]*VLOOKUP(tblSalaries[[#This Row],[Currency]],tblXrate[],2,FALSE)","v":22880},"Accounting ","Accountant","USA",{"$f":"VLOOKUP(tblSalaries[[#This Row],[Where do you work]],tblCountries[[Actual]:[Mapping]],2,FALSE)","v":"USA"},"4 to 6 hours a day",null,{"$f":"VLOOKUP(K170,tblCountries[],3,0)","v":"North Amer."},{"$f":"VLOOKUP(tblSalaries[[#This Row],[How many hours of a day you work on Excel]],tblHours,2,0)","v":4},{"$f":"VLOOKUP(tblSalaries[[#This Row],[clean Country]],tblCountries[],5,0)","v":1},{"$f":"IF($Q$1,tblSalaries[[#This Row],[PPP Factor]]*tblSalaries[[#This Row],[Salary in USD]],tblSalaries[[#This Row],[Salary in USD]])","v":22880}]
[null,"ID0169","2012-05-26T00:48:07",80000,80000,"USD",{"$f":"tblSalaries[[#This Row],[clean Salary (in local currency)]]*VLOOKUP(tblSalaries[[#This Row],[Currency]],tblXrate[],2,FALSE)","v":80000},"Consultant, HR Services & Governance","Consultant","USA",{"$f":"VLOOKUP(tblSalaries[[#This Row],[Where do you work]],tblCountries[[Actual]:[Mapping]],2,FALSE)","v":"USA"},"4 to 6 hours a day",null,{"$f":"VLOOKUP(K171,tblCountries[],3,0)","v":"North Amer."},{"$f":"VLOOKUP(tblSalaries[[#This Row],[How many hours of a day you work on Excel]],tblHours,2,0)","v":4},{"$f":"VLOOKUP(tblSalaries[[#This Row],[clean Country]],tblCountries[],5,0)","v":1},{"$f":"IF($Q$1,tblSalaries[[#This Row],[PPP Factor]]*tblSalaries[[#This Row],[Salary in USD]],tblSalaries[[#This Row],[Salary in USD]])","v":80000}]
[null,"ID0170","2012-05-26T00:48:11","Rs 5 lakh",500000,"INR",{"$f":"tblSalaries[[#This Row],[clean Salary (in local currency)]]*VLOOKUP(tblSalaries[[#This Row],[Currency]],tblXrate[],2,FALSE)","v":8903.9583437212841},"QA Executive","Analyst","India",{"$f":"VLOOKUP(tblSalaries[[#This Row],[Where do you work]],tblCountries[[Actual]:[Mapping]],2,FALSE)","v":"India"},"2 to 3 hours per day",null,{"$f":"VLOOKUP(K172,tblCountries[],3,0)","v":"Asia"},{"$f":"VLOOKUP(tblSalaries[[#This Row],[How many hours of a day you work on Excel]],tblHours,2,0)","v":3},{"$f":"VLOOKUP(tblSalaries[[#This Row],[clean Country]],tblCountries[],5,0)","v":13.098808879263672},{"$f":"IF($Q$1,tblSalaries[[#This Row],[PPP Factor]]*tblSalaries[[#This Row],[Salary in USD]],tblSalaries[[#This Row],[Salary in USD]])","v":8903.9583437212841}]
[null,"ID0171","2012-05-26T00:48:46",90000,90000,"CAD",{"$f":"tblSalaries[[#This Row],[clean Salary (in local currency)]]*VLOOKUP(tblSalaries[[#This Row],[Currency]],tblXrate[],2,FALSE)","v":88502.537072729421},"Senior Actuarial Analyst","Analyst","Canada",{"$f":"VLOOKUP(tblSalaries[[#This Row],[Where do you work]],tblCountries[[Actual]:[Mapping]],2,FALSE)","v":"Canada"},"4 to 6 hours a day",null,{"$f":"VLOOKUP(K173,tblCountries[],3,0)","v":"North Amer."},{"$f":"VLOOKUP(tblSalaries[[#This Row],[How many hours of a day you work on Excel]],tblHours,2,0)","v":4},{"$f":"VLOOKUP(tblSalaries[[#This Row],[clean Country]],tblCountries[],5,0)","v":1.1935324732986359},{"$f":"IF($Q$1,tblSalaries[[#This Row],[PPP Factor]]*tblSalaries[[#This Row],[Salary in USD]],tblSalaries[[#This Row],[Salary in USD]])","v":88502.537072729421}]
[null,"ID0172","2012-05-26T00:48:48",180000,180000,"INR",{"$f":"tblSalaries[[#This Row],[clean Salary (in local currency)]]*VLOOKUP(tblSalaries[[#This Row],[Currency]],tblXrate[],2,FALSE)","v":3205.4250037396623},"Sr. Associate","Analyst","India",{"$f":"VLOOKUP(tblSalaries[[#This Row],[Where do you work]],tblCountries[[Actual]:[Mapping]],2,FALSE)","v":"India"},"4 to 6 hours a day",null,{"$f":"VLOOKUP(K174,tblCountries[],3,0)","v":"Asia"},{"$f":"VLOOKUP(tblSalaries[[#This Row],[How many hours of a day you work on Excel]],tblHours,2,0)","v":4},{"$f":"VLOOKUP(tblSalaries[[#This Row],[clean Country]],tblCountries[],5,0)","v":13.098808879263672},{"$f":"IF($Q$1,tblSalaries[[#This Row],[PPP Factor]]*tblSalaries[[#This Row],[Salary in USD]],tblSalaries[[#This Row],[Salary in USD]])","v":3205.4250037396623}]
[null,"ID0173","2012-05-26T00:48:48",46584,46584,"USD",{"$f":"tblSalaries[[#This Row],[clean Salary (in local currency)]]*VLOOKUP(tblSalaries[[#This Row],[Currency]],tblXrate[],2,FALSE)","v":46584},"Budget Analyst","Analyst","USA",{"$f":"VLOOKUP(tblSalaries[[#This Row],[Where do you work]],tblCountries[[Actual]:[Mapping]],2,FALSE)","v":"USA"},"4 to 6 hours a day",null,{"$f":"VLOOKUP(K175,tblCountries[],3,0)","v":"North Amer."},{"$f":"VLOOKUP(tblSalaries[[#This Row],[How many hours of a day you work on Excel]],tblHours,2,0)","v":4},{"$f":"VLOOKUP(tblSalaries[[#This Row],[clean Country]],tblCountries[],5,0)","v":1},{"$f":"IF($Q$1,tblSalaries[[#This Row],[PPP Factor]]*tblSalaries[[#This Row],[Salary in USD]],tblSalaries[[#This Row],[Salary in USD]])","v":46584}]
[null,"ID0174","2012-05-26T00:48:48",67000,67000,"USD",{"$f":"tblSalaries[[#This Row],[clean Salary (in local currency)]]*VLOOKUP(tblSalaries[[#This Row],[Currency]],tblXrate[],2,FALSE)","v":67000},"B.I. Data Analyst II","Analyst","USA",{"$f":"VLOOKUP(tblSalaries[[#This Row],[Where do you work]],tblCountries[[Actual]:[Mapping]],2,FALSE)","v":"USA"},"4 to 6 hours a day",null,{"$f":"VLOOKUP(K176,tblCountries[],3,0)","v":"North Amer."},{"$f":"VLOOKUP(tblSalaries[[#This Row],[How many hours of a day you work on Excel]],tblHours,2,0)","v":4},{"$f":"VLOOKUP(tblSalaries[[#This Row],[clean Country]],tblCountries[],5,0)","v":1},{"$f":"IF($Q$1,tblSalaries[[#This Row],[PPP Factor]]*tblSalaries[[#This Row],[Salary in USD]],tblSalaries[[#This Row],[Salary in USD]])","v":67000}]
[null,"ID0175","2012-05-26T00:48:57","Rd. 11 lakhs",1100000,"INR",{"$f":"tblSalaries[[#This Row],[clean Salary (in local currency)]]*VLOOKUP(tblSalaries[[#This Row],[Currency]],tblXrate[],2,FALSE)","v":19588.708356186824},"Asst manager investor relations and business analytics","Manager","India",{"$f":"VLOOKUP(tblSalaries[[#This Row],[Where do you work]],tblCountries[[Actual]:[Mapping]],2,FALSE)","v":"India"},"4 to 6 hours a day",null,{"$f":"VLOOKUP(K177,tblCountries[],3,0)","v":"Asia"},{"$f":"VLOOKUP(tblSalaries[[#This Row],[How many hours of a day you work on Excel]],tblHours,2,0)","v":4},{"$f":"VLOOKUP(tblSalaries[[#This Row],[clean Country]],tblCountries[],5,0)","v":13.098808879263672},{"$f":"IF($Q$1,tblSalaries[[#This Row],[PPP Factor]]*tblSalaries[[#This Row],[Salary in USD]],tblSalaries[[#This Row],[Salary in USD]])","v":19588.708356186824}]
[null,"ID0176","2012-05-26T00:49:18",92000,92000,"USD",{"$f":"tblSalaries[[#This Row],[clean Salary (in local currency)]]*VLOOKUP(tblSalaries[[#This Row],[Currency]],tblXrate[],2,FALSE)","v":92000},"Industrial Engineer (Fed)","Engineer","USA",{"$f":"VLOOKUP(tblSalaries[[#This Row],[Where do you work]],tblCountries[[Actual]:[Mapping]],2,FALSE)","v":"USA"},"4 to 6 hours a day",null,{"$f":"VLOOKUP(K178,tblCountries[],3,0)","v":"North Amer."},{"$f":"VLOOKUP(tblSalaries[[#This Row],[How many hours of a day you work on Excel]],tblHours,2,0)","v":4},{"$f":"VLOOKUP(tblSalaries[[#This Row],[clean Country]],tblCountries[],5,0)","v":1},{"$f":"IF($Q$1,tblSalaries[[#This Row],[PPP Factor]]*tblSalaries[[#This Row],[Salary in USD]],tblSalaries[[#This Row],[Salary in USD]])","v":92000}]
[null,"ID0177","2012-05-26T00:49:21",75000,75000,"USD",{"$f":"tblSalaries[[#This Row],[clean Salary (in local currency)]]*VLOOKUP(tblSalaries[[#This Row],[Currency]],tblXrate[],2,FALSE)","v":75000},"Informatics specialist","Specialist","USA",{"$f":"VLOOKUP(tblSalaries[[#This Row],[Where do you work]],tblCountries[[Actual]:[Mapping]],2,FALSE)","v":"USA"},"All the 8 hours baby, all the 8!",null,{"$f":"VLOOKUP(K179,tblCountries[],3,0)","v":"North Amer."},{"$f":"VLOOKUP(tblSalaries[[#This Row],[How many hours of a day you work on Excel]],tblHours,2,0)","v":5},{"$f":"VLOOKUP(tblSalaries[[#This Row],[clean Country]],tblCountries[],5,0)","v":1},{"$f":"IF($Q$1,tblSalaries[[#This Row],[PPP Factor]]*tblSalaries[[#This Row],[Salary in USD]],tblSalaries[[#This Row],[Salary in USD]])","v":75000}]
[null,"ID0178","2012-05-26T00:49:35",180000,180000,"INR",{"$f":"tblSalaries[[#This Row],[clean Salary (in local currency)]]*VLOOKUP(tblSalaries[[#This Row],[Currency]],tblXrate[],2,FALSE)","v":3205.4250037396623},"Sr. Associate","Analyst","India",{"$f":"VLOOKUP(tblSalaries[[#This Row],[Where do you work]],tblCountries[[Actual]:[Mapping]],2,FALSE)","v":"India"},"4 to 6 hours a day",null,{"$f":"VLOOKUP(K180,tblCountries[],3,0)","v":"Asia"},{"$f":"VLOOKUP(tblSalaries[[#This Row],[How many hours of a day you work on Excel]],tblHours,2,0)","v":4},{"$f":"VLOOKUP(tblSalaries[[#This Row],[clean Country]],tblCountries[],5,0)","v":13.098808879263672},{"$f":"IF($Q$1,tblSalaries[[#This Row],[PPP Factor]]*tblSalaries[[#This Row],[Salary in USD]],tblSalaries[[#This Row],[Salary in USD]])","v":3205.4250037396623}]
[null,"ID0179","2012-05-26T00:49:48",18500,18500,"GBP",{"$f":"tblSalaries[[#This Row],[clean Salary (in local currency)]]*VLOOKUP(tblSalaries[[#This Row],[Currency]],tblXrate[],2,FALSE)","v":29159.298033244755},"Trainee Management Accountant","Manager","UK",{"$f":"VLOOKUP(tblSalaries[[#This Row],[Where do you work]],tblCountries[[Actual]:[Mapping]],2,FALSE)","v":"UK"},"All the 8 hours baby, all the 8!",null,{"$f":"VLOOKUP(K181,tblCountries[],3,0)","v":"Europe"},{"$f":"VLOOKUP(tblSalaries[[#This Row],[How many hours of a day you work on Excel]],tblHours,2,0)","v":5},{"$f":"VLOOKUP(tblSalaries[[#This Row],[clean Country]],tblCountries[],5,0)","v":1.3407315045719035},{"$f":"IF($Q$1,tblSalaries[[#This Row],[PPP Factor]]*tblSalaries[[#This Row],[Salary in USD]],tblSalaries[[#This Row],[Salary in USD]])","v":29159.298033244755}]
[null,"ID0180","2012-05-26T00:49:50",40000,40000,"USD",{"$f":"tblSalaries[[#This Row],[clean Salary (in local currency)]]*VLOOKUP(tblSalaries[[#This Row],[Currency]],tblXrate[],2,FALSE)","v":40000},"Senior analyst","Analyst","USA",{"$f":"VLOOKUP(tblSalaries[[#This Row],[Where do you work]],tblCountries[[Actual]:[Mapping]],2,FALSE)","v":"USA"},"All the 8 hours baby, all the 8!",null,{"$f":"VLOOKUP(K182,tblCountries[],3,0)","v":"North Amer."},{"$f":"VLOOKUP(tblSalaries[[#This Row],[How many hours of a day you work on Excel]],tblHours,2,0)","v":5},{"$f":"VLOOKUP(tblSalaries[[#This Row],[clean Country]],tblCountries[],5,0)","v":1},{"$f":"IF($Q$1,tblSalaries[[#This Row],[PPP Factor]]*tblSalaries[[#This Row],[Salary in USD]],tblSalaries[[#This Row],[Salary in USD]])","v":40000}]
[null,"ID0181","2012-05-26T00:49:59",111680,111680,"USD",{"$f":"tblSalaries[[#This Row],[clean Salary (in local currency)]]*VLOOKUP(tblSalaries[[#This Row],[Currency]],tblXrate[],2,FALSE)","v":111680},"Director of Analytics","Analyst","USA",{"$f":"VLOOKUP(tblSalaries[[#This Row],[Where do you work]],tblCountries[[Actual]:[Mapping]],2,FALSE)","v":"USA"},"2 to 3 hours per day",null,{"$f":"VLOOKUP(K183,tblCountries[],3,0)","v":"North Amer."},{"$f":"VLOOKUP(tblSalaries[[#This Row],[How many hours of a day you work on Excel]],tblHours,2,0)","v":3},{"$f":"VLOOKUP(tblSalaries[[#This Row],[clean Country]],tblCountries[],5,0)","v":1},{"$f":"IF($Q$1,tblSalaries[[#This Row],[PPP Factor]]*tblSalaries[[#This Row],[Salary in USD]],tblSalaries[[#This Row],[Salary in USD]])","v":111680}]
[null,"ID0182","2012-05-26T00:50:11",41.405999999999999,41406,"USD",{"$f":"tblSalaries[[#This Row],[clean Salary (in local currency)]]*VLOOKUP(tblSalaries[[#This Row],[Currency]],tblXrate[],2,FALSE)","v":41406},"Executive Assistant","Analyst","Canada",{"$f":"VLOOKUP(tblSalaries[[#This Row],[Where do you work]],tblCountries[[Actual]:[Mapping]],2,FALSE)","v":"Canada"},"1 or 2 hours a day",null,{"$f":"VLOOKUP(K184,tblCountries[],3,0)","v":"North Amer."},{"$f":"VLOOKUP(tblSalaries[[#This Row],[How many hours of a day you work on Excel]],tblHours,2,0)","v":2},{"$f":"VLOOKUP(tblSalaries[[#This Row],[clean Country]],tblCountries[],5,0)","v":1.1935324732986359},{"$f":"IF($Q$1,tblSalaries[[#This Row],[PPP Factor]]*tblSalaries[[#This Row],[Salary in USD]],tblSalaries[[#This Row],[Salary in USD]])","v":41406}]
[null,"ID0183","2012-05-26T00:50:15",70000,70000,"USD",{"$f":"tblSalaries[[#This Row],[clean Salary (in local currency)]]*VLOOKUP(tblSalaries[[#This Row],[Currency]],tblXrate[],2,FALSE)","v":70000},"Project Speciast","Manager","USA",{"$f":"VLOOKUP(tblSalaries[[#This Row],[Where do you work]],tblCountries[[Actual]:[Mapping]],2,FALSE)","v":"USA"},"4 to 6 hours a day",null,{"$f":"VLOOKUP(K185,tblCountries[],3,0)","v":"North Amer."},{"$f":"VLOOKUP(tblSalaries[[#This Row],[How many hours of a day you work on Excel]],tblHours,2,0)","v":4},{"$f":"VLOOKUP(tblSalaries[[#This Row],[clean Country]],tblCountries[],5,0)","v":1},{"$f":"IF($Q$1,tblSalaries[[#This Row],[PPP Factor]]*tblSalaries[[#This Row],[Salary in USD]],tblSalaries[[#This Row],[Salary in USD]])","v":70000}]
[null,"ID0184","2012-05-26T00:50:31",40700,40700,"USD",{"$f":"tblSalaries[[#This Row],[clean Salary (in local currency)]]*VLOOKUP(tblSalaries[[#This Row],[Currency]],tblXrate[],2,FALSE)","v":40700},"Sales Coordinator & Analytical Support","Analyst","USA",{"$f":"VLOOKUP(tblSalaries[[#This Row],[Where do you work]],tblCountries[[Actual]:[Mapping]],2,FALSE)","v":"USA"},"1 or 2 hours a day",null,{"$f":"VLOOKUP(K186,tblCountries[],3,0)","v":"North Amer."},{"$f":"VLOOKUP(tblSalaries[[#This Row],[How many hours of a day you work on Excel]],tblHours,2,0)","v":2},{"$f":"VLOOKUP(tblSalaries[[#This Row],[clean Country]],tblCountries[],5,0)","v":1},{"$f":"IF($Q$1,tblSalaries[[#This Row],[PPP Factor]]*tblSalaries[[#This Row],[Salary in USD]],tblSalaries[[#This Row],[Salary in USD]])","v":40700}]
[null,"ID0185","2012-05-26T00:50:32",40000,40000,"USD",{"$f":"tblSalaries[[#This Row],[clean Salary (in local currency)]]*VLOOKUP(tblSalaries[[#This Row],[Currency]],tblXrate[],2,FALSE)","v":40000},"analyst","Analyst","USA",{"$f":"VLOOKUP(tblSalaries[[#This Row],[Where do you work]],tblCountries[[Actual]:[Mapping]],2,FALSE)","v":"USA"},"4 to 6 hours a day",null,{"$f":"VLOOKUP(K187,tblCountries[],3,0)","v":"North Amer."},{"$f":"VLOOKUP(tblSalaries[[#This Row],[How many hours of a day you work on Excel]],tblHours,2,0)","v":4},{"$f":"VLOOKUP(tblSalaries[[#This Row],[clean Country]],tblCountries[],5,0)","v":1},{"$f":"IF($Q$1,tblSalaries[[#This Row],[PPP Factor]]*tblSalaries[[#This Row],[Salary in USD]],tblSalaries[[#This Row],[Salary in USD]])","v":40000}]
[null,"ID0186","2012-05-26T00:50:38",60000,60000,"USD",{"$f":"tblSalaries[[#This Row],[clean Salary (in local currency)]]*VLOOKUP(tblSalaries[[#This Row],[Currency]],tblXrate[],2,FALSE)","v":60000},"Senior Staff Accountant","Accountant","USA",{"$f":"VLOOKUP(tblSalaries[[#This Row],[Where do you work]],tblCountries[[Actual]:[Mapping]],2,FALSE)","v":"USA"},"4 to 6 hours a day",null,{"$f":"VLOOKUP(K188,tblCountries[],3,0)","v":"North Amer."},{"$f":"VLOOKUP(tblSalaries[[#This Row],[How many hours of a day you work on Excel]],tblHours,2,0)","v":4},{"$f":"VLOOKUP(tblSalaries[[#This Row],[clean Country]],tblCountries[],5,0)","v":1},{"$f":"IF($Q$1,tblSalaries[[#This Row],[PPP Factor]]*tblSalaries[[#This Row],[Salary in USD]],tblSalaries[[#This Row],[Salary in USD]])","v":60000}]
[null,"ID0187","2012-05-26T00:50:41",92000,92000,"CAD",{"$f":"tblSalaries[[#This Row],[clean Salary (in local currency)]]*VLOOKUP(tblSalaries[[#This Row],[Currency]],tblXrate[],2,FALSE)","v":90469.260118790073},"Consultant - Retail Mkts","Consultant","Canada",{"$f":"VLOOKUP(tblSalaries[[#This Row],[Where do you work]],tblCountries[[Actual]:[Mapping]],2,FALSE)","v":"Canada"},"All the 8 hours baby, all the 8!",null,{"$f":"VLOOKUP(K189,tblCountries[],3,0)","v":"North Amer."},{"$f":"VLOOKUP(tblSalaries[[#This Row],[How many hours of a day you work on Excel]],tblHours,2,0)","v":5},{"$f":"VLOOKUP(tblSalaries[[#This Row],[clean Country]],tblCountries[],5,0)","v":1.1935324732986359},{"$f":"IF($Q$1,tblSalaries[[#This Row],[PPP Factor]]*tblSalaries[[#This Row],[Salary in USD]],tblSalaries[[#This Row],[Salary in USD]])","v":90469.260118790073}]
[null,"ID0188","2012-05-26T00:50:43",13636.36,13636,"USD",{"$f":"tblSalaries[[#This Row],[clean Salary (in local currency)]]*VLOOKUP(tblSalaries[[#This Row],[Currency]],tblXrate[],2,FALSE)","v":13636},"Process Manager","Manager","India",{"$f":"VLOOKUP(tblSalaries[[#This Row],[Where do you work]],tblCountries[[Actual]:[Mapping]],2,FALSE)","v":"India"},"All the 8 hours baby, all the 8!",null,{"$f":"VLOOKUP(K190,tblCountries[],3,0)","v":"Asia"},{"$f":"VLOOKUP(tblSalaries[[#This Row],[How many hours of a day you work on Excel]],tblHours,2,0)","v":5},{"$f":"VLOOKUP(tblSalaries[[#This Row],[clean Country]],tblCountries[],5,0)","v":13.098808879263672},{"$f":"IF($Q$1,tblSalaries[[#This Row],[PPP Factor]]*tblSalaries[[#This Row],[Salary in USD]],tblSalaries[[#This Row],[Salary in USD]])","v":13636}]
[null,"ID0189","2012-05-26T00:50:43",80000,80000,"USD",{"$f":"tblSalaries[[#This Row],[clean Salary (in local currency)]]*VLOOKUP(tblSalaries[[#This Row],[Currency]],tblXrate[],2,FALSE)","v":80000},"Project Manager (Process Owner)","Manager","USA",{"$f":"VLOOKUP(tblSalaries[[#This Row],[Where do you work]],tblCountries[[Actual]:[Mapping]],2,FALSE)","v":"USA"},"2 to 3 hours per day",null,{"$f":"VLOOKUP(K191,tblCountries[],3,0)","v":"North Amer."},{"$f":"VLOOKUP(tblSalaries[[#This Row],[How many hours of a day you work on Excel]],tblHours,2,0)","v":3},{"$f":"VLOOKUP(tblSalaries[[#This Row],[clean Country]],tblCountries[],5,0)","v":1},{"$f":"IF($Q$1,tblSalaries[[#This Row],[PPP Factor]]*tblSalaries[[#This Row],[Salary in USD]],tblSalaries[[#This Row],[Salary in USD]])","v":80000}]
[null,"ID0190","2012-05-26T00:51:00","60000 CAD$",60000,"CAD",{"$f":"tblSalaries[[#This Row],[clean Salary (in local currency)]]*VLOOKUP(tblSalaries[[#This Row],[Currency]],tblXrate[],2,FALSE)","v":59001.691381819612},"Demographer","Analyst","Canada",{"$f":"VLOOKUP(tblSalaries[[#This Row],[Where do you work]],tblCountries[[Actual]:[Mapping]],2,FALSE)","v":"Canada"},"2 to 3 hours per day",null,{"$f":"VLOOKUP(K192,tblCountries[],3,0)","v":"North Amer."},{"$f":"VLOOKUP(tblSalaries[[#This Row],[How many hours of a day you work on Excel]],tblHours,2,0)","v":3},{"$f":"VLOOKUP(tblSalaries[[#This Row],[clean Country]],tblCountries[],5,0)","v":1.1935324732986359},{"$f":"IF($Q$1,tblSalaries[[#This Row],[PPP Factor]]*tblSalaries[[#This Row],[Salary in USD]],tblSalaries[[#This Row],[Salary in USD]])","v":59001.691381819612}]
[null,"ID0192","2012-05-26T00:51:43",28000,28000,"USD",{"$f":"tblSalaries[[#This Row],[clean Salary (in local currency)]]*VLOOKUP(tblSalaries[[#This Row],[Currency]],tblXrate[],2,FALSE)","v":28000},"Administrative Assistant","Analyst","USA",{"$f":"VLOOKUP(tblSalaries[[#This Row],[Where do you work]],tblCountries[[Actual]:[Mapping]],2,FALSE)","v":"USA"},"4 to 6 hours a day",null,{"$f":"VLOOKUP(K193,tblCountries[],3,0)","v":"North Amer."},{"$f":"VLOOKUP(tblSalaries[[#This Row],[How many hours of a day you work on Excel]],tblHours,2,0)","v":4},{"$f":"VLOOKUP(tblSalaries[[#This Row],[clean Country]],tblCountries[],5,0)","v":1},{"$f":"IF($Q$1,tblSalaries[[#This Row],[PPP Factor]]*tblSalaries[[#This Row],[Salary in USD]],tblSalaries[[#This Row],[Salary in USD]])","v":28000}]
[null,"ID0193","2012-05-26T00:51:55",60000,60000,"USD",{"$f":"tblSalaries[[#This Row],[clean Salary (in local currency)]]*VLOOKUP(tblSalaries[[#This Row],[Currency]],tblXrate[],2,FALSE)","v":60000},"Accounting/Financial Analyst","Analyst","USA",{"$f":"VLOOKUP(tblSalaries[[#This Row],[Where do you work]],tblCountries[[Actual]:[Mapping]],2,FALSE)","v":"USA"},"4 to 6 hours a day",null,{"$f":"VLOOKUP(K194,tblCountries[],3,0)","v":"North Amer."},{"$f":"VLOOKUP(tblSalaries[[#This Row],[How many hours of a day you work on Excel]],tblHours,2,0)","v":4},{"$f":"VLOOKUP(tblSalaries[[#This Row],[clean Country]],tblCountries[],5,0)","v":1},{"$f":"IF($Q$1,tblSalaries[[#This Row],[PPP Factor]]*tblSalaries[[#This Row],[Salary in USD]],tblSalaries[[#This Row],[Salary in USD]])","v":60000}]
[null,"ID0194","2012-05-26T00:51:59",96000,96000,"USD",{"$f":"tblSalaries[[#This Row],[clean Salary (in local currency)]]*VLOOKUP(tblSalaries[[#This Row],[Currency]],tblXrate[],2,FALSE)","v":96000},"Business Process Specialist","Specialist","USA",{"$f":"VLOOKUP(tblSalaries[[#This Row],[Where do you work]],tblCountries[[Actual]:[Mapping]],2,FALSE)","v":"USA"},"2 to 3 hours per day",null,{"$f":"VLOOKUP(K195,tblCountries[],3,0)","v":"North Amer."},{"$f":"VLOOKUP(tblSalaries[[#This Row],[How many hours of a day you work on Excel]],tblHours,2,0)","v":3},{"$f":"VLOOKUP(tblSalaries[[#This Row],[clean Country]],tblCountries[],5,0)","v":1},{"$f":"IF($Q$1,tblSalaries[[#This Row],[PPP Factor]]*tblSalaries[[#This Row],[Salary in USD]],tblSalaries[[#This Row],[Salary in USD]])","v":96000}]
[null,"ID0195","2012-05-26T00:52:21",67000,67000,"USD",{"$f":"tblSalaries[[#This Row],[clean Salary (in local currency)]]*VLOOKUP(tblSalaries[[#This Row],[Currency]],tblXrate[],2,FALSE)","v":67000},"Financial Analyst","Analyst","USA",{"$f":"VLOOKUP(tblSalaries[[#This Row],[Where do you work]],tblCountries[[Actual]:[Mapping]],2,FALSE)","v":"USA"},"4 to 6 hours a day",null,{"$f":"VLOOKUP(K196,tblCountries[],3,0)","v":"North Amer."},{"$f":"VLOOKUP(tblSalaries[[#This Row],[How many hours of a day you work on Excel]],tblHours,2,0)","v":4},{"$f":"VLOOKUP(tblSalaries[[#This Row],[clean Country]],tblCountries[],5,0)","v":1},{"$f":"IF($Q$1,tblSalaries[[#This Row],[PPP Factor]]*tblSalaries[[#This Row],[Salary in USD]],tblSalaries[[#This Row],[Salary in USD]])","v":67000}]
[null,"ID0196","2012-05-26T00:52:25",70000,70000,"USD",{"$f":"tblSalaries[[#This Row],[clean Salary (in local currency)]]*VLOOKUP(tblSalaries[[#This Row],[Currency]],tblXrate[],2,FALSE)","v":70000},"Sr Financial Analyst","Analyst","USA",{"$f":"VLOOKUP(tblSalaries[[#This Row],[Where do you work]],tblCountries[[Actual]:[Mapping]],2,FALSE)","v":"USA"},"4 to 6 hours a day",null,{"$f":"VLOOKUP(K197,tblCountries[],3,0)","v":"North Amer."},{"$f":"VLOOKUP(tblSalaries[[#This Row],[How many hours of a day you work on Excel]],tblHours,2,0)","v":4},{"$f":"VLOOKUP(tblSalaries[[#This Row],[clean Country]],tblCountries[],5,0)","v":1},{"$f":"IF($Q$1,tblSalaries[[#This Row],[PPP Factor]]*tblSalaries[[#This Row],[Salary in USD]],tblSalaries[[#This Row],[Salary in USD]])","v":70000}]
[null,"ID0197","2012-05-26T00:52:30",233000,233000,"INR",{"$f":"tblSalaries[[#This Row],[clean Salary (in local currency)]]*VLOOKUP(tblSalaries[[#This Row],[Currency]],tblXrate[],2,FALSE)","v":4149.2445881741187},"Asst. Manager (MIS)","Manager","India",{"$f":"VLOOKUP(tblSalaries[[#This Row],[Where do you work]],tblCountries[[Actual]:[Mapping]],2,FALSE)","v":"India"},"All the 8 hours baby, all the 8!",null,{"$f":"VLOOKUP(K198,tblCountries[],3,0)","v":"Asia"},{"$f":"VLOOKUP(tblSalaries[[#This Row],[How many hours of a day you work on Excel]],tblHours,2,0)","v":5},{"$f":"VLOOKUP(tblSalaries[[#This Row],[clean Country]],tblCountries[],5,0)","v":13.098808879263672},{"$f":"IF($Q$1,tblSalaries[[#This Row],[PPP Factor]]*tblSalaries[[#This Row],[Salary in USD]],tblSalaries[[#This Row],[Salary in USD]])","v":4149.2445881741187}]
[null,"ID0198","2012-05-26T00:52:37","US$ 99000",99000,"USD",{"$f":"tblSalaries[[#This Row],[clean Salary (in local currency)]]*VLOOKUP(tblSalaries[[#This Row],[Currency]],tblXrate[],2,FALSE)","v":99000},"Business Controller","Controller","USA",{"$f":"VLOOKUP(tblSalaries[[#This Row],[Where do you work]],tblCountries[[Actual]:[Mapping]],2,FALSE)","v":"USA"},"4 to 6 hours a day",null,{"$f":"VLOOKUP(K199,tblCountries[],3,0)","v":"North Amer."},{"$f":"VLOOKUP(tblSalaries[[#This Row],[How many hours of a day you work on Excel]],tblHours,2,0)","v":4},{"$f":"VLOOKUP(tblSalaries[[#This Row],[clean Country]],tblCountries[],5,0)","v":1},{"$f":"IF($Q$1,tblSalaries[[#This Row],[PPP Factor]]*tblSalaries[[#This Row],[Salary in USD]],tblSalaries[[#This Row],[Salary in USD]])","v":99000}]
[null,"ID0200","2012-05-26T00:53:00",90000,90000,"USD",{"$f":"tblSalaries[[#This Row],[clean Salary (in local currency)]]*VLOOKUP(tblSalaries[[#This Row],[Currency]],tblXrate[],2,FALSE)","v":90000},"Project Manager","Manager","USA",{"$f":"VLOOKUP(tblSalaries[[#This Row],[Where do you work]],tblCountries[[Actual]:[Mapping]],2,FALSE)","v":"USA"},"2 to 3 hours per day",null,{"$f":"VLOOKUP(K200,tblCountries[],3,0)","v":"North Amer."},{"$f":"VLOOKUP(tblSalaries[[#This Row],[How many hours of a day you work on Excel]],tblHours,2,0)","v":3},{"$f":"VLOOKUP(tblSalaries[[#This Row],[clean Country]],tblCountries[],5,0)","v":1},{"$f":"IF($Q$1,tblSalaries[[#This Row],[PPP Factor]]*tblSalaries[[#This Row],[Salary in USD]],tblSalaries[[#This Row],[Salary in USD]])","v":90000}]
[null,"ID0201","2012-05-26T00:53:02","Rs. 275000",275000,"INR",{"$f":"tblSalaries[[#This Row],[clean Salary (in local currency)]]*VLOOKUP(tblSalaries[[#This Row],[Currency]],tblXrate[],2,FALSE)","v":4897.177089046706},"low level monitoring","Analyst","India",{"$f":"VLOOKUP(tblSalaries[[#This Row],[Where do you work]],tblCountries[[Actual]:[Mapping]],2,FALSE)","v":"India"},"2 to 3 hours per day",null,{"$f":"VLOOKUP(K201,tblCountries[],3,0)","v":"Asia"},{"$f":"VLOOKUP(tblSalaries[[#This Row],[How many hours of a day you work on Excel]],tblHours,2,0)","v":3},{"$f":"VLOOKUP(tblSalaries[[#This Row],[clean Country]],tblCountries[],5,0)","v":13.098808879263672},{"$f":"IF($Q$1,tblSalaries[[#This Row],[PPP Factor]]*tblSalaries[[#This Row],[Salary in USD]],tblSalaries[[#This Row],[Salary in USD]])","v":4897.177089046706}]
[null,"ID0202","2012-05-26T00:53:18","INR 16000",192000,"INR",{"$f":"tblSalaries[[#This Row],[clean Salary (in local currency)]]*VLOOKUP(tblSalaries[[#This Row],[Currency]],tblXrate[],2,FALSE)","v":3419.1200039889732},"Administrative","Analyst","India",{"$f":"VLOOKUP(tblSalaries[[#This Row],[Where do you work]],tblCountries[[Actual]:[Mapping]],2,FALSE)","v":"India"},"All the 8 hours baby, all the 8!",null,{"$f":"VLOOKUP(K202,tblCountries[],3,0)","v":"Asia"},{"$f":"VLOOKUP(tblSalaries[[#This Row],[How many hours of a day you work on Excel]],tblHours,2,0)","v":5},{"$f":"VLOOKUP(tblSalaries[[#This Row],[clean Country]],tblCountries[],5,0)","v":13.098808879263672},{"$f":"IF($Q$1,tblSalaries[[#This Row],[PPP Factor]]*tblSalaries[[#This Row],[Salary in USD]],tblSalaries[[#This Row],[Salary in USD]])","v":3419.1200039889732}]
[null,"ID0203","2012-05-26T00:53:37",51000,51000,"USD",{"$f":"tblSalaries[[#This Row],[clean Salary (in local currency)]]*VLOOKUP(tblSalaries[[#This Row],[Currency]],tblXrate[],2,FALSE)","v":51000},"Service Line Coordinator","Manager","USA",{"$f":"VLOOKUP(tblSalaries[[#This Row],[Where do you work]],tblCountries[[Actual]:[Mapping]],2,FALSE)","v":"USA"},"4 to 6 hours a day",null,{"$f":"VLOOKUP(K203,tblCountries[],3,0)","v":"North Amer."},{"$f":"VLOOKUP(tblSalaries[[#This Row],[How many hours of a day you work on Excel]],tblHours,2,0)","v":4},{"$f":"VLOOKUP(tblSalaries[[#This Row],[clean Country]],tblCountries[],5,0)","v":1},{"$f":"IF($Q$1,tblSalaries[[#This Row],[PPP Factor]]*tblSalaries[[#This Row],[Salary in USD]],tblSalaries[[#This Row],[Salary in USD]])","v":51000}]
[null,"ID0204","2012-05-26T00:53:42",100000,100000,"USD",{"$f":"tblSalaries[[#This Row],[clean Salary (in local currency)]]*VLOOKUP(tblSalaries[[#This Row],[Currency]],tblXrate[],2,FALSE)","v":100000},"Strategic Sourcing Manager","Manager","USA",{"$f":"VLOOKUP(tblSalaries[[#This Row],[Where do you work]],tblCountries[[Actual]:[Mapping]],2,FALSE)","v":"USA"},"All the 8 hours baby, all the 8!",null,{"$f":"VLOOKUP(K204,tblCountries[],3,0)","v":"North Amer."},{"$f":"VLOOKUP(tblSalaries[[#This Row],[How many hours of a day you work on Excel]],tblHours,2,0)","v":5},{"$f":"VLOOKUP(tblSalaries[[#This Row],[clean Country]],tblCountries[],5,0)","v":1},{"$f":"IF($Q$1,tblSalaries[[#This Row],[PPP Factor]]*tblSalaries[[#This Row],[Salary in USD]],tblSalaries[[#This Row],[Salary in USD]])","v":100000}]
[null,"ID0205","2012-05-26T00:53:46","INR18Lacs or US$36000",1800000,"INR",{"$f":"tblSalaries[[#This Row],[clean Salary (in local currency)]]*VLOOKUP(tblSalaries[[#This Row],[Currency]],tblXrate[],2,FALSE)","v":32054.250037396621},"Chief Manager","Manager","India",{"$f":"VLOOKUP(tblSalaries[[#This Row],[Where do you work]],tblCountries[[Actual]:[Mapping]],2,FALSE)","v":"India"},"1 or 2 hours a day",null,{"$f":"VLOOKUP(K205,tblCountries[],3,0)","v":"Asia"},{"$f":"VLOOKUP(tblSalaries[[#This Row],[How many hours of a day you work on Excel]],tblHours,2,0)","v":2},{"$f":"VLOOKUP(tblSalaries[[#This Row],[clean Country]],tblCountries[],5,0)","v":13.098808879263672},{"$f":"IF($Q$1,tblSalaries[[#This Row],[PPP Factor]]*tblSalaries[[#This Row],[Salary in USD]],tblSalaries[[#This Row],[Salary in USD]])","v":32054.250037396621}]
[null,"ID0207","2012-05-26T00:54:12","Â£30000",30000,"GBP",{"$f":"tblSalaries[[#This Row],[clean Salary (in local currency)]]*VLOOKUP(tblSalaries[[#This Row],[Currency]],tblXrate[],2,FALSE)","v":47285.348162018527},"Business Intelligence Analyst","Analyst","UK",{"$f":"VLOOKUP(tblSalaries[[#This Row],[Where do you work]],tblCountries[[Actual]:[Mapping]],2,FALSE)","v":"UK"},"2 to 3 hours per day",null,{"$f":"VLOOKUP(K206,tblCountries[],3,0)","v":"Europe"},{"$f":"VLOOKUP(tblSalaries[[#This Row],[How many hours of a day you work on Excel]],tblHours,2,0)","v":3},{"$f":"VLOOKUP(tblSalaries[[#This Row],[clean Country]],tblCountries[],5,0)","v":1.3407315045719035},{"$f":"IF($Q$1,tblSalaries[[#This Row],[PPP Factor]]*tblSalaries[[#This Row],[Salary in USD]],tblSalaries[[#This Row],[Salary in USD]])","v":47285.348162018527}]
[null,"ID0208","2012-05-26T00:54:14","â‚¬ 50000",50000,"EUR",{"$f":"tblSalaries[[#This Row],[clean Salary (in local currency)]]*VLOOKUP(tblSalaries[[#This Row],[Currency]],tblXrate[],2,FALSE)","v":63519.971949580387},"Data Analyst","Analyst","Ireland",{"$f":"VLOOKUP(tblSalaries[[#This Row],[Where do you work]],tblCountries[[Actual]:[Mapping]],2,FALSE)","v":"Ireland"},"4 to 6 hours a day",null,{"$f":"VLOOKUP(K207,tblCountries[],3,0)","v":"Europe"},{"$f":"VLOOKUP(tblSalaries[[#This Row],[How many hours of a day you work on Excel]],tblHours,2,0)","v":4},{"$f":"VLOOKUP(tblSalaries[[#This Row],[clean Country]],tblCountries[],5,0)","v":1.2206917429803981},{"$f":"IF($Q$1,tblSalaries[[#This Row],[PPP Factor]]*tblSalaries[[#This Row],[Salary in USD]],tblSalaries[[#This Row],[Salary in USD]])","v":63519.971949580387}]
[null,"ID0209","2012-05-26T00:54:16",108160,108160,"USD",{"$f":"tblSalaries[[#This Row],[clean Salary (in local currency)]]*VLOOKUP(tblSalaries[[#This Row],[Currency]],tblXrate[],2,FALSE)","v":108160},"Sr. Financial Analyst","Analyst","USA",{"$f":"VLOOKUP(tblSalaries[[#This Row],[Where do you work]],tblCountries[[Actual]:[Mapping]],2,FALSE)","v":"USA"},"4 to 6 hours a day",null,{"$f":"VLOOKUP(K208,tblCountries[],3,0)","v":"North Amer."},{"$f":"VLOOKUP(tblSalaries[[#This Row],[How many hours of a day you work on Excel]],tblHours,2,0)","v":4},{"$f":"VLOOKUP(tblSalaries[[#This Row],[clean Country]],tblCountries[],5,0)","v":1},{"$f":"IF($Q$1,tblSalaries[[#This Row],[PPP Factor]]*tblSalaries[[#This Row],[Salary in USD]],tblSalaries[[#This Row],[Salary in USD]])","v":108160}]
[null,"ID0210","2012-05-26T00:54:27",50000,50000,"USD",{"$f":"tblSalaries[[#This Row],[clean Salary (in local currency)]]*VLOOKUP(tblSalaries[[#This Row],[Currency]],tblXrate[],2,FALSE)","v":50000},"Buyer","Manager","USA",{"$f":"VLOOKUP(tblSalaries[[#This Row],[Where do you work]],tblCountries[[Actual]:[Mapping]],2,FALSE)","v":"USA"},"4 to 6 hours a day",null,{"$f":"VLOOKUP(K209,tblCountries[],3,0)","v":"North Amer."},{"$f":"VLOOKUP(tblSalaries[[#This Row],[How many hours of a day you work on Excel]],tblHours,2,0)","v":4},{"$f":"VLOOKUP(tblSalaries[[#This Row],[clean Country]],tblCountries[],5,0)","v":1},{"$f":"IF($Q$1,tblSalaries[[#This Row],[PPP Factor]]*tblSalaries[[#This Row],[Salary in USD]],tblSalaries[[#This Row],[Salary in USD]])","v":50000}]
[null,"ID0211","2012-05-26T00:54:28",400000,400000,"USD",{"$f":"tblSalaries[[#This Row],[clean Salary (in local currency)]]*VLOOKUP(tblSalaries[[#This Row],[Currency]],tblXrate[],2,FALSE)","v":400000},"program manager","Manager","USA",{"$f":"VLOOKUP(tblSalaries[[#This Row],[Where do you work]],tblCountries[[Actual]:[Mapping]],2,FALSE)","v":"USA"},"1 or 2 hours a day",null,{"$f":"VLOOKUP(K210,tblCountries[],3,0)","v":"North Amer."},{"$f":"VLOOKUP(tblSalaries[[#This Row],[How many hours of a day you work on Excel]],tblHours,2,0)","v":2},{"$f":"VLOOKUP(tblSalaries[[#This Row],[clean Country]],tblCountries[],5,0)","v":1},{"$f":"IF($Q$1,tblSalaries[[#This Row],[PPP Factor]]*tblSalaries[[#This Row],[Salary in USD]],tblSalaries[[#This Row],[Salary in USD]])","v":400000}]
[null,"ID0212","2012-05-26T00:54:41",43000,43000,"USD",{"$f":"tblSalaries[[#This Row],[clean Salary (in local currency)]]*VLOOKUP(tblSalaries[[#This Row],[Currency]],tblXrate[],2,FALSE)","v":43000},"Reporting Analyst Team Lead","Analyst","USA",{"$f":"VLOOKUP(tblSalaries[[#This Row],[Where do you work]],tblCountries[[Actual]:[Mapping]],2,FALSE)","v":"USA"},"All the 8 hours baby, all the 8!",null,{"$f":"VLOOKUP(K211,tblCountries[],3,0)","v":"North Amer."},{"$f":"VLOOKUP(tblSalaries[[#This Row],[How many hours of a day you work on Excel]],tblHours,2,0)","v":5},{"$f":"VLOOKUP(tblSalaries[[#This Row],[clean Country]],tblCountries[],5,0)","v":1},{"$f":"IF($Q$1,tblSalaries[[#This Row],[PPP Factor]]*tblSalaries[[#This Row],[Salary in USD]],tblSalaries[[#This Row],[Salary in USD]])","v":43000}]
[null,"ID0213","2012-05-26T00:54:46",27000,27000,"USD",{"$f":"tblSalaries[[#This Row],[clean Salary (in local currency)]]*VLOOKUP(tblSalaries[[#This Row],[Currency]],tblXrate[],2,FALSE)","v":27000},"Innovation Analyst","Analyst","Singapore",{"$f":"VLOOKUP(tblSalaries[[#This Row],[Where do you work]],tblCountries[[Actual]:[Mapping]],2,FALSE)","v":"Singapore"},"All the 8 hours baby, all the 8!",null,{"$f":"VLOOKUP(K212,tblCountries[],3,0)","v":"Asia"},{"$f":"VLOOKUP(tblSalaries[[#This Row],[How many hours of a day you work on Excel]],tblHours,2,0)","v":5},{"$f":"VLOOKUP(tblSalaries[[#This Row],[clean Country]],tblCountries[],5,0)","v":0.81035320125270049},{"$f":"IF($Q$1,tblSalaries[[#This Row],[PPP Factor]]*tblSalaries[[#This Row],[Salary in USD]],tblSalaries[[#This Row],[Salary in USD]])","v":27000}]
[null,"ID0214","2012-05-26T00:54:56",41000,41000,"USD",{"$f":"tblSalaries[[#This Row],[clean Salary (in local currency)]]*VLOOKUP(tblSalaries[[#This Row],[Currency]],tblXrate[],2,FALSE)","v":41000},"Operations Expert","Manager","USA",{"$f":"VLOOKUP(tblSalaries[[#This Row],[Where do you work]],tblCountries[[Actual]:[Mapping]],2,FALSE)","v":"USA"},"All the 8 hours baby, all the 8!",null,{"$f":"VLOOKUP(K213,tblCountries[],3,0)","v":"North Amer."},{"$f":"VLOOKUP(tblSalaries[[#This Row],[How many hours of a day you work on Excel]],tblHours,2,0)","v":5},{"$f":"VLOOKUP(tblSalaries[[#This Row],[clean Country]],tblCountries[],5,0)","v":1},{"$f":"IF($Q$1,tblSalaries[[#This Row],[PPP Factor]]*tblSalaries[[#This Row],[Salary in USD]],tblSalaries[[#This Row],[Salary in USD]])","v":41000}]
[null,"ID0215","2012-05-26T00:55:06",100000,100000,"USD",{"$f":"tblSalaries[[#This Row],[clean Salary (in local currency)]]*VLOOKUP(tblSalaries[[#This Row],[Currency]],tblXrate[],2,FALSE)","v":100000},"Director of Finance","CXO or Top Mgmt.","USA",{"$f":"VLOOKUP(tblSalaries[[#This Row],[Where do you work]],tblCountries[[Actual]:[Mapping]],2,FALSE)","v":"USA"},"4 to 6 hours a day",null,{"$f":"VLOOKUP(K214,tblCountries[],3,0)","v":"North Amer."},{"$f":"VLOOKUP(tblSalaries[[#This Row],[How many hours of a day you work on Excel]],tblHours,2,0)","v":4},{"$f":"VLOOKUP(tblSalaries[[#This Row],[clean Country]],tblCountries[],5,0)","v":1},{"$f":"IF($Q$1,tblSalaries[[#This Row],[PPP Factor]]*tblSalaries[[#This Row],[Salary in USD]],tblSalaries[[#This Row],[Salary in USD]])","v":100000}]
[null,"ID0216","2012-05-26T00:55:50",42140,42140,"USD",{"$f":"tblSalaries[[#This Row],[clean Salary (in local currency)]]*VLOOKUP(tblSalaries[[#This Row],[Currency]],tblXrate[],2,FALSE)","v":42140},"Information Analyst II","Analyst","USA",{"$f":"VLOOKUP(tblSalaries[[#This Row],[Where do you work]],tblCountries[[Actual]:[Mapping]],2,FALSE)","v":"USA"},"4 to 6 hours a day",null,{"$f":"VLOOKUP(K215,tblCountries[],3,0)","v":"North Amer."},{"$f":"VLOOKUP(tblSalaries[[#This Row],[How many hours of a day you work on Excel]],tblHours,2,0)","v":4},{"$f":"VLOOKUP(tblSalaries[[#This Row],[clean Country]],tblCountries[],5,0)","v":1},{"$f":"IF($Q$1,tblSalaries[[#This Row],[PPP Factor]]*tblSalaries[[#This Row],[Salary in USD]],tblSalaries[[#This Row],[Salary in USD]])","v":42140}]
[null,"ID0217","2012-05-26T00:56:06",80000,80000,"USD",{"$f":"tblSalaries[[#This Row],[clean Salary (in local currency)]]*VLOOKUP(tblSalaries[[#This Row],[Currency]],tblXrate[],2,FALSE)","v":80000},"Marketing Analyst","Analyst","USA",{"$f":"VLOOKUP(tblSalaries[[#This Row],[Where do you work]],tblCountries[[Actual]:[Mapping]],2,FALSE)","v":"USA"},"4 to 6 hours a day",null,{"$f":"VLOOKUP(K216,tblCountries[],3,0)","v":"North Amer."},{"$f":"VLOOKUP(tblSalaries[[#This Row],[How many hours of a day you work on Excel]],tblHours,2,0)","v":4},{"$f":"VLOOKUP(tblSalaries[[#This Row],[clean Country]],tblCountries[],5,0)","v":1},{"$f":"IF($Q$1,tblSalaries[[#This Row],[PPP Factor]]*tblSalaries[[#This Row],[Salary in USD]],tblSalaries[[#This Row],[Salary in USD]])","v":80000}]
[null,"ID0218","2012-05-26T00:56:37",41600,41600,"USD",{"$f":"tblSalaries[[#This Row],[clean Salary (in local currency)]]*VLOOKUP(tblSalaries[[#This Row],[Currency]],tblXrate[],2,FALSE)","v":41600},"Project Manager","Manager","USA",{"$f":"VLOOKUP(tblSalaries[[#This Row],[Where do you work]],tblCountries[[Actual]:[Mapping]],2,FALSE)","v":"USA"},"4 to 6 hours a day",null,{"$f":"VLOOKUP(K217,tblCountries[],3,0)","v":"North Amer."},{"$f":"VLOOKUP(tblSalaries[[#This Row],[How many hours of a day you work on Excel]],tblHours,2,0)","v":4},{"$f":"VLOOKUP(tblSalaries[[#This Row],[clean Country]],tblCountries[],5,0)","v":1},{"$f":"IF($Q$1,tblSalaries[[#This Row],[PPP Factor]]*tblSalaries[[#This Row],[Salary in USD]],tblSalaries[[#This Row],[Salary in USD]])","v":41600}]
[null,"ID0219","2012-05-26T00:56:37","45k",45000,"USD",{"$f":"tblSalaries[[#This Row],[clean Salary (in local currency)]]*VLOOKUP(tblSalaries[[#This Row],[Currency]],tblXrate[],2,FALSE)","v":45000},"Accounting Assistant","Accountant","USA",{"$f":"VLOOKUP(tblSalaries[[#This Row],[Where do you work]],tblCountries[[Actual]:[Mapping]],2,FALSE)","v":"USA"},"2 to 3 hours per day",null,{"$f":"VLOOKUP(K218,tblCountries[],3,0)","v":"North Amer."},{"$f":"VLOOKUP(tblSalaries[[#This Row],[How many hours of a day you work on Excel]],tblHours,2,0)","v":3},{"$f":"VLOOKUP(tblSalaries[[#This Row],[clean Country]],tblCountries[],5,0)","v":1},{"$f":"IF($Q$1,tblSalaries[[#This Row],[PPP Factor]]*tblSalaries[[#This Row],[Salary in USD]],tblSalaries[[#This Row],[Salary in USD]])","v":45000}]
[null,"ID0220","2012-05-26T00:56:54",78000,78000,"USD",{"$f":"tblSalaries[[#This Row],[clean Salary (in local currency)]]*VLOOKUP(tblSalaries[[#This Row],[Currency]],tblXrate[],2,FALSE)","v":78000},"Tax Professional","Accountant","Bermuda",{"$f":"VLOOKUP(tblSalaries[[#This Row],[Where do you work]],tblCountries[[Actual]:[Mapping]],2,FALSE)","v":"Bermuda"},"4 to 6 hours a day",null,{"$f":"VLOOKUP(K219,tblCountries[],3,0)","v":"South Amer."},{"$f":"VLOOKUP(tblSalaries[[#This Row],[How many hours of a day you work on Excel]],tblHours,2,0)","v":4},{"$f":"VLOOKUP(tblSalaries[[#This Row],[clean Country]],tblCountries[],5,0)","v":1},{"$f":"IF($Q$1,tblSalaries[[#This Row],[PPP Factor]]*tblSalaries[[#This Row],[Salary in USD]],tblSalaries[[#This Row],[Salary in USD]])","v":78000}]
[null,"ID0221","2012-05-26T00:57:21","INR 500000",500000,"INR",{"$f":"tblSalaries[[#This Row],[clean Salary (in local currency)]]*VLOOKUP(tblSalaries[[#This Row],[Currency]],tblXrate[],2,FALSE)","v":8903.9583437212841},"Project Manager","Manager","India",{"$f":"VLOOKUP(tblSalaries[[#This Row],[Where do you work]],tblCountries[[Actual]:[Mapping]],2,FALSE)","v":"India"},"4 to 6 hours a day",null,{"$f":"VLOOKUP(K220,tblCountries[],3,0)","v":"Asia"},{"$f":"VLOOKUP(tblSalaries[[#This Row],[How many hours of a day you work on Excel]],tblHours,2,0)","v":4},{"$f":"VLOOKUP(tblSalaries[[#This Row],[clean Country]],tblCountries[],5,0)","v":13.098808879263672},{"$f":"IF($Q$1,tblSalaries[[#This Row],[PPP Factor]]*tblSalaries[[#This Row],[Salary in USD]],tblSalaries[[#This Row],[Salary in USD]])","v":8903.9583437212841}]
[null,"ID0222","2012-05-26T00:57:35","INR 350k",350000,"INR",{"$f":"tblSalaries[[#This Row],[clean Salary (in local currency)]]*VLOOKUP(tblSalaries[[#This Row],[Currency]],tblXrate[],2,FALSE)","v":6232.7708406048987},"Jr. Executive Finance","Accountant","India",{"$f":"VLOOKUP(tblSalaries[[#This Row],[Where do you work]],tblCountries[[Actual]:[Mapping]],2,FALSE)","v":"India"},"4 to 6 hours a day",null,{"$f":"VLOOKUP(K221,tblCountries[],3,0)","v":"Asia"},{"$f":"VLOOKUP(tblSalaries[[#This Row],[How many hours of a day you work on Excel]],tblHours,2,0)","v":4},{"$f":"VLOOKUP(tblSalaries[[#This Row],[clean Country]],tblCountries[],5,0)","v":13.098808879263672},{"$f":"IF($Q$1,tblSalaries[[#This Row],[PPP Factor]]*tblSalaries[[#This Row],[Salary in USD]],tblSalaries[[#This Row],[Salary in USD]])","v":6232.7708406048987}]
[null,"ID0223","2012-05-26T00:57:44",72500,72500,"USD",{"$f":"tblSalaries[[#This Row],[clean Salary (in local currency)]]*VLOOKUP(tblSalaries[[#This Row],[Currency]],tblXrate[],2,FALSE)","v":72500},"Assistant Controller","Controller","USA",{"$f":"VLOOKUP(tblSalaries[[#This Row],[Where do you work]],tblCountries[[Actual]:[Mapping]],2,FALSE)","v":"USA"},"4 to 6 hours a day",null,{"$f":"VLOOKUP(K222,tblCountries[],3,0)","v":"North Amer."},{"$f":"VLOOKUP(tblSalaries[[#This Row],[How many hours of a day you work on Excel]],tblHours,2,0)","v":4},{"$f":"VLOOKUP(tblSalaries[[#This Row],[clean Country]],tblCountries[],5,0)","v":1},{"$f":"IF($Q$1,tblSalaries[[#This Row],[PPP Factor]]*tblSalaries[[#This Row],[Salary in USD]],tblSalaries[[#This Row],[Salary in USD]])","v":72500}]
[null,"ID0224","2012-05-26T00:57:52","US$ 138K",138000,"USD",{"$f":"tblSalaries[[#This Row],[clean Salary (in local currency)]]*VLOOKUP(tblSalaries[[#This Row],[Currency]],tblXrate[],2,FALSE)","v":138000},"Project engineer","Engineer","Thailand",{"$f":"VLOOKUP(tblSalaries[[#This Row],[Where do you work]],tblCountries[[Actual]:[Mapping]],2,FALSE)","v":"Thailand"},"4 to 6 hours a day",null,{"$f":"VLOOKUP(K223,tblCountries[],3,0)","v":"Asia"},{"$f":"VLOOKUP(tblSalaries[[#This Row],[How many hours of a day you work on Excel]],tblHours,2,0)","v":4},{"$f":"VLOOKUP(tblSalaries[[#This Row],[clean Country]],tblCountries[],5,0)","v":5.1497445721583652},{"$f":"IF($Q$1,tblSalaries[[#This Row],[PPP Factor]]*tblSalaries[[#This Row],[Salary in USD]],tblSalaries[[#This Row],[Salary in USD]])","v":138000}]
[null,"ID0225","2012-05-26T00:58:03",480000,480000,"INR",{"$f":"tblSalaries[[#This Row],[clean Salary (in local currency)]]*VLOOKUP(tblSalaries[[#This Row],[Currency]],tblXrate[],2,FALSE)","v":8547.8000099724322},"Cash Officer","Manager","India",{"$f":"VLOOKUP(tblSalaries[[#This Row],[Where do you work]],tblCountries[[Actual]:[Mapping]],2,FALSE)","v":"India"},"4 to 6 hours a day",null,{"$f":"VLOOKUP(K224,tblCountries[],3,0)","v":"Asia"},{"$f":"VLOOKUP(tblSalaries[[#This Row],[How many hours of a day you work on Excel]],tblHours,2,0)","v":4},{"$f":"VLOOKUP(tblSalaries[[#This Row],[clean Country]],tblCountries[],5,0)","v":13.098808879263672},{"$f":"IF($Q$1,tblSalaries[[#This Row],[PPP Factor]]*tblSalaries[[#This Row],[Salary in USD]],tblSalaries[[#This Row],[Salary in USD]])","v":8547.8000099724322}]
[null,"ID0226","2012-05-26T00:58:05",80000,80000,"USD",{"$f":"tblSalaries[[#This Row],[clean Salary (in local currency)]]*VLOOKUP(tblSalaries[[#This Row],[Currency]],tblXrate[],2,FALSE)","v":80000},"Senior Analyst","Analyst","USA",{"$f":"VLOOKUP(tblSalaries[[#This Row],[Where do you work]],tblCountries[[Actual]:[Mapping]],2,FALSE)","v":"USA"},"4 to 6 hours a day",null,{"$f":"VLOOKUP(K225,tblCountries[],3,0)","v":"North Amer."},{"$f":"VLOOKUP(tblSalaries[[#This Row],[How many hours of a day you work on Excel]],tblHours,2,0)","v":4},{"$f":"VLOOKUP(tblSalaries[[#This Row],[clean Country]],tblCountries[],5,0)","v":1},{"$f":"IF($Q$1,tblSalaries[[#This Row],[PPP Factor]]*tblSalaries[[#This Row],[Salary in USD]],tblSalaries[[#This Row],[Salary in USD]])","v":80000}]
[null,"ID0227","2012-05-26T00:58:06",50000,50000,"USD",{"$f":"tblSalaries[[#This Row],[clean Salary (in local currency)]]*VLOOKUP(tblSalaries[[#This Row],[Currency]],tblXrate[],2,FALSE)","v":50000},"Project Manager","Manager","USA",{"$f":"VLOOKUP(tblSalaries[[#This Row],[Where do you work]],tblCountries[[Actual]:[Mapping]],2,FALSE)","v":"USA"},"4 to 6 hours a day",null,{"$f":"VLOOKUP(K226,tblCountries[],3,0)","v":"North Amer."},{"$f":"VLOOKUP(tblSalaries[[#This Row],[How many hours of a day you work on Excel]],tblHours,2,0)","v":4},{"$f":"VLOOKUP(tblSalaries[[#This Row],[clean Country]],tblCountries[],5,0)","v":1},{"$f":"IF($Q$1,tblSalaries[[#This Row],[PPP Factor]]*tblSalaries[[#This Row],[Salary in USD]],tblSalaries[[#This Row],[Salary in USD]])","v":50000}]
[null,"ID0228","2012-05-26T00:58:10",45000,45000,"CAD",{"$f":"tblSalaries[[#This Row],[clean Salary (in local currency)]]*VLOOKUP(tblSalaries[[#This Row],[Currency]],tblXrate[],2,FALSE)","v":44251.268536364711},"Technical support specialist","Specialist","Canada",{"$f":"VLOOKUP(tblSalaries[[#This Row],[Where do you work]],tblCountries[[Actual]:[Mapping]],2,FALSE)","v":"Canada"},"1 or 2 hours a day",null,{"$f":"VLOOKUP(K227,tblCountries[],3,0)","v":"North Amer."},{"$f":"VLOOKUP(tblSalaries[[#This Row],[How many hours of a day you work on Excel]],tblHours,2,0)","v":2},{"$f":"VLOOKUP(tblSalaries[[#This Row],[clean Country]],tblCountries[],5,0)","v":1.1935324732986359},{"$f":"IF($Q$1,tblSalaries[[#This Row],[PPP Factor]]*tblSalaries[[#This Row],[Salary in USD]],tblSalaries[[#This Row],[Salary in USD]])","v":44251.268536364711}]
[null,"ID0229","2012-05-26T00:58:22",43000,43000,"GBP",{"$f":"tblSalaries[[#This Row],[clean Salary (in local currency)]]*VLOOKUP(tblSalaries[[#This Row],[Currency]],tblXrate[],2,FALSE)","v":67775.665698893223},"ServiceDesk Supervisor","Manager","UK",{"$f":"VLOOKUP(tblSalaries[[#This Row],[Where do you work]],tblCountries[[Actual]:[Mapping]],2,FALSE)","v":"UK"},"2 to 3 hours per day",null,{"$f":"VLOOKUP(K228,tblCountries[],3,0)","v":"Europe"},{"$f":"VLOOKUP(tblSalaries[[#This Row],[How many hours of a day you work on Excel]],tblHours,2,0)","v":3},{"$f":"VLOOKUP(tblSalaries[[#This Row],[clean Country]],tblCountries[],5,0)","v":1.3407315045719035},{"$f":"IF($Q$1,tblSalaries[[#This Row],[PPP Factor]]*tblSalaries[[#This Row],[Salary in USD]],tblSalaries[[#This Row],[Salary in USD]])","v":67775.665698893223}]
[null,"ID0230","2012-05-26T00:58:56",200000,200000,"INR",{"$f":"tblSalaries[[#This Row],[clean Salary (in local currency)]]*VLOOKUP(tblSalaries[[#This Row],[Currency]],tblXrate[],2,FALSE)","v":3561.5833374885137},"medical biller","Analyst","India",{"$f":"VLOOKUP(tblSalaries[[#This Row],[Where do you work]],tblCountries[[Actual]:[Mapping]],2,FALSE)","v":"India"},"1 or 2 hours a day",null,{"$f":"VLOOKUP(K229,tblCountries[],3,0)","v":"Asia"},{"$f":"VLOOKUP(tblSalaries[[#This Row],[How many hours of a day you work on Excel]],tblHours,2,0)","v":2},{"$f":"VLOOKUP(tblSalaries[[#This Row],[clean Country]],tblCountries[],5,0)","v":13.098808879263672},{"$f":"IF($Q$1,tblSalaries[[#This Row],[PPP Factor]]*tblSalaries[[#This Row],[Salary in USD]],tblSalaries[[#This Row],[Salary in USD]])","v":3561.5833374885137}]
[null,"ID0231","2012-05-26T00:59:03",65000,65000,"USD",{"$f":"tblSalaries[[#This Row],[clean Salary (in local currency)]]*VLOOKUP(tblSalaries[[#This Row],[Currency]],tblXrate[],2,FALSE)","v":65000},"Sr. Strategic Development Specialist","Specialist","USA",{"$f":"VLOOKUP(tblSalaries[[#This Row],[Where do you work]],tblCountries[[Actual]:[Mapping]],2,FALSE)","v":"USA"},"2 to 3 hours per day",null,{"$f":"VLOOKUP(K230,tblCountries[],3,0)","v":"North Amer."},{"$f":"VLOOKUP(tblSalaries[[#This Row],[How many hours of a day you work on Excel]],tblHours,2,0)","v":3},{"$f":"VLOOKUP(tblSalaries[[#This Row],[clean Country]],tblCountries[],5,0)","v":1},{"$f":"IF($Q$1,tblSalaries[[#This Row],[PPP Factor]]*tblSalaries[[#This Row],[Salary in USD]],tblSalaries[[#This Row],[Salary in USD]])","v":65000}]
[null,"ID0232","2012-05-26T00:59:09",114000,114000,"USD",{"$f":"tblSalaries[[#This Row],[clean Salary (in local currency)]]*VLOOKUP(tblSalaries[[#This Row],[Currency]],tblXrate[],2,FALSE)","v":114000},"Director","CXO or Top Mgmt.","USA",{"$f":"VLOOKUP(tblSalaries[[#This Row],[Where do you work]],tblCountries[[Actual]:[Mapping]],2,FALSE)","v":"USA"},"2 to 3 hours per day",null,{"$f":"VLOOKUP(K231,tblCountries[],3,0)","v":"North Amer."},{"$f":"VLOOKUP(tblSalaries[[#This Row],[How many hours of a day you work on Excel]],tblHours,2,0)","v":3},{"$f":"VLOOKUP(tblSalaries[[#This Row],[clean Country]],tblCountries[],5,0)","v":1},{"$f":"IF($Q$1,tblSalaries[[#This Row],[PPP Factor]]*tblSalaries[[#This Row],[Salary in USD]],tblSalaries[[#This Row],[Salary in USD]])","v":114000}]
[null,"ID0233","2012-05-26T00:59:27",95000,95000,"USD",{"$f":"tblSalaries[[#This Row],[clean Salary (in local currency)]]*VLOOKUP(tblSalaries[[#This Row],[Currency]],tblXrate[],2,FALSE)","v":95000},"VP - Procurment","CXO or Top Mgmt.","USA",{"$f":"VLOOKUP(tblSalaries[[#This Row],[Where do you work]],tblCountries[[Actual]:[Mapping]],2,FALSE)","v":"USA"},"4 to 6 hours a day",null,{"$f":"VLOOKUP(K232,tblCountries[],3,0)","v":"North Amer."},{"$f":"VLOOKUP(tblSalaries[[#This Row],[How many hours of a day you work on Excel]],tblHours,2,0)","v":4},{"$f":"VLOOKUP(tblSalaries[[#This Row],[clean Country]],tblCountries[],5,0)","v":1},{"$f":"IF($Q$1,tblSalaries[[#This Row],[PPP Factor]]*tblSalaries[[#This Row],[Salary in USD]],tblSalaries[[#This Row],[Salary in USD]])","v":95000}]
[null,"ID0234","2012-05-26T01:00:51","52500.00 USD",52500,"USD",{"$f":"tblSalaries[[#This Row],[clean Salary (in local currency)]]*VLOOKUP(tblSalaries[[#This Row],[Currency]],tblXrate[],2,FALSE)","v":52500},"HRIS Analyst","Analyst","USA",{"$f":"VLOOKUP(tblSalaries[[#This Row],[Where do you work]],tblCountries[[Actual]:[Mapping]],2,FALSE)","v":"USA"},"4 to 6 hours a day",null,{"$f":"VLOOKUP(K233,tblCountries[],3,0)","v":"North Amer."},{"$f":"VLOOKUP(tblSalaries[[#This Row],[How many hours of a day you work on Excel]],tblHours,2,0)","v":4},{"$f":"VLOOKUP(tblSalaries[[#This Row],[clean Country]],tblCountries[],5,0)","v":1},{"$f":"IF($Q$1,tblSalaries[[#This Row],[PPP Factor]]*tblSalaries[[#This Row],[Salary in USD]],tblSalaries[[#This Row],[Salary in USD]])","v":52500}]
[null,"ID0235","2012-05-26T01:01:03",45000,45000,"GBP",{"$f":"tblSalaries[[#This Row],[clean Salary (in local currency)]]*VLOOKUP(tblSalaries[[#This Row],[Currency]],tblXrate[],2,FALSE)","v":70928.022243027779},"Procurement manager","Manager","UK",{"$f":"VLOOKUP(tblSalaries[[#This Row],[Where do you work]],tblCountries[[Actual]:[Mapping]],2,FALSE)","v":"UK"},"2 to 3 hours per day",null,{"$f":"VLOOKUP(K234,tblCountries[],3,0)","v":"Europe"},{"$f":"VLOOKUP(tblSalaries[[#This Row],[How many hours of a day you work on Excel]],tblHours,2,0)","v":3},{"$f":"VLOOKUP(tblSalaries[[#This Row],[clean Country]],tblCountries[],5,0)","v":1.3407315045719035},{"$f":"IF($Q$1,tblSalaries[[#This Row],[PPP Factor]]*tblSalaries[[#This Row],[Salary in USD]],tblSalaries[[#This Row],[Salary in USD]])","v":70928.022243027779}]
[null,"ID0236","2012-05-26T01:01:32",60000,60000,"USD",{"$f":"tblSalaries[[#This Row],[clean Salary (in local currency)]]*VLOOKUP(tblSalaries[[#This Row],[Currency]],tblXrate[],2,FALSE)","v":60000},"Energy Analyst","Analyst","USA",{"$f":"VLOOKUP(tblSalaries[[#This Row],[Where do you work]],tblCountries[[Actual]:[Mapping]],2,FALSE)","v":"USA"},"4 to 6 hours a day",null,{"$f":"VLOOKUP(K235,tblCountries[],3,0)","v":"North Amer."},{"$f":"VLOOKUP(tblSalaries[[#This Row],[How many hours of a day you work on Excel]],tblHours,2,0)","v":4},{"$f":"VLOOKUP(tblSalaries[[#This Row],[clean Country]],tblCountries[],5,0)","v":1},{"$f":"IF($Q$1,tblSalaries[[#This Row],[PPP Factor]]*tblSalaries[[#This Row],[Salary in USD]],tblSalaries[[#This Row],[Salary in USD]])","v":60000}]
[null,"ID0237","2012-05-26T01:02:04",65250,65250,"USD",{"$f":"tblSalaries[[#This Row],[clean Salary (in local currency)]]*VLOOKUP(tblSalaries[[#This Row],[Currency]],tblXrate[],2,FALSE)","v":65250},"Accountant","Accountant","USA",{"$f":"VLOOKUP(tblSalaries[[#This Row],[Where do you work]],tblCountries[[Actual]:[Mapping]],2,FALSE)","v":"USA"},"4 to 6 hours a day",null,{"$f":"VLOOKUP(K236,tblCountries[],3,0)","v":"North Amer."},{"$f":"VLOOKUP(tblSalaries[[#This Row],[How many hours of a day you work on Excel]],tblHours,2,0)","v":4},{"$f":"VLOOKUP(tblSalaries[[#This Row],[clean Country]],tblCountries[],5,0)","v":1},{"$f":"IF($Q$1,tblSalaries[[#This Row],[PPP Factor]]*tblSalaries[[#This Row],[Salary in USD]],tblSalaries[[#This Row],[Salary in USD]])","v":65250}]
[null,"ID0238","2012-05-26T01:02:07",1200000,1200000,"INR",{"$f":"tblSalaries[[#This Row],[clean Salary (in local currency)]]*VLOOKUP(tblSalaries[[#This Row],[Currency]],tblXrate[],2,FALSE)","v":21369.500024931083},"Branch head -sales","Manager","India",{"$f":"VLOOKUP(tblSalaries[[#This Row],[Where do you work]],tblCountries[[Actual]:[Mapping]],2,FALSE)","v":"India"},"2 to 3 hours per day",null,{"$f":"VLOOKUP(K237,tblCountries[],3,0)","v":"Asia"},{"$f":"VLOOKUP(tblSalaries[[#This Row],[How many hours of a day you work on Excel]],tblHours,2,0)","v":3},{"$f":"VLOOKUP(tblSalaries[[#This Row],[clean Country]],tblCountries[],5,0)","v":13.098808879263672},{"$f":"IF($Q$1,tblSalaries[[#This Row],[PPP Factor]]*tblSalaries[[#This Row],[Salary in USD]],tblSalaries[[#This Row],[Salary in USD]])","v":21369.500024931083}]
[null,"ID0239","2012-05-26T01:02:10",100000,100000,"CAD",{"$f":"tblSalaries[[#This Row],[clean Salary (in local currency)]]*VLOOKUP(tblSalaries[[#This Row],[Currency]],tblXrate[],2,FALSE)","v":98336.152303032693},"retail buyer","Manager","Canada",{"$f":"VLOOKUP(tblSalaries[[#This Row],[Where do you work]],tblCountries[[Actual]:[Mapping]],2,FALSE)","v":"Canada"},"2 to 3 hours per day",null,{"$f":"VLOOKUP(K238,tblCountries[],3,0)","v":"North Amer."},{"$f":"VLOOKUP(tblSalaries[[#This Row],[How many hours of a day you work on Excel]],tblHours,2,0)","v":3},{"$f":"VLOOKUP(tblSalaries[[#This Row],[clean Country]],tblCountries[],5,0)","v":1.1935324732986359},{"$f":"IF($Q$1,tblSalaries[[#This Row],[PPP Factor]]*tblSalaries[[#This Row],[Salary in USD]],tblSalaries[[#This Row],[Salary in USD]])","v":98336.152303032693}]
[null,"ID0240","2012-05-26T01:02:16","1000 â‚¬",12000,"EUR",{"$f":"tblSalaries[[#This Row],[clean Salary (in local currency)]]*VLOOKUP(tblSalaries[[#This Row],[Currency]],tblXrate[],2,FALSE)","v":15244.793267899293},"HR Specialist","Specialist","Portugal",{"$f":"VLOOKUP(tblSalaries[[#This Row],[Where do you work]],tblCountries[[Actual]:[Mapping]],2,FALSE)","v":"Portugal"},"All the 8 hours baby, all the 8!",null,{"$f":"VLOOKUP(K239,tblCountries[],3,0)","v":"Europe"},{"$f":"VLOOKUP(tblSalaries[[#This Row],[How many hours of a day you work on Excel]],tblHours,2,0)","v":5},{"$f":"VLOOKUP(tblSalaries[[#This Row],[clean Country]],tblCountries[],5,0)","v":2.0712726338769745},{"$f":"IF($Q$1,tblSalaries[[#This Row],[PPP Factor]]*tblSalaries[[#This Row],[Salary in USD]],tblSalaries[[#This Row],[Salary in USD]])","v":15244.793267899293}]
[null,"ID0241","2012-05-26T01:02:21",73000,73000,"USD",{"$f":"tblSalaries[[#This Row],[clean Salary (in local currency)]]*VLOOKUP(tblSalaries[[#This Row],[Currency]],tblXrate[],2,FALSE)","v":73000},"Financial Analyst","Analyst","USA",{"$f":"VLOOKUP(tblSalaries[[#This Row],[Where do you work]],tblCountries[[Actual]:[Mapping]],2,FALSE)","v":"USA"},"4 to 6 hours a day",null,{"$f":"VLOOKUP(K240,tblCountries[],3,0)","v":"North Amer."},{"$f":"VLOOKUP(tblSalaries[[#This Row],[How many hours of a day you work on Excel]],tblHours,2,0)","v":4},{"$f":"VLOOKUP(tblSalaries[[#This Row],[clean Country]],tblCountries[],5,0)","v":1},{"$f":"IF($Q$1,tblSalaries[[#This Row],[PPP Factor]]*tblSalaries[[#This Row],[Salary in USD]],tblSalaries[[#This Row],[Salary in USD]])","v":73000}]
[null,"ID0242","2012-05-26T01:02:47",50000,50000,"USD",{"$f":"tblSalaries[[#This Row],[clean Salary (in local currency)]]*VLOOKUP(tblSalaries[[#This Row],[Currency]],tblXrate[],2,FALSE)","v":50000},"data analyst","Analyst","USA",{"$f":"VLOOKUP(tblSalaries[[#This Row],[Where do you work]],tblCountries[[Actual]:[Mapping]],2,FALSE)","v":"USA"},"All the 8 hours baby, all the 8!",null,{"$f":"VLOOKUP(K241,tblCountries[],3,0)","v":"North Amer."},{"$f":"VLOOKUP(tblSalaries[[#This Row],[How many hours of a day you work on Excel]],tblHours,2,0)","v":5},{"$f":"VLOOKUP(tblSalaries[[#This Row],[clean Country]],tblCountries[],5,0)","v":1},{"$f":"IF($Q$1,tblSalaries[[#This Row],[PPP Factor]]*tblSalaries[[#This Row],[Salary in USD]],tblSalaries[[#This Row],[Salary in USD]])","v":50000}]
[null,"ID0243","2012-05-26T01:02:51",79000,79000,"USD",{"$f":"tblSalaries[[#This Row],[clean Salary (in local currency)]]*VLOOKUP(tblSalaries[[#This Row],[Currency]],tblXrate[],2,FALSE)","v":79000},"Director of Finance and Accounting","Accountant","USA",{"$f":"VLOOKUP(tblSalaries[[#This Row],[Where do you work]],tblCountries[[Actual]:[Mapping]],2,FALSE)","v":"USA"},"2 to 3 hours per day",null,{"$f":"VLOOKUP(K242,tblCountries[],3,0)","v":"North Amer."},{"$f":"VLOOKUP(tblSalaries[[#This Row],[How many hours of a day you work on Excel]],tblHours,2,0)","v":3},{"$f":"VLOOKUP(tblSalaries[[#This Row],[clean Country]],tblCountries[],5,0)","v":1},{"$f":"IF($Q$1,tblSalaries[[#This Row],[PPP Factor]]*tblSalaries[[#This Row],[Salary in USD]],tblSalaries[[#This Row],[Salary in USD]])","v":79000}]
[null,"ID0244","2012-05-26T01:03:07",90000,90000,"USD",{"$f":"tblSalaries[[#This Row],[clean Salary (in local currency)]]*VLOOKUP(tblSalaries[[#This Row],[Currency]],tblXrate[],2,FALSE)","v":90000},"Manager Business Control","Manager","USA",{"$f":"VLOOKUP(tblSalaries[[#This Row],[Where do you work]],tblCountries[[Actual]:[Mapping]],2,FALSE)","v":"USA"},"4 to 6 hours a day",null,{"$f":"VLOOKUP(K243,tblCountries[],3,0)","v":"North Amer."},{"$f":"VLOOKUP(tblSalaries[[#This Row],[How many hours of a day you work on Excel]],tblHours,2,0)","v":4},{"$f":"VLOOKUP(tblSalaries[[#This Row],[clean Country]],tblCountries[],5,0)","v":1},{"$f":"IF($Q$1,tblSalaries[[#This Row],[PPP Factor]]*tblSalaries[[#This Row],[Salary in USD]],tblSalaries[[#This Row],[Salary in USD]])","v":90000}]
[null,"ID0245","2012-05-26T01:03:28",70000,70000,"USD",{"$f":"tblSalaries[[#This Row],[clean Salary (in local currency)]]*VLOOKUP(tblSalaries[[#This Row],[Currency]],tblXrate[],2,FALSE)","v":70000},"Manager Pricing","Manager","USA",{"$f":"VLOOKUP(tblSalaries[[#This Row],[Where do you work]],tblCountries[[Actual]:[Mapping]],2,FALSE)","v":"USA"},"2 to 3 hours per day",null,{"$f":"VLOOKUP(K244,tblCountries[],3,0)","v":"North Amer."},{"$f":"VLOOKUP(tblSalaries[[#This Row],[How many hours of a day you work on Excel]],tblHours,2,0)","v":3},{"$f":"VLOOKUP(tblSalaries[[#This Row],[clean Country]],tblCountries[],5,0)","v":1},{"$f":"IF($Q$1,tblSalaries[[#This Row],[PPP Factor]]*tblSalaries[[#This Row],[Salary in USD]],tblSalaries[[#This Row],[Salary in USD]])","v":70000}]
[null,"ID0246","2012-05-26T01:03:34",65000,65000,"CAD",{"$f":"tblSalaries[[#This Row],[clean Salary (in local currency)]]*VLOOKUP(tblSalaries[[#This Row],[Currency]],tblXrate[],2,FALSE)","v":63918.498996971248},"Insurance Manager","Manager","Canada",{"$f":"VLOOKUP(tblSalaries[[#This Row],[Where do you work]],tblCountries[[Actual]:[Mapping]],2,FALSE)","v":"Canada"},"4 to 6 hours a day",null,{"$f":"VLOOKUP(K245,tblCountries[],3,0)","v":"North Amer."},{"$f":"VLOOKUP(tblSalaries[[#This Row],[How many hours of a day you work on Excel]],tblHours,2,0)","v":4},{"$f":"VLOOKUP(tblSalaries[[#This Row],[clean Country]],tblCountries[],5,0)","v":1.1935324732986359},{"$f":"IF($Q$1,tblSalaries[[#This Row],[PPP Factor]]*tblSalaries[[#This Row],[Salary in USD]],tblSalaries[[#This Row],[Salary in USD]])","v":63918.498996971248}]
[null,"ID0247","2012-05-26T01:03:52",80000,80000,"USD",{"$f":"tblSalaries[[#This Row],[clean Salary (in local currency)]]*VLOOKUP(tblSalaries[[#This Row],[Currency]],tblXrate[],2,FALSE)","v":80000},"Analyst","Analyst","USA",{"$f":"VLOOKUP(tblSalaries[[#This Row],[Where do you work]],tblCountries[[Actual]:[Mapping]],2,FALSE)","v":"USA"},"4 to 6 hours a day",null,{"$f":"VLOOKUP(K246,tblCountries[],3,0)","v":"North Amer."},{"$f":"VLOOKUP(tblSalaries[[#This Row],[How many hours of a day you work on Excel]],tblHours,2,0)","v":4},{"$f":"VLOOKUP(tblSalaries[[#This Row],[clean Country]],tblCountries[],5,0)","v":1},{"$f":"IF($Q$1,tblSalaries[[#This Row],[PPP Factor]]*tblSalaries[[#This Row],[Salary in USD]],tblSalaries[[#This Row],[Salary in USD]])","v":80000}]
[null,"ID0248","2012-05-26T01:03:54",140000,140000,"USD",{"$f":"tblSalaries[[#This Row],[clean Salary (in local currency)]]*VLOOKUP(tblSalaries[[#This Row],[Currency]],tblXrate[],2,FALSE)","v":140000},"Manager","Manager","USA",{"$f":"VLOOKUP(tblSalaries[[#This Row],[Where do you work]],tblCountries[[Actual]:[Mapping]],2,FALSE)","v":"USA"},"4 to 6 hours a day",null,{"$f":"VLOOKUP(K247,tblCountries[],3,0)","v":"North Amer."},{"$f":"VLOOKUP(tblSalaries[[#This Row],[How many hours of a day you work on Excel]],tblHours,2,0)","v":4},{"$f":"VLOOKUP(tblSalaries[[#This Row],[clean Country]],tblCountries[],5,0)","v":1},{"$f":"IF($Q$1,tblSalaries[[#This Row],[PPP Factor]]*tblSalaries[[#This Row],[Salary in USD]],tblSalaries[[#This Row],[Salary in USD]])","v":140000}]
[null,"ID0249","2012-05-26T01:04:13","US$ 96k",96000,"USD",{"$f":"tblSalaries[[#This Row],[clean Salary (in local currency)]]*VLOOKUP(tblSalaries[[#This Row],[Currency]],tblXrate[],2,FALSE)","v":96000},"Freellance","Consultant","Poland",{"$f":"VLOOKUP(tblSalaries[[#This Row],[Where do you work]],tblCountries[[Actual]:[Mapping]],2,FALSE)","v":"Poland"},"2 to 3 hours per day",null,{"$f":"VLOOKUP(K248,tblCountries[],3,0)","v":"Europe"},{"$f":"VLOOKUP(tblSalaries[[#This Row],[How many hours of a day you work on Excel]],tblHours,2,0)","v":3},{"$f":"VLOOKUP(tblSalaries[[#This Row],[clean Country]],tblCountries[],5,0)","v":2.3796105045736207},{"$f":"IF($Q$1,tblSalaries[[#This Row],[PPP Factor]]*tblSalaries[[#This Row],[Salary in USD]],tblSalaries[[#This Row],[Salary in USD]])","v":96000}]
[null,"ID0250","2012-05-26T01:04:17",20000,20000,"USD",{"$f":"tblSalaries[[#This Row],[clean Salary (in local currency)]]*VLOOKUP(tblSalaries[[#This Row],[Currency]],tblXrate[],2,FALSE)","v":20000},"category manager","Manager","India",{"$f":"VLOOKUP(tblSalaries[[#This Row],[Where do you work]],tblCountries[[Actual]:[Mapping]],2,FALSE)","v":"India"},"4 to 6 hours a day",null,{"$f":"VLOOKUP(K249,tblCountries[],3,0)","v":"Asia"},{"$f":"VLOOKUP(tblSalaries[[#This Row],[How many hours of a day you work on Excel]],tblHours,2,0)","v":4},{"$f":"VLOOKUP(tblSalaries[[#This Row],[clean Country]],tblCountries[],5,0)","v":13.098808879263672},{"$f":"IF($Q$1,tblSalaries[[#This Row],[PPP Factor]]*tblSalaries[[#This Row],[Salary in USD]],tblSalaries[[#This Row],[Salary in USD]])","v":20000}]
[null,"ID0251","2012-05-26T01:04:50",47700,47700,"USD",{"$f":"tblSalaries[[#This Row],[clean Salary (in local currency)]]*VLOOKUP(tblSalaries[[#This Row],[Currency]],tblXrate[],2,FALSE)","v":47700},"Customer Operations Analyst","Analyst","USA",{"$f":"VLOOKUP(tblSalaries[[#This Row],[Where do you work]],tblCountries[[Actual]:[Mapping]],2,FALSE)","v":"USA"},"4 to 6 hours a day",null,{"$f":"VLOOKUP(K250,tblCountries[],3,0)","v":"North Amer."},{"$f":"VLOOKUP(tblSalaries[[#This Row],[How many hours of a day you work on Excel]],tblHours,2,0)","v":4},{"$f":"VLOOKUP(tblSalaries[[#This Row],[clean Country]],tblCountries[],5,0)","v":1},{"$f":"IF($Q$1,tblSalaries[[#This Row],[PPP Factor]]*tblSalaries[[#This Row],[Salary in USD]],tblSalaries[[#This Row],[Salary in USD]])","v":47700}]
[null,"ID0252","2012-05-26T01:05:14",25000,25000,"USD",{"$f":"tblSalaries[[#This Row],[clean Salary (in local currency)]]*VLOOKUP(tblSalaries[[#This Row],[Currency]],tblXrate[],2,FALSE)","v":25000},"Team Lead","Manager","India",{"$f":"VLOOKUP(tblSalaries[[#This Row],[Where do you work]],tblCountries[[Actual]:[Mapping]],2,FALSE)","v":"India"},"1 or 2 hours a day",null,{"$f":"VLOOKUP(K251,tblCountries[],3,0)","v":"Asia"},{"$f":"VLOOKUP(tblSalaries[[#This Row],[How many hours of a day you work on Excel]],tblHours,2,0)","v":2},{"$f":"VLOOKUP(tblSalaries[[#This Row],[clean Country]],tblCountries[],5,0)","v":13.098808879263672},{"$f":"IF($Q$1,tblSalaries[[#This Row],[PPP Factor]]*tblSalaries[[#This Row],[Salary in USD]],tblSalaries[[#This Row],[Salary in USD]])","v":25000}]
[null,"ID0253","2012-05-26T01:05:18",52500,52500,"USD",{"$f":"tblSalaries[[#This Row],[clean Salary (in local currency)]]*VLOOKUP(tblSalaries[[#This Row],[Currency]],tblXrate[],2,FALSE)","v":52500},"Analyst","Analyst","USA",{"$f":"VLOOKUP(tblSalaries[[#This Row],[Where do you work]],tblCountries[[Actual]:[Mapping]],2,FALSE)","v":"USA"},"4 to 6 hours a day",null,{"$f":"VLOOKUP(K252,tblCountries[],3,0)","v":"North Amer."},{"$f":"VLOOKUP(tblSalaries[[#This Row],[How many hours of a day you work on Excel]],tblHours,2,0)","v":4},{"$f":"VLOOKUP(tblSalaries[[#This Row],[clean Country]],tblCountries[],5,0)","v":1},{"$f":"IF($Q$1,tblSalaries[[#This Row],[PPP Factor]]*tblSalaries[[#This Row],[Salary in USD]],tblSalaries[[#This Row],[Salary in USD]])","v":52500}]
[null,"ID0254","2012-05-26T01:05:27",40000,40000,"USD",{"$f":"tblSalaries[[#This Row],[clean Salary (in local currency)]]*VLOOKUP(tblSalaries[[#This Row],[Currency]],tblXrate[],2,FALSE)","v":40000},"Business Analyst","Analyst","USA",{"$f":"VLOOKUP(tblSalaries[[#This Row],[Where do you work]],tblCountries[[Actual]:[Mapping]],2,FALSE)","v":"USA"},"All the 8 hours baby, all the 8!",null,{"$f":"VLOOKUP(K253,tblCountries[],3,0)","v":"North Amer."},{"$f":"VLOOKUP(tblSalaries[[#This Row],[How many hours of a day you work on Excel]],tblHours,2,0)","v":5},{"$f":"VLOOKUP(tblSalaries[[#This Row],[clean Country]],tblCountries[],5,0)","v":1},{"$f":"IF($Q$1,tblSalaries[[#This Row],[PPP Factor]]*tblSalaries[[#This Row],[Salary in USD]],tblSalaries[[#This Row],[Salary in USD]])","v":40000}]
[null,"ID0255","2012-05-26T01:06:02","$31,000 USD",31000,"USD",{"$f":"tblSalaries[[#This Row],[clean Salary (in local currency)]]*VLOOKUP(tblSalaries[[#This Row],[Currency]],tblXrate[],2,FALSE)","v":31000},"Site Technician","Analyst","USA",{"$f":"VLOOKUP(tblSalaries[[#This Row],[Where do you work]],tblCountries[[Actual]:[Mapping]],2,FALSE)","v":"USA"},"4 to 6 hours a day",null,{"$f":"VLOOKUP(K254,tblCountries[],3,0)","v":"North Amer."},{"$f":"VLOOKUP(tblSalaries[[#This Row],[How many hours of a day you work on Excel]],tblHours,2,0)","v":4},{"$f":"VLOOKUP(tblSalaries[[#This Row],[clean Country]],tblCountries[],5,0)","v":1},{"$f":"IF($Q$1,tblSalaries[[#This Row],[PPP Factor]]*tblSalaries[[#This Row],[Salary in USD]],tblSalaries[[#This Row],[Salary in USD]])","v":31000}]
[null,"ID0256","2012-05-26T01:06:12",4390,52680,"GBP",{"$f":"tblSalaries[[#This Row],[clean Salary (in local currency)]]*VLOOKUP(tblSalaries[[#This Row],[Currency]],tblXrate[],2,FALSE)","v":83033.071372504521},"Excel Consultant","Consultant","UK",{"$f":"VLOOKUP(tblSalaries[[#This Row],[Where do you work]],tblCountries[[Actual]:[Mapping]],2,FALSE)","v":"UK"},"All the 8 hours baby, all the 8!",null,{"$f":"VLOOKUP(K255,tblCountries[],3,0)","v":"Europe"},{"$f":"VLOOKUP(tblSalaries[[#This Row],[How many hours of a day you work on Excel]],tblHours,2,0)","v":5},{"$f":"VLOOKUP(tblSalaries[[#This Row],[clean Country]],tblCountries[],5,0)","v":1.3407315045719035},{"$f":"IF($Q$1,tblSalaries[[#This Row],[PPP Factor]]*tblSalaries[[#This Row],[Salary in USD]],tblSalaries[[#This Row],[Salary in USD]])","v":83033.071372504521}]
[null,"ID0257","2012-05-26T01:06:31",130000,130000,"USD",{"$f":"tblSalaries[[#This Row],[clean Salary (in local currency)]]*VLOOKUP(tblSalaries[[#This Row],[Currency]],tblXrate[],2,FALSE)","v":130000},"Senior Project Manager","Manager","USA",{"$f":"VLOOKUP(tblSalaries[[#This Row],[Where do you work]],tblCountries[[Actual]:[Mapping]],2,FALSE)","v":"USA"},"4 to 6 hours a day",null,{"$f":"VLOOKUP(K256,tblCountries[],3,0)","v":"North Amer."},{"$f":"VLOOKUP(tblSalaries[[#This Row],[How many hours of a day you work on Excel]],tblHours,2,0)","v":4},{"$f":"VLOOKUP(tblSalaries[[#This Row],[clean Country]],tblCountries[],5,0)","v":1},{"$f":"IF($Q$1,tblSalaries[[#This Row],[PPP Factor]]*tblSalaries[[#This Row],[Salary in USD]],tblSalaries[[#This Row],[Salary in USD]])","v":130000}]
[null,"ID0258","2012-05-26T01:06:38","Rs 470000",470000,"INR",{"$f":"tblSalaries[[#This Row],[clean Salary (in local currency)]]*VLOOKUP(tblSalaries[[#This Row],[Currency]],tblXrate[],2,FALSE)","v":8369.7208430980063},"Web Statistics Analyst","Analyst","India",{"$f":"VLOOKUP(tblSalaries[[#This Row],[Where do you work]],tblCountries[[Actual]:[Mapping]],2,FALSE)","v":"India"},"All the 8 hours baby, all the 8!",null,{"$f":"VLOOKUP(K257,tblCountries[],3,0)","v":"Asia"},{"$f":"VLOOKUP(tblSalaries[[#This Row],[How many hours of a day you work on Excel]],tblHours,2,0)","v":5},{"$f":"VLOOKUP(tblSalaries[[#This Row],[clean Country]],tblCountries[],5,0)","v":13.098808879263672},{"$f":"IF($Q$1,tblSalaries[[#This Row],[PPP Factor]]*tblSalaries[[#This Row],[Salary in USD]],tblSalaries[[#This Row],[Salary in USD]])","v":8369.7208430980063}]
[null,"ID0259","2012-05-26T01:07:02",51000,51000,"USD",{"$f":"tblSalaries[[#This Row],[clean Salary (in local currency)]]*VLOOKUP(tblSalaries[[#This Row],[Currency]],tblXrate[],2,FALSE)","v":51000},"Business Data Analyst I","Analyst","USA",{"$f":"VLOOKUP(tblSalaries[[#This Row],[Where do you work]],tblCountries[[Actual]:[Mapping]],2,FALSE)","v":"USA"},"2 to 3 hours per day",null,{"$f":"VLOOKUP(K258,tblCountries[],3,0)","v":"North Amer."},{"$f":"VLOOKUP(tblSalaries[[#This Row],[How many hours of a day you work on Excel]],tblHours,2,0)","v":3},{"$f":"VLOOKUP(tblSalaries[[#This Row],[clean Country]],tblCountries[],5,0)","v":1},{"$f":"IF($Q$1,tblSalaries[[#This Row],[PPP Factor]]*tblSalaries[[#This Row],[Salary in USD]],tblSalaries[[#This Row],[Salary in USD]])","v":51000}]
[null,"ID0260","2012-05-26T01:07:18","Â£60000",60000,"GBP",{"$f":"tblSalaries[[#This Row],[clean Salary (in local currency)]]*VLOOKUP(tblSalaries[[#This Row],[Currency]],tblXrate[],2,FALSE)","v":94570.696324037053},"Decision Analyst & Modeller","Analyst","UK",{"$f":"VLOOKUP(tblSalaries[[#This Row],[Where do you work]],tblCountries[[Actual]:[Mapping]],2,FALSE)","v":"UK"},"All the 8 hours baby, all the 8!",null,{"$f":"VLOOKUP(K259,tblCountries[],3,0)","v":"Europe"},{"$f":"VLOOKUP(tblSalaries[[#This Row],[How many hours of a day you work on Excel]],tblHours,2,0)","v":5},{"$f":"VLOOKUP(tblSalaries[[#This Row],[clean Country]],tblCountries[],5,0)","v":1.3407315045719035},{"$f":"IF($Q$1,tblSalaries[[#This Row],[PPP Factor]]*tblSalaries[[#This Row],[Salary in USD]],tblSalaries[[#This Row],[Salary in USD]])","v":94570.696324037053}]
[null,"ID0261","2012-05-26T01:07:42",1920000,1920000,"INR",{"$f":"tblSalaries[[#This Row],[clean Salary (in local currency)]]*VLOOKUP(tblSalaries[[#This Row],[Currency]],tblXrate[],2,FALSE)","v":34191.200039889729},"Project Manager","Manager","India",{"$f":"VLOOKUP(tblSalaries[[#This Row],[Where do you work]],tblCountries[[Actual]:[Mapping]],2,FALSE)","v":"India"},"2 to 3 hours per day",null,{"$f":"VLOOKUP(K260,tblCountries[],3,0)","v":"Asia"},{"$f":"VLOOKUP(tblSalaries[[#This Row],[How many hours of a day you work on Excel]],tblHours,2,0)","v":3},{"$f":"VLOOKUP(tblSalaries[[#This Row],[clean Country]],tblCountries[],5,0)","v":13.098808879263672},{"$f":"IF($Q$1,tblSalaries[[#This Row],[PPP Factor]]*tblSalaries[[#This Row],[Salary in USD]],tblSalaries[[#This Row],[Salary in USD]])","v":34191.200039889729}]
[null,"ID0262","2012-05-26T01:08:00",28000,28000,"GBP",{"$f":"tblSalaries[[#This Row],[clean Salary (in local currency)]]*VLOOKUP(tblSalaries[[#This Row],[Currency]],tblXrate[],2,FALSE)","v":44132.991617883956},"Ops Adminstrator","Analyst","UK",{"$f":"VLOOKUP(tblSalaries[[#This Row],[Where do you work]],tblCountries[[Actual]:[Mapping]],2,FALSE)","v":"UK"},"All the 8 hours baby, all the 8!",null,{"$f":"VLOOKUP(K261,tblCountries[],3,0)","v":"Europe"},{"$f":"VLOOKUP(tblSalaries[[#This Row],[How many hours of a day you work on Excel]],tblHours,2,0)","v":5},{"$f":"VLOOKUP(tblSalaries[[#This Row],[clean Country]],tblCountries[],5,0)","v":1.3407315045719035},{"$f":"IF($Q$1,tblSalaries[[#This Row],[PPP Factor]]*tblSalaries[[#This Row],[Salary in USD]],tblSalaries[[#This Row],[Salary in USD]])","v":44132.991617883956}]
[null,"ID0263","2012-05-26T01:08:04",73000,73000,"USD",{"$f":"tblSalaries[[#This Row],[clean Salary (in local currency)]]*VLOOKUP(tblSalaries[[#This Row],[Currency]],tblXrate[],2,FALSE)","v":73000},"Sr. Global marketing Specialist","Specialist","USA",{"$f":"VLOOKUP(tblSalaries[[#This Row],[Where do you work]],tblCountries[[Actual]:[Mapping]],2,FALSE)","v":"USA"},"4 to 6 hours a day",null,{"$f":"VLOOKUP(K262,tblCountries[],3,0)","v":"North Amer."},{"$f":"VLOOKUP(tblSalaries[[#This Row],[How many hours of a day you work on Excel]],tblHours,2,0)","v":4},{"$f":"VLOOKUP(tblSalaries[[#This Row],[clean Country]],tblCountries[],5,0)","v":1},{"$f":"IF($Q$1,tblSalaries[[#This Row],[PPP Factor]]*tblSalaries[[#This Row],[Salary in USD]],tblSalaries[[#This Row],[Salary in USD]])","v":73000}]
[null,"ID0264","2012-05-26T01:08:19",62400,62400,"USD",{"$f":"tblSalaries[[#This Row],[clean Salary (in local currency)]]*VLOOKUP(tblSalaries[[#This Row],[Currency]],tblXrate[],2,FALSE)","v":62400},"financial accountant","Accountant","USA",{"$f":"VLOOKUP(tblSalaries[[#This Row],[Where do you work]],tblCountries[[Actual]:[Mapping]],2,FALSE)","v":"USA"},"All the 8 hours baby, all the 8!",null,{"$f":"VLOOKUP(K263,tblCountries[],3,0)","v":"North Amer."},{"$f":"VLOOKUP(tblSalaries[[#This Row],[How many hours of a day you work on Excel]],tblHours,2,0)","v":5},{"$f":"VLOOKUP(tblSalaries[[#This Row],[clean Country]],tblCountries[],5,0)","v":1},{"$f":"IF($Q$1,tblSalaries[[#This Row],[PPP Factor]]*tblSalaries[[#This Row],[Salary in USD]],tblSalaries[[#This Row],[Salary in USD]])","v":62400}]
[null,"ID0265","2012-05-26T01:08:21",2300,27600,"USD",{"$f":"tblSalaries[[#This Row],[clean Salary (in local currency)]]*VLOOKUP(tblSalaries[[#This Row],[Currency]],tblXrate[],2,FALSE)","v":27600},"Software Consultant","Consultant","Singapore",{"$f":"VLOOKUP(tblSalaries[[#This Row],[Where do you work]],tblCountries[[Actual]:[Mapping]],2,FALSE)","v":"Singapore"},"All the 8 hours baby, all the 8!",null,{"$f":"VLOOKUP(K264,tblCountries[],3,0)","v":"Asia"},{"$f":"VLOOKUP(tblSalaries[[#This Row],[How many hours of a day you work on Excel]],tblHours,2,0)","v":5},{"$f":"VLOOKUP(tblSalaries[[#This Row],[clean Country]],tblCountries[],5,0)","v":0.81035320125270049},{"$f":"IF($Q$1,tblSalaries[[#This Row],[PPP Factor]]*tblSalaries[[#This Row],[Salary in USD]],tblSalaries[[#This Row],[Salary in USD]])","v":27600}]
[null,"ID0266","2012-05-26T01:08:35",54000,54000,"USD",{"$f":"tblSalaries[[#This Row],[clean Salary (in local currency)]]*VLOOKUP(tblSalaries[[#This Row],[Currency]],tblXrate[],2,FALSE)","v":54000},"Anaylst","Manager","USA",{"$f":"VLOOKUP(tblSalaries[[#This Row],[Where do you work]],tblCountries[[Actual]:[Mapping]],2,FALSE)","v":"USA"},"All the 8 hours baby, all the 8!",null,{"$f":"VLOOKUP(K265,tblCountries[],3,0)","v":"North Amer."},{"$f":"VLOOKUP(tblSalaries[[#This Row],[How many hours of a day you work on Excel]],tblHours,2,0)","v":5},{"$f":"VLOOKUP(tblSalaries[[#This Row],[clean Country]],tblCountries[],5,0)","v":1},{"$f":"IF($Q$1,tblSalaries[[#This Row],[PPP Factor]]*tblSalaries[[#This Row],[Salary in USD]],tblSalaries[[#This Row],[Salary in USD]])","v":54000}]
[null,"ID0267","2012-05-26T01:08:39","rs 2.76 lakhs per year",276000,"INR",{"$f":"tblSalaries[[#This Row],[clean Salary (in local currency)]]*VLOOKUP(tblSalaries[[#This Row],[Currency]],tblXrate[],2,FALSE)","v":4914.9850057341491},"analyst","Analyst","India",{"$f":"VLOOKUP(tblSalaries[[#This Row],[Where do you work]],tblCountries[[Actual]:[Mapping]],2,FALSE)","v":"India"},"All the 8 hours baby, all the 8!",null,{"$f":"VLOOKUP(K266,tblCountries[],3,0)","v":"Asia"},{"$f":"VLOOKUP(tblSalaries[[#This Row],[How many hours of a day you work on Excel]],tblHours,2,0)","v":5},{"$f":"VLOOKUP(tblSalaries[[#This Row],[clean Country]],tblCountries[],5,0)","v":13.098808879263672},{"$f":"IF($Q$1,tblSalaries[[#This Row],[PPP Factor]]*tblSalaries[[#This Row],[Salary in USD]],tblSalaries[[#This Row],[Salary in USD]])","v":4914.9850057341491}]
[null,"ID0268","2012-05-26T01:08:42","$77,000 USD",77000,"USD",{"$f":"tblSalaries[[#This Row],[clean Salary (in local currency)]]*VLOOKUP(tblSalaries[[#This Row],[Currency]],tblXrate[],2,FALSE)","v":77000},"senior accounting coordinator","Accountant","USA",{"$f":"VLOOKUP(tblSalaries[[#This Row],[Where do you work]],tblCountries[[Actual]:[Mapping]],2,FALSE)","v":"USA"},"4 to 6 hours a day",null,{"$f":"VLOOKUP(K267,tblCountries[],3,0)","v":"North Amer."},{"$f":"VLOOKUP(tblSalaries[[#This Row],[How many hours of a day you work on Excel]],tblHours,2,0)","v":4},{"$f":"VLOOKUP(tblSalaries[[#This Row],[clean Country]],tblCountries[],5,0)","v":1},{"$f":"IF($Q$1,tblSalaries[[#This Row],[PPP Factor]]*tblSalaries[[#This Row],[Salary in USD]],tblSalaries[[#This Row],[Salary in USD]])","v":77000}]
[null,"ID0269","2012-05-26T01:09:01",76000,76000,"USD",{"$f":"tblSalaries[[#This Row],[clean Salary (in local currency)]]*VLOOKUP(tblSalaries[[#This Row],[Currency]],tblXrate[],2,FALSE)","v":76000},"Demand Planning Mgr","Manager","USA",{"$f":"VLOOKUP(tblSalaries[[#This Row],[Where do you work]],tblCountries[[Actual]:[Mapping]],2,FALSE)","v":"USA"},"All the 8 hours baby, all the 8!",null,{"$f":"VLOOKUP(K268,tblCountries[],3,0)","v":"North Amer."},{"$f":"VLOOKUP(tblSalaries[[#This Row],[How many hours of a day you work on Excel]],tblHours,2,0)","v":5},{"$f":"VLOOKUP(tblSalaries[[#This Row],[clean Country]],tblCountries[],5,0)","v":1},{"$f":"IF($Q$1,tblSalaries[[#This Row],[PPP Factor]]*tblSalaries[[#This Row],[Salary in USD]],tblSalaries[[#This Row],[Salary in USD]])","v":76000}]
[null,"ID0270","2012-05-26T01:09:32",103000,103000,"USD",{"$f":"tblSalaries[[#This Row],[clean Salary (in local currency)]]*VLOOKUP(tblSalaries[[#This Row],[Currency]],tblXrate[],2,FALSE)","v":103000},"VP / Credit Administrator","CXO or Top Mgmt.","USA",{"$f":"VLOOKUP(tblSalaries[[#This Row],[Where do you work]],tblCountries[[Actual]:[Mapping]],2,FALSE)","v":"USA"},"2 to 3 hours per day",null,{"$f":"VLOOKUP(K269,tblCountries[],3,0)","v":"North Amer."},{"$f":"VLOOKUP(tblSalaries[[#This Row],[How many hours of a day you work on Excel]],tblHours,2,0)","v":3},{"$f":"VLOOKUP(tblSalaries[[#This Row],[clean Country]],tblCountries[],5,0)","v":1},{"$f":"IF($Q$1,tblSalaries[[#This Row],[PPP Factor]]*tblSalaries[[#This Row],[Salary in USD]],tblSalaries[[#This Row],[Salary in USD]])","v":103000}]
[null,"ID0271","2012-05-26T01:09:34",7600,7600,"USD",{"$f":"tblSalaries[[#This Row],[clean Salary (in local currency)]]*VLOOKUP(tblSalaries[[#This Row],[Currency]],tblXrate[],2,FALSE)","v":7600},"DP specialist","Specialist","Ukraine",{"$f":"VLOOKUP(tblSalaries[[#This Row],[Where do you work]],tblCountries[[Actual]:[Mapping]],2,FALSE)","v":"Ukraine"},"1 or 2 hours a day",null,{"$f":"VLOOKUP(K270,tblCountries[],3,0)","v":"Europe"},{"$f":"VLOOKUP(tblSalaries[[#This Row],[How many hours of a day you work on Excel]],tblHours,2,0)","v":2},{"$f":"VLOOKUP(tblSalaries[[#This Row],[clean Country]],tblCountries[],5,0)","v":6.6897552882621323},{"$f":"IF($Q$1,tblSalaries[[#This Row],[PPP Factor]]*tblSalaries[[#This Row],[Salary in USD]],tblSalaries[[#This Row],[Salary in USD]])","v":7600}]
[null,"ID0272","2012-05-26T01:09:56",40000,40000,"USD",{"$f":"tblSalaries[[#This Row],[clean Salary (in local currency)]]*VLOOKUP(tblSalaries[[#This Row],[Currency]],tblXrate[],2,FALSE)","v":40000},"Analyst 2","Analyst","USA",{"$f":"VLOOKUP(tblSalaries[[#This Row],[Where do you work]],tblCountries[[Actual]:[Mapping]],2,FALSE)","v":"USA"},"4 to 6 hours a day",null,{"$f":"VLOOKUP(K271,tblCountries[],3,0)","v":"North Amer."},{"$f":"VLOOKUP(tblSalaries[[#This Row],[How many hours of a day you work on Excel]],tblHours,2,0)","v":4},{"$f":"VLOOKUP(tblSalaries[[#This Row],[clean Country]],tblCountries[],5,0)","v":1},{"$f":"IF($Q$1,tblSalaries[[#This Row],[PPP Factor]]*tblSalaries[[#This Row],[Salary in USD]],tblSalaries[[#This Row],[Salary in USD]])","v":40000}]
[null,"ID0273","2012-05-26T01:10:20",80000,80000,"USD",{"$f":"tblSalaries[[#This Row],[clean Salary (in local currency)]]*VLOOKUP(tblSalaries[[#This Row],[Currency]],tblXrate[],2,FALSE)","v":80000},"VP","CXO or Top Mgmt.","USA",{"$f":"VLOOKUP(tblSalaries[[#This Row],[Where do you work]],tblCountries[[Actual]:[Mapping]],2,FALSE)","v":"USA"},"2 to 3 hours per day",null,{"$f":"VLOOKUP(K272,tblCountries[],3,0)","v":"North Amer."},{"$f":"VLOOKUP(tblSalaries[[#This Row],[How many hours of a day you work on Excel]],tblHours,2,0)","v":3},{"$f":"VLOOKUP(tblSalaries[[#This Row],[clean Country]],tblCountries[],5,0)","v":1},{"$f":"IF($Q$1,tblSalaries[[#This Row],[PPP Factor]]*tblSalaries[[#This Row],[Salary in USD]],tblSalaries[[#This Row],[Salary in USD]])","v":80000}]
[null,"ID0274","2012-05-26T01:10:24",55000,55000,"USD",{"$f":"tblSalaries[[#This Row],[clean Salary (in local currency)]]*VLOOKUP(tblSalaries[[#This Row],[Currency]],tblXrate[],2,FALSE)","v":55000},"data analyst","Analyst","USA",{"$f":"VLOOKUP(tblSalaries[[#This Row],[Where do you work]],tblCountries[[Actual]:[Mapping]],2,FALSE)","v":"USA"},"All the 8 hours baby, all the 8!",null,{"$f":"VLOOKUP(K273,tblCountries[],3,0)","v":"North Amer."},{"$f":"VLOOKUP(tblSalaries[[#This Row],[How many hours of a day you work on Excel]],tblHours,2,0)","v":5},{"$f":"VLOOKUP(tblSalaries[[#This Row],[clean Country]],tblCountries[],5,0)","v":1},{"$f":"IF($Q$1,tblSalaries[[#This Row],[PPP Factor]]*tblSalaries[[#This Row],[Salary in USD]],tblSalaries[[#This Row],[Salary in USD]])","v":55000}]
[null,"ID0275","2012-05-26T01:10:55",99000,99000,"USD",{"$f":"tblSalaries[[#This Row],[clean Salary (in local currency)]]*VLOOKUP(tblSalaries[[#This Row],[Currency]],tblXrate[],2,FALSE)","v":99000},"Business Analyst","Analyst","USA",{"$f":"VLOOKUP(tblSalaries[[#This Row],[Where do you work]],tblCountries[[Actual]:[Mapping]],2,FALSE)","v":"USA"},"2 to 3 hours per day",null,{"$f":"VLOOKUP(K274,tblCountries[],3,0)","v":"North Amer."},{"$f":"VLOOKUP(tblSalaries[[#This Row],[How many hours of a day you work on Excel]],tblHours,2,0)","v":3},{"$f":"VLOOKUP(tblSalaries[[#This Row],[clean Country]],tblCountries[],5,0)","v":1},{"$f":"IF($Q$1,tblSalaries[[#This Row],[PPP Factor]]*tblSalaries[[#This Row],[Salary in USD]],tblSalaries[[#This Row],[Salary in USD]])","v":99000}]
[null,"ID0276","2012-05-26T01:10:56","35,000 Philippine Peso",420000,"PHP",{"$f":"tblSalaries[[#This Row],[clean Salary (in local currency)]]*VLOOKUP(tblSalaries[[#This Row],[Currency]],tblXrate[],2,FALSE)","v":9956.1219482708348},"Global Problem Management - IT","Manager","Philippines",{"$f":"VLOOKUP(tblSalaries[[#This Row],[Where do you work]],tblCountries[[Actual]:[Mapping]],2,FALSE)","v":"Philippines"},"4 to 6 hours a day",null,{"$f":"VLOOKUP(K275,tblCountries[],3,0)","v":"Asia"},{"$f":"VLOOKUP(tblSalaries[[#This Row],[How many hours of a day you work on Excel]],tblHours,2,0)","v":4},{"$f":"VLOOKUP(tblSalaries[[#This Row],[clean Country]],tblCountries[],5,0)","v":11.879941075374417},{"$f":"IF($Q$1,tblSalaries[[#This Row],[PPP Factor]]*tblSalaries[[#This Row],[Salary in USD]],tblSalaries[[#This Row],[Salary in USD]])","v":9956.1219482708348}]
[null,"ID0277","2012-05-26T01:11:12",75000,75000,"USD",{"$f":"tblSalaries[[#This Row],[clean Salary (in local currency)]]*VLOOKUP(tblSalaries[[#This Row],[Currency]],tblXrate[],2,FALSE)","v":75000},"financial analyst","Analyst","USA",{"$f":"VLOOKUP(tblSalaries[[#This Row],[Where do you work]],tblCountries[[Actual]:[Mapping]],2,FALSE)","v":"USA"},"4 to 6 hours a day",null,{"$f":"VLOOKUP(K276,tblCountries[],3,0)","v":"North Amer."},{"$f":"VLOOKUP(tblSalaries[[#This Row],[How many hours of a day you work on Excel]],tblHours,2,0)","v":4},{"$f":"VLOOKUP(tblSalaries[[#This Row],[clean Country]],tblCountries[],5,0)","v":1},{"$f":"IF($Q$1,tblSalaries[[#This Row],[PPP Factor]]*tblSalaries[[#This Row],[Salary in USD]],tblSalaries[[#This Row],[Salary in USD]])","v":75000}]
[null,"ID0278","2012-05-26T01:11:54",80000,80000,"USD",{"$f":"tblSalaries[[#This Row],[clean Salary (in local currency)]]*VLOOKUP(tblSalaries[[#This Row],[Currency]],tblXrate[],2,FALSE)","v":80000},"Enterprise Performance Metrics Manager","Manager","USA",{"$f":"VLOOKUP(tblSalaries[[#This Row],[Where do you work]],tblCountries[[Actual]:[Mapping]],2,FALSE)","v":"USA"},"2 to 3 hours per day",null,{"$f":"VLOOKUP(K277,tblCountries[],3,0)","v":"North Amer."},{"$f":"VLOOKUP(tblSalaries[[#This Row],[How many hours of a day you work on Excel]],tblHours,2,0)","v":3},{"$f":"VLOOKUP(tblSalaries[[#This Row],[clean Country]],tblCountries[],5,0)","v":1},{"$f":"IF($Q$1,tblSalaries[[#This Row],[PPP Factor]]*tblSalaries[[#This Row],[Salary in USD]],tblSalaries[[#This Row],[Salary in USD]])","v":80000}]
[null,"ID0279","2012-05-26T01:12:41",20000,20000,"USD",{"$f":"tblSalaries[[#This Row],[clean Salary (in local currency)]]*VLOOKUP(tblSalaries[[#This Row],[Currency]],tblXrate[],2,FALSE)","v":20000},"Analyst","Analyst","India",{"$f":"VLOOKUP(tblSalaries[[#This Row],[Where do you work]],tblCountries[[Actual]:[Mapping]],2,FALSE)","v":"India"},"All the 8 hours baby, all the 8!",null,{"$f":"VLOOKUP(K278,tblCountries[],3,0)","v":"Asia"},{"$f":"VLOOKUP(tblSalaries[[#This Row],[How many hours of a day you work on Excel]],tblHours,2,0)","v":5},{"$f":"VLOOKUP(tblSalaries[[#This Row],[clean Country]],tblCountries[],5,0)","v":13.098808879263672},{"$f":"IF($Q$1,tblSalaries[[#This Row],[PPP Factor]]*tblSalaries[[#This Row],[Salary in USD]],tblSalaries[[#This Row],[Salary in USD]])","v":20000}]
[null,"ID0280","2012-05-26T01:13:50",40000,40000,"USD",{"$f":"tblSalaries[[#This Row],[clean Salary (in local currency)]]*VLOOKUP(tblSalaries[[#This Row],[Currency]],tblXrate[],2,FALSE)","v":40000},"Business Analyst","Analyst","USA",{"$f":"VLOOKUP(tblSalaries[[#This Row],[Where do you work]],tblCountries[[Actual]:[Mapping]],2,FALSE)","v":"USA"},"All the 8 hours baby, all the 8!",null,{"$f":"VLOOKUP(K279,tblCountries[],3,0)","v":"North Amer."},{"$f":"VLOOKUP(tblSalaries[[#This Row],[How many hours of a day you work on Excel]],tblHours,2,0)","v":5},{"$f":"VLOOKUP(tblSalaries[[#This Row],[clean Country]],tblCountries[],5,0)","v":1},{"$f":"IF($Q$1,tblSalaries[[#This Row],[PPP Factor]]*tblSalaries[[#This Row],[Salary in USD]],tblSalaries[[#This Row],[Salary in USD]])","v":40000}]
[null,"ID0281","2012-05-26T01:14:27",46000,46000,"USD",{"$f":"tblSalaries[[#This Row],[clean Salary (in local currency)]]*VLOOKUP(tblSalaries[[#This Row],[Currency]],tblXrate[],2,FALSE)","v":46000},"University Relations Intern","Analyst","USA",{"$f":"VLOOKUP(tblSalaries[[#This Row],[Where do you work]],tblCountries[[Actual]:[Mapping]],2,FALSE)","v":"USA"},"All the 8 hours baby, all the 8!",null,{"$f":"VLOOKUP(K280,tblCountries[],3,0)","v":"North Amer."},{"$f":"VLOOKUP(tblSalaries[[#This Row],[How many hours of a day you work on Excel]],tblHours,2,0)","v":5},{"$f":"VLOOKUP(tblSalaries[[#This Row],[clean Country]],tblCountries[],5,0)","v":1},{"$f":"IF($Q$1,tblSalaries[[#This Row],[PPP Factor]]*tblSalaries[[#This Row],[Salary in USD]],tblSalaries[[#This Row],[Salary in USD]])","v":46000}]
[null,"ID0282","2012-05-26T01:14:55",14000,14000,"USD",{"$f":"tblSalaries[[#This Row],[clean Salary (in local currency)]]*VLOOKUP(tblSalaries[[#This Row],[Currency]],tblXrate[],2,FALSE)","v":14000},"Auxiliar Administrativo","Analyst","Brazil",{"$f":"VLOOKUP(tblSalaries[[#This Row],[Where do you work]],tblCountries[[Actual]:[Mapping]],2,FALSE)","v":"Brazil"},"1 or 2 hours a day",null,{"$f":"VLOOKUP(K281,tblCountries[],3,0)","v":"South Amer."},{"$f":"VLOOKUP(tblSalaries[[#This Row],[How many hours of a day you work on Excel]],tblHours,2,0)","v":2},{"$f":"VLOOKUP(tblSalaries[[#This Row],[clean Country]],tblCountries[],5,0)","v":4.1113943410655107},{"$f":"IF($Q$1,tblSalaries[[#This Row],[PPP Factor]]*tblSalaries[[#This Row],[Salary in USD]],tblSalaries[[#This Row],[Salary in USD]])","v":14000}]
[null,"ID0283","2012-05-26T01:15:05",70000,70000,"USD",{"$f":"tblSalaries[[#This Row],[clean Salary (in local currency)]]*VLOOKUP(tblSalaries[[#This Row],[Currency]],tblXrate[],2,FALSE)","v":70000},"Engineering Tech Sr.","Engineer","USA",{"$f":"VLOOKUP(tblSalaries[[#This Row],[Where do you work]],tblCountries[[Actual]:[Mapping]],2,FALSE)","v":"USA"},"All the 8 hours baby, all the 8!",null,{"$f":"VLOOKUP(K282,tblCountries[],3,0)","v":"North Amer."},{"$f":"VLOOKUP(tblSalaries[[#This Row],[How many hours of a day you work on Excel]],tblHours,2,0)","v":5},{"$f":"VLOOKUP(tblSalaries[[#This Row],[clean Country]],tblCountries[],5,0)","v":1},{"$f":"IF($Q$1,tblSalaries[[#This Row],[PPP Factor]]*tblSalaries[[#This Row],[Salary in USD]],tblSalaries[[#This Row],[Salary in USD]])","v":70000}]
[null,"ID0284","2012-05-26T01:15:12","36000 $",36000,"USD",{"$f":"tblSalaries[[#This Row],[clean Salary (in local currency)]]*VLOOKUP(tblSalaries[[#This Row],[Currency]],tblXrate[],2,FALSE)","v":36000},"Senior Specialist","Specialist","Russia",{"$f":"VLOOKUP(tblSalaries[[#This Row],[Where do you work]],tblCountries[[Actual]:[Mapping]],2,FALSE)","v":"Russia"},"4 to 6 hours a day",null,{"$f":"VLOOKUP(K283,tblCountries[],3,0)","v":"Asia"},{"$f":"VLOOKUP(tblSalaries[[#This Row],[How many hours of a day you work on Excel]],tblHours,2,0)","v":4},{"$f":"VLOOKUP(tblSalaries[[#This Row],[clean Country]],tblCountries[],5,0)","v":2.8911926386233269},{"$f":"IF($Q$1,tblSalaries[[#This Row],[PPP Factor]]*tblSalaries[[#This Row],[Salary in USD]],tblSalaries[[#This Row],[Salary in USD]])","v":36000}]
[null,"ID0285","2012-05-26T01:15:25",15000,15000,"USD",{"$f":"tblSalaries[[#This Row],[clean Salary (in local currency)]]*VLOOKUP(tblSalaries[[#This Row],[Currency]],tblXrate[],2,FALSE)","v":15000},"moneymaker","Manager","USA",{"$f":"VLOOKUP(tblSalaries[[#This Row],[Where do you work]],tblCountries[[Actual]:[Mapping]],2,FALSE)","v":"USA"},"2 to 3 hours per day",null,{"$f":"VLOOKUP(K284,tblCountries[],3,0)","v":"North Amer."},{"$f":"VLOOKUP(tblSalaries[[#This Row],[How many hours of a day you work on Excel]],tblHours,2,0)","v":3},{"$f":"VLOOKUP(tblSalaries[[#This Row],[clean Country]],tblCountries[],5,0)","v":1},{"$f":"IF($Q$1,tblSalaries[[#This Row],[PPP Factor]]*tblSalaries[[#This Row],[Salary in USD]],tblSalaries[[#This Row],[Salary in USD]])","v":15000}]
[null,"ID0286","2012-05-26T01:16:18","INR 15,00,000",1500000,"INR",{"$f":"tblSalaries[[#This Row],[clean Salary (in local currency)]]*VLOOKUP(tblSalaries[[#This Row],[Currency]],tblXrate[],2,FALSE)","v":26711.875031163851},"Consultant","Consultant","India",{"$f":"VLOOKUP(tblSalaries[[#This Row],[Where do you work]],tblCountries[[Actual]:[Mapping]],2,FALSE)","v":"India"},"All the 8 hours baby, all the 8!",null,{"$f":"VLOOKUP(K285,tblCountries[],3,0)","v":"Asia"},{"$f":"VLOOKUP(tblSalaries[[#This Row],[How many hours of a day you work on Excel]],tblHours,2,0)","v":5},{"$f":"VLOOKUP(tblSalaries[[#This Row],[clean Country]],tblCountries[],5,0)","v":13.098808879263672},{"$f":"IF($Q$1,tblSalaries[[#This Row],[PPP Factor]]*tblSalaries[[#This Row],[Salary in USD]],tblSalaries[[#This Row],[Salary in USD]])","v":26711.875031163851}]
[null,"ID0287","2012-05-26T01:17:11","AED100000",100000,"AED",{"$f":"tblSalaries[[#This Row],[clean Salary (in local currency)]]*VLOOKUP(tblSalaries[[#This Row],[Currency]],tblXrate[],2,FALSE)","v":27221.92126875931},"Accountant","Accountant","Dubai",{"$f":"VLOOKUP(tblSalaries[[#This Row],[Where do you work]],tblCountries[[Actual]:[Mapping]],2,FALSE)","v":"Dubai"},"4 to 6 hours a day",null,{"$f":"VLOOKUP(K286,tblCountries[],3,0)","v":"Asia"},{"$f":"VLOOKUP(tblSalaries[[#This Row],[How many hours of a day you work on Excel]],tblHours,2,0)","v":4},{"$f":"VLOOKUP(tblSalaries[[#This Row],[clean Country]],tblCountries[],5,0)","v":1},{"$f":"IF($Q$1,tblSalaries[[#This Row],[PPP Factor]]*tblSalaries[[#This Row],[Salary in USD]],tblSalaries[[#This Row],[Salary in USD]])","v":27221.92126875931}]
[null,"ID0288","2012-05-26T01:17:50",22000,22000,"USD",{"$f":"tblSalaries[[#This Row],[clean Salary (in local currency)]]*VLOOKUP(tblSalaries[[#This Row],[Currency]],tblXrate[],2,FALSE)","v":22000},"MIS","Reporting","India",{"$f":"VLOOKUP(tblSalaries[[#This Row],[Where do you work]],tblCountries[[Actual]:[Mapping]],2,FALSE)","v":"India"},"All the 8 hours baby, all the 8!",null,{"$f":"VLOOKUP(K287,tblCountries[],3,0)","v":"Asia"},{"$f":"VLOOKUP(tblSalaries[[#This Row],[How many hours of a day you work on Excel]],tblHours,2,0)","v":5},{"$f":"VLOOKUP(tblSalaries[[#This Row],[clean Country]],tblCountries[],5,0)","v":13.098808879263672},{"$f":"IF($Q$1,tblSalaries[[#This Row],[PPP Factor]]*tblSalaries[[#This Row],[Salary in USD]],tblSalaries[[#This Row],[Salary in USD]])","v":22000}]
[null,"ID0289","2012-05-26T01:17:56",68000,68000,"USD",{"$f":"tblSalaries[[#This Row],[clean Salary (in local currency)]]*VLOOKUP(tblSalaries[[#This Row],[Currency]],tblXrate[],2,FALSE)","v":68000},"management accountant","Manager","USA",{"$f":"VLOOKUP(tblSalaries[[#This Row],[Where do you work]],tblCountries[[Actual]:[Mapping]],2,FALSE)","v":"USA"},"All the 8 hours baby, all the 8!",null,{"$f":"VLOOKUP(K288,tblCountries[],3,0)","v":"North Amer."},{"$f":"VLOOKUP(tblSalaries[[#This Row],[How many hours of a day you work on Excel]],tblHours,2,0)","v":5},{"$f":"VLOOKUP(tblSalaries[[#This Row],[clean Country]],tblCountries[],5,0)","v":1},{"$f":"IF($Q$1,tblSalaries[[#This Row],[PPP Factor]]*tblSalaries[[#This Row],[Salary in USD]],tblSalaries[[#This Row],[Salary in USD]])","v":68000}]
[null,"ID0290","2012-05-26T01:17:57",97000,97000,"USD",{"$f":"tblSalaries[[#This Row],[clean Salary (in local currency)]]*VLOOKUP(tblSalaries[[#This Row],[Currency]],tblXrate[],2,FALSE)","v":97000},"business analyst","Analyst","USA",{"$f":"VLOOKUP(tblSalaries[[#This Row],[Where do you work]],tblCountries[[Actual]:[Mapping]],2,FALSE)","v":"USA"},"All the 8 hours baby, all the 8!",null,{"$f":"VLOOKUP(K289,tblCountries[],3,0)","v":"North Amer."},{"$f":"VLOOKUP(tblSalaries[[#This Row],[How many hours of a day you work on Excel]],tblHours,2,0)","v":5},{"$f":"VLOOKUP(tblSalaries[[#This Row],[clean Country]],tblCountries[],5,0)","v":1},{"$f":"IF($Q$1,tblSalaries[[#This Row],[PPP Factor]]*tblSalaries[[#This Row],[Salary in USD]],tblSalaries[[#This Row],[Salary in USD]])","v":97000}]
[null,"ID0291","2012-05-26T01:18:35","Â£31000",31000,"GBP",{"$f":"tblSalaries[[#This Row],[clean Salary (in local currency)]]*VLOOKUP(tblSalaries[[#This Row],[Currency]],tblXrate[],2,FALSE)","v":48861.526434085805},"Telecoms Engineer","Engineer","UK",{"$f":"VLOOKUP(tblSalaries[[#This Row],[Where do you work]],tblCountries[[Actual]:[Mapping]],2,FALSE)","v":"UK"},"2 to 3 hours per day",null,{"$f":"VLOOKUP(K290,tblCountries[],3,0)","v":"Europe"},{"$f":"VLOOKUP(tblSalaries[[#This Row],[How many hours of a day you work on Excel]],tblHours,2,0)","v":3},{"$f":"VLOOKUP(tblSalaries[[#This Row],[clean Country]],tblCountries[],5,0)","v":1.3407315045719035},{"$f":"IF($Q$1,tblSalaries[[#This Row],[PPP Factor]]*tblSalaries[[#This Row],[Salary in USD]],tblSalaries[[#This Row],[Salary in USD]])","v":48861.526434085805}]
[null,"ID0292","2012-05-26T01:18:49",65000,65000,"USD",{"$f":"tblSalaries[[#This Row],[clean Salary (in local currency)]]*VLOOKUP(tblSalaries[[#This Row],[Currency]],tblXrate[],2,FALSE)","v":65000},"Software Support","Analyst","USA",{"$f":"VLOOKUP(tblSalaries[[#This Row],[Where do you work]],tblCountries[[Actual]:[Mapping]],2,FALSE)","v":"USA"},"4 to 6 hours a day",null,{"$f":"VLOOKUP(K291,tblCountries[],3,0)","v":"North Amer."},{"$f":"VLOOKUP(tblSalaries[[#This Row],[How many hours of a day you work on Excel]],tblHours,2,0)","v":4},{"$f":"VLOOKUP(tblSalaries[[#This Row],[clean Country]],tblCountries[],5,0)","v":1},{"$f":"IF($Q$1,tblSalaries[[#This Row],[PPP Factor]]*tblSalaries[[#This Row],[Salary in USD]],tblSalaries[[#This Row],[Salary in USD]])","v":65000}]
[null,"ID0293","2012-05-26T01:18:58",3600,43200,"USD",{"$f":"tblSalaries[[#This Row],[clean Salary (in local currency)]]*VLOOKUP(tblSalaries[[#This Row],[Currency]],tblXrate[],2,FALSE)","v":43200},"Projects Planner","Manager","Saudi Arabia",{"$f":"VLOOKUP(tblSalaries[[#This Row],[Where do you work]],tblCountries[[Actual]:[Mapping]],2,FALSE)","v":"Saudi Arabia"},"4 to 6 hours a day",null,{"$f":"VLOOKUP(K292,tblCountries[],3,0)","v":"Asia"},{"$f":"VLOOKUP(tblSalaries[[#This Row],[How many hours of a day you work on Excel]],tblHours,2,0)","v":4},{"$f":"VLOOKUP(tblSalaries[[#This Row],[clean Country]],tblCountries[],5,0)","v":1.9964104468374799},{"$f":"IF($Q$1,tblSalaries[[#This Row],[PPP Factor]]*tblSalaries[[#This Row],[Salary in USD]],tblSalaries[[#This Row],[Salary in USD]])","v":43200}]
[null,"ID0294","2012-05-26T01:19:09","4.5 lakh INR",450000,"INR",{"$f":"tblSalaries[[#This Row],[clean Salary (in local currency)]]*VLOOKUP(tblSalaries[[#This Row],[Currency]],tblXrate[],2,FALSE)","v":8013.5625093491553},"Business Analyst","Analyst","India",{"$f":"VLOOKUP(tblSalaries[[#This Row],[Where do you work]],tblCountries[[Actual]:[Mapping]],2,FALSE)","v":"India"},"4 to 6 hours a day",null,{"$f":"VLOOKUP(K293,tblCountries[],3,0)","v":"Asia"},{"$f":"VLOOKUP(tblSalaries[[#This Row],[How many hours of a day you work on Excel]],tblHours,2,0)","v":4},{"$f":"VLOOKUP(tblSalaries[[#This Row],[clean Country]],tblCountries[],5,0)","v":13.098808879263672},{"$f":"IF($Q$1,tblSalaries[[#This Row],[PPP Factor]]*tblSalaries[[#This Row],[Salary in USD]],tblSalaries[[#This Row],[Salary in USD]])","v":8013.5625093491553}]
[null,"ID0295","2012-05-26T01:19:09",50000,50000,"USD",{"$f":"tblSalaries[[#This Row],[clean Salary (in local currency)]]*VLOOKUP(tblSalaries[[#This Row],[Currency]],tblXrate[],2,FALSE)","v":50000},"Mathematical Data Analyist","Analyst","USA",{"$f":"VLOOKUP(tblSalaries[[#This Row],[Where do you work]],tblCountries[[Actual]:[Mapping]],2,FALSE)","v":"USA"},"All the 8 hours baby, all the 8!",null,{"$f":"VLOOKUP(K294,tblCountries[],3,0)","v":"North Amer."},{"$f":"VLOOKUP(tblSalaries[[#This Row],[How many hours of a day you work on Excel]],tblHours,2,0)","v":5},{"$f":"VLOOKUP(tblSalaries[[#This Row],[clean Country]],tblCountries[],5,0)","v":1},{"$f":"IF($Q$1,tblSalaries[[#This Row],[PPP Factor]]*tblSalaries[[#This Row],[Salary in USD]],tblSalaries[[#This Row],[Salary in USD]])","v":50000}]
[null,"ID0296","2012-05-26T01:19:22",45000,45000,"USD",{"$f":"tblSalaries[[#This Row],[clean Salary (in local currency)]]*VLOOKUP(tblSalaries[[#This Row],[Currency]],tblXrate[],2,FALSE)","v":45000},"sales support","Analyst","USA",{"$f":"VLOOKUP(tblSalaries[[#This Row],[Where do you work]],tblCountries[[Actual]:[Mapping]],2,FALSE)","v":"USA"},"4 to 6 hours a day",null,{"$f":"VLOOKUP(K295,tblCountries[],3,0)","v":"North Amer."},{"$f":"VLOOKUP(tblSalaries[[#This Row],[How many hours of a day you work on Excel]],tblHours,2,0)","v":4},{"$f":"VLOOKUP(tblSalaries[[#This Row],[clean Country]],tblCountries[],5,0)","v":1},{"$f":"IF($Q$1,tblSalaries[[#This Row],[PPP Factor]]*tblSalaries[[#This Row],[Salary in USD]],tblSalaries[[#This Row],[Salary in USD]])","v":45000}]
[null,"ID0297","2012-05-26T01:19:37","Rs.1.8 lakhs ",180000,"INR",{"$f":"tblSalaries[[#This Row],[clean Salary (in local currency)]]*VLOOKUP(tblSalaries[[#This Row],[Currency]],tblXrate[],2,FALSE)","v":3205.4250037396623},"Administrative Officer","Manager","India",{"$f":"VLOOKUP(tblSalaries[[#This Row],[Where do you work]],tblCountries[[Actual]:[Mapping]],2,FALSE)","v":"India"},"4 to 6 hours a day",null,{"$f":"VLOOKUP(K296,tblCountries[],3,0)","v":"Asia"},{"$f":"VLOOKUP(tblSalaries[[#This Row],[How many hours of a day you work on Excel]],tblHours,2,0)","v":4},{"$f":"VLOOKUP(tblSalaries[[#This Row],[clean Country]],tblCountries[],5,0)","v":13.098808879263672},{"$f":"IF($Q$1,tblSalaries[[#This Row],[PPP Factor]]*tblSalaries[[#This Row],[Salary in USD]],tblSalaries[[#This Row],[Salary in USD]])","v":3205.4250037396623}]
[null,"ID0298","2012-05-26T01:20:01",60000,60000,"USD",{"$f":"tblSalaries[[#This Row],[clean Salary (in local currency)]]*VLOOKUP(tblSalaries[[#This Row],[Currency]],tblXrate[],2,FALSE)","v":60000},"IS Manager","Manager","USA",{"$f":"VLOOKUP(tblSalaries[[#This Row],[Where do you work]],tblCountries[[Actual]:[Mapping]],2,FALSE)","v":"USA"},"All the 8 hours baby, all the 8!",null,{"$f":"VLOOKUP(K297,tblCountries[],3,0)","v":"North Amer."},{"$f":"VLOOKUP(tblSalaries[[#This Row],[How many hours of a day you work on Excel]],tblHours,2,0)","v":5},{"$f":"VLOOKUP(tblSalaries[[#This Row],[clean Country]],tblCountries[],5,0)","v":1},{"$f":"IF($Q$1,tblSalaries[[#This Row],[PPP Factor]]*tblSalaries[[#This Row],[Salary in USD]],tblSalaries[[#This Row],[Salary in USD]])","v":60000}]
[null,"ID0299","2012-05-26T01:20:46",31000,31000,"USD",{"$f":"tblSalaries[[#This Row],[clean Salary (in local currency)]]*VLOOKUP(tblSalaries[[#This Row],[Currency]],tblXrate[],2,FALSE)","v":31000},"Support Specialist ","Specialist","USA",{"$f":"VLOOKUP(tblSalaries[[#This Row],[Where do you work]],tblCountries[[Actual]:[Mapping]],2,FALSE)","v":"USA"},"2 to 3 hours per day",null,{"$f":"VLOOKUP(K298,tblCountries[],3,0)","v":"North Amer."},{"$f":"VLOOKUP(tblSalaries[[#This Row],[How many hours of a day you work on Excel]],tblHours,2,0)","v":3},{"$f":"VLOOKUP(tblSalaries[[#This Row],[clean Country]],tblCountries[],5,0)","v":1},{"$f":"IF($Q$1,tblSalaries[[#This Row],[PPP Factor]]*tblSalaries[[#This Row],[Salary in USD]],tblSalaries[[#This Row],[Salary in USD]])","v":31000}]
[null,"ID0300","2012-05-26T01:21:06",75000,75000,"USD",{"$f":"tblSalaries[[#This Row],[clean Salary (in local currency)]]*VLOOKUP(tblSalaries[[#This Row],[Currency]],tblXrate[],2,FALSE)","v":75000},"FA","Analyst","USA",{"$f":"VLOOKUP(tblSalaries[[#This Row],[Where do you work]],tblCountries[[Actual]:[Mapping]],2,FALSE)","v":"USA"},"4 to 6 hours a day",null,{"$f":"VLOOKUP(K299,tblCountries[],3,0)","v":"North Amer."},{"$f":"VLOOKUP(tblSalaries[[#This Row],[How many hours of a day you work on Excel]],tblHours,2,0)","v":4},{"$f":"VLOOKUP(tblSalaries[[#This Row],[clean Country]],tblCountries[],5,0)","v":1},{"$f":"IF($Q$1,tblSalaries[[#This Row],[PPP Factor]]*tblSalaries[[#This Row],[Salary in USD]],tblSalaries[[#This Row],[Salary in USD]])","v":75000}]
[null,"ID0301","2012-05-26T01:22:09",16000,16000,"USD",{"$f":"tblSalaries[[#This Row],[clean Salary (in local currency)]]*VLOOKUP(tblSalaries[[#This Row],[Currency]],tblXrate[],2,FALSE)","v":16000},"VP of Finance","CXO or Top Mgmt.","USA",{"$f":"VLOOKUP(tblSalaries[[#This Row],[Where do you work]],tblCountries[[Actual]:[Mapping]],2,FALSE)","v":"USA"},"1 or 2 hours a day",null,{"$f":"VLOOKUP(K300,tblCountries[],3,0)","v":"North Amer."},{"$f":"VLOOKUP(tblSalaries[[#This Row],[How many hours of a day you work on Excel]],tblHours,2,0)","v":2},{"$f":"VLOOKUP(tblSalaries[[#This Row],[clean Country]],tblCountries[],5,0)","v":1},{"$f":"IF($Q$1,tblSalaries[[#This Row],[PPP Factor]]*tblSalaries[[#This Row],[Salary in USD]],tblSalaries[[#This Row],[Salary in USD]])","v":16000}]
[null,"ID0302","2012-05-26T01:22:22","36,000 USD",36000,"USD",{"$f":"tblSalaries[[#This Row],[clean Salary (in local currency)]]*VLOOKUP(tblSalaries[[#This Row],[Currency]],tblXrate[],2,FALSE)","v":36000},"PRODUCTION ASSISTANT","Analyst","USA",{"$f":"VLOOKUP(tblSalaries[[#This Row],[Where do you work]],tblCountries[[Actual]:[Mapping]],2,FALSE)","v":"USA"},"All the 8 hours baby, all the 8!",null,{"$f":"VLOOKUP(K301,tblCountries[],3,0)","v":"North Amer."},{"$f":"VLOOKUP(tblSalaries[[#This Row],[How many hours of a day you work on Excel]],tblHours,2,0)","v":5},{"$f":"VLOOKUP(tblSalaries[[#This Row],[clean Country]],tblCountries[],5,0)","v":1},{"$f":"IF($Q$1,tblSalaries[[#This Row],[PPP Factor]]*tblSalaries[[#This Row],[Salary in USD]],tblSalaries[[#This Row],[Salary in USD]])","v":36000}]
[null,"ID0303","2012-05-26T01:22:40",42000,42000,"CAD",{"$f":"tblSalaries[[#This Row],[clean Salary (in local currency)]]*VLOOKUP(tblSalaries[[#This Row],[Currency]],tblXrate[],2,FALSE)","v":41301.183967273726},"Financial Analyst","Analyst","Canada",{"$f":"VLOOKUP(tblSalaries[[#This Row],[Where do you work]],tblCountries[[Actual]:[Mapping]],2,FALSE)","v":"Canada"},"All the 8 hours baby, all the 8!",null,{"$f":"VLOOKUP(K302,tblCountries[],3,0)","v":"North Amer."},{"$f":"VLOOKUP(tblSalaries[[#This Row],[How many hours of a day you work on Excel]],tblHours,2,0)","v":5},{"$f":"VLOOKUP(tblSalaries[[#This Row],[clean Country]],tblCountries[],5,0)","v":1.1935324732986359},{"$f":"IF($Q$1,tblSalaries[[#This Row],[PPP Factor]]*tblSalaries[[#This Row],[Salary in USD]],tblSalaries[[#This Row],[Salary in USD]])","v":41301.183967273726}]
[null,"ID0304","2012-05-26T01:22:45",53000,53000,"USD",{"$f":"tblSalaries[[#This Row],[clean Salary (in local currency)]]*VLOOKUP(tblSalaries[[#This Row],[Currency]],tblXrate[],2,FALSE)","v":53000},"Data Analyst","Analyst","USA",{"$f":"VLOOKUP(tblSalaries[[#This Row],[Where do you work]],tblCountries[[Actual]:[Mapping]],2,FALSE)","v":"USA"},"4 to 6 hours a day",null,{"$f":"VLOOKUP(K303,tblCountries[],3,0)","v":"North Amer."},{"$f":"VLOOKUP(tblSalaries[[#This Row],[How many hours of a day you work on Excel]],tblHours,2,0)","v":4},{"$f":"VLOOKUP(tblSalaries[[#This Row],[clean Country]],tblCountries[],5,0)","v":1},{"$f":"IF($Q$1,tblSalaries[[#This Row],[PPP Factor]]*tblSalaries[[#This Row],[Salary in USD]],tblSalaries[[#This Row],[Salary in USD]])","v":53000}]
[null,"ID0305","2012-05-26T01:22:48","65000 euro",65000,"EUR",{"$f":"tblSalaries[[#This Row],[clean Salary (in local currency)]]*VLOOKUP(tblSalaries[[#This Row],[Currency]],tblXrate[],2,FALSE)","v":82575.963534454509},"controller","Controller","germany",{"$f":"VLOOKUP(tblSalaries[[#This Row],[Where do you work]],tblCountries[[Actual]:[Mapping]],2,FALSE)","v":"Germany"},"All the 8 hours baby, all the 8!",null,{"$f":"VLOOKUP(K304,tblCountries[],3,0)","v":"Europe"},{"$f":"VLOOKUP(tblSalaries[[#This Row],[How many hours of a day you work on Excel]],tblHours,2,0)","v":5},{"$f":"VLOOKUP(tblSalaries[[#This Row],[clean Country]],tblCountries[],5,0)","v":1.276802913159353},{"$f":"IF($Q$1,tblSalaries[[#This Row],[PPP Factor]]*tblSalaries[[#This Row],[Salary in USD]],tblSalaries[[#This Row],[Salary in USD]])","v":82575.963534454509}]
[null,"ID0306","2012-05-26T01:22:56",67000,67000,"USD",{"$f":"tblSalaries[[#This Row],[clean Salary (in local currency)]]*VLOOKUP(tblSalaries[[#This Row],[Currency]],tblXrate[],2,FALSE)","v":67000},"HR Analyst","Analyst","USA",{"$f":"VLOOKUP(tblSalaries[[#This Row],[Where do you work]],tblCountries[[Actual]:[Mapping]],2,FALSE)","v":"USA"},"4 to 6 hours a day",null,{"$f":"VLOOKUP(K305,tblCountries[],3,0)","v":"North Amer."},{"$f":"VLOOKUP(tblSalaries[[#This Row],[How many hours of a day you work on Excel]],tblHours,2,0)","v":4},{"$f":"VLOOKUP(tblSalaries[[#This Row],[clean Country]],tblCountries[],5,0)","v":1},{"$f":"IF($Q$1,tblSalaries[[#This Row],[PPP Factor]]*tblSalaries[[#This Row],[Salary in USD]],tblSalaries[[#This Row],[Salary in USD]])","v":67000}]
[null,"ID0307","2012-05-26T01:23:21",12000,12000,"USD",{"$f":"tblSalaries[[#This Row],[clean Salary (in local currency)]]*VLOOKUP(tblSalaries[[#This Row],[Currency]],tblXrate[],2,FALSE)","v":12000},"Analyst","Analyst","India",{"$f":"VLOOKUP(tblSalaries[[#This Row],[Where do you work]],tblCountries[[Actual]:[Mapping]],2,FALSE)","v":"India"},"All the 8 hours baby, all the 8!",null,{"$f":"VLOOKUP(K306,tblCountries[],3,0)","v":"Asia"},{"$f":"VLOOKUP(tblSalaries[[#This Row],[How many hours of a day you work on Excel]],tblHours,2,0)","v":5},{"$f":"VLOOKUP(tblSalaries[[#This Row],[clean Country]],tblCountries[],5,0)","v":13.098808879263672},{"$f":"IF($Q$1,tblSalaries[[#This Row],[PPP Factor]]*tblSalaries[[#This Row],[Salary in USD]],tblSalaries[[#This Row],[Salary in USD]])","v":12000}]
[null,"ID0308","2012-05-26T01:23:43",85000,85000,"USD",{"$f":"tblSalaries[[#This Row],[clean Salary (in local currency)]]*VLOOKUP(tblSalaries[[#This Row],[Currency]],tblXrate[],2,FALSE)","v":85000},"Plant Controller","Controller","USA",{"$f":"VLOOKUP(tblSalaries[[#This Row],[Where do you work]],tblCountries[[Actual]:[Mapping]],2,FALSE)","v":"USA"},"All the 8 hours baby, all the 8!",null,{"$f":"VLOOKUP(K307,tblCountries[],3,0)","v":"North Amer."},{"$f":"VLOOKUP(tblSalaries[[#This Row],[How many hours of a day you work on Excel]],tblHours,2,0)","v":5},{"$f":"VLOOKUP(tblSalaries[[#This Row],[clean Country]],tblCountries[],5,0)","v":1},{"$f":"IF($Q$1,tblSalaries[[#This Row],[PPP Factor]]*tblSalaries[[#This Row],[Salary in USD]],tblSalaries[[#This Row],[Salary in USD]])","v":85000}]
[null,"ID0309","2012-05-26T01:23:50",200000,200000,"EUR",{"$f":"tblSalaries[[#This Row],[clean Salary (in local currency)]]*VLOOKUP(tblSalaries[[#This Row],[Currency]],tblXrate[],2,FALSE)","v":254079.88779832155},"consultant bi","Reporting","The netherlands",{"$f":"VLOOKUP(tblSalaries[[#This Row],[Where do you work]],tblCountries[[Actual]:[Mapping]],2,FALSE)","v":"Netherlands"},"All the 8 hours baby, all the 8!",null,{"$f":"VLOOKUP(K308,tblCountries[],3,0)","v":"Europe"},{"$f":"VLOOKUP(tblSalaries[[#This Row],[How many hours of a day you work on Excel]],tblHours,2,0)","v":5},{"$f":"VLOOKUP(tblSalaries[[#This Row],[clean Country]],tblCountries[],5,0)","v":1.1470734656141099},{"$f":"IF($Q$1,tblSalaries[[#This Row],[PPP Factor]]*tblSalaries[[#This Row],[Salary in USD]],tblSalaries[[#This Row],[Salary in USD]])","v":254079.88779832155}]
[null,"ID0310","2012-05-26T01:23:57",40000,40000,"USD",{"$f":"tblSalaries[[#This Row],[clean Salary (in local currency)]]*VLOOKUP(tblSalaries[[#This Row],[Currency]],tblXrate[],2,FALSE)","v":40000},"Royalties Coordinator","Manager","USA",{"$f":"VLOOKUP(tblSalaries[[#This Row],[Where do you work]],tblCountries[[Actual]:[Mapping]],2,FALSE)","v":"USA"},"4 to 6 hours a day",null,{"$f":"VLOOKUP(K309,tblCountries[],3,0)","v":"North Amer."},{"$f":"VLOOKUP(tblSalaries[[#This Row],[How many hours of a day you work on Excel]],tblHours,2,0)","v":4},{"$f":"VLOOKUP(tblSalaries[[#This Row],[clean Country]],tblCountries[],5,0)","v":1},{"$f":"IF($Q$1,tblSalaries[[#This Row],[PPP Factor]]*tblSalaries[[#This Row],[Salary in USD]],tblSalaries[[#This Row],[Salary in USD]])","v":40000}]
[null,"ID0311","2012-05-26T01:24:03","Â£20000/year but i work part time 30h/week",20000,"GBP",{"$f":"tblSalaries[[#This Row],[clean Salary (in local currency)]]*VLOOKUP(tblSalaries[[#This Row],[Currency]],tblXrate[],2,FALSE)","v":31523.565441345683},"Graduate Structural Engineer","Engineer","UK",{"$f":"VLOOKUP(tblSalaries[[#This Row],[Where do you work]],tblCountries[[Actual]:[Mapping]],2,FALSE)","v":"UK"},"1 or 2 hours a day",null,{"$f":"VLOOKUP(K310,tblCountries[],3,0)","v":"Europe"},{"$f":"VLOOKUP(tblSalaries[[#This Row],[How many hours of a day you work on Excel]],tblHours,2,0)","v":2},{"$f":"VLOOKUP(tblSalaries[[#This Row],[clean Country]],tblCountries[],5,0)","v":1.3407315045719035},{"$f":"IF($Q$1,tblSalaries[[#This Row],[PPP Factor]]*tblSalaries[[#This Row],[Salary in USD]],tblSalaries[[#This Row],[Salary in USD]])","v":31523.565441345683}]
[null,"ID0312","2012-05-26T01:25:05",41000,41000,"USD",{"$f":"tblSalaries[[#This Row],[clean Salary (in local currency)]]*VLOOKUP(tblSalaries[[#This Row],[Currency]],tblXrate[],2,FALSE)","v":41000},"Operations Analyst","Analyst","USA",{"$f":"VLOOKUP(tblSalaries[[#This Row],[Where do you work]],tblCountries[[Actual]:[Mapping]],2,FALSE)","v":"USA"},"4 to 6 hours a day",null,{"$f":"VLOOKUP(K311,tblCountries[],3,0)","v":"North Amer."},{"$f":"VLOOKUP(tblSalaries[[#This Row],[How many hours of a day you work on Excel]],tblHours,2,0)","v":4},{"$f":"VLOOKUP(tblSalaries[[#This Row],[clean Country]],tblCountries[],5,0)","v":1},{"$f":"IF($Q$1,tblSalaries[[#This Row],[PPP Factor]]*tblSalaries[[#This Row],[Salary in USD]],tblSalaries[[#This Row],[Salary in USD]])","v":41000}]
[null,"ID0313","2012-05-26T01:25:06",1400000,1400000,"INR",{"$f":"tblSalaries[[#This Row],[clean Salary (in local currency)]]*VLOOKUP(tblSalaries[[#This Row],[Currency]],tblXrate[],2,FALSE)","v":24931.083362419595},"Marketing","Manager","India",{"$f":"VLOOKUP(tblSalaries[[#This Row],[Where do you work]],tblCountries[[Actual]:[Mapping]],2,FALSE)","v":"India"},"1 or 2 hours a day",null,{"$f":"VLOOKUP(K312,tblCountries[],3,0)","v":"Asia"},{"$f":"VLOOKUP(tblSalaries[[#This Row],[How many hours of a day you work on Excel]],tblHours,2,0)","v":2},{"$f":"VLOOKUP(tblSalaries[[#This Row],[clean Country]],tblCountries[],5,0)","v":13.098808879263672},{"$f":"IF($Q$1,tblSalaries[[#This Row],[PPP Factor]]*tblSalaries[[#This Row],[Salary in USD]],tblSalaries[[#This Row],[Salary in USD]])","v":24931.083362419595}]
[null,"ID0314","2012-05-26T01:25:30",125000,125000,"USD",{"$f":"tblSalaries[[#This Row],[clean Salary (in local currency)]]*VLOOKUP(tblSalaries[[#This Row],[Currency]],tblXrate[],2,FALSE)","v":125000},"Finance, Manager ","Manager","USA",{"$f":"VLOOKUP(tblSalaries[[#This Row],[Where do you work]],tblCountries[[Actual]:[Mapping]],2,FALSE)","v":"USA"},"4 to 6 hours a day",null,{"$f":"VLOOKUP(K313,tblCountries[],3,0)","v":"North Amer."},{"$f":"VLOOKUP(tblSalaries[[#This Row],[How many hours of a day you work on Excel]],tblHours,2,0)","v":4},{"$f":"VLOOKUP(tblSalaries[[#This Row],[clean Country]],tblCountries[],5,0)","v":1},{"$f":"IF($Q$1,tblSalaries[[#This Row],[PPP Factor]]*tblSalaries[[#This Row],[Salary in USD]],tblSalaries[[#This Row],[Salary in USD]])","v":125000}]
[null,"ID0315","2012-05-26T01:26:26",60000,60000,"CAD",{"$f":"tblSalaries[[#This Row],[clean Salary (in local currency)]]*VLOOKUP(tblSalaries[[#This Row],[Currency]],tblXrate[],2,FALSE)","v":59001.691381819612},"Sr. Business Analyst","Analyst","Canada",{"$f":"VLOOKUP(tblSalaries[[#This Row],[Where do you work]],tblCountries[[Actual]:[Mapping]],2,FALSE)","v":"Canada"},"All the 8 hours baby, all the 8!",null,{"$f":"VLOOKUP(K314,tblCountries[],3,0)","v":"North Amer."},{"$f":"VLOOKUP(tblSalaries[[#This Row],[How many hours of a day you work on Excel]],tblHours,2,0)","v":5},{"$f":"VLOOKUP(tblSalaries[[#This Row],[clean Country]],tblCountries[],5,0)","v":1.1935324732986359},{"$f":"IF($Q$1,tblSalaries[[#This Row],[PPP Factor]]*tblSalaries[[#This Row],[Salary in USD]],tblSalaries[[#This Row],[Salary in USD]])","v":59001.691381819612}]
[null,"ID0316","2012-05-26T01:26:37","150000 MXN",150000,"MXN",{"$f":"tblSalaries[[#This Row],[clean Salary (in local currency)]]*VLOOKUP(tblSalaries[[#This Row],[Currency]],tblXrate[],2,FALSE)","v":10956.982885192734},"Information Analyst","Analyst","Mexico",{"$f":"VLOOKUP(tblSalaries[[#This Row],[Where do you work]],tblCountries[[Actual]:[Mapping]],2,FALSE)","v":"Mexico"},"All the 8 hours baby, all the 8!",null,{"$f":"VLOOKUP(K315,tblCountries[],3,0)","v":"North Amer."},{"$f":"VLOOKUP(tblSalaries[[#This Row],[How many hours of a day you work on Excel]],tblHours,2,0)","v":5},{"$f":"VLOOKUP(tblSalaries[[#This Row],[clean Country]],tblCountries[],5,0)","v":3.3119096509240245},{"$f":"IF($Q$1,tblSalaries[[#This Row],[PPP Factor]]*tblSalaries[[#This Row],[Salary in USD]],tblSalaries[[#This Row],[Salary in USD]])","v":10956.982885192734}]
[null,"ID0317","2012-05-26T01:26:52",70000,70000,"USD",{"$f":"tblSalaries[[#This Row],[clean Salary (in local currency)]]*VLOOKUP(tblSalaries[[#This Row],[Currency]],tblXrate[],2,FALSE)","v":70000},"Analyst","Analyst","USA",{"$f":"VLOOKUP(tblSalaries[[#This Row],[Where do you work]],tblCountries[[Actual]:[Mapping]],2,FALSE)","v":"USA"},"2 to 3 hours per day",null,{"$f":"VLOOKUP(K316,tblCountries[],3,0)","v":"North Amer."},{"$f":"VLOOKUP(tblSalaries[[#This Row],[How many hours of a day you work on Excel]],tblHours,2,0)","v":3},{"$f":"VLOOKUP(tblSalaries[[#This Row],[clean Country]],tblCountries[],5,0)","v":1},{"$f":"IF($Q$1,tblSalaries[[#This Row],[PPP Factor]]*tblSalaries[[#This Row],[Salary in USD]],tblSalaries[[#This Row],[Salary in USD]])","v":70000}]
[null,"ID0318","2012-05-26T01:27:03",400000,400000,"USD",{"$f":"tblSalaries[[#This Row],[clean Salary (in local currency)]]*VLOOKUP(tblSalaries[[#This Row],[Currency]],tblXrate[],2,FALSE)","v":400000},"Financial Specialist","Specialist","USA",{"$f":"VLOOKUP(tblSalaries[[#This Row],[Where do you work]],tblCountries[[Actual]:[Mapping]],2,FALSE)","v":"USA"},"All the 8 hours baby, all the 8!",null,{"$f":"VLOOKUP(K317,tblCountries[],3,0)","v":"North Amer."},{"$f":"VLOOKUP(tblSalaries[[#This Row],[How many hours of a day you work on Excel]],tblHours,2,0)","v":5},{"$f":"VLOOKUP(tblSalaries[[#This Row],[clean Country]],tblCountries[],5,0)","v":1},{"$f":"IF($Q$1,tblSalaries[[#This Row],[PPP Factor]]*tblSalaries[[#This Row],[Salary in USD]],tblSalaries[[#This Row],[Salary in USD]])","v":400000}]
[null,"ID0319","2012-05-26T01:27:26",55,55000,"USD",{"$f":"tblSalaries[[#This Row],[clean Salary (in local currency)]]*VLOOKUP(tblSalaries[[#This Row],[Currency]],tblXrate[],2,FALSE)","v":55000},"Business Analyst","Analyst","USA",{"$f":"VLOOKUP(tblSalaries[[#This Row],[Where do you work]],tblCountries[[Actual]:[Mapping]],2,FALSE)","v":"USA"},"4 to 6 hours a day",null,{"$f":"VLOOKUP(K318,tblCountries[],3,0)","v":"North Amer."},{"$f":"VLOOKUP(tblSalaries[[#This Row],[How many hours of a day you work on Excel]],tblHours,2,0)","v":4},{"$f":"VLOOKUP(tblSalaries[[#This Row],[clean Country]],tblCountries[],5,0)","v":1},{"$f":"IF($Q$1,tblSalaries[[#This Row],[PPP Factor]]*tblSalaries[[#This Row],[Salary in USD]],tblSalaries[[#This Row],[Salary in USD]])","v":55000}]
[null,"ID0320","2012-05-26T01:27:29",60000,60000,"USD",{"$f":"tblSalaries[[#This Row],[clean Salary (in local currency)]]*VLOOKUP(tblSalaries[[#This Row],[Currency]],tblXrate[],2,FALSE)","v":60000},"Management Analyst","Analyst","USA",{"$f":"VLOOKUP(tblSalaries[[#This Row],[Where do you work]],tblCountries[[Actual]:[Mapping]],2,FALSE)","v":"USA"},"4 to 6 hours a day",null,{"$f":"VLOOKUP(K319,tblCountries[],3,0)","v":"North Amer."},{"$f":"VLOOKUP(tblSalaries[[#This Row],[How many hours of a day you work on Excel]],tblHours,2,0)","v":4},{"$f":"VLOOKUP(tblSalaries[[#This Row],[clean Country]],tblCountries[],5,0)","v":1},{"$f":"IF($Q$1,tblSalaries[[#This Row],[PPP Factor]]*tblSalaries[[#This Row],[Salary in USD]],tblSalaries[[#This Row],[Salary in USD]])","v":60000}]
[null,"ID0321","2012-05-26T01:27:44","INR 1000000",1000000,"INR",{"$f":"tblSalaries[[#This Row],[clean Salary (in local currency)]]*VLOOKUP(tblSalaries[[#This Row],[Currency]],tblXrate[],2,FALSE)","v":17807.916687442568},"Manager","Manager","India",{"$f":"VLOOKUP(tblSalaries[[#This Row],[Where do you work]],tblCountries[[Actual]:[Mapping]],2,FALSE)","v":"India"},"4 to 6 hours a day",null,{"$f":"VLOOKUP(K320,tblCountries[],3,0)","v":"Asia"},{"$f":"VLOOKUP(tblSalaries[[#This Row],[How many hours of a day you work on Excel]],tblHours,2,0)","v":4},{"$f":"VLOOKUP(tblSalaries[[#This Row],[clean Country]],tblCountries[],5,0)","v":13.098808879263672},{"$f":"IF($Q$1,tblSalaries[[#This Row],[PPP Factor]]*tblSalaries[[#This Row],[Salary in USD]],tblSalaries[[#This Row],[Salary in USD]])","v":17807.916687442568}]
[null,"ID0322","2012-05-26T01:27:52",40000,40000,"USD",{"$f":"tblSalaries[[#This Row],[clean Salary (in local currency)]]*VLOOKUP(tblSalaries[[#This Row],[Currency]],tblXrate[],2,FALSE)","v":40000},"Dp manager","Manager","Hungary",{"$f":"VLOOKUP(tblSalaries[[#This Row],[Where do you work]],tblCountries[[Actual]:[Mapping]],2,FALSE)","v":"Hungary"},"4 to 6 hours a day",null,{"$f":"VLOOKUP(K321,tblCountries[],3,0)","v":"Europe"},{"$f":"VLOOKUP(tblSalaries[[#This Row],[How many hours of a day you work on Excel]],tblHours,2,0)","v":4},{"$f":"VLOOKUP(tblSalaries[[#This Row],[clean Country]],tblCountries[],5,0)","v":2.4698586085447398},{"$f":"IF($Q$1,tblSalaries[[#This Row],[PPP Factor]]*tblSalaries[[#This Row],[Salary in USD]],tblSalaries[[#This Row],[Salary in USD]])","v":40000}]
[null,"ID0323","2012-05-26T01:28:37",137500,137500,"USD",{"$f":"tblSalaries[[#This Row],[clean Salary (in local currency)]]*VLOOKUP(tblSalaries[[#This Row],[Currency]],tblXrate[],2,FALSE)","v":137500},"director of analytics","Analyst","USA",{"$f":"VLOOKUP(tblSalaries[[#This Row],[Where do you work]],tblCountries[[Actual]:[Mapping]],2,FALSE)","v":"USA"},"4 to 6 hours a day",null,{"$f":"VLOOKUP(K322,tblCountries[],3,0)","v":"North Amer."},{"$f":"VLOOKUP(tblSalaries[[#This Row],[How many hours of a day you work on Excel]],tblHours,2,0)","v":4},{"$f":"VLOOKUP(tblSalaries[[#This Row],[clean Country]],tblCountries[],5,0)","v":1},{"$f":"IF($Q$1,tblSalaries[[#This Row],[PPP Factor]]*tblSalaries[[#This Row],[Salary in USD]],tblSalaries[[#This Row],[Salary in USD]])","v":137500}]
[null,"ID0324","2012-05-26T01:29:32","US$ 4.545",4545,"USD",{"$f":"tblSalaries[[#This Row],[clean Salary (in local currency)]]*VLOOKUP(tblSalaries[[#This Row],[Currency]],tblXrate[],2,FALSE)","v":4545},"Supply Processes Analyst","Analyst","Brasil",{"$f":"VLOOKUP(tblSalaries[[#This Row],[Where do you work]],tblCountries[[Actual]:[Mapping]],2,FALSE)","v":"Brazil"},"All the 8 hours baby, all the 8!",null,{"$f":"VLOOKUP(K323,tblCountries[],3,0)","v":"South Amer."},{"$f":"VLOOKUP(tblSalaries[[#This Row],[How many hours of a day you work on Excel]],tblHours,2,0)","v":5},{"$f":"VLOOKUP(tblSalaries[[#This Row],[clean Country]],tblCountries[],5,0)","v":4.1113943410655107},{"$f":"IF($Q$1,tblSalaries[[#This Row],[PPP Factor]]*tblSalaries[[#This Row],[Salary in USD]],tblSalaries[[#This Row],[Salary in USD]])","v":4545}]
[null,"ID0325","2012-05-26T01:29:37","Â£29000",29000,"GBP",{"$f":"tblSalaries[[#This Row],[clean Salary (in local currency)]]*VLOOKUP(tblSalaries[[#This Row],[Currency]],tblXrate[],2,FALSE)","v":45709.169889951241},"ICT Technical Analyst","Analyst","UK",{"$f":"VLOOKUP(tblSalaries[[#This Row],[Where do you work]],tblCountries[[Actual]:[Mapping]],2,FALSE)","v":"UK"},"4 to 6 hours a day",null,{"$f":"VLOOKUP(K324,tblCountries[],3,0)","v":"Europe"},{"$f":"VLOOKUP(tblSalaries[[#This Row],[How many hours of a day you work on Excel]],tblHours,2,0)","v":4},{"$f":"VLOOKUP(tblSalaries[[#This Row],[clean Country]],tblCountries[],5,0)","v":1.3407315045719035},{"$f":"IF($Q$1,tblSalaries[[#This Row],[PPP Factor]]*tblSalaries[[#This Row],[Salary in USD]],tblSalaries[[#This Row],[Salary in USD]])","v":45709.169889951241}]
[null,"ID0326","2012-05-26T01:30:12",47000,47000,"USD",{"$f":"tblSalaries[[#This Row],[clean Salary (in local currency)]]*VLOOKUP(tblSalaries[[#This Row],[Currency]],tblXrate[],2,FALSE)","v":47000},"Sourcing Specialist","Specialist","USA",{"$f":"VLOOKUP(tblSalaries[[#This Row],[Where do you work]],tblCountries[[Actual]:[Mapping]],2,FALSE)","v":"USA"},"4 to 6 hours a day",null,{"$f":"VLOOKUP(K325,tblCountries[],3,0)","v":"North Amer."},{"$f":"VLOOKUP(tblSalaries[[#This Row],[How many hours of a day you work on Excel]],tblHours,2,0)","v":4},{"$f":"VLOOKUP(tblSalaries[[#This Row],[clean Country]],tblCountries[],5,0)","v":1},{"$f":"IF($Q$1,tblSalaries[[#This Row],[PPP Factor]]*tblSalaries[[#This Row],[Salary in USD]],tblSalaries[[#This Row],[Salary in USD]])","v":47000}]
[null,"ID0327","2012-05-26T01:30:39",65000,65000,"USD",{"$f":"tblSalaries[[#This Row],[clean Salary (in local currency)]]*VLOOKUP(tblSalaries[[#This Row],[Currency]],tblXrate[],2,FALSE)","v":65000},"business analyst","Analyst","USA",{"$f":"VLOOKUP(tblSalaries[[#This Row],[Where do you work]],tblCountries[[Actual]:[Mapping]],2,FALSE)","v":"USA"},"All the 8 hours baby, all the 8!",null,{"$f":"VLOOKUP(K326,tblCountries[],3,0)","v":"North Amer."},{"$f":"VLOOKUP(tblSalaries[[#This Row],[How many hours of a day you work on Excel]],tblHours,2,0)","v":5},{"$f":"VLOOKUP(tblSalaries[[#This Row],[clean Country]],tblCountries[],5,0)","v":1},{"$f":"IF($Q$1,tblSalaries[[#This Row],[PPP Factor]]*tblSalaries[[#This Row],[Salary in USD]],tblSalaries[[#This Row],[Salary in USD]])","v":65000}]
[null,"ID0328","2012-05-26T01:30:56","PhP 456,000",456000,"PHP",{"$f":"tblSalaries[[#This Row],[clean Salary (in local currency)]]*VLOOKUP(tblSalaries[[#This Row],[Currency]],tblXrate[],2,FALSE)","v":10809.503829551191},"Reporting Shared Services Oferring Lead","Reporting","Philippines",{"$f":"VLOOKUP(tblSalaries[[#This Row],[Where do you work]],tblCountries[[Actual]:[Mapping]],2,FALSE)","v":"Philippines"},"4 to 6 hours a day",null,{"$f":"VLOOKUP(K327,tblCountries[],3,0)","v":"Asia"},{"$f":"VLOOKUP(tblSalaries[[#This Row],[How many hours of a day you work on Excel]],tblHours,2,0)","v":4},{"$f":"VLOOKUP(tblSalaries[[#This Row],[clean Country]],tblCountries[],5,0)","v":11.879941075374417},{"$f":"IF($Q$1,tblSalaries[[#This Row],[PPP Factor]]*tblSalaries[[#This Row],[Salary in USD]],tblSalaries[[#This Row],[Salary in USD]])","v":10809.503829551191}]
[null,"ID0329","2012-05-26T01:31:26",92000,92000,"USD",{"$f":"tblSalaries[[#This Row],[clean Salary (in local currency)]]*VLOOKUP(tblSalaries[[#This Row],[Currency]],tblXrate[],2,FALSE)","v":92000},"Sales Analytics Manager","Manager","USA",{"$f":"VLOOKUP(tblSalaries[[#This Row],[Where do you work]],tblCountries[[Actual]:[Mapping]],2,FALSE)","v":"USA"},"4 to 6 hours a day",null,{"$f":"VLOOKUP(K328,tblCountries[],3,0)","v":"North Amer."},{"$f":"VLOOKUP(tblSalaries[[#This Row],[How many hours of a day you work on Excel]],tblHours,2,0)","v":4},{"$f":"VLOOKUP(tblSalaries[[#This Row],[clean Country]],tblCountries[],5,0)","v":1},{"$f":"IF($Q$1,tblSalaries[[#This Row],[PPP Factor]]*tblSalaries[[#This Row],[Salary in USD]],tblSalaries[[#This Row],[Salary in USD]])","v":92000}]
[null,"ID0330","2012-05-26T01:31:42","22000 usd",22000,"USD",{"$f":"tblSalaries[[#This Row],[clean Salary (in local currency)]]*VLOOKUP(tblSalaries[[#This Row],[Currency]],tblXrate[],2,FALSE)","v":22000},"Product Manager Sr","Manager","Mexico",{"$f":"VLOOKUP(tblSalaries[[#This Row],[Where do you work]],tblCountries[[Actual]:[Mapping]],2,FALSE)","v":"Mexico"},"4 to 6 hours a day",null,{"$f":"VLOOKUP(K329,tblCountries[],3,0)","v":"North Amer."},{"$f":"VLOOKUP(tblSalaries[[#This Row],[How many hours of a day you work on Excel]],tblHours,2,0)","v":4},{"$f":"VLOOKUP(tblSalaries[[#This Row],[clean Country]],tblCountries[],5,0)","v":3.3119096509240245},{"$f":"IF($Q$1,tblSalaries[[#This Row],[PPP Factor]]*tblSalaries[[#This Row],[Salary in USD]],tblSalaries[[#This Row],[Salary in USD]])","v":22000}]
[null,"ID0331","2012-05-26T01:31:58",108000,108000,"USD",{"$f":"tblSalaries[[#This Row],[clean Salary (in local currency)]]*VLOOKUP(tblSalaries[[#This Row],[Currency]],tblXrate[],2,FALSE)","v":108000},"Database Architect","Manager","USA",{"$f":"VLOOKUP(tblSalaries[[#This Row],[Where do you work]],tblCountries[[Actual]:[Mapping]],2,FALSE)","v":"USA"},"2 to 3 hours per day",null,{"$f":"VLOOKUP(K330,tblCountries[],3,0)","v":"North Amer."},{"$f":"VLOOKUP(tblSalaries[[#This Row],[How many hours of a day you work on Excel]],tblHours,2,0)","v":3},{"$f":"VLOOKUP(tblSalaries[[#This Row],[clean Country]],tblCountries[],5,0)","v":1},{"$f":"IF($Q$1,tblSalaries[[#This Row],[PPP Factor]]*tblSalaries[[#This Row],[Salary in USD]],tblSalaries[[#This Row],[Salary in USD]])","v":108000}]
[null,"ID0332","2012-05-26T01:32:08",61000,61000,"USD",{"$f":"tblSalaries[[#This Row],[clean Salary (in local currency)]]*VLOOKUP(tblSalaries[[#This Row],[Currency]],tblXrate[],2,FALSE)","v":61000},"Data Analyst","Analyst","USA",{"$f":"VLOOKUP(tblSalaries[[#This Row],[Where do you work]],tblCountries[[Actual]:[Mapping]],2,FALSE)","v":"USA"},"1 or 2 hours a day",null,{"$f":"VLOOKUP(K331,tblCountries[],3,0)","v":"North Amer."},{"$f":"VLOOKUP(tblSalaries[[#This Row],[How many hours of a day you work on Excel]],tblHours,2,0)","v":2},{"$f":"VLOOKUP(tblSalaries[[#This Row],[clean Country]],tblCountries[],5,0)","v":1},{"$f":"IF($Q$1,tblSalaries[[#This Row],[PPP Factor]]*tblSalaries[[#This Row],[Salary in USD]],tblSalaries[[#This Row],[Salary in USD]])","v":61000}]
[null,"ID0333","2012-05-26T01:32:14","CAD 65000",65000,"CAD",{"$f":"tblSalaries[[#This Row],[clean Salary (in local currency)]]*VLOOKUP(tblSalaries[[#This Row],[Currency]],tblXrate[],2,FALSE)","v":63918.498996971248},"Product developer","Manager","CANADA",{"$f":"VLOOKUP(tblSalaries[[#This Row],[Where do you work]],tblCountries[[Actual]:[Mapping]],2,FALSE)","v":"Canada"},"2 to 3 hours per day",null,{"$f":"VLOOKUP(K332,tblCountries[],3,0)","v":"North Amer."},{"$f":"VLOOKUP(tblSalaries[[#This Row],[How many hours of a day you work on Excel]],tblHours,2,0)","v":3},{"$f":"VLOOKUP(tblSalaries[[#This Row],[clean Country]],tblCountries[],5,0)","v":1.1935324732986359},{"$f":"IF($Q$1,tblSalaries[[#This Row],[PPP Factor]]*tblSalaries[[#This Row],[Salary in USD]],tblSalaries[[#This Row],[Salary in USD]])","v":63918.498996971248}]
[null,"ID0334","2012-05-26T01:32:26",50000,50000,"USD",{"$f":"tblSalaries[[#This Row],[clean Salary (in local currency)]]*VLOOKUP(tblSalaries[[#This Row],[Currency]],tblXrate[],2,FALSE)","v":50000},"Supply Chain Analyst","Analyst","USA",{"$f":"VLOOKUP(tblSalaries[[#This Row],[Where do you work]],tblCountries[[Actual]:[Mapping]],2,FALSE)","v":"USA"},"All the 8 hours baby, all the 8!",null,{"$f":"VLOOKUP(K333,tblCountries[],3,0)","v":"North Amer."},{"$f":"VLOOKUP(tblSalaries[[#This Row],[How many hours of a day you work on Excel]],tblHours,2,0)","v":5},{"$f":"VLOOKUP(tblSalaries[[#This Row],[clean Country]],tblCountries[],5,0)","v":1},{"$f":"IF($Q$1,tblSalaries[[#This Row],[PPP Factor]]*tblSalaries[[#This Row],[Salary in USD]],tblSalaries[[#This Row],[Salary in USD]])","v":50000}]
[null,"ID0335","2012-05-26T01:33:03",150000,150000,"USD",{"$f":"tblSalaries[[#This Row],[clean Salary (in local currency)]]*VLOOKUP(tblSalaries[[#This Row],[Currency]],tblXrate[],2,FALSE)","v":150000},"financial planning","Accountant","USA",{"$f":"VLOOKUP(tblSalaries[[#This Row],[Where do you work]],tblCountries[[Actual]:[Mapping]],2,FALSE)","v":"USA"},"All the 8 hours baby, all the 8!",null,{"$f":"VLOOKUP(K334,tblCountries[],3,0)","v":"North Amer."},{"$f":"VLOOKUP(tblSalaries[[#This Row],[How many hours of a day you work on Excel]],tblHours,2,0)","v":5},{"$f":"VLOOKUP(tblSalaries[[#This Row],[clean Country]],tblCountries[],5,0)","v":1},{"$f":"IF($Q$1,tblSalaries[[#This Row],[PPP Factor]]*tblSalaries[[#This Row],[Salary in USD]],tblSalaries[[#This Row],[Salary in USD]])","v":150000}]
[null,"ID0336","2012-05-26T01:33:37","400000 INR",400000,"INR",{"$f":"tblSalaries[[#This Row],[clean Salary (in local currency)]]*VLOOKUP(tblSalaries[[#This Row],[Currency]],tblXrate[],2,FALSE)","v":7123.1666749770275},"Test Analyst","Analyst","India",{"$f":"VLOOKUP(tblSalaries[[#This Row],[Where do you work]],tblCountries[[Actual]:[Mapping]],2,FALSE)","v":"India"},"4 to 6 hours a day",null,{"$f":"VLOOKUP(K335,tblCountries[],3,0)","v":"Asia"},{"$f":"VLOOKUP(tblSalaries[[#This Row],[How many hours of a day you work on Excel]],tblHours,2,0)","v":4},{"$f":"VLOOKUP(tblSalaries[[#This Row],[clean Country]],tblCountries[],5,0)","v":13.098808879263672},{"$f":"IF($Q$1,tblSalaries[[#This Row],[PPP Factor]]*tblSalaries[[#This Row],[Salary in USD]],tblSalaries[[#This Row],[Salary in USD]])","v":7123.1666749770275}]
[null,"ID0337","2012-05-26T01:33:45",150000,150000,"USD",{"$f":"tblSalaries[[#This Row],[clean Salary (in local currency)]]*VLOOKUP(tblSalaries[[#This Row],[Currency]],tblXrate[],2,FALSE)","v":150000},"project manager, project finance consultant","Manager","Israel",{"$f":"VLOOKUP(tblSalaries[[#This Row],[Where do you work]],tblCountries[[Actual]:[Mapping]],2,FALSE)","v":"Israel"},"4 to 6 hours a day",null,{"$f":"VLOOKUP(K336,tblCountries[],3,0)","v":"Asia"},{"$f":"VLOOKUP(tblSalaries[[#This Row],[How many hours of a day you work on Excel]],tblHours,2,0)","v":4},{"$f":"VLOOKUP(tblSalaries[[#This Row],[clean Country]],tblCountries[],5,0)","v":1.5621307506053268},{"$f":"IF($Q$1,tblSalaries[[#This Row],[PPP Factor]]*tblSalaries[[#This Row],[Salary in USD]],tblSalaries[[#This Row],[Salary in USD]])","v":150000}]
[null,"ID0338","2012-05-26T01:34:56",45000,45000,"USD",{"$f":"tblSalaries[[#This Row],[clean Salary (in local currency)]]*VLOOKUP(tblSalaries[[#This Row],[Currency]],tblXrate[],2,FALSE)","v":45000},"QC Fabrication Inspector","Specialist","USA",{"$f":"VLOOKUP(tblSalaries[[#This Row],[Where do you work]],tblCountries[[Actual]:[Mapping]],2,FALSE)","v":"USA"},"4 to 6 hours a day",null,{"$f":"VLOOKUP(K337,tblCountries[],3,0)","v":"North Amer."},{"$f":"VLOOKUP(tblSalaries[[#This Row],[How many hours of a day you work on Excel]],tblHours,2,0)","v":4},{"$f":"VLOOKUP(tblSalaries[[#This Row],[clean Country]],tblCountries[],5,0)","v":1},{"$f":"IF($Q$1,tblSalaries[[#This Row],[PPP Factor]]*tblSalaries[[#This Row],[Salary in USD]],tblSalaries[[#This Row],[Salary in USD]])","v":45000}]
[null,"ID0339","2012-05-26T01:35:02",135000,135000,"USD",{"$f":"tblSalaries[[#This Row],[clean Salary (in local currency)]]*VLOOKUP(tblSalaries[[#This Row],[Currency]],tblXrate[],2,FALSE)","v":135000},"Manager of Trade Investment & Analysis","Manager","USA",{"$f":"VLOOKUP(tblSalaries[[#This Row],[Where do you work]],tblCountries[[Actual]:[Mapping]],2,FALSE)","v":"USA"},"All the 8 hours baby, all the 8!",null,{"$f":"VLOOKUP(K338,tblCountries[],3,0)","v":"North Amer."},{"$f":"VLOOKUP(tblSalaries[[#This Row],[How many hours of a day you work on Excel]],tblHours,2,0)","v":5},{"$f":"VLOOKUP(tblSalaries[[#This Row],[clean Country]],tblCountries[],5,0)","v":1},{"$f":"IF($Q$1,tblSalaries[[#This Row],[PPP Factor]]*tblSalaries[[#This Row],[Salary in USD]],tblSalaries[[#This Row],[Salary in USD]])","v":135000}]
[null,"ID0340","2012-05-26T01:35:18","30000 Rs",360000,"INR",{"$f":"tblSalaries[[#This Row],[clean Salary (in local currency)]]*VLOOKUP(tblSalaries[[#This Row],[Currency]],tblXrate[],2,FALSE)","v":6410.8500074793246},"Business Analysit","Analyst","India",{"$f":"VLOOKUP(tblSalaries[[#This Row],[Where do you work]],tblCountries[[Actual]:[Mapping]],2,FALSE)","v":"India"},"2 to 3 hours per day",null,{"$f":"VLOOKUP(K339,tblCountries[],3,0)","v":"Asia"},{"$f":"VLOOKUP(tblSalaries[[#This Row],[How many hours of a day you work on Excel]],tblHours,2,0)","v":3},{"$f":"VLOOKUP(tblSalaries[[#This Row],[clean Country]],tblCountries[],5,0)","v":13.098808879263672},{"$f":"IF($Q$1,tblSalaries[[#This Row],[PPP Factor]]*tblSalaries[[#This Row],[Salary in USD]],tblSalaries[[#This Row],[Salary in USD]])","v":6410.8500074793246}]
[null,"ID0341","2012-05-26T01:35:35",29000,29000,"USD",{"$f":"tblSalaries[[#This Row],[clean Salary (in local currency)]]*VLOOKUP(tblSalaries[[#This Row],[Currency]],tblXrate[],2,FALSE)","v":29000},"Assistant Outside Plant Project Manager","Manager","USA",{"$f":"VLOOKUP(tblSalaries[[#This Row],[Where do you work]],tblCountries[[Actual]:[Mapping]],2,FALSE)","v":"USA"},"4 to 6 hours a day",null,{"$f":"VLOOKUP(K340,tblCountries[],3,0)","v":"North Amer."},{"$f":"VLOOKUP(tblSalaries[[#This Row],[How many hours of a day you work on Excel]],tblHours,2,0)","v":4},{"$f":"VLOOKUP(tblSalaries[[#This Row],[clean Country]],tblCountries[],5,0)","v":1},{"$f":"IF($Q$1,tblSalaries[[#This Row],[PPP Factor]]*tblSalaries[[#This Row],[Salary in USD]],tblSalaries[[#This Row],[Salary in USD]])","v":29000}]
[null,"ID0342","2012-05-26T01:37:33",13000,13000,"USD",{"$f":"tblSalaries[[#This Row],[clean Salary (in local currency)]]*VLOOKUP(tblSalaries[[#This Row],[Currency]],tblXrate[],2,FALSE)","v":13000},"operation-manager","Manager","India",{"$f":"VLOOKUP(tblSalaries[[#This Row],[Where do you work]],tblCountries[[Actual]:[Mapping]],2,FALSE)","v":"India"},"All the 8 hours baby, all the 8!",null,{"$f":"VLOOKUP(K341,tblCountries[],3,0)","v":"Asia"},{"$f":"VLOOKUP(tblSalaries[[#This Row],[How many hours of a day you work on Excel]],tblHours,2,0)","v":5},{"$f":"VLOOKUP(tblSalaries[[#This Row],[clean Country]],tblCountries[],5,0)","v":13.098808879263672},{"$f":"IF($Q$1,tblSalaries[[#This Row],[PPP Factor]]*tblSalaries[[#This Row],[Salary in USD]],tblSalaries[[#This Row],[Salary in USD]])","v":13000}]
[null,"ID0343","2012-05-26T01:38:06","63000 USD",63000,"USD",{"$f":"tblSalaries[[#This Row],[clean Salary (in local currency)]]*VLOOKUP(tblSalaries[[#This Row],[Currency]],tblXrate[],2,FALSE)","v":63000},"Sales Analyst","Analyst","USA",{"$f":"VLOOKUP(tblSalaries[[#This Row],[Where do you work]],tblCountries[[Actual]:[Mapping]],2,FALSE)","v":"USA"},"All the 8 hours baby, all the 8!",null,{"$f":"VLOOKUP(K342,tblCountries[],3,0)","v":"North Amer."},{"$f":"VLOOKUP(tblSalaries[[#This Row],[How many hours of a day you work on Excel]],tblHours,2,0)","v":5},{"$f":"VLOOKUP(tblSalaries[[#This Row],[clean Country]],tblCountries[],5,0)","v":1},{"$f":"IF($Q$1,tblSalaries[[#This Row],[PPP Factor]]*tblSalaries[[#This Row],[Salary in USD]],tblSalaries[[#This Row],[Salary in USD]])","v":63000}]
[null,"ID0344","2012-05-26T01:38:06",95000,95000,"USD",{"$f":"tblSalaries[[#This Row],[clean Salary (in local currency)]]*VLOOKUP(tblSalaries[[#This Row],[Currency]],tblXrate[],2,FALSE)","v":95000},"Senior Financial Analyst","Analyst","USA",{"$f":"VLOOKUP(tblSalaries[[#This Row],[Where do you work]],tblCountries[[Actual]:[Mapping]],2,FALSE)","v":"USA"},"4 to 6 hours a day",null,{"$f":"VLOOKUP(K343,tblCountries[],3,0)","v":"North Amer."},{"$f":"VLOOKUP(tblSalaries[[#This Row],[How many hours of a day you work on Excel]],tblHours,2,0)","v":4},{"$f":"VLOOKUP(tblSalaries[[#This Row],[clean Country]],tblCountries[],5,0)","v":1},{"$f":"IF($Q$1,tblSalaries[[#This Row],[PPP Factor]]*tblSalaries[[#This Row],[Salary in USD]],tblSalaries[[#This Row],[Salary in USD]])","v":95000}]
[null,"ID0346","2012-05-26T01:38:51","100,000 US$ equiv",100000,"USD",{"$f":"tblSalaries[[#This Row],[clean Salary (in local currency)]]*VLOOKUP(tblSalaries[[#This Row],[Currency]],tblXrate[],2,FALSE)","v":100000},"Senior Data Analyst","Analyst","UK",{"$f":"VLOOKUP(tblSalaries[[#This Row],[Where do you work]],tblCountries[[Actual]:[Mapping]],2,FALSE)","v":"UK"},"4 to 6 hours a day",null,{"$f":"VLOOKUP(K344,tblCountries[],3,0)","v":"Europe"},{"$f":"VLOOKUP(tblSalaries[[#This Row],[How many hours of a day you work on Excel]],tblHours,2,0)","v":4},{"$f":"VLOOKUP(tblSalaries[[#This Row],[clean Country]],tblCountries[],5,0)","v":1.3407315045719035},{"$f":"IF($Q$1,tblSalaries[[#This Row],[PPP Factor]]*tblSalaries[[#This Row],[Salary in USD]],tblSalaries[[#This Row],[Salary in USD]])","v":100000}]
[null,"ID0347","2012-05-26T01:39:37","3.8 k",3800,"USD",{"$f":"tblSalaries[[#This Row],[clean Salary (in local currency)]]*VLOOKUP(tblSalaries[[#This Row],[Currency]],tblXrate[],2,FALSE)","v":3800},"MIS EXCUTIVE","Reporting","India",{"$f":"VLOOKUP(tblSalaries[[#This Row],[Where do you work]],tblCountries[[Actual]:[Mapping]],2,FALSE)","v":"India"},"4 to 6 hours a day",null,{"$f":"VLOOKUP(K345,tblCountries[],3,0)","v":"Asia"},{"$f":"VLOOKUP(tblSalaries[[#This Row],[How many hours of a day you work on Excel]],tblHours,2,0)","v":4},{"$f":"VLOOKUP(tblSalaries[[#This Row],[clean Country]],tblCountries[],5,0)","v":13.098808879263672},{"$f":"IF($Q$1,tblSalaries[[#This Row],[PPP Factor]]*tblSalaries[[#This Row],[Salary in USD]],tblSalaries[[#This Row],[Salary in USD]])","v":3800}]
[null,"ID0348","2012-05-26T01:40:05",950,11400,"USD",{"$f":"tblSalaries[[#This Row],[clean Salary (in local currency)]]*VLOOKUP(tblSalaries[[#This Row],[Currency]],tblXrate[],2,FALSE)","v":11400},"Advisor","Consultant","Brazil",{"$f":"VLOOKUP(tblSalaries[[#This Row],[Where do you work]],tblCountries[[Actual]:[Mapping]],2,FALSE)","v":"Brazil"},"4 to 6 hours a day",null,{"$f":"VLOOKUP(K346,tblCountries[],3,0)","v":"South Amer."},{"$f":"VLOOKUP(tblSalaries[[#This Row],[How many hours of a day you work on Excel]],tblHours,2,0)","v":4},{"$f":"VLOOKUP(tblSalaries[[#This Row],[clean Country]],tblCountries[],5,0)","v":4.1113943410655107},{"$f":"IF($Q$1,tblSalaries[[#This Row],[PPP Factor]]*tblSalaries[[#This Row],[Salary in USD]],tblSalaries[[#This Row],[Salary in USD]])","v":11400}]
[null,"ID0349","2012-05-26T01:40:18",56000,56000,"CAD",{"$f":"tblSalaries[[#This Row],[clean Salary (in local currency)]]*VLOOKUP(tblSalaries[[#This Row],[Currency]],tblXrate[],2,FALSE)","v":55068.245289698301},"Online Analyst","Analyst","Canada",{"$f":"VLOOKUP(tblSalaries[[#This Row],[Where do you work]],tblCountries[[Actual]:[Mapping]],2,FALSE)","v":"Canada"},"4 to 6 hours a day",null,{"$f":"VLOOKUP(K347,tblCountries[],3,0)","v":"North Amer."},{"$f":"VLOOKUP(tblSalaries[[#This Row],[How many hours of a day you work on Excel]],tblHours,2,0)","v":4},{"$f":"VLOOKUP(tblSalaries[[#This Row],[clean Country]],tblCountries[],5,0)","v":1.1935324732986359},{"$f":"IF($Q$1,tblSalaries[[#This Row],[PPP Factor]]*tblSalaries[[#This Row],[Salary in USD]],tblSalaries[[#This Row],[Salary in USD]])","v":55068.245289698301}]
[null,"ID0350","2012-05-26T01:40:28",53000,53000,"USD",{"$f":"tblSalaries[[#This Row],[clean Salary (in local currency)]]*VLOOKUP(tblSalaries[[#This Row],[Currency]],tblXrate[],2,FALSE)","v":53000},"General Manager","Manager","USA",{"$f":"VLOOKUP(tblSalaries[[#This Row],[Where do you work]],tblCountries[[Actual]:[Mapping]],2,FALSE)","v":"USA"},"2 to 3 hours per day",null,{"$f":"VLOOKUP(K348,tblCountries[],3,0)","v":"North Amer."},{"$f":"VLOOKUP(tblSalaries[[#This Row],[How many hours of a day you work on Excel]],tblHours,2,0)","v":3},{"$f":"VLOOKUP(tblSalaries[[#This Row],[clean Country]],tblCountries[],5,0)","v":1},{"$f":"IF($Q$1,tblSalaries[[#This Row],[PPP Factor]]*tblSalaries[[#This Row],[Salary in USD]],tblSalaries[[#This Row],[Salary in USD]])","v":53000}]
[null,"ID0351","2012-05-26T01:40:51",130000,130000,"USD",{"$f":"tblSalaries[[#This Row],[clean Salary (in local currency)]]*VLOOKUP(tblSalaries[[#This Row],[Currency]],tblXrate[],2,FALSE)","v":130000},"Sr Staff Engineer","Engineer","USA",{"$f":"VLOOKUP(tblSalaries[[#This Row],[Where do you work]],tblCountries[[Actual]:[Mapping]],2,FALSE)","v":"USA"},"4 to 6 hours a day",null,{"$f":"VLOOKUP(K349,tblCountries[],3,0)","v":"North Amer."},{"$f":"VLOOKUP(tblSalaries[[#This Row],[How many hours of a day you work on Excel]],tblHours,2,0)","v":4},{"$f":"VLOOKUP(tblSalaries[[#This Row],[clean Country]],tblCountries[],5,0)","v":1},{"$f":"IF($Q$1,tblSalaries[[#This Row],[PPP Factor]]*tblSalaries[[#This Row],[Salary in USD]],tblSalaries[[#This Row],[Salary in USD]])","v":130000}]
[null,"ID0352","2012-05-26T01:41:32","3,70,000",370000,"INR",{"$f":"tblSalaries[[#This Row],[clean Salary (in local currency)]]*VLOOKUP(tblSalaries[[#This Row],[Currency]],tblXrate[],2,FALSE)","v":6588.9291743537506},"Senior Design Associate","Analyst","India",{"$f":"VLOOKUP(tblSalaries[[#This Row],[Where do you work]],tblCountries[[Actual]:[Mapping]],2,FALSE)","v":"India"},"All the 8 hours baby, all the 8!",null,{"$f":"VLOOKUP(K350,tblCountries[],3,0)","v":"Asia"},{"$f":"VLOOKUP(tblSalaries[[#This Row],[How many hours of a day you work on Excel]],tblHours,2,0)","v":5},{"$f":"VLOOKUP(tblSalaries[[#This Row],[clean Country]],tblCountries[],5,0)","v":13.098808879263672},{"$f":"IF($Q$1,tblSalaries[[#This Row],[PPP Factor]]*tblSalaries[[#This Row],[Salary in USD]],tblSalaries[[#This Row],[Salary in USD]])","v":6588.9291743537506}]
[null,"ID0353","2012-05-26T01:41:53",160000,160000,"CAD",{"$f":"tblSalaries[[#This Row],[clean Salary (in local currency)]]*VLOOKUP(tblSalaries[[#This Row],[Currency]],tblXrate[],2,FALSE)","v":157337.8436848523},"Consultant","Consultant","Canada",{"$f":"VLOOKUP(tblSalaries[[#This Row],[Where do you work]],tblCountries[[Actual]:[Mapping]],2,FALSE)","v":"Canada"},"2 to 3 hours per day",null,{"$f":"VLOOKUP(K351,tblCountries[],3,0)","v":"North Amer."},{"$f":"VLOOKUP(tblSalaries[[#This Row],[How many hours of a day you work on Excel]],tblHours,2,0)","v":3},{"$f":"VLOOKUP(tblSalaries[[#This Row],[clean Country]],tblCountries[],5,0)","v":1.1935324732986359},{"$f":"IF($Q$1,tblSalaries[[#This Row],[PPP Factor]]*tblSalaries[[#This Row],[Salary in USD]],tblSalaries[[#This Row],[Salary in USD]])","v":157337.8436848523}]
[null,"ID0354","2012-05-26T01:41:54",44200,44200,"USD",{"$f":"tblSalaries[[#This Row],[clean Salary (in local currency)]]*VLOOKUP(tblSalaries[[#This Row],[Currency]],tblXrate[],2,FALSE)","v":44200},"Planning and Analysis Supervisor","Analyst","USA",{"$f":"VLOOKUP(tblSalaries[[#This Row],[Where do you work]],tblCountries[[Actual]:[Mapping]],2,FALSE)","v":"USA"},"All the 8 hours baby, all the 8!",null,{"$f":"VLOOKUP(K352,tblCountries[],3,0)","v":"North Amer."},{"$f":"VLOOKUP(tblSalaries[[#This Row],[How many hours of a day you work on Excel]],tblHours,2,0)","v":5},{"$f":"VLOOKUP(tblSalaries[[#This Row],[clean Country]],tblCountries[],5,0)","v":1},{"$f":"IF($Q$1,tblSalaries[[#This Row],[PPP Factor]]*tblSalaries[[#This Row],[Salary in USD]],tblSalaries[[#This Row],[Salary in USD]])","v":44200}]
[null,"ID0355","2012-05-26T01:42:07",56000,56000,"USD",{"$f":"tblSalaries[[#This Row],[clean Salary (in local currency)]]*VLOOKUP(tblSalaries[[#This Row],[Currency]],tblXrate[],2,FALSE)","v":56000},"asset manager","Manager","USA",{"$f":"VLOOKUP(tblSalaries[[#This Row],[Where do you work]],tblCountries[[Actual]:[Mapping]],2,FALSE)","v":"USA"},"2 to 3 hours per day",null,{"$f":"VLOOKUP(K353,tblCountries[],3,0)","v":"North Amer."},{"$f":"VLOOKUP(tblSalaries[[#This Row],[How many hours of a day you work on Excel]],tblHours,2,0)","v":3},{"$f":"VLOOKUP(tblSalaries[[#This Row],[clean Country]],tblCountries[],5,0)","v":1},{"$f":"IF($Q$1,tblSalaries[[#This Row],[PPP Factor]]*tblSalaries[[#This Row],[Salary in USD]],tblSalaries[[#This Row],[Salary in USD]])","v":56000}]
[null,"ID0356","2012-05-26T01:42:27",72500,72500,"USD",{"$f":"tblSalaries[[#This Row],[clean Salary (in local currency)]]*VLOOKUP(tblSalaries[[#This Row],[Currency]],tblXrate[],2,FALSE)","v":72500},"Transportation Engineer","Engineer","USA",{"$f":"VLOOKUP(tblSalaries[[#This Row],[Where do you work]],tblCountries[[Actual]:[Mapping]],2,FALSE)","v":"USA"},"2 to 3 hours per day",null,{"$f":"VLOOKUP(K354,tblCountries[],3,0)","v":"North Amer."},{"$f":"VLOOKUP(tblSalaries[[#This Row],[How many hours of a day you work on Excel]],tblHours,2,0)","v":3},{"$f":"VLOOKUP(tblSalaries[[#This Row],[clean Country]],tblCountries[],5,0)","v":1},{"$f":"IF($Q$1,tblSalaries[[#This Row],[PPP Factor]]*tblSalaries[[#This Row],[Salary in USD]],tblSalaries[[#This Row],[Salary in USD]])","v":72500}]
[null,"ID0357","2012-05-26T01:42:31",75000,75000,"CAD",{"$f":"tblSalaries[[#This Row],[clean Salary (in local currency)]]*VLOOKUP(tblSalaries[[#This Row],[Currency]],tblXrate[],2,FALSE)","v":73752.11422727452},"web marketing analyst","Analyst","canada",{"$f":"VLOOKUP(tblSalaries[[#This Row],[Where do you work]],tblCountries[[Actual]:[Mapping]],2,FALSE)","v":"Canada"},"4 to 6 hours a day",null,{"$f":"VLOOKUP(K355,tblCountries[],3,0)","v":"North Amer."},{"$f":"VLOOKUP(tblSalaries[[#This Row],[How many hours of a day you work on Excel]],tblHours,2,0)","v":4},{"$f":"VLOOKUP(tblSalaries[[#This Row],[clean Country]],tblCountries[],5,0)","v":1.1935324732986359},{"$f":"IF($Q$1,tblSalaries[[#This Row],[PPP Factor]]*tblSalaries[[#This Row],[Salary in USD]],tblSalaries[[#This Row],[Salary in USD]])","v":73752.11422727452}]
[null,"ID0358","2012-05-26T01:42:53","170000 usd",170000,"USD",{"$f":"tblSalaries[[#This Row],[clean Salary (in local currency)]]*VLOOKUP(tblSalaries[[#This Row],[Currency]],tblXrate[],2,FALSE)","v":170000},"RS","Analyst","UK",{"$f":"VLOOKUP(tblSalaries[[#This Row],[Where do you work]],tblCountries[[Actual]:[Mapping]],2,FALSE)","v":"UK"},"Excel ?!? What Excel?",null,{"$f":"VLOOKUP(K356,tblCountries[],3,0)","v":"Europe"},{"$f":"VLOOKUP(tblSalaries[[#This Row],[How many hours of a day you work on Excel]],tblHours,2,0)","v":1},{"$f":"VLOOKUP(tblSalaries[[#This Row],[clean Country]],tblCountries[],5,0)","v":1.3407315045719035},{"$f":"IF($Q$1,tblSalaries[[#This Row],[PPP Factor]]*tblSalaries[[#This Row],[Salary in USD]],tblSalaries[[#This Row],[Salary in USD]])","v":170000}]
[null,"ID0359","2012-05-26T01:43:48",68000,68000,"USD",{"$f":"tblSalaries[[#This Row],[clean Salary (in local currency)]]*VLOOKUP(tblSalaries[[#This Row],[Currency]],tblXrate[],2,FALSE)","v":68000},"Project Manager","Manager","USA",{"$f":"VLOOKUP(tblSalaries[[#This Row],[Where do you work]],tblCountries[[Actual]:[Mapping]],2,FALSE)","v":"USA"},"2 to 3 hours per day",null,{"$f":"VLOOKUP(K357,tblCountries[],3,0)","v":"North Amer."},{"$f":"VLOOKUP(tblSalaries[[#This Row],[How many hours of a day you work on Excel]],tblHours,2,0)","v":3},{"$f":"VLOOKUP(tblSalaries[[#This Row],[clean Country]],tblCountries[],5,0)","v":1},{"$f":"IF($Q$1,tblSalaries[[#This Row],[PPP Factor]]*tblSalaries[[#This Row],[Salary in USD]],tblSalaries[[#This Row],[Salary in USD]])","v":68000}]
[null,"ID0360","2012-05-26T01:44:59",75000,75000,"USD",{"$f":"tblSalaries[[#This Row],[clean Salary (in local currency)]]*VLOOKUP(tblSalaries[[#This Row],[Currency]],tblXrate[],2,FALSE)","v":75000},"Sr. Financial Analyst","Analyst","USA",{"$f":"VLOOKUP(tblSalaries[[#This Row],[Where do you work]],tblCountries[[Actual]:[Mapping]],2,FALSE)","v":"USA"},"All the 8 hours baby, all the 8!",null,{"$f":"VLOOKUP(K358,tblCountries[],3,0)","v":"North Amer."},{"$f":"VLOOKUP(tblSalaries[[#This Row],[How many hours of a day you work on Excel]],tblHours,2,0)","v":5},{"$f":"VLOOKUP(tblSalaries[[#This Row],[clean Country]],tblCountries[],5,0)","v":1},{"$f":"IF($Q$1,tblSalaries[[#This Row],[PPP Factor]]*tblSalaries[[#This Row],[Salary in USD]],tblSalaries[[#This Row],[Salary in USD]])","v":75000}]
[null,"ID0361","2012-05-26T01:45:50","62500.00 USD",62500,"USD",{"$f":"tblSalaries[[#This Row],[clean Salary (in local currency)]]*VLOOKUP(tblSalaries[[#This Row],[Currency]],tblXrate[],2,FALSE)","v":62500},"Director of Payroll","CXO or Top Mgmt.","USA",{"$f":"VLOOKUP(tblSalaries[[#This Row],[Where do you work]],tblCountries[[Actual]:[Mapping]],2,FALSE)","v":"USA"},"All the 8 hours baby, all the 8!",null,{"$f":"VLOOKUP(K359,tblCountries[],3,0)","v":"North Amer."},{"$f":"VLOOKUP(tblSalaries[[#This Row],[How many hours of a day you work on Excel]],tblHours,2,0)","v":5},{"$f":"VLOOKUP(tblSalaries[[#This Row],[clean Country]],tblCountries[],5,0)","v":1},{"$f":"IF($Q$1,tblSalaries[[#This Row],[PPP Factor]]*tblSalaries[[#This Row],[Salary in USD]],tblSalaries[[#This Row],[Salary in USD]])","v":62500}]
[null,"ID0362","2012-05-26T01:45:58",25000,25000,"USD",{"$f":"tblSalaries[[#This Row],[clean Salary (in local currency)]]*VLOOKUP(tblSalaries[[#This Row],[Currency]],tblXrate[],2,FALSE)","v":25000},"Manager","Manager","India",{"$f":"VLOOKUP(tblSalaries[[#This Row],[Where do you work]],tblCountries[[Actual]:[Mapping]],2,FALSE)","v":"India"},"4 to 6 hours a day",null,{"$f":"VLOOKUP(K360,tblCountries[],3,0)","v":"Asia"},{"$f":"VLOOKUP(tblSalaries[[#This Row],[How many hours of a day you work on Excel]],tblHours,2,0)","v":4},{"$f":"VLOOKUP(tblSalaries[[#This Row],[clean Country]],tblCountries[],5,0)","v":13.098808879263672},{"$f":"IF($Q$1,tblSalaries[[#This Row],[PPP Factor]]*tblSalaries[[#This Row],[Salary in USD]],tblSalaries[[#This Row],[Salary in USD]])","v":25000}]
[null,"ID0363","2012-05-26T01:46:24","480 000 SEK / 70000 US$",480000,"SEK",{"$f":"tblSalaries[[#This Row],[clean Salary (in local currency)]]*VLOOKUP(tblSalaries[[#This Row],[Currency]],tblXrate[],2,FALSE)","v":68954.520184280962},"IT consultant","Consultant","Sweden",{"$f":"VLOOKUP(tblSalaries[[#This Row],[Where do you work]],tblCountries[[Actual]:[Mapping]],2,FALSE)","v":"Sweden"},"1 or 2 hours a day",null,{"$f":"VLOOKUP(K361,tblCountries[],3,0)","v":"Europe"},{"$f":"VLOOKUP(tblSalaries[[#This Row],[How many hours of a day you work on Excel]],tblHours,2,0)","v":2},{"$f":"VLOOKUP(tblSalaries[[#This Row],[clean Country]],tblCountries[],5,0)","v":1.1978759221666584},{"$f":"IF($Q$1,tblSalaries[[#This Row],[PPP Factor]]*tblSalaries[[#This Row],[Salary in USD]],tblSalaries[[#This Row],[Salary in USD]])","v":68954.520184280962}]
[null,"ID0365","2012-05-26T01:49:19",85000,85000,"USD",{"$f":"tblSalaries[[#This Row],[clean Salary (in local currency)]]*VLOOKUP(tblSalaries[[#This Row],[Currency]],tblXrate[],2,FALSE)","v":85000},"Sr. Financial Analyst","Analyst","USA",{"$f":"VLOOKUP(tblSalaries[[#This Row],[Where do you work]],tblCountries[[Actual]:[Mapping]],2,FALSE)","v":"USA"},"4 to 6 hours a day",null,{"$f":"VLOOKUP(K362,tblCountries[],3,0)","v":"North Amer."},{"$f":"VLOOKUP(tblSalaries[[#This Row],[How many hours of a day you work on Excel]],tblHours,2,0)","v":4},{"$f":"VLOOKUP(tblSalaries[[#This Row],[clean Country]],tblCountries[],5,0)","v":1},{"$f":"IF($Q$1,tblSalaries[[#This Row],[PPP Factor]]*tblSalaries[[#This Row],[Salary in USD]],tblSalaries[[#This Row],[Salary in USD]])","v":85000}]
[null,"ID0366","2012-05-26T01:49:55",43000,43000,"GBP",{"$f":"tblSalaries[[#This Row],[clean Salary (in local currency)]]*VLOOKUP(tblSalaries[[#This Row],[Currency]],tblXrate[],2,FALSE)","v":67775.665698893223},"Commercial Manager","Manager","UK",{"$f":"VLOOKUP(tblSalaries[[#This Row],[Where do you work]],tblCountries[[Actual]:[Mapping]],2,FALSE)","v":"UK"},"4 to 6 hours a day",null,{"$f":"VLOOKUP(K363,tblCountries[],3,0)","v":"Europe"},{"$f":"VLOOKUP(tblSalaries[[#This Row],[How many hours of a day you work on Excel]],tblHours,2,0)","v":4},{"$f":"VLOOKUP(tblSalaries[[#This Row],[clean Country]],tblCountries[],5,0)","v":1.3407315045719035},{"$f":"IF($Q$1,tblSalaries[[#This Row],[PPP Factor]]*tblSalaries[[#This Row],[Salary in USD]],tblSalaries[[#This Row],[Salary in USD]])","v":67775.665698893223}]
[null,"ID0367","2012-05-26T01:49:56",89000,89000,"USD",{"$f":"tblSalaries[[#This Row],[clean Salary (in local currency)]]*VLOOKUP(tblSalaries[[#This Row],[Currency]],tblXrate[],2,FALSE)","v":89000},"Quality Assurance Officer","Manager","USA",{"$f":"VLOOKUP(tblSalaries[[#This Row],[Where do you work]],tblCountries[[Actual]:[Mapping]],2,FALSE)","v":"USA"},"4 to 6 hours a day",null,{"$f":"VLOOKUP(K364,tblCountries[],3,0)","v":"North Amer."},{"$f":"VLOOKUP(tblSalaries[[#This Row],[How many hours of a day you work on Excel]],tblHours,2,0)","v":4},{"$f":"VLOOKUP(tblSalaries[[#This Row],[clean Country]],tblCountries[],5,0)","v":1},{"$f":"IF($Q$1,tblSalaries[[#This Row],[PPP Factor]]*tblSalaries[[#This Row],[Salary in USD]],tblSalaries[[#This Row],[Salary in USD]])","v":89000}]
[null,"ID0368","2012-05-26T01:50:00",35000,35000,"USD",{"$f":"tblSalaries[[#This Row],[clean Salary (in local currency)]]*VLOOKUP(tblSalaries[[#This Row],[Currency]],tblXrate[],2,FALSE)","v":35000},"Senior Treasury Analyst","Analyst","Brasil",{"$f":"VLOOKUP(tblSalaries[[#This Row],[Where do you work]],tblCountries[[Actual]:[Mapping]],2,FALSE)","v":"Brazil"},"All the 8 hours baby, all the 8!",null,{"$f":"VLOOKUP(K365,tblCountries[],3,0)","v":"South Amer."},{"$f":"VLOOKUP(tblSalaries[[#This Row],[How many hours of a day you work on Excel]],tblHours,2,0)","v":5},{"$f":"VLOOKUP(tblSalaries[[#This Row],[clean Country]],tblCountries[],5,0)","v":4.1113943410655107},{"$f":"IF($Q$1,tblSalaries[[#This Row],[PPP Factor]]*tblSalaries[[#This Row],[Salary in USD]],tblSalaries[[#This Row],[Salary in USD]])","v":35000}]
[null,"ID0369","2012-05-26T01:50:28",47500,47500,"USD",{"$f":"tblSalaries[[#This Row],[clean Salary (in local currency)]]*VLOOKUP(tblSalaries[[#This Row],[Currency]],tblXrate[],2,FALSE)","v":47500},"Supervisor, Contracts, Rebates, Chargebacks and Returns","Manager","USA",{"$f":"VLOOKUP(tblSalaries[[#This Row],[Where do you work]],tblCountries[[Actual]:[Mapping]],2,FALSE)","v":"USA"},"All the 8 hours baby, all the 8!",null,{"$f":"VLOOKUP(K366,tblCountries[],3,0)","v":"North Amer."},{"$f":"VLOOKUP(tblSalaries[[#This Row],[How many hours of a day you work on Excel]],tblHours,2,0)","v":5},{"$f":"VLOOKUP(tblSalaries[[#This Row],[clean Country]],tblCountries[],5,0)","v":1},{"$f":"IF($Q$1,tblSalaries[[#This Row],[PPP Factor]]*tblSalaries[[#This Row],[Salary in USD]],tblSalaries[[#This Row],[Salary in USD]])","v":47500}]
[null,"ID0370","2012-05-26T01:50:30",130000,130000,"USD",{"$f":"tblSalaries[[#This Row],[clean Salary (in local currency)]]*VLOOKUP(tblSalaries[[#This Row],[Currency]],tblXrate[],2,FALSE)","v":130000},"Project Manager","Manager","USA",{"$f":"VLOOKUP(tblSalaries[[#This Row],[Where do you work]],tblCountries[[Actual]:[Mapping]],2,FALSE)","v":"USA"},"2 to 3 hours per day",null,{"$f":"VLOOKUP(K367,tblCountries[],3,0)","v":"North Amer."},{"$f":"VLOOKUP(tblSalaries[[#This Row],[How many hours of a day you work on Excel]],tblHours,2,0)","v":3},{"$f":"VLOOKUP(tblSalaries[[#This Row],[clean Country]],tblCountries[],5,0)","v":1},{"$f":"IF($Q$1,tblSalaries[[#This Row],[PPP Factor]]*tblSalaries[[#This Row],[Salary in USD]],tblSalaries[[#This Row],[Salary in USD]])","v":130000}]
[null,"ID0371","2012-05-26T01:50:56",18000,18000,"USD",{"$f":"tblSalaries[[#This Row],[clean Salary (in local currency)]]*VLOOKUP(tblSalaries[[#This Row],[Currency]],tblXrate[],2,FALSE)","v":18000},"ceo","CXO or Top Mgmt.","India",{"$f":"VLOOKUP(tblSalaries[[#This Row],[Where do you work]],tblCountries[[Actual]:[Mapping]],2,FALSE)","v":"India"},"2 to 3 hours per day",null,{"$f":"VLOOKUP(K368,tblCountries[],3,0)","v":"Asia"},{"$f":"VLOOKUP(tblSalaries[[#This Row],[How many hours of a day you work on Excel]],tblHours,2,0)","v":3},{"$f":"VLOOKUP(tblSalaries[[#This Row],[clean Country]],tblCountries[],5,0)","v":13.098808879263672},{"$f":"IF($Q$1,tblSalaries[[#This Row],[PPP Factor]]*tblSalaries[[#This Row],[Salary in USD]],tblSalaries[[#This Row],[Salary in USD]])","v":18000}]
[null,"ID0372","2012-05-26T01:50:59","480000 Rs.",480000,"INR",{"$f":"tblSalaries[[#This Row],[clean Salary (in local currency)]]*VLOOKUP(tblSalaries[[#This Row],[Currency]],tblXrate[],2,FALSE)","v":8547.8000099724322},"System Manager","Manager","India",{"$f":"VLOOKUP(tblSalaries[[#This Row],[Where do you work]],tblCountries[[Actual]:[Mapping]],2,FALSE)","v":"India"},"1 or 2 hours a day",null,{"$f":"VLOOKUP(K369,tblCountries[],3,0)","v":"Asia"},{"$f":"VLOOKUP(tblSalaries[[#This Row],[How many hours of a day you work on Excel]],tblHours,2,0)","v":2},{"$f":"VLOOKUP(tblSalaries[[#This Row],[clean Country]],tblCountries[],5,0)","v":13.098808879263672},{"$f":"IF($Q$1,tblSalaries[[#This Row],[PPP Factor]]*tblSalaries[[#This Row],[Salary in USD]],tblSalaries[[#This Row],[Salary in USD]])","v":8547.8000099724322}]
[null,"ID0373","2012-05-26T01:51:24",41932,41932,"USD",{"$f":"tblSalaries[[#This Row],[clean Salary (in local currency)]]*VLOOKUP(tblSalaries[[#This Row],[Currency]],tblXrate[],2,FALSE)","v":41932},"Buyer","Manager","USA",{"$f":"VLOOKUP(tblSalaries[[#This Row],[Where do you work]],tblCountries[[Actual]:[Mapping]],2,FALSE)","v":"USA"},"2 to 3 hours per day",null,{"$f":"VLOOKUP(K370,tblCountries[],3,0)","v":"North Amer."},{"$f":"VLOOKUP(tblSalaries[[#This Row],[How many hours of a day you work on Excel]],tblHours,2,0)","v":3},{"$f":"VLOOKUP(tblSalaries[[#This Row],[clean Country]],tblCountries[],5,0)","v":1},{"$f":"IF($Q$1,tblSalaries[[#This Row],[PPP Factor]]*tblSalaries[[#This Row],[Salary in USD]],tblSalaries[[#This Row],[Salary in USD]])","v":41932}]
[null,"ID0374","2012-05-26T01:52:01","2207,00",220700,"USD",{"$f":"tblSalaries[[#This Row],[clean Salary (in local currency)]]*VLOOKUP(tblSalaries[[#This Row],[Currency]],tblXrate[],2,FALSE)","v":220700},"Consultant","Consultant","Brazil",{"$f":"VLOOKUP(tblSalaries[[#This Row],[Where do you work]],tblCountries[[Actual]:[Mapping]],2,FALSE)","v":"Brazil"},"All the 8 hours baby, all the 8!",null,{"$f":"VLOOKUP(K371,tblCountries[],3,0)","v":"South Amer."},{"$f":"VLOOKUP(tblSalaries[[#This Row],[How many hours of a day you work on Excel]],tblHours,2,0)","v":5},{"$f":"VLOOKUP(tblSalaries[[#This Row],[clean Country]],tblCountries[],5,0)","v":4.1113943410655107},{"$f":"IF($Q$1,tblSalaries[[#This Row],[PPP Factor]]*tblSalaries[[#This Row],[Salary in USD]],tblSalaries[[#This Row],[Salary in USD]])","v":220700}]
[null,"ID0375","2012-05-26T01:52:04",194000,194000,"USD",{"$f":"tblSalaries[[#This Row],[clean Salary (in local currency)]]*VLOOKUP(tblSalaries[[#This Row],[Currency]],tblXrate[],2,FALSE)","v":194000},"director","CXO or Top Mgmt.","USA",{"$f":"VLOOKUP(tblSalaries[[#This Row],[Where do you work]],tblCountries[[Actual]:[Mapping]],2,FALSE)","v":"USA"},"2 to 3 hours per day",null,{"$f":"VLOOKUP(K372,tblCountries[],3,0)","v":"North Amer."},{"$f":"VLOOKUP(tblSalaries[[#This Row],[How many hours of a day you work on Excel]],tblHours,2,0)","v":3},{"$f":"VLOOKUP(tblSalaries[[#This Row],[clean Country]],tblCountries[],5,0)","v":1},{"$f":"IF($Q$1,tblSalaries[[#This Row],[PPP Factor]]*tblSalaries[[#This Row],[Salary in USD]],tblSalaries[[#This Row],[Salary in USD]])","v":194000}]
[null,"ID0376","2012-05-26T01:54:28",9000000,9000000,"INR",{"$f":"tblSalaries[[#This Row],[clean Salary (in local currency)]]*VLOOKUP(tblSalaries[[#This Row],[Currency]],tblXrate[],2,FALSE)","v":160271.25018698312},"Financial Analyst","Analyst","India",{"$f":"VLOOKUP(tblSalaries[[#This Row],[Where do you work]],tblCountries[[Actual]:[Mapping]],2,FALSE)","v":"India"},"4 to 6 hours a day",null,{"$f":"VLOOKUP(K373,tblCountries[],3,0)","v":"Asia"},{"$f":"VLOOKUP(tblSalaries[[#This Row],[How many hours of a day you work on Excel]],tblHours,2,0)","v":4},{"$f":"VLOOKUP(tblSalaries[[#This Row],[clean Country]],tblCountries[],5,0)","v":13.098808879263672},{"$f":"IF($Q$1,tblSalaries[[#This Row],[PPP Factor]]*tblSalaries[[#This Row],[Salary in USD]],tblSalaries[[#This Row],[Salary in USD]])","v":160271.25018698312}]
[null,"ID0377","2012-05-26T01:54:47","Rs. 500000",500000,"INR",{"$f":"tblSalaries[[#This Row],[clean Salary (in local currency)]]*VLOOKUP(tblSalaries[[#This Row],[Currency]],tblXrate[],2,FALSE)","v":8903.9583437212841},"Owner","Manager","India",{"$f":"VLOOKUP(tblSalaries[[#This Row],[Where do you work]],tblCountries[[Actual]:[Mapping]],2,FALSE)","v":"India"},"2 to 3 hours per day",null,{"$f":"VLOOKUP(K374,tblCountries[],3,0)","v":"Asia"},{"$f":"VLOOKUP(tblSalaries[[#This Row],[How many hours of a day you work on Excel]],tblHours,2,0)","v":3},{"$f":"VLOOKUP(tblSalaries[[#This Row],[clean Country]],tblCountries[],5,0)","v":13.098808879263672},{"$f":"IF($Q$1,tblSalaries[[#This Row],[PPP Factor]]*tblSalaries[[#This Row],[Salary in USD]],tblSalaries[[#This Row],[Salary in USD]])","v":8903.9583437212841}]
[null,"ID0378","2012-05-26T01:57:23",80000,80000,"CAD",{"$f":"tblSalaries[[#This Row],[clean Salary (in local currency)]]*VLOOKUP(tblSalaries[[#This Row],[Currency]],tblXrate[],2,FALSE)","v":78668.921842426149},"Senior Business Analyst","Analyst","Canada",{"$f":"VLOOKUP(tblSalaries[[#This Row],[Where do you work]],tblCountries[[Actual]:[Mapping]],2,FALSE)","v":"Canada"},"4 to 6 hours a day",null,{"$f":"VLOOKUP(K375,tblCountries[],3,0)","v":"North Amer."},{"$f":"VLOOKUP(tblSalaries[[#This Row],[How many hours of a day you work on Excel]],tblHours,2,0)","v":4},{"$f":"VLOOKUP(tblSalaries[[#This Row],[clean Country]],tblCountries[],5,0)","v":1.1935324732986359},{"$f":"IF($Q$1,tblSalaries[[#This Row],[PPP Factor]]*tblSalaries[[#This Row],[Salary in USD]],tblSalaries[[#This Row],[Salary in USD]])","v":78668.921842426149}]
[null,"ID0379","2012-05-26T01:57:40",1500,18000,"EUR",{"$f":"tblSalaries[[#This Row],[clean Salary (in local currency)]]*VLOOKUP(tblSalaries[[#This Row],[Currency]],tblXrate[],2,FALSE)","v":22867.189901848938},"marketing and sales ","Manager","Portugal",{"$f":"VLOOKUP(tblSalaries[[#This Row],[Where do you work]],tblCountries[[Actual]:[Mapping]],2,FALSE)","v":"Portugal"},"2 to 3 hours per day",null,{"$f":"VLOOKUP(K376,tblCountries[],3,0)","v":"Europe"},{"$f":"VLOOKUP(tblSalaries[[#This Row],[How many hours of a day you work on Excel]],tblHours,2,0)","v":3},{"$f":"VLOOKUP(tblSalaries[[#This Row],[clean Country]],tblCountries[],5,0)","v":2.0712726338769745},{"$f":"IF($Q$1,tblSalaries[[#This Row],[PPP Factor]]*tblSalaries[[#This Row],[Salary in USD]],tblSalaries[[#This Row],[Salary in USD]])","v":22867.189901848938}]
[null,"ID0380","2012-05-26T01:58:19","Â£60000",60000,"GBP",{"$f":"tblSalaries[[#This Row],[clean Salary (in local currency)]]*VLOOKUP(tblSalaries[[#This Row],[Currency]],tblXrate[],2,FALSE)","v":94570.696324037053},"Managing Director","CXO or Top Mgmt.","UK",{"$f":"VLOOKUP(tblSalaries[[#This Row],[Where do you work]],tblCountries[[Actual]:[Mapping]],2,FALSE)","v":"UK"},"2 to 3 hours per day",null,{"$f":"VLOOKUP(K377,tblCountries[],3,0)","v":"Europe"},{"$f":"VLOOKUP(tblSalaries[[#This Row],[How many hours of a day you work on Excel]],tblHours,2,0)","v":3},{"$f":"VLOOKUP(tblSalaries[[#This Row],[clean Country]],tblCountries[],5,0)","v":1.3407315045719035},{"$f":"IF($Q$1,tblSalaries[[#This Row],[PPP Factor]]*tblSalaries[[#This Row],[Salary in USD]],tblSalaries[[#This Row],[Salary in USD]])","v":94570.696324037053}]
[null,"ID0381","2012-05-26T01:58:42",95000,95000,"USD",{"$f":"tblSalaries[[#This Row],[clean Salary (in local currency)]]*VLOOKUP(tblSalaries[[#This Row],[Currency]],tblXrate[],2,FALSE)","v":95000},"Senior Financial Analyst","Analyst","USA",{"$f":"VLOOKUP(tblSalaries[[#This Row],[Where do you work]],tblCountries[[Actual]:[Mapping]],2,FALSE)","v":"USA"},"All the 8 hours baby, all the 8!",null,{"$f":"VLOOKUP(K378,tblCountries[],3,0)","v":"North Amer."},{"$f":"VLOOKUP(tblSalaries[[#This Row],[How many hours of a day you work on Excel]],tblHours,2,0)","v":5},{"$f":"VLOOKUP(tblSalaries[[#This Row],[clean Country]],tblCountries[],5,0)","v":1},{"$f":"IF($Q$1,tblSalaries[[#This Row],[PPP Factor]]*tblSalaries[[#This Row],[Salary in USD]],tblSalaries[[#This Row],[Salary in USD]])","v":95000}]
[null,"ID0382","2012-05-26T01:59:21","INR 5,40,000",540000,"INR",{"$f":"tblSalaries[[#This Row],[clean Salary (in local currency)]]*VLOOKUP(tblSalaries[[#This Row],[Currency]],tblXrate[],2,FALSE)","v":9616.275011218986},"Senior Billing Engineer","Engineer","India",{"$f":"VLOOKUP(tblSalaries[[#This Row],[Where do you work]],tblCountries[[Actual]:[Mapping]],2,FALSE)","v":"India"},"4 to 6 hours a day",null,{"$f":"VLOOKUP(K379,tblCountries[],3,0)","v":"Asia"},{"$f":"VLOOKUP(tblSalaries[[#This Row],[How many hours of a day you work on Excel]],tblHours,2,0)","v":4},{"$f":"VLOOKUP(tblSalaries[[#This Row],[clean Country]],tblCountries[],5,0)","v":13.098808879263672},{"$f":"IF($Q$1,tblSalaries[[#This Row],[PPP Factor]]*tblSalaries[[#This Row],[Salary in USD]],tblSalaries[[#This Row],[Salary in USD]])","v":9616.275011218986}]
[null,"ID0383","2012-05-26T01:59:40",48000,48000,"USD",{"$f":"tblSalaries[[#This Row],[clean Salary (in local currency)]]*VLOOKUP(tblSalaries[[#This Row],[Currency]],tblXrate[],2,FALSE)","v":48000},"Quality Analyst","Analyst","USA",{"$f":"VLOOKUP(tblSalaries[[#This Row],[Where do you work]],tblCountries[[Actual]:[Mapping]],2,FALSE)","v":"USA"},"1 or 2 hours a day",null,{"$f":"VLOOKUP(K380,tblCountries[],3,0)","v":"North Amer."},{"$f":"VLOOKUP(tblSalaries[[#This Row],[How many hours of a day you work on Excel]],tblHours,2,0)","v":2},{"$f":"VLOOKUP(tblSalaries[[#This Row],[clean Country]],tblCountries[],5,0)","v":1},{"$f":"IF($Q$1,tblSalaries[[#This Row],[PPP Factor]]*tblSalaries[[#This Row],[Salary in USD]],tblSalaries[[#This Row],[Salary in USD]])","v":48000}]
[null,"ID0384","2012-05-26T01:59:45","46000 usd",46000,"USD",{"$f":"tblSalaries[[#This Row],[clean Salary (in local currency)]]*VLOOKUP(tblSalaries[[#This Row],[Currency]],tblXrate[],2,FALSE)","v":46000},"Financial analyst","Analyst","USA",{"$f":"VLOOKUP(tblSalaries[[#This Row],[Where do you work]],tblCountries[[Actual]:[Mapping]],2,FALSE)","v":"USA"},"4 to 6 hours a day",null,{"$f":"VLOOKUP(K381,tblCountries[],3,0)","v":"North Amer."},{"$f":"VLOOKUP(tblSalaries[[#This Row],[How many hours of a day you work on Excel]],tblHours,2,0)","v":4},{"$f":"VLOOKUP(tblSalaries[[#This Row],[clean Country]],tblCountries[],5,0)","v":1},{"$f":"IF($Q$1,tblSalaries[[#This Row],[PPP Factor]]*tblSalaries[[#This Row],[Salary in USD]],tblSalaries[[#This Row],[Salary in USD]])","v":46000}]
[null,"ID0385","2012-05-26T01:59:48",15000,15000,"USD",{"$f":"tblSalaries[[#This Row],[clean Salary (in local currency)]]*VLOOKUP(tblSalaries[[#This Row],[Currency]],tblXrate[],2,FALSE)","v":15000},"Economist","Reporting","Ukraine",{"$f":"VLOOKUP(tblSalaries[[#This Row],[Where do you work]],tblCountries[[Actual]:[Mapping]],2,FALSE)","v":"Ukraine"},"2 to 3 hours per day",null,{"$f":"VLOOKUP(K382,tblCountries[],3,0)","v":"Europe"},{"$f":"VLOOKUP(tblSalaries[[#This Row],[How many hours of a day you work on Excel]],tblHours,2,0)","v":3},{"$f":"VLOOKUP(tblSalaries[[#This Row],[clean Country]],tblCountries[],5,0)","v":6.6897552882621323},{"$f":"IF($Q$1,tblSalaries[[#This Row],[PPP Factor]]*tblSalaries[[#This Row],[Salary in USD]],tblSalaries[[#This Row],[Salary in USD]])","v":15000}]
[null,"ID0386","2012-05-26T02:00:04","Rs 6.2 lakhs",620000,"INR",{"$f":"tblSalaries[[#This Row],[clean Salary (in local currency)]]*VLOOKUP(tblSalaries[[#This Row],[Currency]],tblXrate[],2,FALSE)","v":11040.908346214392},"assistant manager (finance)","Manager","India",{"$f":"VLOOKUP(tblSalaries[[#This Row],[Where do you work]],tblCountries[[Actual]:[Mapping]],2,FALSE)","v":"India"},"1 or 2 hours a day",null,{"$f":"VLOOKUP(K383,tblCountries[],3,0)","v":"Asia"},{"$f":"VLOOKUP(tblSalaries[[#This Row],[How many hours of a day you work on Excel]],tblHours,2,0)","v":2},{"$f":"VLOOKUP(tblSalaries[[#This Row],[clean Country]],tblCountries[],5,0)","v":13.098808879263672},{"$f":"IF($Q$1,tblSalaries[[#This Row],[PPP Factor]]*tblSalaries[[#This Row],[Salary in USD]],tblSalaries[[#This Row],[Salary in USD]])","v":11040.908346214392}]
[null,"ID0387","2012-05-26T02:00:10","Â£28000",28000,"GBP",{"$f":"tblSalaries[[#This Row],[clean Salary (in local currency)]]*VLOOKUP(tblSalaries[[#This Row],[Currency]],tblXrate[],2,FALSE)","v":44132.991617883956},"Central Services Manager","Manager","UK",{"$f":"VLOOKUP(tblSalaries[[#This Row],[Where do you work]],tblCountries[[Actual]:[Mapping]],2,FALSE)","v":"UK"},"2 to 3 hours per day",null,{"$f":"VLOOKUP(K384,tblCountries[],3,0)","v":"Europe"},{"$f":"VLOOKUP(tblSalaries[[#This Row],[How many hours of a day you work on Excel]],tblHours,2,0)","v":3},{"$f":"VLOOKUP(tblSalaries[[#This Row],[clean Country]],tblCountries[],5,0)","v":1.3407315045719035},{"$f":"IF($Q$1,tblSalaries[[#This Row],[PPP Factor]]*tblSalaries[[#This Row],[Salary in USD]],tblSalaries[[#This Row],[Salary in USD]])","v":44132.991617883956}]
[null,"ID0388","2012-05-26T02:00:14",47000,47000,"USD",{"$f":"tblSalaries[[#This Row],[clean Salary (in local currency)]]*VLOOKUP(tblSalaries[[#This Row],[Currency]],tblXrate[],2,FALSE)","v":47000},"Trainer ","Manager","USA",{"$f":"VLOOKUP(tblSalaries[[#This Row],[Where do you work]],tblCountries[[Actual]:[Mapping]],2,FALSE)","v":"USA"},"2 to 3 hours per day",null,{"$f":"VLOOKUP(K385,tblCountries[],3,0)","v":"North Amer."},{"$f":"VLOOKUP(tblSalaries[[#This Row],[How many hours of a day you work on Excel]],tblHours,2,0)","v":3},{"$f":"VLOOKUP(tblSalaries[[#This Row],[clean Country]],tblCountries[],5,0)","v":1},{"$f":"IF($Q$1,tblSalaries[[#This Row],[PPP Factor]]*tblSalaries[[#This Row],[Salary in USD]],tblSalaries[[#This Row],[Salary in USD]])","v":47000}]
[null,"ID0389","2012-05-26T02:00:42",44000,44000,"USD",{"$f":"tblSalaries[[#This Row],[clean Salary (in local currency)]]*VLOOKUP(tblSalaries[[#This Row],[Currency]],tblXrate[],2,FALSE)","v":44000},"continuous improvement team member","Analyst","USA",{"$f":"VLOOKUP(tblSalaries[[#This Row],[Where do you work]],tblCountries[[Actual]:[Mapping]],2,FALSE)","v":"USA"},"2 to 3 hours per day",null,{"$f":"VLOOKUP(K386,tblCountries[],3,0)","v":"North Amer."},{"$f":"VLOOKUP(tblSalaries[[#This Row],[How many hours of a day you work on Excel]],tblHours,2,0)","v":3},{"$f":"VLOOKUP(tblSalaries[[#This Row],[clean Country]],tblCountries[],5,0)","v":1},{"$f":"IF($Q$1,tblSalaries[[#This Row],[PPP Factor]]*tblSalaries[[#This Row],[Salary in USD]],tblSalaries[[#This Row],[Salary in USD]])","v":44000}]
[null,"ID0390","2012-05-26T02:00:46",55000,55000,"USD",{"$f":"tblSalaries[[#This Row],[clean Salary (in local currency)]]*VLOOKUP(tblSalaries[[#This Row],[Currency]],tblXrate[],2,FALSE)","v":55000},"Accountant","Accountant","USA",{"$f":"VLOOKUP(tblSalaries[[#This Row],[Where do you work]],tblCountries[[Actual]:[Mapping]],2,FALSE)","v":"USA"},"4 to 6 hours a day",null,{"$f":"VLOOKUP(K387,tblCountries[],3,0)","v":"North Amer."},{"$f":"VLOOKUP(tblSalaries[[#This Row],[How many hours of a day you work on Excel]],tblHours,2,0)","v":4},{"$f":"VLOOKUP(tblSalaries[[#This Row],[clean Country]],tblCountries[],5,0)","v":1},{"$f":"IF($Q$1,tblSalaries[[#This Row],[PPP Factor]]*tblSalaries[[#This Row],[Salary in USD]],tblSalaries[[#This Row],[Salary in USD]])","v":55000}]
[null,"ID0391","2012-05-26T02:00:54",12000,12000,"USD",{"$f":"tblSalaries[[#This Row],[clean Salary (in local currency)]]*VLOOKUP(tblSalaries[[#This Row],[Currency]],tblXrate[],2,FALSE)","v":12000},"MIS Officer","Reporting","South Africa",{"$f":"VLOOKUP(tblSalaries[[#This Row],[Where do you work]],tblCountries[[Actual]:[Mapping]],2,FALSE)","v":"South Africa"},"4 to 6 hours a day",null,{"$f":"VLOOKUP(K388,tblCountries[],3,0)","v":"Africa"},{"$f":"VLOOKUP(tblSalaries[[#This Row],[How many hours of a day you work on Excel]],tblHours,2,0)","v":4},{"$f":"VLOOKUP(tblSalaries[[#This Row],[clean Country]],tblCountries[],5,0)","v":4.4096418481727877},{"$f":"IF($Q$1,tblSalaries[[#This Row],[PPP Factor]]*tblSalaries[[#This Row],[Salary in USD]],tblSalaries[[#This Row],[Salary in USD]])","v":12000}]
[null,"ID0392","2012-05-26T02:01:07",50000,50000,"USD",{"$f":"tblSalaries[[#This Row],[clean Salary (in local currency)]]*VLOOKUP(tblSalaries[[#This Row],[Currency]],tblXrate[],2,FALSE)","v":50000},"IR Manager","Manager","USA",{"$f":"VLOOKUP(tblSalaries[[#This Row],[Where do you work]],tblCountries[[Actual]:[Mapping]],2,FALSE)","v":"USA"},"2 to 3 hours per day",null,{"$f":"VLOOKUP(K389,tblCountries[],3,0)","v":"North Amer."},{"$f":"VLOOKUP(tblSalaries[[#This Row],[How many hours of a day you work on Excel]],tblHours,2,0)","v":3},{"$f":"VLOOKUP(tblSalaries[[#This Row],[clean Country]],tblCountries[],5,0)","v":1},{"$f":"IF($Q$1,tblSalaries[[#This Row],[PPP Factor]]*tblSalaries[[#This Row],[Salary in USD]],tblSalaries[[#This Row],[Salary in USD]])","v":50000}]
[null,"ID0393","2012-05-26T02:01:31","7,50,000 INR",750000,"INR",{"$f":"tblSalaries[[#This Row],[clean Salary (in local currency)]]*VLOOKUP(tblSalaries[[#This Row],[Currency]],tblXrate[],2,FALSE)","v":13355.937515581925},"Business Analyst","Analyst","India",{"$f":"VLOOKUP(tblSalaries[[#This Row],[Where do you work]],tblCountries[[Actual]:[Mapping]],2,FALSE)","v":"India"},"1 or 2 hours a day",null,{"$f":"VLOOKUP(K390,tblCountries[],3,0)","v":"Asia"},{"$f":"VLOOKUP(tblSalaries[[#This Row],[How many hours of a day you work on Excel]],tblHours,2,0)","v":2},{"$f":"VLOOKUP(tblSalaries[[#This Row],[clean Country]],tblCountries[],5,0)","v":13.098808879263672},{"$f":"IF($Q$1,tblSalaries[[#This Row],[PPP Factor]]*tblSalaries[[#This Row],[Salary in USD]],tblSalaries[[#This Row],[Salary in USD]])","v":13355.937515581925}]
[null,"ID0394","2012-05-26T02:02:02","99147 $",99147,"USD",{"$f":"tblSalaries[[#This Row],[clean Salary (in local currency)]]*VLOOKUP(tblSalaries[[#This Row],[Currency]],tblXrate[],2,FALSE)","v":99147},"Chief Specialist of Economics & Planning","Specialist","Russia",{"$f":"VLOOKUP(tblSalaries[[#This Row],[Where do you work]],tblCountries[[Actual]:[Mapping]],2,FALSE)","v":"Russia"},"4 to 6 hours a day",null,{"$f":"VLOOKUP(K391,tblCountries[],3,0)","v":"Asia"},{"$f":"VLOOKUP(tblSalaries[[#This Row],[How many hours of a day you work on Excel]],tblHours,2,0)","v":4},{"$f":"VLOOKUP(tblSalaries[[#This Row],[clean Country]],tblCountries[],5,0)","v":2.8911926386233269},{"$f":"IF($Q$1,tblSalaries[[#This Row],[PPP Factor]]*tblSalaries[[#This Row],[Salary in USD]],tblSalaries[[#This Row],[Salary in USD]])","v":99147}]
[null,"ID0395","2012-05-26T02:03:35",45880,45880,"USD",{"$f":"tblSalaries[[#This Row],[clean Salary (in local currency)]]*VLOOKUP(tblSalaries[[#This Row],[Currency]],tblXrate[],2,FALSE)","v":45880},"Campus Budget Officer","Manager","USA",{"$f":"VLOOKUP(tblSalaries[[#This Row],[Where do you work]],tblCountries[[Actual]:[Mapping]],2,FALSE)","v":"USA"},"All the 8 hours baby, all the 8!",null,{"$f":"VLOOKUP(K392,tblCountries[],3,0)","v":"North Amer."},{"$f":"VLOOKUP(tblSalaries[[#This Row],[How many hours of a day you work on Excel]],tblHours,2,0)","v":5},{"$f":"VLOOKUP(tblSalaries[[#This Row],[clean Country]],tblCountries[],5,0)","v":1},{"$f":"IF($Q$1,tblSalaries[[#This Row],[PPP Factor]]*tblSalaries[[#This Row],[Salary in USD]],tblSalaries[[#This Row],[Salary in USD]])","v":45880}]
[null,"ID0396","2012-05-26T02:03:45",70000,70000,"USD",{"$f":"tblSalaries[[#This Row],[clean Salary (in local currency)]]*VLOOKUP(tblSalaries[[#This Row],[Currency]],tblXrate[],2,FALSE)","v":70000},"Management Ananlyst","Manager","USA",{"$f":"VLOOKUP(tblSalaries[[#This Row],[Where do you work]],tblCountries[[Actual]:[Mapping]],2,FALSE)","v":"USA"},"4 to 6 hours a day",null,{"$f":"VLOOKUP(K393,tblCountries[],3,0)","v":"North Amer."},{"$f":"VLOOKUP(tblSalaries[[#This Row],[How many hours of a day you work on Excel]],tblHours,2,0)","v":4},{"$f":"VLOOKUP(tblSalaries[[#This Row],[clean Country]],tblCountries[],5,0)","v":1},{"$f":"IF($Q$1,tblSalaries[[#This Row],[PPP Factor]]*tblSalaries[[#This Row],[Salary in USD]],tblSalaries[[#This Row],[Salary in USD]])","v":70000}]
[null,"ID0397","2012-05-26T02:04:01",100000,100000,"USD",{"$f":"tblSalaries[[#This Row],[clean Salary (in local currency)]]*VLOOKUP(tblSalaries[[#This Row],[Currency]],tblXrate[],2,FALSE)","v":100000},"Sales Operations Analyst","Analyst","USA",{"$f":"VLOOKUP(tblSalaries[[#This Row],[Where do you work]],tblCountries[[Actual]:[Mapping]],2,FALSE)","v":"USA"},"All the 8 hours baby, all the 8!",null,{"$f":"VLOOKUP(K394,tblCountries[],3,0)","v":"North Amer."},{"$f":"VLOOKUP(tblSalaries[[#This Row],[How many hours of a day you work on Excel]],tblHours,2,0)","v":5},{"$f":"VLOOKUP(tblSalaries[[#This Row],[clean Country]],tblCountries[],5,0)","v":1},{"$f":"IF($Q$1,tblSalaries[[#This Row],[PPP Factor]]*tblSalaries[[#This Row],[Salary in USD]],tblSalaries[[#This Row],[Salary in USD]])","v":100000}]
[null,"ID0398","2012-05-26T02:04:05","120000 BDT",1440000,"BDT",{"$f":"tblSalaries[[#This Row],[clean Salary (in local currency)]]*VLOOKUP(tblSalaries[[#This Row],[Currency]],tblXrate[],2,FALSE)","v":17598.017290051986},"Computer Operator","Analyst","Bangladesh",{"$f":"VLOOKUP(tblSalaries[[#This Row],[Where do you work]],tblCountries[[Actual]:[Mapping]],2,FALSE)","v":"Bangladesh"},"2 to 3 hours per day",null,{"$f":"VLOOKUP(K395,tblCountries[],3,0)","v":"Asia"},{"$f":"VLOOKUP(tblSalaries[[#This Row],[How many hours of a day you work on Excel]],tblHours,2,0)","v":3},{"$f":"VLOOKUP(tblSalaries[[#This Row],[clean Country]],tblCountries[],5,0)","v":28.580626107501477},{"$f":"IF($Q$1,tblSalaries[[#This Row],[PPP Factor]]*tblSalaries[[#This Row],[Salary in USD]],tblSalaries[[#This Row],[Salary in USD]])","v":17598.017290051986}]
[null,"ID0399","2012-05-26T02:05:06",85000,85000,"USD",{"$f":"tblSalaries[[#This Row],[clean Salary (in local currency)]]*VLOOKUP(tblSalaries[[#This Row],[Currency]],tblXrate[],2,FALSE)","v":85000},"ENGINEER","Engineer","USA",{"$f":"VLOOKUP(tblSalaries[[#This Row],[Where do you work]],tblCountries[[Actual]:[Mapping]],2,FALSE)","v":"USA"},"2 to 3 hours per day",null,{"$f":"VLOOKUP(K396,tblCountries[],3,0)","v":"North Amer."},{"$f":"VLOOKUP(tblSalaries[[#This Row],[How many hours of a day you work on Excel]],tblHours,2,0)","v":3},{"$f":"VLOOKUP(tblSalaries[[#This Row],[clean Country]],tblCountries[],5,0)","v":1},{"$f":"IF($Q$1,tblSalaries[[#This Row],[PPP Factor]]*tblSalaries[[#This Row],[Salary in USD]],tblSalaries[[#This Row],[Salary in USD]])","v":85000}]
[null,"ID0400","2012-05-26T02:05:49",47000,47000,"USD",{"$f":"tblSalaries[[#This Row],[clean Salary (in local currency)]]*VLOOKUP(tblSalaries[[#This Row],[Currency]],tblXrate[],2,FALSE)","v":47000},"Sr Management Analytst 2","Manager","USA",{"$f":"VLOOKUP(tblSalaries[[#This Row],[Where do you work]],tblCountries[[Actual]:[Mapping]],2,FALSE)","v":"USA"},"4 to 6 hours a day",null,{"$f":"VLOOKUP(K397,tblCountries[],3,0)","v":"North Amer."},{"$f":"VLOOKUP(tblSalaries[[#This Row],[How many hours of a day you work on Excel]],tblHours,2,0)","v":4},{"$f":"VLOOKUP(tblSalaries[[#This Row],[clean Country]],tblCountries[],5,0)","v":1},{"$f":"IF($Q$1,tblSalaries[[#This Row],[PPP Factor]]*tblSalaries[[#This Row],[Salary in USD]],tblSalaries[[#This Row],[Salary in USD]])","v":47000}]
[null,"ID0401","2012-05-26T02:05:58",40000,40000,"USD",{"$f":"tblSalaries[[#This Row],[clean Salary (in local currency)]]*VLOOKUP(tblSalaries[[#This Row],[Currency]],tblXrate[],2,FALSE)","v":40000},"Accounting Manager","Manager","USA",{"$f":"VLOOKUP(tblSalaries[[#This Row],[Where do you work]],tblCountries[[Actual]:[Mapping]],2,FALSE)","v":"USA"},"2 to 3 hours per day",null,{"$f":"VLOOKUP(K398,tblCountries[],3,0)","v":"North Amer."},{"$f":"VLOOKUP(tblSalaries[[#This Row],[How many hours of a day you work on Excel]],tblHours,2,0)","v":3},{"$f":"VLOOKUP(tblSalaries[[#This Row],[clean Country]],tblCountries[],5,0)","v":1},{"$f":"IF($Q$1,tblSalaries[[#This Row],[PPP Factor]]*tblSalaries[[#This Row],[Salary in USD]],tblSalaries[[#This Row],[Salary in USD]])","v":40000}]
[null,"ID0402","2012-05-26T02:06:38",30000,30000,"USD",{"$f":"tblSalaries[[#This Row],[clean Salary (in local currency)]]*VLOOKUP(tblSalaries[[#This Row],[Currency]],tblXrate[],2,FALSE)","v":30000},"ceo","CXO or Top Mgmt.","India",{"$f":"VLOOKUP(tblSalaries[[#This Row],[Where do you work]],tblCountries[[Actual]:[Mapping]],2,FALSE)","v":"India"},"2 to 3 hours per day",null,{"$f":"VLOOKUP(K399,tblCountries[],3,0)","v":"Asia"},{"$f":"VLOOKUP(tblSalaries[[#This Row],[How many hours of a day you work on Excel]],tblHours,2,0)","v":3},{"$f":"VLOOKUP(tblSalaries[[#This Row],[clean Country]],tblCountries[],5,0)","v":13.098808879263672},{"$f":"IF($Q$1,tblSalaries[[#This Row],[PPP Factor]]*tblSalaries[[#This Row],[Salary in USD]],tblSalaries[[#This Row],[Salary in USD]])","v":30000}]
[null,"ID0403","2012-05-26T02:06:56",72000,72000,"CAD",{"$f":"tblSalaries[[#This Row],[clean Salary (in local currency)]]*VLOOKUP(tblSalaries[[#This Row],[Currency]],tblXrate[],2,FALSE)","v":70802.029658183528},"Controller","Controller","Canada",{"$f":"VLOOKUP(tblSalaries[[#This Row],[Where do you work]],tblCountries[[Actual]:[Mapping]],2,FALSE)","v":"Canada"},"4 to 6 hours a day",null,{"$f":"VLOOKUP(K400,tblCountries[],3,0)","v":"North Amer."},{"$f":"VLOOKUP(tblSalaries[[#This Row],[How many hours of a day you work on Excel]],tblHours,2,0)","v":4},{"$f":"VLOOKUP(tblSalaries[[#This Row],[clean Country]],tblCountries[],5,0)","v":1.1935324732986359},{"$f":"IF($Q$1,tblSalaries[[#This Row],[PPP Factor]]*tblSalaries[[#This Row],[Salary in USD]],tblSalaries[[#This Row],[Salary in USD]])","v":70802.029658183528}]
[null,"ID0404","2012-05-26T02:07:28",34000,34000,"USD",{"$f":"tblSalaries[[#This Row],[clean Salary (in local currency)]]*VLOOKUP(tblSalaries[[#This Row],[Currency]],tblXrate[],2,FALSE)","v":34000},"Information Research Technician II","Analyst","USA",{"$f":"VLOOKUP(tblSalaries[[#This Row],[Where do you work]],tblCountries[[Actual]:[Mapping]],2,FALSE)","v":"USA"},"4 to 6 hours a day",null,{"$f":"VLOOKUP(K401,tblCountries[],3,0)","v":"North Amer."},{"$f":"VLOOKUP(tblSalaries[[#This Row],[How many hours of a day you work on Excel]],tblHours,2,0)","v":4},{"$f":"VLOOKUP(tblSalaries[[#This Row],[clean Country]],tblCountries[],5,0)","v":1},{"$f":"IF($Q$1,tblSalaries[[#This Row],[PPP Factor]]*tblSalaries[[#This Row],[Salary in USD]],tblSalaries[[#This Row],[Salary in USD]])","v":34000}]
[null,"ID0405","2012-05-26T02:07:49",52000,52000,"USD",{"$f":"tblSalaries[[#This Row],[clean Salary (in local currency)]]*VLOOKUP(tblSalaries[[#This Row],[Currency]],tblXrate[],2,FALSE)","v":52000},"Data Analyst","Analyst","USA",{"$f":"VLOOKUP(tblSalaries[[#This Row],[Where do you work]],tblCountries[[Actual]:[Mapping]],2,FALSE)","v":"USA"},"4 to 6 hours a day",null,{"$f":"VLOOKUP(K402,tblCountries[],3,0)","v":"North Amer."},{"$f":"VLOOKUP(tblSalaries[[#This Row],[How many hours of a day you work on Excel]],tblHours,2,0)","v":4},{"$f":"VLOOKUP(tblSalaries[[#This Row],[clean Country]],tblCountries[],5,0)","v":1},{"$f":"IF($Q$1,tblSalaries[[#This Row],[PPP Factor]]*tblSalaries[[#This Row],[Salary in USD]],tblSalaries[[#This Row],[Salary in USD]])","v":52000}]
[null,"ID0406","2012-05-26T02:08:10",300000,300000,"INR",{"$f":"tblSalaries[[#This Row],[clean Salary (in local currency)]]*VLOOKUP(tblSalaries[[#This Row],[Currency]],tblXrate[],2,FALSE)","v":5342.3750062327708},"Sr. Systems Engineer","Engineer","India",{"$f":"VLOOKUP(tblSalaries[[#This Row],[Where do you work]],tblCountries[[Actual]:[Mapping]],2,FALSE)","v":"India"},"1 or 2 hours a day",null,{"$f":"VLOOKUP(K403,tblCountries[],3,0)","v":"Asia"},{"$f":"VLOOKUP(tblSalaries[[#This Row],[How many hours of a day you work on Excel]],tblHours,2,0)","v":2},{"$f":"VLOOKUP(tblSalaries[[#This Row],[clean Country]],tblCountries[],5,0)","v":13.098808879263672},{"$f":"IF($Q$1,tblSalaries[[#This Row],[PPP Factor]]*tblSalaries[[#This Row],[Salary in USD]],tblSalaries[[#This Row],[Salary in USD]])","v":5342.3750062327708}]
[null,"ID0407","2012-05-26T02:09:57",400000,400000,"INR",{"$f":"tblSalaries[[#This Row],[clean Salary (in local currency)]]*VLOOKUP(tblSalaries[[#This Row],[Currency]],tblXrate[],2,FALSE)","v":7123.1666749770275},"Analyst","Analyst","India",{"$f":"VLOOKUP(tblSalaries[[#This Row],[Where do you work]],tblCountries[[Actual]:[Mapping]],2,FALSE)","v":"India"},"4 to 6 hours a day",null,{"$f":"VLOOKUP(K404,tblCountries[],3,0)","v":"Asia"},{"$f":"VLOOKUP(tblSalaries[[#This Row],[How many hours of a day you work on Excel]],tblHours,2,0)","v":4},{"$f":"VLOOKUP(tblSalaries[[#This Row],[clean Country]],tblCountries[],5,0)","v":13.098808879263672},{"$f":"IF($Q$1,tblSalaries[[#This Row],[PPP Factor]]*tblSalaries[[#This Row],[Salary in USD]],tblSalaries[[#This Row],[Salary in USD]])","v":7123.1666749770275}]
[null,"ID0408","2012-05-26T02:10:35",63586.95,63586,"USD",{"$f":"tblSalaries[[#This Row],[clean Salary (in local currency)]]*VLOOKUP(tblSalaries[[#This Row],[Currency]],tblXrate[],2,FALSE)","v":63586},"Senior Purchasing Officer","Manager","United Arab Emriate",{"$f":"VLOOKUP(tblSalaries[[#This Row],[Where do you work]],tblCountries[[Actual]:[Mapping]],2,FALSE)","v":"UAE"},"2 to 3 hours per day",null,{"$f":"VLOOKUP(K405,tblCountries[],3,0)","v":"Asia"},{"$f":"VLOOKUP(tblSalaries[[#This Row],[How many hours of a day you work on Excel]],tblHours,2,0)","v":3},{"$f":"VLOOKUP(tblSalaries[[#This Row],[clean Country]],tblCountries[],5,0)","v":1.0047551808629926},{"$f":"IF($Q$1,tblSalaries[[#This Row],[PPP Factor]]*tblSalaries[[#This Row],[Salary in USD]],tblSalaries[[#This Row],[Salary in USD]])","v":63586}]
[null,"ID0409","2012-05-26T02:11:40","Â£35000",35000,"GBP",{"$f":"tblSalaries[[#This Row],[clean Salary (in local currency)]]*VLOOKUP(tblSalaries[[#This Row],[Currency]],tblXrate[],2,FALSE)","v":55166.239522354947},"Mgmt Accountant","Accountant","UK",{"$f":"VLOOKUP(tblSalaries[[#This Row],[Where do you work]],tblCountries[[Actual]:[Mapping]],2,FALSE)","v":"UK"},"4 to 6 hours a day",null,{"$f":"VLOOKUP(K406,tblCountries[],3,0)","v":"Europe"},{"$f":"VLOOKUP(tblSalaries[[#This Row],[How many hours of a day you work on Excel]],tblHours,2,0)","v":4},{"$f":"VLOOKUP(tblSalaries[[#This Row],[clean Country]],tblCountries[],5,0)","v":1.3407315045719035},{"$f":"IF($Q$1,tblSalaries[[#This Row],[PPP Factor]]*tblSalaries[[#This Row],[Salary in USD]],tblSalaries[[#This Row],[Salary in USD]])","v":55166.239522354947}]
[null,"ID0410","2012-05-26T02:12:58",60000,60000,"USD",{"$f":"tblSalaries[[#This Row],[clean Salary (in local currency)]]*VLOOKUP(tblSalaries[[#This Row],[Currency]],tblXrate[],2,FALSE)","v":60000},"Sr financial analyst ","Analyst","USA",{"$f":"VLOOKUP(tblSalaries[[#This Row],[Where do you work]],tblCountries[[Actual]:[Mapping]],2,FALSE)","v":"USA"},"4 to 6 hours a day",null,{"$f":"VLOOKUP(K407,tblCountries[],3,0)","v":"North Amer."},{"$f":"VLOOKUP(tblSalaries[[#This Row],[How many hours of a day you work on Excel]],tblHours,2,0)","v":4},{"$f":"VLOOKUP(tblSalaries[[#This Row],[clean Country]],tblCountries[],5,0)","v":1},{"$f":"IF($Q$1,tblSalaries[[#This Row],[PPP Factor]]*tblSalaries[[#This Row],[Salary in USD]],tblSalaries[[#This Row],[Salary in USD]])","v":60000}]
[null,"ID0411","2012-05-26T02:13:57",19200,19200,"USD",{"$f":"tblSalaries[[#This Row],[clean Salary (in local currency)]]*VLOOKUP(tblSalaries[[#This Row],[Currency]],tblXrate[],2,FALSE)","v":19200},"Department Manager","Manager","Romania",{"$f":"VLOOKUP(tblSalaries[[#This Row],[Where do you work]],tblCountries[[Actual]:[Mapping]],2,FALSE)","v":"Romania"},"All the 8 hours baby, all the 8!",null,{"$f":"VLOOKUP(K408,tblCountries[],3,0)","v":"Europe"},{"$f":"VLOOKUP(tblSalaries[[#This Row],[How many hours of a day you work on Excel]],tblHours,2,0)","v":5},{"$f":"VLOOKUP(tblSalaries[[#This Row],[clean Country]],tblCountries[],5,0)","v":3.8784065405578709},{"$f":"IF($Q$1,tblSalaries[[#This Row],[PPP Factor]]*tblSalaries[[#This Row],[Salary in USD]],tblSalaries[[#This Row],[Salary in USD]])","v":19200}]
[null,"ID0412","2012-05-26T02:14:05","Â¢ 14.000.000,00",14000000,"COSTARICAN",{"$f":"tblSalaries[[#This Row],[clean Salary (in local currency)]]*VLOOKUP(tblSalaries[[#This Row],[Currency]],tblXrate[],2,FALSE)","v":28109.627547434993},"Businees Adminstratot","Analyst","Costa Rica",{"$f":"VLOOKUP(tblSalaries[[#This Row],[Where do you work]],tblCountries[[Actual]:[Mapping]],2,FALSE)","v":"Costa Rica"},"All the 8 hours baby, all the 8!",null,{"$f":"VLOOKUP(K409,tblCountries[],3,0)","v":"North Amer."},{"$f":"VLOOKUP(tblSalaries[[#This Row],[How many hours of a day you work on Excel]],tblHours,2,0)","v":5},{"$f":"VLOOKUP(tblSalaries[[#This Row],[clean Country]],tblCountries[],5,0)","v":4.0569296554037058},{"$f":"IF($Q$1,tblSalaries[[#This Row],[PPP Factor]]*tblSalaries[[#This Row],[Salary in USD]],tblSalaries[[#This Row],[Salary in USD]])","v":28109.627547434993}]
[null,"ID0413","2012-05-26T02:14:29",56000,56000,"USD",{"$f":"tblSalaries[[#This Row],[clean Salary (in local currency)]]*VLOOKUP(tblSalaries[[#This Row],[Currency]],tblXrate[],2,FALSE)","v":56000},"Staff assistant ","Analyst","USA",{"$f":"VLOOKUP(tblSalaries[[#This Row],[Where do you work]],tblCountries[[Actual]:[Mapping]],2,FALSE)","v":"USA"},"4 to 6 hours a day",null,{"$f":"VLOOKUP(K410,tblCountries[],3,0)","v":"North Amer."},{"$f":"VLOOKUP(tblSalaries[[#This Row],[How many hours of a day you work on Excel]],tblHours,2,0)","v":4},{"$f":"VLOOKUP(tblSalaries[[#This Row],[clean Country]],tblCountries[],5,0)","v":1},{"$f":"IF($Q$1,tblSalaries[[#This Row],[PPP Factor]]*tblSalaries[[#This Row],[Salary in USD]],tblSalaries[[#This Row],[Salary in USD]])","v":56000}]
[null,"ID0414","2012-05-26T02:14:48",52000,52000,"USD",{"$f":"tblSalaries[[#This Row],[clean Salary (in local currency)]]*VLOOKUP(tblSalaries[[#This Row],[Currency]],tblXrate[],2,FALSE)","v":52000},"Sr. Accountant","Accountant","USA",{"$f":"VLOOKUP(tblSalaries[[#This Row],[Where do you work]],tblCountries[[Actual]:[Mapping]],2,FALSE)","v":"USA"},"4 to 6 hours a day",null,{"$f":"VLOOKUP(K411,tblCountries[],3,0)","v":"North Amer."},{"$f":"VLOOKUP(tblSalaries[[#This Row],[How many hours of a day you work on Excel]],tblHours,2,0)","v":4},{"$f":"VLOOKUP(tblSalaries[[#This Row],[clean Country]],tblCountries[],5,0)","v":1},{"$f":"IF($Q$1,tblSalaries[[#This Row],[PPP Factor]]*tblSalaries[[#This Row],[Salary in USD]],tblSalaries[[#This Row],[Salary in USD]])","v":52000}]
[null,"ID0415","2012-05-26T02:15:19",51613,51613,"USD",{"$f":"tblSalaries[[#This Row],[clean Salary (in local currency)]]*VLOOKUP(tblSalaries[[#This Row],[Currency]],tblXrate[],2,FALSE)","v":51613},"Air Planning Analyst","Analyst","USA",{"$f":"VLOOKUP(tblSalaries[[#This Row],[Where do you work]],tblCountries[[Actual]:[Mapping]],2,FALSE)","v":"USA"},"All the 8 hours baby, all the 8!",null,{"$f":"VLOOKUP(K412,tblCountries[],3,0)","v":"North Amer."},{"$f":"VLOOKUP(tblSalaries[[#This Row],[How many hours of a day you work on Excel]],tblHours,2,0)","v":5},{"$f":"VLOOKUP(tblSalaries[[#This Row],[clean Country]],tblCountries[],5,0)","v":1},{"$f":"IF($Q$1,tblSalaries[[#This Row],[PPP Factor]]*tblSalaries[[#This Row],[Salary in USD]],tblSalaries[[#This Row],[Salary in USD]])","v":51613}]
[null,"ID0416","2012-05-26T02:17:01",35000,35000,"USD",{"$f":"tblSalaries[[#This Row],[clean Salary (in local currency)]]*VLOOKUP(tblSalaries[[#This Row],[Currency]],tblXrate[],2,FALSE)","v":35000},"Credit Analyst","Analyst","Russia",{"$f":"VLOOKUP(tblSalaries[[#This Row],[Where do you work]],tblCountries[[Actual]:[Mapping]],2,FALSE)","v":"Russia"},"4 to 6 hours a day",null,{"$f":"VLOOKUP(K413,tblCountries[],3,0)","v":"Asia"},{"$f":"VLOOKUP(tblSalaries[[#This Row],[How many hours of a day you work on Excel]],tblHours,2,0)","v":4},{"$f":"VLOOKUP(tblSalaries[[#This Row],[clean Country]],tblCountries[],5,0)","v":2.8911926386233269},{"$f":"IF($Q$1,tblSalaries[[#This Row],[PPP Factor]]*tblSalaries[[#This Row],[Salary in USD]],tblSalaries[[#This Row],[Salary in USD]])","v":35000}]
[null,"ID0417","2012-05-26T02:17:18",56000,56000,"USD",{"$f":"tblSalaries[[#This Row],[clean Salary (in local currency)]]*VLOOKUP(tblSalaries[[#This Row],[Currency]],tblXrate[],2,FALSE)","v":56000},"financial management consultant","Manager","USA",{"$f":"VLOOKUP(tblSalaries[[#This Row],[Where do you work]],tblCountries[[Actual]:[Mapping]],2,FALSE)","v":"USA"},"All the 8 hours baby, all the 8!",null,{"$f":"VLOOKUP(K414,tblCountries[],3,0)","v":"North Amer."},{"$f":"VLOOKUP(tblSalaries[[#This Row],[How many hours of a day you work on Excel]],tblHours,2,0)","v":5},{"$f":"VLOOKUP(tblSalaries[[#This Row],[clean Country]],tblCountries[],5,0)","v":1},{"$f":"IF($Q$1,tblSalaries[[#This Row],[PPP Factor]]*tblSalaries[[#This Row],[Salary in USD]],tblSalaries[[#This Row],[Salary in USD]])","v":56000}]
[null,"ID0418","2012-05-26T02:17:38","US$115000",115000,"USD",{"$f":"tblSalaries[[#This Row],[clean Salary (in local currency)]]*VLOOKUP(tblSalaries[[#This Row],[Currency]],tblXrate[],2,FALSE)","v":115000},"Consultant","Consultant","USA",{"$f":"VLOOKUP(tblSalaries[[#This Row],[Where do you work]],tblCountries[[Actual]:[Mapping]],2,FALSE)","v":"USA"},"2 to 3 hours per day",null,{"$f":"VLOOKUP(K415,tblCountries[],3,0)","v":"North Amer."},{"$f":"VLOOKUP(tblSalaries[[#This Row],[How many hours of a day you work on Excel]],tblHours,2,0)","v":3},{"$f":"VLOOKUP(tblSalaries[[#This Row],[clean Country]],tblCountries[],5,0)","v":1},{"$f":"IF($Q$1,tblSalaries[[#This Row],[PPP Factor]]*tblSalaries[[#This Row],[Salary in USD]],tblSalaries[[#This Row],[Salary in USD]])","v":115000}]
[null,"ID0419","2012-05-26T02:18:03","Â£66000",66000,"GBP",{"$f":"tblSalaries[[#This Row],[clean Salary (in local currency)]]*VLOOKUP(tblSalaries[[#This Row],[Currency]],tblXrate[],2,FALSE)","v":104027.76595644075},"IT Project Manager, EMEA","Manager","UK",{"$f":"VLOOKUP(tblSalaries[[#This Row],[Where do you work]],tblCountries[[Actual]:[Mapping]],2,FALSE)","v":"UK"},"1 or 2 hours a day",null,{"$f":"VLOOKUP(K416,tblCountries[],3,0)","v":"Europe"},{"$f":"VLOOKUP(tblSalaries[[#This Row],[How many hours of a day you work on Excel]],tblHours,2,0)","v":2},{"$f":"VLOOKUP(tblSalaries[[#This Row],[clean Country]],tblCountries[],5,0)","v":1.3407315045719035},{"$f":"IF($Q$1,tblSalaries[[#This Row],[PPP Factor]]*tblSalaries[[#This Row],[Salary in USD]],tblSalaries[[#This Row],[Salary in USD]])","v":104027.76595644075}]
[null,"ID0420","2012-05-26T02:19:12","INR 200000",200000,"INR",{"$f":"tblSalaries[[#This Row],[clean Salary (in local currency)]]*VLOOKUP(tblSalaries[[#This Row],[Currency]],tblXrate[],2,FALSE)","v":3561.5833374885137},"Consultant","Consultant","India",{"$f":"VLOOKUP(tblSalaries[[#This Row],[Where do you work]],tblCountries[[Actual]:[Mapping]],2,FALSE)","v":"India"},"1 or 2 hours a day",null,{"$f":"VLOOKUP(K417,tblCountries[],3,0)","v":"Asia"},{"$f":"VLOOKUP(tblSalaries[[#This Row],[How many hours of a day you work on Excel]],tblHours,2,0)","v":2},{"$f":"VLOOKUP(tblSalaries[[#This Row],[clean Country]],tblCountries[],5,0)","v":13.098808879263672},{"$f":"IF($Q$1,tblSalaries[[#This Row],[PPP Factor]]*tblSalaries[[#This Row],[Salary in USD]],tblSalaries[[#This Row],[Salary in USD]])","v":3561.5833374885137}]
[null,"ID0421","2012-05-26T02:19:48",72000,72000,"USD",{"$f":"tblSalaries[[#This Row],[clean Salary (in local currency)]]*VLOOKUP(tblSalaries[[#This Row],[Currency]],tblXrate[],2,FALSE)","v":72000},"IS Director","CXO or Top Mgmt.","USA",{"$f":"VLOOKUP(tblSalaries[[#This Row],[Where do you work]],tblCountries[[Actual]:[Mapping]],2,FALSE)","v":"USA"},"4 to 6 hours a day",null,{"$f":"VLOOKUP(K418,tblCountries[],3,0)","v":"North Amer."},{"$f":"VLOOKUP(tblSalaries[[#This Row],[How many hours of a day you work on Excel]],tblHours,2,0)","v":4},{"$f":"VLOOKUP(tblSalaries[[#This Row],[clean Country]],tblCountries[],5,0)","v":1},{"$f":"IF($Q$1,tblSalaries[[#This Row],[PPP Factor]]*tblSalaries[[#This Row],[Salary in USD]],tblSalaries[[#This Row],[Salary in USD]])","v":72000}]
[null,"ID0422","2012-05-26T02:19:52",90000,90000,"USD",{"$f":"tblSalaries[[#This Row],[clean Salary (in local currency)]]*VLOOKUP(tblSalaries[[#This Row],[Currency]],tblXrate[],2,FALSE)","v":90000},"Financial Analyst","Analyst","USA",{"$f":"VLOOKUP(tblSalaries[[#This Row],[Where do you work]],tblCountries[[Actual]:[Mapping]],2,FALSE)","v":"USA"},"All the 8 hours baby, all the 8!",null,{"$f":"VLOOKUP(K419,tblCountries[],3,0)","v":"North Amer."},{"$f":"VLOOKUP(tblSalaries[[#This Row],[How many hours of a day you work on Excel]],tblHours,2,0)","v":5},{"$f":"VLOOKUP(tblSalaries[[#This Row],[clean Country]],tblCountries[],5,0)","v":1},{"$f":"IF($Q$1,tblSalaries[[#This Row],[PPP Factor]]*tblSalaries[[#This Row],[Salary in USD]],tblSalaries[[#This Row],[Salary in USD]])","v":90000}]
[null,"ID0423","2012-05-26T02:20:15","8500 USD",8500,"USD",{"$f":"tblSalaries[[#This Row],[clean Salary (in local currency)]]*VLOOKUP(tblSalaries[[#This Row],[Currency]],tblXrate[],2,FALSE)","v":8500},"Accounting Coordinator","Accountant","Romania",{"$f":"VLOOKUP(tblSalaries[[#This Row],[Where do you work]],tblCountries[[Actual]:[Mapping]],2,FALSE)","v":"Romania"},"2 to 3 hours per day",null,{"$f":"VLOOKUP(K420,tblCountries[],3,0)","v":"Europe"},{"$f":"VLOOKUP(tblSalaries[[#This Row],[How many hours of a day you work on Excel]],tblHours,2,0)","v":3},{"$f":"VLOOKUP(tblSalaries[[#This Row],[clean Country]],tblCountries[],5,0)","v":3.8784065405578709},{"$f":"IF($Q$1,tblSalaries[[#This Row],[PPP Factor]]*tblSalaries[[#This Row],[Salary in USD]],tblSalaries[[#This Row],[Salary in USD]])","v":8500}]
[null,"ID0424","2012-05-26T02:20:22",12000,12000,"USD",{"$f":"tblSalaries[[#This Row],[clean Salary (in local currency)]]*VLOOKUP(tblSalaries[[#This Row],[Currency]],tblXrate[],2,FALSE)","v":12000},"teacher","Analyst","iran",{"$f":"VLOOKUP(tblSalaries[[#This Row],[Where do you work]],tblCountries[[Actual]:[Mapping]],2,FALSE)","v":"iran"},"2 to 3 hours per day",null,{"$f":"VLOOKUP(K421,tblCountries[],3,0)","v":"Asia"},{"$f":"VLOOKUP(tblSalaries[[#This Row],[How many hours of a day you work on Excel]],tblHours,2,0)","v":3},{"$f":"VLOOKUP(tblSalaries[[#This Row],[clean Country]],tblCountries[],5,0)","v":3.706963916341071},{"$f":"IF($Q$1,tblSalaries[[#This Row],[PPP Factor]]*tblSalaries[[#This Row],[Salary in USD]],tblSalaries[[#This Row],[Salary in USD]])","v":12000}]
[null,"ID0425","2012-05-26T02:22:17","250000 to 270000",250000,"USD",{"$f":"tblSalaries[[#This Row],[clean Salary (in local currency)]]*VLOOKUP(tblSalaries[[#This Row],[Currency]],tblXrate[],2,FALSE)","v":250000},"consultant","Consultant","USA",{"$f":"VLOOKUP(tblSalaries[[#This Row],[Where do you work]],tblCountries[[Actual]:[Mapping]],2,FALSE)","v":"USA"},"All the 8 hours baby, all the 8!",null,{"$f":"VLOOKUP(K422,tblCountries[],3,0)","v":"North Amer."},{"$f":"VLOOKUP(tblSalaries[[#This Row],[How many hours of a day you work on Excel]],tblHours,2,0)","v":5},{"$f":"VLOOKUP(tblSalaries[[#This Row],[clean Country]],tblCountries[],5,0)","v":1},{"$f":"IF($Q$1,tblSalaries[[#This Row],[PPP Factor]]*tblSalaries[[#This Row],[Salary in USD]],tblSalaries[[#This Row],[Salary in USD]])","v":250000}]
[null,"ID0426","2012-05-26T02:24:24",5900,70800,"EUR",{"$f":"tblSalaries[[#This Row],[clean Salary (in local currency)]]*VLOOKUP(tblSalaries[[#This Row],[Currency]],tblXrate[],2,FALSE)","v":89944.280280605832},"Excel trainer","Analyst","Finland",{"$f":"VLOOKUP(tblSalaries[[#This Row],[Where do you work]],tblCountries[[Actual]:[Mapping]],2,FALSE)","v":"Finland"},"All the 8 hours baby, all the 8!",null,{"$f":"VLOOKUP(K423,tblCountries[],3,0)","v":"Europe"},{"$f":"VLOOKUP(tblSalaries[[#This Row],[How many hours of a day you work on Excel]],tblHours,2,0)","v":5},{"$f":"VLOOKUP(tblSalaries[[#This Row],[clean Country]],tblCountries[],5,0)","v":1.3353295065680539},{"$f":"IF($Q$1,tblSalaries[[#This Row],[PPP Factor]]*tblSalaries[[#This Row],[Salary in USD]],tblSalaries[[#This Row],[Salary in USD]])","v":89944.280280605832}]
[null,"ID0427","2012-05-26T02:25:10","20000 RS",240000,"INR",{"$f":"tblSalaries[[#This Row],[clean Salary (in local currency)]]*VLOOKUP(tblSalaries[[#This Row],[Currency]],tblXrate[],2,FALSE)","v":4273.9000049862161},"WFM Team Lead","Manager","India",{"$f":"VLOOKUP(tblSalaries[[#This Row],[Where do you work]],tblCountries[[Actual]:[Mapping]],2,FALSE)","v":"India"},"All the 8 hours baby, all the 8!",null,{"$f":"VLOOKUP(K424,tblCountries[],3,0)","v":"Asia"},{"$f":"VLOOKUP(tblSalaries[[#This Row],[How many hours of a day you work on Excel]],tblHours,2,0)","v":5},{"$f":"VLOOKUP(tblSalaries[[#This Row],[clean Country]],tblCountries[],5,0)","v":13.098808879263672},{"$f":"IF($Q$1,tblSalaries[[#This Row],[PPP Factor]]*tblSalaries[[#This Row],[Salary in USD]],tblSalaries[[#This Row],[Salary in USD]])","v":4273.9000049862161}]
[null,"ID0428","2012-05-26T02:27:50","US $30,000.00 ",30000,"USD",{"$f":"tblSalaries[[#This Row],[clean Salary (in local currency)]]*VLOOKUP(tblSalaries[[#This Row],[Currency]],tblXrate[],2,FALSE)","v":30000},"Supervisor","Manager","USA",{"$f":"VLOOKUP(tblSalaries[[#This Row],[Where do you work]],tblCountries[[Actual]:[Mapping]],2,FALSE)","v":"USA"},"2 to 3 hours per day",null,{"$f":"VLOOKUP(K425,tblCountries[],3,0)","v":"North Amer."},{"$f":"VLOOKUP(tblSalaries[[#This Row],[How many hours of a day you work on Excel]],tblHours,2,0)","v":3},{"$f":"VLOOKUP(tblSalaries[[#This Row],[clean Country]],tblCountries[],5,0)","v":1},{"$f":"IF($Q$1,tblSalaries[[#This Row],[PPP Factor]]*tblSalaries[[#This Row],[Salary in USD]],tblSalaries[[#This Row],[Salary in USD]])","v":30000}]
[null,"ID0429","2012-05-26T02:29:37","30000 $",30000,"USD",{"$f":"tblSalaries[[#This Row],[clean Salary (in local currency)]]*VLOOKUP(tblSalaries[[#This Row],[Currency]],tblXrate[],2,FALSE)","v":30000},"BI Developer","Reporting","Romania",{"$f":"VLOOKUP(tblSalaries[[#This Row],[Where do you work]],tblCountries[[Actual]:[Mapping]],2,FALSE)","v":"Romania"},"1 or 2 hours a day",null,{"$f":"VLOOKUP(K426,tblCountries[],3,0)","v":"Europe"},{"$f":"VLOOKUP(tblSalaries[[#This Row],[How many hours of a day you work on Excel]],tblHours,2,0)","v":2},{"$f":"VLOOKUP(tblSalaries[[#This Row],[clean Country]],tblCountries[],5,0)","v":3.8784065405578709},{"$f":"IF($Q$1,tblSalaries[[#This Row],[PPP Factor]]*tblSalaries[[#This Row],[Salary in USD]],tblSalaries[[#This Row],[Salary in USD]])","v":30000}]
[null,"ID0430","2012-05-26T02:31:24",24,24000,"USD",{"$f":"tblSalaries[[#This Row],[clean Salary (in local currency)]]*VLOOKUP(tblSalaries[[#This Row],[Currency]],tblXrate[],2,FALSE)","v":24000},"engineer","Engineer","USA",{"$f":"VLOOKUP(tblSalaries[[#This Row],[Where do you work]],tblCountries[[Actual]:[Mapping]],2,FALSE)","v":"USA"},"1 or 2 hours a day",null,{"$f":"VLOOKUP(K427,tblCountries[],3,0)","v":"North Amer."},{"$f":"VLOOKUP(tblSalaries[[#This Row],[How many hours of a day you work on Excel]],tblHours,2,0)","v":2},{"$f":"VLOOKUP(tblSalaries[[#This Row],[clean Country]],tblCountries[],5,0)","v":1},{"$f":"IF($Q$1,tblSalaries[[#This Row],[PPP Factor]]*tblSalaries[[#This Row],[Salary in USD]],tblSalaries[[#This Row],[Salary in USD]])","v":24000}]
[null,"ID0431","2012-05-26T02:33:00",60000,60000,"USD",{"$f":"tblSalaries[[#This Row],[clean Salary (in local currency)]]*VLOOKUP(tblSalaries[[#This Row],[Currency]],tblXrate[],2,FALSE)","v":60000},"Planner","Manager","USA",{"$f":"VLOOKUP(tblSalaries[[#This Row],[Where do you work]],tblCountries[[Actual]:[Mapping]],2,FALSE)","v":"USA"},"4 to 6 hours a day",null,{"$f":"VLOOKUP(K428,tblCountries[],3,0)","v":"North Amer."},{"$f":"VLOOKUP(tblSalaries[[#This Row],[How many hours of a day you work on Excel]],tblHours,2,0)","v":4},{"$f":"VLOOKUP(tblSalaries[[#This Row],[clean Country]],tblCountries[],5,0)","v":1},{"$f":"IF($Q$1,tblSalaries[[#This Row],[PPP Factor]]*tblSalaries[[#This Row],[Salary in USD]],tblSalaries[[#This Row],[Salary in USD]])","v":60000}]
[null,"ID0432","2012-05-26T02:33:06",76600,76600,"USD",{"$f":"tblSalaries[[#This Row],[clean Salary (in local currency)]]*VLOOKUP(tblSalaries[[#This Row],[Currency]],tblXrate[],2,FALSE)","v":76600},"Analyst","Analyst","USA",{"$f":"VLOOKUP(tblSalaries[[#This Row],[Where do you work]],tblCountries[[Actual]:[Mapping]],2,FALSE)","v":"USA"},"2 to 3 hours per day",null,{"$f":"VLOOKUP(K429,tblCountries[],3,0)","v":"North Amer."},{"$f":"VLOOKUP(tblSalaries[[#This Row],[How many hours of a day you work on Excel]],tblHours,2,0)","v":3},{"$f":"VLOOKUP(tblSalaries[[#This Row],[clean Country]],tblCountries[],5,0)","v":1},{"$f":"IF($Q$1,tblSalaries[[#This Row],[PPP Factor]]*tblSalaries[[#This Row],[Salary in USD]],tblSalaries[[#This Row],[Salary in USD]])","v":76600}]
[null,"ID0433","2012-05-26T02:33:10","Â£65000",65000,"GBP",{"$f":"tblSalaries[[#This Row],[clean Salary (in local currency)]]*VLOOKUP(tblSalaries[[#This Row],[Currency]],tblXrate[],2,FALSE)","v":102451.58768437347},"Financial Controller","Controller","UK",{"$f":"VLOOKUP(tblSalaries[[#This Row],[Where do you work]],tblCountries[[Actual]:[Mapping]],2,FALSE)","v":"UK"},"2 to 3 hours per day",null,{"$f":"VLOOKUP(K430,tblCountries[],3,0)","v":"Europe"},{"$f":"VLOOKUP(tblSalaries[[#This Row],[How many hours of a day you work on Excel]],tblHours,2,0)","v":3},{"$f":"VLOOKUP(tblSalaries[[#This Row],[clean Country]],tblCountries[],5,0)","v":1.3407315045719035},{"$f":"IF($Q$1,tblSalaries[[#This Row],[PPP Factor]]*tblSalaries[[#This Row],[Salary in USD]],tblSalaries[[#This Row],[Salary in USD]])","v":102451.58768437347}]
[null,"ID0434","2012-05-26T02:34:00","US $6,629.00",6629,"USD",{"$f":"tblSalaries[[#This Row],[clean Salary (in local currency)]]*VLOOKUP(tblSalaries[[#This Row],[Currency]],tblXrate[],2,FALSE)","v":6629},"Engineer","Engineer","Dominican Republic",{"$f":"VLOOKUP(tblSalaries[[#This Row],[Where do you work]],tblCountries[[Actual]:[Mapping]],2,FALSE)","v":"Dominican Republic"},"All the 8 hours baby, all the 8!",null,{"$f":"VLOOKUP(K431,tblCountries[],3,0)","v":"North Amer."},{"$f":"VLOOKUP(tblSalaries[[#This Row],[How many hours of a day you work on Excel]],tblHours,2,0)","v":5},{"$f":"VLOOKUP(tblSalaries[[#This Row],[clean Country]],tblCountries[],5,0)","v":5.2101862818994293},{"$f":"IF($Q$1,tblSalaries[[#This Row],[PPP Factor]]*tblSalaries[[#This Row],[Salary in USD]],tblSalaries[[#This Row],[Salary in USD]])","v":6629}]
[null,"ID0435","2012-05-26T02:34:37",90000,90000,"USD",{"$f":"tblSalaries[[#This Row],[clean Salary (in local currency)]]*VLOOKUP(tblSalaries[[#This Row],[Currency]],tblXrate[],2,FALSE)","v":90000},"senior analyst","Analyst","USA",{"$f":"VLOOKUP(tblSalaries[[#This Row],[Where do you work]],tblCountries[[Actual]:[Mapping]],2,FALSE)","v":"USA"},"1 or 2 hours a day",null,{"$f":"VLOOKUP(K432,tblCountries[],3,0)","v":"North Amer."},{"$f":"VLOOKUP(tblSalaries[[#This Row],[How many hours of a day you work on Excel]],tblHours,2,0)","v":2},{"$f":"VLOOKUP(tblSalaries[[#This Row],[clean Country]],tblCountries[],5,0)","v":1},{"$f":"IF($Q$1,tblSalaries[[#This Row],[PPP Factor]]*tblSalaries[[#This Row],[Salary in USD]],tblSalaries[[#This Row],[Salary in USD]])","v":90000}]
[null,"ID0436","2012-05-26T02:35:10",8500,8500,"USD",{"$f":"tblSalaries[[#This Row],[clean Salary (in local currency)]]*VLOOKUP(tblSalaries[[#This Row],[Currency]],tblXrate[],2,FALSE)","v":8500},"Assesor","Analyst","Colombia",{"$f":"VLOOKUP(tblSalaries[[#This Row],[Where do you work]],tblCountries[[Actual]:[Mapping]],2,FALSE)","v":"Colombia"},"1 or 2 hours a day",null,{"$f":"VLOOKUP(K433,tblCountries[],3,0)","v":"South Amer."},{"$f":"VLOOKUP(tblSalaries[[#This Row],[How many hours of a day you work on Excel]],tblHours,2,0)","v":2},{"$f":"VLOOKUP(tblSalaries[[#This Row],[clean Country]],tblCountries[],5,0)","v":4.721143526197678},{"$f":"IF($Q$1,tblSalaries[[#This Row],[PPP Factor]]*tblSalaries[[#This Row],[Salary in USD]],tblSalaries[[#This Row],[Salary in USD]])","v":8500}]
[null,"ID0437","2012-05-26T02:35:11",75000,75000,"USD",{"$f":"tblSalaries[[#This Row],[clean Salary (in local currency)]]*VLOOKUP(tblSalaries[[#This Row],[Currency]],tblXrate[],2,FALSE)","v":75000},"Financial Analys","Analyst","USA",{"$f":"VLOOKUP(tblSalaries[[#This Row],[Where do you work]],tblCountries[[Actual]:[Mapping]],2,FALSE)","v":"USA"},"4 to 6 hours a day",null,{"$f":"VLOOKUP(K434,tblCountries[],3,0)","v":"North Amer."},{"$f":"VLOOKUP(tblSalaries[[#This Row],[How many hours of a day you work on Excel]],tblHours,2,0)","v":4},{"$f":"VLOOKUP(tblSalaries[[#This Row],[clean Country]],tblCountries[],5,0)","v":1},{"$f":"IF($Q$1,tblSalaries[[#This Row],[PPP Factor]]*tblSalaries[[#This Row],[Salary in USD]],tblSalaries[[#This Row],[Salary in USD]])","v":75000}]
[null,"ID0438","2012-05-26T02:37:50",72000,72000,"USD",{"$f":"tblSalaries[[#This Row],[clean Salary (in local currency)]]*VLOOKUP(tblSalaries[[#This Row],[Currency]],tblXrate[],2,FALSE)","v":72000},"Sr. Information Systems Analyst","Analyst","USA",{"$f":"VLOOKUP(tblSalaries[[#This Row],[Where do you work]],tblCountries[[Actual]:[Mapping]],2,FALSE)","v":"USA"},"2 to 3 hours per day",null,{"$f":"VLOOKUP(K435,tblCountries[],3,0)","v":"North Amer."},{"$f":"VLOOKUP(tblSalaries[[#This Row],[How many hours of a day you work on Excel]],tblHours,2,0)","v":3},{"$f":"VLOOKUP(tblSalaries[[#This Row],[clean Country]],tblCountries[],5,0)","v":1},{"$f":"IF($Q$1,tblSalaries[[#This Row],[PPP Factor]]*tblSalaries[[#This Row],[Salary in USD]],tblSalaries[[#This Row],[Salary in USD]])","v":72000}]
[null,"ID0439","2012-05-26T02:38:34",65000,65000,"USD",{"$f":"tblSalaries[[#This Row],[clean Salary (in local currency)]]*VLOOKUP(tblSalaries[[#This Row],[Currency]],tblXrate[],2,FALSE)","v":65000},"Senior Claims Analyst","Analyst","USA",{"$f":"VLOOKUP(tblSalaries[[#This Row],[Where do you work]],tblCountries[[Actual]:[Mapping]],2,FALSE)","v":"USA"},"4 to 6 hours a day",null,{"$f":"VLOOKUP(K436,tblCountries[],3,0)","v":"North Amer."},{"$f":"VLOOKUP(tblSalaries[[#This Row],[How many hours of a day you work on Excel]],tblHours,2,0)","v":4},{"$f":"VLOOKUP(tblSalaries[[#This Row],[clean Country]],tblCountries[],5,0)","v":1},{"$f":"IF($Q$1,tblSalaries[[#This Row],[PPP Factor]]*tblSalaries[[#This Row],[Salary in USD]],tblSalaries[[#This Row],[Salary in USD]])","v":65000}]
[null,"ID0440","2012-05-26T02:39:56",120000,120000,"USD",{"$f":"tblSalaries[[#This Row],[clean Salary (in local currency)]]*VLOOKUP(tblSalaries[[#This Row],[Currency]],tblXrate[],2,FALSE)","v":120000},"Director","CXO or Top Mgmt.","USA",{"$f":"VLOOKUP(tblSalaries[[#This Row],[Where do you work]],tblCountries[[Actual]:[Mapping]],2,FALSE)","v":"USA"},"1 or 2 hours a day",null,{"$f":"VLOOKUP(K437,tblCountries[],3,0)","v":"North Amer."},{"$f":"VLOOKUP(tblSalaries[[#This Row],[How many hours of a day you work on Excel]],tblHours,2,0)","v":2},{"$f":"VLOOKUP(tblSalaries[[#This Row],[clean Country]],tblCountries[],5,0)","v":1},{"$f":"IF($Q$1,tblSalaries[[#This Row],[PPP Factor]]*tblSalaries[[#This Row],[Salary in USD]],tblSalaries[[#This Row],[Salary in USD]])","v":120000}]
[null,"ID0441","2012-05-26T02:40:39","INR 40L",4000000,"INR",{"$f":"tblSalaries[[#This Row],[clean Salary (in local currency)]]*VLOOKUP(tblSalaries[[#This Row],[Currency]],tblXrate[],2,FALSE)","v":71231.666749770273},"Sr Mgr Finance","Accountant","India",{"$f":"VLOOKUP(tblSalaries[[#This Row],[Where do you work]],tblCountries[[Actual]:[Mapping]],2,FALSE)","v":"India"},"All the 8 hours baby, all the 8!",null,{"$f":"VLOOKUP(K438,tblCountries[],3,0)","v":"Asia"},{"$f":"VLOOKUP(tblSalaries[[#This Row],[How many hours of a day you work on Excel]],tblHours,2,0)","v":5},{"$f":"VLOOKUP(tblSalaries[[#This Row],[clean Country]],tblCountries[],5,0)","v":13.098808879263672},{"$f":"IF($Q$1,tblSalaries[[#This Row],[PPP Factor]]*tblSalaries[[#This Row],[Salary in USD]],tblSalaries[[#This Row],[Salary in USD]])","v":71231.666749770273}]
[null,"ID0442","2012-05-26T02:42:20","Rs. 300000",300000,"INR",{"$f":"tblSalaries[[#This Row],[clean Salary (in local currency)]]*VLOOKUP(tblSalaries[[#This Row],[Currency]],tblXrate[],2,FALSE)","v":5342.3750062327708},"Web Portal Manager","Manager","India",{"$f":"VLOOKUP(tblSalaries[[#This Row],[Where do you work]],tblCountries[[Actual]:[Mapping]],2,FALSE)","v":"India"},"4 to 6 hours a day",null,{"$f":"VLOOKUP(K439,tblCountries[],3,0)","v":"Asia"},{"$f":"VLOOKUP(tblSalaries[[#This Row],[How many hours of a day you work on Excel]],tblHours,2,0)","v":4},{"$f":"VLOOKUP(tblSalaries[[#This Row],[clean Country]],tblCountries[],5,0)","v":13.098808879263672},{"$f":"IF($Q$1,tblSalaries[[#This Row],[PPP Factor]]*tblSalaries[[#This Row],[Salary in USD]],tblSalaries[[#This Row],[Salary in USD]])","v":5342.3750062327708}]
[null,"ID0443","2012-05-26T02:43:21",1100000,1100000,"INR",{"$f":"tblSalaries[[#This Row],[clean Salary (in local currency)]]*VLOOKUP(tblSalaries[[#This Row],[Currency]],tblXrate[],2,FALSE)","v":19588.708356186824},"manager - MIS & operations planning","Manager","India",{"$f":"VLOOKUP(tblSalaries[[#This Row],[Where do you work]],tblCountries[[Actual]:[Mapping]],2,FALSE)","v":"India"},"4 to 6 hours a day",null,{"$f":"VLOOKUP(K440,tblCountries[],3,0)","v":"Asia"},{"$f":"VLOOKUP(tblSalaries[[#This Row],[How many hours of a day you work on Excel]],tblHours,2,0)","v":4},{"$f":"VLOOKUP(tblSalaries[[#This Row],[clean Country]],tblCountries[],5,0)","v":13.098808879263672},{"$f":"IF($Q$1,tblSalaries[[#This Row],[PPP Factor]]*tblSalaries[[#This Row],[Salary in USD]],tblSalaries[[#This Row],[Salary in USD]])","v":19588.708356186824}]
[null,"ID0444","2012-05-26T02:46:18",80000,80000,"USD",{"$f":"tblSalaries[[#This Row],[clean Salary (in local currency)]]*VLOOKUP(tblSalaries[[#This Row],[Currency]],tblXrate[],2,FALSE)","v":80000},"web analyst","Analyst","USA",{"$f":"VLOOKUP(tblSalaries[[#This Row],[Where do you work]],tblCountries[[Actual]:[Mapping]],2,FALSE)","v":"USA"},"4 to 6 hours a day",null,{"$f":"VLOOKUP(K441,tblCountries[],3,0)","v":"North Amer."},{"$f":"VLOOKUP(tblSalaries[[#This Row],[How many hours of a day you work on Excel]],tblHours,2,0)","v":4},{"$f":"VLOOKUP(tblSalaries[[#This Row],[clean Country]],tblCountries[],5,0)","v":1},{"$f":"IF($Q$1,tblSalaries[[#This Row],[PPP Factor]]*tblSalaries[[#This Row],[Salary in USD]],tblSalaries[[#This Row],[Salary in USD]])","v":80000}]
[null,"ID0445","2012-05-26T02:46:56","INR 30,00,000",3000000,"INR",{"$f":"tblSalaries[[#This Row],[clean Salary (in local currency)]]*VLOOKUP(tblSalaries[[#This Row],[Currency]],tblXrate[],2,FALSE)","v":53423.750062327701},"Management Consultant","Manager","India",{"$f":"VLOOKUP(tblSalaries[[#This Row],[Where do you work]],tblCountries[[Actual]:[Mapping]],2,FALSE)","v":"India"},"4 to 6 hours a day",null,{"$f":"VLOOKUP(K442,tblCountries[],3,0)","v":"Asia"},{"$f":"VLOOKUP(tblSalaries[[#This Row],[How many hours of a day you work on Excel]],tblHours,2,0)","v":4},{"$f":"VLOOKUP(tblSalaries[[#This Row],[clean Country]],tblCountries[],5,0)","v":13.098808879263672},{"$f":"IF($Q$1,tblSalaries[[#This Row],[PPP Factor]]*tblSalaries[[#This Row],[Salary in USD]],tblSalaries[[#This Row],[Salary in USD]])","v":53423.750062327701}]
[null,"ID0446","2012-05-26T02:48:32",110000,110000,"CAD",{"$f":"tblSalaries[[#This Row],[clean Salary (in local currency)]]*VLOOKUP(tblSalaries[[#This Row],[Currency]],tblXrate[],2,FALSE)","v":108169.76753333595},"Continuos improvment","Controller","Canad",{"$f":"VLOOKUP(tblSalaries[[#This Row],[Where do you work]],tblCountries[[Actual]:[Mapping]],2,FALSE)","v":"Canada"},"2 to 3 hours per day",null,{"$f":"VLOOKUP(K443,tblCountries[],3,0)","v":"North Amer."},{"$f":"VLOOKUP(tblSalaries[[#This Row],[How many hours of a day you work on Excel]],tblHours,2,0)","v":3},{"$f":"VLOOKUP(tblSalaries[[#This Row],[clean Country]],tblCountries[],5,0)","v":1.1935324732986359},{"$f":"IF($Q$1,tblSalaries[[#This Row],[PPP Factor]]*tblSalaries[[#This Row],[Salary in USD]],tblSalaries[[#This Row],[Salary in USD]])","v":108169.76753333595}]
[null,"ID0447","2012-05-26T02:49:24",51000,51000,"USD",{"$f":"tblSalaries[[#This Row],[clean Salary (in local currency)]]*VLOOKUP(tblSalaries[[#This Row],[Currency]],tblXrate[],2,FALSE)","v":51000},"Direct marketing manager","Manager","USA",{"$f":"VLOOKUP(tblSalaries[[#This Row],[Where do you work]],tblCountries[[Actual]:[Mapping]],2,FALSE)","v":"USA"},"2 to 3 hours per day",null,{"$f":"VLOOKUP(K444,tblCountries[],3,0)","v":"North Amer."},{"$f":"VLOOKUP(tblSalaries[[#This Row],[How many hours of a day you work on Excel]],tblHours,2,0)","v":3},{"$f":"VLOOKUP(tblSalaries[[#This Row],[clean Country]],tblCountries[],5,0)","v":1},{"$f":"IF($Q$1,tblSalaries[[#This Row],[PPP Factor]]*tblSalaries[[#This Row],[Salary in USD]],tblSalaries[[#This Row],[Salary in USD]])","v":51000}]
[null,"ID0448","2012-05-26T02:50:16","5000 $",5000,"USD",{"$f":"tblSalaries[[#This Row],[clean Salary (in local currency)]]*VLOOKUP(tblSalaries[[#This Row],[Currency]],tblXrate[],2,FALSE)","v":5000},"mis","Reporting","India",{"$f":"VLOOKUP(tblSalaries[[#This Row],[Where do you work]],tblCountries[[Actual]:[Mapping]],2,FALSE)","v":"India"},"4 to 6 hours a day",null,{"$f":"VLOOKUP(K445,tblCountries[],3,0)","v":"Asia"},{"$f":"VLOOKUP(tblSalaries[[#This Row],[How many hours of a day you work on Excel]],tblHours,2,0)","v":4},{"$f":"VLOOKUP(tblSalaries[[#This Row],[clean Country]],tblCountries[],5,0)","v":13.098808879263672},{"$f":"IF($Q$1,tblSalaries[[#This Row],[PPP Factor]]*tblSalaries[[#This Row],[Salary in USD]],tblSalaries[[#This Row],[Salary in USD]])","v":5000}]
[null,"ID0449","2012-05-26T02:53:29",74000,74000,"USD",{"$f":"tblSalaries[[#This Row],[clean Salary (in local currency)]]*VLOOKUP(tblSalaries[[#This Row],[Currency]],tblXrate[],2,FALSE)","v":74000},"Engineer","Engineer","USA",{"$f":"VLOOKUP(tblSalaries[[#This Row],[Where do you work]],tblCountries[[Actual]:[Mapping]],2,FALSE)","v":"USA"},"4 to 6 hours a day",null,{"$f":"VLOOKUP(K446,tblCountries[],3,0)","v":"North Amer."},{"$f":"VLOOKUP(tblSalaries[[#This Row],[How many hours of a day you work on Excel]],tblHours,2,0)","v":4},{"$f":"VLOOKUP(tblSalaries[[#This Row],[clean Country]],tblCountries[],5,0)","v":1},{"$f":"IF($Q$1,tblSalaries[[#This Row],[PPP Factor]]*tblSalaries[[#This Row],[Salary in USD]],tblSalaries[[#This Row],[Salary in USD]])","v":74000}]
[null,"ID0450","2012-05-26T02:53:48","Â£60000",60000,"GBP",{"$f":"tblSalaries[[#This Row],[clean Salary (in local currency)]]*VLOOKUP(tblSalaries[[#This Row],[Currency]],tblXrate[],2,FALSE)","v":94570.696324037053},"Excel Consultant","Consultant","UK",{"$f":"VLOOKUP(tblSalaries[[#This Row],[Where do you work]],tblCountries[[Actual]:[Mapping]],2,FALSE)","v":"UK"},"4 to 6 hours a day",null,{"$f":"VLOOKUP(K447,tblCountries[],3,0)","v":"Europe"},{"$f":"VLOOKUP(tblSalaries[[#This Row],[How many hours of a day you work on Excel]],tblHours,2,0)","v":4},{"$f":"VLOOKUP(tblSalaries[[#This Row],[clean Country]],tblCountries[],5,0)","v":1.3407315045719035},{"$f":"IF($Q$1,tblSalaries[[#This Row],[PPP Factor]]*tblSalaries[[#This Row],[Salary in USD]],tblSalaries[[#This Row],[Salary in USD]])","v":94570.696324037053}]
[null,"ID0451","2012-05-26T02:55:27",50000,50000,"USD",{"$f":"tblSalaries[[#This Row],[clean Salary (in local currency)]]*VLOOKUP(tblSalaries[[#This Row],[Currency]],tblXrate[],2,FALSE)","v":50000},"Wine Analyst","Analyst","USA",{"$f":"VLOOKUP(tblSalaries[[#This Row],[Where do you work]],tblCountries[[Actual]:[Mapping]],2,FALSE)","v":"USA"},"4 to 6 hours a day",null,{"$f":"VLOOKUP(K448,tblCountries[],3,0)","v":"North Amer."},{"$f":"VLOOKUP(tblSalaries[[#This Row],[How many hours of a day you work on Excel]],tblHours,2,0)","v":4},{"$f":"VLOOKUP(tblSalaries[[#This Row],[clean Country]],tblCountries[],5,0)","v":1},{"$f":"IF($Q$1,tblSalaries[[#This Row],[PPP Factor]]*tblSalaries[[#This Row],[Salary in USD]],tblSalaries[[#This Row],[Salary in USD]])","v":50000}]
[null,"ID0452","2012-05-26T02:55:29","500000 rupees",500000,"INR",{"$f":"tblSalaries[[#This Row],[clean Salary (in local currency)]]*VLOOKUP(tblSalaries[[#This Row],[Currency]],tblXrate[],2,FALSE)","v":8903.9583437212841},"Business Analyst","Analyst","India",{"$f":"VLOOKUP(tblSalaries[[#This Row],[Where do you work]],tblCountries[[Actual]:[Mapping]],2,FALSE)","v":"India"},"4 to 6 hours a day",null,{"$f":"VLOOKUP(K449,tblCountries[],3,0)","v":"Asia"},{"$f":"VLOOKUP(tblSalaries[[#This Row],[How many hours of a day you work on Excel]],tblHours,2,0)","v":4},{"$f":"VLOOKUP(tblSalaries[[#This Row],[clean Country]],tblCountries[],5,0)","v":13.098808879263672},{"$f":"IF($Q$1,tblSalaries[[#This Row],[PPP Factor]]*tblSalaries[[#This Row],[Salary in USD]],tblSalaries[[#This Row],[Salary in USD]])","v":8903.9583437212841}]
[null,"ID0453","2012-05-26T02:57:32",78000,78000,"USD",{"$f":"tblSalaries[[#This Row],[clean Salary (in local currency)]]*VLOOKUP(tblSalaries[[#This Row],[Currency]],tblXrate[],2,FALSE)","v":78000},"FinanceManager","Manager","Somalia",{"$f":"VLOOKUP(tblSalaries[[#This Row],[Where do you work]],tblCountries[[Actual]:[Mapping]],2,FALSE)","v":"Somalia"},"4 to 6 hours a day",null,{"$f":"VLOOKUP(K450,tblCountries[],3,0)","v":"Africa"},{"$f":"VLOOKUP(tblSalaries[[#This Row],[How many hours of a day you work on Excel]],tblHours,2,0)","v":4},{"$f":"VLOOKUP(tblSalaries[[#This Row],[clean Country]],tblCountries[],5,0)","v":1},{"$f":"IF($Q$1,tblSalaries[[#This Row],[PPP Factor]]*tblSalaries[[#This Row],[Salary in USD]],tblSalaries[[#This Row],[Salary in USD]])","v":78000}]
[null,"ID0454","2012-05-26T02:57:47",900000,900000,"INR",{"$f":"tblSalaries[[#This Row],[clean Salary (in local currency)]]*VLOOKUP(tblSalaries[[#This Row],[Currency]],tblXrate[],2,FALSE)","v":16027.125018698311},"Regional Manager","Manager","India",{"$f":"VLOOKUP(tblSalaries[[#This Row],[Where do you work]],tblCountries[[Actual]:[Mapping]],2,FALSE)","v":"India"},"1 or 2 hours a day",null,{"$f":"VLOOKUP(K451,tblCountries[],3,0)","v":"Asia"},{"$f":"VLOOKUP(tblSalaries[[#This Row],[How many hours of a day you work on Excel]],tblHours,2,0)","v":2},{"$f":"VLOOKUP(tblSalaries[[#This Row],[clean Country]],tblCountries[],5,0)","v":13.098808879263672},{"$f":"IF($Q$1,tblSalaries[[#This Row],[PPP Factor]]*tblSalaries[[#This Row],[Salary in USD]],tblSalaries[[#This Row],[Salary in USD]])","v":16027.125018698311}]
[null,"ID0455","2012-05-26T03:01:31","7500 USD",7500,"USD",{"$f":"tblSalaries[[#This Row],[clean Salary (in local currency)]]*VLOOKUP(tblSalaries[[#This Row],[Currency]],tblXrate[],2,FALSE)","v":7500},"HR reporting analyst","Analyst","Romania",{"$f":"VLOOKUP(tblSalaries[[#This Row],[Where do you work]],tblCountries[[Actual]:[Mapping]],2,FALSE)","v":"Romania"},"All the 8 hours baby, all the 8!",null,{"$f":"VLOOKUP(K452,tblCountries[],3,0)","v":"Europe"},{"$f":"VLOOKUP(tblSalaries[[#This Row],[How many hours of a day you work on Excel]],tblHours,2,0)","v":5},{"$f":"VLOOKUP(tblSalaries[[#This Row],[clean Country]],tblCountries[],5,0)","v":3.8784065405578709},{"$f":"IF($Q$1,tblSalaries[[#This Row],[PPP Factor]]*tblSalaries[[#This Row],[Salary in USD]],tblSalaries[[#This Row],[Salary in USD]])","v":7500}]
[null,"ID0456","2012-05-26T03:01:42",60000,60000,"USD",{"$f":"tblSalaries[[#This Row],[clean Salary (in local currency)]]*VLOOKUP(tblSalaries[[#This Row],[Currency]],tblXrate[],2,FALSE)","v":60000},"Finalcial Reporting Analyst","Analyst","USA",{"$f":"VLOOKUP(tblSalaries[[#This Row],[Where do you work]],tblCountries[[Actual]:[Mapping]],2,FALSE)","v":"USA"},"All the 8 hours baby, all the 8!",null,{"$f":"VLOOKUP(K453,tblCountries[],3,0)","v":"North Amer."},{"$f":"VLOOKUP(tblSalaries[[#This Row],[How many hours of a day you work on Excel]],tblHours,2,0)","v":5},{"$f":"VLOOKUP(tblSalaries[[#This Row],[clean Country]],tblCountries[],5,0)","v":1},{"$f":"IF($Q$1,tblSalaries[[#This Row],[PPP Factor]]*tblSalaries[[#This Row],[Salary in USD]],tblSalaries[[#This Row],[Salary in USD]])","v":60000}]
[null,"ID0457","2012-05-26T03:02:42","800000 rupees",800000,"INR",{"$f":"tblSalaries[[#This Row],[clean Salary (in local currency)]]*VLOOKUP(tblSalaries[[#This Row],[Currency]],tblXrate[],2,FALSE)","v":14246.333349954055},"Partner","CXO or Top Mgmt.","India",{"$f":"VLOOKUP(tblSalaries[[#This Row],[Where do you work]],tblCountries[[Actual]:[Mapping]],2,FALSE)","v":"India"},"All the 8 hours baby, all the 8!",null,{"$f":"VLOOKUP(K454,tblCountries[],3,0)","v":"Asia"},{"$f":"VLOOKUP(tblSalaries[[#This Row],[How many hours of a day you work on Excel]],tblHours,2,0)","v":5},{"$f":"VLOOKUP(tblSalaries[[#This Row],[clean Country]],tblCountries[],5,0)","v":13.098808879263672},{"$f":"IF($Q$1,tblSalaries[[#This Row],[PPP Factor]]*tblSalaries[[#This Row],[Salary in USD]],tblSalaries[[#This Row],[Salary in USD]])","v":14246.333349954055}]
[null,"ID0458","2012-05-26T03:03:09",80000,80000,"USD",{"$f":"tblSalaries[[#This Row],[clean Salary (in local currency)]]*VLOOKUP(tblSalaries[[#This Row],[Currency]],tblXrate[],2,FALSE)","v":80000},"operations tech","Manager","USA",{"$f":"VLOOKUP(tblSalaries[[#This Row],[Where do you work]],tblCountries[[Actual]:[Mapping]],2,FALSE)","v":"USA"},"1 or 2 hours a day",null,{"$f":"VLOOKUP(K455,tblCountries[],3,0)","v":"North Amer."},{"$f":"VLOOKUP(tblSalaries[[#This Row],[How many hours of a day you work on Excel]],tblHours,2,0)","v":2},{"$f":"VLOOKUP(tblSalaries[[#This Row],[clean Country]],tblCountries[],5,0)","v":1},{"$f":"IF($Q$1,tblSalaries[[#This Row],[PPP Factor]]*tblSalaries[[#This Row],[Salary in USD]],tblSalaries[[#This Row],[Salary in USD]])","v":80000}]
[null,"ID0459","2012-05-26T03:03:29","Â£38000",38000,"GBP",{"$f":"tblSalaries[[#This Row],[clean Salary (in local currency)]]*VLOOKUP(tblSalaries[[#This Row],[Currency]],tblXrate[],2,FALSE)","v":59894.774338556796},"Commercial Accountant","Accountant","UK",{"$f":"VLOOKUP(tblSalaries[[#This Row],[Where do you work]],tblCountries[[Actual]:[Mapping]],2,FALSE)","v":"UK"},"4 to 6 hours a day",null,{"$f":"VLOOKUP(K456,tblCountries[],3,0)","v":"Europe"},{"$f":"VLOOKUP(tblSalaries[[#This Row],[How many hours of a day you work on Excel]],tblHours,2,0)","v":4},{"$f":"VLOOKUP(tblSalaries[[#This Row],[clean Country]],tblCountries[],5,0)","v":1.3407315045719035},{"$f":"IF($Q$1,tblSalaries[[#This Row],[PPP Factor]]*tblSalaries[[#This Row],[Salary in USD]],tblSalaries[[#This Row],[Salary in USD]])","v":59894.774338556796}]
[null,"ID0460","2012-05-26T03:04:06","52,000 Cdn",52000,"CAD",{"$f":"tblSalaries[[#This Row],[clean Salary (in local currency)]]*VLOOKUP(tblSalaries[[#This Row],[Currency]],tblXrate[],2,FALSE)","v":51134.799197576998},"Office Manager","Manager","Canada",{"$f":"VLOOKUP(tblSalaries[[#This Row],[Where do you work]],tblCountries[[Actual]:[Mapping]],2,FALSE)","v":"Canada"},"4 to 6 hours a day",null,{"$f":"VLOOKUP(K457,tblCountries[],3,0)","v":"North Amer."},{"$f":"VLOOKUP(tblSalaries[[#This Row],[How many hours of a day you work on Excel]],tblHours,2,0)","v":4},{"$f":"VLOOKUP(tblSalaries[[#This Row],[clean Country]],tblCountries[],5,0)","v":1.1935324732986359},{"$f":"IF($Q$1,tblSalaries[[#This Row],[PPP Factor]]*tblSalaries[[#This Row],[Salary in USD]],tblSalaries[[#This Row],[Salary in USD]])","v":51134.799197576998}]
[null,"ID0461","2012-05-26T03:06:16",125000,125000,"USD",{"$f":"tblSalaries[[#This Row],[clean Salary (in local currency)]]*VLOOKUP(tblSalaries[[#This Row],[Currency]],tblXrate[],2,FALSE)","v":125000},"Prod Mgr","Manager","USA",{"$f":"VLOOKUP(tblSalaries[[#This Row],[Where do you work]],tblCountries[[Actual]:[Mapping]],2,FALSE)","v":"USA"},"2 to 3 hours per day",null,{"$f":"VLOOKUP(K458,tblCountries[],3,0)","v":"North Amer."},{"$f":"VLOOKUP(tblSalaries[[#This Row],[How many hours of a day you work on Excel]],tblHours,2,0)","v":3},{"$f":"VLOOKUP(tblSalaries[[#This Row],[clean Country]],tblCountries[],5,0)","v":1},{"$f":"IF($Q$1,tblSalaries[[#This Row],[PPP Factor]]*tblSalaries[[#This Row],[Salary in USD]],tblSalaries[[#This Row],[Salary in USD]])","v":125000}]
[null,"ID0462","2012-05-26T03:06:37",52000,52000,"USD",{"$f":"tblSalaries[[#This Row],[clean Salary (in local currency)]]*VLOOKUP(tblSalaries[[#This Row],[Currency]],tblXrate[],2,FALSE)","v":52000},"Graphics/Web Document Designer","Analyst","USA",{"$f":"VLOOKUP(tblSalaries[[#This Row],[Where do you work]],tblCountries[[Actual]:[Mapping]],2,FALSE)","v":"USA"},"2 to 3 hours per day",null,{"$f":"VLOOKUP(K459,tblCountries[],3,0)","v":"North Amer."},{"$f":"VLOOKUP(tblSalaries[[#This Row],[How many hours of a day you work on Excel]],tblHours,2,0)","v":3},{"$f":"VLOOKUP(tblSalaries[[#This Row],[clean Country]],tblCountries[],5,0)","v":1},{"$f":"IF($Q$1,tblSalaries[[#This Row],[PPP Factor]]*tblSalaries[[#This Row],[Salary in USD]],tblSalaries[[#This Row],[Salary in USD]])","v":52000}]
[null,"ID0463","2012-05-26T03:07:46",45000,45000,"USD",{"$f":"tblSalaries[[#This Row],[clean Salary (in local currency)]]*VLOOKUP(tblSalaries[[#This Row],[Currency]],tblXrate[],2,FALSE)","v":45000},"Analyst","Analyst","USA",{"$f":"VLOOKUP(tblSalaries[[#This Row],[Where do you work]],tblCountries[[Actual]:[Mapping]],2,FALSE)","v":"USA"},"4 to 6 hours a day",null,{"$f":"VLOOKUP(K460,tblCountries[],3,0)","v":"North Amer."},{"$f":"VLOOKUP(tblSalaries[[#This Row],[How many hours of a day you work on Excel]],tblHours,2,0)","v":4},{"$f":"VLOOKUP(tblSalaries[[#This Row],[clean Country]],tblCountries[],5,0)","v":1},{"$f":"IF($Q$1,tblSalaries[[#This Row],[PPP Factor]]*tblSalaries[[#This Row],[Salary in USD]],tblSalaries[[#This Row],[Salary in USD]])","v":45000}]
[null,"ID0464","2012-05-26T03:08:28",25000,25000,"GBP",{"$f":"tblSalaries[[#This Row],[clean Salary (in local currency)]]*VLOOKUP(tblSalaries[[#This Row],[Currency]],tblXrate[],2,FALSE)","v":39404.456801682099},"Analyst","Analyst","UK",{"$f":"VLOOKUP(tblSalaries[[#This Row],[Where do you work]],tblCountries[[Actual]:[Mapping]],2,FALSE)","v":"UK"},"4 to 6 hours a day",null,{"$f":"VLOOKUP(K461,tblCountries[],3,0)","v":"Europe"},{"$f":"VLOOKUP(tblSalaries[[#This Row],[How many hours of a day you work on Excel]],tblHours,2,0)","v":4},{"$f":"VLOOKUP(tblSalaries[[#This Row],[clean Country]],tblCountries[],5,0)","v":1.3407315045719035},{"$f":"IF($Q$1,tblSalaries[[#This Row],[PPP Factor]]*tblSalaries[[#This Row],[Salary in USD]],tblSalaries[[#This Row],[Salary in USD]])","v":39404.456801682099}]
[null,"ID0465","2012-05-26T03:09:43",60000,60000,"USD",{"$f":"tblSalaries[[#This Row],[clean Salary (in local currency)]]*VLOOKUP(tblSalaries[[#This Row],[Currency]],tblXrate[],2,FALSE)","v":60000},"Business intelligence manager","Manager","USA",{"$f":"VLOOKUP(tblSalaries[[#This Row],[Where do you work]],tblCountries[[Actual]:[Mapping]],2,FALSE)","v":"USA"},"All the 8 hours baby, all the 8!",null,{"$f":"VLOOKUP(K462,tblCountries[],3,0)","v":"North Amer."},{"$f":"VLOOKUP(tblSalaries[[#This Row],[How many hours of a day you work on Excel]],tblHours,2,0)","v":5},{"$f":"VLOOKUP(tblSalaries[[#This Row],[clean Country]],tblCountries[],5,0)","v":1},{"$f":"IF($Q$1,tblSalaries[[#This Row],[PPP Factor]]*tblSalaries[[#This Row],[Salary in USD]],tblSalaries[[#This Row],[Salary in USD]])","v":60000}]
[null,"ID0466","2012-05-26T03:09:49","CDN $70,000",70000,"CAD",{"$f":"tblSalaries[[#This Row],[clean Salary (in local currency)]]*VLOOKUP(tblSalaries[[#This Row],[Currency]],tblXrate[],2,FALSE)","v":68835.306612122877},"Program Manager","Manager","Canada",{"$f":"VLOOKUP(tblSalaries[[#This Row],[Where do you work]],tblCountries[[Actual]:[Mapping]],2,FALSE)","v":"Canada"},"1 or 2 hours a day",null,{"$f":"VLOOKUP(K463,tblCountries[],3,0)","v":"North Amer."},{"$f":"VLOOKUP(tblSalaries[[#This Row],[How many hours of a day you work on Excel]],tblHours,2,0)","v":2},{"$f":"VLOOKUP(tblSalaries[[#This Row],[clean Country]],tblCountries[],5,0)","v":1.1935324732986359},{"$f":"IF($Q$1,tblSalaries[[#This Row],[PPP Factor]]*tblSalaries[[#This Row],[Salary in USD]],tblSalaries[[#This Row],[Salary in USD]])","v":68835.306612122877}]
[null,"ID0467","2012-05-26T03:11:21","5250 $",5250,"USD",{"$f":"tblSalaries[[#This Row],[clean Salary (in local currency)]]*VLOOKUP(tblSalaries[[#This Row],[Currency]],tblXrate[],2,FALSE)","v":5250},"Treasure Specialist","Specialist","Republic of Georgia",{"$f":"VLOOKUP(tblSalaries[[#This Row],[Where do you work]],tblCountries[[Actual]:[Mapping]],2,FALSE)","v":"Republic of Georgia"},"4 to 6 hours a day",null,{"$f":"VLOOKUP(K464,tblCountries[],3,0)","v":"Asia"},{"$f":"VLOOKUP(tblSalaries[[#This Row],[How many hours of a day you work on Excel]],tblHours,2,0)","v":4},{"$f":"VLOOKUP(tblSalaries[[#This Row],[clean Country]],tblCountries[],5,0)","v":1},{"$f":"IF($Q$1,tblSalaries[[#This Row],[PPP Factor]]*tblSalaries[[#This Row],[Salary in USD]],tblSalaries[[#This Row],[Salary in USD]])","v":5250}]
[null,"ID0468","2012-05-26T03:11:44",87000,87000,"CAD",{"$f":"tblSalaries[[#This Row],[clean Salary (in local currency)]]*VLOOKUP(tblSalaries[[#This Row],[Currency]],tblXrate[],2,FALSE)","v":85552.452503638444},"Business Manager","Manager","Canada",{"$f":"VLOOKUP(tblSalaries[[#This Row],[Where do you work]],tblCountries[[Actual]:[Mapping]],2,FALSE)","v":"Canada"},"4 to 6 hours a day",null,{"$f":"VLOOKUP(K465,tblCountries[],3,0)","v":"North Amer."},{"$f":"VLOOKUP(tblSalaries[[#This Row],[How many hours of a day you work on Excel]],tblHours,2,0)","v":4},{"$f":"VLOOKUP(tblSalaries[[#This Row],[clean Country]],tblCountries[],5,0)","v":1.1935324732986359},{"$f":"IF($Q$1,tblSalaries[[#This Row],[PPP Factor]]*tblSalaries[[#This Row],[Salary in USD]],tblSalaries[[#This Row],[Salary in USD]])","v":85552.452503638444}]
[null,"ID0469","2012-05-26T03:13:13",125000,125000,"INR",{"$f":"tblSalaries[[#This Row],[clean Salary (in local currency)]]*VLOOKUP(tblSalaries[[#This Row],[Currency]],tblXrate[],2,FALSE)","v":2225.989585930321},"clerk","Analyst","India",{"$f":"VLOOKUP(tblSalaries[[#This Row],[Where do you work]],tblCountries[[Actual]:[Mapping]],2,FALSE)","v":"India"},"4 to 6 hours a day",null,{"$f":"VLOOKUP(K466,tblCountries[],3,0)","v":"Asia"},{"$f":"VLOOKUP(tblSalaries[[#This Row],[How many hours of a day you work on Excel]],tblHours,2,0)","v":4},{"$f":"VLOOKUP(tblSalaries[[#This Row],[clean Country]],tblCountries[],5,0)","v":13.098808879263672},{"$f":"IF($Q$1,tblSalaries[[#This Row],[PPP Factor]]*tblSalaries[[#This Row],[Salary in USD]],tblSalaries[[#This Row],[Salary in USD]])","v":2225.989585930321}]
[null,"ID0470","2012-05-26T03:14:44",150000,150000,"USD",{"$f":"tblSalaries[[#This Row],[clean Salary (in local currency)]]*VLOOKUP(tblSalaries[[#This Row],[Currency]],tblXrate[],2,FALSE)","v":150000},"CFO","CXO or Top Mgmt.","USA",{"$f":"VLOOKUP(tblSalaries[[#This Row],[Where do you work]],tblCountries[[Actual]:[Mapping]],2,FALSE)","v":"USA"},"2 to 3 hours per day",null,{"$f":"VLOOKUP(K467,tblCountries[],3,0)","v":"North Amer."},{"$f":"VLOOKUP(tblSalaries[[#This Row],[How many hours of a day you work on Excel]],tblHours,2,0)","v":3},{"$f":"VLOOKUP(tblSalaries[[#This Row],[clean Country]],tblCountries[],5,0)","v":1},{"$f":"IF($Q$1,tblSalaries[[#This Row],[PPP Factor]]*tblSalaries[[#This Row],[Salary in USD]],tblSalaries[[#This Row],[Salary in USD]])","v":150000}]
[null,"ID0471","2012-05-26T03:15:01",50000,50000,"USD",{"$f":"tblSalaries[[#This Row],[clean Salary (in local currency)]]*VLOOKUP(tblSalaries[[#This Row],[Currency]],tblXrate[],2,FALSE)","v":50000},"Researcher & Data Analyst","Analyst","USA",{"$f":"VLOOKUP(tblSalaries[[#This Row],[Where do you work]],tblCountries[[Actual]:[Mapping]],2,FALSE)","v":"USA"},"4 to 6 hours a day",null,{"$f":"VLOOKUP(K468,tblCountries[],3,0)","v":"North Amer."},{"$f":"VLOOKUP(tblSalaries[[#This Row],[How many hours of a day you work on Excel]],tblHours,2,0)","v":4},{"$f":"VLOOKUP(tblSalaries[[#This Row],[clean Country]],tblCountries[],5,0)","v":1},{"$f":"IF($Q$1,tblSalaries[[#This Row],[PPP Factor]]*tblSalaries[[#This Row],[Salary in USD]],tblSalaries[[#This Row],[Salary in USD]])","v":50000}]
[null,"ID0472","2012-05-26T03:15:04",70000,70000,"USD",{"$f":"tblSalaries[[#This Row],[clean Salary (in local currency)]]*VLOOKUP(tblSalaries[[#This Row],[Currency]],tblXrate[],2,FALSE)","v":70000},"Analyst","Analyst","USA",{"$f":"VLOOKUP(tblSalaries[[#This Row],[Where do you work]],tblCountries[[Actual]:[Mapping]],2,FALSE)","v":"USA"},"4 to 6 hours a day",null,{"$f":"VLOOKUP(K469,tblCountries[],3,0)","v":"North Amer."},{"$f":"VLOOKUP(tblSalaries[[#This Row],[How many hours of a day you work on Excel]],tblHours,2,0)","v":4},{"$f":"VLOOKUP(tblSalaries[[#This Row],[clean Country]],tblCountries[],5,0)","v":1},{"$f":"IF($Q$1,tblSalaries[[#This Row],[PPP Factor]]*tblSalaries[[#This Row],[Salary in USD]],tblSalaries[[#This Row],[Salary in USD]])","v":70000}]
[null,"ID0473","2012-05-26T03:15:30","Â£28500",28500,"GBP",{"$f":"tblSalaries[[#This Row],[clean Salary (in local currency)]]*VLOOKUP(tblSalaries[[#This Row],[Currency]],tblXrate[],2,FALSE)","v":44921.080753917595},"Data Quality & Analysis Manager","Manager","UK",{"$f":"VLOOKUP(tblSalaries[[#This Row],[Where do you work]],tblCountries[[Actual]:[Mapping]],2,FALSE)","v":"UK"},"2 to 3 hours per day",null,{"$f":"VLOOKUP(K470,tblCountries[],3,0)","v":"Europe"},{"$f":"VLOOKUP(tblSalaries[[#This Row],[How many hours of a day you work on Excel]],tblHours,2,0)","v":3},{"$f":"VLOOKUP(tblSalaries[[#This Row],[clean Country]],tblCountries[],5,0)","v":1.3407315045719035},{"$f":"IF($Q$1,tblSalaries[[#This Row],[PPP Factor]]*tblSalaries[[#This Row],[Salary in USD]],tblSalaries[[#This Row],[Salary in USD]])","v":44921.080753917595}]
[null,"ID0474","2012-05-26T03:15:50",20000,20000,"USD",{"$f":"tblSalaries[[#This Row],[clean Salary (in local currency)]]*VLOOKUP(tblSalaries[[#This Row],[Currency]],tblXrate[],2,FALSE)","v":20000},"Specialist","Specialist","India",{"$f":"VLOOKUP(tblSalaries[[#This Row],[Where do you work]],tblCountries[[Actual]:[Mapping]],2,FALSE)","v":"India"},"4 to 6 hours a day",null,{"$f":"VLOOKUP(K471,tblCountries[],3,0)","v":"Asia"},{"$f":"VLOOKUP(tblSalaries[[#This Row],[How many hours of a day you work on Excel]],tblHours,2,0)","v":4},{"$f":"VLOOKUP(tblSalaries[[#This Row],[clean Country]],tblCountries[],5,0)","v":13.098808879263672},{"$f":"IF($Q$1,tblSalaries[[#This Row],[PPP Factor]]*tblSalaries[[#This Row],[Salary in USD]],tblSalaries[[#This Row],[Salary in USD]])","v":20000}]
[null,"ID0476","2012-05-26T03:16:58",12000,12000,"USD",{"$f":"tblSalaries[[#This Row],[clean Salary (in local currency)]]*VLOOKUP(tblSalaries[[#This Row],[Currency]],tblXrate[],2,FALSE)","v":12000},"Resource managment Analyst","Analyst","Estonia",{"$f":"VLOOKUP(tblSalaries[[#This Row],[Where do you work]],tblCountries[[Actual]:[Mapping]],2,FALSE)","v":"Estonia"},"All the 8 hours baby, all the 8!",null,{"$f":"VLOOKUP(K472,tblCountries[],3,0)","v":"Europe"},{"$f":"VLOOKUP(tblSalaries[[#This Row],[How many hours of a day you work on Excel]],tblHours,2,0)","v":5},{"$f":"VLOOKUP(tblSalaries[[#This Row],[clean Country]],tblCountries[],5,0)","v":2.3742394504416096},{"$f":"IF($Q$1,tblSalaries[[#This Row],[PPP Factor]]*tblSalaries[[#This Row],[Salary in USD]],tblSalaries[[#This Row],[Salary in USD]])","v":12000}]
[null,"ID0477","2012-05-26T03:17:19",1250000,1250000,"CAD",{"$f":"tblSalaries[[#This Row],[clean Salary (in local currency)]]*VLOOKUP(tblSalaries[[#This Row],[Currency]],tblXrate[],2,FALSE)","v":1229201.9037879086},"Account Executive","Accountant","Canada",{"$f":"VLOOKUP(tblSalaries[[#This Row],[Where do you work]],tblCountries[[Actual]:[Mapping]],2,FALSE)","v":"Canada"},"4 to 6 hours a day",null,{"$f":"VLOOKUP(K473,tblCountries[],3,0)","v":"North Amer."},{"$f":"VLOOKUP(tblSalaries[[#This Row],[How many hours of a day you work on Excel]],tblHours,2,0)","v":4},{"$f":"VLOOKUP(tblSalaries[[#This Row],[clean Country]],tblCountries[],5,0)","v":1.1935324732986359},{"$f":"IF($Q$1,tblSalaries[[#This Row],[PPP Factor]]*tblSalaries[[#This Row],[Salary in USD]],tblSalaries[[#This Row],[Salary in USD]])","v":1229201.9037879086}]
[null,"ID0478","2012-05-26T03:19:00",30000,30000,"USD",{"$f":"tblSalaries[[#This Row],[clean Salary (in local currency)]]*VLOOKUP(tblSalaries[[#This Row],[Currency]],tblXrate[],2,FALSE)","v":30000},"video production","Analyst","USA",{"$f":"VLOOKUP(tblSalaries[[#This Row],[Where do you work]],tblCountries[[Actual]:[Mapping]],2,FALSE)","v":"USA"},"Excel ?!? What Excel?",null,{"$f":"VLOOKUP(K474,tblCountries[],3,0)","v":"North Amer."},{"$f":"VLOOKUP(tblSalaries[[#This Row],[How many hours of a day you work on Excel]],tblHours,2,0)","v":1},{"$f":"VLOOKUP(tblSalaries[[#This Row],[clean Country]],tblCountries[],5,0)","v":1},{"$f":"IF($Q$1,tblSalaries[[#This Row],[PPP Factor]]*tblSalaries[[#This Row],[Salary in USD]],tblSalaries[[#This Row],[Salary in USD]])","v":30000}]
[null,"ID0479","2012-05-26T03:21:26",2000,24000,"USD",{"$f":"tblSalaries[[#This Row],[clean Salary (in local currency)]]*VLOOKUP(tblSalaries[[#This Row],[Currency]],tblXrate[],2,FALSE)","v":24000},"engineer","Engineer","mozambique",{"$f":"VLOOKUP(tblSalaries[[#This Row],[Where do you work]],tblCountries[[Actual]:[Mapping]],2,FALSE)","v":"mozambique"},"2 to 3 hours per day",null,{"$f":"VLOOKUP(K475,tblCountries[],3,0)","v":"Africa"},{"$f":"VLOOKUP(tblSalaries[[#This Row],[How many hours of a day you work on Excel]],tblHours,2,0)","v":3},{"$f":"VLOOKUP(tblSalaries[[#This Row],[clean Country]],tblCountries[],5,0)","v":44.596313364055298},{"$f":"IF($Q$1,tblSalaries[[#This Row],[PPP Factor]]*tblSalaries[[#This Row],[Salary in USD]],tblSalaries[[#This Row],[Salary in USD]])","v":24000}]
[null,"ID0480","2012-05-26T03:21:55",92000,92000,"USD",{"$f":"tblSalaries[[#This Row],[clean Salary (in local currency)]]*VLOOKUP(tblSalaries[[#This Row],[Currency]],tblXrate[],2,FALSE)","v":92000},"principal engineer","Engineer","USA",{"$f":"VLOOKUP(tblSalaries[[#This Row],[Where do you work]],tblCountries[[Actual]:[Mapping]],2,FALSE)","v":"USA"},"1 or 2 hours a day",null,{"$f":"VLOOKUP(K476,tblCountries[],3,0)","v":"North Amer."},{"$f":"VLOOKUP(tblSalaries[[#This Row],[How many hours of a day you work on Excel]],tblHours,2,0)","v":2},{"$f":"VLOOKUP(tblSalaries[[#This Row],[clean Country]],tblCountries[],5,0)","v":1},{"$f":"IF($Q$1,tblSalaries[[#This Row],[PPP Factor]]*tblSalaries[[#This Row],[Salary in USD]],tblSalaries[[#This Row],[Salary in USD]])","v":92000}]
[null,"ID0481","2012-05-26T03:22:33",52000,52000,"USD",{"$f":"tblSalaries[[#This Row],[clean Salary (in local currency)]]*VLOOKUP(tblSalaries[[#This Row],[Currency]],tblXrate[],2,FALSE)","v":52000},"budget analyst","Analyst","USA",{"$f":"VLOOKUP(tblSalaries[[#This Row],[Where do you work]],tblCountries[[Actual]:[Mapping]],2,FALSE)","v":"USA"},"4 to 6 hours a day",null,{"$f":"VLOOKUP(K477,tblCountries[],3,0)","v":"North Amer."},{"$f":"VLOOKUP(tblSalaries[[#This Row],[How many hours of a day you work on Excel]],tblHours,2,0)","v":4},{"$f":"VLOOKUP(tblSalaries[[#This Row],[clean Country]],tblCountries[],5,0)","v":1},{"$f":"IF($Q$1,tblSalaries[[#This Row],[PPP Factor]]*tblSalaries[[#This Row],[Salary in USD]],tblSalaries[[#This Row],[Salary in USD]])","v":52000}]
[null,"ID0482","2012-05-26T03:23:51","US$169,000",169000,"USD",{"$f":"tblSalaries[[#This Row],[clean Salary (in local currency)]]*VLOOKUP(tblSalaries[[#This Row],[Currency]],tblXrate[],2,FALSE)","v":169000},"Category Director (Marketing)","CXO or Top Mgmt.","USA",{"$f":"VLOOKUP(tblSalaries[[#This Row],[Where do you work]],tblCountries[[Actual]:[Mapping]],2,FALSE)","v":"USA"},"2 to 3 hours per day",null,{"$f":"VLOOKUP(K478,tblCountries[],3,0)","v":"North Amer."},{"$f":"VLOOKUP(tblSalaries[[#This Row],[How many hours of a day you work on Excel]],tblHours,2,0)","v":3},{"$f":"VLOOKUP(tblSalaries[[#This Row],[clean Country]],tblCountries[],5,0)","v":1},{"$f":"IF($Q$1,tblSalaries[[#This Row],[PPP Factor]]*tblSalaries[[#This Row],[Salary in USD]],tblSalaries[[#This Row],[Salary in USD]])","v":169000}]
[null,"ID0484","2012-05-26T03:25:57",110000,110000,"USD",{"$f":"tblSalaries[[#This Row],[clean Salary (in local currency)]]*VLOOKUP(tblSalaries[[#This Row],[Currency]],tblXrate[],2,FALSE)","v":110000},"Senior consultant accounting","Accountant","Norway",{"$f":"VLOOKUP(tblSalaries[[#This Row],[Where do you work]],tblCountries[[Actual]:[Mapping]],2,FALSE)","v":"Norway"},"2 to 3 hours per day",null,{"$f":"VLOOKUP(K479,tblCountries[],3,0)","v":"Europe"},{"$f":"VLOOKUP(tblSalaries[[#This Row],[How many hours of a day you work on Excel]],tblHours,2,0)","v":3},{"$f":"VLOOKUP(tblSalaries[[#This Row],[clean Country]],tblCountries[],5,0)","v":0.90492042415514951},{"$f":"IF($Q$1,tblSalaries[[#This Row],[PPP Factor]]*tblSalaries[[#This Row],[Salary in USD]],tblSalaries[[#This Row],[Salary in USD]])","v":110000}]
[null,"ID0485","2012-05-26T03:27:56","Zar 1080000",1080000,"ZAR",{"$f":"tblSalaries[[#This Row],[clean Salary (in local currency)]]*VLOOKUP(tblSalaries[[#This Row],[Currency]],tblXrate[],2,FALSE)","v":131675.52225194403},"Finance manager","Manager","South africa",{"$f":"VLOOKUP(tblSalaries[[#This Row],[Where do you work]],tblCountries[[Actual]:[Mapping]],2,FALSE)","v":"South Africa"},"2 to 3 hours per day",null,{"$f":"VLOOKUP(K480,tblCountries[],3,0)","v":"Africa"},{"$f":"VLOOKUP(tblSalaries[[#This Row],[How many hours of a day you work on Excel]],tblHours,2,0)","v":3},{"$f":"VLOOKUP(tblSalaries[[#This Row],[clean Country]],tblCountries[],5,0)","v":4.4096418481727877},{"$f":"IF($Q$1,tblSalaries[[#This Row],[PPP Factor]]*tblSalaries[[#This Row],[Salary in USD]],tblSalaries[[#This Row],[Salary in USD]])","v":131675.52225194403}]
[null,"ID0486","2012-05-26T03:30:42","GB Sterling 59k",59000,"GBP",{"$f":"tblSalaries[[#This Row],[clean Salary (in local currency)]]*VLOOKUP(tblSalaries[[#This Row],[Currency]],tblXrate[],2,FALSE)","v":92994.518051969761},"Health and safety advisor","Consultant","UK",{"$f":"VLOOKUP(tblSalaries[[#This Row],[Where do you work]],tblCountries[[Actual]:[Mapping]],2,FALSE)","v":"UK"},"2 to 3 hours per day",null,{"$f":"VLOOKUP(K481,tblCountries[],3,0)","v":"Europe"},{"$f":"VLOOKUP(tblSalaries[[#This Row],[How many hours of a day you work on Excel]],tblHours,2,0)","v":3},{"$f":"VLOOKUP(tblSalaries[[#This Row],[clean Country]],tblCountries[],5,0)","v":1.3407315045719035},{"$f":"IF($Q$1,tblSalaries[[#This Row],[PPP Factor]]*tblSalaries[[#This Row],[Salary in USD]],tblSalaries[[#This Row],[Salary in USD]])","v":92994.518051969761}]
[null,"ID0487","2012-05-26T03:31:34",50000,50000,"USD",{"$f":"tblSalaries[[#This Row],[clean Salary (in local currency)]]*VLOOKUP(tblSalaries[[#This Row],[Currency]],tblXrate[],2,FALSE)","v":50000},"Workforce Analyst","Analyst","USA",{"$f":"VLOOKUP(tblSalaries[[#This Row],[Where do you work]],tblCountries[[Actual]:[Mapping]],2,FALSE)","v":"USA"},"4 to 6 hours a day",null,{"$f":"VLOOKUP(K482,tblCountries[],3,0)","v":"North Amer."},{"$f":"VLOOKUP(tblSalaries[[#This Row],[How many hours of a day you work on Excel]],tblHours,2,0)","v":4},{"$f":"VLOOKUP(tblSalaries[[#This Row],[clean Country]],tblCountries[],5,0)","v":1},{"$f":"IF($Q$1,tblSalaries[[#This Row],[PPP Factor]]*tblSalaries[[#This Row],[Salary in USD]],tblSalaries[[#This Row],[Salary in USD]])","v":50000}]
[null,"ID0488","2012-05-26T03:32:13",65000,65000,"USD",{"$f":"tblSalaries[[#This Row],[clean Salary (in local currency)]]*VLOOKUP(tblSalaries[[#This Row],[Currency]],tblXrate[],2,FALSE)","v":65000},"Business Systems Analyst","Analyst","USA",{"$f":"VLOOKUP(tblSalaries[[#This Row],[Where do you work]],tblCountries[[Actual]:[Mapping]],2,FALSE)","v":"USA"},"2 to 3 hours per day",null,{"$f":"VLOOKUP(K483,tblCountries[],3,0)","v":"North Amer."},{"$f":"VLOOKUP(tblSalaries[[#This Row],[How many hours of a day you work on Excel]],tblHours,2,0)","v":3},{"$f":"VLOOKUP(tblSalaries[[#This Row],[clean Country]],tblCountries[],5,0)","v":1},{"$f":"IF($Q$1,tblSalaries[[#This Row],[PPP Factor]]*tblSalaries[[#This Row],[Salary in USD]],tblSalaries[[#This Row],[Salary in USD]])","v":65000}]
[null,"ID0489","2012-05-26T03:32:53",46000,46000,"CAD",{"$f":"tblSalaries[[#This Row],[clean Salary (in local currency)]]*VLOOKUP(tblSalaries[[#This Row],[Currency]],tblXrate[],2,FALSE)","v":45234.630059395036},"Sr. Marketing Solutions Analyst","Analyst","Canada",{"$f":"VLOOKUP(tblSalaries[[#This Row],[Where do you work]],tblCountries[[Actual]:[Mapping]],2,FALSE)","v":"Canada"},"All the 8 hours baby, all the 8!",null,{"$f":"VLOOKUP(K484,tblCountries[],3,0)","v":"North Amer."},{"$f":"VLOOKUP(tblSalaries[[#This Row],[How many hours of a day you work on Excel]],tblHours,2,0)","v":5},{"$f":"VLOOKUP(tblSalaries[[#This Row],[clean Country]],tblCountries[],5,0)","v":1.1935324732986359},{"$f":"IF($Q$1,tblSalaries[[#This Row],[PPP Factor]]*tblSalaries[[#This Row],[Salary in USD]],tblSalaries[[#This Row],[Salary in USD]])","v":45234.630059395036}]
[null,"ID0490","2012-05-26T03:33:32",55000,55000,"USD",{"$f":"tblSalaries[[#This Row],[clean Salary (in local currency)]]*VLOOKUP(tblSalaries[[#This Row],[Currency]],tblXrate[],2,FALSE)","v":55000},"Analyst","Analyst","USA",{"$f":"VLOOKUP(tblSalaries[[#This Row],[Where do you work]],tblCountries[[Actual]:[Mapping]],2,FALSE)","v":"USA"},"2 to 3 hours per day",null,{"$f":"VLOOKUP(K485,tblCountries[],3,0)","v":"North Amer."},{"$f":"VLOOKUP(tblSalaries[[#This Row],[How many hours of a day you work on Excel]],tblHours,2,0)","v":3},{"$f":"VLOOKUP(tblSalaries[[#This Row],[clean Country]],tblCountries[],5,0)","v":1},{"$f":"IF($Q$1,tblSalaries[[#This Row],[PPP Factor]]*tblSalaries[[#This Row],[Salary in USD]],tblSalaries[[#This Row],[Salary in USD]])","v":55000}]
[null,"ID0491","2012-05-26T03:34:04","20000 US$",20000,"USD",{"$f":"tblSalaries[[#This Row],[clean Salary (in local currency)]]*VLOOKUP(tblSalaries[[#This Row],[Currency]],tblXrate[],2,FALSE)","v":20000},"Consultant","Consultant","India",{"$f":"VLOOKUP(tblSalaries[[#This Row],[Where do you work]],tblCountries[[Actual]:[Mapping]],2,FALSE)","v":"India"},"2 to 3 hours per day",null,{"$f":"VLOOKUP(K486,tblCountries[],3,0)","v":"Asia"},{"$f":"VLOOKUP(tblSalaries[[#This Row],[How many hours of a day you work on Excel]],tblHours,2,0)","v":3},{"$f":"VLOOKUP(tblSalaries[[#This Row],[clean Country]],tblCountries[],5,0)","v":13.098808879263672},{"$f":"IF($Q$1,tblSalaries[[#This Row],[PPP Factor]]*tblSalaries[[#This Row],[Salary in USD]],tblSalaries[[#This Row],[Salary in USD]])","v":20000}]
[null,"ID0492","2012-05-26T03:34:15",6000,6000,"USD",{"$f":"tblSalaries[[#This Row],[clean Salary (in local currency)]]*VLOOKUP(tblSalaries[[#This Row],[Currency]],tblXrate[],2,FALSE)","v":6000},"MIS","Reporting","India",{"$f":"VLOOKUP(tblSalaries[[#This Row],[Where do you work]],tblCountries[[Actual]:[Mapping]],2,FALSE)","v":"India"},"All the 8 hours baby, all the 8!",null,{"$f":"VLOOKUP(K487,tblCountries[],3,0)","v":"Asia"},{"$f":"VLOOKUP(tblSalaries[[#This Row],[How many hours of a day you work on Excel]],tblHours,2,0)","v":5},{"$f":"VLOOKUP(tblSalaries[[#This Row],[clean Country]],tblCountries[],5,0)","v":13.098808879263672},{"$f":"IF($Q$1,tblSalaries[[#This Row],[PPP Factor]]*tblSalaries[[#This Row],[Salary in USD]],tblSalaries[[#This Row],[Salary in USD]])","v":6000}]
[null,"ID0493","2012-05-26T03:37:33",190000,190000,"GBP",{"$f":"tblSalaries[[#This Row],[clean Salary (in local currency)]]*VLOOKUP(tblSalaries[[#This Row],[Currency]],tblXrate[],2,FALSE)","v":299473.87169278396},"Managing Partner","CXO or Top Mgmt.","UK",{"$f":"VLOOKUP(tblSalaries[[#This Row],[Where do you work]],tblCountries[[Actual]:[Mapping]],2,FALSE)","v":"UK"},"4 to 6 hours a day",null,{"$f":"VLOOKUP(K488,tblCountries[],3,0)","v":"Europe"},{"$f":"VLOOKUP(tblSalaries[[#This Row],[How many hours of a day you work on Excel]],tblHours,2,0)","v":4},{"$f":"VLOOKUP(tblSalaries[[#This Row],[clean Country]],tblCountries[],5,0)","v":1.3407315045719035},{"$f":"IF($Q$1,tblSalaries[[#This Row],[PPP Factor]]*tblSalaries[[#This Row],[Salary in USD]],tblSalaries[[#This Row],[Salary in USD]])","v":299473.87169278396}]
[null,"ID0494","2012-05-26T03:37:46",28164,28164,"GBP",{"$f":"tblSalaries[[#This Row],[clean Salary (in local currency)]]*VLOOKUP(tblSalaries[[#This Row],[Currency]],tblXrate[],2,FALSE)","v":44391.484854502989},"Administration Officer","Manager","UK",{"$f":"VLOOKUP(tblSalaries[[#This Row],[Where do you work]],tblCountries[[Actual]:[Mapping]],2,FALSE)","v":"UK"},"4 to 6 hours a day",null,{"$f":"VLOOKUP(K489,tblCountries[],3,0)","v":"Europe"},{"$f":"VLOOKUP(tblSalaries[[#This Row],[How many hours of a day you work on Excel]],tblHours,2,0)","v":4},{"$f":"VLOOKUP(tblSalaries[[#This Row],[clean Country]],tblCountries[],5,0)","v":1.3407315045719035},{"$f":"IF($Q$1,tblSalaries[[#This Row],[PPP Factor]]*tblSalaries[[#This Row],[Salary in USD]],tblSalaries[[#This Row],[Salary in USD]])","v":44391.484854502989}]
[null,"ID0495","2012-05-26T03:40:26",40000,40000,"USD",{"$f":"tblSalaries[[#This Row],[clean Salary (in local currency)]]*VLOOKUP(tblSalaries[[#This Row],[Currency]],tblXrate[],2,FALSE)","v":40000},"BAS","Analyst","USA",{"$f":"VLOOKUP(tblSalaries[[#This Row],[Where do you work]],tblCountries[[Actual]:[Mapping]],2,FALSE)","v":"USA"},"2 to 3 hours per day",null,{"$f":"VLOOKUP(K490,tblCountries[],3,0)","v":"North Amer."},{"$f":"VLOOKUP(tblSalaries[[#This Row],[How many hours of a day you work on Excel]],tblHours,2,0)","v":3},{"$f":"VLOOKUP(tblSalaries[[#This Row],[clean Country]],tblCountries[],5,0)","v":1},{"$f":"IF($Q$1,tblSalaries[[#This Row],[PPP Factor]]*tblSalaries[[#This Row],[Salary in USD]],tblSalaries[[#This Row],[Salary in USD]])","v":40000}]
[null,"ID0496","2012-05-26T03:48:42","USD 108,000",108000,"USD",{"$f":"tblSalaries[[#This Row],[clean Salary (in local currency)]]*VLOOKUP(tblSalaries[[#This Row],[Currency]],tblXrate[],2,FALSE)","v":108000},"Manager","Manager","Norway",{"$f":"VLOOKUP(tblSalaries[[#This Row],[Where do you work]],tblCountries[[Actual]:[Mapping]],2,FALSE)","v":"Norway"},"4 to 6 hours a day",null,{"$f":"VLOOKUP(K491,tblCountries[],3,0)","v":"Europe"},{"$f":"VLOOKUP(tblSalaries[[#This Row],[How many hours of a day you work on Excel]],tblHours,2,0)","v":4},{"$f":"VLOOKUP(tblSalaries[[#This Row],[clean Country]],tblCountries[],5,0)","v":0.90492042415514951},{"$f":"IF($Q$1,tblSalaries[[#This Row],[PPP Factor]]*tblSalaries[[#This Row],[Salary in USD]],tblSalaries[[#This Row],[Salary in USD]])","v":108000}]
[null,"ID0497","2012-05-26T03:49:21","200000 Rupees",200000,"INR",{"$f":"tblSalaries[[#This Row],[clean Salary (in local currency)]]*VLOOKUP(tblSalaries[[#This Row],[Currency]],tblXrate[],2,FALSE)","v":3561.5833374885137},"chemist","Analyst","India",{"$f":"VLOOKUP(tblSalaries[[#This Row],[Where do you work]],tblCountries[[Actual]:[Mapping]],2,FALSE)","v":"India"},"2 to 3 hours per day",null,{"$f":"VLOOKUP(K492,tblCountries[],3,0)","v":"Asia"},{"$f":"VLOOKUP(tblSalaries[[#This Row],[How many hours of a day you work on Excel]],tblHours,2,0)","v":3},{"$f":"VLOOKUP(tblSalaries[[#This Row],[clean Country]],tblCountries[],5,0)","v":13.098808879263672},{"$f":"IF($Q$1,tblSalaries[[#This Row],[PPP Factor]]*tblSalaries[[#This Row],[Salary in USD]],tblSalaries[[#This Row],[Salary in USD]])","v":3561.5833374885137}]
[null,"ID0498","2012-05-26T03:50:24",84000,84000,"USD",{"$f":"tblSalaries[[#This Row],[clean Salary (in local currency)]]*VLOOKUP(tblSalaries[[#This Row],[Currency]],tblXrate[],2,FALSE)","v":84000},"Senior Analyst","Analyst","USA",{"$f":"VLOOKUP(tblSalaries[[#This Row],[Where do you work]],tblCountries[[Actual]:[Mapping]],2,FALSE)","v":"USA"},"All the 8 hours baby, all the 8!",null,{"$f":"VLOOKUP(K493,tblCountries[],3,0)","v":"North Amer."},{"$f":"VLOOKUP(tblSalaries[[#This Row],[How many hours of a day you work on Excel]],tblHours,2,0)","v":5},{"$f":"VLOOKUP(tblSalaries[[#This Row],[clean Country]],tblCountries[],5,0)","v":1},{"$f":"IF($Q$1,tblSalaries[[#This Row],[PPP Factor]]*tblSalaries[[#This Row],[Salary in USD]],tblSalaries[[#This Row],[Salary in USD]])","v":84000}]
[null,"ID0499","2012-05-26T03:52:24",33000,33000,"GBP",{"$f":"tblSalaries[[#This Row],[clean Salary (in local currency)]]*VLOOKUP(tblSalaries[[#This Row],[Currency]],tblXrate[],2,FALSE)","v":52013.882978220376},"LOGISTIC MANAGER","Manager","UK",{"$f":"VLOOKUP(tblSalaries[[#This Row],[Where do you work]],tblCountries[[Actual]:[Mapping]],2,FALSE)","v":"UK"},"4 to 6 hours a day",null,{"$f":"VLOOKUP(K494,tblCountries[],3,0)","v":"Europe"},{"$f":"VLOOKUP(tblSalaries[[#This Row],[How many hours of a day you work on Excel]],tblHours,2,0)","v":4},{"$f":"VLOOKUP(tblSalaries[[#This Row],[clean Country]],tblCountries[],5,0)","v":1.3407315045719035},{"$f":"IF($Q$1,tblSalaries[[#This Row],[PPP Factor]]*tblSalaries[[#This Row],[Salary in USD]],tblSalaries[[#This Row],[Salary in USD]])","v":52013.882978220376}]
[null,"ID0500","2012-05-26T03:53:29","Rs. 7,20,000/-",720000,"INR",{"$f":"tblSalaries[[#This Row],[clean Salary (in local currency)]]*VLOOKUP(tblSalaries[[#This Row],[Currency]],tblXrate[],2,FALSE)","v":12821.700014958649},"Manager Finance","Manager","India",{"$f":"VLOOKUP(tblSalaries[[#This Row],[Where do you work]],tblCountries[[Actual]:[Mapping]],2,FALSE)","v":"India"},"2 to 3 hours per day",null,{"$f":"VLOOKUP(K495,tblCountries[],3,0)","v":"Asia"},{"$f":"VLOOKUP(tblSalaries[[#This Row],[How many hours of a day you work on Excel]],tblHours,2,0)","v":3},{"$f":"VLOOKUP(tblSalaries[[#This Row],[clean Country]],tblCountries[],5,0)","v":13.098808879263672},{"$f":"IF($Q$1,tblSalaries[[#This Row],[PPP Factor]]*tblSalaries[[#This Row],[Salary in USD]],tblSalaries[[#This Row],[Salary in USD]])","v":12821.700014958649}]
[null,"ID0501","2012-05-26T04:00:21",68500,68500,"CAD",{"$f":"tblSalaries[[#This Row],[clean Salary (in local currency)]]*VLOOKUP(tblSalaries[[#This Row],[Currency]],tblXrate[],2,FALSE)","v":67360.264327577388},"Financial Analyst","Analyst","Canada",{"$f":"VLOOKUP(tblSalaries[[#This Row],[Where do you work]],tblCountries[[Actual]:[Mapping]],2,FALSE)","v":"Canada"},"4 to 6 hours a day",null,{"$f":"VLOOKUP(K496,tblCountries[],3,0)","v":"North Amer."},{"$f":"VLOOKUP(tblSalaries[[#This Row],[How many hours of a day you work on Excel]],tblHours,2,0)","v":4},{"$f":"VLOOKUP(tblSalaries[[#This Row],[clean Country]],tblCountries[],5,0)","v":1.1935324732986359},{"$f":"IF($Q$1,tblSalaries[[#This Row],[PPP Factor]]*tblSalaries[[#This Row],[Salary in USD]],tblSalaries[[#This Row],[Salary in USD]])","v":67360.264327577388}]
[null,"ID0502","2012-05-26T04:01:45","23000 USD",23000,"USD",{"$f":"tblSalaries[[#This Row],[clean Salary (in local currency)]]*VLOOKUP(tblSalaries[[#This Row],[Currency]],tblXrate[],2,FALSE)","v":23000},"IT solutions coordinator","Manager","Hungary",{"$f":"VLOOKUP(tblSalaries[[#This Row],[Where do you work]],tblCountries[[Actual]:[Mapping]],2,FALSE)","v":"Hungary"},"4 to 6 hours a day",null,{"$f":"VLOOKUP(K497,tblCountries[],3,0)","v":"Europe"},{"$f":"VLOOKUP(tblSalaries[[#This Row],[How many hours of a day you work on Excel]],tblHours,2,0)","v":4},{"$f":"VLOOKUP(tblSalaries[[#This Row],[clean Country]],tblCountries[],5,0)","v":2.4698586085447398},{"$f":"IF($Q$1,tblSalaries[[#This Row],[PPP Factor]]*tblSalaries[[#This Row],[Salary in USD]],tblSalaries[[#This Row],[Salary in USD]])","v":23000}]
[null,"ID0503","2012-05-26T04:01:59",58000,58000,"GBP",{"$f":"tblSalaries[[#This Row],[clean Salary (in local currency)]]*VLOOKUP(tblSalaries[[#This Row],[Currency]],tblXrate[],2,FALSE)","v":91418.339779902482},"Business Modeller","Manager","UK",{"$f":"VLOOKUP(tblSalaries[[#This Row],[Where do you work]],tblCountries[[Actual]:[Mapping]],2,FALSE)","v":"UK"},"All the 8 hours baby, all the 8!",null,{"$f":"VLOOKUP(K498,tblCountries[],3,0)","v":"Europe"},{"$f":"VLOOKUP(tblSalaries[[#This Row],[How many hours of a day you work on Excel]],tblHours,2,0)","v":5},{"$f":"VLOOKUP(tblSalaries[[#This Row],[clean Country]],tblCountries[],5,0)","v":1.3407315045719035},{"$f":"IF($Q$1,tblSalaries[[#This Row],[PPP Factor]]*tblSalaries[[#This Row],[Salary in USD]],tblSalaries[[#This Row],[Salary in USD]])","v":91418.339779902482}]
[null,"ID0504","2012-05-26T04:03:33",77000,77000,"USD",{"$f":"tblSalaries[[#This Row],[clean Salary (in local currency)]]*VLOOKUP(tblSalaries[[#This Row],[Currency]],tblXrate[],2,FALSE)","v":77000},"Senior Financial Analyst","Analyst","USA",{"$f":"VLOOKUP(tblSalaries[[#This Row],[Where do you work]],tblCountries[[Actual]:[Mapping]],2,FALSE)","v":"USA"},"All the 8 hours baby, all the 8!",null,{"$f":"VLOOKUP(K499,tblCountries[],3,0)","v":"North Amer."},{"$f":"VLOOKUP(tblSalaries[[#This Row],[How many hours of a day you work on Excel]],tblHours,2,0)","v":5},{"$f":"VLOOKUP(tblSalaries[[#This Row],[clean Country]],tblCountries[],5,0)","v":1},{"$f":"IF($Q$1,tblSalaries[[#This Row],[PPP Factor]]*tblSalaries[[#This Row],[Salary in USD]],tblSalaries[[#This Row],[Salary in USD]])","v":77000}]
[null,"ID0505","2012-05-26T04:05:08",100000,100000,"USD",{"$f":"tblSalaries[[#This Row],[clean Salary (in local currency)]]*VLOOKUP(tblSalaries[[#This Row],[Currency]],tblXrate[],2,FALSE)","v":100000},"Analyst","Analyst","USA",{"$f":"VLOOKUP(tblSalaries[[#This Row],[Where do you work]],tblCountries[[Actual]:[Mapping]],2,FALSE)","v":"USA"},"4 to 6 hours a day",null,{"$f":"VLOOKUP(K500,tblCountries[],3,0)","v":"North Amer."},{"$f":"VLOOKUP(tblSalaries[[#This Row],[How many hours of a day you work on Excel]],tblHours,2,0)","v":4},{"$f":"VLOOKUP(tblSalaries[[#This Row],[clean Country]],tblCountries[],5,0)","v":1},{"$f":"IF($Q$1,tblSalaries[[#This Row],[PPP Factor]]*tblSalaries[[#This Row],[Salary in USD]],tblSalaries[[#This Row],[Salary in USD]])","v":100000}]
[null,"ID0506","2012-05-26T04:10:53",55500,55500,"USD",{"$f":"tblSalaries[[#This Row],[clean Salary (in local currency)]]*VLOOKUP(tblSalaries[[#This Row],[Currency]],tblXrate[],2,FALSE)","v":55500},"Sr QS","Controller","UAE",{"$f":"VLOOKUP(tblSalaries[[#This Row],[Where do you work]],tblCountries[[Actual]:[Mapping]],2,FALSE)","v":"UAE"},"4 to 6 hours a day",null,{"$f":"VLOOKUP(K501,tblCountries[],3,0)","v":"Asia"},{"$f":"VLOOKUP(tblSalaries[[#This Row],[How many hours of a day you work on Excel]],tblHours,2,0)","v":4},{"$f":"VLOOKUP(tblSalaries[[#This Row],[clean Country]],tblCountries[],5,0)","v":1.0047551808629926},{"$f":"IF($Q$1,tblSalaries[[#This Row],[PPP Factor]]*tblSalaries[[#This Row],[Salary in USD]],tblSalaries[[#This Row],[Salary in USD]])","v":55500}]
[null,"ID0507","2012-05-26T04:12:16","15000 â‚¬",15000,"EUR",{"$f":"tblSalaries[[#This Row],[clean Salary (in local currency)]]*VLOOKUP(tblSalaries[[#This Row],[Currency]],tblXrate[],2,FALSE)","v":19055.991584874118},"Report Analyst","Analyst","Spain",{"$f":"VLOOKUP(tblSalaries[[#This Row],[Where do you work]],tblCountries[[Actual]:[Mapping]],2,FALSE)","v":"Spain"},"All the 8 hours baby, all the 8!",null,{"$f":"VLOOKUP(K502,tblCountries[],3,0)","v":"Europe"},{"$f":"VLOOKUP(tblSalaries[[#This Row],[How many hours of a day you work on Excel]],tblHours,2,0)","v":5},{"$f":"VLOOKUP(tblSalaries[[#This Row],[clean Country]],tblCountries[],5,0)","v":1.5799320838503232},{"$f":"IF($Q$1,tblSalaries[[#This Row],[PPP Factor]]*tblSalaries[[#This Row],[Salary in USD]],tblSalaries[[#This Row],[Salary in USD]])","v":19055.991584874118}]
[null,"ID0508","2012-05-26T04:13:54","Rs 6L",600000,"INR",{"$f":"tblSalaries[[#This Row],[clean Salary (in local currency)]]*VLOOKUP(tblSalaries[[#This Row],[Currency]],tblXrate[],2,FALSE)","v":10684.750012465542},"Business Co ordinator","Manager","India",{"$f":"VLOOKUP(tblSalaries[[#This Row],[Where do you work]],tblCountries[[Actual]:[Mapping]],2,FALSE)","v":"India"},"4 to 6 hours a day",null,{"$f":"VLOOKUP(K503,tblCountries[],3,0)","v":"Asia"},{"$f":"VLOOKUP(tblSalaries[[#This Row],[How many hours of a day you work on Excel]],tblHours,2,0)","v":4},{"$f":"VLOOKUP(tblSalaries[[#This Row],[clean Country]],tblCountries[],5,0)","v":13.098808879263672},{"$f":"IF($Q$1,tblSalaries[[#This Row],[PPP Factor]]*tblSalaries[[#This Row],[Salary in USD]],tblSalaries[[#This Row],[Salary in USD]])","v":10684.750012465542}]
[null,"ID0509","2012-05-26T04:14:27",8400,8400,"USD",{"$f":"tblSalaries[[#This Row],[clean Salary (in local currency)]]*VLOOKUP(tblSalaries[[#This Row],[Currency]],tblXrate[],2,FALSE)","v":8400},"Manager","Manager","India",{"$f":"VLOOKUP(tblSalaries[[#This Row],[Where do you work]],tblCountries[[Actual]:[Mapping]],2,FALSE)","v":"India"},"4 to 6 hours a day",null,{"$f":"VLOOKUP(K504,tblCountries[],3,0)","v":"Asia"},{"$f":"VLOOKUP(tblSalaries[[#This Row],[How many hours of a day you work on Excel]],tblHours,2,0)","v":4},{"$f":"VLOOKUP(tblSalaries[[#This Row],[clean Country]],tblCountries[],5,0)","v":13.098808879263672},{"$f":"IF($Q$1,tblSalaries[[#This Row],[PPP Factor]]*tblSalaries[[#This Row],[Salary in USD]],tblSalaries[[#This Row],[Salary in USD]])","v":8400}]
[null,"ID0510","2012-05-26T04:16:16","Rs 500000",500000,"INR",{"$f":"tblSalaries[[#This Row],[clean Salary (in local currency)]]*VLOOKUP(tblSalaries[[#This Row],[Currency]],tblXrate[],2,FALSE)","v":8903.9583437212841},"duty manager","Manager","India",{"$f":"VLOOKUP(tblSalaries[[#This Row],[Where do you work]],tblCountries[[Actual]:[Mapping]],2,FALSE)","v":"India"},"2 to 3 hours per day",null,{"$f":"VLOOKUP(K505,tblCountries[],3,0)","v":"Asia"},{"$f":"VLOOKUP(tblSalaries[[#This Row],[How many hours of a day you work on Excel]],tblHours,2,0)","v":3},{"$f":"VLOOKUP(tblSalaries[[#This Row],[clean Country]],tblCountries[],5,0)","v":13.098808879263672},{"$f":"IF($Q$1,tblSalaries[[#This Row],[PPP Factor]]*tblSalaries[[#This Row],[Salary in USD]],tblSalaries[[#This Row],[Salary in USD]])","v":8903.9583437212841}]
[null,"ID0511","2012-05-26T04:17:20",12000,12000,"USD",{"$f":"tblSalaries[[#This Row],[clean Salary (in local currency)]]*VLOOKUP(tblSalaries[[#This Row],[Currency]],tblXrate[],2,FALSE)","v":12000},"Report Analyst","Analyst","Brazil",{"$f":"VLOOKUP(tblSalaries[[#This Row],[Where do you work]],tblCountries[[Actual]:[Mapping]],2,FALSE)","v":"Brazil"},"All the 8 hours baby, all the 8!",null,{"$f":"VLOOKUP(K506,tblCountries[],3,0)","v":"South Amer."},{"$f":"VLOOKUP(tblSalaries[[#This Row],[How many hours of a day you work on Excel]],tblHours,2,0)","v":5},{"$f":"VLOOKUP(tblSalaries[[#This Row],[clean Country]],tblCountries[],5,0)","v":4.1113943410655107},{"$f":"IF($Q$1,tblSalaries[[#This Row],[PPP Factor]]*tblSalaries[[#This Row],[Salary in USD]],tblSalaries[[#This Row],[Salary in USD]])","v":12000}]
[null,"ID0512","2012-05-26T04:18:15",65000,65000,"USD",{"$f":"tblSalaries[[#This Row],[clean Salary (in local currency)]]*VLOOKUP(tblSalaries[[#This Row],[Currency]],tblXrate[],2,FALSE)","v":65000},"Retail Store Manager","Manager","USA",{"$f":"VLOOKUP(tblSalaries[[#This Row],[Where do you work]],tblCountries[[Actual]:[Mapping]],2,FALSE)","v":"USA"},"All the 8 hours baby, all the 8!",null,{"$f":"VLOOKUP(K507,tblCountries[],3,0)","v":"North Amer."},{"$f":"VLOOKUP(tblSalaries[[#This Row],[How many hours of a day you work on Excel]],tblHours,2,0)","v":5},{"$f":"VLOOKUP(tblSalaries[[#This Row],[clean Country]],tblCountries[],5,0)","v":1},{"$f":"IF($Q$1,tblSalaries[[#This Row],[PPP Factor]]*tblSalaries[[#This Row],[Salary in USD]],tblSalaries[[#This Row],[Salary in USD]])","v":65000}]
[null,"ID0513","2012-05-26T04:19:05","Â£16400",16400,"GBP",{"$f":"tblSalaries[[#This Row],[clean Salary (in local currency)]]*VLOOKUP(tblSalaries[[#This Row],[Currency]],tblXrate[],2,FALSE)","v":25849.323661903458},"Job Build analyst","Analyst","UK",{"$f":"VLOOKUP(tblSalaries[[#This Row],[Where do you work]],tblCountries[[Actual]:[Mapping]],2,FALSE)","v":"UK"},"4 to 6 hours a day",null,{"$f":"VLOOKUP(K508,tblCountries[],3,0)","v":"Europe"},{"$f":"VLOOKUP(tblSalaries[[#This Row],[How many hours of a day you work on Excel]],tblHours,2,0)","v":4},{"$f":"VLOOKUP(tblSalaries[[#This Row],[clean Country]],tblCountries[],5,0)","v":1.3407315045719035},{"$f":"IF($Q$1,tblSalaries[[#This Row],[PPP Factor]]*tblSalaries[[#This Row],[Salary in USD]],tblSalaries[[#This Row],[Salary in USD]])","v":25849.323661903458}]
[null,"ID0514","2012-05-26T04:20:17",78000,78000,"GBP",{"$f":"tblSalaries[[#This Row],[clean Salary (in local currency)]]*VLOOKUP(tblSalaries[[#This Row],[Currency]],tblXrate[],2,FALSE)","v":122941.90522124816},"Associate","Analyst","UK",{"$f":"VLOOKUP(tblSalaries[[#This Row],[Where do you work]],tblCountries[[Actual]:[Mapping]],2,FALSE)","v":"UK"},"1 or 2 hours a day",null,{"$f":"VLOOKUP(K509,tblCountries[],3,0)","v":"Europe"},{"$f":"VLOOKUP(tblSalaries[[#This Row],[How many hours of a day you work on Excel]],tblHours,2,0)","v":2},{"$f":"VLOOKUP(tblSalaries[[#This Row],[clean Country]],tblCountries[],5,0)","v":1.3407315045719035},{"$f":"IF($Q$1,tblSalaries[[#This Row],[PPP Factor]]*tblSalaries[[#This Row],[Salary in USD]],tblSalaries[[#This Row],[Salary in USD]])","v":122941.90522124816}]
[null,"ID0515","2012-05-26T04:25:24",76000,76000,"USD",{"$f":"tblSalaries[[#This Row],[clean Salary (in local currency)]]*VLOOKUP(tblSalaries[[#This Row],[Currency]],tblXrate[],2,FALSE)","v":76000},"Accounting Manager","Manager","USA",{"$f":"VLOOKUP(tblSalaries[[#This Row],[Where do you work]],tblCountries[[Actual]:[Mapping]],2,FALSE)","v":"USA"},"2 to 3 hours per day",null,{"$f":"VLOOKUP(K510,tblCountries[],3,0)","v":"North Amer."},{"$f":"VLOOKUP(tblSalaries[[#This Row],[How many hours of a day you work on Excel]],tblHours,2,0)","v":3},{"$f":"VLOOKUP(tblSalaries[[#This Row],[clean Country]],tblCountries[],5,0)","v":1},{"$f":"IF($Q$1,tblSalaries[[#This Row],[PPP Factor]]*tblSalaries[[#This Row],[Salary in USD]],tblSalaries[[#This Row],[Salary in USD]])","v":76000}]
[null,"ID0516","2012-05-26T04:26:10","$150000pa",150000,"USD",{"$f":"tblSalaries[[#This Row],[clean Salary (in local currency)]]*VLOOKUP(tblSalaries[[#This Row],[Currency]],tblXrate[],2,FALSE)","v":150000},"Consultant","Consultant","USA",{"$f":"VLOOKUP(tblSalaries[[#This Row],[Where do you work]],tblCountries[[Actual]:[Mapping]],2,FALSE)","v":"USA"},"All the 8 hours baby, all the 8!",null,{"$f":"VLOOKUP(K511,tblCountries[],3,0)","v":"North Amer."},{"$f":"VLOOKUP(tblSalaries[[#This Row],[How many hours of a day you work on Excel]],tblHours,2,0)","v":5},{"$f":"VLOOKUP(tblSalaries[[#This Row],[clean Country]],tblCountries[],5,0)","v":1},{"$f":"IF($Q$1,tblSalaries[[#This Row],[PPP Factor]]*tblSalaries[[#This Row],[Salary in USD]],tblSalaries[[#This Row],[Salary in USD]])","v":150000}]
[null,"ID0517","2012-05-26T04:27:12",54000,54000,"USD",{"$f":"tblSalaries[[#This Row],[clean Salary (in local currency)]]*VLOOKUP(tblSalaries[[#This Row],[Currency]],tblXrate[],2,FALSE)","v":54000},"Business Analyst","Analyst","USA",{"$f":"VLOOKUP(tblSalaries[[#This Row],[Where do you work]],tblCountries[[Actual]:[Mapping]],2,FALSE)","v":"USA"},"4 to 6 hours a day",null,{"$f":"VLOOKUP(K512,tblCountries[],3,0)","v":"North Amer."},{"$f":"VLOOKUP(tblSalaries[[#This Row],[How many hours of a day you work on Excel]],tblHours,2,0)","v":4},{"$f":"VLOOKUP(tblSalaries[[#This Row],[clean Country]],tblCountries[],5,0)","v":1},{"$f":"IF($Q$1,tblSalaries[[#This Row],[PPP Factor]]*tblSalaries[[#This Row],[Salary in USD]],tblSalaries[[#This Row],[Salary in USD]])","v":54000}]
[null,"ID0518","2012-05-26T04:33:03","57000 USD",57000,"USD",{"$f":"tblSalaries[[#This Row],[clean Salary (in local currency)]]*VLOOKUP(tblSalaries[[#This Row],[Currency]],tblXrate[],2,FALSE)","v":57000},"project finance manager","Manager","israel",{"$f":"VLOOKUP(tblSalaries[[#This Row],[Where do you work]],tblCountries[[Actual]:[Mapping]],2,FALSE)","v":"Israel"},"4 to 6 hours a day",null,{"$f":"VLOOKUP(K513,tblCountries[],3,0)","v":"Asia"},{"$f":"VLOOKUP(tblSalaries[[#This Row],[How many hours of a day you work on Excel]],tblHours,2,0)","v":4},{"$f":"VLOOKUP(tblSalaries[[#This Row],[clean Country]],tblCountries[],5,0)","v":1.5621307506053268},{"$f":"IF($Q$1,tblSalaries[[#This Row],[PPP Factor]]*tblSalaries[[#This Row],[Salary in USD]],tblSalaries[[#This Row],[Salary in USD]])","v":57000}]
[null,"ID0519","2012-05-26T04:33:27",61000,61000,"USD",{"$f":"tblSalaries[[#This Row],[clean Salary (in local currency)]]*VLOOKUP(tblSalaries[[#This Row],[Currency]],tblXrate[],2,FALSE)","v":61000},"Senior Accountant","Accountant","USA",{"$f":"VLOOKUP(tblSalaries[[#This Row],[Where do you work]],tblCountries[[Actual]:[Mapping]],2,FALSE)","v":"USA"},"4 to 6 hours a day",null,{"$f":"VLOOKUP(K514,tblCountries[],3,0)","v":"North Amer."},{"$f":"VLOOKUP(tblSalaries[[#This Row],[How many hours of a day you work on Excel]],tblHours,2,0)","v":4},{"$f":"VLOOKUP(tblSalaries[[#This Row],[clean Country]],tblCountries[],5,0)","v":1},{"$f":"IF($Q$1,tblSalaries[[#This Row],[PPP Factor]]*tblSalaries[[#This Row],[Salary in USD]],tblSalaries[[#This Row],[Salary in USD]])","v":61000}]
[null,"ID0520","2012-05-26T04:34:41",70000,70000,"USD",{"$f":"tblSalaries[[#This Row],[clean Salary (in local currency)]]*VLOOKUP(tblSalaries[[#This Row],[Currency]],tblXrate[],2,FALSE)","v":70000},"Metrics Analyst","Analyst","USA",{"$f":"VLOOKUP(tblSalaries[[#This Row],[Where do you work]],tblCountries[[Actual]:[Mapping]],2,FALSE)","v":"USA"},"All the 8 hours baby, all the 8!",null,{"$f":"VLOOKUP(K515,tblCountries[],3,0)","v":"North Amer."},{"$f":"VLOOKUP(tblSalaries[[#This Row],[How many hours of a day you work on Excel]],tblHours,2,0)","v":5},{"$f":"VLOOKUP(tblSalaries[[#This Row],[clean Country]],tblCountries[],5,0)","v":1},{"$f":"IF($Q$1,tblSalaries[[#This Row],[PPP Factor]]*tblSalaries[[#This Row],[Salary in USD]],tblSalaries[[#This Row],[Salary in USD]])","v":70000}]
[null,"ID0521","2012-05-26T04:36:43",15000,15000,"USD",{"$f":"tblSalaries[[#This Row],[clean Salary (in local currency)]]*VLOOKUP(tblSalaries[[#This Row],[Currency]],tblXrate[],2,FALSE)","v":15000},"Asst.Manager","Manager","India",{"$f":"VLOOKUP(tblSalaries[[#This Row],[Where do you work]],tblCountries[[Actual]:[Mapping]],2,FALSE)","v":"India"},"4 to 6 hours a day",null,{"$f":"VLOOKUP(K516,tblCountries[],3,0)","v":"Asia"},{"$f":"VLOOKUP(tblSalaries[[#This Row],[How many hours of a day you work on Excel]],tblHours,2,0)","v":4},{"$f":"VLOOKUP(tblSalaries[[#This Row],[clean Country]],tblCountries[],5,0)","v":13.098808879263672},{"$f":"IF($Q$1,tblSalaries[[#This Row],[PPP Factor]]*tblSalaries[[#This Row],[Salary in USD]],tblSalaries[[#This Row],[Salary in USD]])","v":15000}]
[null,"ID0522","2012-05-26T04:39:11",87550,87550,"CAD",{"$f":"tblSalaries[[#This Row],[clean Salary (in local currency)]]*VLOOKUP(tblSalaries[[#This Row],[Currency]],tblXrate[],2,FALSE)","v":86093.301341305123},"Manager","Manager","Canada",{"$f":"VLOOKUP(tblSalaries[[#This Row],[Where do you work]],tblCountries[[Actual]:[Mapping]],2,FALSE)","v":"Canada"},"4 to 6 hours a day",null,{"$f":"VLOOKUP(K517,tblCountries[],3,0)","v":"North Amer."},{"$f":"VLOOKUP(tblSalaries[[#This Row],[How many hours of a day you work on Excel]],tblHours,2,0)","v":4},{"$f":"VLOOKUP(tblSalaries[[#This Row],[clean Country]],tblCountries[],5,0)","v":1.1935324732986359},{"$f":"IF($Q$1,tblSalaries[[#This Row],[PPP Factor]]*tblSalaries[[#This Row],[Salary in USD]],tblSalaries[[#This Row],[Salary in USD]])","v":86093.301341305123}]
[null,"ID0523","2012-05-26T04:40:36",72600,72600,"USD",{"$f":"tblSalaries[[#This Row],[clean Salary (in local currency)]]*VLOOKUP(tblSalaries[[#This Row],[Currency]],tblXrate[],2,FALSE)","v":72600},"Accounting Operations Manager","Manager","USA",{"$f":"VLOOKUP(tblSalaries[[#This Row],[Where do you work]],tblCountries[[Actual]:[Mapping]],2,FALSE)","v":"USA"},"2 to 3 hours per day",null,{"$f":"VLOOKUP(K518,tblCountries[],3,0)","v":"North Amer."},{"$f":"VLOOKUP(tblSalaries[[#This Row],[How many hours of a day you work on Excel]],tblHours,2,0)","v":3},{"$f":"VLOOKUP(tblSalaries[[#This Row],[clean Country]],tblCountries[],5,0)","v":1},{"$f":"IF($Q$1,tblSalaries[[#This Row],[PPP Factor]]*tblSalaries[[#This Row],[Salary in USD]],tblSalaries[[#This Row],[Salary in USD]])","v":72600}]
[null,"ID0524","2012-05-26T04:41:20",100000,100000,"USD",{"$f":"tblSalaries[[#This Row],[clean Salary (in local currency)]]*VLOOKUP(tblSalaries[[#This Row],[Currency]],tblXrate[],2,FALSE)","v":100000},"Director","CXO or Top Mgmt.","USA",{"$f":"VLOOKUP(tblSalaries[[#This Row],[Where do you work]],tblCountries[[Actual]:[Mapping]],2,FALSE)","v":"USA"},"2 to 3 hours per day",null,{"$f":"VLOOKUP(K519,tblCountries[],3,0)","v":"North Amer."},{"$f":"VLOOKUP(tblSalaries[[#This Row],[How many hours of a day you work on Excel]],tblHours,2,0)","v":3},{"$f":"VLOOKUP(tblSalaries[[#This Row],[clean Country]],tblCountries[],5,0)","v":1},{"$f":"IF($Q$1,tblSalaries[[#This Row],[PPP Factor]]*tblSalaries[[#This Row],[Salary in USD]],tblSalaries[[#This Row],[Salary in USD]])","v":100000}]
[null,"ID0525","2012-05-26T04:44:26",104000,104000,"USD",{"$f":"tblSalaries[[#This Row],[clean Salary (in local currency)]]*VLOOKUP(tblSalaries[[#This Row],[Currency]],tblXrate[],2,FALSE)","v":104000},"Vice President, Analyst","Analyst","USA",{"$f":"VLOOKUP(tblSalaries[[#This Row],[Where do you work]],tblCountries[[Actual]:[Mapping]],2,FALSE)","v":"USA"},"4 to 6 hours a day",null,{"$f":"VLOOKUP(K520,tblCountries[],3,0)","v":"North Amer."},{"$f":"VLOOKUP(tblSalaries[[#This Row],[How many hours of a day you work on Excel]],tblHours,2,0)","v":4},{"$f":"VLOOKUP(tblSalaries[[#This Row],[clean Country]],tblCountries[],5,0)","v":1},{"$f":"IF($Q$1,tblSalaries[[#This Row],[PPP Factor]]*tblSalaries[[#This Row],[Salary in USD]],tblSalaries[[#This Row],[Salary in USD]])","v":104000}]
[null,"ID0526","2012-05-26T04:48:35",600000,600000,"INR",{"$f":"tblSalaries[[#This Row],[clean Salary (in local currency)]]*VLOOKUP(tblSalaries[[#This Row],[Currency]],tblXrate[],2,FALSE)","v":10684.750012465542},"Project Manager","Manager","India",{"$f":"VLOOKUP(tblSalaries[[#This Row],[Where do you work]],tblCountries[[Actual]:[Mapping]],2,FALSE)","v":"India"},"4 to 6 hours a day",null,{"$f":"VLOOKUP(K521,tblCountries[],3,0)","v":"Asia"},{"$f":"VLOOKUP(tblSalaries[[#This Row],[How many hours of a day you work on Excel]],tblHours,2,0)","v":4},{"$f":"VLOOKUP(tblSalaries[[#This Row],[clean Country]],tblCountries[],5,0)","v":13.098808879263672},{"$f":"IF($Q$1,tblSalaries[[#This Row],[PPP Factor]]*tblSalaries[[#This Row],[Salary in USD]],tblSalaries[[#This Row],[Salary in USD]])","v":10684.750012465542}]
[null,"ID0527","2012-05-26T04:48:54",200000,200000,"USD",{"$f":"tblSalaries[[#This Row],[clean Salary (in local currency)]]*VLOOKUP(tblSalaries[[#This Row],[Currency]],tblXrate[],2,FALSE)","v":200000},"COO","CXO or Top Mgmt.","USA",{"$f":"VLOOKUP(tblSalaries[[#This Row],[Where do you work]],tblCountries[[Actual]:[Mapping]],2,FALSE)","v":"USA"},"2 to 3 hours per day",null,{"$f":"VLOOKUP(K522,tblCountries[],3,0)","v":"North Amer."},{"$f":"VLOOKUP(tblSalaries[[#This Row],[How many hours of a day you work on Excel]],tblHours,2,0)","v":3},{"$f":"VLOOKUP(tblSalaries[[#This Row],[clean Country]],tblCountries[],5,0)","v":1},{"$f":"IF($Q$1,tblSalaries[[#This Row],[PPP Factor]]*tblSalaries[[#This Row],[Salary in USD]],tblSalaries[[#This Row],[Salary in USD]])","v":200000}]
[null,"ID0528","2012-05-26T04:50:21","EUR 49248",49248,"EUR",{"$f":"tblSalaries[[#This Row],[clean Salary (in local currency)]]*VLOOKUP(tblSalaries[[#This Row],[Currency]],tblXrate[],2,FALSE)","v":62564.631571458704},"Financial Advisor","Accountant","Netherlands",{"$f":"VLOOKUP(tblSalaries[[#This Row],[Where do you work]],tblCountries[[Actual]:[Mapping]],2,FALSE)","v":"Netherlands"},"All the 8 hours baby, all the 8!",null,{"$f":"VLOOKUP(K523,tblCountries[],3,0)","v":"Europe"},{"$f":"VLOOKUP(tblSalaries[[#This Row],[How many hours of a day you work on Excel]],tblHours,2,0)","v":5},{"$f":"VLOOKUP(tblSalaries[[#This Row],[clean Country]],tblCountries[],5,0)","v":1.1470734656141099},{"$f":"IF($Q$1,tblSalaries[[#This Row],[PPP Factor]]*tblSalaries[[#This Row],[Salary in USD]],tblSalaries[[#This Row],[Salary in USD]])","v":62564.631571458704}]
[null,"ID0529","2012-05-26T04:50:47",36500,36500,"GBP",{"$f":"tblSalaries[[#This Row],[clean Salary (in local currency)]]*VLOOKUP(tblSalaries[[#This Row],[Currency]],tblXrate[],2,FALSE)","v":57530.506930455871},"Production Manager","Manager","UK",{"$f":"VLOOKUP(tblSalaries[[#This Row],[Where do you work]],tblCountries[[Actual]:[Mapping]],2,FALSE)","v":"UK"},"2 to 3 hours per day",null,{"$f":"VLOOKUP(K524,tblCountries[],3,0)","v":"Europe"},{"$f":"VLOOKUP(tblSalaries[[#This Row],[How many hours of a day you work on Excel]],tblHours,2,0)","v":3},{"$f":"VLOOKUP(tblSalaries[[#This Row],[clean Country]],tblCountries[],5,0)","v":1.3407315045719035},{"$f":"IF($Q$1,tblSalaries[[#This Row],[PPP Factor]]*tblSalaries[[#This Row],[Salary in USD]],tblSalaries[[#This Row],[Salary in USD]])","v":57530.506930455871}]
[null,"ID0530","2012-05-26T05:00:21",82300,82300,"USD",{"$f":"tblSalaries[[#This Row],[clean Salary (in local currency)]]*VLOOKUP(tblSalaries[[#This Row],[Currency]],tblXrate[],2,FALSE)","v":82300},"Manager - Finance","Manager","USA",{"$f":"VLOOKUP(tblSalaries[[#This Row],[Where do you work]],tblCountries[[Actual]:[Mapping]],2,FALSE)","v":"USA"},"2 to 3 hours per day",null,{"$f":"VLOOKUP(K525,tblCountries[],3,0)","v":"North Amer."},{"$f":"VLOOKUP(tblSalaries[[#This Row],[How many hours of a day you work on Excel]],tblHours,2,0)","v":3},{"$f":"VLOOKUP(tblSalaries[[#This Row],[clean Country]],tblCountries[],5,0)","v":1},{"$f":"IF($Q$1,tblSalaries[[#This Row],[PPP Factor]]*tblSalaries[[#This Row],[Salary in USD]],tblSalaries[[#This Row],[Salary in USD]])","v":82300}]
[null,"ID0531","2012-05-26T05:04:49",95000,95000,"USD",{"$f":"tblSalaries[[#This Row],[clean Salary (in local currency)]]*VLOOKUP(tblSalaries[[#This Row],[Currency]],tblXrate[],2,FALSE)","v":95000},"Process Design Consultant","Consultant","USA",{"$f":"VLOOKUP(tblSalaries[[#This Row],[Where do you work]],tblCountries[[Actual]:[Mapping]],2,FALSE)","v":"USA"},"4 to 6 hours a day",null,{"$f":"VLOOKUP(K526,tblCountries[],3,0)","v":"North Amer."},{"$f":"VLOOKUP(tblSalaries[[#This Row],[How many hours of a day you work on Excel]],tblHours,2,0)","v":4},{"$f":"VLOOKUP(tblSalaries[[#This Row],[clean Country]],tblCountries[],5,0)","v":1},{"$f":"IF($Q$1,tblSalaries[[#This Row],[PPP Factor]]*tblSalaries[[#This Row],[Salary in USD]],tblSalaries[[#This Row],[Salary in USD]])","v":95000}]
[null,"ID0532","2012-05-26T05:07:30",140000,140000,"GBP",{"$f":"tblSalaries[[#This Row],[clean Salary (in local currency)]]*VLOOKUP(tblSalaries[[#This Row],[Currency]],tblXrate[],2,FALSE)","v":220664.95808941979},"vba specialist","Specialist","UK",{"$f":"VLOOKUP(tblSalaries[[#This Row],[Where do you work]],tblCountries[[Actual]:[Mapping]],2,FALSE)","v":"UK"},"All the 8 hours baby, all the 8!",null,{"$f":"VLOOKUP(K527,tblCountries[],3,0)","v":"Europe"},{"$f":"VLOOKUP(tblSalaries[[#This Row],[How many hours of a day you work on Excel]],tblHours,2,0)","v":5},{"$f":"VLOOKUP(tblSalaries[[#This Row],[clean Country]],tblCountries[],5,0)","v":1.3407315045719035},{"$f":"IF($Q$1,tblSalaries[[#This Row],[PPP Factor]]*tblSalaries[[#This Row],[Salary in USD]],tblSalaries[[#This Row],[Salary in USD]])","v":220664.95808941979}]
[null,"ID0533","2012-05-26T05:13:03",72000,72000,"USD",{"$f":"tblSalaries[[#This Row],[clean Salary (in local currency)]]*VLOOKUP(tblSalaries[[#This Row],[Currency]],tblXrate[],2,FALSE)","v":72000},"Analytical Department Director ","Analyst","Russia",{"$f":"VLOOKUP(tblSalaries[[#This Row],[Where do you work]],tblCountries[[Actual]:[Mapping]],2,FALSE)","v":"Russia"},"2 to 3 hours per day",null,{"$f":"VLOOKUP(K528,tblCountries[],3,0)","v":"Asia"},{"$f":"VLOOKUP(tblSalaries[[#This Row],[How many hours of a day you work on Excel]],tblHours,2,0)","v":3},{"$f":"VLOOKUP(tblSalaries[[#This Row],[clean Country]],tblCountries[],5,0)","v":2.8911926386233269},{"$f":"IF($Q$1,tblSalaries[[#This Row],[PPP Factor]]*tblSalaries[[#This Row],[Salary in USD]],tblSalaries[[#This Row],[Salary in USD]])","v":72000}]
[null,"ID0534","2012-05-26T05:15:54",60000,60000,"AUD",{"$f":"tblSalaries[[#This Row],[clean Salary (in local currency)]]*VLOOKUP(tblSalaries[[#This Row],[Currency]],tblXrate[],2,FALSE)","v":61194.579384158147},"Analyst","Analyst","Australia",{"$f":"VLOOKUP(tblSalaries[[#This Row],[Where do you work]],tblCountries[[Actual]:[Mapping]],2,FALSE)","v":"Australia"},"2 to 3 hours per day",null,{"$f":"VLOOKUP(K529,tblCountries[],3,0)","v":"Oceania"},{"$f":"VLOOKUP(tblSalaries[[#This Row],[How many hours of a day you work on Excel]],tblHours,2,0)","v":3},{"$f":"VLOOKUP(tblSalaries[[#This Row],[clean Country]],tblCountries[],5,0)","v":1.2026395585822935},{"$f":"IF($Q$1,tblSalaries[[#This Row],[PPP Factor]]*tblSalaries[[#This Row],[Salary in USD]],tblSalaries[[#This Row],[Salary in USD]])","v":61194.579384158147}]
[null,"ID0535","2012-05-26T05:18:12","120k",120000,"USD",{"$f":"tblSalaries[[#This Row],[clean Salary (in local currency)]]*VLOOKUP(tblSalaries[[#This Row],[Currency]],tblXrate[],2,FALSE)","v":120000},"manager","Manager","nz",{"$f":"VLOOKUP(tblSalaries[[#This Row],[Where do you work]],tblCountries[[Actual]:[Mapping]],2,FALSE)","v":"New Zealand"},"2 to 3 hours per day",null,{"$f":"VLOOKUP(K530,tblCountries[],3,0)","v":"Oceania"},{"$f":"VLOOKUP(tblSalaries[[#This Row],[How many hours of a day you work on Excel]],tblHours,2,0)","v":3},{"$f":"VLOOKUP(tblSalaries[[#This Row],[clean Country]],tblCountries[],5,0)","v":1.7488434292323261},{"$f":"IF($Q$1,tblSalaries[[#This Row],[PPP Factor]]*tblSalaries[[#This Row],[Salary in USD]],tblSalaries[[#This Row],[Salary in USD]])","v":120000}]
[null,"ID0536","2012-05-26T05:18:27","US$95K",95000,"USD",{"$f":"tblSalaries[[#This Row],[clean Salary (in local currency)]]*VLOOKUP(tblSalaries[[#This Row],[Currency]],tblXrate[],2,FALSE)","v":95000},"Director of Supply Chain","CXO or Top Mgmt.","Central America",{"$f":"VLOOKUP(tblSalaries[[#This Row],[Where do you work]],tblCountries[[Actual]:[Mapping]],2,FALSE)","v":"Central America"},"2 to 3 hours per day",null,{"$f":"VLOOKUP(K531,tblCountries[],3,0)","v":"South Amer."},{"$f":"VLOOKUP(tblSalaries[[#This Row],[How many hours of a day you work on Excel]],tblHours,2,0)","v":3},{"$f":"VLOOKUP(tblSalaries[[#This Row],[clean Country]],tblCountries[],5,0)","v":1},{"$f":"IF($Q$1,tblSalaries[[#This Row],[PPP Factor]]*tblSalaries[[#This Row],[Salary in USD]],tblSalaries[[#This Row],[Salary in USD]])","v":95000}]
[null,"ID0537","2012-05-26T05:20:43",50000,50000,"USD",{"$f":"tblSalaries[[#This Row],[clean Salary (in local currency)]]*VLOOKUP(tblSalaries[[#This Row],[Currency]],tblXrate[],2,FALSE)","v":50000},"Research Assistant","Analyst","USA",{"$f":"VLOOKUP(tblSalaries[[#This Row],[Where do you work]],tblCountries[[Actual]:[Mapping]],2,FALSE)","v":"USA"},"2 to 3 hours per day",null,{"$f":"VLOOKUP(K532,tblCountries[],3,0)","v":"North Amer."},{"$f":"VLOOKUP(tblSalaries[[#This Row],[How many hours of a day you work on Excel]],tblHours,2,0)","v":3},{"$f":"VLOOKUP(tblSalaries[[#This Row],[clean Country]],tblCountries[],5,0)","v":1},{"$f":"IF($Q$1,tblSalaries[[#This Row],[PPP Factor]]*tblSalaries[[#This Row],[Salary in USD]],tblSalaries[[#This Row],[Salary in USD]])","v":50000}]
[null,"ID0538","2012-05-26T05:23:20","73,000 GBP",73000,"GBP",{"$f":"tblSalaries[[#This Row],[clean Salary (in local currency)]]*VLOOKUP(tblSalaries[[#This Row],[Currency]],tblXrate[],2,FALSE)","v":115061.01386091174},"Finance Manager","Manager","UK",{"$f":"VLOOKUP(tblSalaries[[#This Row],[Where do you work]],tblCountries[[Actual]:[Mapping]],2,FALSE)","v":"UK"},"4 to 6 hours a day",null,{"$f":"VLOOKUP(K533,tblCountries[],3,0)","v":"Europe"},{"$f":"VLOOKUP(tblSalaries[[#This Row],[How many hours of a day you work on Excel]],tblHours,2,0)","v":4},{"$f":"VLOOKUP(tblSalaries[[#This Row],[clean Country]],tblCountries[],5,0)","v":1.3407315045719035},{"$f":"IF($Q$1,tblSalaries[[#This Row],[PPP Factor]]*tblSalaries[[#This Row],[Salary in USD]],tblSalaries[[#This Row],[Salary in USD]])","v":115061.01386091174}]
[null,"ID0539","2012-05-26T05:24:16",50000,50000,"USD",{"$f":"tblSalaries[[#This Row],[clean Salary (in local currency)]]*VLOOKUP(tblSalaries[[#This Row],[Currency]],tblXrate[],2,FALSE)","v":50000},"Excel professional","Analyst","self-employed",{"$f":"VLOOKUP(tblSalaries[[#This Row],[Where do you work]],tblCountries[[Actual]:[Mapping]],2,FALSE)","v":"self-employed"},"4 to 6 hours a day",null,{"$f":"VLOOKUP(K534,tblCountries[],3,0)","v":0},{"$f":"VLOOKUP(tblSalaries[[#This Row],[How many hours of a day you work on Excel]],tblHours,2,0)","v":4},{"$f":"VLOOKUP(tblSalaries[[#This Row],[clean Country]],tblCountries[],5,0)","v":1},{"$f":"IF($Q$1,tblSalaries[[#This Row],[PPP Factor]]*tblSalaries[[#This Row],[Salary in USD]],tblSalaries[[#This Row],[Salary in USD]])","v":50000}]
[null,"ID0540","2012-05-26T05:27:14",46000,46000,"USD",{"$f":"tblSalaries[[#This Row],[clean Salary (in local currency)]]*VLOOKUP(tblSalaries[[#This Row],[Currency]],tblXrate[],2,FALSE)","v":46000},"Research Analyst","Analyst","USA",{"$f":"VLOOKUP(tblSalaries[[#This Row],[Where do you work]],tblCountries[[Actual]:[Mapping]],2,FALSE)","v":"USA"},"2 to 3 hours per day",null,{"$f":"VLOOKUP(K535,tblCountries[],3,0)","v":"North Amer."},{"$f":"VLOOKUP(tblSalaries[[#This Row],[How many hours of a day you work on Excel]],tblHours,2,0)","v":3},{"$f":"VLOOKUP(tblSalaries[[#This Row],[clean Country]],tblCountries[],5,0)","v":1},{"$f":"IF($Q$1,tblSalaries[[#This Row],[PPP Factor]]*tblSalaries[[#This Row],[Salary in USD]],tblSalaries[[#This Row],[Salary in USD]])","v":46000}]
[null,"ID0541","2012-05-26T05:27:37","PKR 50,000",600000,"PKR",{"$f":"tblSalaries[[#This Row],[clean Salary (in local currency)]]*VLOOKUP(tblSalaries[[#This Row],[Currency]],tblXrate[],2,FALSE)","v":6368.453230079479},"Trainer","Consultant","Pakistan",{"$f":"VLOOKUP(tblSalaries[[#This Row],[Where do you work]],tblCountries[[Actual]:[Mapping]],2,FALSE)","v":"Pakistan"},"4 to 6 hours a day",null,{"$f":"VLOOKUP(K536,tblCountries[],3,0)","v":"Asia"},{"$f":"VLOOKUP(tblSalaries[[#This Row],[How many hours of a day you work on Excel]],tblHours,2,0)","v":4},{"$f":"VLOOKUP(tblSalaries[[#This Row],[clean Country]],tblCountries[],5,0)","v":17.361679224973088},{"$f":"IF($Q$1,tblSalaries[[#This Row],[PPP Factor]]*tblSalaries[[#This Row],[Salary in USD]],tblSalaries[[#This Row],[Salary in USD]])","v":6368.453230079479}]
[null,"ID0543","2012-05-26T05:28:46",85000,85000,"AUD",{"$f":"tblSalaries[[#This Row],[clean Salary (in local currency)]]*VLOOKUP(tblSalaries[[#This Row],[Currency]],tblXrate[],2,FALSE)","v":86692.320794224041},"Business analyst","Analyst","Australia",{"$f":"VLOOKUP(tblSalaries[[#This Row],[Where do you work]],tblCountries[[Actual]:[Mapping]],2,FALSE)","v":"Australia"},"4 to 6 hours a day",null,{"$f":"VLOOKUP(K537,tblCountries[],3,0)","v":"Oceania"},{"$f":"VLOOKUP(tblSalaries[[#This Row],[How many hours of a day you work on Excel]],tblHours,2,0)","v":4},{"$f":"VLOOKUP(tblSalaries[[#This Row],[clean Country]],tblCountries[],5,0)","v":1.2026395585822935},{"$f":"IF($Q$1,tblSalaries[[#This Row],[PPP Factor]]*tblSalaries[[#This Row],[Salary in USD]],tblSalaries[[#This Row],[Salary in USD]])","v":86692.320794224041}]
[null,"ID0544","2012-05-26T05:29:55",450000,450000,"INR",{"$f":"tblSalaries[[#This Row],[clean Salary (in local currency)]]*VLOOKUP(tblSalaries[[#This Row],[Currency]],tblXrate[],2,FALSE)","v":8013.5625093491553},"deputy manager","Manager","India",{"$f":"VLOOKUP(tblSalaries[[#This Row],[Where do you work]],tblCountries[[Actual]:[Mapping]],2,FALSE)","v":"India"},"All the 8 hours baby, all the 8!",null,{"$f":"VLOOKUP(K538,tblCountries[],3,0)","v":"Asia"},{"$f":"VLOOKUP(tblSalaries[[#This Row],[How many hours of a day you work on Excel]],tblHours,2,0)","v":5},{"$f":"VLOOKUP(tblSalaries[[#This Row],[clean Country]],tblCountries[],5,0)","v":13.098808879263672},{"$f":"IF($Q$1,tblSalaries[[#This Row],[PPP Factor]]*tblSalaries[[#This Row],[Salary in USD]],tblSalaries[[#This Row],[Salary in USD]])","v":8013.5625093491553}]
[null,"ID0545","2012-05-26T05:29:58",43000,43000,"USD",{"$f":"tblSalaries[[#This Row],[clean Salary (in local currency)]]*VLOOKUP(tblSalaries[[#This Row],[Currency]],tblXrate[],2,FALSE)","v":43000},"Accountant","Accountant","USA",{"$f":"VLOOKUP(tblSalaries[[#This Row],[Where do you work]],tblCountries[[Actual]:[Mapping]],2,FALSE)","v":"USA"},"All the 8 hours baby, all the 8!",null,{"$f":"VLOOKUP(K539,tblCountries[],3,0)","v":"North Amer."},{"$f":"VLOOKUP(tblSalaries[[#This Row],[How many hours of a day you work on Excel]],tblHours,2,0)","v":5},{"$f":"VLOOKUP(tblSalaries[[#This Row],[clean Country]],tblCountries[],5,0)","v":1},{"$f":"IF($Q$1,tblSalaries[[#This Row],[PPP Factor]]*tblSalaries[[#This Row],[Salary in USD]],tblSalaries[[#This Row],[Salary in USD]])","v":43000}]
[null,"ID0546","2012-05-26T05:30:12",1500,18000,"USD",{"$f":"tblSalaries[[#This Row],[clean Salary (in local currency)]]*VLOOKUP(tblSalaries[[#This Row],[Currency]],tblXrate[],2,FALSE)","v":18000},"Engineer","Engineer","Brazil",{"$f":"VLOOKUP(tblSalaries[[#This Row],[Where do you work]],tblCountries[[Actual]:[Mapping]],2,FALSE)","v":"Brazil"},"4 to 6 hours a day",null,{"$f":"VLOOKUP(K540,tblCountries[],3,0)","v":"South Amer."},{"$f":"VLOOKUP(tblSalaries[[#This Row],[How many hours of a day you work on Excel]],tblHours,2,0)","v":4},{"$f":"VLOOKUP(tblSalaries[[#This Row],[clean Country]],tblCountries[],5,0)","v":4.1113943410655107},{"$f":"IF($Q$1,tblSalaries[[#This Row],[PPP Factor]]*tblSalaries[[#This Row],[Salary in USD]],tblSalaries[[#This Row],[Salary in USD]])","v":18000}]
[null,"ID0547","2012-05-26T05:31:06",55000,55000,"USD",{"$f":"tblSalaries[[#This Row],[clean Salary (in local currency)]]*VLOOKUP(tblSalaries[[#This Row],[Currency]],tblXrate[],2,FALSE)","v":55000},"Marketing","Analyst","USA",{"$f":"VLOOKUP(tblSalaries[[#This Row],[Where do you work]],tblCountries[[Actual]:[Mapping]],2,FALSE)","v":"USA"},"2 to 3 hours per day",null,{"$f":"VLOOKUP(K541,tblCountries[],3,0)","v":"North Amer."},{"$f":"VLOOKUP(tblSalaries[[#This Row],[How many hours of a day you work on Excel]],tblHours,2,0)","v":3},{"$f":"VLOOKUP(tblSalaries[[#This Row],[clean Country]],tblCountries[],5,0)","v":1},{"$f":"IF($Q$1,tblSalaries[[#This Row],[PPP Factor]]*tblSalaries[[#This Row],[Salary in USD]],tblSalaries[[#This Row],[Salary in USD]])","v":55000}]
[null,"ID0548","2012-05-26T05:31:25","Rs. 500000",500000,"INR",{"$f":"tblSalaries[[#This Row],[clean Salary (in local currency)]]*VLOOKUP(tblSalaries[[#This Row],[Currency]],tblXrate[],2,FALSE)","v":8903.9583437212841},"Research Associate","Analyst","India",{"$f":"VLOOKUP(tblSalaries[[#This Row],[Where do you work]],tblCountries[[Actual]:[Mapping]],2,FALSE)","v":"India"},"All the 8 hours baby, all the 8!",null,{"$f":"VLOOKUP(K542,tblCountries[],3,0)","v":"Asia"},{"$f":"VLOOKUP(tblSalaries[[#This Row],[How many hours of a day you work on Excel]],tblHours,2,0)","v":5},{"$f":"VLOOKUP(tblSalaries[[#This Row],[clean Country]],tblCountries[],5,0)","v":13.098808879263672},{"$f":"IF($Q$1,tblSalaries[[#This Row],[PPP Factor]]*tblSalaries[[#This Row],[Salary in USD]],tblSalaries[[#This Row],[Salary in USD]])","v":8903.9583437212841}]
[null,"ID0549","2012-05-26T05:33:43",45000,45000,"USD",{"$f":"tblSalaries[[#This Row],[clean Salary (in local currency)]]*VLOOKUP(tblSalaries[[#This Row],[Currency]],tblXrate[],2,FALSE)","v":45000},"Reports Coordinator","Reporting","USA",{"$f":"VLOOKUP(tblSalaries[[#This Row],[Where do you work]],tblCountries[[Actual]:[Mapping]],2,FALSE)","v":"USA"},"All the 8 hours baby, all the 8!",null,{"$f":"VLOOKUP(K543,tblCountries[],3,0)","v":"North Amer."},{"$f":"VLOOKUP(tblSalaries[[#This Row],[How many hours of a day you work on Excel]],tblHours,2,0)","v":5},{"$f":"VLOOKUP(tblSalaries[[#This Row],[clean Country]],tblCountries[],5,0)","v":1},{"$f":"IF($Q$1,tblSalaries[[#This Row],[PPP Factor]]*tblSalaries[[#This Row],[Salary in USD]],tblSalaries[[#This Row],[Salary in USD]])","v":45000}]
[null,"ID0550","2012-05-26T05:35:00",50000,50000,"USD",{"$f":"tblSalaries[[#This Row],[clean Salary (in local currency)]]*VLOOKUP(tblSalaries[[#This Row],[Currency]],tblXrate[],2,FALSE)","v":50000},"Quality Compliance Manager","Manager","USA",{"$f":"VLOOKUP(tblSalaries[[#This Row],[Where do you work]],tblCountries[[Actual]:[Mapping]],2,FALSE)","v":"USA"},"4 to 6 hours a day",null,{"$f":"VLOOKUP(K544,tblCountries[],3,0)","v":"North Amer."},{"$f":"VLOOKUP(tblSalaries[[#This Row],[How many hours of a day you work on Excel]],tblHours,2,0)","v":4},{"$f":"VLOOKUP(tblSalaries[[#This Row],[clean Country]],tblCountries[],5,0)","v":1},{"$f":"IF($Q$1,tblSalaries[[#This Row],[PPP Factor]]*tblSalaries[[#This Row],[Salary in USD]],tblSalaries[[#This Row],[Salary in USD]])","v":50000}]
[null,"ID0551","2012-05-26T05:44:42","80,000 USD",80000,"USD",{"$f":"tblSalaries[[#This Row],[clean Salary (in local currency)]]*VLOOKUP(tblSalaries[[#This Row],[Currency]],tblXrate[],2,FALSE)","v":80000},"Cost Analyst","Analyst","USA",{"$f":"VLOOKUP(tblSalaries[[#This Row],[Where do you work]],tblCountries[[Actual]:[Mapping]],2,FALSE)","v":"USA"},"All the 8 hours baby, all the 8!",null,{"$f":"VLOOKUP(K545,tblCountries[],3,0)","v":"North Amer."},{"$f":"VLOOKUP(tblSalaries[[#This Row],[How many hours of a day you work on Excel]],tblHours,2,0)","v":5},{"$f":"VLOOKUP(tblSalaries[[#This Row],[clean Country]],tblCountries[],5,0)","v":1},{"$f":"IF($Q$1,tblSalaries[[#This Row],[PPP Factor]]*tblSalaries[[#This Row],[Salary in USD]],tblSalaries[[#This Row],[Salary in USD]])","v":80000}]
[null,"ID0552","2012-05-26T05:46:02",67000,67000,"USD",{"$f":"tblSalaries[[#This Row],[clean Salary (in local currency)]]*VLOOKUP(tblSalaries[[#This Row],[Currency]],tblXrate[],2,FALSE)","v":67000},"Management Analyst","Analyst","USA",{"$f":"VLOOKUP(tblSalaries[[#This Row],[Where do you work]],tblCountries[[Actual]:[Mapping]],2,FALSE)","v":"USA"},"4 to 6 hours a day",null,{"$f":"VLOOKUP(K546,tblCountries[],3,0)","v":"North Amer."},{"$f":"VLOOKUP(tblSalaries[[#This Row],[How many hours of a day you work on Excel]],tblHours,2,0)","v":4},{"$f":"VLOOKUP(tblSalaries[[#This Row],[clean Country]],tblCountries[],5,0)","v":1},{"$f":"IF($Q$1,tblSalaries[[#This Row],[PPP Factor]]*tblSalaries[[#This Row],[Salary in USD]],tblSalaries[[#This Row],[Salary in USD]])","v":67000}]
[null,"ID0553","2012-05-26T05:46:42",111000,111000,"USD",{"$f":"tblSalaries[[#This Row],[clean Salary (in local currency)]]*VLOOKUP(tblSalaries[[#This Row],[Currency]],tblXrate[],2,FALSE)","v":111000},"Senior Financial Analyst","Analyst","Japan",{"$f":"VLOOKUP(tblSalaries[[#This Row],[Where do you work]],tblCountries[[Actual]:[Mapping]],2,FALSE)","v":"Japan"},"All the 8 hours baby, all the 8!",null,{"$f":"VLOOKUP(K547,tblCountries[],3,0)","v":"Asia"},{"$f":"VLOOKUP(tblSalaries[[#This Row],[How many hours of a day you work on Excel]],tblHours,2,0)","v":5},{"$f":"VLOOKUP(tblSalaries[[#This Row],[clean Country]],tblCountries[],5,0)","v":1.392832469775475},{"$f":"IF($Q$1,tblSalaries[[#This Row],[PPP Factor]]*tblSalaries[[#This Row],[Salary in USD]],tblSalaries[[#This Row],[Salary in USD]])","v":111000}]
[null,"ID0554","2012-05-26T05:48:10",120000,120000,"USD",{"$f":"tblSalaries[[#This Row],[clean Salary (in local currency)]]*VLOOKUP(tblSalaries[[#This Row],[Currency]],tblXrate[],2,FALSE)","v":120000},"Director","CXO or Top Mgmt.","USA",{"$f":"VLOOKUP(tblSalaries[[#This Row],[Where do you work]],tblCountries[[Actual]:[Mapping]],2,FALSE)","v":"USA"},"4 to 6 hours a day",null,{"$f":"VLOOKUP(K548,tblCountries[],3,0)","v":"North Amer."},{"$f":"VLOOKUP(tblSalaries[[#This Row],[How many hours of a day you work on Excel]],tblHours,2,0)","v":4},{"$f":"VLOOKUP(tblSalaries[[#This Row],[clean Country]],tblCountries[],5,0)","v":1},{"$f":"IF($Q$1,tblSalaries[[#This Row],[PPP Factor]]*tblSalaries[[#This Row],[Salary in USD]],tblSalaries[[#This Row],[Salary in USD]])","v":120000}]
[null,"ID0555","2012-05-26T05:48:12","Â£20000",20000,"GBP",{"$f":"tblSalaries[[#This Row],[clean Salary (in local currency)]]*VLOOKUP(tblSalaries[[#This Row],[Currency]],tblXrate[],2,FALSE)","v":31523.565441345683},"IT Consultant","Consultant","UK",{"$f":"VLOOKUP(tblSalaries[[#This Row],[Where do you work]],tblCountries[[Actual]:[Mapping]],2,FALSE)","v":"UK"},"4 to 6 hours a day",null,{"$f":"VLOOKUP(K549,tblCountries[],3,0)","v":"Europe"},{"$f":"VLOOKUP(tblSalaries[[#This Row],[How many hours of a day you work on Excel]],tblHours,2,0)","v":4},{"$f":"VLOOKUP(tblSalaries[[#This Row],[clean Country]],tblCountries[],5,0)","v":1.3407315045719035},{"$f":"IF($Q$1,tblSalaries[[#This Row],[PPP Factor]]*tblSalaries[[#This Row],[Salary in USD]],tblSalaries[[#This Row],[Salary in USD]])","v":31523.565441345683}]
[null,"ID0556","2012-05-26T05:50:21",77000,77000,"AUD",{"$f":"tblSalaries[[#This Row],[clean Salary (in local currency)]]*VLOOKUP(tblSalaries[[#This Row],[Currency]],tblXrate[],2,FALSE)","v":78533.043543002947},"Intelligence Analyst","Analyst","Australia",{"$f":"VLOOKUP(tblSalaries[[#This Row],[Where do you work]],tblCountries[[Actual]:[Mapping]],2,FALSE)","v":"Australia"},"2 to 3 hours per day",null,{"$f":"VLOOKUP(K550,tblCountries[],3,0)","v":"Oceania"},{"$f":"VLOOKUP(tblSalaries[[#This Row],[How many hours of a day you work on Excel]],tblHours,2,0)","v":3},{"$f":"VLOOKUP(tblSalaries[[#This Row],[clean Country]],tblCountries[],5,0)","v":1.2026395585822935},{"$f":"IF($Q$1,tblSalaries[[#This Row],[PPP Factor]]*tblSalaries[[#This Row],[Salary in USD]],tblSalaries[[#This Row],[Salary in USD]])","v":78533.043543002947}]
[null,"ID0557","2012-05-26T05:50:23",60000,60000,"USD",{"$f":"tblSalaries[[#This Row],[clean Salary (in local currency)]]*VLOOKUP(tblSalaries[[#This Row],[Currency]],tblXrate[],2,FALSE)","v":60000},"Marketing Specialist","Specialist","USA",{"$f":"VLOOKUP(tblSalaries[[#This Row],[Where do you work]],tblCountries[[Actual]:[Mapping]],2,FALSE)","v":"USA"},"1 or 2 hours a day",null,{"$f":"VLOOKUP(K551,tblCountries[],3,0)","v":"North Amer."},{"$f":"VLOOKUP(tblSalaries[[#This Row],[How many hours of a day you work on Excel]],tblHours,2,0)","v":2},{"$f":"VLOOKUP(tblSalaries[[#This Row],[clean Country]],tblCountries[],5,0)","v":1},{"$f":"IF($Q$1,tblSalaries[[#This Row],[PPP Factor]]*tblSalaries[[#This Row],[Salary in USD]],tblSalaries[[#This Row],[Salary in USD]])","v":60000}]
[null,"ID0558","2012-05-26T05:50:26",35000,35000,"USD",{"$f":"tblSalaries[[#This Row],[clean Salary (in local currency)]]*VLOOKUP(tblSalaries[[#This Row],[Currency]],tblXrate[],2,FALSE)","v":35000},"Analyst","Analyst","USA",{"$f":"VLOOKUP(tblSalaries[[#This Row],[Where do you work]],tblCountries[[Actual]:[Mapping]],2,FALSE)","v":"USA"},"2 to 3 hours per day",null,{"$f":"VLOOKUP(K552,tblCountries[],3,0)","v":"North Amer."},{"$f":"VLOOKUP(tblSalaries[[#This Row],[How many hours of a day you work on Excel]],tblHours,2,0)","v":3},{"$f":"VLOOKUP(tblSalaries[[#This Row],[clean Country]],tblCountries[],5,0)","v":1},{"$f":"IF($Q$1,tblSalaries[[#This Row],[PPP Factor]]*tblSalaries[[#This Row],[Salary in USD]],tblSalaries[[#This Row],[Salary in USD]])","v":35000}]
[null,"ID0559","2012-05-26T05:52:47",50000,50000,"EUR",{"$f":"tblSalaries[[#This Row],[clean Salary (in local currency)]]*VLOOKUP(tblSalaries[[#This Row],[Currency]],tblXrate[],2,FALSE)","v":63519.971949580387},"Proyect Manager","Manager","Panama",{"$f":"VLOOKUP(tblSalaries[[#This Row],[Where do you work]],tblCountries[[Actual]:[Mapping]],2,FALSE)","v":"Panama"},"2 to 3 hours per day",null,{"$f":"VLOOKUP(K553,tblCountries[],3,0)","v":"North Amer."},{"$f":"VLOOKUP(tblSalaries[[#This Row],[How many hours of a day you work on Excel]],tblHours,2,0)","v":3},{"$f":"VLOOKUP(tblSalaries[[#This Row],[clean Country]],tblCountries[],5,0)","v":3.4324324324324325},{"$f":"IF($Q$1,tblSalaries[[#This Row],[PPP Factor]]*tblSalaries[[#This Row],[Salary in USD]],tblSalaries[[#This Row],[Salary in USD]])","v":63519.971949580387}]
[null,"ID0560","2012-05-26T05:55:22",54000,54000,"USD",{"$f":"tblSalaries[[#This Row],[clean Salary (in local currency)]]*VLOOKUP(tblSalaries[[#This Row],[Currency]],tblXrate[],2,FALSE)","v":54000},"IT Specialist","Specialist","USA",{"$f":"VLOOKUP(tblSalaries[[#This Row],[Where do you work]],tblCountries[[Actual]:[Mapping]],2,FALSE)","v":"USA"},"All the 8 hours baby, all the 8!",5,{"$f":"VLOOKUP(K554,tblCountries[],3,0)","v":"North Amer."},{"$f":"VLOOKUP(tblSalaries[[#This Row],[How many hours of a day you work on Excel]],tblHours,2,0)","v":5},{"$f":"VLOOKUP(tblSalaries[[#This Row],[clean Country]],tblCountries[],5,0)","v":1},{"$f":"IF($Q$1,tblSalaries[[#This Row],[PPP Factor]]*tblSalaries[[#This Row],[Salary in USD]],tblSalaries[[#This Row],[Salary in USD]])","v":54000}]
[null,"ID0561","2012-05-26T06:01:57",1300,15600,"USD",{"$f":"tblSalaries[[#This Row],[clean Salary (in local currency)]]*VLOOKUP(tblSalaries[[#This Row],[Currency]],tblXrate[],2,FALSE)","v":15600},"CONTROLLER","Controller","BRA",{"$f":"VLOOKUP(tblSalaries[[#This Row],[Where do you work]],tblCountries[[Actual]:[Mapping]],2,FALSE)","v":"Brazil"},"4 to 6 hours a day",20,{"$f":"VLOOKUP(K555,tblCountries[],3,0)","v":"South Amer."},{"$f":"VLOOKUP(tblSalaries[[#This Row],[How many hours of a day you work on Excel]],tblHours,2,0)","v":4},{"$f":"VLOOKUP(tblSalaries[[#This Row],[clean Country]],tblCountries[],5,0)","v":4.1113943410655107},{"$f":"IF($Q$1,tblSalaries[[#This Row],[PPP Factor]]*tblSalaries[[#This Row],[Salary in USD]],tblSalaries[[#This Row],[Salary in USD]])","v":15600}]
[null,"ID0562","2012-05-26T06:08:23",35000,35000,"USD",{"$f":"tblSalaries[[#This Row],[clean Salary (in local currency)]]*VLOOKUP(tblSalaries[[#This Row],[Currency]],tblXrate[],2,FALSE)","v":35000},"Technical Support Technician","Analyst","USA",{"$f":"VLOOKUP(tblSalaries[[#This Row],[Where do you work]],tblCountries[[Actual]:[Mapping]],2,FALSE)","v":"USA"},"1 or 2 hours a day",7,{"$f":"VLOOKUP(K556,tblCountries[],3,0)","v":"North Amer."},{"$f":"VLOOKUP(tblSalaries[[#This Row],[How many hours of a day you work on Excel]],tblHours,2,0)","v":2},{"$f":"VLOOKUP(tblSalaries[[#This Row],[clean Country]],tblCountries[],5,0)","v":1},{"$f":"IF($Q$1,tblSalaries[[#This Row],[PPP Factor]]*tblSalaries[[#This Row],[Salary in USD]],tblSalaries[[#This Row],[Salary in USD]])","v":35000}]
[null,"ID0563","2012-05-26T06:10:08",188000,188000,"USD",{"$f":"tblSalaries[[#This Row],[clean Salary (in local currency)]]*VLOOKUP(tblSalaries[[#This Row],[Currency]],tblXrate[],2,FALSE)","v":188000},"Director, Supply Chain Operations","CXO or Top Mgmt.","USA",{"$f":"VLOOKUP(tblSalaries[[#This Row],[Where do you work]],tblCountries[[Actual]:[Mapping]],2,FALSE)","v":"USA"},"1 or 2 hours a day",20,{"$f":"VLOOKUP(K557,tblCountries[],3,0)","v":"North Amer."},{"$f":"VLOOKUP(tblSalaries[[#This Row],[How many hours of a day you work on Excel]],tblHours,2,0)","v":2},{"$f":"VLOOKUP(tblSalaries[[#This Row],[clean Country]],tblCountries[],5,0)","v":1},{"$f":"IF($Q$1,tblSalaries[[#This Row],[PPP Factor]]*tblSalaries[[#This Row],[Salary in USD]],tblSalaries[[#This Row],[Salary in USD]])","v":188000}]
[null,"ID0564","2012-05-26T06:14:13",27500,27500,"USD",{"$f":"tblSalaries[[#This Row],[clean Salary (in local currency)]]*VLOOKUP(tblSalaries[[#This Row],[Currency]],tblXrate[],2,FALSE)","v":27500},"Associate","Analyst","USA",{"$f":"VLOOKUP(tblSalaries[[#This Row],[Where do you work]],tblCountries[[Actual]:[Mapping]],2,FALSE)","v":"USA"},"All the 8 hours baby, all the 8!",1,{"$f":"VLOOKUP(K558,tblCountries[],3,0)","v":"North Amer."},{"$f":"VLOOKUP(tblSalaries[[#This Row],[How many hours of a day you work on Excel]],tblHours,2,0)","v":5},{"$f":"VLOOKUP(tblSalaries[[#This Row],[clean Country]],tblCountries[],5,0)","v":1},{"$f":"IF($Q$1,tblSalaries[[#This Row],[PPP Factor]]*tblSalaries[[#This Row],[Salary in USD]],tblSalaries[[#This Row],[Salary in USD]])","v":27500}]
[null,"ID0565","2012-05-26T06:20:38",140000,140000,"USD",{"$f":"tblSalaries[[#This Row],[clean Salary (in local currency)]]*VLOOKUP(tblSalaries[[#This Row],[Currency]],tblXrate[],2,FALSE)","v":140000},"controller","Controller","USA",{"$f":"VLOOKUP(tblSalaries[[#This Row],[Where do you work]],tblCountries[[Actual]:[Mapping]],2,FALSE)","v":"USA"},"2 to 3 hours per day",10,{"$f":"VLOOKUP(K559,tblCountries[],3,0)","v":"North Amer."},{"$f":"VLOOKUP(tblSalaries[[#This Row],[How many hours of a day you work on Excel]],tblHours,2,0)","v":3},{"$f":"VLOOKUP(tblSalaries[[#This Row],[clean Country]],tblCountries[],5,0)","v":1},{"$f":"IF($Q$1,tblSalaries[[#This Row],[PPP Factor]]*tblSalaries[[#This Row],[Salary in USD]],tblSalaries[[#This Row],[Salary in USD]])","v":140000}]
[null,"ID0566","2012-05-26T06:24:03",55000,55000,"EUR",{"$f":"tblSalaries[[#This Row],[clean Salary (in local currency)]]*VLOOKUP(tblSalaries[[#This Row],[Currency]],tblXrate[],2,FALSE)","v":69871.969144538423},"Business analyst","Analyst","Netherlands",{"$f":"VLOOKUP(tblSalaries[[#This Row],[Where do you work]],tblCountries[[Actual]:[Mapping]],2,FALSE)","v":"Netherlands"},"All the 8 hours baby, all the 8!",6,{"$f":"VLOOKUP(K560,tblCountries[],3,0)","v":"Europe"},{"$f":"VLOOKUP(tblSalaries[[#This Row],[How many hours of a day you work on Excel]],tblHours,2,0)","v":5},{"$f":"VLOOKUP(tblSalaries[[#This Row],[clean Country]],tblCountries[],5,0)","v":1.1470734656141099},{"$f":"IF($Q$1,tblSalaries[[#This Row],[PPP Factor]]*tblSalaries[[#This Row],[Salary in USD]],tblSalaries[[#This Row],[Salary in USD]])","v":69871.969144538423}]
[null,"ID0567","2012-05-26T06:40:59",45000,45000,"USD",{"$f":"tblSalaries[[#This Row],[clean Salary (in local currency)]]*VLOOKUP(tblSalaries[[#This Row],[Currency]],tblXrate[],2,FALSE)","v":45000},"Workflow Analyst","Analyst","USA",{"$f":"VLOOKUP(tblSalaries[[#This Row],[Where do you work]],tblCountries[[Actual]:[Mapping]],2,FALSE)","v":"USA"},"4 to 6 hours a day",2,{"$f":"VLOOKUP(K561,tblCountries[],3,0)","v":"North Amer."},{"$f":"VLOOKUP(tblSalaries[[#This Row],[How many hours of a day you work on Excel]],tblHours,2,0)","v":4},{"$f":"VLOOKUP(tblSalaries[[#This Row],[clean Country]],tblCountries[],5,0)","v":1},{"$f":"IF($Q$1,tblSalaries[[#This Row],[PPP Factor]]*tblSalaries[[#This Row],[Salary in USD]],tblSalaries[[#This Row],[Salary in USD]])","v":45000}]
[null,"ID0568","2012-05-26T06:46:03","95000 USD",95000,"USD",{"$f":"tblSalaries[[#This Row],[clean Salary (in local currency)]]*VLOOKUP(tblSalaries[[#This Row],[Currency]],tblXrate[],2,FALSE)","v":95000},"Business Analyst","Analyst","Australia",{"$f":"VLOOKUP(tblSalaries[[#This Row],[Where do you work]],tblCountries[[Actual]:[Mapping]],2,FALSE)","v":"Australia"},"2 to 3 hours per day",11,{"$f":"VLOOKUP(K562,tblCountries[],3,0)","v":"Oceania"},{"$f":"VLOOKUP(tblSalaries[[#This Row],[How many hours of a day you work on Excel]],tblHours,2,0)","v":3},{"$f":"VLOOKUP(tblSalaries[[#This Row],[clean Country]],tblCountries[],5,0)","v":1.2026395585822935},{"$f":"IF($Q$1,tblSalaries[[#This Row],[PPP Factor]]*tblSalaries[[#This Row],[Salary in USD]],tblSalaries[[#This Row],[Salary in USD]])","v":95000}]
[null,"ID0569","2012-05-26T06:47:00","AUD $155,000",155000,"AUD",{"$f":"tblSalaries[[#This Row],[clean Salary (in local currency)]]*VLOOKUP(tblSalaries[[#This Row],[Currency]],tblXrate[],2,FALSE)","v":158085.99674240855},"Finance Manager Business Services","Manager","Australia",{"$f":"VLOOKUP(tblSalaries[[#This Row],[Where do you work]],tblCountries[[Actual]:[Mapping]],2,FALSE)","v":"Australia"},"4 to 6 hours a day",20,{"$f":"VLOOKUP(K563,tblCountries[],3,0)","v":"Oceania"},{"$f":"VLOOKUP(tblSalaries[[#This Row],[How many hours of a day you work on Excel]],tblHours,2,0)","v":4},{"$f":"VLOOKUP(tblSalaries[[#This Row],[clean Country]],tblCountries[],5,0)","v":1.2026395585822935},{"$f":"IF($Q$1,tblSalaries[[#This Row],[PPP Factor]]*tblSalaries[[#This Row],[Salary in USD]],tblSalaries[[#This Row],[Salary in USD]])","v":158085.99674240855}]
[null,"ID0570","2012-05-26T06:47:59","NZ $80,000",80000,"NZD",{"$f":"tblSalaries[[#This Row],[clean Salary (in local currency)]]*VLOOKUP(tblSalaries[[#This Row],[Currency]],tblXrate[],2,FALSE)","v":63807.047488395103},"Accountant/Analyst","Analyst","New Zealand",{"$f":"VLOOKUP(tblSalaries[[#This Row],[Where do you work]],tblCountries[[Actual]:[Mapping]],2,FALSE)","v":"New Zealand"},"4 to 6 hours a day",23,{"$f":"VLOOKUP(K564,tblCountries[],3,0)","v":"Oceania"},{"$f":"VLOOKUP(tblSalaries[[#This Row],[How many hours of a day you work on Excel]],tblHours,2,0)","v":4},{"$f":"VLOOKUP(tblSalaries[[#This Row],[clean Country]],tblCountries[],5,0)","v":1.7488434292323261},{"$f":"IF($Q$1,tblSalaries[[#This Row],[PPP Factor]]*tblSalaries[[#This Row],[Salary in USD]],tblSalaries[[#This Row],[Salary in USD]])","v":63807.047488395103}]
[null,"ID0572","2012-05-26T06:50:23",38000,38000,"USD",{"$f":"tblSalaries[[#This Row],[clean Salary (in local currency)]]*VLOOKUP(tblSalaries[[#This Row],[Currency]],tblXrate[],2,FALSE)","v":38000},"Costing Analysis","Analyst","USA",{"$f":"VLOOKUP(tblSalaries[[#This Row],[Where do you work]],tblCountries[[Actual]:[Mapping]],2,FALSE)","v":"USA"},"All the 8 hours baby, all the 8!",11,{"$f":"VLOOKUP(K565,tblCountries[],3,0)","v":"North Amer."},{"$f":"VLOOKUP(tblSalaries[[#This Row],[How many hours of a day you work on Excel]],tblHours,2,0)","v":5},{"$f":"VLOOKUP(tblSalaries[[#This Row],[clean Country]],tblCountries[],5,0)","v":1},{"$f":"IF($Q$1,tblSalaries[[#This Row],[PPP Factor]]*tblSalaries[[#This Row],[Salary in USD]],tblSalaries[[#This Row],[Salary in USD]])","v":38000}]
[null,"ID0573","2012-05-26T06:54:40",90000,90000,"USD",{"$f":"tblSalaries[[#This Row],[clean Salary (in local currency)]]*VLOOKUP(tblSalaries[[#This Row],[Currency]],tblXrate[],2,FALSE)","v":90000},"Sales Operations Supervisor","Manager","USA",{"$f":"VLOOKUP(tblSalaries[[#This Row],[Where do you work]],tblCountries[[Actual]:[Mapping]],2,FALSE)","v":"USA"},"4 to 6 hours a day",6,{"$f":"VLOOKUP(K566,tblCountries[],3,0)","v":"North Amer."},{"$f":"VLOOKUP(tblSalaries[[#This Row],[How many hours of a day you work on Excel]],tblHours,2,0)","v":4},{"$f":"VLOOKUP(tblSalaries[[#This Row],[clean Country]],tblCountries[],5,0)","v":1},{"$f":"IF($Q$1,tblSalaries[[#This Row],[PPP Factor]]*tblSalaries[[#This Row],[Salary in USD]],tblSalaries[[#This Row],[Salary in USD]])","v":90000}]
[null,"ID0574","2012-05-26T06:57:09","Â£28800",28800,"GBP",{"$f":"tblSalaries[[#This Row],[clean Salary (in local currency)]]*VLOOKUP(tblSalaries[[#This Row],[Currency]],tblXrate[],2,FALSE)","v":45393.934235537781},"Finance Manager","Manager","UK",{"$f":"VLOOKUP(tblSalaries[[#This Row],[Where do you work]],tblCountries[[Actual]:[Mapping]],2,FALSE)","v":"UK"},"4 to 6 hours a day",27,{"$f":"VLOOKUP(K567,tblCountries[],3,0)","v":"Europe"},{"$f":"VLOOKUP(tblSalaries[[#This Row],[How many hours of a day you work on Excel]],tblHours,2,0)","v":4},{"$f":"VLOOKUP(tblSalaries[[#This Row],[clean Country]],tblCountries[],5,0)","v":1.3407315045719035},{"$f":"IF($Q$1,tblSalaries[[#This Row],[PPP Factor]]*tblSalaries[[#This Row],[Salary in USD]],tblSalaries[[#This Row],[Salary in USD]])","v":45393.934235537781}]
[null,"ID0575","2012-05-26T07:01:10","Â£21000",21000,"GBP",{"$f":"tblSalaries[[#This Row],[clean Salary (in local currency)]]*VLOOKUP(tblSalaries[[#This Row],[Currency]],tblXrate[],2,FALSE)","v":33099.743713412965},"Sales Analyst","Analyst","UK",{"$f":"VLOOKUP(tblSalaries[[#This Row],[Where do you work]],tblCountries[[Actual]:[Mapping]],2,FALSE)","v":"UK"},"All the 8 hours baby, all the 8!",10,{"$f":"VLOOKUP(K568,tblCountries[],3,0)","v":"Europe"},{"$f":"VLOOKUP(tblSalaries[[#This Row],[How many hours of a day you work on Excel]],tblHours,2,0)","v":5},{"$f":"VLOOKUP(tblSalaries[[#This Row],[clean Country]],tblCountries[],5,0)","v":1.3407315045719035},{"$f":"IF($Q$1,tblSalaries[[#This Row],[PPP Factor]]*tblSalaries[[#This Row],[Salary in USD]],tblSalaries[[#This Row],[Salary in USD]])","v":33099.743713412965}]
[null,"ID0576","2012-05-26T07:06:50","USD 4285.00",4285,"USD",{"$f":"tblSalaries[[#This Row],[clean Salary (in local currency)]]*VLOOKUP(tblSalaries[[#This Row],[Currency]],tblXrate[],2,FALSE)","v":4285},"Assistant","Analyst","India",{"$f":"VLOOKUP(tblSalaries[[#This Row],[Where do you work]],tblCountries[[Actual]:[Mapping]],2,FALSE)","v":"India"},"All the 8 hours baby, all the 8!",6,{"$f":"VLOOKUP(K569,tblCountries[],3,0)","v":"Asia"},{"$f":"VLOOKUP(tblSalaries[[#This Row],[How many hours of a day you work on Excel]],tblHours,2,0)","v":5},{"$f":"VLOOKUP(tblSalaries[[#This Row],[clean Country]],tblCountries[],5,0)","v":13.098808879263672},{"$f":"IF($Q$1,tblSalaries[[#This Row],[PPP Factor]]*tblSalaries[[#This Row],[Salary in USD]],tblSalaries[[#This Row],[Salary in USD]])","v":4285}]
[null,"ID0577","2012-05-26T07:14:02",6000,6000,"USD",{"$f":"tblSalaries[[#This Row],[clean Salary (in local currency)]]*VLOOKUP(tblSalaries[[#This Row],[Currency]],tblXrate[],2,FALSE)","v":6000},"In Charge","Manager","Guyana",{"$f":"VLOOKUP(tblSalaries[[#This Row],[Where do you work]],tblCountries[[Actual]:[Mapping]],2,FALSE)","v":"Guyana"},"1 or 2 hours a day",20,{"$f":"VLOOKUP(K570,tblCountries[],3,0)","v":"South Amer."},{"$f":"VLOOKUP(tblSalaries[[#This Row],[How many hours of a day you work on Excel]],tblHours,2,0)","v":2},{"$f":"VLOOKUP(tblSalaries[[#This Row],[clean Country]],tblCountries[],5,0)","v":6.4809804446825607},{"$f":"IF($Q$1,tblSalaries[[#This Row],[PPP Factor]]*tblSalaries[[#This Row],[Salary in USD]],tblSalaries[[#This Row],[Salary in USD]])","v":6000}]
[null,"ID0578","2012-05-26T07:15:48","$22,000 AUD",22000,"AUD",{"$f":"tblSalaries[[#This Row],[clean Salary (in local currency)]]*VLOOKUP(tblSalaries[[#This Row],[Currency]],tblXrate[],2,FALSE)","v":22438.012440857987},"Sales Analyst","Analyst","Australia",{"$f":"VLOOKUP(tblSalaries[[#This Row],[Where do you work]],tblCountries[[Actual]:[Mapping]],2,FALSE)","v":"Australia"},"4 to 6 hours a day",8,{"$f":"VLOOKUP(K571,tblCountries[],3,0)","v":"Oceania"},{"$f":"VLOOKUP(tblSalaries[[#This Row],[How many hours of a day you work on Excel]],tblHours,2,0)","v":4},{"$f":"VLOOKUP(tblSalaries[[#This Row],[clean Country]],tblCountries[],5,0)","v":1.2026395585822935},{"$f":"IF($Q$1,tblSalaries[[#This Row],[PPP Factor]]*tblSalaries[[#This Row],[Salary in USD]],tblSalaries[[#This Row],[Salary in USD]])","v":22438.012440857987}]
[null,"ID0579","2012-05-26T07:18:57",90000,90000,"USD",{"$f":"tblSalaries[[#This Row],[clean Salary (in local currency)]]*VLOOKUP(tblSalaries[[#This Row],[Currency]],tblXrate[],2,FALSE)","v":90000},"Manager","Manager","USA",{"$f":"VLOOKUP(tblSalaries[[#This Row],[Where do you work]],tblCountries[[Actual]:[Mapping]],2,FALSE)","v":"USA"},"2 to 3 hours per day",15,{"$f":"VLOOKUP(K572,tblCountries[],3,0)","v":"North Amer."},{"$f":"VLOOKUP(tblSalaries[[#This Row],[How many hours of a day you work on Excel]],tblHours,2,0)","v":3},{"$f":"VLOOKUP(tblSalaries[[#This Row],[clean Country]],tblCountries[],5,0)","v":1},{"$f":"IF($Q$1,tblSalaries[[#This Row],[PPP Factor]]*tblSalaries[[#This Row],[Salary in USD]],tblSalaries[[#This Row],[Salary in USD]])","v":90000}]
[null,"ID0580","2012-05-26T07:23:11",150000,150000,"USD",{"$f":"tblSalaries[[#This Row],[clean Salary (in local currency)]]*VLOOKUP(tblSalaries[[#This Row],[Currency]],tblXrate[],2,FALSE)","v":150000},"CFO","CXO or Top Mgmt.","USA",{"$f":"VLOOKUP(tblSalaries[[#This Row],[Where do you work]],tblCountries[[Actual]:[Mapping]],2,FALSE)","v":"USA"},"4 to 6 hours a day",22,{"$f":"VLOOKUP(K573,tblCountries[],3,0)","v":"North Amer."},{"$f":"VLOOKUP(tblSalaries[[#This Row],[How many hours of a day you work on Excel]],tblHours,2,0)","v":4},{"$f":"VLOOKUP(tblSalaries[[#This Row],[clean Country]],tblCountries[],5,0)","v":1},{"$f":"IF($Q$1,tblSalaries[[#This Row],[PPP Factor]]*tblSalaries[[#This Row],[Salary in USD]],tblSalaries[[#This Row],[Salary in USD]])","v":150000}]
[null,"ID0581","2012-05-26T07:32:19",130000,130000,"AUD",{"$f":"tblSalaries[[#This Row],[clean Salary (in local currency)]]*VLOOKUP(tblSalaries[[#This Row],[Currency]],tblXrate[],2,FALSE)","v":132588.25533234264},"Accountant","Accountant","Australia",{"$f":"VLOOKUP(tblSalaries[[#This Row],[Where do you work]],tblCountries[[Actual]:[Mapping]],2,FALSE)","v":"Australia"},"2 to 3 hours per day",27,{"$f":"VLOOKUP(K574,tblCountries[],3,0)","v":"Oceania"},{"$f":"VLOOKUP(tblSalaries[[#This Row],[How many hours of a day you work on Excel]],tblHours,2,0)","v":3},{"$f":"VLOOKUP(tblSalaries[[#This Row],[clean Country]],tblCountries[],5,0)","v":1.2026395585822935},{"$f":"IF($Q$1,tblSalaries[[#This Row],[PPP Factor]]*tblSalaries[[#This Row],[Salary in USD]],tblSalaries[[#This Row],[Salary in USD]])","v":132588.25533234264}]
[null,"ID0582","2012-05-26T07:36:23",45000,45000,"USD",{"$f":"tblSalaries[[#This Row],[clean Salary (in local currency)]]*VLOOKUP(tblSalaries[[#This Row],[Currency]],tblXrate[],2,FALSE)","v":45000},"business analyst","Analyst","USA",{"$f":"VLOOKUP(tblSalaries[[#This Row],[Where do you work]],tblCountries[[Actual]:[Mapping]],2,FALSE)","v":"USA"},"4 to 6 hours a day",3,{"$f":"VLOOKUP(K575,tblCountries[],3,0)","v":"North Amer."},{"$f":"VLOOKUP(tblSalaries[[#This Row],[How many hours of a day you work on Excel]],tblHours,2,0)","v":4},{"$f":"VLOOKUP(tblSalaries[[#This Row],[clean Country]],tblCountries[],5,0)","v":1},{"$f":"IF($Q$1,tblSalaries[[#This Row],[PPP Factor]]*tblSalaries[[#This Row],[Salary in USD]],tblSalaries[[#This Row],[Salary in USD]])","v":45000}]
[null,"ID0583","2012-05-26T07:37:53",50000,50000,"USD",{"$f":"tblSalaries[[#This Row],[clean Salary (in local currency)]]*VLOOKUP(tblSalaries[[#This Row],[Currency]],tblXrate[],2,FALSE)","v":50000},"IT Specialist","Specialist","USA",{"$f":"VLOOKUP(tblSalaries[[#This Row],[Where do you work]],tblCountries[[Actual]:[Mapping]],2,FALSE)","v":"USA"},"2 to 3 hours per day",10,{"$f":"VLOOKUP(K576,tblCountries[],3,0)","v":"North Amer."},{"$f":"VLOOKUP(tblSalaries[[#This Row],[How many hours of a day you work on Excel]],tblHours,2,0)","v":3},{"$f":"VLOOKUP(tblSalaries[[#This Row],[clean Country]],tblCountries[],5,0)","v":1},{"$f":"IF($Q$1,tblSalaries[[#This Row],[PPP Factor]]*tblSalaries[[#This Row],[Salary in USD]],tblSalaries[[#This Row],[Salary in USD]])","v":50000}]
[null,"ID0584","2012-05-26T07:44:04",300000,300000,"USD",{"$f":"tblSalaries[[#This Row],[clean Salary (in local currency)]]*VLOOKUP(tblSalaries[[#This Row],[Currency]],tblXrate[],2,FALSE)","v":300000},"CEO","CXO or Top Mgmt.","USA",{"$f":"VLOOKUP(tblSalaries[[#This Row],[Where do you work]],tblCountries[[Actual]:[Mapping]],2,FALSE)","v":"USA"},"2 to 3 hours per day",30,{"$f":"VLOOKUP(K577,tblCountries[],3,0)","v":"North Amer."},{"$f":"VLOOKUP(tblSalaries[[#This Row],[How many hours of a day you work on Excel]],tblHours,2,0)","v":3},{"$f":"VLOOKUP(tblSalaries[[#This Row],[clean Country]],tblCountries[],5,0)","v":1},{"$f":"IF($Q$1,tblSalaries[[#This Row],[PPP Factor]]*tblSalaries[[#This Row],[Salary in USD]],tblSalaries[[#This Row],[Salary in USD]])","v":300000}]
[null,"ID0585","2012-05-26T07:48:29",102000,102000,"AUD",{"$f":"tblSalaries[[#This Row],[clean Salary (in local currency)]]*VLOOKUP(tblSalaries[[#This Row],[Currency]],tblXrate[],2,FALSE)","v":104030.78495306884},"coordinator lismore regional airport","Manager","Australia",{"$f":"VLOOKUP(tblSalaries[[#This Row],[Where do you work]],tblCountries[[Actual]:[Mapping]],2,FALSE)","v":"Australia"},"1 or 2 hours a day",10,{"$f":"VLOOKUP(K578,tblCountries[],3,0)","v":"Oceania"},{"$f":"VLOOKUP(tblSalaries[[#This Row],[How many hours of a day you work on Excel]],tblHours,2,0)","v":2},{"$f":"VLOOKUP(tblSalaries[[#This Row],[clean Country]],tblCountries[],5,0)","v":1.2026395585822935},{"$f":"IF($Q$1,tblSalaries[[#This Row],[PPP Factor]]*tblSalaries[[#This Row],[Salary in USD]],tblSalaries[[#This Row],[Salary in USD]])","v":104030.78495306884}]
[null,"ID0586","2012-05-26T07:50:50",115000,115000,"USD",{"$f":"tblSalaries[[#This Row],[clean Salary (in local currency)]]*VLOOKUP(tblSalaries[[#This Row],[Currency]],tblXrate[],2,FALSE)","v":115000},"Mgr Op Excellence","Manager","USA",{"$f":"VLOOKUP(tblSalaries[[#This Row],[Where do you work]],tblCountries[[Actual]:[Mapping]],2,FALSE)","v":"USA"},"4 to 6 hours a day",15,{"$f":"VLOOKUP(K579,tblCountries[],3,0)","v":"North Amer."},{"$f":"VLOOKUP(tblSalaries[[#This Row],[How many hours of a day you work on Excel]],tblHours,2,0)","v":4},{"$f":"VLOOKUP(tblSalaries[[#This Row],[clean Country]],tblCountries[],5,0)","v":1},{"$f":"IF($Q$1,tblSalaries[[#This Row],[PPP Factor]]*tblSalaries[[#This Row],[Salary in USD]],tblSalaries[[#This Row],[Salary in USD]])","v":115000}]
[null,"ID0587","2012-05-26T07:53:13",70000,70000,"USD",{"$f":"tblSalaries[[#This Row],[clean Salary (in local currency)]]*VLOOKUP(tblSalaries[[#This Row],[Currency]],tblXrate[],2,FALSE)","v":70000},"Financial Analyst","Analyst","USA",{"$f":"VLOOKUP(tblSalaries[[#This Row],[Where do you work]],tblCountries[[Actual]:[Mapping]],2,FALSE)","v":"USA"},"4 to 6 hours a day",3,{"$f":"VLOOKUP(K580,tblCountries[],3,0)","v":"North Amer."},{"$f":"VLOOKUP(tblSalaries[[#This Row],[How many hours of a day you work on Excel]],tblHours,2,0)","v":4},{"$f":"VLOOKUP(tblSalaries[[#This Row],[clean Country]],tblCountries[],5,0)","v":1},{"$f":"IF($Q$1,tblSalaries[[#This Row],[PPP Factor]]*tblSalaries[[#This Row],[Salary in USD]],tblSalaries[[#This Row],[Salary in USD]])","v":70000}]
[null,"ID0588","2012-05-26T07:57:04",106000,106000,"AUD",{"$f":"tblSalaries[[#This Row],[clean Salary (in local currency)]]*VLOOKUP(tblSalaries[[#This Row],[Currency]],tblXrate[],2,FALSE)","v":108110.42357867939},"Pricing and Strategy Specialist","Specialist","Australia",{"$f":"VLOOKUP(tblSalaries[[#This Row],[Where do you work]],tblCountries[[Actual]:[Mapping]],2,FALSE)","v":"Australia"},"4 to 6 hours a day",16,{"$f":"VLOOKUP(K581,tblCountries[],3,0)","v":"Oceania"},{"$f":"VLOOKUP(tblSalaries[[#This Row],[How many hours of a day you work on Excel]],tblHours,2,0)","v":4},{"$f":"VLOOKUP(tblSalaries[[#This Row],[clean Country]],tblCountries[],5,0)","v":1.2026395585822935},{"$f":"IF($Q$1,tblSalaries[[#This Row],[PPP Factor]]*tblSalaries[[#This Row],[Salary in USD]],tblSalaries[[#This Row],[Salary in USD]])","v":108110.42357867939}]
[null,"ID0589","2012-05-26T08:01:44",75000,75000,"USD",{"$f":"tblSalaries[[#This Row],[clean Salary (in local currency)]]*VLOOKUP(tblSalaries[[#This Row],[Currency]],tblXrate[],2,FALSE)","v":75000},"Sr. Human Resources Analyst","Analyst","USA",{"$f":"VLOOKUP(tblSalaries[[#This Row],[Where do you work]],tblCountries[[Actual]:[Mapping]],2,FALSE)","v":"USA"},"2 to 3 hours per day",25,{"$f":"VLOOKUP(K582,tblCountries[],3,0)","v":"North Amer."},{"$f":"VLOOKUP(tblSalaries[[#This Row],[How many hours of a day you work on Excel]],tblHours,2,0)","v":3},{"$f":"VLOOKUP(tblSalaries[[#This Row],[clean Country]],tblCountries[],5,0)","v":1},{"$f":"IF($Q$1,tblSalaries[[#This Row],[PPP Factor]]*tblSalaries[[#This Row],[Salary in USD]],tblSalaries[[#This Row],[Salary in USD]])","v":75000}]
[null,"ID0590","2012-05-26T08:05:23",40414,40414,"USD",{"$f":"tblSalaries[[#This Row],[clean Salary (in local currency)]]*VLOOKUP(tblSalaries[[#This Row],[Currency]],tblXrate[],2,FALSE)","v":40414},"Performance Improvement Analyst","Analyst","USA",{"$f":"VLOOKUP(tblSalaries[[#This Row],[Where do you work]],tblCountries[[Actual]:[Mapping]],2,FALSE)","v":"USA"},"4 to 6 hours a day",8,{"$f":"VLOOKUP(K583,tblCountries[],3,0)","v":"North Amer."},{"$f":"VLOOKUP(tblSalaries[[#This Row],[How many hours of a day you work on Excel]],tblHours,2,0)","v":4},{"$f":"VLOOKUP(tblSalaries[[#This Row],[clean Country]],tblCountries[],5,0)","v":1},{"$f":"IF($Q$1,tblSalaries[[#This Row],[PPP Factor]]*tblSalaries[[#This Row],[Salary in USD]],tblSalaries[[#This Row],[Salary in USD]])","v":40414}]
[null,"ID0591","2012-05-26T08:05:39",65000,65000,"USD",{"$f":"tblSalaries[[#This Row],[clean Salary (in local currency)]]*VLOOKUP(tblSalaries[[#This Row],[Currency]],tblXrate[],2,FALSE)","v":65000},"Data Analyst","Analyst","USA",{"$f":"VLOOKUP(tblSalaries[[#This Row],[Where do you work]],tblCountries[[Actual]:[Mapping]],2,FALSE)","v":"USA"},"4 to 6 hours a day",3,{"$f":"VLOOKUP(K584,tblCountries[],3,0)","v":"North Amer."},{"$f":"VLOOKUP(tblSalaries[[#This Row],[How many hours of a day you work on Excel]],tblHours,2,0)","v":4},{"$f":"VLOOKUP(tblSalaries[[#This Row],[clean Country]],tblCountries[],5,0)","v":1},{"$f":"IF($Q$1,tblSalaries[[#This Row],[PPP Factor]]*tblSalaries[[#This Row],[Salary in USD]],tblSalaries[[#This Row],[Salary in USD]])","v":65000}]
[null,"ID0592","2012-05-26T08:08:43",120000,120000,"USD",{"$f":"tblSalaries[[#This Row],[clean Salary (in local currency)]]*VLOOKUP(tblSalaries[[#This Row],[Currency]],tblXrate[],2,FALSE)","v":120000},"Sr. Analyst","Analyst","USA",{"$f":"VLOOKUP(tblSalaries[[#This Row],[Where do you work]],tblCountries[[Actual]:[Mapping]],2,FALSE)","v":"USA"},"All the 8 hours baby, all the 8!",7,{"$f":"VLOOKUP(K585,tblCountries[],3,0)","v":"North Amer."},{"$f":"VLOOKUP(tblSalaries[[#This Row],[How many hours of a day you work on Excel]],tblHours,2,0)","v":5},{"$f":"VLOOKUP(tblSalaries[[#This Row],[clean Country]],tblCountries[],5,0)","v":1},{"$f":"IF($Q$1,tblSalaries[[#This Row],[PPP Factor]]*tblSalaries[[#This Row],[Salary in USD]],tblSalaries[[#This Row],[Salary in USD]])","v":120000}]
[null,"ID0593","2012-05-26T08:10:43",8000,96000,"CNY",{"$f":"tblSalaries[[#This Row],[clean Salary (in local currency)]]*VLOOKUP(tblSalaries[[#This Row],[Currency]],tblXrate[],2,FALSE)","v":15092.18020692008},"finance","Accountant","china",{"$f":"VLOOKUP(tblSalaries[[#This Row],[Where do you work]],tblCountries[[Actual]:[Mapping]],2,FALSE)","v":"china"},"4 to 6 hours a day",10,{"$f":"VLOOKUP(K586,tblCountries[],3,0)","v":"Asia"},{"$f":"VLOOKUP(tblSalaries[[#This Row],[How many hours of a day you work on Excel]],tblHours,2,0)","v":4},{"$f":"VLOOKUP(tblSalaries[[#This Row],[clean Country]],tblCountries[],5,0)","v":5.7727272727272725},{"$f":"IF($Q$1,tblSalaries[[#This Row],[PPP Factor]]*tblSalaries[[#This Row],[Salary in USD]],tblSalaries[[#This Row],[Salary in USD]])","v":15092.18020692008}]
[null,"ID0594","2012-05-26T08:17:53","$36 000",36000,"USD",{"$f":"tblSalaries[[#This Row],[clean Salary (in local currency)]]*VLOOKUP(tblSalaries[[#This Row],[Currency]],tblXrate[],2,FALSE)","v":36000},"Consulting","Consultant","Russia",{"$f":"VLOOKUP(tblSalaries[[#This Row],[Where do you work]],tblCountries[[Actual]:[Mapping]],2,FALSE)","v":"Russia"},"All the 8 hours baby, all the 8!",10,{"$f":"VLOOKUP(K587,tblCountries[],3,0)","v":"Asia"},{"$f":"VLOOKUP(tblSalaries[[#This Row],[How many hours of a day you work on Excel]],tblHours,2,0)","v":5},{"$f":"VLOOKUP(tblSalaries[[#This Row],[clean Country]],tblCountries[],5,0)","v":2.8911926386233269},{"$f":"IF($Q$1,tblSalaries[[#This Row],[PPP Factor]]*tblSalaries[[#This Row],[Salary in USD]],tblSalaries[[#This Row],[Salary in USD]])","v":36000}]
[null,"ID0595","2012-05-26T08:30:00","â‚¬ 50000",50000,"EUR",{"$f":"tblSalaries[[#This Row],[clean Salary (in local currency)]]*VLOOKUP(tblSalaries[[#This Row],[Currency]],tblXrate[],2,FALSE)","v":63519.971949580387},"Analyst","Analyst","Germany",{"$f":"VLOOKUP(tblSalaries[[#This Row],[Where do you work]],tblCountries[[Actual]:[Mapping]],2,FALSE)","v":"Germany"},"2 to 3 hours per day",4,{"$f":"VLOOKUP(K588,tblCountries[],3,0)","v":"Europe"},{"$f":"VLOOKUP(tblSalaries[[#This Row],[How many hours of a day you work on Excel]],tblHours,2,0)","v":3},{"$f":"VLOOKUP(tblSalaries[[#This Row],[clean Country]],tblCountries[],5,0)","v":1.276802913159353},{"$f":"IF($Q$1,tblSalaries[[#This Row],[PPP Factor]]*tblSalaries[[#This Row],[Salary in USD]],tblSalaries[[#This Row],[Salary in USD]])","v":63519.971949580387}]
[null,"ID0596","2012-05-26T08:43:07",108000,108000,"USD",{"$f":"tblSalaries[[#This Row],[clean Salary (in local currency)]]*VLOOKUP(tblSalaries[[#This Row],[Currency]],tblXrate[],2,FALSE)","v":108000},"Technology consultant ","Consultant","USA",{"$f":"VLOOKUP(tblSalaries[[#This Row],[Where do you work]],tblCountries[[Actual]:[Mapping]],2,FALSE)","v":"USA"},"2 to 3 hours per day",7,{"$f":"VLOOKUP(K589,tblCountries[],3,0)","v":"North Amer."},{"$f":"VLOOKUP(tblSalaries[[#This Row],[How many hours of a day you work on Excel]],tblHours,2,0)","v":3},{"$f":"VLOOKUP(tblSalaries[[#This Row],[clean Country]],tblCountries[],5,0)","v":1},{"$f":"IF($Q$1,tblSalaries[[#This Row],[PPP Factor]]*tblSalaries[[#This Row],[Salary in USD]],tblSalaries[[#This Row],[Salary in USD]])","v":108000}]
[null,"ID0597","2012-05-26T08:45:34",75000,75000,"USD",{"$f":"tblSalaries[[#This Row],[clean Salary (in local currency)]]*VLOOKUP(tblSalaries[[#This Row],[Currency]],tblXrate[],2,FALSE)","v":75000},"Financial Analyst","Analyst","USA",{"$f":"VLOOKUP(tblSalaries[[#This Row],[Where do you work]],tblCountries[[Actual]:[Mapping]],2,FALSE)","v":"USA"},"4 to 6 hours a day",5,{"$f":"VLOOKUP(K590,tblCountries[],3,0)","v":"North Amer."},{"$f":"VLOOKUP(tblSalaries[[#This Row],[How many hours of a day you work on Excel]],tblHours,2,0)","v":4},{"$f":"VLOOKUP(tblSalaries[[#This Row],[clean Country]],tblCountries[],5,0)","v":1},{"$f":"IF($Q$1,tblSalaries[[#This Row],[PPP Factor]]*tblSalaries[[#This Row],[Salary in USD]],tblSalaries[[#This Row],[Salary in USD]])","v":75000}]
[null,"ID0598","2012-05-26T08:51:04","4,00,000",400000,"INR",{"$f":"tblSalaries[[#This Row],[clean Salary (in local currency)]]*VLOOKUP(tblSalaries[[#This Row],[Currency]],tblXrate[],2,FALSE)","v":7123.1666749770275},"BPO","Manager","India",{"$f":"VLOOKUP(tblSalaries[[#This Row],[Where do you work]],tblCountries[[Actual]:[Mapping]],2,FALSE)","v":"India"},"1 or 2 hours a day",3,{"$f":"VLOOKUP(K591,tblCountries[],3,0)","v":"Asia"},{"$f":"VLOOKUP(tblSalaries[[#This Row],[How many hours of a day you work on Excel]],tblHours,2,0)","v":2},{"$f":"VLOOKUP(tblSalaries[[#This Row],[clean Country]],tblCountries[],5,0)","v":13.098808879263672},{"$f":"IF($Q$1,tblSalaries[[#This Row],[PPP Factor]]*tblSalaries[[#This Row],[Salary in USD]],tblSalaries[[#This Row],[Salary in USD]])","v":7123.1666749770275}]
[null,"ID0599","2012-05-26T08:52:00",50000,50000,"USD",{"$f":"tblSalaries[[#This Row],[clean Salary (in local currency)]]*VLOOKUP(tblSalaries[[#This Row],[Currency]],tblXrate[],2,FALSE)","v":50000},"General manager","Manager","India",{"$f":"VLOOKUP(tblSalaries[[#This Row],[Where do you work]],tblCountries[[Actual]:[Mapping]],2,FALSE)","v":"India"},"1 or 2 hours a day",25,{"$f":"VLOOKUP(K592,tblCountries[],3,0)","v":"Asia"},{"$f":"VLOOKUP(tblSalaries[[#This Row],[How many hours of a day you work on Excel]],tblHours,2,0)","v":2},{"$f":"VLOOKUP(tblSalaries[[#This Row],[clean Country]],tblCountries[],5,0)","v":13.098808879263672},{"$f":"IF($Q$1,tblSalaries[[#This Row],[PPP Factor]]*tblSalaries[[#This Row],[Salary in USD]],tblSalaries[[#This Row],[Salary in USD]])","v":50000}]
[null,"ID0600","2012-05-26T08:55:12",45000,45000,"USD",{"$f":"tblSalaries[[#This Row],[clean Salary (in local currency)]]*VLOOKUP(tblSalaries[[#This Row],[Currency]],tblXrate[],2,FALSE)","v":45000},"Technical Analyst","Analyst","USA",{"$f":"VLOOKUP(tblSalaries[[#This Row],[Where do you work]],tblCountries[[Actual]:[Mapping]],2,FALSE)","v":"USA"},"4 to 6 hours a day",15,{"$f":"VLOOKUP(K593,tblCountries[],3,0)","v":"North Amer."},{"$f":"VLOOKUP(tblSalaries[[#This Row],[How many hours of a day you work on Excel]],tblHours,2,0)","v":4},{"$f":"VLOOKUP(tblSalaries[[#This Row],[clean Country]],tblCountries[],5,0)","v":1},{"$f":"IF($Q$1,tblSalaries[[#This Row],[PPP Factor]]*tblSalaries[[#This Row],[Salary in USD]],tblSalaries[[#This Row],[Salary in USD]])","v":45000}]
[null,"ID0601","2012-05-26T08:55:17",45000,45000,"USD",{"$f":"tblSalaries[[#This Row],[clean Salary (in local currency)]]*VLOOKUP(tblSalaries[[#This Row],[Currency]],tblXrate[],2,FALSE)","v":45000},"Head Accounts","Accountant","USA",{"$f":"VLOOKUP(tblSalaries[[#This Row],[Where do you work]],tblCountries[[Actual]:[Mapping]],2,FALSE)","v":"USA"},"4 to 6 hours a day",7,{"$f":"VLOOKUP(K594,tblCountries[],3,0)","v":"North Amer."},{"$f":"VLOOKUP(tblSalaries[[#This Row],[How many hours of a day you work on Excel]],tblHours,2,0)","v":4},{"$f":"VLOOKUP(tblSalaries[[#This Row],[clean Country]],tblCountries[],5,0)","v":1},{"$f":"IF($Q$1,tblSalaries[[#This Row],[PPP Factor]]*tblSalaries[[#This Row],[Salary in USD]],tblSalaries[[#This Row],[Salary in USD]])","v":45000}]
[null,"ID0602","2012-05-26T08:56:13","90 k",90000,"USD",{"$f":"tblSalaries[[#This Row],[clean Salary (in local currency)]]*VLOOKUP(tblSalaries[[#This Row],[Currency]],tblXrate[],2,FALSE)","v":90000},"Operations","Manager","USA",{"$f":"VLOOKUP(tblSalaries[[#This Row],[Where do you work]],tblCountries[[Actual]:[Mapping]],2,FALSE)","v":"USA"},"2 to 3 hours per day",20,{"$f":"VLOOKUP(K595,tblCountries[],3,0)","v":"North Amer."},{"$f":"VLOOKUP(tblSalaries[[#This Row],[How many hours of a day you work on Excel]],tblHours,2,0)","v":3},{"$f":"VLOOKUP(tblSalaries[[#This Row],[clean Country]],tblCountries[],5,0)","v":1},{"$f":"IF($Q$1,tblSalaries[[#This Row],[PPP Factor]]*tblSalaries[[#This Row],[Salary in USD]],tblSalaries[[#This Row],[Salary in USD]])","v":90000}]
[null,"ID0603","2012-05-26T08:58:55","Rs. 20000",240000,"INR",{"$f":"tblSalaries[[#This Row],[clean Salary (in local currency)]]*VLOOKUP(tblSalaries[[#This Row],[Currency]],tblXrate[],2,FALSE)","v":4273.9000049862161},"Talati","Analyst","India",{"$f":"VLOOKUP(tblSalaries[[#This Row],[Where do you work]],tblCountries[[Actual]:[Mapping]],2,FALSE)","v":"India"},"2 to 3 hours per day",5,{"$f":"VLOOKUP(K596,tblCountries[],3,0)","v":"Asia"},{"$f":"VLOOKUP(tblSalaries[[#This Row],[How many hours of a day you work on Excel]],tblHours,2,0)","v":3},{"$f":"VLOOKUP(tblSalaries[[#This Row],[clean Country]],tblCountries[],5,0)","v":13.098808879263672},{"$f":"IF($Q$1,tblSalaries[[#This Row],[PPP Factor]]*tblSalaries[[#This Row],[Salary in USD]],tblSalaries[[#This Row],[Salary in USD]])","v":4273.9000049862161}]
[null,"ID0604","2012-05-26T09:28:32",50000,50000,"USD",{"$f":"tblSalaries[[#This Row],[clean Salary (in local currency)]]*VLOOKUP(tblSalaries[[#This Row],[Currency]],tblXrate[],2,FALSE)","v":50000},"Product manager","Manager","India",{"$f":"VLOOKUP(tblSalaries[[#This Row],[Where do you work]],tblCountries[[Actual]:[Mapping]],2,FALSE)","v":"India"},"1 or 2 hours a day",10,{"$f":"VLOOKUP(K597,tblCountries[],3,0)","v":"Asia"},{"$f":"VLOOKUP(tblSalaries[[#This Row],[How many hours of a day you work on Excel]],tblHours,2,0)","v":2},{"$f":"VLOOKUP(tblSalaries[[#This Row],[clean Country]],tblCountries[],5,0)","v":13.098808879263672},{"$f":"IF($Q$1,tblSalaries[[#This Row],[PPP Factor]]*tblSalaries[[#This Row],[Salary in USD]],tblSalaries[[#This Row],[Salary in USD]])","v":50000}]
[null,"ID0605","2012-05-26T09:28:50",65000,65000,"USD",{"$f":"tblSalaries[[#This Row],[clean Salary (in local currency)]]*VLOOKUP(tblSalaries[[#This Row],[Currency]],tblXrate[],2,FALSE)","v":65000},"Helicopter Mechanic","Analyst","USA",{"$f":"VLOOKUP(tblSalaries[[#This Row],[Where do you work]],tblCountries[[Actual]:[Mapping]],2,FALSE)","v":"USA"},"2 to 3 hours per day",17,{"$f":"VLOOKUP(K598,tblCountries[],3,0)","v":"North Amer."},{"$f":"VLOOKUP(tblSalaries[[#This Row],[How many hours of a day you work on Excel]],tblHours,2,0)","v":3},{"$f":"VLOOKUP(tblSalaries[[#This Row],[clean Country]],tblCountries[],5,0)","v":1},{"$f":"IF($Q$1,tblSalaries[[#This Row],[PPP Factor]]*tblSalaries[[#This Row],[Salary in USD]],tblSalaries[[#This Row],[Salary in USD]])","v":65000}]
[null,"ID0606","2012-05-26T09:36:28",70000,70000,"USD",{"$f":"tblSalaries[[#This Row],[clean Salary (in local currency)]]*VLOOKUP(tblSalaries[[#This Row],[Currency]],tblXrate[],2,FALSE)","v":70000},"Program/Mgt Analyst","Analyst","USA",{"$f":"VLOOKUP(tblSalaries[[#This Row],[Where do you work]],tblCountries[[Actual]:[Mapping]],2,FALSE)","v":"USA"},"2 to 3 hours per day",18,{"$f":"VLOOKUP(K599,tblCountries[],3,0)","v":"North Amer."},{"$f":"VLOOKUP(tblSalaries[[#This Row],[How many hours of a day you work on Excel]],tblHours,2,0)","v":3},{"$f":"VLOOKUP(tblSalaries[[#This Row],[clean Country]],tblCountries[],5,0)","v":1},{"$f":"IF($Q$1,tblSalaries[[#This Row],[PPP Factor]]*tblSalaries[[#This Row],[Salary in USD]],tblSalaries[[#This Row],[Salary in USD]])","v":70000}]
[null,"ID0608","2012-05-26T09:51:47",160000,160000,"USD",{"$f":"tblSalaries[[#This Row],[clean Salary (in local currency)]]*VLOOKUP(tblSalaries[[#This Row],[Currency]],tblXrate[],2,FALSE)","v":160000},"Director, Analytics","Analyst","USA",{"$f":"VLOOKUP(tblSalaries[[#This Row],[Where do you work]],tblCountries[[Actual]:[Mapping]],2,FALSE)","v":"USA"},"4 to 6 hours a day",5,{"$f":"VLOOKUP(K600,tblCountries[],3,0)","v":"North Amer."},{"$f":"VLOOKUP(tblSalaries[[#This Row],[How many hours of a day you work on Excel]],tblHours,2,0)","v":4},{"$f":"VLOOKUP(tblSalaries[[#This Row],[clean Country]],tblCountries[],5,0)","v":1},{"$f":"IF($Q$1,tblSalaries[[#This Row],[PPP Factor]]*tblSalaries[[#This Row],[Salary in USD]],tblSalaries[[#This Row],[Salary in USD]])","v":160000}]
[null,"ID0609","2012-05-26T09:52:22",100000,100000,"AUD",{"$f":"tblSalaries[[#This Row],[clean Salary (in local currency)]]*VLOOKUP(tblSalaries[[#This Row],[Currency]],tblXrate[],2,FALSE)","v":101990.96564026357},"Purchasing Manager","Manager","Australia",{"$f":"VLOOKUP(tblSalaries[[#This Row],[Where do you work]],tblCountries[[Actual]:[Mapping]],2,FALSE)","v":"Australia"},"2 to 3 hours per day",20,{"$f":"VLOOKUP(K601,tblCountries[],3,0)","v":"Oceania"},{"$f":"VLOOKUP(tblSalaries[[#This Row],[How many hours of a day you work on Excel]],tblHours,2,0)","v":3},{"$f":"VLOOKUP(tblSalaries[[#This Row],[clean Country]],tblCountries[],5,0)","v":1.2026395585822935},{"$f":"IF($Q$1,tblSalaries[[#This Row],[PPP Factor]]*tblSalaries[[#This Row],[Salary in USD]],tblSalaries[[#This Row],[Salary in USD]])","v":101990.96564026357}]
[null,"ID0611","2012-05-26T10:01:28",380000,380000,"INR",{"$f":"tblSalaries[[#This Row],[clean Salary (in local currency)]]*VLOOKUP(tblSalaries[[#This Row],[Currency]],tblXrate[],2,FALSE)","v":6767.0083412281756},"Incharge","Manager","India",{"$f":"VLOOKUP(tblSalaries[[#This Row],[Where do you work]],tblCountries[[Actual]:[Mapping]],2,FALSE)","v":"India"},"4 to 6 hours a day",10,{"$f":"VLOOKUP(K602,tblCountries[],3,0)","v":"Asia"},{"$f":"VLOOKUP(tblSalaries[[#This Row],[How many hours of a day you work on Excel]],tblHours,2,0)","v":4},{"$f":"VLOOKUP(tblSalaries[[#This Row],[clean Country]],tblCountries[],5,0)","v":13.098808879263672},{"$f":"IF($Q$1,tblSalaries[[#This Row],[PPP Factor]]*tblSalaries[[#This Row],[Salary in USD]],tblSalaries[[#This Row],[Salary in USD]])","v":6767.0083412281756}]
[null,"ID0612","2012-05-26T10:20:35",30000,30000,"USD",{"$f":"tblSalaries[[#This Row],[clean Salary (in local currency)]]*VLOOKUP(tblSalaries[[#This Row],[Currency]],tblXrate[],2,FALSE)","v":30000},"Sales Assistant","Analyst","USA",{"$f":"VLOOKUP(tblSalaries[[#This Row],[Where do you work]],tblCountries[[Actual]:[Mapping]],2,FALSE)","v":"USA"},"2 to 3 hours per day",8,{"$f":"VLOOKUP(K603,tblCountries[],3,0)","v":"North Amer."},{"$f":"VLOOKUP(tblSalaries[[#This Row],[How many hours of a day you work on Excel]],tblHours,2,0)","v":3},{"$f":"VLOOKUP(tblSalaries[[#This Row],[clean Country]],tblCountries[],5,0)","v":1},{"$f":"IF($Q$1,tblSalaries[[#This Row],[PPP Factor]]*tblSalaries[[#This Row],[Salary in USD]],tblSalaries[[#This Row],[Salary in USD]])","v":30000}]
[null,"ID0613","2012-05-26T10:22:45","INR 420000",420000,"INR",{"$f":"tblSalaries[[#This Row],[clean Salary (in local currency)]]*VLOOKUP(tblSalaries[[#This Row],[Currency]],tblXrate[],2,FALSE)","v":7479.3250087258784},"Assistant EDP","Analyst","India",{"$f":"VLOOKUP(tblSalaries[[#This Row],[Where do you work]],tblCountries[[Actual]:[Mapping]],2,FALSE)","v":"India"},"4 to 6 hours a day",3,{"$f":"VLOOKUP(K604,tblCountries[],3,0)","v":"Asia"},{"$f":"VLOOKUP(tblSalaries[[#This Row],[How many hours of a day you work on Excel]],tblHours,2,0)","v":4},{"$f":"VLOOKUP(tblSalaries[[#This Row],[clean Country]],tblCountries[],5,0)","v":13.098808879263672},{"$f":"IF($Q$1,tblSalaries[[#This Row],[PPP Factor]]*tblSalaries[[#This Row],[Salary in USD]],tblSalaries[[#This Row],[Salary in USD]])","v":7479.3250087258784}]
[null,"ID0614","2012-05-26T10:31:42",61000,61000,"USD",{"$f":"tblSalaries[[#This Row],[clean Salary (in local currency)]]*VLOOKUP(tblSalaries[[#This Row],[Currency]],tblXrate[],2,FALSE)","v":61000},"Sales ops","Manager","USA",{"$f":"VLOOKUP(tblSalaries[[#This Row],[Where do you work]],tblCountries[[Actual]:[Mapping]],2,FALSE)","v":"USA"},"4 to 6 hours a day",5,{"$f":"VLOOKUP(K605,tblCountries[],3,0)","v":"North Amer."},{"$f":"VLOOKUP(tblSalaries[[#This Row],[How many hours of a day you work on Excel]],tblHours,2,0)","v":4},{"$f":"VLOOKUP(tblSalaries[[#This Row],[clean Country]],tblCountries[],5,0)","v":1},{"$f":"IF($Q$1,tblSalaries[[#This Row],[PPP Factor]]*tblSalaries[[#This Row],[Salary in USD]],tblSalaries[[#This Row],[Salary in USD]])","v":61000}]
[null,"ID0615","2012-05-26T10:32:07","1150 $",13800,"USD",{"$f":"tblSalaries[[#This Row],[clean Salary (in local currency)]]*VLOOKUP(tblSalaries[[#This Row],[Currency]],tblXrate[],2,FALSE)","v":13800},"QS","Controller","Sri Lanka",{"$f":"VLOOKUP(tblSalaries[[#This Row],[Where do you work]],tblCountries[[Actual]:[Mapping]],2,FALSE)","v":"Sri Lanka"},"4 to 6 hours a day",20,{"$f":"VLOOKUP(K606,tblCountries[],3,0)","v":"Asia"},{"$f":"VLOOKUP(tblSalaries[[#This Row],[How many hours of a day you work on Excel]],tblHours,2,0)","v":4},{"$f":"VLOOKUP(tblSalaries[[#This Row],[clean Country]],tblCountries[],5,0)","v":8.5278463165315479},{"$f":"IF($Q$1,tblSalaries[[#This Row],[PPP Factor]]*tblSalaries[[#This Row],[Salary in USD]],tblSalaries[[#This Row],[Salary in USD]])","v":13800}]
[null,"ID0616","2012-05-26T10:41:11","INR 850,000",850000,"INR",{"$f":"tblSalaries[[#This Row],[clean Salary (in local currency)]]*VLOOKUP(tblSalaries[[#This Row],[Currency]],tblXrate[],2,FALSE)","v":15136.729184326183},"Sales Analyst","Analyst","India",{"$f":"VLOOKUP(tblSalaries[[#This Row],[Where do you work]],tblCountries[[Actual]:[Mapping]],2,FALSE)","v":"India"},"4 to 6 hours a day",6,{"$f":"VLOOKUP(K607,tblCountries[],3,0)","v":"Asia"},{"$f":"VLOOKUP(tblSalaries[[#This Row],[How many hours of a day you work on Excel]],tblHours,2,0)","v":4},{"$f":"VLOOKUP(tblSalaries[[#This Row],[clean Country]],tblCountries[],5,0)","v":13.098808879263672},{"$f":"IF($Q$1,tblSalaries[[#This Row],[PPP Factor]]*tblSalaries[[#This Row],[Salary in USD]],tblSalaries[[#This Row],[Salary in USD]])","v":15136.729184326183}]
[null,"ID0617","2012-05-26T10:43:53",1800000,1800000,"INR",{"$f":"tblSalaries[[#This Row],[clean Salary (in local currency)]]*VLOOKUP(tblSalaries[[#This Row],[Currency]],tblXrate[],2,FALSE)","v":32054.250037396621},"AGM Finance","Manager","India",{"$f":"VLOOKUP(tblSalaries[[#This Row],[Where do you work]],tblCountries[[Actual]:[Mapping]],2,FALSE)","v":"India"},"2 to 3 hours per day",10,{"$f":"VLOOKUP(K608,tblCountries[],3,0)","v":"Asia"},{"$f":"VLOOKUP(tblSalaries[[#This Row],[How many hours of a day you work on Excel]],tblHours,2,0)","v":3},{"$f":"VLOOKUP(tblSalaries[[#This Row],[clean Country]],tblCountries[],5,0)","v":13.098808879263672},{"$f":"IF($Q$1,tblSalaries[[#This Row],[PPP Factor]]*tblSalaries[[#This Row],[Salary in USD]],tblSalaries[[#This Row],[Salary in USD]])","v":32054.250037396621}]
[null,"ID0618","2012-05-26T10:51:05",80000,80000,"USD",{"$f":"tblSalaries[[#This Row],[clean Salary (in local currency)]]*VLOOKUP(tblSalaries[[#This Row],[Currency]],tblXrate[],2,FALSE)","v":80000},"Sales Controller","Controller","USA",{"$f":"VLOOKUP(tblSalaries[[#This Row],[Where do you work]],tblCountries[[Actual]:[Mapping]],2,FALSE)","v":"USA"},"4 to 6 hours a day",15,{"$f":"VLOOKUP(K609,tblCountries[],3,0)","v":"North Amer."},{"$f":"VLOOKUP(tblSalaries[[#This Row],[How many hours of a day you work on Excel]],tblHours,2,0)","v":4},{"$f":"VLOOKUP(tblSalaries[[#This Row],[clean Country]],tblCountries[],5,0)","v":1},{"$f":"IF($Q$1,tblSalaries[[#This Row],[PPP Factor]]*tblSalaries[[#This Row],[Salary in USD]],tblSalaries[[#This Row],[Salary in USD]])","v":80000}]
[null,"ID0619","2012-05-26T10:54:22",21000,21000,"USD",{"$f":"tblSalaries[[#This Row],[clean Salary (in local currency)]]*VLOOKUP(tblSalaries[[#This Row],[Currency]],tblXrate[],2,FALSE)","v":21000},"Manager","Manager","India",{"$f":"VLOOKUP(tblSalaries[[#This Row],[Where do you work]],tblCountries[[Actual]:[Mapping]],2,FALSE)","v":"India"},"All the 8 hours baby, all the 8!",23,{"$f":"VLOOKUP(K610,tblCountries[],3,0)","v":"Asia"},{"$f":"VLOOKUP(tblSalaries[[#This Row],[How many hours of a day you work on Excel]],tblHours,2,0)","v":5},{"$f":"VLOOKUP(tblSalaries[[#This Row],[clean Country]],tblCountries[],5,0)","v":13.098808879263672},{"$f":"IF($Q$1,tblSalaries[[#This Row],[PPP Factor]]*tblSalaries[[#This Row],[Salary in USD]],tblSalaries[[#This Row],[Salary in USD]])","v":21000}]
[null,"ID0620","2012-05-26T10:59:10",250000,250000,"CAD",{"$f":"tblSalaries[[#This Row],[clean Salary (in local currency)]]*VLOOKUP(tblSalaries[[#This Row],[Currency]],tblXrate[],2,FALSE)","v":245840.3807575817},"Business Analyst","Analyst","Canada",{"$f":"VLOOKUP(tblSalaries[[#This Row],[Where do you work]],tblCountries[[Actual]:[Mapping]],2,FALSE)","v":"Canada"},"4 to 6 hours a day",32,{"$f":"VLOOKUP(K611,tblCountries[],3,0)","v":"North Amer."},{"$f":"VLOOKUP(tblSalaries[[#This Row],[How many hours of a day you work on Excel]],tblHours,2,0)","v":4},{"$f":"VLOOKUP(tblSalaries[[#This Row],[clean Country]],tblCountries[],5,0)","v":1.1935324732986359},{"$f":"IF($Q$1,tblSalaries[[#This Row],[PPP Factor]]*tblSalaries[[#This Row],[Salary in USD]],tblSalaries[[#This Row],[Salary in USD]])","v":245840.3807575817}]
[null,"ID0621","2012-05-26T10:59:39","1 lakh 60 thousand INR/Year",160000,"INR",{"$f":"tblSalaries[[#This Row],[clean Salary (in local currency)]]*VLOOKUP(tblSalaries[[#This Row],[Currency]],tblXrate[],2,FALSE)","v":2849.2666699908109},"MIS Executive","Reporting","India",{"$f":"VLOOKUP(tblSalaries[[#This Row],[Where do you work]],tblCountries[[Actual]:[Mapping]],2,FALSE)","v":"India"},"All the 8 hours baby, all the 8!",3,{"$f":"VLOOKUP(K612,tblCountries[],3,0)","v":"Asia"},{"$f":"VLOOKUP(tblSalaries[[#This Row],[How many hours of a day you work on Excel]],tblHours,2,0)","v":5},{"$f":"VLOOKUP(tblSalaries[[#This Row],[clean Country]],tblCountries[],5,0)","v":13.098808879263672},{"$f":"IF($Q$1,tblSalaries[[#This Row],[PPP Factor]]*tblSalaries[[#This Row],[Salary in USD]],tblSalaries[[#This Row],[Salary in USD]])","v":2849.2666699908109}]
[null,"ID0622","2012-05-26T11:01:56",700,8400,"USD",{"$f":"tblSalaries[[#This Row],[clean Salary (in local currency)]]*VLOOKUP(tblSalaries[[#This Row],[Currency]],tblXrate[],2,FALSE)","v":8400},"SYSTEM MANAGER","Manager","India",{"$f":"VLOOKUP(tblSalaries[[#This Row],[Where do you work]],tblCountries[[Actual]:[Mapping]],2,FALSE)","v":"India"},"All the 8 hours baby, all the 8!",26,{"$f":"VLOOKUP(K613,tblCountries[],3,0)","v":"Asia"},{"$f":"VLOOKUP(tblSalaries[[#This Row],[How many hours of a day you work on Excel]],tblHours,2,0)","v":5},{"$f":"VLOOKUP(tblSalaries[[#This Row],[clean Country]],tblCountries[],5,0)","v":13.098808879263672},{"$f":"IF($Q$1,tblSalaries[[#This Row],[PPP Factor]]*tblSalaries[[#This Row],[Salary in USD]],tblSalaries[[#This Row],[Salary in USD]])","v":8400}]
[null,"ID0623","2012-05-26T11:03:02","A$85000",85000,"AUD",{"$f":"tblSalaries[[#This Row],[clean Salary (in local currency)]]*VLOOKUP(tblSalaries[[#This Row],[Currency]],tblXrate[],2,FALSE)","v":86692.320794224041},"Trainer","Consultant","Australia",{"$f":"VLOOKUP(tblSalaries[[#This Row],[Where do you work]],tblCountries[[Actual]:[Mapping]],2,FALSE)","v":"Australia"},"1 or 2 hours a day",20,{"$f":"VLOOKUP(K614,tblCountries[],3,0)","v":"Oceania"},{"$f":"VLOOKUP(tblSalaries[[#This Row],[How many hours of a day you work on Excel]],tblHours,2,0)","v":2},{"$f":"VLOOKUP(tblSalaries[[#This Row],[clean Country]],tblCountries[],5,0)","v":1.2026395585822935},{"$f":"IF($Q$1,tblSalaries[[#This Row],[PPP Factor]]*tblSalaries[[#This Row],[Salary in USD]],tblSalaries[[#This Row],[Salary in USD]])","v":86692.320794224041}]
[null,"ID0624","2012-05-26T11:03:06",50000,50000,"USD",{"$f":"tblSalaries[[#This Row],[clean Salary (in local currency)]]*VLOOKUP(tblSalaries[[#This Row],[Currency]],tblXrate[],2,FALSE)","v":50000},"Project coordinator","Manager","USA",{"$f":"VLOOKUP(tblSalaries[[#This Row],[Where do you work]],tblCountries[[Actual]:[Mapping]],2,FALSE)","v":"USA"},"4 to 6 hours a day",20,{"$f":"VLOOKUP(K615,tblCountries[],3,0)","v":"North Amer."},{"$f":"VLOOKUP(tblSalaries[[#This Row],[How many hours of a day you work on Excel]],tblHours,2,0)","v":4},{"$f":"VLOOKUP(tblSalaries[[#This Row],[clean Country]],tblCountries[],5,0)","v":1},{"$f":"IF($Q$1,tblSalaries[[#This Row],[PPP Factor]]*tblSalaries[[#This Row],[Salary in USD]],tblSalaries[[#This Row],[Salary in USD]])","v":50000}]
[null,"ID0625","2012-05-26T11:03:48",4000,4000,"USD",{"$f":"tblSalaries[[#This Row],[clean Salary (in local currency)]]*VLOOKUP(tblSalaries[[#This Row],[Currency]],tblXrate[],2,FALSE)","v":4000},"MIS Executive","Reporting","India",{"$f":"VLOOKUP(tblSalaries[[#This Row],[Where do you work]],tblCountries[[Actual]:[Mapping]],2,FALSE)","v":"India"},"All the 8 hours baby, all the 8!",6,{"$f":"VLOOKUP(K616,tblCountries[],3,0)","v":"Asia"},{"$f":"VLOOKUP(tblSalaries[[#This Row],[How many hours of a day you work on Excel]],tblHours,2,0)","v":5},{"$f":"VLOOKUP(tblSalaries[[#This Row],[clean Country]],tblCountries[],5,0)","v":13.098808879263672},{"$f":"IF($Q$1,tblSalaries[[#This Row],[PPP Factor]]*tblSalaries[[#This Row],[Salary in USD]],tblSalaries[[#This Row],[Salary in USD]])","v":4000}]
[null,"ID0626","2012-05-26T11:05:45",100000,100000,"AUD",{"$f":"tblSalaries[[#This Row],[clean Salary (in local currency)]]*VLOOKUP(tblSalaries[[#This Row],[Currency]],tblXrate[],2,FALSE)","v":101990.96564026357},"Business Analyst","Analyst","Australia",{"$f":"VLOOKUP(tblSalaries[[#This Row],[Where do you work]],tblCountries[[Actual]:[Mapping]],2,FALSE)","v":"Australia"},"All the 8 hours baby, all the 8!",1,{"$f":"VLOOKUP(K617,tblCountries[],3,0)","v":"Oceania"},{"$f":"VLOOKUP(tblSalaries[[#This Row],[How many hours of a day you work on Excel]],tblHours,2,0)","v":5},{"$f":"VLOOKUP(tblSalaries[[#This Row],[clean Country]],tblCountries[],5,0)","v":1.2026395585822935},{"$f":"IF($Q$1,tblSalaries[[#This Row],[PPP Factor]]*tblSalaries[[#This Row],[Salary in USD]],tblSalaries[[#This Row],[Salary in USD]])","v":101990.96564026357}]
[null,"ID0627","2012-05-26T11:05:58",95000,95000,"USD",{"$f":"tblSalaries[[#This Row],[clean Salary (in local currency)]]*VLOOKUP(tblSalaries[[#This Row],[Currency]],tblXrate[],2,FALSE)","v":95000},"Program Manager","Manager","USA",{"$f":"VLOOKUP(tblSalaries[[#This Row],[Where do you work]],tblCountries[[Actual]:[Mapping]],2,FALSE)","v":"USA"},"1 or 2 hours a day",10,{"$f":"VLOOKUP(K618,tblCountries[],3,0)","v":"North Amer."},{"$f":"VLOOKUP(tblSalaries[[#This Row],[How many hours of a day you work on Excel]],tblHours,2,0)","v":2},{"$f":"VLOOKUP(tblSalaries[[#This Row],[clean Country]],tblCountries[],5,0)","v":1},{"$f":"IF($Q$1,tblSalaries[[#This Row],[PPP Factor]]*tblSalaries[[#This Row],[Salary in USD]],tblSalaries[[#This Row],[Salary in USD]])","v":95000}]
[null,"ID0628","2012-05-26T11:07:01",10000,10000,"USD",{"$f":"tblSalaries[[#This Row],[clean Salary (in local currency)]]*VLOOKUP(tblSalaries[[#This Row],[Currency]],tblXrate[],2,FALSE)","v":10000},"executive","Manager","Indonesia",{"$f":"VLOOKUP(tblSalaries[[#This Row],[Where do you work]],tblCountries[[Actual]:[Mapping]],2,FALSE)","v":"Indonesia"},"2 to 3 hours per day",5,{"$f":"VLOOKUP(K619,tblCountries[],3,0)","v":"Asia"},{"$f":"VLOOKUP(tblSalaries[[#This Row],[How many hours of a day you work on Excel]],tblHours,2,0)","v":3},{"$f":"VLOOKUP(tblSalaries[[#This Row],[clean Country]],tblCountries[],5,0)","v":10.370124303471924},{"$f":"IF($Q$1,tblSalaries[[#This Row],[PPP Factor]]*tblSalaries[[#This Row],[Salary in USD]],tblSalaries[[#This Row],[Salary in USD]])","v":10000}]
[null,"ID0629","2012-05-26T11:09:27",4200,4200,"USD",{"$f":"tblSalaries[[#This Row],[clean Salary (in local currency)]]*VLOOKUP(tblSalaries[[#This Row],[Currency]],tblXrate[],2,FALSE)","v":4200},"MIS Executive","Reporting","India",{"$f":"VLOOKUP(tblSalaries[[#This Row],[Where do you work]],tblCountries[[Actual]:[Mapping]],2,FALSE)","v":"India"},"All the 8 hours baby, all the 8!",4,{"$f":"VLOOKUP(K620,tblCountries[],3,0)","v":"Asia"},{"$f":"VLOOKUP(tblSalaries[[#This Row],[How many hours of a day you work on Excel]],tblHours,2,0)","v":5},{"$f":"VLOOKUP(tblSalaries[[#This Row],[clean Country]],tblCountries[],5,0)","v":13.098808879263672},{"$f":"IF($Q$1,tblSalaries[[#This Row],[PPP Factor]]*tblSalaries[[#This Row],[Salary in USD]],tblSalaries[[#This Row],[Salary in USD]])","v":4200}]
[null,"ID0630","2012-05-26T11:10:23","Rs60000",720000,"INR",{"$f":"tblSalaries[[#This Row],[clean Salary (in local currency)]]*VLOOKUP(tblSalaries[[#This Row],[Currency]],tblXrate[],2,FALSE)","v":12821.700014958649},"Quantity Surveyor","Manager","India",{"$f":"VLOOKUP(tblSalaries[[#This Row],[Where do you work]],tblCountries[[Actual]:[Mapping]],2,FALSE)","v":"India"},"4 to 6 hours a day",12,{"$f":"VLOOKUP(K621,tblCountries[],3,0)","v":"Asia"},{"$f":"VLOOKUP(tblSalaries[[#This Row],[How many hours of a day you work on Excel]],tblHours,2,0)","v":4},{"$f":"VLOOKUP(tblSalaries[[#This Row],[clean Country]],tblCountries[],5,0)","v":13.098808879263672},{"$f":"IF($Q$1,tblSalaries[[#This Row],[PPP Factor]]*tblSalaries[[#This Row],[Salary in USD]],tblSalaries[[#This Row],[Salary in USD]])","v":12821.700014958649}]
[null,"ID0631","2012-05-26T11:17:56",39000,39000,"USD",{"$f":"tblSalaries[[#This Row],[clean Salary (in local currency)]]*VLOOKUP(tblSalaries[[#This Row],[Currency]],tblXrate[],2,FALSE)","v":39000},"Content Analyst ","Analyst","USA",{"$f":"VLOOKUP(tblSalaries[[#This Row],[Where do you work]],tblCountries[[Actual]:[Mapping]],2,FALSE)","v":"USA"},"All the 8 hours baby, all the 8!",3,{"$f":"VLOOKUP(K622,tblCountries[],3,0)","v":"North Amer."},{"$f":"VLOOKUP(tblSalaries[[#This Row],[How many hours of a day you work on Excel]],tblHours,2,0)","v":5},{"$f":"VLOOKUP(tblSalaries[[#This Row],[clean Country]],tblCountries[],5,0)","v":1},{"$f":"IF($Q$1,tblSalaries[[#This Row],[PPP Factor]]*tblSalaries[[#This Row],[Salary in USD]],tblSalaries[[#This Row],[Salary in USD]])","v":39000}]
[null,"ID0632","2012-05-26T11:26:46",60000,60000,"USD",{"$f":"tblSalaries[[#This Row],[clean Salary (in local currency)]]*VLOOKUP(tblSalaries[[#This Row],[Currency]],tblXrate[],2,FALSE)","v":60000},"business analyst","Analyst","USA",{"$f":"VLOOKUP(tblSalaries[[#This Row],[Where do you work]],tblCountries[[Actual]:[Mapping]],2,FALSE)","v":"USA"},"4 to 6 hours a day",12,{"$f":"VLOOKUP(K623,tblCountries[],3,0)","v":"North Amer."},{"$f":"VLOOKUP(tblSalaries[[#This Row],[How many hours of a day you work on Excel]],tblHours,2,0)","v":4},{"$f":"VLOOKUP(tblSalaries[[#This Row],[clean Country]],tblCountries[],5,0)","v":1},{"$f":"IF($Q$1,tblSalaries[[#This Row],[PPP Factor]]*tblSalaries[[#This Row],[Salary in USD]],tblSalaries[[#This Row],[Salary in USD]])","v":60000}]
[null,"ID0633","2012-05-26T11:30:39","A$170000",170000,"AUD",{"$f":"tblSalaries[[#This Row],[clean Salary (in local currency)]]*VLOOKUP(tblSalaries[[#This Row],[Currency]],tblXrate[],2,FALSE)","v":173384.64158844808},"senior business analyst","Analyst","Australia",{"$f":"VLOOKUP(tblSalaries[[#This Row],[Where do you work]],tblCountries[[Actual]:[Mapping]],2,FALSE)","v":"Australia"},"All the 8 hours baby, all the 8!",10,{"$f":"VLOOKUP(K624,tblCountries[],3,0)","v":"Oceania"},{"$f":"VLOOKUP(tblSalaries[[#This Row],[How many hours of a day you work on Excel]],tblHours,2,0)","v":5},{"$f":"VLOOKUP(tblSalaries[[#This Row],[clean Country]],tblCountries[],5,0)","v":1.2026395585822935},{"$f":"IF($Q$1,tblSalaries[[#This Row],[PPP Factor]]*tblSalaries[[#This Row],[Salary in USD]],tblSalaries[[#This Row],[Salary in USD]])","v":173384.64158844808}]
[null,"ID0634","2012-05-26T11:31:08",125000,125000,"USD",{"$f":"tblSalaries[[#This Row],[clean Salary (in local currency)]]*VLOOKUP(tblSalaries[[#This Row],[Currency]],tblXrate[],2,FALSE)","v":125000},"Analyst","Analyst","USA",{"$f":"VLOOKUP(tblSalaries[[#This Row],[Where do you work]],tblCountries[[Actual]:[Mapping]],2,FALSE)","v":"USA"},"2 to 3 hours per day",20,{"$f":"VLOOKUP(K625,tblCountries[],3,0)","v":"North Amer."},{"$f":"VLOOKUP(tblSalaries[[#This Row],[How many hours of a day you work on Excel]],tblHours,2,0)","v":3},{"$f":"VLOOKUP(tblSalaries[[#This Row],[clean Country]],tblCountries[],5,0)","v":1},{"$f":"IF($Q$1,tblSalaries[[#This Row],[PPP Factor]]*tblSalaries[[#This Row],[Salary in USD]],tblSalaries[[#This Row],[Salary in USD]])","v":125000}]
[null,"ID0635","2012-05-26T11:31:52",78000,78000,"AUD",{"$f":"tblSalaries[[#This Row],[clean Salary (in local currency)]]*VLOOKUP(tblSalaries[[#This Row],[Currency]],tblXrate[],2,FALSE)","v":79552.953199405587},"Corporate Accountant","Accountant","Australia",{"$f":"VLOOKUP(tblSalaries[[#This Row],[Where do you work]],tblCountries[[Actual]:[Mapping]],2,FALSE)","v":"Australia"},"All the 8 hours baby, all the 8!",4,{"$f":"VLOOKUP(K626,tblCountries[],3,0)","v":"Oceania"},{"$f":"VLOOKUP(tblSalaries[[#This Row],[How many hours of a day you work on Excel]],tblHours,2,0)","v":5},{"$f":"VLOOKUP(tblSalaries[[#This Row],[clean Country]],tblCountries[],5,0)","v":1.2026395585822935},{"$f":"IF($Q$1,tblSalaries[[#This Row],[PPP Factor]]*tblSalaries[[#This Row],[Salary in USD]],tblSalaries[[#This Row],[Salary in USD]])","v":79552.953199405587}]
[null,"ID0636","2012-05-26T11:36:04","Rs. 200000",200000,"INR",{"$f":"tblSalaries[[#This Row],[clean Salary (in local currency)]]*VLOOKUP(tblSalaries[[#This Row],[Currency]],tblXrate[],2,FALSE)","v":3561.5833374885137},"Auditor","Accountant","India",{"$f":"VLOOKUP(tblSalaries[[#This Row],[Where do you work]],tblCountries[[Actual]:[Mapping]],2,FALSE)","v":"India"},"4 to 6 hours a day",3,{"$f":"VLOOKUP(K627,tblCountries[],3,0)","v":"Asia"},{"$f":"VLOOKUP(tblSalaries[[#This Row],[How many hours of a day you work on Excel]],tblHours,2,0)","v":4},{"$f":"VLOOKUP(tblSalaries[[#This Row],[clean Country]],tblCountries[],5,0)","v":13.098808879263672},{"$f":"IF($Q$1,tblSalaries[[#This Row],[PPP Factor]]*tblSalaries[[#This Row],[Salary in USD]],tblSalaries[[#This Row],[Salary in USD]])","v":3561.5833374885137}]
[null,"ID0637","2012-05-26T11:37:26",80000,80000,"USD",{"$f":"tblSalaries[[#This Row],[clean Salary (in local currency)]]*VLOOKUP(tblSalaries[[#This Row],[Currency]],tblXrate[],2,FALSE)","v":80000},"program coordinator - automotive","Manager","USA",{"$f":"VLOOKUP(tblSalaries[[#This Row],[Where do you work]],tblCountries[[Actual]:[Mapping]],2,FALSE)","v":"USA"},"4 to 6 hours a day",8,{"$f":"VLOOKUP(K628,tblCountries[],3,0)","v":"North Amer."},{"$f":"VLOOKUP(tblSalaries[[#This Row],[How many hours of a day you work on Excel]],tblHours,2,0)","v":4},{"$f":"VLOOKUP(tblSalaries[[#This Row],[clean Country]],tblCountries[],5,0)","v":1},{"$f":"IF($Q$1,tblSalaries[[#This Row],[PPP Factor]]*tblSalaries[[#This Row],[Salary in USD]],tblSalaries[[#This Row],[Salary in USD]])","v":80000}]
[null,"ID0638","2012-05-26T11:37:53",600000,600000,"INR",{"$f":"tblSalaries[[#This Row],[clean Salary (in local currency)]]*VLOOKUP(tblSalaries[[#This Row],[Currency]],tblXrate[],2,FALSE)","v":10684.750012465542},"Financial Analyst","Analyst","India",{"$f":"VLOOKUP(tblSalaries[[#This Row],[Where do you work]],tblCountries[[Actual]:[Mapping]],2,FALSE)","v":"India"},"2 to 3 hours per day",3,{"$f":"VLOOKUP(K629,tblCountries[],3,0)","v":"Asia"},{"$f":"VLOOKUP(tblSalaries[[#This Row],[How many hours of a day you work on Excel]],tblHours,2,0)","v":3},{"$f":"VLOOKUP(tblSalaries[[#This Row],[clean Country]],tblCountries[],5,0)","v":13.098808879263672},{"$f":"IF($Q$1,tblSalaries[[#This Row],[PPP Factor]]*tblSalaries[[#This Row],[Salary in USD]],tblSalaries[[#This Row],[Salary in USD]])","v":10684.750012465542}]
[null,"ID0639","2012-05-26T11:39:48","Rs 300000",300000,"INR",{"$f":"tblSalaries[[#This Row],[clean Salary (in local currency)]]*VLOOKUP(tblSalaries[[#This Row],[Currency]],tblXrate[],2,FALSE)","v":5342.3750062327708},"Planning Engineer","Engineer","India",{"$f":"VLOOKUP(tblSalaries[[#This Row],[Where do you work]],tblCountries[[Actual]:[Mapping]],2,FALSE)","v":"India"},"All the 8 hours baby, all the 8!",2,{"$f":"VLOOKUP(K630,tblCountries[],3,0)","v":"Asia"},{"$f":"VLOOKUP(tblSalaries[[#This Row],[How many hours of a day you work on Excel]],tblHours,2,0)","v":5},{"$f":"VLOOKUP(tblSalaries[[#This Row],[clean Country]],tblCountries[],5,0)","v":13.098808879263672},{"$f":"IF($Q$1,tblSalaries[[#This Row],[PPP Factor]]*tblSalaries[[#This Row],[Salary in USD]],tblSalaries[[#This Row],[Salary in USD]])","v":5342.3750062327708}]
[null,"ID0640","2012-05-26T11:40:34","4000000 INR",4000000,"INR",{"$f":"tblSalaries[[#This Row],[clean Salary (in local currency)]]*VLOOKUP(tblSalaries[[#This Row],[Currency]],tblXrate[],2,FALSE)","v":71231.666749770273},"Senior Executive","Manager","India",{"$f":"VLOOKUP(tblSalaries[[#This Row],[Where do you work]],tblCountries[[Actual]:[Mapping]],2,FALSE)","v":"India"},"4 to 6 hours a day",1.5,{"$f":"VLOOKUP(K631,tblCountries[],3,0)","v":"Asia"},{"$f":"VLOOKUP(tblSalaries[[#This Row],[How many hours of a day you work on Excel]],tblHours,2,0)","v":4},{"$f":"VLOOKUP(tblSalaries[[#This Row],[clean Country]],tblCountries[],5,0)","v":13.098808879263672},{"$f":"IF($Q$1,tblSalaries[[#This Row],[PPP Factor]]*tblSalaries[[#This Row],[Salary in USD]],tblSalaries[[#This Row],[Salary in USD]])","v":71231.666749770273}]
[null,"ID0641","2012-05-26T11:45:37","4500000 inr/pa",4500000,"INR",{"$f":"tblSalaries[[#This Row],[clean Salary (in local currency)]]*VLOOKUP(tblSalaries[[#This Row],[Currency]],tblXrate[],2,FALSE)","v":80135.625093491559},"cmo","CXO or Top Mgmt.","India",{"$f":"VLOOKUP(tblSalaries[[#This Row],[Where do you work]],tblCountries[[Actual]:[Mapping]],2,FALSE)","v":"India"},"1 or 2 hours a day",6,{"$f":"VLOOKUP(K632,tblCountries[],3,0)","v":"Asia"},{"$f":"VLOOKUP(tblSalaries[[#This Row],[How many hours of a day you work on Excel]],tblHours,2,0)","v":2},{"$f":"VLOOKUP(tblSalaries[[#This Row],[clean Country]],tblCountries[],5,0)","v":13.098808879263672},{"$f":"IF($Q$1,tblSalaries[[#This Row],[PPP Factor]]*tblSalaries[[#This Row],[Salary in USD]],tblSalaries[[#This Row],[Salary in USD]])","v":80135.625093491559}]
[null,"ID0642","2012-05-26T11:46:20",55000,55000,"CAD",{"$f":"tblSalaries[[#This Row],[clean Salary (in local currency)]]*VLOOKUP(tblSalaries[[#This Row],[Currency]],tblXrate[],2,FALSE)","v":54084.883766667976},"Project coordinator","Manager","Canada",{"$f":"VLOOKUP(tblSalaries[[#This Row],[Where do you work]],tblCountries[[Actual]:[Mapping]],2,FALSE)","v":"Canada"},"4 to 6 hours a day",5,{"$f":"VLOOKUP(K633,tblCountries[],3,0)","v":"North Amer."},{"$f":"VLOOKUP(tblSalaries[[#This Row],[How many hours of a day you work on Excel]],tblHours,2,0)","v":4},{"$f":"VLOOKUP(tblSalaries[[#This Row],[clean Country]],tblCountries[],5,0)","v":1.1935324732986359},{"$f":"IF($Q$1,tblSalaries[[#This Row],[PPP Factor]]*tblSalaries[[#This Row],[Salary in USD]],tblSalaries[[#This Row],[Salary in USD]])","v":54084.883766667976}]
[null,"ID0643","2012-05-26T11:47:18",53000,53000,"USD",{"$f":"tblSalaries[[#This Row],[clean Salary (in local currency)]]*VLOOKUP(tblSalaries[[#This Row],[Currency]],tblXrate[],2,FALSE)","v":53000},"Financial Analyst","Analyst","USA",{"$f":"VLOOKUP(tblSalaries[[#This Row],[Where do you work]],tblCountries[[Actual]:[Mapping]],2,FALSE)","v":"USA"},"4 to 6 hours a day",30,{"$f":"VLOOKUP(K634,tblCountries[],3,0)","v":"North Amer."},{"$f":"VLOOKUP(tblSalaries[[#This Row],[How many hours of a day you work on Excel]],tblHours,2,0)","v":4},{"$f":"VLOOKUP(tblSalaries[[#This Row],[clean Country]],tblCountries[],5,0)","v":1},{"$f":"IF($Q$1,tblSalaries[[#This Row],[PPP Factor]]*tblSalaries[[#This Row],[Salary in USD]],tblSalaries[[#This Row],[Salary in USD]])","v":53000}]
[null,"ID0644","2012-05-26T11:47:38","25000 INR",300000,"INR",{"$f":"tblSalaries[[#This Row],[clean Salary (in local currency)]]*VLOOKUP(tblSalaries[[#This Row],[Currency]],tblXrate[],2,FALSE)","v":5342.3750062327708},"MIS","Reporting","India",{"$f":"VLOOKUP(tblSalaries[[#This Row],[Where do you work]],tblCountries[[Actual]:[Mapping]],2,FALSE)","v":"India"},"4 to 6 hours a day",1,{"$f":"VLOOKUP(K635,tblCountries[],3,0)","v":"Asia"},{"$f":"VLOOKUP(tblSalaries[[#This Row],[How many hours of a day you work on Excel]],tblHours,2,0)","v":4},{"$f":"VLOOKUP(tblSalaries[[#This Row],[clean Country]],tblCountries[],5,0)","v":13.098808879263672},{"$f":"IF($Q$1,tblSalaries[[#This Row],[PPP Factor]]*tblSalaries[[#This Row],[Salary in USD]],tblSalaries[[#This Row],[Salary in USD]])","v":5342.3750062327708}]
[null,"ID0645","2012-05-26T11:50:03","Rs 4,00,000",400000,"INR",{"$f":"tblSalaries[[#This Row],[clean Salary (in local currency)]]*VLOOKUP(tblSalaries[[#This Row],[Currency]],tblXrate[],2,FALSE)","v":7123.1666749770275},"Sr Processor","Manager","India",{"$f":"VLOOKUP(tblSalaries[[#This Row],[Where do you work]],tblCountries[[Actual]:[Mapping]],2,FALSE)","v":"India"},"1 or 2 hours a day",5,{"$f":"VLOOKUP(K636,tblCountries[],3,0)","v":"Asia"},{"$f":"VLOOKUP(tblSalaries[[#This Row],[How many hours of a day you work on Excel]],tblHours,2,0)","v":2},{"$f":"VLOOKUP(tblSalaries[[#This Row],[clean Country]],tblCountries[],5,0)","v":13.098808879263672},{"$f":"IF($Q$1,tblSalaries[[#This Row],[PPP Factor]]*tblSalaries[[#This Row],[Salary in USD]],tblSalaries[[#This Row],[Salary in USD]])","v":7123.1666749770275}]
[null,"ID0646","2012-05-26T11:50:34","6,00,000",600000,"INR",{"$f":"tblSalaries[[#This Row],[clean Salary (in local currency)]]*VLOOKUP(tblSalaries[[#This Row],[Currency]],tblXrate[],2,FALSE)","v":10684.750012465542},"Organiser","Manager","India",{"$f":"VLOOKUP(tblSalaries[[#This Row],[Where do you work]],tblCountries[[Actual]:[Mapping]],2,FALSE)","v":"India"},"4 to 6 hours a day",11,{"$f":"VLOOKUP(K637,tblCountries[],3,0)","v":"Asia"},{"$f":"VLOOKUP(tblSalaries[[#This Row],[How many hours of a day you work on Excel]],tblHours,2,0)","v":4},{"$f":"VLOOKUP(tblSalaries[[#This Row],[clean Country]],tblCountries[],5,0)","v":13.098808879263672},{"$f":"IF($Q$1,tblSalaries[[#This Row],[PPP Factor]]*tblSalaries[[#This Row],[Salary in USD]],tblSalaries[[#This Row],[Salary in USD]])","v":10684.750012465542}]
[null,"ID0647","2012-05-26T11:55:17",4000,4000,"USD",{"$f":"tblSalaries[[#This Row],[clean Salary (in local currency)]]*VLOOKUP(tblSalaries[[#This Row],[Currency]],tblXrate[],2,FALSE)","v":4000},"MIS Executive","Reporting","India",{"$f":"VLOOKUP(tblSalaries[[#This Row],[Where do you work]],tblCountries[[Actual]:[Mapping]],2,FALSE)","v":"India"},"All the 8 hours baby, all the 8!",4,{"$f":"VLOOKUP(K638,tblCountries[],3,0)","v":"Asia"},{"$f":"VLOOKUP(tblSalaries[[#This Row],[How many hours of a day you work on Excel]],tblHours,2,0)","v":5},{"$f":"VLOOKUP(tblSalaries[[#This Row],[clean Country]],tblCountries[],5,0)","v":13.098808879263672},{"$f":"IF($Q$1,tblSalaries[[#This Row],[PPP Factor]]*tblSalaries[[#This Row],[Salary in USD]],tblSalaries[[#This Row],[Salary in USD]])","v":4000}]
[null,"ID0648","2012-05-26T11:58:23",8000,8000,"USD",{"$f":"tblSalaries[[#This Row],[clean Salary (in local currency)]]*VLOOKUP(tblSalaries[[#This Row],[Currency]],tblXrate[],2,FALSE)","v":8000},"Quality officer","Manager","bangkok",{"$f":"VLOOKUP(tblSalaries[[#This Row],[Where do you work]],tblCountries[[Actual]:[Mapping]],2,FALSE)","v":"Thailand"},"All the 8 hours baby, all the 8!",1,{"$f":"VLOOKUP(K639,tblCountries[],3,0)","v":"Asia"},{"$f":"VLOOKUP(tblSalaries[[#This Row],[How many hours of a day you work on Excel]],tblHours,2,0)","v":5},{"$f":"VLOOKUP(tblSalaries[[#This Row],[clean Country]],tblCountries[],5,0)","v":5.1497445721583652},{"$f":"IF($Q$1,tblSalaries[[#This Row],[PPP Factor]]*tblSalaries[[#This Row],[Salary in USD]],tblSalaries[[#This Row],[Salary in USD]])","v":8000}]
[null,"ID0649","2012-05-26T12:05:35",150000,150000,"INR",{"$f":"tblSalaries[[#This Row],[clean Salary (in local currency)]]*VLOOKUP(tblSalaries[[#This Row],[Currency]],tblXrate[],2,FALSE)","v":2671.1875031163854},"Executive","Manager","India",{"$f":"VLOOKUP(tblSalaries[[#This Row],[Where do you work]],tblCountries[[Actual]:[Mapping]],2,FALSE)","v":"India"},"2 to 3 hours per day",5,{"$f":"VLOOKUP(K640,tblCountries[],3,0)","v":"Asia"},{"$f":"VLOOKUP(tblSalaries[[#This Row],[How many hours of a day you work on Excel]],tblHours,2,0)","v":3},{"$f":"VLOOKUP(tblSalaries[[#This Row],[clean Country]],tblCountries[],5,0)","v":13.098808879263672},{"$f":"IF($Q$1,tblSalaries[[#This Row],[PPP Factor]]*tblSalaries[[#This Row],[Salary in USD]],tblSalaries[[#This Row],[Salary in USD]])","v":2671.1875031163854}]
[null,"ID0650","2012-05-26T12:14:07","Rs 800000",800000,"INR",{"$f":"tblSalaries[[#This Row],[clean Salary (in local currency)]]*VLOOKUP(tblSalaries[[#This Row],[Currency]],tblXrate[],2,FALSE)","v":14246.333349954055},"Engineer","Engineer","India",{"$f":"VLOOKUP(tblSalaries[[#This Row],[Where do you work]],tblCountries[[Actual]:[Mapping]],2,FALSE)","v":"India"},"2 to 3 hours per day",3,{"$f":"VLOOKUP(K641,tblCountries[],3,0)","v":"Asia"},{"$f":"VLOOKUP(tblSalaries[[#This Row],[How many hours of a day you work on Excel]],tblHours,2,0)","v":3},{"$f":"VLOOKUP(tblSalaries[[#This Row],[clean Country]],tblCountries[],5,0)","v":13.098808879263672},{"$f":"IF($Q$1,tblSalaries[[#This Row],[PPP Factor]]*tblSalaries[[#This Row],[Salary in USD]],tblSalaries[[#This Row],[Salary in USD]])","v":14246.333349954055}]
[null,"ID0651","2012-05-26T12:17:01",480000,480000,"INR",{"$f":"tblSalaries[[#This Row],[clean Salary (in local currency)]]*VLOOKUP(tblSalaries[[#This Row],[Currency]],tblXrate[],2,FALSE)","v":8547.8000099724322},"BI Consultant","Reporting","India",{"$f":"VLOOKUP(tblSalaries[[#This Row],[Where do you work]],tblCountries[[Actual]:[Mapping]],2,FALSE)","v":"India"},"1 or 2 hours a day",3,{"$f":"VLOOKUP(K642,tblCountries[],3,0)","v":"Asia"},{"$f":"VLOOKUP(tblSalaries[[#This Row],[How many hours of a day you work on Excel]],tblHours,2,0)","v":2},{"$f":"VLOOKUP(tblSalaries[[#This Row],[clean Country]],tblCountries[],5,0)","v":13.098808879263672},{"$f":"IF($Q$1,tblSalaries[[#This Row],[PPP Factor]]*tblSalaries[[#This Row],[Salary in USD]],tblSalaries[[#This Row],[Salary in USD]])","v":8547.8000099724322}]
[null,"ID0652","2012-05-26T12:19:47","Rs. 4.32 Lakhs",432000,"INR",{"$f":"tblSalaries[[#This Row],[clean Salary (in local currency)]]*VLOOKUP(tblSalaries[[#This Row],[Currency]],tblXrate[],2,FALSE)","v":7693.0200089751897},"Assistant Manager - IT","Manager","India",{"$f":"VLOOKUP(tblSalaries[[#This Row],[Where do you work]],tblCountries[[Actual]:[Mapping]],2,FALSE)","v":"India"},"2 to 3 hours per day",5,{"$f":"VLOOKUP(K643,tblCountries[],3,0)","v":"Asia"},{"$f":"VLOOKUP(tblSalaries[[#This Row],[How many hours of a day you work on Excel]],tblHours,2,0)","v":3},{"$f":"VLOOKUP(tblSalaries[[#This Row],[clean Country]],tblCountries[],5,0)","v":13.098808879263672},{"$f":"IF($Q$1,tblSalaries[[#This Row],[PPP Factor]]*tblSalaries[[#This Row],[Salary in USD]],tblSalaries[[#This Row],[Salary in USD]])","v":7693.0200089751897}]
[null,"ID0653","2012-05-26T12:19:53",4000,4000,"USD",{"$f":"tblSalaries[[#This Row],[clean Salary (in local currency)]]*VLOOKUP(tblSalaries[[#This Row],[Currency]],tblXrate[],2,FALSE)","v":4000},"Coordinator","Manager","India",{"$f":"VLOOKUP(tblSalaries[[#This Row],[Where do you work]],tblCountries[[Actual]:[Mapping]],2,FALSE)","v":"India"},"All the 8 hours baby, all the 8!",8,{"$f":"VLOOKUP(K644,tblCountries[],3,0)","v":"Asia"},{"$f":"VLOOKUP(tblSalaries[[#This Row],[How many hours of a day you work on Excel]],tblHours,2,0)","v":5},{"$f":"VLOOKUP(tblSalaries[[#This Row],[clean Country]],tblCountries[],5,0)","v":13.098808879263672},{"$f":"IF($Q$1,tblSalaries[[#This Row],[PPP Factor]]*tblSalaries[[#This Row],[Salary in USD]],tblSalaries[[#This Row],[Salary in USD]])","v":4000}]
[null,"ID0654","2012-05-26T12:20:07",450,5400,"USD",{"$f":"tblSalaries[[#This Row],[clean Salary (in local currency)]]*VLOOKUP(tblSalaries[[#This Row],[Currency]],tblXrate[],2,FALSE)","v":5400},"manager","Manager","India",{"$f":"VLOOKUP(tblSalaries[[#This Row],[Where do you work]],tblCountries[[Actual]:[Mapping]],2,FALSE)","v":"India"},"All the 8 hours baby, all the 8!",3,{"$f":"VLOOKUP(K645,tblCountries[],3,0)","v":"Asia"},{"$f":"VLOOKUP(tblSalaries[[#This Row],[How many hours of a day you work on Excel]],tblHours,2,0)","v":5},{"$f":"VLOOKUP(tblSalaries[[#This Row],[clean Country]],tblCountries[],5,0)","v":13.098808879263672},{"$f":"IF($Q$1,tblSalaries[[#This Row],[PPP Factor]]*tblSalaries[[#This Row],[Salary in USD]],tblSalaries[[#This Row],[Salary in USD]])","v":5400}]
[null,"ID0655","2012-05-26T12:23:14",10500000,10500000,"INR",{"$f":"tblSalaries[[#This Row],[clean Salary (in local currency)]]*VLOOKUP(tblSalaries[[#This Row],[Currency]],tblXrate[],2,FALSE)","v":186983.12521814698},"MANAGER","Manager","India",{"$f":"VLOOKUP(tblSalaries[[#This Row],[Where do you work]],tblCountries[[Actual]:[Mapping]],2,FALSE)","v":"India"},"2 to 3 hours per day",10,{"$f":"VLOOKUP(K646,tblCountries[],3,0)","v":"Asia"},{"$f":"VLOOKUP(tblSalaries[[#This Row],[How many hours of a day you work on Excel]],tblHours,2,0)","v":3},{"$f":"VLOOKUP(tblSalaries[[#This Row],[clean Country]],tblCountries[],5,0)","v":13.098808879263672},{"$f":"IF($Q$1,tblSalaries[[#This Row],[PPP Factor]]*tblSalaries[[#This Row],[Salary in USD]],tblSalaries[[#This Row],[Salary in USD]])","v":186983.12521814698}]
[null,"ID0657","2012-05-26T12:25:09",21500,21500,"USD",{"$f":"tblSalaries[[#This Row],[clean Salary (in local currency)]]*VLOOKUP(tblSalaries[[#This Row],[Currency]],tblXrate[],2,FALSE)","v":21500},"Asst Mgr","Analyst","India",{"$f":"VLOOKUP(tblSalaries[[#This Row],[Where do you work]],tblCountries[[Actual]:[Mapping]],2,FALSE)","v":"India"},"4 to 6 hours a day",9,{"$f":"VLOOKUP(K647,tblCountries[],3,0)","v":"Asia"},{"$f":"VLOOKUP(tblSalaries[[#This Row],[How many hours of a day you work on Excel]],tblHours,2,0)","v":4},{"$f":"VLOOKUP(tblSalaries[[#This Row],[clean Country]],tblCountries[],5,0)","v":13.098808879263672},{"$f":"IF($Q$1,tblSalaries[[#This Row],[PPP Factor]]*tblSalaries[[#This Row],[Salary in USD]],tblSalaries[[#This Row],[Salary in USD]])","v":21500}]
[null,"ID0658","2012-05-26T12:26:33",15000,15000,"USD",{"$f":"tblSalaries[[#This Row],[clean Salary (in local currency)]]*VLOOKUP(tblSalaries[[#This Row],[Currency]],tblXrate[],2,FALSE)","v":15000},"MIS Executive","Reporting","India",{"$f":"VLOOKUP(tblSalaries[[#This Row],[Where do you work]],tblCountries[[Actual]:[Mapping]],2,FALSE)","v":"India"},"All the 8 hours baby, all the 8!",2,{"$f":"VLOOKUP(K648,tblCountries[],3,0)","v":"Asia"},{"$f":"VLOOKUP(tblSalaries[[#This Row],[How many hours of a day you work on Excel]],tblHours,2,0)","v":5},{"$f":"VLOOKUP(tblSalaries[[#This Row],[clean Country]],tblCountries[],5,0)","v":13.098808879263672},{"$f":"IF($Q$1,tblSalaries[[#This Row],[PPP Factor]]*tblSalaries[[#This Row],[Salary in USD]],tblSalaries[[#This Row],[Salary in USD]])","v":15000}]
[null,"ID0659","2012-05-26T12:27:20",200000,200000,"PKR",{"$f":"tblSalaries[[#This Row],[clean Salary (in local currency)]]*VLOOKUP(tblSalaries[[#This Row],[Currency]],tblXrate[],2,FALSE)","v":2122.8177433598262},"Accounts Officer","Accountant","Pakistan",{"$f":"VLOOKUP(tblSalaries[[#This Row],[Where do you work]],tblCountries[[Actual]:[Mapping]],2,FALSE)","v":"Pakistan"},"2 to 3 hours per day",2,{"$f":"VLOOKUP(K649,tblCountries[],3,0)","v":"Asia"},{"$f":"VLOOKUP(tblSalaries[[#This Row],[How many hours of a day you work on Excel]],tblHours,2,0)","v":3},{"$f":"VLOOKUP(tblSalaries[[#This Row],[clean Country]],tblCountries[],5,0)","v":17.361679224973088},{"$f":"IF($Q$1,tblSalaries[[#This Row],[PPP Factor]]*tblSalaries[[#This Row],[Salary in USD]],tblSalaries[[#This Row],[Salary in USD]])","v":2122.8177433598262}]
[null,"ID0660","2012-05-26T12:28:05","INR 9,50,000",950000,"INR",{"$f":"tblSalaries[[#This Row],[clean Salary (in local currency)]]*VLOOKUP(tblSalaries[[#This Row],[Currency]],tblXrate[],2,FALSE)","v":16917.52085307044},"Investment Banker","Manager","India",{"$f":"VLOOKUP(tblSalaries[[#This Row],[Where do you work]],tblCountries[[Actual]:[Mapping]],2,FALSE)","v":"India"},"4 to 6 hours a day",3,{"$f":"VLOOKUP(K650,tblCountries[],3,0)","v":"Asia"},{"$f":"VLOOKUP(tblSalaries[[#This Row],[How many hours of a day you work on Excel]],tblHours,2,0)","v":4},{"$f":"VLOOKUP(tblSalaries[[#This Row],[clean Country]],tblCountries[],5,0)","v":13.098808879263672},{"$f":"IF($Q$1,tblSalaries[[#This Row],[PPP Factor]]*tblSalaries[[#This Row],[Salary in USD]],tblSalaries[[#This Row],[Salary in USD]])","v":16917.52085307044}]
[null,"ID0661","2012-05-26T12:28:11","INR 165000",165000,"INR",{"$f":"tblSalaries[[#This Row],[clean Salary (in local currency)]]*VLOOKUP(tblSalaries[[#This Row],[Currency]],tblXrate[],2,FALSE)","v":2938.3062534280239},"Co-operative bank","Manager","India",{"$f":"VLOOKUP(tblSalaries[[#This Row],[Where do you work]],tblCountries[[Actual]:[Mapping]],2,FALSE)","v":"India"},"All the 8 hours baby, all the 8!",11,{"$f":"VLOOKUP(K651,tblCountries[],3,0)","v":"Asia"},{"$f":"VLOOKUP(tblSalaries[[#This Row],[How many hours of a day you work on Excel]],tblHours,2,0)","v":5},{"$f":"VLOOKUP(tblSalaries[[#This Row],[clean Country]],tblCountries[],5,0)","v":13.098808879263672},{"$f":"IF($Q$1,tblSalaries[[#This Row],[PPP Factor]]*tblSalaries[[#This Row],[Salary in USD]],tblSalaries[[#This Row],[Salary in USD]])","v":2938.3062534280239}]
[null,"ID0662","2012-05-26T12:30:22",1400,16800,"USD",{"$f":"tblSalaries[[#This Row],[clean Salary (in local currency)]]*VLOOKUP(tblSalaries[[#This Row],[Currency]],tblXrate[],2,FALSE)","v":16800},"Assistant","Analyst","Pakistan",{"$f":"VLOOKUP(tblSalaries[[#This Row],[Where do you work]],tblCountries[[Actual]:[Mapping]],2,FALSE)","v":"Pakistan"},"4 to 6 hours a day",12,{"$f":"VLOOKUP(K652,tblCountries[],3,0)","v":"Asia"},{"$f":"VLOOKUP(tblSalaries[[#This Row],[How many hours of a day you work on Excel]],tblHours,2,0)","v":4},{"$f":"VLOOKUP(tblSalaries[[#This Row],[clean Country]],tblCountries[],5,0)","v":17.361679224973088},{"$f":"IF($Q$1,tblSalaries[[#This Row],[PPP Factor]]*tblSalaries[[#This Row],[Salary in USD]],tblSalaries[[#This Row],[Salary in USD]])","v":16800}]
[null,"ID0663","2012-05-26T12:31:29",37000,37000,"USD",{"$f":"tblSalaries[[#This Row],[clean Salary (in local currency)]]*VLOOKUP(tblSalaries[[#This Row],[Currency]],tblXrate[],2,FALSE)","v":37000},"Cad Engineer","Engineer","India",{"$f":"VLOOKUP(tblSalaries[[#This Row],[Where do you work]],tblCountries[[Actual]:[Mapping]],2,FALSE)","v":"India"},"4 to 6 hours a day",10,{"$f":"VLOOKUP(K653,tblCountries[],3,0)","v":"Asia"},{"$f":"VLOOKUP(tblSalaries[[#This Row],[How many hours of a day you work on Excel]],tblHours,2,0)","v":4},{"$f":"VLOOKUP(tblSalaries[[#This Row],[clean Country]],tblCountries[],5,0)","v":13.098808879263672},{"$f":"IF($Q$1,tblSalaries[[#This Row],[PPP Factor]]*tblSalaries[[#This Row],[Salary in USD]],tblSalaries[[#This Row],[Salary in USD]])","v":37000}]
[null,"ID0664","2012-05-26T12:33:48","Rs 300000",300000,"INR",{"$f":"tblSalaries[[#This Row],[clean Salary (in local currency)]]*VLOOKUP(tblSalaries[[#This Row],[Currency]],tblXrate[],2,FALSE)","v":5342.3750062327708},"Mis Analyst","Analyst","India",{"$f":"VLOOKUP(tblSalaries[[#This Row],[Where do you work]],tblCountries[[Actual]:[Mapping]],2,FALSE)","v":"India"},"4 to 6 hours a day",4.5,{"$f":"VLOOKUP(K654,tblCountries[],3,0)","v":"Asia"},{"$f":"VLOOKUP(tblSalaries[[#This Row],[How many hours of a day you work on Excel]],tblHours,2,0)","v":4},{"$f":"VLOOKUP(tblSalaries[[#This Row],[clean Country]],tblCountries[],5,0)","v":13.098808879263672},{"$f":"IF($Q$1,tblSalaries[[#This Row],[PPP Factor]]*tblSalaries[[#This Row],[Salary in USD]],tblSalaries[[#This Row],[Salary in USD]])","v":5342.3750062327708}]
[null,"ID0665","2012-05-26T12:35:42","INR 2 l;acks",200000,"INR",{"$f":"tblSalaries[[#This Row],[clean Salary (in local currency)]]*VLOOKUP(tblSalaries[[#This Row],[Currency]],tblXrate[],2,FALSE)","v":3561.5833374885137},"MIS EXECUTIVE","Reporting","India",{"$f":"VLOOKUP(tblSalaries[[#This Row],[Where do you work]],tblCountries[[Actual]:[Mapping]],2,FALSE)","v":"India"},"All the 8 hours baby, all the 8!",3,{"$f":"VLOOKUP(K655,tblCountries[],3,0)","v":"Asia"},{"$f":"VLOOKUP(tblSalaries[[#This Row],[How many hours of a day you work on Excel]],tblHours,2,0)","v":5},{"$f":"VLOOKUP(tblSalaries[[#This Row],[clean Country]],tblCountries[],5,0)","v":13.098808879263672},{"$f":"IF($Q$1,tblSalaries[[#This Row],[PPP Factor]]*tblSalaries[[#This Row],[Salary in USD]],tblSalaries[[#This Row],[Salary in USD]])","v":3561.5833374885137}]
[null,"ID0666","2012-05-26T12:36:53","Rs 480000",480000,"INR",{"$f":"tblSalaries[[#This Row],[clean Salary (in local currency)]]*VLOOKUP(tblSalaries[[#This Row],[Currency]],tblXrate[],2,FALSE)","v":8547.8000099724322},"PMO","Manager","India",{"$f":"VLOOKUP(tblSalaries[[#This Row],[Where do you work]],tblCountries[[Actual]:[Mapping]],2,FALSE)","v":"India"},"2 to 3 hours per day",8,{"$f":"VLOOKUP(K656,tblCountries[],3,0)","v":"Asia"},{"$f":"VLOOKUP(tblSalaries[[#This Row],[How many hours of a day you work on Excel]],tblHours,2,0)","v":3},{"$f":"VLOOKUP(tblSalaries[[#This Row],[clean Country]],tblCountries[],5,0)","v":13.098808879263672},{"$f":"IF($Q$1,tblSalaries[[#This Row],[PPP Factor]]*tblSalaries[[#This Row],[Salary in USD]],tblSalaries[[#This Row],[Salary in USD]])","v":8547.8000099724322}]
[null,"ID0667","2012-05-26T12:46:26",5800,5800,"USD",{"$f":"tblSalaries[[#This Row],[clean Salary (in local currency)]]*VLOOKUP(tblSalaries[[#This Row],[Currency]],tblXrate[],2,FALSE)","v":5800},"Asst. Manager(Commercial)","Manager","India",{"$f":"VLOOKUP(tblSalaries[[#This Row],[Where do you work]],tblCountries[[Actual]:[Mapping]],2,FALSE)","v":"India"},"All the 8 hours baby, all the 8!",8,{"$f":"VLOOKUP(K657,tblCountries[],3,0)","v":"Asia"},{"$f":"VLOOKUP(tblSalaries[[#This Row],[How many hours of a day you work on Excel]],tblHours,2,0)","v":5},{"$f":"VLOOKUP(tblSalaries[[#This Row],[clean Country]],tblCountries[],5,0)","v":13.098808879263672},{"$f":"IF($Q$1,tblSalaries[[#This Row],[PPP Factor]]*tblSalaries[[#This Row],[Salary in USD]],tblSalaries[[#This Row],[Salary in USD]])","v":5800}]
[null,"ID0668","2012-05-26T12:48:19","230000 INR",230000,"INR",{"$f":"tblSalaries[[#This Row],[clean Salary (in local currency)]]*VLOOKUP(tblSalaries[[#This Row],[Currency]],tblXrate[],2,FALSE)","v":4095.8208381117906},"MIS Executive","Reporting","India",{"$f":"VLOOKUP(tblSalaries[[#This Row],[Where do you work]],tblCountries[[Actual]:[Mapping]],2,FALSE)","v":"India"},"All the 8 hours baby, all the 8!",3,{"$f":"VLOOKUP(K658,tblCountries[],3,0)","v":"Asia"},{"$f":"VLOOKUP(tblSalaries[[#This Row],[How many hours of a day you work on Excel]],tblHours,2,0)","v":5},{"$f":"VLOOKUP(tblSalaries[[#This Row],[clean Country]],tblCountries[],5,0)","v":13.098808879263672},{"$f":"IF($Q$1,tblSalaries[[#This Row],[PPP Factor]]*tblSalaries[[#This Row],[Salary in USD]],tblSalaries[[#This Row],[Salary in USD]])","v":4095.8208381117906}]
[null,"ID0669","2012-05-26T12:50:08","23000 Rupees",276000,"INR",{"$f":"tblSalaries[[#This Row],[clean Salary (in local currency)]]*VLOOKUP(tblSalaries[[#This Row],[Currency]],tblXrate[],2,FALSE)","v":4914.9850057341491},"Education Officer","Manager","Pakistan",{"$f":"VLOOKUP(tblSalaries[[#This Row],[Where do you work]],tblCountries[[Actual]:[Mapping]],2,FALSE)","v":"Pakistan"},"1 or 2 hours a day",3,{"$f":"VLOOKUP(K659,tblCountries[],3,0)","v":"Asia"},{"$f":"VLOOKUP(tblSalaries[[#This Row],[How many hours of a day you work on Excel]],tblHours,2,0)","v":2},{"$f":"VLOOKUP(tblSalaries[[#This Row],[clean Country]],tblCountries[],5,0)","v":17.361679224973088},{"$f":"IF($Q$1,tblSalaries[[#This Row],[PPP Factor]]*tblSalaries[[#This Row],[Salary in USD]],tblSalaries[[#This Row],[Salary in USD]])","v":4914.9850057341491}]
[null,"ID0670","2012-05-26T12:52:37",24000,24000,"USD",{"$f":"tblSalaries[[#This Row],[clean Salary (in local currency)]]*VLOOKUP(tblSalaries[[#This Row],[Currency]],tblXrate[],2,FALSE)","v":24000},"Management Accountant","Manager","Saudi Arabai",{"$f":"VLOOKUP(tblSalaries[[#This Row],[Where do you work]],tblCountries[[Actual]:[Mapping]],2,FALSE)","v":"Saudi Arabia"},"4 to 6 hours a day",12,{"$f":"VLOOKUP(K660,tblCountries[],3,0)","v":"Asia"},{"$f":"VLOOKUP(tblSalaries[[#This Row],[How many hours of a day you work on Excel]],tblHours,2,0)","v":4},{"$f":"VLOOKUP(tblSalaries[[#This Row],[clean Country]],tblCountries[],5,0)","v":1.9964104468374799},{"$f":"IF($Q$1,tblSalaries[[#This Row],[PPP Factor]]*tblSalaries[[#This Row],[Salary in USD]],tblSalaries[[#This Row],[Salary in USD]])","v":24000}]
[null,"ID0671","2012-05-26T12:53:43","Us$24000",24000,"USD",{"$f":"tblSalaries[[#This Row],[clean Salary (in local currency)]]*VLOOKUP(tblSalaries[[#This Row],[Currency]],tblXrate[],2,FALSE)","v":24000},"Accountant","Accountant","UAE",{"$f":"VLOOKUP(tblSalaries[[#This Row],[Where do you work]],tblCountries[[Actual]:[Mapping]],2,FALSE)","v":"UAE"},"2 to 3 hours per day",15,{"$f":"VLOOKUP(K661,tblCountries[],3,0)","v":"Asia"},{"$f":"VLOOKUP(tblSalaries[[#This Row],[How many hours of a day you work on Excel]],tblHours,2,0)","v":3},{"$f":"VLOOKUP(tblSalaries[[#This Row],[clean Country]],tblCountries[],5,0)","v":1.0047551808629926},{"$f":"IF($Q$1,tblSalaries[[#This Row],[PPP Factor]]*tblSalaries[[#This Row],[Salary in USD]],tblSalaries[[#This Row],[Salary in USD]])","v":24000}]
[null,"ID0672","2012-05-26T12:54:15",8738,8738,"USD",{"$f":"tblSalaries[[#This Row],[clean Salary (in local currency)]]*VLOOKUP(tblSalaries[[#This Row],[Currency]],tblXrate[],2,FALSE)","v":8738},"Sales Coordinator","Manager","India",{"$f":"VLOOKUP(tblSalaries[[#This Row],[Where do you work]],tblCountries[[Actual]:[Mapping]],2,FALSE)","v":"India"},"All the 8 hours baby, all the 8!",7.3,{"$f":"VLOOKUP(K662,tblCountries[],3,0)","v":"Asia"},{"$f":"VLOOKUP(tblSalaries[[#This Row],[How many hours of a day you work on Excel]],tblHours,2,0)","v":5},{"$f":"VLOOKUP(tblSalaries[[#This Row],[clean Country]],tblCountries[],5,0)","v":13.098808879263672},{"$f":"IF($Q$1,tblSalaries[[#This Row],[PPP Factor]]*tblSalaries[[#This Row],[Salary in USD]],tblSalaries[[#This Row],[Salary in USD]])","v":8738}]
[null,"ID0673","2012-05-26T12:54:36",15000,15000,"USD",{"$f":"tblSalaries[[#This Row],[clean Salary (in local currency)]]*VLOOKUP(tblSalaries[[#This Row],[Currency]],tblXrate[],2,FALSE)","v":15000},"TA","Analyst","Indonesia",{"$f":"VLOOKUP(tblSalaries[[#This Row],[Where do you work]],tblCountries[[Actual]:[Mapping]],2,FALSE)","v":"Indonesia"},"4 to 6 hours a day",1,{"$f":"VLOOKUP(K663,tblCountries[],3,0)","v":"Asia"},{"$f":"VLOOKUP(tblSalaries[[#This Row],[How many hours of a day you work on Excel]],tblHours,2,0)","v":4},{"$f":"VLOOKUP(tblSalaries[[#This Row],[clean Country]],tblCountries[],5,0)","v":10.370124303471924},{"$f":"IF($Q$1,tblSalaries[[#This Row],[PPP Factor]]*tblSalaries[[#This Row],[Salary in USD]],tblSalaries[[#This Row],[Salary in USD]])","v":15000}]
[null,"ID0674","2012-05-26T12:55:09",4700,56400,"USD",{"$f":"tblSalaries[[#This Row],[clean Salary (in local currency)]]*VLOOKUP(tblSalaries[[#This Row],[Currency]],tblXrate[],2,FALSE)","v":56400},"Finance Manager","Manager","UAE",{"$f":"VLOOKUP(tblSalaries[[#This Row],[Where do you work]],tblCountries[[Actual]:[Mapping]],2,FALSE)","v":"UAE"},"2 to 3 hours per day",6,{"$f":"VLOOKUP(K664,tblCountries[],3,0)","v":"Asia"},{"$f":"VLOOKUP(tblSalaries[[#This Row],[How many hours of a day you work on Excel]],tblHours,2,0)","v":3},{"$f":"VLOOKUP(tblSalaries[[#This Row],[clean Country]],tblCountries[],5,0)","v":1.0047551808629926},{"$f":"IF($Q$1,tblSalaries[[#This Row],[PPP Factor]]*tblSalaries[[#This Row],[Salary in USD]],tblSalaries[[#This Row],[Salary in USD]])","v":56400}]
[null,"ID0675","2012-05-26T12:59:13",10200,10200,"USD",{"$f":"tblSalaries[[#This Row],[clean Salary (in local currency)]]*VLOOKUP(tblSalaries[[#This Row],[Currency]],tblXrate[],2,FALSE)","v":10200},"business analyst","Analyst","India",{"$f":"VLOOKUP(tblSalaries[[#This Row],[Where do you work]],tblCountries[[Actual]:[Mapping]],2,FALSE)","v":"India"},"4 to 6 hours a day",4.5,{"$f":"VLOOKUP(K665,tblCountries[],3,0)","v":"Asia"},{"$f":"VLOOKUP(tblSalaries[[#This Row],[How many hours of a day you work on Excel]],tblHours,2,0)","v":4},{"$f":"VLOOKUP(tblSalaries[[#This Row],[clean Country]],tblCountries[],5,0)","v":13.098808879263672},{"$f":"IF($Q$1,tblSalaries[[#This Row],[PPP Factor]]*tblSalaries[[#This Row],[Salary in USD]],tblSalaries[[#This Row],[Salary in USD]])","v":10200}]
[null,"ID0676","2012-05-26T12:59:41",325000,325000,"INR",{"$f":"tblSalaries[[#This Row],[clean Salary (in local currency)]]*VLOOKUP(tblSalaries[[#This Row],[Currency]],tblXrate[],2,FALSE)","v":5787.5729234188348},"MIS Executive","Reporting","India",{"$f":"VLOOKUP(tblSalaries[[#This Row],[Where do you work]],tblCountries[[Actual]:[Mapping]],2,FALSE)","v":"India"},"All the 8 hours baby, all the 8!",4.5,{"$f":"VLOOKUP(K666,tblCountries[],3,0)","v":"Asia"},{"$f":"VLOOKUP(tblSalaries[[#This Row],[How many hours of a day you work on Excel]],tblHours,2,0)","v":5},{"$f":"VLOOKUP(tblSalaries[[#This Row],[clean Country]],tblCountries[],5,0)","v":13.098808879263672},{"$f":"IF($Q$1,tblSalaries[[#This Row],[PPP Factor]]*tblSalaries[[#This Row],[Salary in USD]],tblSalaries[[#This Row],[Salary in USD]])","v":5787.5729234188348}]
[null,"ID0677","2012-05-26T13:01:44",105000,105000,"USD",{"$f":"tblSalaries[[#This Row],[clean Salary (in local currency)]]*VLOOKUP(tblSalaries[[#This Row],[Currency]],tblXrate[],2,FALSE)","v":105000},"Senior Consultant","Consultant","USA",{"$f":"VLOOKUP(tblSalaries[[#This Row],[Where do you work]],tblCountries[[Actual]:[Mapping]],2,FALSE)","v":"USA"},"2 to 3 hours per day",15,{"$f":"VLOOKUP(K667,tblCountries[],3,0)","v":"North Amer."},{"$f":"VLOOKUP(tblSalaries[[#This Row],[How many hours of a day you work on Excel]],tblHours,2,0)","v":3},{"$f":"VLOOKUP(tblSalaries[[#This Row],[clean Country]],tblCountries[],5,0)","v":1},{"$f":"IF($Q$1,tblSalaries[[#This Row],[PPP Factor]]*tblSalaries[[#This Row],[Salary in USD]],tblSalaries[[#This Row],[Salary in USD]])","v":105000}]
[null,"ID0678","2012-05-26T13:01:53","2.5lakh",250000,"INR",{"$f":"tblSalaries[[#This Row],[clean Salary (in local currency)]]*VLOOKUP(tblSalaries[[#This Row],[Currency]],tblXrate[],2,FALSE)","v":4451.9791718606421},"ASM","Manager","India",{"$f":"VLOOKUP(tblSalaries[[#This Row],[Where do you work]],tblCountries[[Actual]:[Mapping]],2,FALSE)","v":"India"},"2 to 3 hours per day",5,{"$f":"VLOOKUP(K668,tblCountries[],3,0)","v":"Asia"},{"$f":"VLOOKUP(tblSalaries[[#This Row],[How many hours of a day you work on Excel]],tblHours,2,0)","v":3},{"$f":"VLOOKUP(tblSalaries[[#This Row],[clean Country]],tblCountries[],5,0)","v":13.098808879263672},{"$f":"IF($Q$1,tblSalaries[[#This Row],[PPP Factor]]*tblSalaries[[#This Row],[Salary in USD]],tblSalaries[[#This Row],[Salary in USD]])","v":4451.9791718606421}]
[null,"ID0679","2012-05-26T13:02:50",470000,470000,"INR",{"$f":"tblSalaries[[#This Row],[clean Salary (in local currency)]]*VLOOKUP(tblSalaries[[#This Row],[Currency]],tblXrate[],2,FALSE)","v":8369.7208430980063},"Consultant","Consultant","India",{"$f":"VLOOKUP(tblSalaries[[#This Row],[Where do you work]],tblCountries[[Actual]:[Mapping]],2,FALSE)","v":"India"},"All the 8 hours baby, all the 8!",4,{"$f":"VLOOKUP(K669,tblCountries[],3,0)","v":"Asia"},{"$f":"VLOOKUP(tblSalaries[[#This Row],[How many hours of a day you work on Excel]],tblHours,2,0)","v":5},{"$f":"VLOOKUP(tblSalaries[[#This Row],[clean Country]],tblCountries[],5,0)","v":13.098808879263672},{"$f":"IF($Q$1,tblSalaries[[#This Row],[PPP Factor]]*tblSalaries[[#This Row],[Salary in USD]],tblSalaries[[#This Row],[Salary in USD]])","v":8369.7208430980063}]
[null,"ID0680","2012-05-26T13:03:32",720000,720000,"PHP",{"$f":"tblSalaries[[#This Row],[clean Salary (in local currency)]]*VLOOKUP(tblSalaries[[#This Row],[Currency]],tblXrate[],2,FALSE)","v":17067.637625607145},"System Manager","Manager","Philippines",{"$f":"VLOOKUP(tblSalaries[[#This Row],[Where do you work]],tblCountries[[Actual]:[Mapping]],2,FALSE)","v":"Philippines"},"4 to 6 hours a day",9,{"$f":"VLOOKUP(K670,tblCountries[],3,0)","v":"Asia"},{"$f":"VLOOKUP(tblSalaries[[#This Row],[How many hours of a day you work on Excel]],tblHours,2,0)","v":4},{"$f":"VLOOKUP(tblSalaries[[#This Row],[clean Country]],tblCountries[],5,0)","v":11.879941075374417},{"$f":"IF($Q$1,tblSalaries[[#This Row],[PPP Factor]]*tblSalaries[[#This Row],[Salary in USD]],tblSalaries[[#This Row],[Salary in USD]])","v":17067.637625607145}]
[null,"ID0681","2012-05-26T13:03:58",100000,100000,"AUD",{"$f":"tblSalaries[[#This Row],[clean Salary (in local currency)]]*VLOOKUP(tblSalaries[[#This Row],[Currency]],tblXrate[],2,FALSE)","v":101990.96564026357},"principal developer","Manager","Australia",{"$f":"VLOOKUP(tblSalaries[[#This Row],[Where do you work]],tblCountries[[Actual]:[Mapping]],2,FALSE)","v":"Australia"},"1 or 2 hours a day",20,{"$f":"VLOOKUP(K671,tblCountries[],3,0)","v":"Oceania"},{"$f":"VLOOKUP(tblSalaries[[#This Row],[How many hours of a day you work on Excel]],tblHours,2,0)","v":2},{"$f":"VLOOKUP(tblSalaries[[#This Row],[clean Country]],tblCountries[],5,0)","v":1.2026395585822935},{"$f":"IF($Q$1,tblSalaries[[#This Row],[PPP Factor]]*tblSalaries[[#This Row],[Salary in USD]],tblSalaries[[#This Row],[Salary in USD]])","v":101990.96564026357}]
[null,"ID0682","2012-05-26T13:05:03","220000 in INR",220000,"INR",{"$f":"tblSalaries[[#This Row],[clean Salary (in local currency)]]*VLOOKUP(tblSalaries[[#This Row],[Currency]],tblXrate[],2,FALSE)","v":3917.7416712373652},"Accounts Payable Analyst","Analyst","India",{"$f":"VLOOKUP(tblSalaries[[#This Row],[Where do you work]],tblCountries[[Actual]:[Mapping]],2,FALSE)","v":"India"},"2 to 3 hours per day",3,{"$f":"VLOOKUP(K672,tblCountries[],3,0)","v":"Asia"},{"$f":"VLOOKUP(tblSalaries[[#This Row],[How many hours of a day you work on Excel]],tblHours,2,0)","v":3},{"$f":"VLOOKUP(tblSalaries[[#This Row],[clean Country]],tblCountries[],5,0)","v":13.098808879263672},{"$f":"IF($Q$1,tblSalaries[[#This Row],[PPP Factor]]*tblSalaries[[#This Row],[Salary in USD]],tblSalaries[[#This Row],[Salary in USD]])","v":3917.7416712373652}]
[null,"ID0683","2012-05-26T13:08:39",52000,52000,"USD",{"$f":"tblSalaries[[#This Row],[clean Salary (in local currency)]]*VLOOKUP(tblSalaries[[#This Row],[Currency]],tblXrate[],2,FALSE)","v":52000},"Maint Sys Support Specialist","Specialist","USA",{"$f":"VLOOKUP(tblSalaries[[#This Row],[Where do you work]],tblCountries[[Actual]:[Mapping]],2,FALSE)","v":"USA"},"4 to 6 hours a day",18,{"$f":"VLOOKUP(K673,tblCountries[],3,0)","v":"North Amer."},{"$f":"VLOOKUP(tblSalaries[[#This Row],[How many hours of a day you work on Excel]],tblHours,2,0)","v":4},{"$f":"VLOOKUP(tblSalaries[[#This Row],[clean Country]],tblCountries[],5,0)","v":1},{"$f":"IF($Q$1,tblSalaries[[#This Row],[PPP Factor]]*tblSalaries[[#This Row],[Salary in USD]],tblSalaries[[#This Row],[Salary in USD]])","v":52000}]
[null,"ID0684","2012-05-26T13:11:01","Rs. 260000",260000,"INR",{"$f":"tblSalaries[[#This Row],[clean Salary (in local currency)]]*VLOOKUP(tblSalaries[[#This Row],[Currency]],tblXrate[],2,FALSE)","v":4630.058338735068},"Analyst","Analyst","India",{"$f":"VLOOKUP(tblSalaries[[#This Row],[Where do you work]],tblCountries[[Actual]:[Mapping]],2,FALSE)","v":"India"},"4 to 6 hours a day",2,{"$f":"VLOOKUP(K674,tblCountries[],3,0)","v":"Asia"},{"$f":"VLOOKUP(tblSalaries[[#This Row],[How many hours of a day you work on Excel]],tblHours,2,0)","v":4},{"$f":"VLOOKUP(tblSalaries[[#This Row],[clean Country]],tblCountries[],5,0)","v":13.098808879263672},{"$f":"IF($Q$1,tblSalaries[[#This Row],[PPP Factor]]*tblSalaries[[#This Row],[Salary in USD]],tblSalaries[[#This Row],[Salary in USD]])","v":4630.058338735068}]
[null,"ID0685","2012-05-26T13:12:48","1,20,000 INR",120000,"INR",{"$f":"tblSalaries[[#This Row],[clean Salary (in local currency)]]*VLOOKUP(tblSalaries[[#This Row],[Currency]],tblXrate[],2,FALSE)","v":2136.9500024931081},"Data Analyst","Analyst","India",{"$f":"VLOOKUP(tblSalaries[[#This Row],[Where do you work]],tblCountries[[Actual]:[Mapping]],2,FALSE)","v":"India"},"2 to 3 hours per day",3,{"$f":"VLOOKUP(K675,tblCountries[],3,0)","v":"Asia"},{"$f":"VLOOKUP(tblSalaries[[#This Row],[How many hours of a day you work on Excel]],tblHours,2,0)","v":3},{"$f":"VLOOKUP(tblSalaries[[#This Row],[clean Country]],tblCountries[],5,0)","v":13.098808879263672},{"$f":"IF($Q$1,tblSalaries[[#This Row],[PPP Factor]]*tblSalaries[[#This Row],[Salary in USD]],tblSalaries[[#This Row],[Salary in USD]])","v":2136.9500024931081}]
[null,"ID0686","2012-05-26T13:16:21",13000,13000,"USD",{"$f":"tblSalaries[[#This Row],[clean Salary (in local currency)]]*VLOOKUP(tblSalaries[[#This Row],[Currency]],tblXrate[],2,FALSE)","v":13000},"Analyst","Analyst","India",{"$f":"VLOOKUP(tblSalaries[[#This Row],[Where do you work]],tblCountries[[Actual]:[Mapping]],2,FALSE)","v":"India"},"1 or 2 hours a day",4,{"$f":"VLOOKUP(K676,tblCountries[],3,0)","v":"Asia"},{"$f":"VLOOKUP(tblSalaries[[#This Row],[How many hours of a day you work on Excel]],tblHours,2,0)","v":2},{"$f":"VLOOKUP(tblSalaries[[#This Row],[clean Country]],tblCountries[],5,0)","v":13.098808879263672},{"$f":"IF($Q$1,tblSalaries[[#This Row],[PPP Factor]]*tblSalaries[[#This Row],[Salary in USD]],tblSalaries[[#This Row],[Salary in USD]])","v":13000}]
[null,"ID0687","2012-05-26T13:17:36","Rs. 144000",144000,"INR",{"$f":"tblSalaries[[#This Row],[clean Salary (in local currency)]]*VLOOKUP(tblSalaries[[#This Row],[Currency]],tblXrate[],2,FALSE)","v":2564.3400029917298},"Team Leader","Manager","India",{"$f":"VLOOKUP(tblSalaries[[#This Row],[Where do you work]],tblCountries[[Actual]:[Mapping]],2,FALSE)","v":"India"},"2 to 3 hours per day",7,{"$f":"VLOOKUP(K677,tblCountries[],3,0)","v":"Asia"},{"$f":"VLOOKUP(tblSalaries[[#This Row],[How many hours of a day you work on Excel]],tblHours,2,0)","v":3},{"$f":"VLOOKUP(tblSalaries[[#This Row],[clean Country]],tblCountries[],5,0)","v":13.098808879263672},{"$f":"IF($Q$1,tblSalaries[[#This Row],[PPP Factor]]*tblSalaries[[#This Row],[Salary in USD]],tblSalaries[[#This Row],[Salary in USD]])","v":2564.3400029917298}]
[null,"ID0688","2012-05-26T13:18:03","inr 11.5",1150000,"INR",{"$f":"tblSalaries[[#This Row],[clean Salary (in local currency)]]*VLOOKUP(tblSalaries[[#This Row],[Currency]],tblXrate[],2,FALSE)","v":20479.104190558952},"manager portfolio monitoring","Manager","India",{"$f":"VLOOKUP(tblSalaries[[#This Row],[Where do you work]],tblCountries[[Actual]:[Mapping]],2,FALSE)","v":"India"},"2 to 3 hours per day",7,{"$f":"VLOOKUP(K678,tblCountries[],3,0)","v":"Asia"},{"$f":"VLOOKUP(tblSalaries[[#This Row],[How many hours of a day you work on Excel]],tblHours,2,0)","v":3},{"$f":"VLOOKUP(tblSalaries[[#This Row],[clean Country]],tblCountries[],5,0)","v":13.098808879263672},{"$f":"IF($Q$1,tblSalaries[[#This Row],[PPP Factor]]*tblSalaries[[#This Row],[Salary in USD]],tblSalaries[[#This Row],[Salary in USD]])","v":20479.104190558952}]
[null,"ID0689","2012-05-26T13:18:32","33,500 US $",33500,"USD",{"$f":"tblSalaries[[#This Row],[clean Salary (in local currency)]]*VLOOKUP(tblSalaries[[#This Row],[Currency]],tblXrate[],2,FALSE)","v":33500},"Sr. Executive Finance & Accounts","Accountant","Dubai",{"$f":"VLOOKUP(tblSalaries[[#This Row],[Where do you work]],tblCountries[[Actual]:[Mapping]],2,FALSE)","v":"Dubai"},"1 or 2 hours a day",10,{"$f":"VLOOKUP(K679,tblCountries[],3,0)","v":"Asia"},{"$f":"VLOOKUP(tblSalaries[[#This Row],[How many hours of a day you work on Excel]],tblHours,2,0)","v":2},{"$f":"VLOOKUP(tblSalaries[[#This Row],[clean Country]],tblCountries[],5,0)","v":1},{"$f":"IF($Q$1,tblSalaries[[#This Row],[PPP Factor]]*tblSalaries[[#This Row],[Salary in USD]],tblSalaries[[#This Row],[Salary in USD]])","v":33500}]
[null,"ID0690","2012-05-26T13:19:42",50000,50000,"USD",{"$f":"tblSalaries[[#This Row],[clean Salary (in local currency)]]*VLOOKUP(tblSalaries[[#This Row],[Currency]],tblXrate[],2,FALSE)","v":50000},"AREA SALES MANAGER","Manager","India",{"$f":"VLOOKUP(tblSalaries[[#This Row],[Where do you work]],tblCountries[[Actual]:[Mapping]],2,FALSE)","v":"India"},"2 to 3 hours per day",20,{"$f":"VLOOKUP(K680,tblCountries[],3,0)","v":"Asia"},{"$f":"VLOOKUP(tblSalaries[[#This Row],[How many hours of a day you work on Excel]],tblHours,2,0)","v":3},{"$f":"VLOOKUP(tblSalaries[[#This Row],[clean Country]],tblCountries[],5,0)","v":13.098808879263672},{"$f":"IF($Q$1,tblSalaries[[#This Row],[PPP Factor]]*tblSalaries[[#This Row],[Salary in USD]],tblSalaries[[#This Row],[Salary in USD]])","v":50000}]
[null,"ID0691","2012-05-26T13:22:43",300000,300000,"INR",{"$f":"tblSalaries[[#This Row],[clean Salary (in local currency)]]*VLOOKUP(tblSalaries[[#This Row],[Currency]],tblXrate[],2,FALSE)","v":5342.3750062327708},"govt","Manager","India",{"$f":"VLOOKUP(tblSalaries[[#This Row],[Where do you work]],tblCountries[[Actual]:[Mapping]],2,FALSE)","v":"India"},"2 to 3 hours per day",3,{"$f":"VLOOKUP(K681,tblCountries[],3,0)","v":"Asia"},{"$f":"VLOOKUP(tblSalaries[[#This Row],[How many hours of a day you work on Excel]],tblHours,2,0)","v":3},{"$f":"VLOOKUP(tblSalaries[[#This Row],[clean Country]],tblCountries[],5,0)","v":13.098808879263672},{"$f":"IF($Q$1,tblSalaries[[#This Row],[PPP Factor]]*tblSalaries[[#This Row],[Salary in USD]],tblSalaries[[#This Row],[Salary in USD]])","v":5342.3750062327708}]
[null,"ID0692","2012-05-26T13:24:05","4500 rs. per month",648000,"INR",{"$f":"tblSalaries[[#This Row],[clean Salary (in local currency)]]*VLOOKUP(tblSalaries[[#This Row],[Currency]],tblXrate[],2,FALSE)","v":11539.530013462785},"COMPUTER OPERATOR","Analyst","India",{"$f":"VLOOKUP(tblSalaries[[#This Row],[Where do you work]],tblCountries[[Actual]:[Mapping]],2,FALSE)","v":"India"},"All the 8 hours baby, all the 8!",2,{"$f":"VLOOKUP(K682,tblCountries[],3,0)","v":"Asia"},{"$f":"VLOOKUP(tblSalaries[[#This Row],[How many hours of a day you work on Excel]],tblHours,2,0)","v":5},{"$f":"VLOOKUP(tblSalaries[[#This Row],[clean Country]],tblCountries[],5,0)","v":13.098808879263672},{"$f":"IF($Q$1,tblSalaries[[#This Row],[PPP Factor]]*tblSalaries[[#This Row],[Salary in USD]],tblSalaries[[#This Row],[Salary in USD]])","v":11539.530013462785}]
[null,"ID0693","2012-05-26T13:24:14",7000,7000,"USD",{"$f":"tblSalaries[[#This Row],[clean Salary (in local currency)]]*VLOOKUP(tblSalaries[[#This Row],[Currency]],tblXrate[],2,FALSE)","v":7000},"Business Executive","Manager","India",{"$f":"VLOOKUP(tblSalaries[[#This Row],[Where do you work]],tblCountries[[Actual]:[Mapping]],2,FALSE)","v":"India"},"4 to 6 hours a day",23,{"$f":"VLOOKUP(K683,tblCountries[],3,0)","v":"Asia"},{"$f":"VLOOKUP(tblSalaries[[#This Row],[How many hours of a day you work on Excel]],tblHours,2,0)","v":4},{"$f":"VLOOKUP(tblSalaries[[#This Row],[clean Country]],tblCountries[],5,0)","v":13.098808879263672},{"$f":"IF($Q$1,tblSalaries[[#This Row],[PPP Factor]]*tblSalaries[[#This Row],[Salary in USD]],tblSalaries[[#This Row],[Salary in USD]])","v":7000}]
[null,"ID0694","2012-05-26T13:24:36",380000,380000,"INR",{"$f":"tblSalaries[[#This Row],[clean Salary (in local currency)]]*VLOOKUP(tblSalaries[[#This Row],[Currency]],tblXrate[],2,FALSE)","v":6767.0083412281756},"Team Lead Mis","Reporting","India",{"$f":"VLOOKUP(tblSalaries[[#This Row],[Where do you work]],tblCountries[[Actual]:[Mapping]],2,FALSE)","v":"India"},"2 to 3 hours per day",6,{"$f":"VLOOKUP(K684,tblCountries[],3,0)","v":"Asia"},{"$f":"VLOOKUP(tblSalaries[[#This Row],[How many hours of a day you work on Excel]],tblHours,2,0)","v":3},{"$f":"VLOOKUP(tblSalaries[[#This Row],[clean Country]],tblCountries[],5,0)","v":13.098808879263672},{"$f":"IF($Q$1,tblSalaries[[#This Row],[PPP Factor]]*tblSalaries[[#This Row],[Salary in USD]],tblSalaries[[#This Row],[Salary in USD]])","v":6767.0083412281756}]
[null,"ID0695","2012-05-26T13:29:12","3000 $",3000,"USD",{"$f":"tblSalaries[[#This Row],[clean Salary (in local currency)]]*VLOOKUP(tblSalaries[[#This Row],[Currency]],tblXrate[],2,FALSE)","v":3000},"Call Centre Consultant","Consultant","Cambodia",{"$f":"VLOOKUP(tblSalaries[[#This Row],[Where do you work]],tblCountries[[Actual]:[Mapping]],2,FALSE)","v":"Cambodia"},"2 to 3 hours per day",2,{"$f":"VLOOKUP(K685,tblCountries[],3,0)","v":"Asia"},{"$f":"VLOOKUP(tblSalaries[[#This Row],[How many hours of a day you work on Excel]],tblHours,2,0)","v":3},{"$f":"VLOOKUP(tblSalaries[[#This Row],[clean Country]],tblCountries[],5,0)","v":21.835288808664259},{"$f":"IF($Q$1,tblSalaries[[#This Row],[PPP Factor]]*tblSalaries[[#This Row],[Salary in USD]],tblSalaries[[#This Row],[Salary in USD]])","v":3000}]
[null,"ID0696","2012-05-26T13:29:35","250000 rupees",250000,"INR",{"$f":"tblSalaries[[#This Row],[clean Salary (in local currency)]]*VLOOKUP(tblSalaries[[#This Row],[Currency]],tblXrate[],2,FALSE)","v":4451.9791718606421},"MIS executive","Reporting","India",{"$f":"VLOOKUP(tblSalaries[[#This Row],[Where do you work]],tblCountries[[Actual]:[Mapping]],2,FALSE)","v":"India"},"All the 8 hours baby, all the 8!",4,{"$f":"VLOOKUP(K686,tblCountries[],3,0)","v":"Asia"},{"$f":"VLOOKUP(tblSalaries[[#This Row],[How many hours of a day you work on Excel]],tblHours,2,0)","v":5},{"$f":"VLOOKUP(tblSalaries[[#This Row],[clean Country]],tblCountries[],5,0)","v":13.098808879263672},{"$f":"IF($Q$1,tblSalaries[[#This Row],[PPP Factor]]*tblSalaries[[#This Row],[Salary in USD]],tblSalaries[[#This Row],[Salary in USD]])","v":4451.9791718606421}]
[null,"ID0697","2012-05-26T13:31:20","Rs. 150000",150000,"INR",{"$f":"tblSalaries[[#This Row],[clean Salary (in local currency)]]*VLOOKUP(tblSalaries[[#This Row],[Currency]],tblXrate[],2,FALSE)","v":2671.1875031163854},"Oprations head","CXO or Top Mgmt.","India",{"$f":"VLOOKUP(tblSalaries[[#This Row],[Where do you work]],tblCountries[[Actual]:[Mapping]],2,FALSE)","v":"India"},"4 to 6 hours a day",4.5,{"$f":"VLOOKUP(K687,tblCountries[],3,0)","v":"Asia"},{"$f":"VLOOKUP(tblSalaries[[#This Row],[How many hours of a day you work on Excel]],tblHours,2,0)","v":4},{"$f":"VLOOKUP(tblSalaries[[#This Row],[clean Country]],tblCountries[],5,0)","v":13.098808879263672},{"$f":"IF($Q$1,tblSalaries[[#This Row],[PPP Factor]]*tblSalaries[[#This Row],[Salary in USD]],tblSalaries[[#This Row],[Salary in USD]])","v":2671.1875031163854}]
[null,"ID0698","2012-05-26T13:37:50",278400,278400,"INR",{"$f":"tblSalaries[[#This Row],[clean Salary (in local currency)]]*VLOOKUP(tblSalaries[[#This Row],[Currency]],tblXrate[],2,FALSE)","v":4957.7240057840108},"Asst. Manager","Manager","India",{"$f":"VLOOKUP(tblSalaries[[#This Row],[Where do you work]],tblCountries[[Actual]:[Mapping]],2,FALSE)","v":"India"},"4 to 6 hours a day",5,{"$f":"VLOOKUP(K688,tblCountries[],3,0)","v":"Asia"},{"$f":"VLOOKUP(tblSalaries[[#This Row],[How many hours of a day you work on Excel]],tblHours,2,0)","v":4},{"$f":"VLOOKUP(tblSalaries[[#This Row],[clean Country]],tblCountries[],5,0)","v":13.098808879263672},{"$f":"IF($Q$1,tblSalaries[[#This Row],[PPP Factor]]*tblSalaries[[#This Row],[Salary in USD]],tblSalaries[[#This Row],[Salary in USD]])","v":4957.7240057840108}]
[null,"ID0699","2012-05-26T13:42:21",180000,180000,"INR",{"$f":"tblSalaries[[#This Row],[clean Salary (in local currency)]]*VLOOKUP(tblSalaries[[#This Row],[Currency]],tblXrate[],2,FALSE)","v":3205.4250037396623},"accounts","Accountant","India",{"$f":"VLOOKUP(tblSalaries[[#This Row],[Where do you work]],tblCountries[[Actual]:[Mapping]],2,FALSE)","v":"India"},"2 to 3 hours per day",14,{"$f":"VLOOKUP(K689,tblCountries[],3,0)","v":"Asia"},{"$f":"VLOOKUP(tblSalaries[[#This Row],[How many hours of a day you work on Excel]],tblHours,2,0)","v":3},{"$f":"VLOOKUP(tblSalaries[[#This Row],[clean Country]],tblCountries[],5,0)","v":13.098808879263672},{"$f":"IF($Q$1,tblSalaries[[#This Row],[PPP Factor]]*tblSalaries[[#This Row],[Salary in USD]],tblSalaries[[#This Row],[Salary in USD]])","v":3205.4250037396623}]
[null,"ID0700","2012-05-26T13:42:58",800000,800000,"INR",{"$f":"tblSalaries[[#This Row],[clean Salary (in local currency)]]*VLOOKUP(tblSalaries[[#This Row],[Currency]],tblXrate[],2,FALSE)","v":14246.333349954055},"Manager","Manager","India",{"$f":"VLOOKUP(tblSalaries[[#This Row],[Where do you work]],tblCountries[[Actual]:[Mapping]],2,FALSE)","v":"India"},"4 to 6 hours a day",7,{"$f":"VLOOKUP(K690,tblCountries[],3,0)","v":"Asia"},{"$f":"VLOOKUP(tblSalaries[[#This Row],[How many hours of a day you work on Excel]],tblHours,2,0)","v":4},{"$f":"VLOOKUP(tblSalaries[[#This Row],[clean Country]],tblCountries[],5,0)","v":13.098808879263672},{"$f":"IF($Q$1,tblSalaries[[#This Row],[PPP Factor]]*tblSalaries[[#This Row],[Salary in USD]],tblSalaries[[#This Row],[Salary in USD]])","v":14246.333349954055}]
[null,"ID0701","2012-05-26T13:44:53","25000 rupess",300000,"INR",{"$f":"tblSalaries[[#This Row],[clean Salary (in local currency)]]*VLOOKUP(tblSalaries[[#This Row],[Currency]],tblXrate[],2,FALSE)","v":5342.3750062327708},"Analyst","Analyst","India",{"$f":"VLOOKUP(tblSalaries[[#This Row],[Where do you work]],tblCountries[[Actual]:[Mapping]],2,FALSE)","v":"India"},"All the 8 hours baby, all the 8!",7,{"$f":"VLOOKUP(K691,tblCountries[],3,0)","v":"Asia"},{"$f":"VLOOKUP(tblSalaries[[#This Row],[How many hours of a day you work on Excel]],tblHours,2,0)","v":5},{"$f":"VLOOKUP(tblSalaries[[#This Row],[clean Country]],tblCountries[],5,0)","v":13.098808879263672},{"$f":"IF($Q$1,tblSalaries[[#This Row],[PPP Factor]]*tblSalaries[[#This Row],[Salary in USD]],tblSalaries[[#This Row],[Salary in USD]])","v":5342.3750062327708}]
[null,"ID0702","2012-05-26T13:46:52","370000 inr",370000,"INR",{"$f":"tblSalaries[[#This Row],[clean Salary (in local currency)]]*VLOOKUP(tblSalaries[[#This Row],[Currency]],tblXrate[],2,FALSE)","v":6588.9291743537506},"Operations Analyst","Analyst","India",{"$f":"VLOOKUP(tblSalaries[[#This Row],[Where do you work]],tblCountries[[Actual]:[Mapping]],2,FALSE)","v":"India"},"All the 8 hours baby, all the 8!",2,{"$f":"VLOOKUP(K692,tblCountries[],3,0)","v":"Asia"},{"$f":"VLOOKUP(tblSalaries[[#This Row],[How many hours of a day you work on Excel]],tblHours,2,0)","v":5},{"$f":"VLOOKUP(tblSalaries[[#This Row],[clean Country]],tblCountries[],5,0)","v":13.098808879263672},{"$f":"IF($Q$1,tblSalaries[[#This Row],[PPP Factor]]*tblSalaries[[#This Row],[Salary in USD]],tblSalaries[[#This Row],[Salary in USD]])","v":6588.9291743537506}]
[null,"ID0703","2012-05-26T13:47:06","370000 inr",370000,"INR",{"$f":"tblSalaries[[#This Row],[clean Salary (in local currency)]]*VLOOKUP(tblSalaries[[#This Row],[Currency]],tblXrate[],2,FALSE)","v":6588.9291743537506},"Operations Analyst","Analyst","India",{"$f":"VLOOKUP(tblSalaries[[#This Row],[Where do you work]],tblCountries[[Actual]:[Mapping]],2,FALSE)","v":"India"},"All the 8 hours baby, all the 8!",2,{"$f":"VLOOKUP(K693,tblCountries[],3,0)","v":"Asia"},{"$f":"VLOOKUP(tblSalaries[[#This Row],[How many hours of a day you work on Excel]],tblHours,2,0)","v":5},{"$f":"VLOOKUP(tblSalaries[[#This Row],[clean Country]],tblCountries[],5,0)","v":13.098808879263672},{"$f":"IF($Q$1,tblSalaries[[#This Row],[PPP Factor]]*tblSalaries[[#This Row],[Salary in USD]],tblSalaries[[#This Row],[Salary in USD]])","v":6588.9291743537506}]
[null,"ID0704","2012-05-26T13:49:54",35000,35000,"USD",{"$f":"tblSalaries[[#This Row],[clean Salary (in local currency)]]*VLOOKUP(tblSalaries[[#This Row],[Currency]],tblXrate[],2,FALSE)","v":35000},"IT Specialist","Specialist","USA",{"$f":"VLOOKUP(tblSalaries[[#This Row],[Where do you work]],tblCountries[[Actual]:[Mapping]],2,FALSE)","v":"USA"},"4 to 6 hours a day",10,{"$f":"VLOOKUP(K694,tblCountries[],3,0)","v":"North Amer."},{"$f":"VLOOKUP(tblSalaries[[#This Row],[How many hours of a day you work on Excel]],tblHours,2,0)","v":4},{"$f":"VLOOKUP(tblSalaries[[#This Row],[clean Country]],tblCountries[],5,0)","v":1},{"$f":"IF($Q$1,tblSalaries[[#This Row],[PPP Factor]]*tblSalaries[[#This Row],[Salary in USD]],tblSalaries[[#This Row],[Salary in USD]])","v":35000}]
[null,"ID0705","2012-05-26T13:57:11",720000,720000,"INR",{"$f":"tblSalaries[[#This Row],[clean Salary (in local currency)]]*VLOOKUP(tblSalaries[[#This Row],[Currency]],tblXrate[],2,FALSE)","v":12821.700014958649},"Cost Accountant","Accountant","India",{"$f":"VLOOKUP(tblSalaries[[#This Row],[Where do you work]],tblCountries[[Actual]:[Mapping]],2,FALSE)","v":"India"},"4 to 6 hours a day",4,{"$f":"VLOOKUP(K695,tblCountries[],3,0)","v":"Asia"},{"$f":"VLOOKUP(tblSalaries[[#This Row],[How many hours of a day you work on Excel]],tblHours,2,0)","v":4},{"$f":"VLOOKUP(tblSalaries[[#This Row],[clean Country]],tblCountries[],5,0)","v":13.098808879263672},{"$f":"IF($Q$1,tblSalaries[[#This Row],[PPP Factor]]*tblSalaries[[#This Row],[Salary in USD]],tblSalaries[[#This Row],[Salary in USD]])","v":12821.700014958649}]
[null,"ID0706","2012-05-26T14:01:00",600000,600000,"INR",{"$f":"tblSalaries[[#This Row],[clean Salary (in local currency)]]*VLOOKUP(tblSalaries[[#This Row],[Currency]],tblXrate[],2,FALSE)","v":10684.750012465542},"senior executive","Manager","India",{"$f":"VLOOKUP(tblSalaries[[#This Row],[Where do you work]],tblCountries[[Actual]:[Mapping]],2,FALSE)","v":"India"},"1 or 2 hours a day",2,{"$f":"VLOOKUP(K696,tblCountries[],3,0)","v":"Asia"},{"$f":"VLOOKUP(tblSalaries[[#This Row],[How many hours of a day you work on Excel]],tblHours,2,0)","v":2},{"$f":"VLOOKUP(tblSalaries[[#This Row],[clean Country]],tblCountries[],5,0)","v":13.098808879263672},{"$f":"IF($Q$1,tblSalaries[[#This Row],[PPP Factor]]*tblSalaries[[#This Row],[Salary in USD]],tblSalaries[[#This Row],[Salary in USD]])","v":10684.750012465542}]
[null,"ID0707","2012-05-26T14:01:09",10000,10000,"USD",{"$f":"tblSalaries[[#This Row],[clean Salary (in local currency)]]*VLOOKUP(tblSalaries[[#This Row],[Currency]],tblXrate[],2,FALSE)","v":10000},"Executive","Manager","India",{"$f":"VLOOKUP(tblSalaries[[#This Row],[Where do you work]],tblCountries[[Actual]:[Mapping]],2,FALSE)","v":"India"},"4 to 6 hours a day",2,{"$f":"VLOOKUP(K697,tblCountries[],3,0)","v":"Asia"},{"$f":"VLOOKUP(tblSalaries[[#This Row],[How many hours of a day you work on Excel]],tblHours,2,0)","v":4},{"$f":"VLOOKUP(tblSalaries[[#This Row],[clean Country]],tblCountries[],5,0)","v":13.098808879263672},{"$f":"IF($Q$1,tblSalaries[[#This Row],[PPP Factor]]*tblSalaries[[#This Row],[Salary in USD]],tblSalaries[[#This Row],[Salary in USD]])","v":10000}]
[null,"ID0708","2012-05-26T14:04:35","Rs 10000",120000,"INR",{"$f":"tblSalaries[[#This Row],[clean Salary (in local currency)]]*VLOOKUP(tblSalaries[[#This Row],[Currency]],tblXrate[],2,FALSE)","v":2136.9500024931081},"Intern","Analyst","India",{"$f":"VLOOKUP(tblSalaries[[#This Row],[Where do you work]],tblCountries[[Actual]:[Mapping]],2,FALSE)","v":"India"},"1 or 2 hours a day",0,{"$f":"VLOOKUP(K698,tblCountries[],3,0)","v":"Asia"},{"$f":"VLOOKUP(tblSalaries[[#This Row],[How many hours of a day you work on Excel]],tblHours,2,0)","v":2},{"$f":"VLOOKUP(tblSalaries[[#This Row],[clean Country]],tblCountries[],5,0)","v":13.098808879263672},{"$f":"IF($Q$1,tblSalaries[[#This Row],[PPP Factor]]*tblSalaries[[#This Row],[Salary in USD]],tblSalaries[[#This Row],[Salary in USD]])","v":2136.9500024931081}]
[null,"ID0709","2012-05-26T14:10:51","4,80,000 Ruppes",480000,"INR",{"$f":"tblSalaries[[#This Row],[clean Salary (in local currency)]]*VLOOKUP(tblSalaries[[#This Row],[Currency]],tblXrate[],2,FALSE)","v":8547.8000099724322},"Business Analyst","Analyst","India",{"$f":"VLOOKUP(tblSalaries[[#This Row],[Where do you work]],tblCountries[[Actual]:[Mapping]],2,FALSE)","v":"India"},"4 to 6 hours a day",4,{"$f":"VLOOKUP(K699,tblCountries[],3,0)","v":"Asia"},{"$f":"VLOOKUP(tblSalaries[[#This Row],[How many hours of a day you work on Excel]],tblHours,2,0)","v":4},{"$f":"VLOOKUP(tblSalaries[[#This Row],[clean Country]],tblCountries[],5,0)","v":13.098808879263672},{"$f":"IF($Q$1,tblSalaries[[#This Row],[PPP Factor]]*tblSalaries[[#This Row],[Salary in USD]],tblSalaries[[#This Row],[Salary in USD]])","v":8547.8000099724322}]
[null,"ID0710","2012-05-26T14:11:52","Re. 4.5 Lacs Per Annum",450000,"INR",{"$f":"tblSalaries[[#This Row],[clean Salary (in local currency)]]*VLOOKUP(tblSalaries[[#This Row],[Currency]],tblXrate[],2,FALSE)","v":8013.5625093491553},"Data Analyst","Analyst","India",{"$f":"VLOOKUP(tblSalaries[[#This Row],[Where do you work]],tblCountries[[Actual]:[Mapping]],2,FALSE)","v":"India"},"All the 8 hours baby, all the 8!",8,{"$f":"VLOOKUP(K700,tblCountries[],3,0)","v":"Asia"},{"$f":"VLOOKUP(tblSalaries[[#This Row],[How many hours of a day you work on Excel]],tblHours,2,0)","v":5},{"$f":"VLOOKUP(tblSalaries[[#This Row],[clean Country]],tblCountries[],5,0)","v":13.098808879263672},{"$f":"IF($Q$1,tblSalaries[[#This Row],[PPP Factor]]*tblSalaries[[#This Row],[Salary in USD]],tblSalaries[[#This Row],[Salary in USD]])","v":8013.5625093491553}]
[null,"ID0711","2012-05-26T14:14:35",400000,400000,"INR",{"$f":"tblSalaries[[#This Row],[clean Salary (in local currency)]]*VLOOKUP(tblSalaries[[#This Row],[Currency]],tblXrate[],2,FALSE)","v":7123.1666749770275},"Consultant","Consultant","India",{"$f":"VLOOKUP(tblSalaries[[#This Row],[Where do you work]],tblCountries[[Actual]:[Mapping]],2,FALSE)","v":"India"},"4 to 6 hours a day",0,{"$f":"VLOOKUP(K701,tblCountries[],3,0)","v":"Asia"},{"$f":"VLOOKUP(tblSalaries[[#This Row],[How many hours of a day you work on Excel]],tblHours,2,0)","v":4},{"$f":"VLOOKUP(tblSalaries[[#This Row],[clean Country]],tblCountries[],5,0)","v":13.098808879263672},{"$f":"IF($Q$1,tblSalaries[[#This Row],[PPP Factor]]*tblSalaries[[#This Row],[Salary in USD]],tblSalaries[[#This Row],[Salary in USD]])","v":7123.1666749770275}]
[null,"ID0712","2012-05-26T14:16:14","inr 2300000",2300000,"INR",{"$f":"tblSalaries[[#This Row],[clean Salary (in local currency)]]*VLOOKUP(tblSalaries[[#This Row],[Currency]],tblXrate[],2,FALSE)","v":40958.208381117904},"analyst","Analyst","India",{"$f":"VLOOKUP(tblSalaries[[#This Row],[Where do you work]],tblCountries[[Actual]:[Mapping]],2,FALSE)","v":"India"},"All the 8 hours baby, all the 8!",5,{"$f":"VLOOKUP(K702,tblCountries[],3,0)","v":"Asia"},{"$f":"VLOOKUP(tblSalaries[[#This Row],[How many hours of a day you work on Excel]],tblHours,2,0)","v":5},{"$f":"VLOOKUP(tblSalaries[[#This Row],[clean Country]],tblCountries[],5,0)","v":13.098808879263672},{"$f":"IF($Q$1,tblSalaries[[#This Row],[PPP Factor]]*tblSalaries[[#This Row],[Salary in USD]],tblSalaries[[#This Row],[Salary in USD]])","v":40958.208381117904}]
[null,"ID0713","2012-05-26T14:18:11",636000,636000,"INR",{"$f":"tblSalaries[[#This Row],[clean Salary (in local currency)]]*VLOOKUP(tblSalaries[[#This Row],[Currency]],tblXrate[],2,FALSE)","v":11325.835013213473},"Audit Manager","Manager","India",{"$f":"VLOOKUP(tblSalaries[[#This Row],[Where do you work]],tblCountries[[Actual]:[Mapping]],2,FALSE)","v":"India"},"4 to 6 hours a day",2,{"$f":"VLOOKUP(K703,tblCountries[],3,0)","v":"Asia"},{"$f":"VLOOKUP(tblSalaries[[#This Row],[How many hours of a day you work on Excel]],tblHours,2,0)","v":4},{"$f":"VLOOKUP(tblSalaries[[#This Row],[clean Country]],tblCountries[],5,0)","v":13.098808879263672},{"$f":"IF($Q$1,tblSalaries[[#This Row],[PPP Factor]]*tblSalaries[[#This Row],[Salary in USD]],tblSalaries[[#This Row],[Salary in USD]])","v":11325.835013213473}]
[null,"ID0714","2012-05-26T14:20:23","15000 USD",15000,"USD",{"$f":"tblSalaries[[#This Row],[clean Salary (in local currency)]]*VLOOKUP(tblSalaries[[#This Row],[Currency]],tblXrate[],2,FALSE)","v":15000},"Audit - senior assistant","Accountant","Lithuania",{"$f":"VLOOKUP(tblSalaries[[#This Row],[Where do you work]],tblCountries[[Actual]:[Mapping]],2,FALSE)","v":"Lithuania"},"4 to 6 hours a day",2,{"$f":"VLOOKUP(K704,tblCountries[],3,0)","v":"Europe"},{"$f":"VLOOKUP(tblSalaries[[#This Row],[How many hours of a day you work on Excel]],tblHours,2,0)","v":4},{"$f":"VLOOKUP(tblSalaries[[#This Row],[clean Country]],tblCountries[],5,0)","v":2.5661327959270257},{"$f":"IF($Q$1,tblSalaries[[#This Row],[PPP Factor]]*tblSalaries[[#This Row],[Salary in USD]],tblSalaries[[#This Row],[Salary in USD]])","v":15000}]
[null,"ID0715","2012-05-26T14:22:05",1000,12000,"USD",{"$f":"tblSalaries[[#This Row],[clean Salary (in local currency)]]*VLOOKUP(tblSalaries[[#This Row],[Currency]],tblXrate[],2,FALSE)","v":12000},"tech operator (oil)","Analyst","uae",{"$f":"VLOOKUP(tblSalaries[[#This Row],[Where do you work]],tblCountries[[Actual]:[Mapping]],2,FALSE)","v":"UAE"},"4 to 6 hours a day",12,{"$f":"VLOOKUP(K705,tblCountries[],3,0)","v":"Asia"},{"$f":"VLOOKUP(tblSalaries[[#This Row],[How many hours of a day you work on Excel]],tblHours,2,0)","v":4},{"$f":"VLOOKUP(tblSalaries[[#This Row],[clean Country]],tblCountries[],5,0)","v":1.0047551808629926},{"$f":"IF($Q$1,tblSalaries[[#This Row],[PPP Factor]]*tblSalaries[[#This Row],[Salary in USD]],tblSalaries[[#This Row],[Salary in USD]])","v":12000}]
[null,"ID0716","2012-05-26T14:23:48",500000,500000,"INR",{"$f":"tblSalaries[[#This Row],[clean Salary (in local currency)]]*VLOOKUP(tblSalaries[[#This Row],[Currency]],tblXrate[],2,FALSE)","v":8903.9583437212841},"mis ","Reporting","India",{"$f":"VLOOKUP(tblSalaries[[#This Row],[Where do you work]],tblCountries[[Actual]:[Mapping]],2,FALSE)","v":"India"},"2 to 3 hours per day",1,{"$f":"VLOOKUP(K706,tblCountries[],3,0)","v":"Asia"},{"$f":"VLOOKUP(tblSalaries[[#This Row],[How many hours of a day you work on Excel]],tblHours,2,0)","v":3},{"$f":"VLOOKUP(tblSalaries[[#This Row],[clean Country]],tblCountries[],5,0)","v":13.098808879263672},{"$f":"IF($Q$1,tblSalaries[[#This Row],[PPP Factor]]*tblSalaries[[#This Row],[Salary in USD]],tblSalaries[[#This Row],[Salary in USD]])","v":8903.9583437212841}]
[null,"ID0717","2012-05-26T14:33:11",500000,500000,"INR",{"$f":"tblSalaries[[#This Row],[clean Salary (in local currency)]]*VLOOKUP(tblSalaries[[#This Row],[Currency]],tblXrate[],2,FALSE)","v":8903.9583437212841},"Engineer","Engineer","India",{"$f":"VLOOKUP(tblSalaries[[#This Row],[Where do you work]],tblCountries[[Actual]:[Mapping]],2,FALSE)","v":"India"},"All the 8 hours baby, all the 8!",2,{"$f":"VLOOKUP(K707,tblCountries[],3,0)","v":"Asia"},{"$f":"VLOOKUP(tblSalaries[[#This Row],[How many hours of a day you work on Excel]],tblHours,2,0)","v":5},{"$f":"VLOOKUP(tblSalaries[[#This Row],[clean Country]],tblCountries[],5,0)","v":13.098808879263672},{"$f":"IF($Q$1,tblSalaries[[#This Row],[PPP Factor]]*tblSalaries[[#This Row],[Salary in USD]],tblSalaries[[#This Row],[Salary in USD]])","v":8903.9583437212841}]
[null,"ID0718","2012-05-26T14:35:48","Inr 60000",720000,"INR",{"$f":"tblSalaries[[#This Row],[clean Salary (in local currency)]]*VLOOKUP(tblSalaries[[#This Row],[Currency]],tblXrate[],2,FALSE)","v":12821.700014958649},"Asstt manager","Manager","India",{"$f":"VLOOKUP(tblSalaries[[#This Row],[Where do you work]],tblCountries[[Actual]:[Mapping]],2,FALSE)","v":"India"},"All the 8 hours baby, all the 8!",10,{"$f":"VLOOKUP(K708,tblCountries[],3,0)","v":"Asia"},{"$f":"VLOOKUP(tblSalaries[[#This Row],[How many hours of a day you work on Excel]],tblHours,2,0)","v":5},{"$f":"VLOOKUP(tblSalaries[[#This Row],[clean Country]],tblCountries[],5,0)","v":13.098808879263672},{"$f":"IF($Q$1,tblSalaries[[#This Row],[PPP Factor]]*tblSalaries[[#This Row],[Salary in USD]],tblSalaries[[#This Row],[Salary in USD]])","v":12821.700014958649}]
[null,"ID0719","2012-05-26T14:41:00","Rs 15000",180000,"INR",{"$f":"tblSalaries[[#This Row],[clean Salary (in local currency)]]*VLOOKUP(tblSalaries[[#This Row],[Currency]],tblXrate[],2,FALSE)","v":3205.4250037396623},"Import & Export Documentation Executive","Manager","India",{"$f":"VLOOKUP(tblSalaries[[#This Row],[Where do you work]],tblCountries[[Actual]:[Mapping]],2,FALSE)","v":"India"},"All the 8 hours baby, all the 8!",7,{"$f":"VLOOKUP(K709,tblCountries[],3,0)","v":"Asia"},{"$f":"VLOOKUP(tblSalaries[[#This Row],[How many hours of a day you work on Excel]],tblHours,2,0)","v":5},{"$f":"VLOOKUP(tblSalaries[[#This Row],[clean Country]],tblCountries[],5,0)","v":13.098808879263672},{"$f":"IF($Q$1,tblSalaries[[#This Row],[PPP Factor]]*tblSalaries[[#This Row],[Salary in USD]],tblSalaries[[#This Row],[Salary in USD]])","v":3205.4250037396623}]
[null,"ID0720","2012-05-26T14:46:55",375000,375000,"INR",{"$f":"tblSalaries[[#This Row],[clean Salary (in local currency)]]*VLOOKUP(tblSalaries[[#This Row],[Currency]],tblXrate[],2,FALSE)","v":6677.9687577909626},"Team Lead","Manager","India",{"$f":"VLOOKUP(tblSalaries[[#This Row],[Where do you work]],tblCountries[[Actual]:[Mapping]],2,FALSE)","v":"India"},"2 to 3 hours per day",6,{"$f":"VLOOKUP(K710,tblCountries[],3,0)","v":"Asia"},{"$f":"VLOOKUP(tblSalaries[[#This Row],[How many hours of a day you work on Excel]],tblHours,2,0)","v":3},{"$f":"VLOOKUP(tblSalaries[[#This Row],[clean Country]],tblCountries[],5,0)","v":13.098808879263672},{"$f":"IF($Q$1,tblSalaries[[#This Row],[PPP Factor]]*tblSalaries[[#This Row],[Salary in USD]],tblSalaries[[#This Row],[Salary in USD]])","v":6677.9687577909626}]
[null,"ID0721","2012-05-26T14:51:02",85000,85000,"NZD",{"$f":"tblSalaries[[#This Row],[clean Salary (in local currency)]]*VLOOKUP(tblSalaries[[#This Row],[Currency]],tblXrate[],2,FALSE)","v":67794.987956419791},"Systems Manager","Manager","New Zealand",{"$f":"VLOOKUP(tblSalaries[[#This Row],[Where do you work]],tblCountries[[Actual]:[Mapping]],2,FALSE)","v":"New Zealand"},"4 to 6 hours a day",15,{"$f":"VLOOKUP(K711,tblCountries[],3,0)","v":"Oceania"},{"$f":"VLOOKUP(tblSalaries[[#This Row],[How many hours of a day you work on Excel]],tblHours,2,0)","v":4},{"$f":"VLOOKUP(tblSalaries[[#This Row],[clean Country]],tblCountries[],5,0)","v":1.7488434292323261},{"$f":"IF($Q$1,tblSalaries[[#This Row],[PPP Factor]]*tblSalaries[[#This Row],[Salary in USD]],tblSalaries[[#This Row],[Salary in USD]])","v":67794.987956419791}]
[null,"ID0722","2012-05-26T14:57:39",31250,31250,"USD",{"$f":"tblSalaries[[#This Row],[clean Salary (in local currency)]]*VLOOKUP(tblSalaries[[#This Row],[Currency]],tblXrate[],2,FALSE)","v":31250},"Program management","Manager","India",{"$f":"VLOOKUP(tblSalaries[[#This Row],[Where do you work]],tblCountries[[Actual]:[Mapping]],2,FALSE)","v":"India"},"2 to 3 hours per day",6,{"$f":"VLOOKUP(K712,tblCountries[],3,0)","v":"Asia"},{"$f":"VLOOKUP(tblSalaries[[#This Row],[How many hours of a day you work on Excel]],tblHours,2,0)","v":3},{"$f":"VLOOKUP(tblSalaries[[#This Row],[clean Country]],tblCountries[],5,0)","v":13.098808879263672},{"$f":"IF($Q$1,tblSalaries[[#This Row],[PPP Factor]]*tblSalaries[[#This Row],[Salary in USD]],tblSalaries[[#This Row],[Salary in USD]])","v":31250}]
[null,"ID0723","2012-05-26T14:57:45","PKR 17000",204000,"PKR",{"$f":"tblSalaries[[#This Row],[clean Salary (in local currency)]]*VLOOKUP(tblSalaries[[#This Row],[Currency]],tblXrate[],2,FALSE)","v":2165.2740982270229},"Accounts Manager","Manager","Pakistan",{"$f":"VLOOKUP(tblSalaries[[#This Row],[Where do you work]],tblCountries[[Actual]:[Mapping]],2,FALSE)","v":"Pakistan"},"All the 8 hours baby, all the 8!",2,{"$f":"VLOOKUP(K713,tblCountries[],3,0)","v":"Asia"},{"$f":"VLOOKUP(tblSalaries[[#This Row],[How many hours of a day you work on Excel]],tblHours,2,0)","v":5},{"$f":"VLOOKUP(tblSalaries[[#This Row],[clean Country]],tblCountries[],5,0)","v":17.361679224973088},{"$f":"IF($Q$1,tblSalaries[[#This Row],[PPP Factor]]*tblSalaries[[#This Row],[Salary in USD]],tblSalaries[[#This Row],[Salary in USD]])","v":2165.2740982270229}]
[null,"ID0724","2012-05-26T14:58:24","Rs.4lk ",400000,"INR",{"$f":"tblSalaries[[#This Row],[clean Salary (in local currency)]]*VLOOKUP(tblSalaries[[#This Row],[Currency]],tblXrate[],2,FALSE)","v":7123.1666749770275},"sr. mis executive","Reporting","India",{"$f":"VLOOKUP(tblSalaries[[#This Row],[Where do you work]],tblCountries[[Actual]:[Mapping]],2,FALSE)","v":"India"},"All the 8 hours baby, all the 8!",4,{"$f":"VLOOKUP(K714,tblCountries[],3,0)","v":"Asia"},{"$f":"VLOOKUP(tblSalaries[[#This Row],[How many hours of a day you work on Excel]],tblHours,2,0)","v":5},{"$f":"VLOOKUP(tblSalaries[[#This Row],[clean Country]],tblCountries[],5,0)","v":13.098808879263672},{"$f":"IF($Q$1,tblSalaries[[#This Row],[PPP Factor]]*tblSalaries[[#This Row],[Salary in USD]],tblSalaries[[#This Row],[Salary in USD]])","v":7123.1666749770275}]
[null,"ID0725","2012-05-26T15:01:00","USD130000",130000,"USD",{"$f":"tblSalaries[[#This Row],[clean Salary (in local currency)]]*VLOOKUP(tblSalaries[[#This Row],[Currency]],tblXrate[],2,FALSE)","v":130000},"Modeller","Manager","Australia",{"$f":"VLOOKUP(tblSalaries[[#This Row],[Where do you work]],tblCountries[[Actual]:[Mapping]],2,FALSE)","v":"Australia"},"4 to 6 hours a day",3,{"$f":"VLOOKUP(K715,tblCountries[],3,0)","v":"Oceania"},{"$f":"VLOOKUP(tblSalaries[[#This Row],[How many hours of a day you work on Excel]],tblHours,2,0)","v":4},{"$f":"VLOOKUP(tblSalaries[[#This Row],[clean Country]],tblCountries[],5,0)","v":1.2026395585822935},{"$f":"IF($Q$1,tblSalaries[[#This Row],[PPP Factor]]*tblSalaries[[#This Row],[Salary in USD]],tblSalaries[[#This Row],[Salary in USD]])","v":130000}]
[null,"ID0726","2012-05-26T15:01:41","Rs. 250000",250000,"INR",{"$f":"tblSalaries[[#This Row],[clean Salary (in local currency)]]*VLOOKUP(tblSalaries[[#This Row],[Currency]],tblXrate[],2,FALSE)","v":4451.9791718606421},"Asst. Manager","Manager","India",{"$f":"VLOOKUP(tblSalaries[[#This Row],[Where do you work]],tblCountries[[Actual]:[Mapping]],2,FALSE)","v":"India"},"4 to 6 hours a day",6,{"$f":"VLOOKUP(K716,tblCountries[],3,0)","v":"Asia"},{"$f":"VLOOKUP(tblSalaries[[#This Row],[How many hours of a day you work on Excel]],tblHours,2,0)","v":4},{"$f":"VLOOKUP(tblSalaries[[#This Row],[clean Country]],tblCountries[],5,0)","v":13.098808879263672},{"$f":"IF($Q$1,tblSalaries[[#This Row],[PPP Factor]]*tblSalaries[[#This Row],[Salary in USD]],tblSalaries[[#This Row],[Salary in USD]])","v":4451.9791718606421}]
[null,"ID0727","2012-05-26T15:02:34",800,9600,"USD",{"$f":"tblSalaries[[#This Row],[clean Salary (in local currency)]]*VLOOKUP(tblSalaries[[#This Row],[Currency]],tblXrate[],2,FALSE)","v":9600},"Admin","Analyst","South Africa",{"$f":"VLOOKUP(tblSalaries[[#This Row],[Where do you work]],tblCountries[[Actual]:[Mapping]],2,FALSE)","v":"South Africa"},"4 to 6 hours a day",2,{"$f":"VLOOKUP(K717,tblCountries[],3,0)","v":"Africa"},{"$f":"VLOOKUP(tblSalaries[[#This Row],[How many hours of a day you work on Excel]],tblHours,2,0)","v":4},{"$f":"VLOOKUP(tblSalaries[[#This Row],[clean Country]],tblCountries[],5,0)","v":4.4096418481727877},{"$f":"IF($Q$1,tblSalaries[[#This Row],[PPP Factor]]*tblSalaries[[#This Row],[Salary in USD]],tblSalaries[[#This Row],[Salary in USD]])","v":9600}]
[null,"ID0728","2012-05-26T15:04:33","INR 390000 PA",390000,"INR",{"$f":"tblSalaries[[#This Row],[clean Salary (in local currency)]]*VLOOKUP(tblSalaries[[#This Row],[Currency]],tblXrate[],2,FALSE)","v":6945.0875081026015},"Business Analyst","Analyst","India",{"$f":"VLOOKUP(tblSalaries[[#This Row],[Where do you work]],tblCountries[[Actual]:[Mapping]],2,FALSE)","v":"India"},"4 to 6 hours a day",1,{"$f":"VLOOKUP(K718,tblCountries[],3,0)","v":"Asia"},{"$f":"VLOOKUP(tblSalaries[[#This Row],[How many hours of a day you work on Excel]],tblHours,2,0)","v":4},{"$f":"VLOOKUP(tblSalaries[[#This Row],[clean Country]],tblCountries[],5,0)","v":13.098808879263672},{"$f":"IF($Q$1,tblSalaries[[#This Row],[PPP Factor]]*tblSalaries[[#This Row],[Salary in USD]],tblSalaries[[#This Row],[Salary in USD]])","v":6945.0875081026015}]
[null,"ID0729","2012-05-26T15:05:42",600000,600000,"INR",{"$f":"tblSalaries[[#This Row],[clean Salary (in local currency)]]*VLOOKUP(tblSalaries[[#This Row],[Currency]],tblXrate[],2,FALSE)","v":10684.750012465542},"Sr Financial Execative","Accountant","India",{"$f":"VLOOKUP(tblSalaries[[#This Row],[Where do you work]],tblCountries[[Actual]:[Mapping]],2,FALSE)","v":"India"},"All the 8 hours baby, all the 8!",7,{"$f":"VLOOKUP(K719,tblCountries[],3,0)","v":"Asia"},{"$f":"VLOOKUP(tblSalaries[[#This Row],[How many hours of a day you work on Excel]],tblHours,2,0)","v":5},{"$f":"VLOOKUP(tblSalaries[[#This Row],[clean Country]],tblCountries[],5,0)","v":13.098808879263672},{"$f":"IF($Q$1,tblSalaries[[#This Row],[PPP Factor]]*tblSalaries[[#This Row],[Salary in USD]],tblSalaries[[#This Row],[Salary in USD]])","v":10684.750012465542}]
[null,"ID0730","2012-05-26T15:06:00",4.8,480000,"INR",{"$f":"tblSalaries[[#This Row],[clean Salary (in local currency)]]*VLOOKUP(tblSalaries[[#This Row],[Currency]],tblXrate[],2,FALSE)","v":8547.8000099724322},"Asst Mngr","Analyst","India",{"$f":"VLOOKUP(tblSalaries[[#This Row],[Where do you work]],tblCountries[[Actual]:[Mapping]],2,FALSE)","v":"India"},"2 to 3 hours per day",3.5,{"$f":"VLOOKUP(K720,tblCountries[],3,0)","v":"Asia"},{"$f":"VLOOKUP(tblSalaries[[#This Row],[How many hours of a day you work on Excel]],tblHours,2,0)","v":3},{"$f":"VLOOKUP(tblSalaries[[#This Row],[clean Country]],tblCountries[],5,0)","v":13.098808879263672},{"$f":"IF($Q$1,tblSalaries[[#This Row],[PPP Factor]]*tblSalaries[[#This Row],[Salary in USD]],tblSalaries[[#This Row],[Salary in USD]])","v":8547.8000099724322}]
[null,"ID0731","2012-05-26T15:07:39",35000,35000,"USD",{"$f":"tblSalaries[[#This Row],[clean Salary (in local currency)]]*VLOOKUP(tblSalaries[[#This Row],[Currency]],tblXrate[],2,FALSE)","v":35000},"Associate","Analyst","India",{"$f":"VLOOKUP(tblSalaries[[#This Row],[Where do you work]],tblCountries[[Actual]:[Mapping]],2,FALSE)","v":"India"},"4 to 6 hours a day",10,{"$f":"VLOOKUP(K721,tblCountries[],3,0)","v":"Asia"},{"$f":"VLOOKUP(tblSalaries[[#This Row],[How many hours of a day you work on Excel]],tblHours,2,0)","v":4},{"$f":"VLOOKUP(tblSalaries[[#This Row],[clean Country]],tblCountries[],5,0)","v":13.098808879263672},{"$f":"IF($Q$1,tblSalaries[[#This Row],[PPP Factor]]*tblSalaries[[#This Row],[Salary in USD]],tblSalaries[[#This Row],[Salary in USD]])","v":35000}]
[null,"ID0732","2012-05-26T15:09:27","Ind Rs.10,00,000.00",1000000,"INR",{"$f":"tblSalaries[[#This Row],[clean Salary (in local currency)]]*VLOOKUP(tblSalaries[[#This Row],[Currency]],tblXrate[],2,FALSE)","v":17807.916687442568},"Sr Associate","Analyst","India",{"$f":"VLOOKUP(tblSalaries[[#This Row],[Where do you work]],tblCountries[[Actual]:[Mapping]],2,FALSE)","v":"India"},"2 to 3 hours per day",12,{"$f":"VLOOKUP(K722,tblCountries[],3,0)","v":"Asia"},{"$f":"VLOOKUP(tblSalaries[[#This Row],[How many hours of a day you work on Excel]],tblHours,2,0)","v":3},{"$f":"VLOOKUP(tblSalaries[[#This Row],[clean Country]],tblCountries[],5,0)","v":13.098808879263672},{"$f":"IF($Q$1,tblSalaries[[#This Row],[PPP Factor]]*tblSalaries[[#This Row],[Salary in USD]],tblSalaries[[#This Row],[Salary in USD]])","v":17807.916687442568}]
[null,"ID0733","2012-05-26T15:21:41",180000,180000,"INR",{"$f":"tblSalaries[[#This Row],[clean Salary (in local currency)]]*VLOOKUP(tblSalaries[[#This Row],[Currency]],tblXrate[],2,FALSE)","v":3205.4250037396623},"Accountant","Accountant","India",{"$f":"VLOOKUP(tblSalaries[[#This Row],[Where do you work]],tblCountries[[Actual]:[Mapping]],2,FALSE)","v":"India"},"All the 8 hours baby, all the 8!",4,{"$f":"VLOOKUP(K723,tblCountries[],3,0)","v":"Asia"},{"$f":"VLOOKUP(tblSalaries[[#This Row],[How many hours of a day you work on Excel]],tblHours,2,0)","v":5},{"$f":"VLOOKUP(tblSalaries[[#This Row],[clean Country]],tblCountries[],5,0)","v":13.098808879263672},{"$f":"IF($Q$1,tblSalaries[[#This Row],[PPP Factor]]*tblSalaries[[#This Row],[Salary in USD]],tblSalaries[[#This Row],[Salary in USD]])","v":3205.4250037396623}]
[null,"ID0734","2012-05-26T15:24:32",5000,60000,"USD",{"$f":"tblSalaries[[#This Row],[clean Salary (in local currency)]]*VLOOKUP(tblSalaries[[#This Row],[Currency]],tblXrate[],2,FALSE)","v":60000},"Manager","Manager","Russia",{"$f":"VLOOKUP(tblSalaries[[#This Row],[Where do you work]],tblCountries[[Actual]:[Mapping]],2,FALSE)","v":"Russia"},"4 to 6 hours a day",10,{"$f":"VLOOKUP(K724,tblCountries[],3,0)","v":"Asia"},{"$f":"VLOOKUP(tblSalaries[[#This Row],[How many hours of a day you work on Excel]],tblHours,2,0)","v":4},{"$f":"VLOOKUP(tblSalaries[[#This Row],[clean Country]],tblCountries[],5,0)","v":2.8911926386233269},{"$f":"IF($Q$1,tblSalaries[[#This Row],[PPP Factor]]*tblSalaries[[#This Row],[Salary in USD]],tblSalaries[[#This Row],[Salary in USD]])","v":60000}]
[null,"ID0735","2012-05-26T15:27:48","8 Lakhs",800000,"INR",{"$f":"tblSalaries[[#This Row],[clean Salary (in local currency)]]*VLOOKUP(tblSalaries[[#This Row],[Currency]],tblXrate[],2,FALSE)","v":14246.333349954055},"Manager","Manager","India",{"$f":"VLOOKUP(tblSalaries[[#This Row],[Where do you work]],tblCountries[[Actual]:[Mapping]],2,FALSE)","v":"India"},"2 to 3 hours per day",13,{"$f":"VLOOKUP(K725,tblCountries[],3,0)","v":"Asia"},{"$f":"VLOOKUP(tblSalaries[[#This Row],[How many hours of a day you work on Excel]],tblHours,2,0)","v":3},{"$f":"VLOOKUP(tblSalaries[[#This Row],[clean Country]],tblCountries[],5,0)","v":13.098808879263672},{"$f":"IF($Q$1,tblSalaries[[#This Row],[PPP Factor]]*tblSalaries[[#This Row],[Salary in USD]],tblSalaries[[#This Row],[Salary in USD]])","v":14246.333349954055}]
[null,"ID0736","2012-05-26T15:30:23","6 Lac Rs",600000,"INR",{"$f":"tblSalaries[[#This Row],[clean Salary (in local currency)]]*VLOOKUP(tblSalaries[[#This Row],[Currency]],tblXrate[],2,FALSE)","v":10684.750012465542},"ERP Co-Ordinator","Manager","India",{"$f":"VLOOKUP(tblSalaries[[#This Row],[Where do you work]],tblCountries[[Actual]:[Mapping]],2,FALSE)","v":"India"},"2 to 3 hours per day",8,{"$f":"VLOOKUP(K726,tblCountries[],3,0)","v":"Asia"},{"$f":"VLOOKUP(tblSalaries[[#This Row],[How many hours of a day you work on Excel]],tblHours,2,0)","v":3},{"$f":"VLOOKUP(tblSalaries[[#This Row],[clean Country]],tblCountries[],5,0)","v":13.098808879263672},{"$f":"IF($Q$1,tblSalaries[[#This Row],[PPP Factor]]*tblSalaries[[#This Row],[Salary in USD]],tblSalaries[[#This Row],[Salary in USD]])","v":10684.750012465542}]
[null,"ID0737","2012-05-26T15:35:43",40000,40000,"USD",{"$f":"tblSalaries[[#This Row],[clean Salary (in local currency)]]*VLOOKUP(tblSalaries[[#This Row],[Currency]],tblXrate[],2,FALSE)","v":40000},"Revenue Manager","Manager","India",{"$f":"VLOOKUP(tblSalaries[[#This Row],[Where do you work]],tblCountries[[Actual]:[Mapping]],2,FALSE)","v":"India"},"All the 8 hours baby, all the 8!",15,{"$f":"VLOOKUP(K727,tblCountries[],3,0)","v":"Asia"},{"$f":"VLOOKUP(tblSalaries[[#This Row],[How many hours of a day you work on Excel]],tblHours,2,0)","v":5},{"$f":"VLOOKUP(tblSalaries[[#This Row],[clean Country]],tblCountries[],5,0)","v":13.098808879263672},{"$f":"IF($Q$1,tblSalaries[[#This Row],[PPP Factor]]*tblSalaries[[#This Row],[Salary in USD]],tblSalaries[[#This Row],[Salary in USD]])","v":40000}]
[null,"ID0738","2012-05-26T15:44:32",5022,5022,"USD",{"$f":"tblSalaries[[#This Row],[clean Salary (in local currency)]]*VLOOKUP(tblSalaries[[#This Row],[Currency]],tblXrate[],2,FALSE)","v":5022},"Accounts analyst","Analyst","Pakistan",{"$f":"VLOOKUP(tblSalaries[[#This Row],[Where do you work]],tblCountries[[Actual]:[Mapping]],2,FALSE)","v":"Pakistan"},"4 to 6 hours a day",15,{"$f":"VLOOKUP(K728,tblCountries[],3,0)","v":"Asia"},{"$f":"VLOOKUP(tblSalaries[[#This Row],[How many hours of a day you work on Excel]],tblHours,2,0)","v":4},{"$f":"VLOOKUP(tblSalaries[[#This Row],[clean Country]],tblCountries[],5,0)","v":17.361679224973088},{"$f":"IF($Q$1,tblSalaries[[#This Row],[PPP Factor]]*tblSalaries[[#This Row],[Salary in USD]],tblSalaries[[#This Row],[Salary in USD]])","v":5022}]
[null,"ID0739","2012-05-26T15:51:11",410000,410000,"INR",{"$f":"tblSalaries[[#This Row],[clean Salary (in local currency)]]*VLOOKUP(tblSalaries[[#This Row],[Currency]],tblXrate[],2,FALSE)","v":7301.2458418514525},"MIS Analyst","Analyst","India",{"$f":"VLOOKUP(tblSalaries[[#This Row],[Where do you work]],tblCountries[[Actual]:[Mapping]],2,FALSE)","v":"India"},"All the 8 hours baby, all the 8!",5,{"$f":"VLOOKUP(K729,tblCountries[],3,0)","v":"Asia"},{"$f":"VLOOKUP(tblSalaries[[#This Row],[How many hours of a day you work on Excel]],tblHours,2,0)","v":5},{"$f":"VLOOKUP(tblSalaries[[#This Row],[clean Country]],tblCountries[],5,0)","v":13.098808879263672},{"$f":"IF($Q$1,tblSalaries[[#This Row],[PPP Factor]]*tblSalaries[[#This Row],[Salary in USD]],tblSalaries[[#This Row],[Salary in USD]])","v":7301.2458418514525}]
[null,"ID0740","2012-05-26T15:53:10",10000,120000,"EGYPT",{"$f":"tblSalaries[[#This Row],[clean Salary (in local currency)]]*VLOOKUP(tblSalaries[[#This Row],[Currency]],tblXrate[],2,FALSE)","v":19831.432821021317},"Estimator","Analyst","Egypt",{"$f":"VLOOKUP(tblSalaries[[#This Row],[Where do you work]],tblCountries[[Actual]:[Mapping]],2,FALSE)","v":"Egypt"},"All the 8 hours baby, all the 8!",5,{"$f":"VLOOKUP(K730,tblCountries[],3,0)","v":"Africa"},{"$f":"VLOOKUP(tblSalaries[[#This Row],[How many hours of a day you work on Excel]],tblHours,2,0)","v":5},{"$f":"VLOOKUP(tblSalaries[[#This Row],[clean Country]],tblCountries[],5,0)","v":7.3986238532110091},{"$f":"IF($Q$1,tblSalaries[[#This Row],[PPP Factor]]*tblSalaries[[#This Row],[Salary in USD]],tblSalaries[[#This Row],[Salary in USD]])","v":19831.432821021317}]
[null,"ID0741","2012-05-26T15:54:00","50 k per month",600000,"INR",{"$f":"tblSalaries[[#This Row],[clean Salary (in local currency)]]*VLOOKUP(tblSalaries[[#This Row],[Currency]],tblXrate[],2,FALSE)","v":10684.750012465542},"Finance Manager","Manager","India",{"$f":"VLOOKUP(tblSalaries[[#This Row],[Where do you work]],tblCountries[[Actual]:[Mapping]],2,FALSE)","v":"India"},"4 to 6 hours a day",5,{"$f":"VLOOKUP(K731,tblCountries[],3,0)","v":"Asia"},{"$f":"VLOOKUP(tblSalaries[[#This Row],[How many hours of a day you work on Excel]],tblHours,2,0)","v":4},{"$f":"VLOOKUP(tblSalaries[[#This Row],[clean Country]],tblCountries[],5,0)","v":13.098808879263672},{"$f":"IF($Q$1,tblSalaries[[#This Row],[PPP Factor]]*tblSalaries[[#This Row],[Salary in USD]],tblSalaries[[#This Row],[Salary in USD]])","v":10684.750012465542}]
[null,"ID0742","2012-05-26T15:56:57","4800 $",4800,"USD",{"$f":"tblSalaries[[#This Row],[clean Salary (in local currency)]]*VLOOKUP(tblSalaries[[#This Row],[Currency]],tblXrate[],2,FALSE)","v":4800},"Data Analysis","Analyst","Bhutan",{"$f":"VLOOKUP(tblSalaries[[#This Row],[Where do you work]],tblCountries[[Actual]:[Mapping]],2,FALSE)","v":"Bhutan"},"4 to 6 hours a day",2,{"$f":"VLOOKUP(K732,tblCountries[],3,0)","v":"Asia"},{"$f":"VLOOKUP(tblSalaries[[#This Row],[How many hours of a day you work on Excel]],tblHours,2,0)","v":4},{"$f":"VLOOKUP(tblSalaries[[#This Row],[clean Country]],tblCountries[],5,0)","v":7.916721204188482},{"$f":"IF($Q$1,tblSalaries[[#This Row],[PPP Factor]]*tblSalaries[[#This Row],[Salary in USD]],tblSalaries[[#This Row],[Salary in USD]])","v":4800}]
[null,"ID0743","2012-05-26T15:59:44","66000 â‚¬",66000,"EUR",{"$f":"tblSalaries[[#This Row],[clean Salary (in local currency)]]*VLOOKUP(tblSalaries[[#This Row],[Currency]],tblXrate[],2,FALSE)","v":83846.362973446114},"Logistics Analyst","Analyst","germany",{"$f":"VLOOKUP(tblSalaries[[#This Row],[Where do you work]],tblCountries[[Actual]:[Mapping]],2,FALSE)","v":"Germany"},"4 to 6 hours a day",7,{"$f":"VLOOKUP(K733,tblCountries[],3,0)","v":"Europe"},{"$f":"VLOOKUP(tblSalaries[[#This Row],[How many hours of a day you work on Excel]],tblHours,2,0)","v":4},{"$f":"VLOOKUP(tblSalaries[[#This Row],[clean Country]],tblCountries[],5,0)","v":1.276802913159353},{"$f":"IF($Q$1,tblSalaries[[#This Row],[PPP Factor]]*tblSalaries[[#This Row],[Salary in USD]],tblSalaries[[#This Row],[Salary in USD]])","v":83846.362973446114}]
[null,"ID0744","2012-05-26T16:01:54",15000,15000,"USD",{"$f":"tblSalaries[[#This Row],[clean Salary (in local currency)]]*VLOOKUP(tblSalaries[[#This Row],[Currency]],tblXrate[],2,FALSE)","v":15000},"PROCSS ASOCIATE","Controller","India",{"$f":"VLOOKUP(tblSalaries[[#This Row],[Where do you work]],tblCountries[[Actual]:[Mapping]],2,FALSE)","v":"India"},"2 to 3 hours per day",2,{"$f":"VLOOKUP(K734,tblCountries[],3,0)","v":"Asia"},{"$f":"VLOOKUP(tblSalaries[[#This Row],[How many hours of a day you work on Excel]],tblHours,2,0)","v":3},{"$f":"VLOOKUP(tblSalaries[[#This Row],[clean Country]],tblCountries[],5,0)","v":13.098808879263672},{"$f":"IF($Q$1,tblSalaries[[#This Row],[PPP Factor]]*tblSalaries[[#This Row],[Salary in USD]],tblSalaries[[#This Row],[Salary in USD]])","v":15000}]
[null,"ID0745","2012-05-26T16:05:02",10000,10000,"USD",{"$f":"tblSalaries[[#This Row],[clean Salary (in local currency)]]*VLOOKUP(tblSalaries[[#This Row],[Currency]],tblXrate[],2,FALSE)","v":10000},"Reporting Analyst","Analyst","India",{"$f":"VLOOKUP(tblSalaries[[#This Row],[Where do you work]],tblCountries[[Actual]:[Mapping]],2,FALSE)","v":"India"},"4 to 6 hours a day",12,{"$f":"VLOOKUP(K735,tblCountries[],3,0)","v":"Asia"},{"$f":"VLOOKUP(tblSalaries[[#This Row],[How many hours of a day you work on Excel]],tblHours,2,0)","v":4},{"$f":"VLOOKUP(tblSalaries[[#This Row],[clean Country]],tblCountries[],5,0)","v":13.098808879263672},{"$f":"IF($Q$1,tblSalaries[[#This Row],[PPP Factor]]*tblSalaries[[#This Row],[Salary in USD]],tblSalaries[[#This Row],[Salary in USD]])","v":10000}]
[null,"ID0746","2012-05-26T16:10:08",74000,74000,"GBP",{"$f":"tblSalaries[[#This Row],[clean Salary (in local currency)]]*VLOOKUP(tblSalaries[[#This Row],[Currency]],tblXrate[],2,FALSE)","v":116637.19213297902},"Corporate Finance Manager","Manager","UK",{"$f":"VLOOKUP(tblSalaries[[#This Row],[Where do you work]],tblCountries[[Actual]:[Mapping]],2,FALSE)","v":"UK"},"4 to 6 hours a day",5,{"$f":"VLOOKUP(K736,tblCountries[],3,0)","v":"Europe"},{"$f":"VLOOKUP(tblSalaries[[#This Row],[How many hours of a day you work on Excel]],tblHours,2,0)","v":4},{"$f":"VLOOKUP(tblSalaries[[#This Row],[clean Country]],tblCountries[],5,0)","v":1.3407315045719035},{"$f":"IF($Q$1,tblSalaries[[#This Row],[PPP Factor]]*tblSalaries[[#This Row],[Salary in USD]],tblSalaries[[#This Row],[Salary in USD]])","v":116637.19213297902}]
[null,"ID0747","2012-05-26T16:12:09","GBP21798",21798,"GBP",{"$f":"tblSalaries[[#This Row],[clean Salary (in local currency)]]*VLOOKUP(tblSalaries[[#This Row],[Currency]],tblXrate[],2,FALSE)","v":34357.533974522659},"Data Analyst","Analyst","UK",{"$f":"VLOOKUP(tblSalaries[[#This Row],[Where do you work]],tblCountries[[Actual]:[Mapping]],2,FALSE)","v":"UK"},"All the 8 hours baby, all the 8!",1.5,{"$f":"VLOOKUP(K737,tblCountries[],3,0)","v":"Europe"},{"$f":"VLOOKUP(tblSalaries[[#This Row],[How many hours of a day you work on Excel]],tblHours,2,0)","v":5},{"$f":"VLOOKUP(tblSalaries[[#This Row],[clean Country]],tblCountries[],5,0)","v":1.3407315045719035},{"$f":"IF($Q$1,tblSalaries[[#This Row],[PPP Factor]]*tblSalaries[[#This Row],[Salary in USD]],tblSalaries[[#This Row],[Salary in USD]])","v":34357.533974522659}]
[null,"ID0748","2012-05-26T16:16:39",65000,65000,"GBP",{"$f":"tblSalaries[[#This Row],[clean Salary (in local currency)]]*VLOOKUP(tblSalaries[[#This Row],[Currency]],tblXrate[],2,FALSE)","v":102451.58768437347},"compliance manager","Manager","UK",{"$f":"VLOOKUP(tblSalaries[[#This Row],[Where do you work]],tblCountries[[Actual]:[Mapping]],2,FALSE)","v":"UK"},"4 to 6 hours a day",15,{"$f":"VLOOKUP(K738,tblCountries[],3,0)","v":"Europe"},{"$f":"VLOOKUP(tblSalaries[[#This Row],[How many hours of a day you work on Excel]],tblHours,2,0)","v":4},{"$f":"VLOOKUP(tblSalaries[[#This Row],[clean Country]],tblCountries[],5,0)","v":1.3407315045719035},{"$f":"IF($Q$1,tblSalaries[[#This Row],[PPP Factor]]*tblSalaries[[#This Row],[Salary in USD]],tblSalaries[[#This Row],[Salary in USD]])","v":102451.58768437347}]
[null,"ID0749","2012-05-26T16:23:30",16000,16000,"USD",{"$f":"tblSalaries[[#This Row],[clean Salary (in local currency)]]*VLOOKUP(tblSalaries[[#This Row],[Currency]],tblXrate[],2,FALSE)","v":16000},"Engineer","Engineer","India",{"$f":"VLOOKUP(tblSalaries[[#This Row],[Where do you work]],tblCountries[[Actual]:[Mapping]],2,FALSE)","v":"India"},"2 to 3 hours per day",5,{"$f":"VLOOKUP(K739,tblCountries[],3,0)","v":"Asia"},{"$f":"VLOOKUP(tblSalaries[[#This Row],[How many hours of a day you work on Excel]],tblHours,2,0)","v":3},{"$f":"VLOOKUP(tblSalaries[[#This Row],[clean Country]],tblCountries[],5,0)","v":13.098808879263672},{"$f":"IF($Q$1,tblSalaries[[#This Row],[PPP Factor]]*tblSalaries[[#This Row],[Salary in USD]],tblSalaries[[#This Row],[Salary in USD]])","v":16000}]
[null,"ID0750","2012-05-26T16:25:53",6000,6000,"USD",{"$f":"tblSalaries[[#This Row],[clean Salary (in local currency)]]*VLOOKUP(tblSalaries[[#This Row],[Currency]],tblXrate[],2,FALSE)","v":6000},"Merchandiser","Manager","India",{"$f":"VLOOKUP(tblSalaries[[#This Row],[Where do you work]],tblCountries[[Actual]:[Mapping]],2,FALSE)","v":"India"},"2 to 3 hours per day",6,{"$f":"VLOOKUP(K740,tblCountries[],3,0)","v":"Asia"},{"$f":"VLOOKUP(tblSalaries[[#This Row],[How many hours of a day you work on Excel]],tblHours,2,0)","v":3},{"$f":"VLOOKUP(tblSalaries[[#This Row],[clean Country]],tblCountries[],5,0)","v":13.098808879263672},{"$f":"IF($Q$1,tblSalaries[[#This Row],[PPP Factor]]*tblSalaries[[#This Row],[Salary in USD]],tblSalaries[[#This Row],[Salary in USD]])","v":6000}]
[null,"ID0751","2012-05-26T16:26:35","INR 30000",360000,"INR",{"$f":"tblSalaries[[#This Row],[clean Salary (in local currency)]]*VLOOKUP(tblSalaries[[#This Row],[Currency]],tblXrate[],2,FALSE)","v":6410.8500074793246},"Project Lead","Manager","India",{"$f":"VLOOKUP(tblSalaries[[#This Row],[Where do you work]],tblCountries[[Actual]:[Mapping]],2,FALSE)","v":"India"},"All the 8 hours baby, all the 8!",6,{"$f":"VLOOKUP(K741,tblCountries[],3,0)","v":"Asia"},{"$f":"VLOOKUP(tblSalaries[[#This Row],[How many hours of a day you work on Excel]],tblHours,2,0)","v":5},{"$f":"VLOOKUP(tblSalaries[[#This Row],[clean Country]],tblCountries[],5,0)","v":13.098808879263672},{"$f":"IF($Q$1,tblSalaries[[#This Row],[PPP Factor]]*tblSalaries[[#This Row],[Salary in USD]],tblSalaries[[#This Row],[Salary in USD]])","v":6410.8500074793246}]
[null,"ID0752","2012-05-26T16:29:36",36000,36000,"USD",{"$f":"tblSalaries[[#This Row],[clean Salary (in local currency)]]*VLOOKUP(tblSalaries[[#This Row],[Currency]],tblXrate[],2,FALSE)","v":36000},"ENGINEER","Engineer","uae",{"$f":"VLOOKUP(tblSalaries[[#This Row],[Where do you work]],tblCountries[[Actual]:[Mapping]],2,FALSE)","v":"UAE"},"1 or 2 hours a day",7,{"$f":"VLOOKUP(K742,tblCountries[],3,0)","v":"Asia"},{"$f":"VLOOKUP(tblSalaries[[#This Row],[How many hours of a day you work on Excel]],tblHours,2,0)","v":2},{"$f":"VLOOKUP(tblSalaries[[#This Row],[clean Country]],tblCountries[],5,0)","v":1.0047551808629926},{"$f":"IF($Q$1,tblSalaries[[#This Row],[PPP Factor]]*tblSalaries[[#This Row],[Salary in USD]],tblSalaries[[#This Row],[Salary in USD]])","v":36000}]
[null,"ID0753","2012-05-26T16:33:58",20000,20000,"USD",{"$f":"tblSalaries[[#This Row],[clean Salary (in local currency)]]*VLOOKUP(tblSalaries[[#This Row],[Currency]],tblXrate[],2,FALSE)","v":20000},"engineer","Engineer","India",{"$f":"VLOOKUP(tblSalaries[[#This Row],[Where do you work]],tblCountries[[Actual]:[Mapping]],2,FALSE)","v":"India"},"1 or 2 hours a day",7,{"$f":"VLOOKUP(K743,tblCountries[],3,0)","v":"Asia"},{"$f":"VLOOKUP(tblSalaries[[#This Row],[How many hours of a day you work on Excel]],tblHours,2,0)","v":2},{"$f":"VLOOKUP(tblSalaries[[#This Row],[clean Country]],tblCountries[],5,0)","v":13.098808879263672},{"$f":"IF($Q$1,tblSalaries[[#This Row],[PPP Factor]]*tblSalaries[[#This Row],[Salary in USD]],tblSalaries[[#This Row],[Salary in USD]])","v":20000}]
[null,"ID0754","2012-05-26T16:34:18","INR240000",240000,"INR",{"$f":"tblSalaries[[#This Row],[clean Salary (in local currency)]]*VLOOKUP(tblSalaries[[#This Row],[Currency]],tblXrate[],2,FALSE)","v":4273.9000049862161},"SR. ACCOUNTS EXECUTIVE","Accountant","India",{"$f":"VLOOKUP(tblSalaries[[#This Row],[Where do you work]],tblCountries[[Actual]:[Mapping]],2,FALSE)","v":"India"},"4 to 6 hours a day",8,{"$f":"VLOOKUP(K744,tblCountries[],3,0)","v":"Asia"},{"$f":"VLOOKUP(tblSalaries[[#This Row],[How many hours of a day you work on Excel]],tblHours,2,0)","v":4},{"$f":"VLOOKUP(tblSalaries[[#This Row],[clean Country]],tblCountries[],5,0)","v":13.098808879263672},{"$f":"IF($Q$1,tblSalaries[[#This Row],[PPP Factor]]*tblSalaries[[#This Row],[Salary in USD]],tblSalaries[[#This Row],[Salary in USD]])","v":4273.9000049862161}]
[null,"ID0755","2012-05-26T16:34:57","Â£ 24000",24000,"GBP",{"$f":"tblSalaries[[#This Row],[clean Salary (in local currency)]]*VLOOKUP(tblSalaries[[#This Row],[Currency]],tblXrate[],2,FALSE)","v":37828.278529614821},"Business Support Specialist","Specialist","UK",{"$f":"VLOOKUP(tblSalaries[[#This Row],[Where do you work]],tblCountries[[Actual]:[Mapping]],2,FALSE)","v":"UK"},"All the 8 hours baby, all the 8!",8,{"$f":"VLOOKUP(K745,tblCountries[],3,0)","v":"Europe"},{"$f":"VLOOKUP(tblSalaries[[#This Row],[How many hours of a day you work on Excel]],tblHours,2,0)","v":5},{"$f":"VLOOKUP(tblSalaries[[#This Row],[clean Country]],tblCountries[],5,0)","v":1.3407315045719035},{"$f":"IF($Q$1,tblSalaries[[#This Row],[PPP Factor]]*tblSalaries[[#This Row],[Salary in USD]],tblSalaries[[#This Row],[Salary in USD]])","v":37828.278529614821}]
[null,"ID0756","2012-05-26T16:50:08","US $ 11,000",11000,"USD",{"$f":"tblSalaries[[#This Row],[clean Salary (in local currency)]]*VLOOKUP(tblSalaries[[#This Row],[Currency]],tblXrate[],2,FALSE)","v":11000},"Assistant Manager - Group MIS","Manager","Sri Lanka",{"$f":"VLOOKUP(tblSalaries[[#This Row],[Where do you work]],tblCountries[[Actual]:[Mapping]],2,FALSE)","v":"Sri Lanka"},"All the 8 hours baby, all the 8!",4.5,{"$f":"VLOOKUP(K746,tblCountries[],3,0)","v":"Asia"},{"$f":"VLOOKUP(tblSalaries[[#This Row],[How many hours of a day you work on Excel]],tblHours,2,0)","v":5},{"$f":"VLOOKUP(tblSalaries[[#This Row],[clean Country]],tblCountries[],5,0)","v":8.5278463165315479},{"$f":"IF($Q$1,tblSalaries[[#This Row],[PPP Factor]]*tblSalaries[[#This Row],[Salary in USD]],tblSalaries[[#This Row],[Salary in USD]])","v":11000}]
[null,"ID0757","2012-05-26T16:50:46",8000,8000,"USD",{"$f":"tblSalaries[[#This Row],[clean Salary (in local currency)]]*VLOOKUP(tblSalaries[[#This Row],[Currency]],tblXrate[],2,FALSE)","v":8000},"Business Analyst","Analyst","India",{"$f":"VLOOKUP(tblSalaries[[#This Row],[Where do you work]],tblCountries[[Actual]:[Mapping]],2,FALSE)","v":"India"},"2 to 3 hours per day",6,{"$f":"VLOOKUP(K747,tblCountries[],3,0)","v":"Asia"},{"$f":"VLOOKUP(tblSalaries[[#This Row],[How many hours of a day you work on Excel]],tblHours,2,0)","v":3},{"$f":"VLOOKUP(tblSalaries[[#This Row],[clean Country]],tblCountries[],5,0)","v":13.098808879263672},{"$f":"IF($Q$1,tblSalaries[[#This Row],[PPP Factor]]*tblSalaries[[#This Row],[Salary in USD]],tblSalaries[[#This Row],[Salary in USD]])","v":8000}]
[null,"ID0758","2012-05-26T17:02:46","Rs. 225000",225000,"INR",{"$f":"tblSalaries[[#This Row],[clean Salary (in local currency)]]*VLOOKUP(tblSalaries[[#This Row],[Currency]],tblXrate[],2,FALSE)","v":4006.7812546745777},"MIS Executive","Reporting","India",{"$f":"VLOOKUP(tblSalaries[[#This Row],[Where do you work]],tblCountries[[Actual]:[Mapping]],2,FALSE)","v":"India"},"All the 8 hours baby, all the 8!",5.5,{"$f":"VLOOKUP(K748,tblCountries[],3,0)","v":"Asia"},{"$f":"VLOOKUP(tblSalaries[[#This Row],[How many hours of a day you work on Excel]],tblHours,2,0)","v":5},{"$f":"VLOOKUP(tblSalaries[[#This Row],[clean Country]],tblCountries[],5,0)","v":13.098808879263672},{"$f":"IF($Q$1,tblSalaries[[#This Row],[PPP Factor]]*tblSalaries[[#This Row],[Salary in USD]],tblSalaries[[#This Row],[Salary in USD]])","v":4006.7812546745777}]
[null,"ID0759","2012-05-26T17:03:02",1488000,1488000,"NAIRA",{"$f":"tblSalaries[[#This Row],[clean Salary (in local currency)]]*VLOOKUP(tblSalaries[[#This Row],[Currency]],tblXrate[],2,FALSE)","v":9171.0323574730355},"Company Systems Integration Manager","Manager","Nigeria",{"$f":"VLOOKUP(tblSalaries[[#This Row],[Where do you work]],tblCountries[[Actual]:[Mapping]],2,FALSE)","v":"Nigeria"},"2 to 3 hours per day",5,{"$f":"VLOOKUP(K749,tblCountries[],3,0)","v":"Africa"},{"$f":"VLOOKUP(tblSalaries[[#This Row],[How many hours of a day you work on Excel]],tblHours,2,0)","v":3},{"$f":"VLOOKUP(tblSalaries[[#This Row],[clean Country]],tblCountries[],5,0)","v":18.769200930954227},{"$f":"IF($Q$1,tblSalaries[[#This Row],[PPP Factor]]*tblSalaries[[#This Row],[Salary in USD]],tblSalaries[[#This Row],[Salary in USD]])","v":9171.0323574730355}]
[null,"ID0760","2012-05-26T17:03:26","INR 20000",240000,"INR",{"$f":"tblSalaries[[#This Row],[clean Salary (in local currency)]]*VLOOKUP(tblSalaries[[#This Row],[Currency]],tblXrate[],2,FALSE)","v":4273.9000049862161},"EXECUTIVE","Analyst","India",{"$f":"VLOOKUP(tblSalaries[[#This Row],[Where do you work]],tblCountries[[Actual]:[Mapping]],2,FALSE)","v":"India"},"2 to 3 hours per day",20,{"$f":"VLOOKUP(K750,tblCountries[],3,0)","v":"Asia"},{"$f":"VLOOKUP(tblSalaries[[#This Row],[How many hours of a day you work on Excel]],tblHours,2,0)","v":3},{"$f":"VLOOKUP(tblSalaries[[#This Row],[clean Country]],tblCountries[],5,0)","v":13.098808879263672},{"$f":"IF($Q$1,tblSalaries[[#This Row],[PPP Factor]]*tblSalaries[[#This Row],[Salary in USD]],tblSalaries[[#This Row],[Salary in USD]])","v":4273.9000049862161}]
[null,"ID0761","2012-05-26T17:04:23","INR 700000",700000,"INR",{"$f":"tblSalaries[[#This Row],[clean Salary (in local currency)]]*VLOOKUP(tblSalaries[[#This Row],[Currency]],tblXrate[],2,FALSE)","v":12465.541681209797},"Sales Management Analyst","Analyst","India",{"$f":"VLOOKUP(tblSalaries[[#This Row],[Where do you work]],tblCountries[[Actual]:[Mapping]],2,FALSE)","v":"India"},"All the 8 hours baby, all the 8!",5,{"$f":"VLOOKUP(K751,tblCountries[],3,0)","v":"Asia"},{"$f":"VLOOKUP(tblSalaries[[#This Row],[How many hours of a day you work on Excel]],tblHours,2,0)","v":5},{"$f":"VLOOKUP(tblSalaries[[#This Row],[clean Country]],tblCountries[],5,0)","v":13.098808879263672},{"$f":"IF($Q$1,tblSalaries[[#This Row],[PPP Factor]]*tblSalaries[[#This Row],[Salary in USD]],tblSalaries[[#This Row],[Salary in USD]])","v":12465.541681209797}]
[null,"ID0762","2012-05-26T17:06:48",2000,24000,"USD",{"$f":"tblSalaries[[#This Row],[clean Salary (in local currency)]]*VLOOKUP(tblSalaries[[#This Row],[Currency]],tblXrate[],2,FALSE)","v":24000},"Asst Production Planner","Analyst","India",{"$f":"VLOOKUP(tblSalaries[[#This Row],[Where do you work]],tblCountries[[Actual]:[Mapping]],2,FALSE)","v":"India"},"2 to 3 hours per day",1,{"$f":"VLOOKUP(K752,tblCountries[],3,0)","v":"Asia"},{"$f":"VLOOKUP(tblSalaries[[#This Row],[How many hours of a day you work on Excel]],tblHours,2,0)","v":3},{"$f":"VLOOKUP(tblSalaries[[#This Row],[clean Country]],tblCountries[],5,0)","v":13.098808879263672},{"$f":"IF($Q$1,tblSalaries[[#This Row],[PPP Factor]]*tblSalaries[[#This Row],[Salary in USD]],tblSalaries[[#This Row],[Salary in USD]])","v":24000}]
[null,"ID0763","2012-05-26T17:07:30",20000,20000,"USD",{"$f":"tblSalaries[[#This Row],[clean Salary (in local currency)]]*VLOOKUP(tblSalaries[[#This Row],[Currency]],tblXrate[],2,FALSE)","v":20000},"Consultat","Consultant","Denmark",{"$f":"VLOOKUP(tblSalaries[[#This Row],[Where do you work]],tblCountries[[Actual]:[Mapping]],2,FALSE)","v":"Denmark"},"2 to 3 hours per day",15,{"$f":"VLOOKUP(K753,tblCountries[],3,0)","v":"Europe"},{"$f":"VLOOKUP(tblSalaries[[#This Row],[How many hours of a day you work on Excel]],tblHours,2,0)","v":3},{"$f":"VLOOKUP(tblSalaries[[#This Row],[clean Country]],tblCountries[],5,0)","v":1.3024063307493541},{"$f":"IF($Q$1,tblSalaries[[#This Row],[PPP Factor]]*tblSalaries[[#This Row],[Salary in USD]],tblSalaries[[#This Row],[Salary in USD]])","v":20000}]
[null,"ID0764","2012-05-26T17:08:09",62000,62000,"USD",{"$f":"tblSalaries[[#This Row],[clean Salary (in local currency)]]*VLOOKUP(tblSalaries[[#This Row],[Currency]],tblXrate[],2,FALSE)","v":62000},"System Analyst ","Analyst","USA",{"$f":"VLOOKUP(tblSalaries[[#This Row],[Where do you work]],tblCountries[[Actual]:[Mapping]],2,FALSE)","v":"USA"},"2 to 3 hours per day",20,{"$f":"VLOOKUP(K754,tblCountries[],3,0)","v":"North Amer."},{"$f":"VLOOKUP(tblSalaries[[#This Row],[How many hours of a day you work on Excel]],tblHours,2,0)","v":3},{"$f":"VLOOKUP(tblSalaries[[#This Row],[clean Country]],tblCountries[],5,0)","v":1},{"$f":"IF($Q$1,tblSalaries[[#This Row],[PPP Factor]]*tblSalaries[[#This Row],[Salary in USD]],tblSalaries[[#This Row],[Salary in USD]])","v":62000}]
[null,"ID0765","2012-05-26T17:09:24","14960 $",14960,"USD",{"$f":"tblSalaries[[#This Row],[clean Salary (in local currency)]]*VLOOKUP(tblSalaries[[#This Row],[Currency]],tblXrate[],2,FALSE)","v":14960},"Stock Controller","Controller","Saudi Arabia",{"$f":"VLOOKUP(tblSalaries[[#This Row],[Where do you work]],tblCountries[[Actual]:[Mapping]],2,FALSE)","v":"Saudi Arabia"},"All the 8 hours baby, all the 8!",2,{"$f":"VLOOKUP(K755,tblCountries[],3,0)","v":"Asia"},{"$f":"VLOOKUP(tblSalaries[[#This Row],[How many hours of a day you work on Excel]],tblHours,2,0)","v":5},{"$f":"VLOOKUP(tblSalaries[[#This Row],[clean Country]],tblCountries[],5,0)","v":1.9964104468374799},{"$f":"IF($Q$1,tblSalaries[[#This Row],[PPP Factor]]*tblSalaries[[#This Row],[Salary in USD]],tblSalaries[[#This Row],[Salary in USD]])","v":14960}]
[null,"ID0766","2012-05-26T17:10:20",120000,120000,"INR",{"$f":"tblSalaries[[#This Row],[clean Salary (in local currency)]]*VLOOKUP(tblSalaries[[#This Row],[Currency]],tblXrate[],2,FALSE)","v":2136.9500024931081},"ACCOUNTANT","Accountant","India",{"$f":"VLOOKUP(tblSalaries[[#This Row],[Where do you work]],tblCountries[[Actual]:[Mapping]],2,FALSE)","v":"India"},"2 to 3 hours per day",2,{"$f":"VLOOKUP(K756,tblCountries[],3,0)","v":"Asia"},{"$f":"VLOOKUP(tblSalaries[[#This Row],[How many hours of a day you work on Excel]],tblHours,2,0)","v":3},{"$f":"VLOOKUP(tblSalaries[[#This Row],[clean Country]],tblCountries[],5,0)","v":13.098808879263672},{"$f":"IF($Q$1,tblSalaries[[#This Row],[PPP Factor]]*tblSalaries[[#This Row],[Salary in USD]],tblSalaries[[#This Row],[Salary in USD]])","v":2136.9500024931081}]
[null,"ID0767","2012-05-26T17:24:41",30232,30232,"USD",{"$f":"tblSalaries[[#This Row],[clean Salary (in local currency)]]*VLOOKUP(tblSalaries[[#This Row],[Currency]],tblXrate[],2,FALSE)","v":30232},"Accounts Supervisor","Accountant","KSA",{"$f":"VLOOKUP(tblSalaries[[#This Row],[Where do you work]],tblCountries[[Actual]:[Mapping]],2,FALSE)","v":"USA"},"2 to 3 hours per day",5,{"$f":"VLOOKUP(K757,tblCountries[],3,0)","v":"North Amer."},{"$f":"VLOOKUP(tblSalaries[[#This Row],[How many hours of a day you work on Excel]],tblHours,2,0)","v":3},{"$f":"VLOOKUP(tblSalaries[[#This Row],[clean Country]],tblCountries[],5,0)","v":1},{"$f":"IF($Q$1,tblSalaries[[#This Row],[PPP Factor]]*tblSalaries[[#This Row],[Salary in USD]],tblSalaries[[#This Row],[Salary in USD]])","v":30232}]
[null,"ID0768","2012-05-26T17:24:41",41000,41000,"USD",{"$f":"tblSalaries[[#This Row],[clean Salary (in local currency)]]*VLOOKUP(tblSalaries[[#This Row],[Currency]],tblXrate[],2,FALSE)","v":41000},"Business Analyst","Analyst","USA",{"$f":"VLOOKUP(tblSalaries[[#This Row],[Where do you work]],tblCountries[[Actual]:[Mapping]],2,FALSE)","v":"USA"},"All the 8 hours baby, all the 8!",4,{"$f":"VLOOKUP(K758,tblCountries[],3,0)","v":"North Amer."},{"$f":"VLOOKUP(tblSalaries[[#This Row],[How many hours of a day you work on Excel]],tblHours,2,0)","v":5},{"$f":"VLOOKUP(tblSalaries[[#This Row],[clean Country]],tblCountries[],5,0)","v":1},{"$f":"IF($Q$1,tblSalaries[[#This Row],[PPP Factor]]*tblSalaries[[#This Row],[Salary in USD]],tblSalaries[[#This Row],[Salary in USD]])","v":41000}]
[null,"ID0769","2012-05-26T17:31:56","95000 AUD",95000,"AUD",{"$f":"tblSalaries[[#This Row],[clean Salary (in local currency)]]*VLOOKUP(tblSalaries[[#This Row],[Currency]],tblXrate[],2,FALSE)","v":96891.417358250401},"Data Analyst - Report Writer","Analyst","Australia",{"$f":"VLOOKUP(tblSalaries[[#This Row],[Where do you work]],tblCountries[[Actual]:[Mapping]],2,FALSE)","v":"Australia"},"2 to 3 hours per day",11,{"$f":"VLOOKUP(K759,tblCountries[],3,0)","v":"Oceania"},{"$f":"VLOOKUP(tblSalaries[[#This Row],[How many hours of a day you work on Excel]],tblHours,2,0)","v":3},{"$f":"VLOOKUP(tblSalaries[[#This Row],[clean Country]],tblCountries[],5,0)","v":1.2026395585822935},{"$f":"IF($Q$1,tblSalaries[[#This Row],[PPP Factor]]*tblSalaries[[#This Row],[Salary in USD]],tblSalaries[[#This Row],[Salary in USD]])","v":96891.417358250401}]
[null,"ID0770","2012-05-26T17:44:34","Rs 1200000",1200000,"INR",{"$f":"tblSalaries[[#This Row],[clean Salary (in local currency)]]*VLOOKUP(tblSalaries[[#This Row],[Currency]],tblXrate[],2,FALSE)","v":21369.500024931083},"Regional Formwork Head ","Manager","India",{"$f":"VLOOKUP(tblSalaries[[#This Row],[Where do you work]],tblCountries[[Actual]:[Mapping]],2,FALSE)","v":"India"},"All the 8 hours baby, all the 8!",14,{"$f":"VLOOKUP(K760,tblCountries[],3,0)","v":"Asia"},{"$f":"VLOOKUP(tblSalaries[[#This Row],[How many hours of a day you work on Excel]],tblHours,2,0)","v":5},{"$f":"VLOOKUP(tblSalaries[[#This Row],[clean Country]],tblCountries[],5,0)","v":13.098808879263672},{"$f":"IF($Q$1,tblSalaries[[#This Row],[PPP Factor]]*tblSalaries[[#This Row],[Salary in USD]],tblSalaries[[#This Row],[Salary in USD]])","v":21369.500024931083}]
[null,"ID0771","2012-05-26T17:47:00",205000,205000,"INR",{"$f":"tblSalaries[[#This Row],[clean Salary (in local currency)]]*VLOOKUP(tblSalaries[[#This Row],[Currency]],tblXrate[],2,FALSE)","v":3650.6229209257262},"BRANCH ACCOUNTANT","Accountant","India",{"$f":"VLOOKUP(tblSalaries[[#This Row],[Where do you work]],tblCountries[[Actual]:[Mapping]],2,FALSE)","v":"India"},"All the 8 hours baby, all the 8!",10,{"$f":"VLOOKUP(K761,tblCountries[],3,0)","v":"Asia"},{"$f":"VLOOKUP(tblSalaries[[#This Row],[How many hours of a day you work on Excel]],tblHours,2,0)","v":5},{"$f":"VLOOKUP(tblSalaries[[#This Row],[clean Country]],tblCountries[],5,0)","v":13.098808879263672},{"$f":"IF($Q$1,tblSalaries[[#This Row],[PPP Factor]]*tblSalaries[[#This Row],[Salary in USD]],tblSalaries[[#This Row],[Salary in USD]])","v":3650.6229209257262}]
[null,"ID0772","2012-05-26T17:47:10","$1,589.00/per month",19068,"USD",{"$f":"tblSalaries[[#This Row],[clean Salary (in local currency)]]*VLOOKUP(tblSalaries[[#This Row],[Currency]],tblXrate[],2,FALSE)","v":19068},"Accounting Head","Accountant","Philippines",{"$f":"VLOOKUP(tblSalaries[[#This Row],[Where do you work]],tblCountries[[Actual]:[Mapping]],2,FALSE)","v":"Philippines"},"All the 8 hours baby, all the 8!",20,{"$f":"VLOOKUP(K762,tblCountries[],3,0)","v":"Asia"},{"$f":"VLOOKUP(tblSalaries[[#This Row],[How many hours of a day you work on Excel]],tblHours,2,0)","v":5},{"$f":"VLOOKUP(tblSalaries[[#This Row],[clean Country]],tblCountries[],5,0)","v":11.879941075374417},{"$f":"IF($Q$1,tblSalaries[[#This Row],[PPP Factor]]*tblSalaries[[#This Row],[Salary in USD]],tblSalaries[[#This Row],[Salary in USD]])","v":19068}]
[null,"ID0773","2012-05-26T17:49:17","Rs. 300000",300000,"INR",{"$f":"tblSalaries[[#This Row],[clean Salary (in local currency)]]*VLOOKUP(tblSalaries[[#This Row],[Currency]],tblXrate[],2,FALSE)","v":5342.3750062327708},"OPEX CONTROL","Controller","India",{"$f":"VLOOKUP(tblSalaries[[#This Row],[Where do you work]],tblCountries[[Actual]:[Mapping]],2,FALSE)","v":"India"},"All the 8 hours baby, all the 8!",4,{"$f":"VLOOKUP(K763,tblCountries[],3,0)","v":"Asia"},{"$f":"VLOOKUP(tblSalaries[[#This Row],[How many hours of a day you work on Excel]],tblHours,2,0)","v":5},{"$f":"VLOOKUP(tblSalaries[[#This Row],[clean Country]],tblCountries[],5,0)","v":13.098808879263672},{"$f":"IF($Q$1,tblSalaries[[#This Row],[PPP Factor]]*tblSalaries[[#This Row],[Salary in USD]],tblSalaries[[#This Row],[Salary in USD]])","v":5342.3750062327708}]
[null,"ID0774","2012-05-26T17:51:27",48000,48000,"USD",{"$f":"tblSalaries[[#This Row],[clean Salary (in local currency)]]*VLOOKUP(tblSalaries[[#This Row],[Currency]],tblXrate[],2,FALSE)","v":48000},"Consultant","Consultant","Singapore",{"$f":"VLOOKUP(tblSalaries[[#This Row],[Where do you work]],tblCountries[[Actual]:[Mapping]],2,FALSE)","v":"Singapore"},"All the 8 hours baby, all the 8!",3,{"$f":"VLOOKUP(K764,tblCountries[],3,0)","v":"Asia"},{"$f":"VLOOKUP(tblSalaries[[#This Row],[How many hours of a day you work on Excel]],tblHours,2,0)","v":5},{"$f":"VLOOKUP(tblSalaries[[#This Row],[clean Country]],tblCountries[],5,0)","v":0.81035320125270049},{"$f":"IF($Q$1,tblSalaries[[#This Row],[PPP Factor]]*tblSalaries[[#This Row],[Salary in USD]],tblSalaries[[#This Row],[Salary in USD]])","v":48000}]
[null,"ID0775","2012-05-26T18:19:49","2.2 lakhs per annum",220000,"INR",{"$f":"tblSalaries[[#This Row],[clean Salary (in local currency)]]*VLOOKUP(tblSalaries[[#This Row],[Currency]],tblXrate[],2,FALSE)","v":3917.7416712373652},"Associate Software Engineer","Engineer","India",{"$f":"VLOOKUP(tblSalaries[[#This Row],[Where do you work]],tblCountries[[Actual]:[Mapping]],2,FALSE)","v":"India"},"4 to 6 hours a day",2,{"$f":"VLOOKUP(K765,tblCountries[],3,0)","v":"Asia"},{"$f":"VLOOKUP(tblSalaries[[#This Row],[How many hours of a day you work on Excel]],tblHours,2,0)","v":4},{"$f":"VLOOKUP(tblSalaries[[#This Row],[clean Country]],tblCountries[],5,0)","v":13.098808879263672},{"$f":"IF($Q$1,tblSalaries[[#This Row],[PPP Factor]]*tblSalaries[[#This Row],[Salary in USD]],tblSalaries[[#This Row],[Salary in USD]])","v":3917.7416712373652}]
[null,"ID0776","2012-05-26T18:29:06",13500,13500,"USD",{"$f":"tblSalaries[[#This Row],[clean Salary (in local currency)]]*VLOOKUP(tblSalaries[[#This Row],[Currency]],tblXrate[],2,FALSE)","v":13500},"MIS","Reporting","India",{"$f":"VLOOKUP(tblSalaries[[#This Row],[Where do you work]],tblCountries[[Actual]:[Mapping]],2,FALSE)","v":"India"},"All the 8 hours baby, all the 8!",2.5,{"$f":"VLOOKUP(K766,tblCountries[],3,0)","v":"Asia"},{"$f":"VLOOKUP(tblSalaries[[#This Row],[How many hours of a day you work on Excel]],tblHours,2,0)","v":5},{"$f":"VLOOKUP(tblSalaries[[#This Row],[clean Country]],tblCountries[],5,0)","v":13.098808879263672},{"$f":"IF($Q$1,tblSalaries[[#This Row],[PPP Factor]]*tblSalaries[[#This Row],[Salary in USD]],tblSalaries[[#This Row],[Salary in USD]])","v":13500}]
[null,"ID0777","2012-05-26T18:35:20","45000 $",45000,"USD",{"$f":"tblSalaries[[#This Row],[clean Salary (in local currency)]]*VLOOKUP(tblSalaries[[#This Row],[Currency]],tblXrate[],2,FALSE)","v":45000},"AGM","Manager","India",{"$f":"VLOOKUP(tblSalaries[[#This Row],[Where do you work]],tblCountries[[Actual]:[Mapping]],2,FALSE)","v":"India"},"1 or 2 hours a day",15,{"$f":"VLOOKUP(K767,tblCountries[],3,0)","v":"Asia"},{"$f":"VLOOKUP(tblSalaries[[#This Row],[How many hours of a day you work on Excel]],tblHours,2,0)","v":2},{"$f":"VLOOKUP(tblSalaries[[#This Row],[clean Country]],tblCountries[],5,0)","v":13.098808879263672},{"$f":"IF($Q$1,tblSalaries[[#This Row],[PPP Factor]]*tblSalaries[[#This Row],[Salary in USD]],tblSalaries[[#This Row],[Salary in USD]])","v":45000}]
[null,"ID0778","2012-05-26T18:38:41",55000,55000,"EUR",{"$f":"tblSalaries[[#This Row],[clean Salary (in local currency)]]*VLOOKUP(tblSalaries[[#This Row],[Currency]],tblXrate[],2,FALSE)","v":69871.969144538423},"CFO","CXO or Top Mgmt.","italy",{"$f":"VLOOKUP(tblSalaries[[#This Row],[Where do you work]],tblCountries[[Actual]:[Mapping]],2,FALSE)","v":"italy"},"2 to 3 hours per day",18,{"$f":"VLOOKUP(K768,tblCountries[],3,0)","v":"Europe"},{"$f":"VLOOKUP(tblSalaries[[#This Row],[How many hours of a day you work on Excel]],tblHours,2,0)","v":3},{"$f":"VLOOKUP(tblSalaries[[#This Row],[clean Country]],tblCountries[],5,0)","v":1.5883337710084033},{"$f":"IF($Q$1,tblSalaries[[#This Row],[PPP Factor]]*tblSalaries[[#This Row],[Salary in USD]],tblSalaries[[#This Row],[Salary in USD]])","v":69871.969144538423}]
[null,"ID0779","2012-05-26T18:41:31","Rs 40000",480000,"INR",{"$f":"tblSalaries[[#This Row],[clean Salary (in local currency)]]*VLOOKUP(tblSalaries[[#This Row],[Currency]],tblXrate[],2,FALSE)","v":8547.8000099724322},"Banker","Manager","India",{"$f":"VLOOKUP(tblSalaries[[#This Row],[Where do you work]],tblCountries[[Actual]:[Mapping]],2,FALSE)","v":"India"},"4 to 6 hours a day",11,{"$f":"VLOOKUP(K769,tblCountries[],3,0)","v":"Asia"},{"$f":"VLOOKUP(tblSalaries[[#This Row],[How many hours of a day you work on Excel]],tblHours,2,0)","v":4},{"$f":"VLOOKUP(tblSalaries[[#This Row],[clean Country]],tblCountries[],5,0)","v":13.098808879263672},{"$f":"IF($Q$1,tblSalaries[[#This Row],[PPP Factor]]*tblSalaries[[#This Row],[Salary in USD]],tblSalaries[[#This Row],[Salary in USD]])","v":8547.8000099724322}]
[null,"ID0780","2012-05-26T18:44:00","Dhs 2800 + Accomodation",33600,"AED",{"$f":"tblSalaries[[#This Row],[clean Salary (in local currency)]]*VLOOKUP(tblSalaries[[#This Row],[Currency]],tblXrate[],2,FALSE)","v":9146.5655463031271},"Accountant","Accountant","Dubai",{"$f":"VLOOKUP(tblSalaries[[#This Row],[Where do you work]],tblCountries[[Actual]:[Mapping]],2,FALSE)","v":"Dubai"},"1 or 2 hours a day",7,{"$f":"VLOOKUP(K770,tblCountries[],3,0)","v":"Asia"},{"$f":"VLOOKUP(tblSalaries[[#This Row],[How many hours of a day you work on Excel]],tblHours,2,0)","v":2},{"$f":"VLOOKUP(tblSalaries[[#This Row],[clean Country]],tblCountries[],5,0)","v":1},{"$f":"IF($Q$1,tblSalaries[[#This Row],[PPP Factor]]*tblSalaries[[#This Row],[Salary in USD]],tblSalaries[[#This Row],[Salary in USD]])","v":9146.5655463031271}]
[null,"ID0781","2012-05-26T18:56:52",570000,570000,"INR",{"$f":"tblSalaries[[#This Row],[clean Salary (in local currency)]]*VLOOKUP(tblSalaries[[#This Row],[Currency]],tblXrate[],2,FALSE)","v":10150.512511842264},"Analyst","Analyst","India",{"$f":"VLOOKUP(tblSalaries[[#This Row],[Where do you work]],tblCountries[[Actual]:[Mapping]],2,FALSE)","v":"India"},"All the 8 hours baby, all the 8!",2.4,{"$f":"VLOOKUP(K771,tblCountries[],3,0)","v":"Asia"},{"$f":"VLOOKUP(tblSalaries[[#This Row],[How many hours of a day you work on Excel]],tblHours,2,0)","v":5},{"$f":"VLOOKUP(tblSalaries[[#This Row],[clean Country]],tblCountries[],5,0)","v":13.098808879263672},{"$f":"IF($Q$1,tblSalaries[[#This Row],[PPP Factor]]*tblSalaries[[#This Row],[Salary in USD]],tblSalaries[[#This Row],[Salary in USD]])","v":10150.512511842264}]
[null,"ID0782","2012-05-26T19:07:55",636000,636000,"INR",{"$f":"tblSalaries[[#This Row],[clean Salary (in local currency)]]*VLOOKUP(tblSalaries[[#This Row],[Currency]],tblXrate[],2,FALSE)","v":11325.835013213473},"Program Manager","Manager","India",{"$f":"VLOOKUP(tblSalaries[[#This Row],[Where do you work]],tblCountries[[Actual]:[Mapping]],2,FALSE)","v":"India"},"4 to 6 hours a day",7,{"$f":"VLOOKUP(K772,tblCountries[],3,0)","v":"Asia"},{"$f":"VLOOKUP(tblSalaries[[#This Row],[How many hours of a day you work on Excel]],tblHours,2,0)","v":4},{"$f":"VLOOKUP(tblSalaries[[#This Row],[clean Country]],tblCountries[],5,0)","v":13.098808879263672},{"$f":"IF($Q$1,tblSalaries[[#This Row],[PPP Factor]]*tblSalaries[[#This Row],[Salary in USD]],tblSalaries[[#This Row],[Salary in USD]])","v":11325.835013213473}]
[null,"ID0783","2012-05-26T19:13:39","180000 PKR",180000,"PKR",{"$f":"tblSalaries[[#This Row],[clean Salary (in local currency)]]*VLOOKUP(tblSalaries[[#This Row],[Currency]],tblXrate[],2,FALSE)","v":1910.5359690238436},"S&D Reporting & Analysis Team Leader","Reporting","Pakistan",{"$f":"VLOOKUP(tblSalaries[[#This Row],[Where do you work]],tblCountries[[Actual]:[Mapping]],2,FALSE)","v":"Pakistan"},"All the 8 hours baby, all the 8!",7,{"$f":"VLOOKUP(K773,tblCountries[],3,0)","v":"Asia"},{"$f":"VLOOKUP(tblSalaries[[#This Row],[How many hours of a day you work on Excel]],tblHours,2,0)","v":5},{"$f":"VLOOKUP(tblSalaries[[#This Row],[clean Country]],tblCountries[],5,0)","v":17.361679224973088},{"$f":"IF($Q$1,tblSalaries[[#This Row],[PPP Factor]]*tblSalaries[[#This Row],[Salary in USD]],tblSalaries[[#This Row],[Salary in USD]])","v":1910.5359690238436}]
[null,"ID0784","2012-05-26T19:22:53","AUS$36000",36000,"USD",{"$f":"tblSalaries[[#This Row],[clean Salary (in local currency)]]*VLOOKUP(tblSalaries[[#This Row],[Currency]],tblXrate[],2,FALSE)","v":36000},"Key Expert User","Manager","Australia",{"$f":"VLOOKUP(tblSalaries[[#This Row],[Where do you work]],tblCountries[[Actual]:[Mapping]],2,FALSE)","v":"Australia"},"2 to 3 hours per day",12,{"$f":"VLOOKUP(K774,tblCountries[],3,0)","v":"Oceania"},{"$f":"VLOOKUP(tblSalaries[[#This Row],[How many hours of a day you work on Excel]],tblHours,2,0)","v":3},{"$f":"VLOOKUP(tblSalaries[[#This Row],[clean Country]],tblCountries[],5,0)","v":1.2026395585822935},{"$f":"IF($Q$1,tblSalaries[[#This Row],[PPP Factor]]*tblSalaries[[#This Row],[Salary in USD]],tblSalaries[[#This Row],[Salary in USD]])","v":36000}]
[null,"ID0785","2012-05-26T19:29:23","2.25 lakhs per year(prof income)",2250000,"INR",{"$f":"tblSalaries[[#This Row],[clean Salary (in local currency)]]*VLOOKUP(tblSalaries[[#This Row],[Currency]],tblXrate[],2,FALSE)","v":40067.812546745779},"company secretary","Accountant","India",{"$f":"VLOOKUP(tblSalaries[[#This Row],[Where do you work]],tblCountries[[Actual]:[Mapping]],2,FALSE)","v":"India"},"1 or 2 hours a day",5,{"$f":"VLOOKUP(K775,tblCountries[],3,0)","v":"Asia"},{"$f":"VLOOKUP(tblSalaries[[#This Row],[How many hours of a day you work on Excel]],tblHours,2,0)","v":2},{"$f":"VLOOKUP(tblSalaries[[#This Row],[clean Country]],tblCountries[],5,0)","v":13.098808879263672},{"$f":"IF($Q$1,tblSalaries[[#This Row],[PPP Factor]]*tblSalaries[[#This Row],[Salary in USD]],tblSalaries[[#This Row],[Salary in USD]])","v":40067.812546745779}]
[null,"ID0786","2012-05-26T19:29:34",16000,16000,"USD",{"$f":"tblSalaries[[#This Row],[clean Salary (in local currency)]]*VLOOKUP(tblSalaries[[#This Row],[Currency]],tblXrate[],2,FALSE)","v":16000},"Mis executiv","Reporting","India",{"$f":"VLOOKUP(tblSalaries[[#This Row],[Where do you work]],tblCountries[[Actual]:[Mapping]],2,FALSE)","v":"India"},"All the 8 hours baby, all the 8!",1,{"$f":"VLOOKUP(K776,tblCountries[],3,0)","v":"Asia"},{"$f":"VLOOKUP(tblSalaries[[#This Row],[How many hours of a day you work on Excel]],tblHours,2,0)","v":5},{"$f":"VLOOKUP(tblSalaries[[#This Row],[clean Country]],tblCountries[],5,0)","v":13.098808879263672},{"$f":"IF($Q$1,tblSalaries[[#This Row],[PPP Factor]]*tblSalaries[[#This Row],[Salary in USD]],tblSalaries[[#This Row],[Salary in USD]])","v":16000}]
[null,"ID0787","2012-05-26T19:34:12",240000,240000,"INR",{"$f":"tblSalaries[[#This Row],[clean Salary (in local currency)]]*VLOOKUP(tblSalaries[[#This Row],[Currency]],tblXrate[],2,FALSE)","v":4273.9000049862161},"Analyst","Analyst","India",{"$f":"VLOOKUP(tblSalaries[[#This Row],[Where do you work]],tblCountries[[Actual]:[Mapping]],2,FALSE)","v":"India"},"All the 8 hours baby, all the 8!",4,{"$f":"VLOOKUP(K777,tblCountries[],3,0)","v":"Asia"},{"$f":"VLOOKUP(tblSalaries[[#This Row],[How many hours of a day you work on Excel]],tblHours,2,0)","v":5},{"$f":"VLOOKUP(tblSalaries[[#This Row],[clean Country]],tblCountries[],5,0)","v":13.098808879263672},{"$f":"IF($Q$1,tblSalaries[[#This Row],[PPP Factor]]*tblSalaries[[#This Row],[Salary in USD]],tblSalaries[[#This Row],[Salary in USD]])","v":4273.9000049862161}]
[null,"ID0788","2012-05-26T19:43:36","INR 400000",400000,"INR",{"$f":"tblSalaries[[#This Row],[clean Salary (in local currency)]]*VLOOKUP(tblSalaries[[#This Row],[Currency]],tblXrate[],2,FALSE)","v":7123.1666749770275},"Asst.Manager","Manager","India",{"$f":"VLOOKUP(tblSalaries[[#This Row],[Where do you work]],tblCountries[[Actual]:[Mapping]],2,FALSE)","v":"India"},"4 to 6 hours a day",7,{"$f":"VLOOKUP(K778,tblCountries[],3,0)","v":"Asia"},{"$f":"VLOOKUP(tblSalaries[[#This Row],[How many hours of a day you work on Excel]],tblHours,2,0)","v":4},{"$f":"VLOOKUP(tblSalaries[[#This Row],[clean Country]],tblCountries[],5,0)","v":13.098808879263672},{"$f":"IF($Q$1,tblSalaries[[#This Row],[PPP Factor]]*tblSalaries[[#This Row],[Salary in USD]],tblSalaries[[#This Row],[Salary in USD]])","v":7123.1666749770275}]
[null,"ID0789","2012-05-26T20:08:21",10000,10000,"USD",{"$f":"tblSalaries[[#This Row],[clean Salary (in local currency)]]*VLOOKUP(tblSalaries[[#This Row],[Currency]],tblXrate[],2,FALSE)","v":10000},"BDM","Manager","India",{"$f":"VLOOKUP(tblSalaries[[#This Row],[Where do you work]],tblCountries[[Actual]:[Mapping]],2,FALSE)","v":"India"},"1 or 2 hours a day",12,{"$f":"VLOOKUP(K779,tblCountries[],3,0)","v":"Asia"},{"$f":"VLOOKUP(tblSalaries[[#This Row],[How many hours of a day you work on Excel]],tblHours,2,0)","v":2},{"$f":"VLOOKUP(tblSalaries[[#This Row],[clean Country]],tblCountries[],5,0)","v":13.098808879263672},{"$f":"IF($Q$1,tblSalaries[[#This Row],[PPP Factor]]*tblSalaries[[#This Row],[Salary in USD]],tblSalaries[[#This Row],[Salary in USD]])","v":10000}]
[null,"ID0790","2012-05-26T20:16:28","CA$66000",66000,"CAD",{"$f":"tblSalaries[[#This Row],[clean Salary (in local currency)]]*VLOOKUP(tblSalaries[[#This Row],[Currency]],tblXrate[],2,FALSE)","v":64901.860520001574},"Programmer-analyst","Analyst","Canada",{"$f":"VLOOKUP(tblSalaries[[#This Row],[Where do you work]],tblCountries[[Actual]:[Mapping]],2,FALSE)","v":"Canada"},"2 to 3 hours per day",20,{"$f":"VLOOKUP(K780,tblCountries[],3,0)","v":"North Amer."},{"$f":"VLOOKUP(tblSalaries[[#This Row],[How many hours of a day you work on Excel]],tblHours,2,0)","v":3},{"$f":"VLOOKUP(tblSalaries[[#This Row],[clean Country]],tblCountries[],5,0)","v":1.1935324732986359},{"$f":"IF($Q$1,tblSalaries[[#This Row],[PPP Factor]]*tblSalaries[[#This Row],[Salary in USD]],tblSalaries[[#This Row],[Salary in USD]])","v":64901.860520001574}]
[null,"ID0791","2012-05-26T20:19:36",65000,65000,"USD",{"$f":"tblSalaries[[#This Row],[clean Salary (in local currency)]]*VLOOKUP(tblSalaries[[#This Row],[Currency]],tblXrate[],2,FALSE)","v":65000},"security analyst","Analyst","USA",{"$f":"VLOOKUP(tblSalaries[[#This Row],[Where do you work]],tblCountries[[Actual]:[Mapping]],2,FALSE)","v":"USA"},"2 to 3 hours per day",10,{"$f":"VLOOKUP(K781,tblCountries[],3,0)","v":"North Amer."},{"$f":"VLOOKUP(tblSalaries[[#This Row],[How many hours of a day you work on Excel]],tblHours,2,0)","v":3},{"$f":"VLOOKUP(tblSalaries[[#This Row],[clean Country]],tblCountries[],5,0)","v":1},{"$f":"IF($Q$1,tblSalaries[[#This Row],[PPP Factor]]*tblSalaries[[#This Row],[Salary in USD]],tblSalaries[[#This Row],[Salary in USD]])","v":65000}]
[null,"ID0792","2012-05-26T20:20:34","Rs 450000",450000,"INR",{"$f":"tblSalaries[[#This Row],[clean Salary (in local currency)]]*VLOOKUP(tblSalaries[[#This Row],[Currency]],tblXrate[],2,FALSE)","v":8013.5625093491553},"Material Planner","Manager","India",{"$f":"VLOOKUP(tblSalaries[[#This Row],[Where do you work]],tblCountries[[Actual]:[Mapping]],2,FALSE)","v":"India"},"All the 8 hours baby, all the 8!",1.5,{"$f":"VLOOKUP(K782,tblCountries[],3,0)","v":"Asia"},{"$f":"VLOOKUP(tblSalaries[[#This Row],[How many hours of a day you work on Excel]],tblHours,2,0)","v":5},{"$f":"VLOOKUP(tblSalaries[[#This Row],[clean Country]],tblCountries[],5,0)","v":13.098808879263672},{"$f":"IF($Q$1,tblSalaries[[#This Row],[PPP Factor]]*tblSalaries[[#This Row],[Salary in USD]],tblSalaries[[#This Row],[Salary in USD]])","v":8013.5625093491553}]
[null,"ID0793","2012-05-26T20:27:19",100000,100000,"CAD",{"$f":"tblSalaries[[#This Row],[clean Salary (in local currency)]]*VLOOKUP(tblSalaries[[#This Row],[Currency]],tblXrate[],2,FALSE)","v":98336.152303032693},"VP Infrastructure","CXO or Top Mgmt.","Canada",{"$f":"VLOOKUP(tblSalaries[[#This Row],[Where do you work]],tblCountries[[Actual]:[Mapping]],2,FALSE)","v":"Canada"},"4 to 6 hours a day",5,{"$f":"VLOOKUP(K783,tblCountries[],3,0)","v":"North Amer."},{"$f":"VLOOKUP(tblSalaries[[#This Row],[How many hours of a day you work on Excel]],tblHours,2,0)","v":4},{"$f":"VLOOKUP(tblSalaries[[#This Row],[clean Country]],tblCountries[],5,0)","v":1.1935324732986359},{"$f":"IF($Q$1,tblSalaries[[#This Row],[PPP Factor]]*tblSalaries[[#This Row],[Salary in USD]],tblSalaries[[#This Row],[Salary in USD]])","v":98336.152303032693}]
[null,"ID0794","2012-05-26T20:31:30","ONE LACK FIFTY THOUSAND(INR)",150000,"INR",{"$f":"tblSalaries[[#This Row],[clean Salary (in local currency)]]*VLOOKUP(tblSalaries[[#This Row],[Currency]],tblXrate[],2,FALSE)","v":2671.1875031163854},"WORKING WITH PRODUCT TEAM OF MAKEMYTRIP.COM","Analyst","India",{"$f":"VLOOKUP(tblSalaries[[#This Row],[Where do you work]],tblCountries[[Actual]:[Mapping]],2,FALSE)","v":"India"},"4 to 6 hours a day",2,{"$f":"VLOOKUP(K784,tblCountries[],3,0)","v":"Asia"},{"$f":"VLOOKUP(tblSalaries[[#This Row],[How many hours of a day you work on Excel]],tblHours,2,0)","v":4},{"$f":"VLOOKUP(tblSalaries[[#This Row],[clean Country]],tblCountries[],5,0)","v":13.098808879263672},{"$f":"IF($Q$1,tblSalaries[[#This Row],[PPP Factor]]*tblSalaries[[#This Row],[Salary in USD]],tblSalaries[[#This Row],[Salary in USD]])","v":2671.1875031163854}]
[null,"ID0795","2012-05-26T20:50:07",96000,96000,"USD",{"$f":"tblSalaries[[#This Row],[clean Salary (in local currency)]]*VLOOKUP(tblSalaries[[#This Row],[Currency]],tblXrate[],2,FALSE)","v":96000},"MIS Executive","Reporting","India",{"$f":"VLOOKUP(tblSalaries[[#This Row],[Where do you work]],tblCountries[[Actual]:[Mapping]],2,FALSE)","v":"India"},"All the 8 hours baby, all the 8!",8,{"$f":"VLOOKUP(K785,tblCountries[],3,0)","v":"Asia"},{"$f":"VLOOKUP(tblSalaries[[#This Row],[How many hours of a day you work on Excel]],tblHours,2,0)","v":5},{"$f":"VLOOKUP(tblSalaries[[#This Row],[clean Country]],tblCountries[],5,0)","v":13.098808879263672},{"$f":"IF($Q$1,tblSalaries[[#This Row],[PPP Factor]]*tblSalaries[[#This Row],[Salary in USD]],tblSalaries[[#This Row],[Salary in USD]])","v":96000}]
[null,"ID0796","2012-05-26T20:57:13","Rs. 8000",1152000,"INR",{"$f":"tblSalaries[[#This Row],[clean Salary (in local currency)]]*VLOOKUP(tblSalaries[[#This Row],[Currency]],tblXrate[],2,FALSE)","v":20514.720023933838},"Cashier","Accountant","India",{"$f":"VLOOKUP(tblSalaries[[#This Row],[Where do you work]],tblCountries[[Actual]:[Mapping]],2,FALSE)","v":"India"},"4 to 6 hours a day",6,{"$f":"VLOOKUP(K786,tblCountries[],3,0)","v":"Asia"},{"$f":"VLOOKUP(tblSalaries[[#This Row],[How many hours of a day you work on Excel]],tblHours,2,0)","v":4},{"$f":"VLOOKUP(tblSalaries[[#This Row],[clean Country]],tblCountries[],5,0)","v":13.098808879263672},{"$f":"IF($Q$1,tblSalaries[[#This Row],[PPP Factor]]*tblSalaries[[#This Row],[Salary in USD]],tblSalaries[[#This Row],[Salary in USD]])","v":20514.720023933838}]
[null,"ID0797","2012-05-26T20:57:17",15000,15000,"EUR",{"$f":"tblSalaries[[#This Row],[clean Salary (in local currency)]]*VLOOKUP(tblSalaries[[#This Row],[Currency]],tblXrate[],2,FALSE)","v":19055.991584874118},"Technician","Analyst","Spain",{"$f":"VLOOKUP(tblSalaries[[#This Row],[Where do you work]],tblCountries[[Actual]:[Mapping]],2,FALSE)","v":"Spain"},"2 to 3 hours per day",10,{"$f":"VLOOKUP(K787,tblCountries[],3,0)","v":"Europe"},{"$f":"VLOOKUP(tblSalaries[[#This Row],[How many hours of a day you work on Excel]],tblHours,2,0)","v":3},{"$f":"VLOOKUP(tblSalaries[[#This Row],[clean Country]],tblCountries[],5,0)","v":1.5799320838503232},{"$f":"IF($Q$1,tblSalaries[[#This Row],[PPP Factor]]*tblSalaries[[#This Row],[Salary in USD]],tblSalaries[[#This Row],[Salary in USD]])","v":19055.991584874118}]
[null,"ID0798","2012-05-26T21:00:40","Aud 65000",65000,"AUD",{"$f":"tblSalaries[[#This Row],[clean Salary (in local currency)]]*VLOOKUP(tblSalaries[[#This Row],[Currency]],tblXrate[],2,FALSE)","v":66294.12766617132},"Market analyst","Analyst","Australia",{"$f":"VLOOKUP(tblSalaries[[#This Row],[Where do you work]],tblCountries[[Actual]:[Mapping]],2,FALSE)","v":"Australia"},"All the 8 hours baby, all the 8!",10,{"$f":"VLOOKUP(K788,tblCountries[],3,0)","v":"Oceania"},{"$f":"VLOOKUP(tblSalaries[[#This Row],[How many hours of a day you work on Excel]],tblHours,2,0)","v":5},{"$f":"VLOOKUP(tblSalaries[[#This Row],[clean Country]],tblCountries[],5,0)","v":1.2026395585822935},{"$f":"IF($Q$1,tblSalaries[[#This Row],[PPP Factor]]*tblSalaries[[#This Row],[Salary in USD]],tblSalaries[[#This Row],[Salary in USD]])","v":66294.12766617132}]
[null,"ID0799","2012-05-26T21:05:35","Rs. 377000",377000,"INR",{"$f":"tblSalaries[[#This Row],[clean Salary (in local currency)]]*VLOOKUP(tblSalaries[[#This Row],[Currency]],tblXrate[],2,FALSE)","v":6713.584591165848},"Team Developer","Analyst","India",{"$f":"VLOOKUP(tblSalaries[[#This Row],[Where do you work]],tblCountries[[Actual]:[Mapping]],2,FALSE)","v":"India"},"1 or 2 hours a day",7,{"$f":"VLOOKUP(K789,tblCountries[],3,0)","v":"Asia"},{"$f":"VLOOKUP(tblSalaries[[#This Row],[How many hours of a day you work on Excel]],tblHours,2,0)","v":2},{"$f":"VLOOKUP(tblSalaries[[#This Row],[clean Country]],tblCountries[],5,0)","v":13.098808879263672},{"$f":"IF($Q$1,tblSalaries[[#This Row],[PPP Factor]]*tblSalaries[[#This Row],[Salary in USD]],tblSalaries[[#This Row],[Salary in USD]])","v":6713.584591165848}]
[null,"ID0800","2012-05-26T21:07:14","Â£29000",29000,"GBP",{"$f":"tblSalaries[[#This Row],[clean Salary (in local currency)]]*VLOOKUP(tblSalaries[[#This Row],[Currency]],tblXrate[],2,FALSE)","v":45709.169889951241},"Reporting Assistant","Reporting","UK",{"$f":"VLOOKUP(tblSalaries[[#This Row],[Where do you work]],tblCountries[[Actual]:[Mapping]],2,FALSE)","v":"UK"},"2 to 3 hours per day",15,{"$f":"VLOOKUP(K790,tblCountries[],3,0)","v":"Europe"},{"$f":"VLOOKUP(tblSalaries[[#This Row],[How many hours of a day you work on Excel]],tblHours,2,0)","v":3},{"$f":"VLOOKUP(tblSalaries[[#This Row],[clean Country]],tblCountries[],5,0)","v":1.3407315045719035},{"$f":"IF($Q$1,tblSalaries[[#This Row],[PPP Factor]]*tblSalaries[[#This Row],[Salary in USD]],tblSalaries[[#This Row],[Salary in USD]])","v":45709.169889951241}]
[null,"ID0801","2012-05-26T21:10:20",48500,48500,"USD",{"$f":"tblSalaries[[#This Row],[clean Salary (in local currency)]]*VLOOKUP(tblSalaries[[#This Row],[Currency]],tblXrate[],2,FALSE)","v":48500},"Loss Prevention Finance Coordinator","Manager","USA",{"$f":"VLOOKUP(tblSalaries[[#This Row],[Where do you work]],tblCountries[[Actual]:[Mapping]],2,FALSE)","v":"USA"},"2 to 3 hours per day",10,{"$f":"VLOOKUP(K791,tblCountries[],3,0)","v":"North Amer."},{"$f":"VLOOKUP(tblSalaries[[#This Row],[How many hours of a day you work on Excel]],tblHours,2,0)","v":3},{"$f":"VLOOKUP(tblSalaries[[#This Row],[clean Country]],tblCountries[],5,0)","v":1},{"$f":"IF($Q$1,tblSalaries[[#This Row],[PPP Factor]]*tblSalaries[[#This Row],[Salary in USD]],tblSalaries[[#This Row],[Salary in USD]])","v":48500}]
[null,"ID0802","2012-05-26T21:13:02",600000,600000,"INR",{"$f":"tblSalaries[[#This Row],[clean Salary (in local currency)]]*VLOOKUP(tblSalaries[[#This Row],[Currency]],tblXrate[],2,FALSE)","v":10684.750012465542},"MIS Analyst","Analyst","India",{"$f":"VLOOKUP(tblSalaries[[#This Row],[Where do you work]],tblCountries[[Actual]:[Mapping]],2,FALSE)","v":"India"},"All the 8 hours baby, all the 8!",4,{"$f":"VLOOKUP(K792,tblCountries[],3,0)","v":"Asia"},{"$f":"VLOOKUP(tblSalaries[[#This Row],[How many hours of a day you work on Excel]],tblHours,2,0)","v":5},{"$f":"VLOOKUP(tblSalaries[[#This Row],[clean Country]],tblCountries[],5,0)","v":13.098808879263672},{"$f":"IF($Q$1,tblSalaries[[#This Row],[PPP Factor]]*tblSalaries[[#This Row],[Salary in USD]],tblSalaries[[#This Row],[Salary in USD]])","v":10684.750012465542}]
[null,"ID0803","2012-05-26T21:13:51",33900,33900,"USD",{"$f":"tblSalaries[[#This Row],[clean Salary (in local currency)]]*VLOOKUP(tblSalaries[[#This Row],[Currency]],tblXrate[],2,FALSE)","v":33900},"Administrative Assistant","Analyst","USA",{"$f":"VLOOKUP(tblSalaries[[#This Row],[Where do you work]],tblCountries[[Actual]:[Mapping]],2,FALSE)","v":"USA"},"2 to 3 hours per day",10,{"$f":"VLOOKUP(K793,tblCountries[],3,0)","v":"North Amer."},{"$f":"VLOOKUP(tblSalaries[[#This Row],[How many hours of a day you work on Excel]],tblHours,2,0)","v":3},{"$f":"VLOOKUP(tblSalaries[[#This Row],[clean Country]],tblCountries[],5,0)","v":1},{"$f":"IF($Q$1,tblSalaries[[#This Row],[PPP Factor]]*tblSalaries[[#This Row],[Salary in USD]],tblSalaries[[#This Row],[Salary in USD]])","v":33900}]
[null,"ID0804","2012-05-26T21:24:39","ZAR900,000",900000,"ZAR",{"$f":"tblSalaries[[#This Row],[clean Salary (in local currency)]]*VLOOKUP(tblSalaries[[#This Row],[Currency]],tblXrate[],2,FALSE)","v":109729.60187662003},"Business Analyst","Analyst","South Africa",{"$f":"VLOOKUP(tblSalaries[[#This Row],[Where do you work]],tblCountries[[Actual]:[Mapping]],2,FALSE)","v":"South Africa"},"All the 8 hours baby, all the 8!",40,{"$f":"VLOOKUP(K794,tblCountries[],3,0)","v":"Africa"},{"$f":"VLOOKUP(tblSalaries[[#This Row],[How many hours of a day you work on Excel]],tblHours,2,0)","v":5},{"$f":"VLOOKUP(tblSalaries[[#This Row],[clean Country]],tblCountries[],5,0)","v":4.4096418481727877},{"$f":"IF($Q$1,tblSalaries[[#This Row],[PPP Factor]]*tblSalaries[[#This Row],[Salary in USD]],tblSalaries[[#This Row],[Salary in USD]])","v":109729.60187662003}]
[null,"ID0805","2012-05-26T21:27:01",850000,850000,"INR",{"$f":"tblSalaries[[#This Row],[clean Salary (in local currency)]]*VLOOKUP(tblSalaries[[#This Row],[Currency]],tblXrate[],2,FALSE)","v":15136.729184326183},"Senior Research Analyst","Analyst","India",{"$f":"VLOOKUP(tblSalaries[[#This Row],[Where do you work]],tblCountries[[Actual]:[Mapping]],2,FALSE)","v":"India"},"4 to 6 hours a day",2,{"$f":"VLOOKUP(K795,tblCountries[],3,0)","v":"Asia"},{"$f":"VLOOKUP(tblSalaries[[#This Row],[How many hours of a day you work on Excel]],tblHours,2,0)","v":4},{"$f":"VLOOKUP(tblSalaries[[#This Row],[clean Country]],tblCountries[],5,0)","v":13.098808879263672},{"$f":"IF($Q$1,tblSalaries[[#This Row],[PPP Factor]]*tblSalaries[[#This Row],[Salary in USD]],tblSalaries[[#This Row],[Salary in USD]])","v":15136.729184326183}]
[null,"ID0806","2012-05-26T21:27:17",85000,85000,"USD",{"$f":"tblSalaries[[#This Row],[clean Salary (in local currency)]]*VLOOKUP(tblSalaries[[#This Row],[Currency]],tblXrate[],2,FALSE)","v":85000},"Director, IT/Operations","CXO or Top Mgmt.","USA",{"$f":"VLOOKUP(tblSalaries[[#This Row],[Where do you work]],tblCountries[[Actual]:[Mapping]],2,FALSE)","v":"USA"},"4 to 6 hours a day",15,{"$f":"VLOOKUP(K796,tblCountries[],3,0)","v":"North Amer."},{"$f":"VLOOKUP(tblSalaries[[#This Row],[How many hours of a day you work on Excel]],tblHours,2,0)","v":4},{"$f":"VLOOKUP(tblSalaries[[#This Row],[clean Country]],tblCountries[],5,0)","v":1},{"$f":"IF($Q$1,tblSalaries[[#This Row],[PPP Factor]]*tblSalaries[[#This Row],[Salary in USD]],tblSalaries[[#This Row],[Salary in USD]])","v":85000}]
[null,"ID0807","2012-05-26T21:40:49","Rs. 450000",450000,"INR",{"$f":"tblSalaries[[#This Row],[clean Salary (in local currency)]]*VLOOKUP(tblSalaries[[#This Row],[Currency]],tblXrate[],2,FALSE)","v":8013.5625093491553},"Sr. Executive","Manager","India",{"$f":"VLOOKUP(tblSalaries[[#This Row],[Where do you work]],tblCountries[[Actual]:[Mapping]],2,FALSE)","v":"India"},"4 to 6 hours a day",6,{"$f":"VLOOKUP(K797,tblCountries[],3,0)","v":"Asia"},{"$f":"VLOOKUP(tblSalaries[[#This Row],[How many hours of a day you work on Excel]],tblHours,2,0)","v":4},{"$f":"VLOOKUP(tblSalaries[[#This Row],[clean Country]],tblCountries[],5,0)","v":13.098808879263672},{"$f":"IF($Q$1,tblSalaries[[#This Row],[PPP Factor]]*tblSalaries[[#This Row],[Salary in USD]],tblSalaries[[#This Row],[Salary in USD]])","v":8013.5625093491553}]
[null,"ID0808","2012-05-26T21:43:54",48000,48000,"USD",{"$f":"tblSalaries[[#This Row],[clean Salary (in local currency)]]*VLOOKUP(tblSalaries[[#This Row],[Currency]],tblXrate[],2,FALSE)","v":48000},"Operations Support Coordinator","Manager","USA",{"$f":"VLOOKUP(tblSalaries[[#This Row],[Where do you work]],tblCountries[[Actual]:[Mapping]],2,FALSE)","v":"USA"},"2 to 3 hours per day",16,{"$f":"VLOOKUP(K798,tblCountries[],3,0)","v":"North Amer."},{"$f":"VLOOKUP(tblSalaries[[#This Row],[How many hours of a day you work on Excel]],tblHours,2,0)","v":3},{"$f":"VLOOKUP(tblSalaries[[#This Row],[clean Country]],tblCountries[],5,0)","v":1},{"$f":"IF($Q$1,tblSalaries[[#This Row],[PPP Factor]]*tblSalaries[[#This Row],[Salary in USD]],tblSalaries[[#This Row],[Salary in USD]])","v":48000}]
[null,"ID0809","2012-05-26T21:56:36",170000,170000,"INR",{"$f":"tblSalaries[[#This Row],[clean Salary (in local currency)]]*VLOOKUP(tblSalaries[[#This Row],[Currency]],tblXrate[],2,FALSE)","v":3027.3458368652364},"Sr. Executive MIS","Reporting","India",{"$f":"VLOOKUP(tblSalaries[[#This Row],[Where do you work]],tblCountries[[Actual]:[Mapping]],2,FALSE)","v":"India"},"4 to 6 hours a day",2,{"$f":"VLOOKUP(K799,tblCountries[],3,0)","v":"Asia"},{"$f":"VLOOKUP(tblSalaries[[#This Row],[How many hours of a day you work on Excel]],tblHours,2,0)","v":4},{"$f":"VLOOKUP(tblSalaries[[#This Row],[clean Country]],tblCountries[],5,0)","v":13.098808879263672},{"$f":"IF($Q$1,tblSalaries[[#This Row],[PPP Factor]]*tblSalaries[[#This Row],[Salary in USD]],tblSalaries[[#This Row],[Salary in USD]])","v":3027.3458368652364}]
[null,"ID0810","2012-05-26T21:56:49",13100,13100,"USD",{"$f":"tblSalaries[[#This Row],[clean Salary (in local currency)]]*VLOOKUP(tblSalaries[[#This Row],[Currency]],tblXrate[],2,FALSE)","v":13100},"accountant","Accountant","India",{"$f":"VLOOKUP(tblSalaries[[#This Row],[Where do you work]],tblCountries[[Actual]:[Mapping]],2,FALSE)","v":"India"},"2 to 3 hours per day",5,{"$f":"VLOOKUP(K800,tblCountries[],3,0)","v":"Asia"},{"$f":"VLOOKUP(tblSalaries[[#This Row],[How many hours of a day you work on Excel]],tblHours,2,0)","v":3},{"$f":"VLOOKUP(tblSalaries[[#This Row],[clean Country]],tblCountries[],5,0)","v":13.098808879263672},{"$f":"IF($Q$1,tblSalaries[[#This Row],[PPP Factor]]*tblSalaries[[#This Row],[Salary in USD]],tblSalaries[[#This Row],[Salary in USD]])","v":13100}]
[null,"ID0811","2012-05-26T22:02:53",5000,60000,"USD",{"$f":"tblSalaries[[#This Row],[clean Salary (in local currency)]]*VLOOKUP(tblSalaries[[#This Row],[Currency]],tblXrate[],2,FALSE)","v":60000},"Audit Manager","Manager","UAE",{"$f":"VLOOKUP(tblSalaries[[#This Row],[Where do you work]],tblCountries[[Actual]:[Mapping]],2,FALSE)","v":"UAE"},"2 to 3 hours per day",15,{"$f":"VLOOKUP(K801,tblCountries[],3,0)","v":"Asia"},{"$f":"VLOOKUP(tblSalaries[[#This Row],[How many hours of a day you work on Excel]],tblHours,2,0)","v":3},{"$f":"VLOOKUP(tblSalaries[[#This Row],[clean Country]],tblCountries[],5,0)","v":1.0047551808629926},{"$f":"IF($Q$1,tblSalaries[[#This Row],[PPP Factor]]*tblSalaries[[#This Row],[Salary in USD]],tblSalaries[[#This Row],[Salary in USD]])","v":60000}]
[null,"ID0812","2012-05-26T22:07:39","24000 $",24000,"USD",{"$f":"tblSalaries[[#This Row],[clean Salary (in local currency)]]*VLOOKUP(tblSalaries[[#This Row],[Currency]],tblXrate[],2,FALSE)","v":24000},"Logistic KA Manager","Manager","Croatia",{"$f":"VLOOKUP(tblSalaries[[#This Row],[Where do you work]],tblCountries[[Actual]:[Mapping]],2,FALSE)","v":"Croatia"},"2 to 3 hours per day",5,{"$f":"VLOOKUP(K802,tblCountries[],3,0)","v":"Europe"},{"$f":"VLOOKUP(tblSalaries[[#This Row],[How many hours of a day you work on Excel]],tblHours,2,0)","v":3},{"$f":"VLOOKUP(tblSalaries[[#This Row],[clean Country]],tblCountries[],5,0)","v":2.6597955145118735},{"$f":"IF($Q$1,tblSalaries[[#This Row],[PPP Factor]]*tblSalaries[[#This Row],[Salary in USD]],tblSalaries[[#This Row],[Salary in USD]])","v":24000}]
[null,"ID0813","2012-05-26T22:08:56","Rs 20000",240000,"INR",{"$f":"tblSalaries[[#This Row],[clean Salary (in local currency)]]*VLOOKUP(tblSalaries[[#This Row],[Currency]],tblXrate[],2,FALSE)","v":4273.9000049862161},"MANAGER","Manager","India",{"$f":"VLOOKUP(tblSalaries[[#This Row],[Where do you work]],tblCountries[[Actual]:[Mapping]],2,FALSE)","v":"India"},"2 to 3 hours per day",3,{"$f":"VLOOKUP(K803,tblCountries[],3,0)","v":"Asia"},{"$f":"VLOOKUP(tblSalaries[[#This Row],[How many hours of a day you work on Excel]],tblHours,2,0)","v":3},{"$f":"VLOOKUP(tblSalaries[[#This Row],[clean Country]],tblCountries[],5,0)","v":13.098808879263672},{"$f":"IF($Q$1,tblSalaries[[#This Row],[PPP Factor]]*tblSalaries[[#This Row],[Salary in USD]],tblSalaries[[#This Row],[Salary in USD]])","v":4273.9000049862161}]
[null,"ID0814","2012-05-26T22:16:10","INR 650000",650000,"INR",{"$f":"tblSalaries[[#This Row],[clean Salary (in local currency)]]*VLOOKUP(tblSalaries[[#This Row],[Currency]],tblXrate[],2,FALSE)","v":11575.14584683767},"Deputy Manager","Manager","India",{"$f":"VLOOKUP(tblSalaries[[#This Row],[Where do you work]],tblCountries[[Actual]:[Mapping]],2,FALSE)","v":"India"},"2 to 3 hours per day",5,{"$f":"VLOOKUP(K804,tblCountries[],3,0)","v":"Asia"},{"$f":"VLOOKUP(tblSalaries[[#This Row],[How many hours of a day you work on Excel]],tblHours,2,0)","v":3},{"$f":"VLOOKUP(tblSalaries[[#This Row],[clean Country]],tblCountries[],5,0)","v":13.098808879263672},{"$f":"IF($Q$1,tblSalaries[[#This Row],[PPP Factor]]*tblSalaries[[#This Row],[Salary in USD]],tblSalaries[[#This Row],[Salary in USD]])","v":11575.14584683767}]
[null,"ID0815","2012-05-26T22:22:58",95000,95000,"USD",{"$f":"tblSalaries[[#This Row],[clean Salary (in local currency)]]*VLOOKUP(tblSalaries[[#This Row],[Currency]],tblXrate[],2,FALSE)","v":95000},"Business Analyst","Analyst","USA",{"$f":"VLOOKUP(tblSalaries[[#This Row],[Where do you work]],tblCountries[[Actual]:[Mapping]],2,FALSE)","v":"USA"},"2 to 3 hours per day",13,{"$f":"VLOOKUP(K805,tblCountries[],3,0)","v":"North Amer."},{"$f":"VLOOKUP(tblSalaries[[#This Row],[How many hours of a day you work on Excel]],tblHours,2,0)","v":3},{"$f":"VLOOKUP(tblSalaries[[#This Row],[clean Country]],tblCountries[],5,0)","v":1},{"$f":"IF($Q$1,tblSalaries[[#This Row],[PPP Factor]]*tblSalaries[[#This Row],[Salary in USD]],tblSalaries[[#This Row],[Salary in USD]])","v":95000}]
[null,"ID0816","2012-05-26T22:23:38",516000,516000,"INR",{"$f":"tblSalaries[[#This Row],[clean Salary (in local currency)]]*VLOOKUP(tblSalaries[[#This Row],[Currency]],tblXrate[],2,FALSE)","v":9188.8850107203652},"Management Trainee","Manager","India",{"$f":"VLOOKUP(tblSalaries[[#This Row],[Where do you work]],tblCountries[[Actual]:[Mapping]],2,FALSE)","v":"India"},"4 to 6 hours a day",0,{"$f":"VLOOKUP(K806,tblCountries[],3,0)","v":"Asia"},{"$f":"VLOOKUP(tblSalaries[[#This Row],[How many hours of a day you work on Excel]],tblHours,2,0)","v":4},{"$f":"VLOOKUP(tblSalaries[[#This Row],[clean Country]],tblCountries[],5,0)","v":13.098808879263672},{"$f":"IF($Q$1,tblSalaries[[#This Row],[PPP Factor]]*tblSalaries[[#This Row],[Salary in USD]],tblSalaries[[#This Row],[Salary in USD]])","v":9188.8850107203652}]
[null,"ID0817","2012-05-26T22:29:16","3500 Rs",504000,"INR",{"$f":"tblSalaries[[#This Row],[clean Salary (in local currency)]]*VLOOKUP(tblSalaries[[#This Row],[Currency]],tblXrate[],2,FALSE)","v":8975.1900104710548},"MNR","Manager","India",{"$f":"VLOOKUP(tblSalaries[[#This Row],[Where do you work]],tblCountries[[Actual]:[Mapping]],2,FALSE)","v":"India"},"All the 8 hours baby, all the 8!",3,{"$f":"VLOOKUP(K807,tblCountries[],3,0)","v":"Asia"},{"$f":"VLOOKUP(tblSalaries[[#This Row],[How many hours of a day you work on Excel]],tblHours,2,0)","v":5},{"$f":"VLOOKUP(tblSalaries[[#This Row],[clean Country]],tblCountries[],5,0)","v":13.098808879263672},{"$f":"IF($Q$1,tblSalaries[[#This Row],[PPP Factor]]*tblSalaries[[#This Row],[Salary in USD]],tblSalaries[[#This Row],[Salary in USD]])","v":8975.1900104710548}]
[null,"ID0818","2012-05-26T22:29:21",144000,144000,"INR",{"$f":"tblSalaries[[#This Row],[clean Salary (in local currency)]]*VLOOKUP(tblSalaries[[#This Row],[Currency]],tblXrate[],2,FALSE)","v":2564.3400029917298},"BPO information process enabler","Analyst","India",{"$f":"VLOOKUP(tblSalaries[[#This Row],[Where do you work]],tblCountries[[Actual]:[Mapping]],2,FALSE)","v":"India"},"All the 8 hours baby, all the 8!",1,{"$f":"VLOOKUP(K808,tblCountries[],3,0)","v":"Asia"},{"$f":"VLOOKUP(tblSalaries[[#This Row],[How many hours of a day you work on Excel]],tblHours,2,0)","v":5},{"$f":"VLOOKUP(tblSalaries[[#This Row],[clean Country]],tblCountries[],5,0)","v":13.098808879263672},{"$f":"IF($Q$1,tblSalaries[[#This Row],[PPP Factor]]*tblSalaries[[#This Row],[Salary in USD]],tblSalaries[[#This Row],[Salary in USD]])","v":2564.3400029917298}]
[null,"ID0820","2012-05-26T22:43:11","Â£55000",55000,"GBP",{"$f":"tblSalaries[[#This Row],[clean Salary (in local currency)]]*VLOOKUP(tblSalaries[[#This Row],[Currency]],tblXrate[],2,FALSE)","v":86689.804963700633},"Financial controller","Controller","UK",{"$f":"VLOOKUP(tblSalaries[[#This Row],[Where do you work]],tblCountries[[Actual]:[Mapping]],2,FALSE)","v":"UK"},"4 to 6 hours a day",12,{"$f":"VLOOKUP(K809,tblCountries[],3,0)","v":"Europe"},{"$f":"VLOOKUP(tblSalaries[[#This Row],[How many hours of a day you work on Excel]],tblHours,2,0)","v":4},{"$f":"VLOOKUP(tblSalaries[[#This Row],[clean Country]],tblCountries[],5,0)","v":1.3407315045719035},{"$f":"IF($Q$1,tblSalaries[[#This Row],[PPP Factor]]*tblSalaries[[#This Row],[Salary in USD]],tblSalaries[[#This Row],[Salary in USD]])","v":86689.804963700633}]
[null,"ID0821","2012-05-26T22:43:12",15500,15500,"USD",{"$f":"tblSalaries[[#This Row],[clean Salary (in local currency)]]*VLOOKUP(tblSalaries[[#This Row],[Currency]],tblXrate[],2,FALSE)","v":15500},"Engineer","Engineer","India",{"$f":"VLOOKUP(tblSalaries[[#This Row],[Where do you work]],tblCountries[[Actual]:[Mapping]],2,FALSE)","v":"India"},"1 or 2 hours a day",3,{"$f":"VLOOKUP(K810,tblCountries[],3,0)","v":"Asia"},{"$f":"VLOOKUP(tblSalaries[[#This Row],[How many hours of a day you work on Excel]],tblHours,2,0)","v":2},{"$f":"VLOOKUP(tblSalaries[[#This Row],[clean Country]],tblCountries[],5,0)","v":13.098808879263672},{"$f":"IF($Q$1,tblSalaries[[#This Row],[PPP Factor]]*tblSalaries[[#This Row],[Salary in USD]],tblSalaries[[#This Row],[Salary in USD]])","v":15500}]
[null,"ID0822","2012-05-26T22:45:14","R$3.000,00",300000,"BRL",{"$f":"tblSalaries[[#This Row],[clean Salary (in local currency)]]*VLOOKUP(tblSalaries[[#This Row],[Currency]],tblXrate[],2,FALSE)","v":148284.35006969364},"Market Intelligence Analyst","Analyst","Brazil",{"$f":"VLOOKUP(tblSalaries[[#This Row],[Where do you work]],tblCountries[[Actual]:[Mapping]],2,FALSE)","v":"Brazil"},"All the 8 hours baby, all the 8!",3,{"$f":"VLOOKUP(K811,tblCountries[],3,0)","v":"South Amer."},{"$f":"VLOOKUP(tblSalaries[[#This Row],[How many hours of a day you work on Excel]],tblHours,2,0)","v":5},{"$f":"VLOOKUP(tblSalaries[[#This Row],[clean Country]],tblCountries[],5,0)","v":4.1113943410655107},{"$f":"IF($Q$1,tblSalaries[[#This Row],[PPP Factor]]*tblSalaries[[#This Row],[Salary in USD]],tblSalaries[[#This Row],[Salary in USD]])","v":148284.35006969364}]
[null,"ID0823","2012-05-26T22:48:11",600000,600000,"INR",{"$f":"tblSalaries[[#This Row],[clean Salary (in local currency)]]*VLOOKUP(tblSalaries[[#This Row],[Currency]],tblXrate[],2,FALSE)","v":10684.750012465542},"Reporting Analyst","Analyst","India",{"$f":"VLOOKUP(tblSalaries[[#This Row],[Where do you work]],tblCountries[[Actual]:[Mapping]],2,FALSE)","v":"India"},"All the 8 hours baby, all the 8!",5,{"$f":"VLOOKUP(K812,tblCountries[],3,0)","v":"Asia"},{"$f":"VLOOKUP(tblSalaries[[#This Row],[How many hours of a day you work on Excel]],tblHours,2,0)","v":5},{"$f":"VLOOKUP(tblSalaries[[#This Row],[clean Country]],tblCountries[],5,0)","v":13.098808879263672},{"$f":"IF($Q$1,tblSalaries[[#This Row],[PPP Factor]]*tblSalaries[[#This Row],[Salary in USD]],tblSalaries[[#This Row],[Salary in USD]])","v":10684.750012465542}]
[null,"ID0824","2012-05-26T22:49:34",75000,75000,"USD",{"$f":"tblSalaries[[#This Row],[clean Salary (in local currency)]]*VLOOKUP(tblSalaries[[#This Row],[Currency]],tblXrate[],2,FALSE)","v":75000},"sr financial analyst","Analyst","USA",{"$f":"VLOOKUP(tblSalaries[[#This Row],[Where do you work]],tblCountries[[Actual]:[Mapping]],2,FALSE)","v":"USA"},"2 to 3 hours per day",27,{"$f":"VLOOKUP(K813,tblCountries[],3,0)","v":"North Amer."},{"$f":"VLOOKUP(tblSalaries[[#This Row],[How many hours of a day you work on Excel]],tblHours,2,0)","v":3},{"$f":"VLOOKUP(tblSalaries[[#This Row],[clean Country]],tblCountries[],5,0)","v":1},{"$f":"IF($Q$1,tblSalaries[[#This Row],[PPP Factor]]*tblSalaries[[#This Row],[Salary in USD]],tblSalaries[[#This Row],[Salary in USD]])","v":75000}]
[null,"ID0825","2012-05-26T22:53:35","12000 $",12000,"USD",{"$f":"tblSalaries[[#This Row],[clean Salary (in local currency)]]*VLOOKUP(tblSalaries[[#This Row],[Currency]],tblXrate[],2,FALSE)","v":12000},"Investment manager","Manager","Ukraine",{"$f":"VLOOKUP(tblSalaries[[#This Row],[Where do you work]],tblCountries[[Actual]:[Mapping]],2,FALSE)","v":"Ukraine"},"4 to 6 hours a day",5,{"$f":"VLOOKUP(K814,tblCountries[],3,0)","v":"Europe"},{"$f":"VLOOKUP(tblSalaries[[#This Row],[How many hours of a day you work on Excel]],tblHours,2,0)","v":4},{"$f":"VLOOKUP(tblSalaries[[#This Row],[clean Country]],tblCountries[],5,0)","v":6.6897552882621323},{"$f":"IF($Q$1,tblSalaries[[#This Row],[PPP Factor]]*tblSalaries[[#This Row],[Salary in USD]],tblSalaries[[#This Row],[Salary in USD]])","v":12000}]
[null,"ID0826","2012-05-26T23:02:00","INR 1700000",1700000,"INR",{"$f":"tblSalaries[[#This Row],[clean Salary (in local currency)]]*VLOOKUP(tblSalaries[[#This Row],[Currency]],tblXrate[],2,FALSE)","v":30273.458368652366},"Operations Lead","Manager","India",{"$f":"VLOOKUP(tblSalaries[[#This Row],[Where do you work]],tblCountries[[Actual]:[Mapping]],2,FALSE)","v":"India"},"All the 8 hours baby, all the 8!",1.1000000000000001,{"$f":"VLOOKUP(K815,tblCountries[],3,0)","v":"Asia"},{"$f":"VLOOKUP(tblSalaries[[#This Row],[How many hours of a day you work on Excel]],tblHours,2,0)","v":5},{"$f":"VLOOKUP(tblSalaries[[#This Row],[clean Country]],tblCountries[],5,0)","v":13.098808879263672},{"$f":"IF($Q$1,tblSalaries[[#This Row],[PPP Factor]]*tblSalaries[[#This Row],[Salary in USD]],tblSalaries[[#This Row],[Salary in USD]])","v":30273.458368652366}]
[null,"ID0827","2012-05-26T23:03:21","US$30,000",30000,"USD",{"$f":"tblSalaries[[#This Row],[clean Salary (in local currency)]]*VLOOKUP(tblSalaries[[#This Row],[Currency]],tblXrate[],2,FALSE)","v":30000},"Financial Control Section Headm","Controller","Inonesia",{"$f":"VLOOKUP(tblSalaries[[#This Row],[Where do you work]],tblCountries[[Actual]:[Mapping]],2,FALSE)","v":"Indonesia"},"4 to 6 hours a day",7,{"$f":"VLOOKUP(K816,tblCountries[],3,0)","v":"Asia"},{"$f":"VLOOKUP(tblSalaries[[#This Row],[How many hours of a day you work on Excel]],tblHours,2,0)","v":4},{"$f":"VLOOKUP(tblSalaries[[#This Row],[clean Country]],tblCountries[],5,0)","v":10.370124303471924},{"$f":"IF($Q$1,tblSalaries[[#This Row],[PPP Factor]]*tblSalaries[[#This Row],[Salary in USD]],tblSalaries[[#This Row],[Salary in USD]])","v":30000}]
[null,"ID0828","2012-05-26T23:03:59","30000 Rs",360000,"INR",{"$f":"tblSalaries[[#This Row],[clean Salary (in local currency)]]*VLOOKUP(tblSalaries[[#This Row],[Currency]],tblXrate[],2,FALSE)","v":6410.8500074793246},"Application Developer","Analyst","India",{"$f":"VLOOKUP(tblSalaries[[#This Row],[Where do you work]],tblCountries[[Actual]:[Mapping]],2,FALSE)","v":"India"},"All the 8 hours baby, all the 8!",4,{"$f":"VLOOKUP(K817,tblCountries[],3,0)","v":"Asia"},{"$f":"VLOOKUP(tblSalaries[[#This Row],[How many hours of a day you work on Excel]],tblHours,2,0)","v":5},{"$f":"VLOOKUP(tblSalaries[[#This Row],[clean Country]],tblCountries[],5,0)","v":13.098808879263672},{"$f":"IF($Q$1,tblSalaries[[#This Row],[PPP Factor]]*tblSalaries[[#This Row],[Salary in USD]],tblSalaries[[#This Row],[Salary in USD]])","v":6410.8500074793246}]
[null,"ID0829","2012-05-26T23:04:02",100000,100000,"USD",{"$f":"tblSalaries[[#This Row],[clean Salary (in local currency)]]*VLOOKUP(tblSalaries[[#This Row],[Currency]],tblXrate[],2,FALSE)","v":100000},"director","CXO or Top Mgmt.","USA",{"$f":"VLOOKUP(tblSalaries[[#This Row],[Where do you work]],tblCountries[[Actual]:[Mapping]],2,FALSE)","v":"USA"},"4 to 6 hours a day",10,{"$f":"VLOOKUP(K818,tblCountries[],3,0)","v":"North Amer."},{"$f":"VLOOKUP(tblSalaries[[#This Row],[How many hours of a day you work on Excel]],tblHours,2,0)","v":4},{"$f":"VLOOKUP(tblSalaries[[#This Row],[clean Country]],tblCountries[],5,0)","v":1},{"$f":"IF($Q$1,tblSalaries[[#This Row],[PPP Factor]]*tblSalaries[[#This Row],[Salary in USD]],tblSalaries[[#This Row],[Salary in USD]])","v":100000}]
[null,"ID0830","2012-05-26T23:04:53",42000,42000,"EUR",{"$f":"tblSalaries[[#This Row],[clean Salary (in local currency)]]*VLOOKUP(tblSalaries[[#This Row],[Currency]],tblXrate[],2,FALSE)","v":53356.776437647524},"Project Engineer","Engineer","The Netherlands",{"$f":"VLOOKUP(tblSalaries[[#This Row],[Where do you work]],tblCountries[[Actual]:[Mapping]],2,FALSE)","v":"Netherlands"},"4 to 6 hours a day",2,{"$f":"VLOOKUP(K819,tblCountries[],3,0)","v":"Europe"},{"$f":"VLOOKUP(tblSalaries[[#This Row],[How many hours of a day you work on Excel]],tblHours,2,0)","v":4},{"$f":"VLOOKUP(tblSalaries[[#This Row],[clean Country]],tblCountries[],5,0)","v":1.1470734656141099},{"$f":"IF($Q$1,tblSalaries[[#This Row],[PPP Factor]]*tblSalaries[[#This Row],[Salary in USD]],tblSalaries[[#This Row],[Salary in USD]])","v":53356.776437647524}]
[null,"ID0831","2012-05-26T23:05:15",40000,40000,"USD",{"$f":"tblSalaries[[#This Row],[clean Salary (in local currency)]]*VLOOKUP(tblSalaries[[#This Row],[Currency]],tblXrate[],2,FALSE)","v":40000},"High School Teacher","Manager","USA",{"$f":"VLOOKUP(tblSalaries[[#This Row],[Where do you work]],tblCountries[[Actual]:[Mapping]],2,FALSE)","v":"USA"},"2 to 3 hours per day",20,{"$f":"VLOOKUP(K820,tblCountries[],3,0)","v":"North Amer."},{"$f":"VLOOKUP(tblSalaries[[#This Row],[How many hours of a day you work on Excel]],tblHours,2,0)","v":3},{"$f":"VLOOKUP(tblSalaries[[#This Row],[clean Country]],tblCountries[],5,0)","v":1},{"$f":"IF($Q$1,tblSalaries[[#This Row],[PPP Factor]]*tblSalaries[[#This Row],[Salary in USD]],tblSalaries[[#This Row],[Salary in USD]])","v":40000}]
[null,"ID0832","2012-05-26T23:14:58","5.5 lakhs",550000,"INR",{"$f":"tblSalaries[[#This Row],[clean Salary (in local currency)]]*VLOOKUP(tblSalaries[[#This Row],[Currency]],tblXrate[],2,FALSE)","v":9794.354178093412},"web analyst","Analyst","India",{"$f":"VLOOKUP(tblSalaries[[#This Row],[Where do you work]],tblCountries[[Actual]:[Mapping]],2,FALSE)","v":"India"},"4 to 6 hours a day",1,{"$f":"VLOOKUP(K821,tblCountries[],3,0)","v":"Asia"},{"$f":"VLOOKUP(tblSalaries[[#This Row],[How many hours of a day you work on Excel]],tblHours,2,0)","v":4},{"$f":"VLOOKUP(tblSalaries[[#This Row],[clean Country]],tblCountries[],5,0)","v":13.098808879263672},{"$f":"IF($Q$1,tblSalaries[[#This Row],[PPP Factor]]*tblSalaries[[#This Row],[Salary in USD]],tblSalaries[[#This Row],[Salary in USD]])","v":9794.354178093412}]
[null,"ID0833","2012-05-26T23:15:18","65000 ron",65000,"RON",{"$f":"tblSalaries[[#This Row],[clean Salary (in local currency)]]*VLOOKUP(tblSalaries[[#This Row],[Currency]],tblXrate[],2,FALSE)","v":18499.860539512854},"HR Planning Specialist","Specialist","Romania",{"$f":"VLOOKUP(tblSalaries[[#This Row],[Where do you work]],tblCountries[[Actual]:[Mapping]],2,FALSE)","v":"Romania"},"4 to 6 hours a day",6,{"$f":"VLOOKUP(K822,tblCountries[],3,0)","v":"Europe"},{"$f":"VLOOKUP(tblSalaries[[#This Row],[How many hours of a day you work on Excel]],tblHours,2,0)","v":4},{"$f":"VLOOKUP(tblSalaries[[#This Row],[clean Country]],tblCountries[],5,0)","v":3.8784065405578709},{"$f":"IF($Q$1,tblSalaries[[#This Row],[PPP Factor]]*tblSalaries[[#This Row],[Salary in USD]],tblSalaries[[#This Row],[Salary in USD]])","v":18499.860539512854}]
[null,"ID0834","2012-05-26T23:17:09","15600 â‚¬",15600,"EUR",{"$f":"tblSalaries[[#This Row],[clean Salary (in local currency)]]*VLOOKUP(tblSalaries[[#This Row],[Currency]],tblXrate[],2,FALSE)","v":19818.231248269083},"Managment controller","Controller","Portugal",{"$f":"VLOOKUP(tblSalaries[[#This Row],[Where do you work]],tblCountries[[Actual]:[Mapping]],2,FALSE)","v":"Portugal"},"4 to 6 hours a day",5,{"$f":"VLOOKUP(K823,tblCountries[],3,0)","v":"Europe"},{"$f":"VLOOKUP(tblSalaries[[#This Row],[How many hours of a day you work on Excel]],tblHours,2,0)","v":4},{"$f":"VLOOKUP(tblSalaries[[#This Row],[clean Country]],tblCountries[],5,0)","v":2.0712726338769745},{"$f":"IF($Q$1,tblSalaries[[#This Row],[PPP Factor]]*tblSalaries[[#This Row],[Salary in USD]],tblSalaries[[#This Row],[Salary in USD]])","v":19818.231248269083}]
[null,"ID0835","2012-05-26T23:21:57","Rs.6,00,000/-",600000,"INR",{"$f":"tblSalaries[[#This Row],[clean Salary (in local currency)]]*VLOOKUP(tblSalaries[[#This Row],[Currency]],tblXrate[],2,FALSE)","v":10684.750012465542},"AO","Manager","India",{"$f":"VLOOKUP(tblSalaries[[#This Row],[Where do you work]],tblCountries[[Actual]:[Mapping]],2,FALSE)","v":"India"},"All the 8 hours baby, all the 8!",20,{"$f":"VLOOKUP(K824,tblCountries[],3,0)","v":"Asia"},{"$f":"VLOOKUP(tblSalaries[[#This Row],[How many hours of a day you work on Excel]],tblHours,2,0)","v":5},{"$f":"VLOOKUP(tblSalaries[[#This Row],[clean Country]],tblCountries[],5,0)","v":13.098808879263672},{"$f":"IF($Q$1,tblSalaries[[#This Row],[PPP Factor]]*tblSalaries[[#This Row],[Salary in USD]],tblSalaries[[#This Row],[Salary in USD]])","v":10684.750012465542}]
[null,"ID0836","2012-05-26T23:36:14","Rs. 6,00,000",600000,"INR",{"$f":"tblSalaries[[#This Row],[clean Salary (in local currency)]]*VLOOKUP(tblSalaries[[#This Row],[Currency]],tblXrate[],2,FALSE)","v":10684.750012465542},"Project Manager","Manager","India",{"$f":"VLOOKUP(tblSalaries[[#This Row],[Where do you work]],tblCountries[[Actual]:[Mapping]],2,FALSE)","v":"India"},"2 to 3 hours per day",18,{"$f":"VLOOKUP(K825,tblCountries[],3,0)","v":"Asia"},{"$f":"VLOOKUP(tblSalaries[[#This Row],[How many hours of a day you work on Excel]],tblHours,2,0)","v":3},{"$f":"VLOOKUP(tblSalaries[[#This Row],[clean Country]],tblCountries[],5,0)","v":13.098808879263672},{"$f":"IF($Q$1,tblSalaries[[#This Row],[PPP Factor]]*tblSalaries[[#This Row],[Salary in USD]],tblSalaries[[#This Row],[Salary in USD]])","v":10684.750012465542}]
[null,"ID0837","2012-05-26T23:38:24",1000000,1000000,"INR",{"$f":"tblSalaries[[#This Row],[clean Salary (in local currency)]]*VLOOKUP(tblSalaries[[#This Row],[Currency]],tblXrate[],2,FALSE)","v":17807.916687442568},"business analyist","Analyst","India",{"$f":"VLOOKUP(tblSalaries[[#This Row],[Where do you work]],tblCountries[[Actual]:[Mapping]],2,FALSE)","v":"India"},"4 to 6 hours a day",10,{"$f":"VLOOKUP(K826,tblCountries[],3,0)","v":"Asia"},{"$f":"VLOOKUP(tblSalaries[[#This Row],[How many hours of a day you work on Excel]],tblHours,2,0)","v":4},{"$f":"VLOOKUP(tblSalaries[[#This Row],[clean Country]],tblCountries[],5,0)","v":13.098808879263672},{"$f":"IF($Q$1,tblSalaries[[#This Row],[PPP Factor]]*tblSalaries[[#This Row],[Salary in USD]],tblSalaries[[#This Row],[Salary in USD]])","v":17807.916687442568}]
[null,"ID0838","2012-05-26T23:47:34","13000 USD",13000,"USD",{"$f":"tblSalaries[[#This Row],[clean Salary (in local currency)]]*VLOOKUP(tblSalaries[[#This Row],[Currency]],tblXrate[],2,FALSE)","v":13000},"Business Analyst","Analyst","India",{"$f":"VLOOKUP(tblSalaries[[#This Row],[Where do you work]],tblCountries[[Actual]:[Mapping]],2,FALSE)","v":"India"},"All the 8 hours baby, all the 8!",6,{"$f":"VLOOKUP(K827,tblCountries[],3,0)","v":"Asia"},{"$f":"VLOOKUP(tblSalaries[[#This Row],[How many hours of a day you work on Excel]],tblHours,2,0)","v":5},{"$f":"VLOOKUP(tblSalaries[[#This Row],[clean Country]],tblCountries[],5,0)","v":13.098808879263672},{"$f":"IF($Q$1,tblSalaries[[#This Row],[PPP Factor]]*tblSalaries[[#This Row],[Salary in USD]],tblSalaries[[#This Row],[Salary in USD]])","v":13000}]
[null,"ID0839","2012-05-26T23:58:53","900000 Rs",900000,"INR",{"$f":"tblSalaries[[#This Row],[clean Salary (in local currency)]]*VLOOKUP(tblSalaries[[#This Row],[Currency]],tblXrate[],2,FALSE)","v":16027.125018698311},"Deputy Manager","Manager","India",{"$f":"VLOOKUP(tblSalaries[[#This Row],[Where do you work]],tblCountries[[Actual]:[Mapping]],2,FALSE)","v":"India"},"1 or 2 hours a day",9,{"$f":"VLOOKUP(K828,tblCountries[],3,0)","v":"Asia"},{"$f":"VLOOKUP(tblSalaries[[#This Row],[How many hours of a day you work on Excel]],tblHours,2,0)","v":2},{"$f":"VLOOKUP(tblSalaries[[#This Row],[clean Country]],tblCountries[],5,0)","v":13.098808879263672},{"$f":"IF($Q$1,tblSalaries[[#This Row],[PPP Factor]]*tblSalaries[[#This Row],[Salary in USD]],tblSalaries[[#This Row],[Salary in USD]])","v":16027.125018698311}]
[null,"ID0840","2012-05-27T00:02:45",85000,85000,"USD",{"$f":"tblSalaries[[#This Row],[clean Salary (in local currency)]]*VLOOKUP(tblSalaries[[#This Row],[Currency]],tblXrate[],2,FALSE)","v":85000},"actuary","Accountant","USA",{"$f":"VLOOKUP(tblSalaries[[#This Row],[Where do you work]],tblCountries[[Actual]:[Mapping]],2,FALSE)","v":"USA"},"All the 8 hours baby, all the 8!",1,{"$f":"VLOOKUP(K829,tblCountries[],3,0)","v":"North Amer."},{"$f":"VLOOKUP(tblSalaries[[#This Row],[How many hours of a day you work on Excel]],tblHours,2,0)","v":5},{"$f":"VLOOKUP(tblSalaries[[#This Row],[clean Country]],tblCountries[],5,0)","v":1},{"$f":"IF($Q$1,tblSalaries[[#This Row],[PPP Factor]]*tblSalaries[[#This Row],[Salary in USD]],tblSalaries[[#This Row],[Salary in USD]])","v":85000}]
[null,"ID0841","2012-05-27T00:07:52",6000,6000,"USD",{"$f":"tblSalaries[[#This Row],[clean Salary (in local currency)]]*VLOOKUP(tblSalaries[[#This Row],[Currency]],tblXrate[],2,FALSE)","v":6000},"Analysis Quality","Analyst","Colombia - South America",{"$f":"VLOOKUP(tblSalaries[[#This Row],[Where do you work]],tblCountries[[Actual]:[Mapping]],2,FALSE)","v":"Colombia"},"1 or 2 hours a day",10,{"$f":"VLOOKUP(K830,tblCountries[],3,0)","v":"South Amer."},{"$f":"VLOOKUP(tblSalaries[[#This Row],[How many hours of a day you work on Excel]],tblHours,2,0)","v":2},{"$f":"VLOOKUP(tblSalaries[[#This Row],[clean Country]],tblCountries[],5,0)","v":4.721143526197678},{"$f":"IF($Q$1,tblSalaries[[#This Row],[PPP Factor]]*tblSalaries[[#This Row],[Salary in USD]],tblSalaries[[#This Row],[Salary in USD]])","v":6000}]
[null,"ID0842","2012-05-27T00:12:53",30000,30000,"USD",{"$f":"tblSalaries[[#This Row],[clean Salary (in local currency)]]*VLOOKUP(tblSalaries[[#This Row],[Currency]],tblXrate[],2,FALSE)","v":30000},"MIS Executive","Reporting","India",{"$f":"VLOOKUP(tblSalaries[[#This Row],[Where do you work]],tblCountries[[Actual]:[Mapping]],2,FALSE)","v":"India"},"4 to 6 hours a day",2,{"$f":"VLOOKUP(K831,tblCountries[],3,0)","v":"Asia"},{"$f":"VLOOKUP(tblSalaries[[#This Row],[How many hours of a day you work on Excel]],tblHours,2,0)","v":4},{"$f":"VLOOKUP(tblSalaries[[#This Row],[clean Country]],tblCountries[],5,0)","v":13.098808879263672},{"$f":"IF($Q$1,tblSalaries[[#This Row],[PPP Factor]]*tblSalaries[[#This Row],[Salary in USD]],tblSalaries[[#This Row],[Salary in USD]])","v":30000}]
[null,"ID0844","2012-05-27T00:19:04",100000,100000,"GBP",{"$f":"tblSalaries[[#This Row],[clean Salary (in local currency)]]*VLOOKUP(tblSalaries[[#This Row],[Currency]],tblXrate[],2,FALSE)","v":157617.8272067284},"Financial Controller","Controller","UK",{"$f":"VLOOKUP(tblSalaries[[#This Row],[Where do you work]],tblCountries[[Actual]:[Mapping]],2,FALSE)","v":"UK"},"2 to 3 hours per day",20,{"$f":"VLOOKUP(K832,tblCountries[],3,0)","v":"Europe"},{"$f":"VLOOKUP(tblSalaries[[#This Row],[How many hours of a day you work on Excel]],tblHours,2,0)","v":3},{"$f":"VLOOKUP(tblSalaries[[#This Row],[clean Country]],tblCountries[],5,0)","v":1.3407315045719035},{"$f":"IF($Q$1,tblSalaries[[#This Row],[PPP Factor]]*tblSalaries[[#This Row],[Salary in USD]],tblSalaries[[#This Row],[Salary in USD]])","v":157617.8272067284}]
[null,"ID0845","2012-05-27T00:33:06","1200000 Rs",1200000,"INR",{"$f":"tblSalaries[[#This Row],[clean Salary (in local currency)]]*VLOOKUP(tblSalaries[[#This Row],[Currency]],tblXrate[],2,FALSE)","v":21369.500024931083},"project manager","Manager","India",{"$f":"VLOOKUP(tblSalaries[[#This Row],[Where do you work]],tblCountries[[Actual]:[Mapping]],2,FALSE)","v":"India"},"1 or 2 hours a day",18,{"$f":"VLOOKUP(K833,tblCountries[],3,0)","v":"Asia"},{"$f":"VLOOKUP(tblSalaries[[#This Row],[How many hours of a day you work on Excel]],tblHours,2,0)","v":2},{"$f":"VLOOKUP(tblSalaries[[#This Row],[clean Country]],tblCountries[],5,0)","v":13.098808879263672},{"$f":"IF($Q$1,tblSalaries[[#This Row],[PPP Factor]]*tblSalaries[[#This Row],[Salary in USD]],tblSalaries[[#This Row],[Salary in USD]])","v":21369.500024931083}]
[null,"ID0846","2012-05-27T00:53:20","2 lac",200000,"INR",{"$f":"tblSalaries[[#This Row],[clean Salary (in local currency)]]*VLOOKUP(tblSalaries[[#This Row],[Currency]],tblXrate[],2,FALSE)","v":3561.5833374885137},"Bio-Statiscian","Reporting","India",{"$f":"VLOOKUP(tblSalaries[[#This Row],[Where do you work]],tblCountries[[Actual]:[Mapping]],2,FALSE)","v":"India"},"4 to 6 hours a day",1,{"$f":"VLOOKUP(K834,tblCountries[],3,0)","v":"Asia"},{"$f":"VLOOKUP(tblSalaries[[#This Row],[How many hours of a day you work on Excel]],tblHours,2,0)","v":4},{"$f":"VLOOKUP(tblSalaries[[#This Row],[clean Country]],tblCountries[],5,0)","v":13.098808879263672},{"$f":"IF($Q$1,tblSalaries[[#This Row],[PPP Factor]]*tblSalaries[[#This Row],[Salary in USD]],tblSalaries[[#This Row],[Salary in USD]])","v":3561.5833374885137}]
[null,"ID0847","2012-05-27T01:04:46",5000,5000,"USD",{"$f":"tblSalaries[[#This Row],[clean Salary (in local currency)]]*VLOOKUP(tblSalaries[[#This Row],[Currency]],tblXrate[],2,FALSE)","v":5000},"Management Intern","Manager","India",{"$f":"VLOOKUP(tblSalaries[[#This Row],[Where do you work]],tblCountries[[Actual]:[Mapping]],2,FALSE)","v":"India"},"4 to 6 hours a day",1,{"$f":"VLOOKUP(K835,tblCountries[],3,0)","v":"Asia"},{"$f":"VLOOKUP(tblSalaries[[#This Row],[How many hours of a day you work on Excel]],tblHours,2,0)","v":4},{"$f":"VLOOKUP(tblSalaries[[#This Row],[clean Country]],tblCountries[],5,0)","v":13.098808879263672},{"$f":"IF($Q$1,tblSalaries[[#This Row],[PPP Factor]]*tblSalaries[[#This Row],[Salary in USD]],tblSalaries[[#This Row],[Salary in USD]])","v":5000}]
[null,"ID0848","2012-05-27T01:22:06","INR 2,00,000",200000,"INR",{"$f":"tblSalaries[[#This Row],[clean Salary (in local currency)]]*VLOOKUP(tblSalaries[[#This Row],[Currency]],tblXrate[],2,FALSE)","v":3561.5833374885137},"Sales Analyst","Analyst","India",{"$f":"VLOOKUP(tblSalaries[[#This Row],[Where do you work]],tblCountries[[Actual]:[Mapping]],2,FALSE)","v":"India"},"4 to 6 hours a day",2,{"$f":"VLOOKUP(K836,tblCountries[],3,0)","v":"Asia"},{"$f":"VLOOKUP(tblSalaries[[#This Row],[How many hours of a day you work on Excel]],tblHours,2,0)","v":4},{"$f":"VLOOKUP(tblSalaries[[#This Row],[clean Country]],tblCountries[],5,0)","v":13.098808879263672},{"$f":"IF($Q$1,tblSalaries[[#This Row],[PPP Factor]]*tblSalaries[[#This Row],[Salary in USD]],tblSalaries[[#This Row],[Salary in USD]])","v":3561.5833374885137}]
[null,"ID0849","2012-05-27T01:30:55","30000 eur",30000,"EUR",{"$f":"tblSalaries[[#This Row],[clean Salary (in local currency)]]*VLOOKUP(tblSalaries[[#This Row],[Currency]],tblXrate[],2,FALSE)","v":38111.983169748237},"financialcotroller","Accountant","portugal",{"$f":"VLOOKUP(tblSalaries[[#This Row],[Where do you work]],tblCountries[[Actual]:[Mapping]],2,FALSE)","v":"Portugal"},"All the 8 hours baby, all the 8!",8,{"$f":"VLOOKUP(K837,tblCountries[],3,0)","v":"Europe"},{"$f":"VLOOKUP(tblSalaries[[#This Row],[How many hours of a day you work on Excel]],tblHours,2,0)","v":5},{"$f":"VLOOKUP(tblSalaries[[#This Row],[clean Country]],tblCountries[],5,0)","v":2.0712726338769745},{"$f":"IF($Q$1,tblSalaries[[#This Row],[PPP Factor]]*tblSalaries[[#This Row],[Salary in USD]],tblSalaries[[#This Row],[Salary in USD]])","v":38111.983169748237}]
[null,"ID0850","2012-05-27T01:41:11","Rs. 10,00,000",1000000,"INR",{"$f":"tblSalaries[[#This Row],[clean Salary (in local currency)]]*VLOOKUP(tblSalaries[[#This Row],[Currency]],tblXrate[],2,FALSE)","v":17807.916687442568},"HR Analyst","Analyst","India",{"$f":"VLOOKUP(tblSalaries[[#This Row],[Where do you work]],tblCountries[[Actual]:[Mapping]],2,FALSE)","v":"India"},"4 to 6 hours a day",6.5,{"$f":"VLOOKUP(K838,tblCountries[],3,0)","v":"Asia"},{"$f":"VLOOKUP(tblSalaries[[#This Row],[How many hours of a day you work on Excel]],tblHours,2,0)","v":4},{"$f":"VLOOKUP(tblSalaries[[#This Row],[clean Country]],tblCountries[],5,0)","v":13.098808879263672},{"$f":"IF($Q$1,tblSalaries[[#This Row],[PPP Factor]]*tblSalaries[[#This Row],[Salary in USD]],tblSalaries[[#This Row],[Salary in USD]])","v":17807.916687442568}]
[null,"ID0851","2012-05-27T01:46:00",650000,650000,"INR",{"$f":"tblSalaries[[#This Row],[clean Salary (in local currency)]]*VLOOKUP(tblSalaries[[#This Row],[Currency]],tblXrate[],2,FALSE)","v":11575.14584683767},"Financial Analyist","Analyst","India",{"$f":"VLOOKUP(tblSalaries[[#This Row],[Where do you work]],tblCountries[[Actual]:[Mapping]],2,FALSE)","v":"India"},"All the 8 hours baby, all the 8!",3.5,{"$f":"VLOOKUP(K839,tblCountries[],3,0)","v":"Asia"},{"$f":"VLOOKUP(tblSalaries[[#This Row],[How many hours of a day you work on Excel]],tblHours,2,0)","v":5},{"$f":"VLOOKUP(tblSalaries[[#This Row],[clean Country]],tblCountries[],5,0)","v":13.098808879263672},{"$f":"IF($Q$1,tblSalaries[[#This Row],[PPP Factor]]*tblSalaries[[#This Row],[Salary in USD]],tblSalaries[[#This Row],[Salary in USD]])","v":11575.14584683767}]
[null,"ID0852","2012-05-27T02:33:22",100000,100000,"CAD",{"$f":"tblSalaries[[#This Row],[clean Salary (in local currency)]]*VLOOKUP(tblSalaries[[#This Row],[Currency]],tblXrate[],2,FALSE)","v":98336.152303032693},"Marketing Manager","Manager","Canada",{"$f":"VLOOKUP(tblSalaries[[#This Row],[Where do you work]],tblCountries[[Actual]:[Mapping]],2,FALSE)","v":"Canada"},"2 to 3 hours per day",10,{"$f":"VLOOKUP(K840,tblCountries[],3,0)","v":"North Amer."},{"$f":"VLOOKUP(tblSalaries[[#This Row],[How many hours of a day you work on Excel]],tblHours,2,0)","v":3},{"$f":"VLOOKUP(tblSalaries[[#This Row],[clean Country]],tblCountries[],5,0)","v":1.1935324732986359},{"$f":"IF($Q$1,tblSalaries[[#This Row],[PPP Factor]]*tblSalaries[[#This Row],[Salary in USD]],tblSalaries[[#This Row],[Salary in USD]])","v":98336.152303032693}]
[null,"ID0854","2012-05-27T03:06:02",92500,92500,"USD",{"$f":"tblSalaries[[#This Row],[clean Salary (in local currency)]]*VLOOKUP(tblSalaries[[#This Row],[Currency]],tblXrate[],2,FALSE)","v":92500},"Dir of Analytics","Analyst","USA",{"$f":"VLOOKUP(tblSalaries[[#This Row],[Where do you work]],tblCountries[[Actual]:[Mapping]],2,FALSE)","v":"USA"},"2 to 3 hours per day",15,{"$f":"VLOOKUP(K841,tblCountries[],3,0)","v":"North Amer."},{"$f":"VLOOKUP(tblSalaries[[#This Row],[How many hours of a day you work on Excel]],tblHours,2,0)","v":3},{"$f":"VLOOKUP(tblSalaries[[#This Row],[clean Country]],tblCountries[],5,0)","v":1},{"$f":"IF($Q$1,tblSalaries[[#This Row],[PPP Factor]]*tblSalaries[[#This Row],[Salary in USD]],tblSalaries[[#This Row],[Salary in USD]])","v":92500}]
[null,"ID0855","2012-05-27T03:16:05","Rs. 550000",550000,"INR",{"$f":"tblSalaries[[#This Row],[clean Salary (in local currency)]]*VLOOKUP(tblSalaries[[#This Row],[Currency]],tblXrate[],2,FALSE)","v":9794.354178093412},"Analyst","Analyst","India",{"$f":"VLOOKUP(tblSalaries[[#This Row],[Where do you work]],tblCountries[[Actual]:[Mapping]],2,FALSE)","v":"India"},"4 to 6 hours a day",1,{"$f":"VLOOKUP(K842,tblCountries[],3,0)","v":"Asia"},{"$f":"VLOOKUP(tblSalaries[[#This Row],[How many hours of a day you work on Excel]],tblHours,2,0)","v":4},{"$f":"VLOOKUP(tblSalaries[[#This Row],[clean Country]],tblCountries[],5,0)","v":13.098808879263672},{"$f":"IF($Q$1,tblSalaries[[#This Row],[PPP Factor]]*tblSalaries[[#This Row],[Salary in USD]],tblSalaries[[#This Row],[Salary in USD]])","v":9794.354178093412}]
[null,"ID0856","2012-05-27T03:19:29",32000,32000,"USD",{"$f":"tblSalaries[[#This Row],[clean Salary (in local currency)]]*VLOOKUP(tblSalaries[[#This Row],[Currency]],tblXrate[],2,FALSE)","v":32000},"Reporting Manager","Manager","USA",{"$f":"VLOOKUP(tblSalaries[[#This Row],[Where do you work]],tblCountries[[Actual]:[Mapping]],2,FALSE)","v":"USA"},"4 to 6 hours a day",1,{"$f":"VLOOKUP(K843,tblCountries[],3,0)","v":"North Amer."},{"$f":"VLOOKUP(tblSalaries[[#This Row],[How many hours of a day you work on Excel]],tblHours,2,0)","v":4},{"$f":"VLOOKUP(tblSalaries[[#This Row],[clean Country]],tblCountries[],5,0)","v":1},{"$f":"IF($Q$1,tblSalaries[[#This Row],[PPP Factor]]*tblSalaries[[#This Row],[Salary in USD]],tblSalaries[[#This Row],[Salary in USD]])","v":32000}]
[null,"ID0857","2012-05-27T03:25:05",55000,55000,"USD",{"$f":"tblSalaries[[#This Row],[clean Salary (in local currency)]]*VLOOKUP(tblSalaries[[#This Row],[Currency]],tblXrate[],2,FALSE)","v":55000},"Analyst","Analyst","USA",{"$f":"VLOOKUP(tblSalaries[[#This Row],[Where do you work]],tblCountries[[Actual]:[Mapping]],2,FALSE)","v":"USA"},"4 to 6 hours a day",10,{"$f":"VLOOKUP(K844,tblCountries[],3,0)","v":"North Amer."},{"$f":"VLOOKUP(tblSalaries[[#This Row],[How many hours of a day you work on Excel]],tblHours,2,0)","v":4},{"$f":"VLOOKUP(tblSalaries[[#This Row],[clean Country]],tblCountries[],5,0)","v":1},{"$f":"IF($Q$1,tblSalaries[[#This Row],[PPP Factor]]*tblSalaries[[#This Row],[Salary in USD]],tblSalaries[[#This Row],[Salary in USD]])","v":55000}]
[null,"ID0858","2012-05-27T03:25:53",40000,40000,"USD",{"$f":"tblSalaries[[#This Row],[clean Salary (in local currency)]]*VLOOKUP(tblSalaries[[#This Row],[Currency]],tblXrate[],2,FALSE)","v":40000},"Data Research Assistant","Analyst","USA",{"$f":"VLOOKUP(tblSalaries[[#This Row],[Where do you work]],tblCountries[[Actual]:[Mapping]],2,FALSE)","v":"USA"},"All the 8 hours baby, all the 8!",4,{"$f":"VLOOKUP(K845,tblCountries[],3,0)","v":"North Amer."},{"$f":"VLOOKUP(tblSalaries[[#This Row],[How many hours of a day you work on Excel]],tblHours,2,0)","v":5},{"$f":"VLOOKUP(tblSalaries[[#This Row],[clean Country]],tblCountries[],5,0)","v":1},{"$f":"IF($Q$1,tblSalaries[[#This Row],[PPP Factor]]*tblSalaries[[#This Row],[Salary in USD]],tblSalaries[[#This Row],[Salary in USD]])","v":40000}]
[null,"ID0859","2012-05-27T03:37:32","3000 $",3000,"USD",{"$f":"tblSalaries[[#This Row],[clean Salary (in local currency)]]*VLOOKUP(tblSalaries[[#This Row],[Currency]],tblXrate[],2,FALSE)","v":3000},"Statistical Analyst","Analyst","Pakistan",{"$f":"VLOOKUP(tblSalaries[[#This Row],[Where do you work]],tblCountries[[Actual]:[Mapping]],2,FALSE)","v":"Pakistan"},"2 to 3 hours per day",2,{"$f":"VLOOKUP(K846,tblCountries[],3,0)","v":"Asia"},{"$f":"VLOOKUP(tblSalaries[[#This Row],[How many hours of a day you work on Excel]],tblHours,2,0)","v":3},{"$f":"VLOOKUP(tblSalaries[[#This Row],[clean Country]],tblCountries[],5,0)","v":17.361679224973088},{"$f":"IF($Q$1,tblSalaries[[#This Row],[PPP Factor]]*tblSalaries[[#This Row],[Salary in USD]],tblSalaries[[#This Row],[Salary in USD]])","v":3000}]
[null,"ID0860","2012-05-27T03:37:36",43600,43600,"USD",{"$f":"tblSalaries[[#This Row],[clean Salary (in local currency)]]*VLOOKUP(tblSalaries[[#This Row],[Currency]],tblXrate[],2,FALSE)","v":43600},"Data Analyst","Analyst","USA",{"$f":"VLOOKUP(tblSalaries[[#This Row],[Where do you work]],tblCountries[[Actual]:[Mapping]],2,FALSE)","v":"USA"},"4 to 6 hours a day",5,{"$f":"VLOOKUP(K847,tblCountries[],3,0)","v":"North Amer."},{"$f":"VLOOKUP(tblSalaries[[#This Row],[How many hours of a day you work on Excel]],tblHours,2,0)","v":4},{"$f":"VLOOKUP(tblSalaries[[#This Row],[clean Country]],tblCountries[],5,0)","v":1},{"$f":"IF($Q$1,tblSalaries[[#This Row],[PPP Factor]]*tblSalaries[[#This Row],[Salary in USD]],tblSalaries[[#This Row],[Salary in USD]])","v":43600}]
[null,"ID0861","2012-05-27T04:00:14","Rs. 45000",540000,"INR",{"$f":"tblSalaries[[#This Row],[clean Salary (in local currency)]]*VLOOKUP(tblSalaries[[#This Row],[Currency]],tblXrate[],2,FALSE)","v":9616.275011218986},"Senior analyst","Analyst","India",{"$f":"VLOOKUP(tblSalaries[[#This Row],[Where do you work]],tblCountries[[Actual]:[Mapping]],2,FALSE)","v":"India"},"All the 8 hours baby, all the 8!",8,{"$f":"VLOOKUP(K848,tblCountries[],3,0)","v":"Asia"},{"$f":"VLOOKUP(tblSalaries[[#This Row],[How many hours of a day you work on Excel]],tblHours,2,0)","v":5},{"$f":"VLOOKUP(tblSalaries[[#This Row],[clean Country]],tblCountries[],5,0)","v":13.098808879263672},{"$f":"IF($Q$1,tblSalaries[[#This Row],[PPP Factor]]*tblSalaries[[#This Row],[Salary in USD]],tblSalaries[[#This Row],[Salary in USD]])","v":9616.275011218986}]
[null,"ID0862","2012-05-27T04:05:28",35000,35000,"USD",{"$f":"tblSalaries[[#This Row],[clean Salary (in local currency)]]*VLOOKUP(tblSalaries[[#This Row],[Currency]],tblXrate[],2,FALSE)","v":35000},"Purchasing Manager","Manager","Uruguay",{"$f":"VLOOKUP(tblSalaries[[#This Row],[Where do you work]],tblCountries[[Actual]:[Mapping]],2,FALSE)","v":"Uruguay"},"All the 8 hours baby, all the 8!",10,{"$f":"VLOOKUP(K849,tblCountries[],3,0)","v":"South Amer."},{"$f":"VLOOKUP(tblSalaries[[#This Row],[How many hours of a day you work on Excel]],tblHours,2,0)","v":5},{"$f":"VLOOKUP(tblSalaries[[#This Row],[clean Country]],tblCountries[],5,0)","v":3.2016806722689077},{"$f":"IF($Q$1,tblSalaries[[#This Row],[PPP Factor]]*tblSalaries[[#This Row],[Salary in USD]],tblSalaries[[#This Row],[Salary in USD]])","v":35000}]
[null,"ID0863","2012-05-27T04:07:07",12000,12000,"USD",{"$f":"tblSalaries[[#This Row],[clean Salary (in local currency)]]*VLOOKUP(tblSalaries[[#This Row],[Currency]],tblXrate[],2,FALSE)","v":12000},"Guide for About.com","Consultant","Spain",{"$f":"VLOOKUP(tblSalaries[[#This Row],[Where do you work]],tblCountries[[Actual]:[Mapping]],2,FALSE)","v":"Spain"},"2 to 3 hours per day",15,{"$f":"VLOOKUP(K850,tblCountries[],3,0)","v":"Europe"},{"$f":"VLOOKUP(tblSalaries[[#This Row],[How many hours of a day you work on Excel]],tblHours,2,0)","v":3},{"$f":"VLOOKUP(tblSalaries[[#This Row],[clean Country]],tblCountries[],5,0)","v":1.5799320838503232},{"$f":"IF($Q$1,tblSalaries[[#This Row],[PPP Factor]]*tblSalaries[[#This Row],[Salary in USD]],tblSalaries[[#This Row],[Salary in USD]])","v":12000}]
[null,"ID0864","2012-05-27T04:12:04",5000,5000,"USD",{"$f":"tblSalaries[[#This Row],[clean Salary (in local currency)]]*VLOOKUP(tblSalaries[[#This Row],[Currency]],tblXrate[],2,FALSE)","v":5000},"Policy advisor","Consultant","Aruba",{"$f":"VLOOKUP(tblSalaries[[#This Row],[Where do you work]],tblCountries[[Actual]:[Mapping]],2,FALSE)","v":"Aruba"},"1 or 2 hours a day",13,{"$f":"VLOOKUP(K851,tblCountries[],3,0)","v":"South Amer."},{"$f":"VLOOKUP(tblSalaries[[#This Row],[How many hours of a day you work on Excel]],tblHours,2,0)","v":2},{"$f":"VLOOKUP(tblSalaries[[#This Row],[clean Country]],tblCountries[],5,0)","v":1},{"$f":"IF($Q$1,tblSalaries[[#This Row],[PPP Factor]]*tblSalaries[[#This Row],[Salary in USD]],tblSalaries[[#This Row],[Salary in USD]])","v":5000}]
[null,"ID0865","2012-05-27T04:31:08","R134000",134000,"ZAR",{"$f":"tblSalaries[[#This Row],[clean Salary (in local currency)]]*VLOOKUP(tblSalaries[[#This Row],[Currency]],tblXrate[],2,FALSE)","v":16337.518501630093},"Data Analyst","Analyst","South Africa",{"$f":"VLOOKUP(tblSalaries[[#This Row],[Where do you work]],tblCountries[[Actual]:[Mapping]],2,FALSE)","v":"South Africa"},"4 to 6 hours a day",2,{"$f":"VLOOKUP(K852,tblCountries[],3,0)","v":"Africa"},{"$f":"VLOOKUP(tblSalaries[[#This Row],[How many hours of a day you work on Excel]],tblHours,2,0)","v":4},{"$f":"VLOOKUP(tblSalaries[[#This Row],[clean Country]],tblCountries[],5,0)","v":4.4096418481727877},{"$f":"IF($Q$1,tblSalaries[[#This Row],[PPP Factor]]*tblSalaries[[#This Row],[Salary in USD]],tblSalaries[[#This Row],[Salary in USD]])","v":16337.518501630093}]
[null,"ID0866","2012-05-27T04:40:33",65000,65000,"USD",{"$f":"tblSalaries[[#This Row],[clean Salary (in local currency)]]*VLOOKUP(tblSalaries[[#This Row],[Currency]],tblXrate[],2,FALSE)","v":65000},"Security Access Governance Analyst","Analyst","USA",{"$f":"VLOOKUP(tblSalaries[[#This Row],[Where do you work]],tblCountries[[Actual]:[Mapping]],2,FALSE)","v":"USA"},"1 or 2 hours a day",8,{"$f":"VLOOKUP(K853,tblCountries[],3,0)","v":"North Amer."},{"$f":"VLOOKUP(tblSalaries[[#This Row],[How many hours of a day you work on Excel]],tblHours,2,0)","v":2},{"$f":"VLOOKUP(tblSalaries[[#This Row],[clean Country]],tblCountries[],5,0)","v":1},{"$f":"IF($Q$1,tblSalaries[[#This Row],[PPP Factor]]*tblSalaries[[#This Row],[Salary in USD]],tblSalaries[[#This Row],[Salary in USD]])","v":65000}]
[null,"ID0867","2012-05-27T06:17:41",40000,40000,"USD",{"$f":"tblSalaries[[#This Row],[clean Salary (in local currency)]]*VLOOKUP(tblSalaries[[#This Row],[Currency]],tblXrate[],2,FALSE)","v":40000},"IT Capacity Planner","Analyst","USA",{"$f":"VLOOKUP(tblSalaries[[#This Row],[Where do you work]],tblCountries[[Actual]:[Mapping]],2,FALSE)","v":"USA"},"All the 8 hours baby, all the 8!",2,{"$f":"VLOOKUP(K854,tblCountries[],3,0)","v":"North Amer."},{"$f":"VLOOKUP(tblSalaries[[#This Row],[How many hours of a day you work on Excel]],tblHours,2,0)","v":5},{"$f":"VLOOKUP(tblSalaries[[#This Row],[clean Country]],tblCountries[],5,0)","v":1},{"$f":"IF($Q$1,tblSalaries[[#This Row],[PPP Factor]]*tblSalaries[[#This Row],[Salary in USD]],tblSalaries[[#This Row],[Salary in USD]])","v":40000}]
[null,"ID0868","2012-05-27T06:37:13",98000,98000,"USD",{"$f":"tblSalaries[[#This Row],[clean Salary (in local currency)]]*VLOOKUP(tblSalaries[[#This Row],[Currency]],tblXrate[],2,FALSE)","v":98000},"supply chain manager","Manager","indonesia",{"$f":"VLOOKUP(tblSalaries[[#This Row],[Where do you work]],tblCountries[[Actual]:[Mapping]],2,FALSE)","v":"Indonesia"},"2 to 3 hours per day",14,{"$f":"VLOOKUP(K855,tblCountries[],3,0)","v":"Asia"},{"$f":"VLOOKUP(tblSalaries[[#This Row],[How many hours of a day you work on Excel]],tblHours,2,0)","v":3},{"$f":"VLOOKUP(tblSalaries[[#This Row],[clean Country]],tblCountries[],5,0)","v":10.370124303471924},{"$f":"IF($Q$1,tblSalaries[[#This Row],[PPP Factor]]*tblSalaries[[#This Row],[Salary in USD]],tblSalaries[[#This Row],[Salary in USD]])","v":98000}]
[null,"ID0869","2012-05-27T06:37:15",50000,50000,"USD",{"$f":"tblSalaries[[#This Row],[clean Salary (in local currency)]]*VLOOKUP(tblSalaries[[#This Row],[Currency]],tblXrate[],2,FALSE)","v":50000},"Boss","CXO or Top Mgmt.","USA",{"$f":"VLOOKUP(tblSalaries[[#This Row],[Where do you work]],tblCountries[[Actual]:[Mapping]],2,FALSE)","v":"USA"},"All the 8 hours baby, all the 8!",15,{"$f":"VLOOKUP(K856,tblCountries[],3,0)","v":"North Amer."},{"$f":"VLOOKUP(tblSalaries[[#This Row],[How many hours of a day you work on Excel]],tblHours,2,0)","v":5},{"$f":"VLOOKUP(tblSalaries[[#This Row],[clean Country]],tblCountries[],5,0)","v":1},{"$f":"IF($Q$1,tblSalaries[[#This Row],[PPP Factor]]*tblSalaries[[#This Row],[Salary in USD]],tblSalaries[[#This Row],[Salary in USD]])","v":50000}]
[null,"ID0870","2012-05-27T07:19:14",135000,135000,"USD",{"$f":"tblSalaries[[#This Row],[clean Salary (in local currency)]]*VLOOKUP(tblSalaries[[#This Row],[Currency]],tblXrate[],2,FALSE)","v":135000},"Director, P&A","CXO or Top Mgmt.","USA",{"$f":"VLOOKUP(tblSalaries[[#This Row],[Where do you work]],tblCountries[[Actual]:[Mapping]],2,FALSE)","v":"USA"},"4 to 6 hours a day",25,{"$f":"VLOOKUP(K857,tblCountries[],3,0)","v":"North Amer."},{"$f":"VLOOKUP(tblSalaries[[#This Row],[How many hours of a day you work on Excel]],tblHours,2,0)","v":4},{"$f":"VLOOKUP(tblSalaries[[#This Row],[clean Country]],tblCountries[],5,0)","v":1},{"$f":"IF($Q$1,tblSalaries[[#This Row],[PPP Factor]]*tblSalaries[[#This Row],[Salary in USD]],tblSalaries[[#This Row],[Salary in USD]])","v":135000}]
[null,"ID0871","2012-05-27T08:07:40","125 $",125000,"USD",{"$f":"tblSalaries[[#This Row],[clean Salary (in local currency)]]*VLOOKUP(tblSalaries[[#This Row],[Currency]],tblXrate[],2,FALSE)","v":125000},"Project controls manager","Manager","Norway",{"$f":"VLOOKUP(tblSalaries[[#This Row],[Where do you work]],tblCountries[[Actual]:[Mapping]],2,FALSE)","v":"Norway"},"4 to 6 hours a day",6,{"$f":"VLOOKUP(K858,tblCountries[],3,0)","v":"Europe"},{"$f":"VLOOKUP(tblSalaries[[#This Row],[How many hours of a day you work on Excel]],tblHours,2,0)","v":4},{"$f":"VLOOKUP(tblSalaries[[#This Row],[clean Country]],tblCountries[],5,0)","v":0.90492042415514951},{"$f":"IF($Q$1,tblSalaries[[#This Row],[PPP Factor]]*tblSalaries[[#This Row],[Salary in USD]],tblSalaries[[#This Row],[Salary in USD]])","v":125000}]
[null,"ID0872","2012-05-27T08:54:28",4500,4500,"USD",{"$f":"tblSalaries[[#This Row],[clean Salary (in local currency)]]*VLOOKUP(tblSalaries[[#This Row],[Currency]],tblXrate[],2,FALSE)","v":4500},"senior associate","Analyst","indonesia",{"$f":"VLOOKUP(tblSalaries[[#This Row],[Where do you work]],tblCountries[[Actual]:[Mapping]],2,FALSE)","v":"Indonesia"},"2 to 3 hours per day",4,{"$f":"VLOOKUP(K859,tblCountries[],3,0)","v":"Asia"},{"$f":"VLOOKUP(tblSalaries[[#This Row],[How many hours of a day you work on Excel]],tblHours,2,0)","v":3},{"$f":"VLOOKUP(tblSalaries[[#This Row],[clean Country]],tblCountries[],5,0)","v":10.370124303471924},{"$f":"IF($Q$1,tblSalaries[[#This Row],[PPP Factor]]*tblSalaries[[#This Row],[Salary in USD]],tblSalaries[[#This Row],[Salary in USD]])","v":4500}]
[null,"ID0873","2012-05-27T08:55:36",115000,115000,"USD",{"$f":"tblSalaries[[#This Row],[clean Salary (in local currency)]]*VLOOKUP(tblSalaries[[#This Row],[Currency]],tblXrate[],2,FALSE)","v":115000},"Principal Financial Analyst","Analyst","USA",{"$f":"VLOOKUP(tblSalaries[[#This Row],[Where do you work]],tblCountries[[Actual]:[Mapping]],2,FALSE)","v":"USA"},"4 to 6 hours a day",10,{"$f":"VLOOKUP(K860,tblCountries[],3,0)","v":"North Amer."},{"$f":"VLOOKUP(tblSalaries[[#This Row],[How many hours of a day you work on Excel]],tblHours,2,0)","v":4},{"$f":"VLOOKUP(tblSalaries[[#This Row],[clean Country]],tblCountries[],5,0)","v":1},{"$f":"IF($Q$1,tblSalaries[[#This Row],[PPP Factor]]*tblSalaries[[#This Row],[Salary in USD]],tblSalaries[[#This Row],[Salary in USD]])","v":115000}]
[null,"ID0874","2012-05-27T09:17:47",70000,70000,"USD",{"$f":"tblSalaries[[#This Row],[clean Salary (in local currency)]]*VLOOKUP(tblSalaries[[#This Row],[Currency]],tblXrate[],2,FALSE)","v":70000},"Financial Analyst","Analyst","USA",{"$f":"VLOOKUP(tblSalaries[[#This Row],[Where do you work]],tblCountries[[Actual]:[Mapping]],2,FALSE)","v":"USA"},"All the 8 hours baby, all the 8!",15,{"$f":"VLOOKUP(K861,tblCountries[],3,0)","v":"North Amer."},{"$f":"VLOOKUP(tblSalaries[[#This Row],[How many hours of a day you work on Excel]],tblHours,2,0)","v":5},{"$f":"VLOOKUP(tblSalaries[[#This Row],[clean Country]],tblCountries[],5,0)","v":1},{"$f":"IF($Q$1,tblSalaries[[#This Row],[PPP Factor]]*tblSalaries[[#This Row],[Salary in USD]],tblSalaries[[#This Row],[Salary in USD]])","v":70000}]
[null,"ID0875","2012-05-27T09:49:30",5000,60000,"USD",{"$f":"tblSalaries[[#This Row],[clean Salary (in local currency)]]*VLOOKUP(tblSalaries[[#This Row],[Currency]],tblXrate[],2,FALSE)","v":60000},"Store keeper","Analyst","USA",{"$f":"VLOOKUP(tblSalaries[[#This Row],[Where do you work]],tblCountries[[Actual]:[Mapping]],2,FALSE)","v":"USA"},"2 to 3 hours per day",8,{"$f":"VLOOKUP(K862,tblCountries[],3,0)","v":"North Amer."},{"$f":"VLOOKUP(tblSalaries[[#This Row],[How many hours of a day you work on Excel]],tblHours,2,0)","v":3},{"$f":"VLOOKUP(tblSalaries[[#This Row],[clean Country]],tblCountries[],5,0)","v":1},{"$f":"IF($Q$1,tblSalaries[[#This Row],[PPP Factor]]*tblSalaries[[#This Row],[Salary in USD]],tblSalaries[[#This Row],[Salary in USD]])","v":60000}]
[null,"ID0876","2012-05-27T10:13:27",87456,87456,"USD",{"$f":"tblSalaries[[#This Row],[clean Salary (in local currency)]]*VLOOKUP(tblSalaries[[#This Row],[Currency]],tblXrate[],2,FALSE)","v":87456},"qa team supervisor ","Manager","USA",{"$f":"VLOOKUP(tblSalaries[[#This Row],[Where do you work]],tblCountries[[Actual]:[Mapping]],2,FALSE)","v":"USA"},"2 to 3 hours per day",12,{"$f":"VLOOKUP(K863,tblCountries[],3,0)","v":"North Amer."},{"$f":"VLOOKUP(tblSalaries[[#This Row],[How many hours of a day you work on Excel]],tblHours,2,0)","v":3},{"$f":"VLOOKUP(tblSalaries[[#This Row],[clean Country]],tblCountries[],5,0)","v":1},{"$f":"IF($Q$1,tblSalaries[[#This Row],[PPP Factor]]*tblSalaries[[#This Row],[Salary in USD]],tblSalaries[[#This Row],[Salary in USD]])","v":87456}]
[null,"ID0877","2012-05-27T11:32:17",26400,26400,"USD",{"$f":"tblSalaries[[#This Row],[clean Salary (in local currency)]]*VLOOKUP(tblSalaries[[#This Row],[Currency]],tblXrate[],2,FALSE)","v":26400},"Supply Chain Administrator","Analyst","UAE",{"$f":"VLOOKUP(tblSalaries[[#This Row],[Where do you work]],tblCountries[[Actual]:[Mapping]],2,FALSE)","v":"UAE"},"All the 8 hours baby, all the 8!",6,{"$f":"VLOOKUP(K864,tblCountries[],3,0)","v":"Asia"},{"$f":"VLOOKUP(tblSalaries[[#This Row],[How many hours of a day you work on Excel]],tblHours,2,0)","v":5},{"$f":"VLOOKUP(tblSalaries[[#This Row],[clean Country]],tblCountries[],5,0)","v":1.0047551808629926},{"$f":"IF($Q$1,tblSalaries[[#This Row],[PPP Factor]]*tblSalaries[[#This Row],[Salary in USD]],tblSalaries[[#This Row],[Salary in USD]])","v":26400}]
[null,"ID0878","2012-05-27T11:50:16",1000,12000,"USD",{"$f":"tblSalaries[[#This Row],[clean Salary (in local currency)]]*VLOOKUP(tblSalaries[[#This Row],[Currency]],tblXrate[],2,FALSE)","v":12000},"sup","Manager","UAE",{"$f":"VLOOKUP(tblSalaries[[#This Row],[Where do you work]],tblCountries[[Actual]:[Mapping]],2,FALSE)","v":"UAE"},"All the 8 hours baby, all the 8!",18,{"$f":"VLOOKUP(K865,tblCountries[],3,0)","v":"Asia"},{"$f":"VLOOKUP(tblSalaries[[#This Row],[How many hours of a day you work on Excel]],tblHours,2,0)","v":5},{"$f":"VLOOKUP(tblSalaries[[#This Row],[clean Country]],tblCountries[],5,0)","v":1.0047551808629926},{"$f":"IF($Q$1,tblSalaries[[#This Row],[PPP Factor]]*tblSalaries[[#This Row],[Salary in USD]],tblSalaries[[#This Row],[Salary in USD]])","v":12000}]
[null,"ID0879","2012-05-27T12:03:51",144000,144000,"INR",{"$f":"tblSalaries[[#This Row],[clean Salary (in local currency)]]*VLOOKUP(tblSalaries[[#This Row],[Currency]],tblXrate[],2,FALSE)","v":2564.3400029917298},"Cost Trainee","Analyst","India",{"$f":"VLOOKUP(tblSalaries[[#This Row],[Where do you work]],tblCountries[[Actual]:[Mapping]],2,FALSE)","v":"India"},"4 to 6 hours a day",1,{"$f":"VLOOKUP(K866,tblCountries[],3,0)","v":"Asia"},{"$f":"VLOOKUP(tblSalaries[[#This Row],[How many hours of a day you work on Excel]],tblHours,2,0)","v":4},{"$f":"VLOOKUP(tblSalaries[[#This Row],[clean Country]],tblCountries[],5,0)","v":13.098808879263672},{"$f":"IF($Q$1,tblSalaries[[#This Row],[PPP Factor]]*tblSalaries[[#This Row],[Salary in USD]],tblSalaries[[#This Row],[Salary in USD]])","v":2564.3400029917298}]
[null,"ID0880","2012-05-27T12:32:45","62000 USD",62000,"USD",{"$f":"tblSalaries[[#This Row],[clean Salary (in local currency)]]*VLOOKUP(tblSalaries[[#This Row],[Currency]],tblXrate[],2,FALSE)","v":62000},"Deputy Manager Finance","Manager","Qatar",{"$f":"VLOOKUP(tblSalaries[[#This Row],[Where do you work]],tblCountries[[Actual]:[Mapping]],2,FALSE)","v":"Qatar"},"All the 8 hours baby, all the 8!",11,{"$f":"VLOOKUP(K867,tblCountries[],3,0)","v":"Asia"},{"$f":"VLOOKUP(tblSalaries[[#This Row],[How many hours of a day you work on Excel]],tblHours,2,0)","v":5},{"$f":"VLOOKUP(tblSalaries[[#This Row],[clean Country]],tblCountries[],5,0)","v":0.4700368164906793},{"$f":"IF($Q$1,tblSalaries[[#This Row],[PPP Factor]]*tblSalaries[[#This Row],[Salary in USD]],tblSalaries[[#This Row],[Salary in USD]])","v":62000}]
[null,"ID0881","2012-05-27T12:35:15","3 lacs P.A",300000,"INR",{"$f":"tblSalaries[[#This Row],[clean Salary (in local currency)]]*VLOOKUP(tblSalaries[[#This Row],[Currency]],tblXrate[],2,FALSE)","v":5342.3750062327708},"Sales","Analyst","India",{"$f":"VLOOKUP(tblSalaries[[#This Row],[Where do you work]],tblCountries[[Actual]:[Mapping]],2,FALSE)","v":"India"},"1 or 2 hours a day",10,{"$f":"VLOOKUP(K868,tblCountries[],3,0)","v":"Asia"},{"$f":"VLOOKUP(tblSalaries[[#This Row],[How many hours of a day you work on Excel]],tblHours,2,0)","v":2},{"$f":"VLOOKUP(tblSalaries[[#This Row],[clean Country]],tblCountries[],5,0)","v":13.098808879263672},{"$f":"IF($Q$1,tblSalaries[[#This Row],[PPP Factor]]*tblSalaries[[#This Row],[Salary in USD]],tblSalaries[[#This Row],[Salary in USD]])","v":5342.3750062327708}]
[null,"ID0882","2012-05-27T12:37:02",40000,40000,"EUR",{"$f":"tblSalaries[[#This Row],[clean Salary (in local currency)]]*VLOOKUP(tblSalaries[[#This Row],[Currency]],tblXrate[],2,FALSE)","v":50815.977559664309},"Medical information analist","Analyst","Netherlands",{"$f":"VLOOKUP(tblSalaries[[#This Row],[Where do you work]],tblCountries[[Actual]:[Mapping]],2,FALSE)","v":"Netherlands"},"4 to 6 hours a day",4,{"$f":"VLOOKUP(K869,tblCountries[],3,0)","v":"Europe"},{"$f":"VLOOKUP(tblSalaries[[#This Row],[How many hours of a day you work on Excel]],tblHours,2,0)","v":4},{"$f":"VLOOKUP(tblSalaries[[#This Row],[clean Country]],tblCountries[],5,0)","v":1.1470734656141099},{"$f":"IF($Q$1,tblSalaries[[#This Row],[PPP Factor]]*tblSalaries[[#This Row],[Salary in USD]],tblSalaries[[#This Row],[Salary in USD]])","v":50815.977559664309}]
[null,"ID0883","2012-05-27T12:41:29","US 2130",25560,"USD",{"$f":"tblSalaries[[#This Row],[clean Salary (in local currency)]]*VLOOKUP(tblSalaries[[#This Row],[Currency]],tblXrate[],2,FALSE)","v":25560},"Training Coordinator","Manager","saudi arabia",{"$f":"VLOOKUP(tblSalaries[[#This Row],[Where do you work]],tblCountries[[Actual]:[Mapping]],2,FALSE)","v":"Saudi Arabia"},"4 to 6 hours a day",3,{"$f":"VLOOKUP(K870,tblCountries[],3,0)","v":"Asia"},{"$f":"VLOOKUP(tblSalaries[[#This Row],[How many hours of a day you work on Excel]],tblHours,2,0)","v":4},{"$f":"VLOOKUP(tblSalaries[[#This Row],[clean Country]],tblCountries[],5,0)","v":1.9964104468374799},{"$f":"IF($Q$1,tblSalaries[[#This Row],[PPP Factor]]*tblSalaries[[#This Row],[Salary in USD]],tblSalaries[[#This Row],[Salary in USD]])","v":25560}]
[null,"ID0884","2012-05-27T12:57:51","Rs.60000/-",720000,"INR",{"$f":"tblSalaries[[#This Row],[clean Salary (in local currency)]]*VLOOKUP(tblSalaries[[#This Row],[Currency]],tblXrate[],2,FALSE)","v":12821.700014958649},"Article (Internship) - CA","Accountant","India",{"$f":"VLOOKUP(tblSalaries[[#This Row],[Where do you work]],tblCountries[[Actual]:[Mapping]],2,FALSE)","v":"India"},"4 to 6 hours a day",3,{"$f":"VLOOKUP(K871,tblCountries[],3,0)","v":"Asia"},{"$f":"VLOOKUP(tblSalaries[[#This Row],[How many hours of a day you work on Excel]],tblHours,2,0)","v":4},{"$f":"VLOOKUP(tblSalaries[[#This Row],[clean Country]],tblCountries[],5,0)","v":13.098808879263672},{"$f":"IF($Q$1,tblSalaries[[#This Row],[PPP Factor]]*tblSalaries[[#This Row],[Salary in USD]],tblSalaries[[#This Row],[Salary in USD]])","v":12821.700014958649}]
[null,"ID0885","2012-05-27T13:06:50",600000,600000,"INR",{"$f":"tblSalaries[[#This Row],[clean Salary (in local currency)]]*VLOOKUP(tblSalaries[[#This Row],[Currency]],tblXrate[],2,FALSE)","v":10684.750012465542},"Asst Manager","Manager","India",{"$f":"VLOOKUP(tblSalaries[[#This Row],[Where do you work]],tblCountries[[Actual]:[Mapping]],2,FALSE)","v":"India"},"All the 8 hours baby, all the 8!",5,{"$f":"VLOOKUP(K872,tblCountries[],3,0)","v":"Asia"},{"$f":"VLOOKUP(tblSalaries[[#This Row],[How many hours of a day you work on Excel]],tblHours,2,0)","v":5},{"$f":"VLOOKUP(tblSalaries[[#This Row],[clean Country]],tblCountries[],5,0)","v":13.098808879263672},{"$f":"IF($Q$1,tblSalaries[[#This Row],[PPP Factor]]*tblSalaries[[#This Row],[Salary in USD]],tblSalaries[[#This Row],[Salary in USD]])","v":10684.750012465542}]
[null,"ID0886","2012-05-27T13:27:19","Rs. 35000",420000,"PKR",{"$f":"tblSalaries[[#This Row],[clean Salary (in local currency)]]*VLOOKUP(tblSalaries[[#This Row],[Currency]],tblXrate[],2,FALSE)","v":4457.9172610556352},"Assistant Manager","Manager","Pakistan",{"$f":"VLOOKUP(tblSalaries[[#This Row],[Where do you work]],tblCountries[[Actual]:[Mapping]],2,FALSE)","v":"Pakistan"},"All the 8 hours baby, all the 8!",4,{"$f":"VLOOKUP(K873,tblCountries[],3,0)","v":"Asia"},{"$f":"VLOOKUP(tblSalaries[[#This Row],[How many hours of a day you work on Excel]],tblHours,2,0)","v":5},{"$f":"VLOOKUP(tblSalaries[[#This Row],[clean Country]],tblCountries[],5,0)","v":17.361679224973088},{"$f":"IF($Q$1,tblSalaries[[#This Row],[PPP Factor]]*tblSalaries[[#This Row],[Salary in USD]],tblSalaries[[#This Row],[Salary in USD]])","v":4457.9172610556352}]
[null,"ID0887","2012-05-27T13:29:52","$125000 / a excl bonus",125000,"USD",{"$f":"tblSalaries[[#This Row],[clean Salary (in local currency)]]*VLOOKUP(tblSalaries[[#This Row],[Currency]],tblXrate[],2,FALSE)","v":125000},"Commercial Director","CXO or Top Mgmt.","South Africa",{"$f":"VLOOKUP(tblSalaries[[#This Row],[Where do you work]],tblCountries[[Actual]:[Mapping]],2,FALSE)","v":"South Africa"},"4 to 6 hours a day",20,{"$f":"VLOOKUP(K874,tblCountries[],3,0)","v":"Africa"},{"$f":"VLOOKUP(tblSalaries[[#This Row],[How many hours of a day you work on Excel]],tblHours,2,0)","v":4},{"$f":"VLOOKUP(tblSalaries[[#This Row],[clean Country]],tblCountries[],5,0)","v":4.4096418481727877},{"$f":"IF($Q$1,tblSalaries[[#This Row],[PPP Factor]]*tblSalaries[[#This Row],[Salary in USD]],tblSalaries[[#This Row],[Salary in USD]])","v":125000}]
[null,"ID0888","2012-05-27T13:34:12",43000,43000,"USD",{"$f":"tblSalaries[[#This Row],[clean Salary (in local currency)]]*VLOOKUP(tblSalaries[[#This Row],[Currency]],tblXrate[],2,FALSE)","v":43000},"Financial Analyst","Analyst","USA",{"$f":"VLOOKUP(tblSalaries[[#This Row],[Where do you work]],tblCountries[[Actual]:[Mapping]],2,FALSE)","v":"USA"},"4 to 6 hours a day",1,{"$f":"VLOOKUP(K875,tblCountries[],3,0)","v":"North Amer."},{"$f":"VLOOKUP(tblSalaries[[#This Row],[How many hours of a day you work on Excel]],tblHours,2,0)","v":4},{"$f":"VLOOKUP(tblSalaries[[#This Row],[clean Country]],tblCountries[],5,0)","v":1},{"$f":"IF($Q$1,tblSalaries[[#This Row],[PPP Factor]]*tblSalaries[[#This Row],[Salary in USD]],tblSalaries[[#This Row],[Salary in USD]])","v":43000}]
[null,"ID0889","2012-05-27T13:41:04","400000 Rs",400000,"INR",{"$f":"tblSalaries[[#This Row],[clean Salary (in local currency)]]*VLOOKUP(tblSalaries[[#This Row],[Currency]],tblXrate[],2,FALSE)","v":7123.1666749770275},"engineer","Engineer","India",{"$f":"VLOOKUP(tblSalaries[[#This Row],[Where do you work]],tblCountries[[Actual]:[Mapping]],2,FALSE)","v":"India"},"2 to 3 hours per day",6,{"$f":"VLOOKUP(K876,tblCountries[],3,0)","v":"Asia"},{"$f":"VLOOKUP(tblSalaries[[#This Row],[How many hours of a day you work on Excel]],tblHours,2,0)","v":3},{"$f":"VLOOKUP(tblSalaries[[#This Row],[clean Country]],tblCountries[],5,0)","v":13.098808879263672},{"$f":"IF($Q$1,tblSalaries[[#This Row],[PPP Factor]]*tblSalaries[[#This Row],[Salary in USD]],tblSalaries[[#This Row],[Salary in USD]])","v":7123.1666749770275}]
[null,"ID0890","2012-05-27T13:41:05",10000,10000,"USD",{"$f":"tblSalaries[[#This Row],[clean Salary (in local currency)]]*VLOOKUP(tblSalaries[[#This Row],[Currency]],tblXrate[],2,FALSE)","v":10000},"Finance Staff","Accountant","Viet Nam",{"$f":"VLOOKUP(tblSalaries[[#This Row],[Where do you work]],tblCountries[[Actual]:[Mapping]],2,FALSE)","v":"Vietnam"},"4 to 6 hours a day",4,{"$f":"VLOOKUP(K877,tblCountries[],3,0)","v":"Asia"},{"$f":"VLOOKUP(tblSalaries[[#This Row],[How many hours of a day you work on Excel]],tblHours,2,0)","v":4},{"$f":"VLOOKUP(tblSalaries[[#This Row],[clean Country]],tblCountries[],5,0)","v":14.405180113128907},{"$f":"IF($Q$1,tblSalaries[[#This Row],[PPP Factor]]*tblSalaries[[#This Row],[Salary in USD]],tblSalaries[[#This Row],[Salary in USD]])","v":10000}]
[null,"ID0891","2012-05-27T13:42:15","inr 500000",500000,"INR",{"$f":"tblSalaries[[#This Row],[clean Salary (in local currency)]]*VLOOKUP(tblSalaries[[#This Row],[Currency]],tblXrate[],2,FALSE)","v":8903.9583437212841},"team coach","Manager","India",{"$f":"VLOOKUP(tblSalaries[[#This Row],[Where do you work]],tblCountries[[Actual]:[Mapping]],2,FALSE)","v":"India"},"1 or 2 hours a day",5,{"$f":"VLOOKUP(K878,tblCountries[],3,0)","v":"Asia"},{"$f":"VLOOKUP(tblSalaries[[#This Row],[How many hours of a day you work on Excel]],tblHours,2,0)","v":2},{"$f":"VLOOKUP(tblSalaries[[#This Row],[clean Country]],tblCountries[],5,0)","v":13.098808879263672},{"$f":"IF($Q$1,tblSalaries[[#This Row],[PPP Factor]]*tblSalaries[[#This Row],[Salary in USD]],tblSalaries[[#This Row],[Salary in USD]])","v":8903.9583437212841}]
[null,"ID0892","2012-05-27T13:45:47",36500,36500,"USD",{"$f":"tblSalaries[[#This Row],[clean Salary (in local currency)]]*VLOOKUP(tblSalaries[[#This Row],[Currency]],tblXrate[],2,FALSE)","v":36500},"Accountant","Accountant","Saudi Arabia",{"$f":"VLOOKUP(tblSalaries[[#This Row],[Where do you work]],tblCountries[[Actual]:[Mapping]],2,FALSE)","v":"Saudi Arabia"},"4 to 6 hours a day",15,{"$f":"VLOOKUP(K879,tblCountries[],3,0)","v":"Asia"},{"$f":"VLOOKUP(tblSalaries[[#This Row],[How many hours of a day you work on Excel]],tblHours,2,0)","v":4},{"$f":"VLOOKUP(tblSalaries[[#This Row],[clean Country]],tblCountries[],5,0)","v":1.9964104468374799},{"$f":"IF($Q$1,tblSalaries[[#This Row],[PPP Factor]]*tblSalaries[[#This Row],[Salary in USD]],tblSalaries[[#This Row],[Salary in USD]])","v":36500}]
[null,"ID0893","2012-05-27T13:52:53","100,000 usd",100000,"USD",{"$f":"tblSalaries[[#This Row],[clean Salary (in local currency)]]*VLOOKUP(tblSalaries[[#This Row],[Currency]],tblXrate[],2,FALSE)","v":100000},"Director","CXO or Top Mgmt.","MÃ©xico",{"$f":"VLOOKUP(tblSalaries[[#This Row],[Where do you work]],tblCountries[[Actual]:[Mapping]],2,FALSE)","v":"Mexico"},"All the 8 hours baby, all the 8!",10,{"$f":"VLOOKUP(K880,tblCountries[],3,0)","v":"North Amer."},{"$f":"VLOOKUP(tblSalaries[[#This Row],[How many hours of a day you work on Excel]],tblHours,2,0)","v":5},{"$f":"VLOOKUP(tblSalaries[[#This Row],[clean Country]],tblCountries[],5,0)","v":3.3119096509240245},{"$f":"IF($Q$1,tblSalaries[[#This Row],[PPP Factor]]*tblSalaries[[#This Row],[Salary in USD]],tblSalaries[[#This Row],[Salary in USD]])","v":100000}]
[null,"ID0894","2012-05-27T14:04:31","Rs. 400000",400000,"INR",{"$f":"tblSalaries[[#This Row],[clean Salary (in local currency)]]*VLOOKUP(tblSalaries[[#This Row],[Currency]],tblXrate[],2,FALSE)","v":7123.1666749770275},"Accountancy","Accountant","India",{"$f":"VLOOKUP(tblSalaries[[#This Row],[Where do you work]],tblCountries[[Actual]:[Mapping]],2,FALSE)","v":"India"},"2 to 3 hours per day",8,{"$f":"VLOOKUP(K881,tblCountries[],3,0)","v":"Asia"},{"$f":"VLOOKUP(tblSalaries[[#This Row],[How many hours of a day you work on Excel]],tblHours,2,0)","v":3},{"$f":"VLOOKUP(tblSalaries[[#This Row],[clean Country]],tblCountries[],5,0)","v":13.098808879263672},{"$f":"IF($Q$1,tblSalaries[[#This Row],[PPP Factor]]*tblSalaries[[#This Row],[Salary in USD]],tblSalaries[[#This Row],[Salary in USD]])","v":7123.1666749770275}]
[null,"ID0895","2012-05-27T14:22:11","INR 23 L",2300000,"INR",{"$f":"tblSalaries[[#This Row],[clean Salary (in local currency)]]*VLOOKUP(tblSalaries[[#This Row],[Currency]],tblXrate[],2,FALSE)","v":40958.208381117904},"Manager - Business Planning & Reporting","Manager","India",{"$f":"VLOOKUP(tblSalaries[[#This Row],[Where do you work]],tblCountries[[Actual]:[Mapping]],2,FALSE)","v":"India"},"2 to 3 hours per day",8,{"$f":"VLOOKUP(K882,tblCountries[],3,0)","v":"Asia"},{"$f":"VLOOKUP(tblSalaries[[#This Row],[How many hours of a day you work on Excel]],tblHours,2,0)","v":3},{"$f":"VLOOKUP(tblSalaries[[#This Row],[clean Country]],tblCountries[],5,0)","v":13.098808879263672},{"$f":"IF($Q$1,tblSalaries[[#This Row],[PPP Factor]]*tblSalaries[[#This Row],[Salary in USD]],tblSalaries[[#This Row],[Salary in USD]])","v":40958.208381117904}]
[null,"ID0896","2012-05-27T14:27:33","rs 100000",1200000,"INR",{"$f":"tblSalaries[[#This Row],[clean Salary (in local currency)]]*VLOOKUP(tblSalaries[[#This Row],[Currency]],tblXrate[],2,FALSE)","v":21369.500024931083},"ASST VICE PREDISDENT","CXO or Top Mgmt.","India",{"$f":"VLOOKUP(tblSalaries[[#This Row],[Where do you work]],tblCountries[[Actual]:[Mapping]],2,FALSE)","v":"India"},"4 to 6 hours a day",17,{"$f":"VLOOKUP(K883,tblCountries[],3,0)","v":"Asia"},{"$f":"VLOOKUP(tblSalaries[[#This Row],[How many hours of a day you work on Excel]],tblHours,2,0)","v":4},{"$f":"VLOOKUP(tblSalaries[[#This Row],[clean Country]],tblCountries[],5,0)","v":13.098808879263672},{"$f":"IF($Q$1,tblSalaries[[#This Row],[PPP Factor]]*tblSalaries[[#This Row],[Salary in USD]],tblSalaries[[#This Row],[Salary in USD]])","v":21369.500024931083}]
[null,"ID0897","2012-05-27T14:47:21",120000,120000,"INR",{"$f":"tblSalaries[[#This Row],[clean Salary (in local currency)]]*VLOOKUP(tblSalaries[[#This Row],[Currency]],tblXrate[],2,FALSE)","v":2136.9500024931081},"co ordinator","Manager","India",{"$f":"VLOOKUP(tblSalaries[[#This Row],[Where do you work]],tblCountries[[Actual]:[Mapping]],2,FALSE)","v":"India"},"4 to 6 hours a day",5,{"$f":"VLOOKUP(K884,tblCountries[],3,0)","v":"Asia"},{"$f":"VLOOKUP(tblSalaries[[#This Row],[How many hours of a day you work on Excel]],tblHours,2,0)","v":4},{"$f":"VLOOKUP(tblSalaries[[#This Row],[clean Country]],tblCountries[],5,0)","v":13.098808879263672},{"$f":"IF($Q$1,tblSalaries[[#This Row],[PPP Factor]]*tblSalaries[[#This Row],[Salary in USD]],tblSalaries[[#This Row],[Salary in USD]])","v":2136.9500024931081}]
[null,"ID0898","2012-05-27T14:49:12","5,00,000 INR",500000,"INR",{"$f":"tblSalaries[[#This Row],[clean Salary (in local currency)]]*VLOOKUP(tblSalaries[[#This Row],[Currency]],tblXrate[],2,FALSE)","v":8903.9583437212841},"Planning Engineer","Engineer","India",{"$f":"VLOOKUP(tblSalaries[[#This Row],[Where do you work]],tblCountries[[Actual]:[Mapping]],2,FALSE)","v":"India"},"2 to 3 hours per day",3,{"$f":"VLOOKUP(K885,tblCountries[],3,0)","v":"Asia"},{"$f":"VLOOKUP(tblSalaries[[#This Row],[How many hours of a day you work on Excel]],tblHours,2,0)","v":3},{"$f":"VLOOKUP(tblSalaries[[#This Row],[clean Country]],tblCountries[],5,0)","v":13.098808879263672},{"$f":"IF($Q$1,tblSalaries[[#This Row],[PPP Factor]]*tblSalaries[[#This Row],[Salary in USD]],tblSalaries[[#This Row],[Salary in USD]])","v":8903.9583437212841}]
[null,"ID0899","2012-05-27T14:50:56",1000000,1000000,"INR",{"$f":"tblSalaries[[#This Row],[clean Salary (in local currency)]]*VLOOKUP(tblSalaries[[#This Row],[Currency]],tblXrate[],2,FALSE)","v":17807.916687442568},"Engagement Lead","Manager","India",{"$f":"VLOOKUP(tblSalaries[[#This Row],[Where do you work]],tblCountries[[Actual]:[Mapping]],2,FALSE)","v":"India"},"4 to 6 hours a day",5,{"$f":"VLOOKUP(K886,tblCountries[],3,0)","v":"Asia"},{"$f":"VLOOKUP(tblSalaries[[#This Row],[How many hours of a day you work on Excel]],tblHours,2,0)","v":4},{"$f":"VLOOKUP(tblSalaries[[#This Row],[clean Country]],tblCountries[],5,0)","v":13.098808879263672},{"$f":"IF($Q$1,tblSalaries[[#This Row],[PPP Factor]]*tblSalaries[[#This Row],[Salary in USD]],tblSalaries[[#This Row],[Salary in USD]])","v":17807.916687442568}]
[null,"ID0900","2012-05-27T14:55:30","INR 850,000",850000,"INR",{"$f":"tblSalaries[[#This Row],[clean Salary (in local currency)]]*VLOOKUP(tblSalaries[[#This Row],[Currency]],tblXrate[],2,FALSE)","v":15136.729184326183},"Assistant Manager","Manager","India",{"$f":"VLOOKUP(tblSalaries[[#This Row],[Where do you work]],tblCountries[[Actual]:[Mapping]],2,FALSE)","v":"India"},"2 to 3 hours per day",3,{"$f":"VLOOKUP(K887,tblCountries[],3,0)","v":"Asia"},{"$f":"VLOOKUP(tblSalaries[[#This Row],[How many hours of a day you work on Excel]],tblHours,2,0)","v":3},{"$f":"VLOOKUP(tblSalaries[[#This Row],[clean Country]],tblCountries[],5,0)","v":13.098808879263672},{"$f":"IF($Q$1,tblSalaries[[#This Row],[PPP Factor]]*tblSalaries[[#This Row],[Salary in USD]],tblSalaries[[#This Row],[Salary in USD]])","v":15136.729184326183}]
[null,"ID0901","2012-05-27T15:01:02","PhP168000",168000,"PHP",{"$f":"tblSalaries[[#This Row],[clean Salary (in local currency)]]*VLOOKUP(tblSalaries[[#This Row],[Currency]],tblXrate[],2,FALSE)","v":3982.448779308334},"Clerk","Analyst","Philippines",{"$f":"VLOOKUP(tblSalaries[[#This Row],[Where do you work]],tblCountries[[Actual]:[Mapping]],2,FALSE)","v":"Philippines"},"4 to 6 hours a day",10,{"$f":"VLOOKUP(K888,tblCountries[],3,0)","v":"Asia"},{"$f":"VLOOKUP(tblSalaries[[#This Row],[How many hours of a day you work on Excel]],tblHours,2,0)","v":4},{"$f":"VLOOKUP(tblSalaries[[#This Row],[clean Country]],tblCountries[],5,0)","v":11.879941075374417},{"$f":"IF($Q$1,tblSalaries[[#This Row],[PPP Factor]]*tblSalaries[[#This Row],[Salary in USD]],tblSalaries[[#This Row],[Salary in USD]])","v":3982.448779308334}]
[null,"ID0903","2012-05-27T15:25:40",1300,15600,"USD",{"$f":"tblSalaries[[#This Row],[clean Salary (in local currency)]]*VLOOKUP(tblSalaries[[#This Row],[Currency]],tblXrate[],2,FALSE)","v":15600},"Document controller ","Controller","Kuwait ",{"$f":"VLOOKUP(tblSalaries[[#This Row],[Where do you work]],tblCountries[[Actual]:[Mapping]],2,FALSE)","v":"Kuwait"},"4 to 6 hours a day",13,{"$f":"VLOOKUP(K889,tblCountries[],3,0)","v":"Asia"},{"$f":"VLOOKUP(tblSalaries[[#This Row],[How many hours of a day you work on Excel]],tblHours,2,0)","v":4},{"$f":"VLOOKUP(tblSalaries[[#This Row],[clean Country]],tblCountries[],5,0)","v":1.1606102036410737},{"$f":"IF($Q$1,tblSalaries[[#This Row],[PPP Factor]]*tblSalaries[[#This Row],[Salary in USD]],tblSalaries[[#This Row],[Salary in USD]])","v":15600}]
[null,"ID0904","2012-05-27T15:26:34","180000 INR",180000,"INR",{"$f":"tblSalaries[[#This Row],[clean Salary (in local currency)]]*VLOOKUP(tblSalaries[[#This Row],[Currency]],tblXrate[],2,FALSE)","v":3205.4250037396623},"Executive","Analyst","India",{"$f":"VLOOKUP(tblSalaries[[#This Row],[Where do you work]],tblCountries[[Actual]:[Mapping]],2,FALSE)","v":"India"},"2 to 3 hours per day",3.5,{"$f":"VLOOKUP(K890,tblCountries[],3,0)","v":"Asia"},{"$f":"VLOOKUP(tblSalaries[[#This Row],[How many hours of a day you work on Excel]],tblHours,2,0)","v":3},{"$f":"VLOOKUP(tblSalaries[[#This Row],[clean Country]],tblCountries[],5,0)","v":13.098808879263672},{"$f":"IF($Q$1,tblSalaries[[#This Row],[PPP Factor]]*tblSalaries[[#This Row],[Salary in USD]],tblSalaries[[#This Row],[Salary in USD]])","v":3205.4250037396623}]
[null,"ID0905","2012-05-27T15:32:10",10000,10000,"USD",{"$f":"tblSalaries[[#This Row],[clean Salary (in local currency)]]*VLOOKUP(tblSalaries[[#This Row],[Currency]],tblXrate[],2,FALSE)","v":10000},"Planner","Manager","India",{"$f":"VLOOKUP(tblSalaries[[#This Row],[Where do you work]],tblCountries[[Actual]:[Mapping]],2,FALSE)","v":"India"},"4 to 6 hours a day",6,{"$f":"VLOOKUP(K891,tblCountries[],3,0)","v":"Asia"},{"$f":"VLOOKUP(tblSalaries[[#This Row],[How many hours of a day you work on Excel]],tblHours,2,0)","v":4},{"$f":"VLOOKUP(tblSalaries[[#This Row],[clean Country]],tblCountries[],5,0)","v":13.098808879263672},{"$f":"IF($Q$1,tblSalaries[[#This Row],[PPP Factor]]*tblSalaries[[#This Row],[Salary in USD]],tblSalaries[[#This Row],[Salary in USD]])","v":10000}]
[null,"ID0906","2012-05-27T15:44:07",75010,75010,"USD",{"$f":"tblSalaries[[#This Row],[clean Salary (in local currency)]]*VLOOKUP(tblSalaries[[#This Row],[Currency]],tblXrate[],2,FALSE)","v":75010},"Senior Business Analyst","Analyst","USA",{"$f":"VLOOKUP(tblSalaries[[#This Row],[Where do you work]],tblCountries[[Actual]:[Mapping]],2,FALSE)","v":"USA"},"2 to 3 hours per day",6,{"$f":"VLOOKUP(K892,tblCountries[],3,0)","v":"North Amer."},{"$f":"VLOOKUP(tblSalaries[[#This Row],[How many hours of a day you work on Excel]],tblHours,2,0)","v":3},{"$f":"VLOOKUP(tblSalaries[[#This Row],[clean Country]],tblCountries[],5,0)","v":1},{"$f":"IF($Q$1,tblSalaries[[#This Row],[PPP Factor]]*tblSalaries[[#This Row],[Salary in USD]],tblSalaries[[#This Row],[Salary in USD]])","v":75010}]
[null,"ID0907","2012-05-27T15:44:52","Rs 600000/-",600000,"INR",{"$f":"tblSalaries[[#This Row],[clean Salary (in local currency)]]*VLOOKUP(tblSalaries[[#This Row],[Currency]],tblXrate[],2,FALSE)","v":10684.750012465542},"Manager","Manager","India",{"$f":"VLOOKUP(tblSalaries[[#This Row],[Where do you work]],tblCountries[[Actual]:[Mapping]],2,FALSE)","v":"India"},"All the 8 hours baby, all the 8!",9,{"$f":"VLOOKUP(K893,tblCountries[],3,0)","v":"Asia"},{"$f":"VLOOKUP(tblSalaries[[#This Row],[How many hours of a day you work on Excel]],tblHours,2,0)","v":5},{"$f":"VLOOKUP(tblSalaries[[#This Row],[clean Country]],tblCountries[],5,0)","v":13.098808879263672},{"$f":"IF($Q$1,tblSalaries[[#This Row],[PPP Factor]]*tblSalaries[[#This Row],[Salary in USD]],tblSalaries[[#This Row],[Salary in USD]])","v":10684.750012465542}]
[null,"ID0908","2012-05-27T15:48:03",16350,16350,"USD",{"$f":"tblSalaries[[#This Row],[clean Salary (in local currency)]]*VLOOKUP(tblSalaries[[#This Row],[Currency]],tblXrate[],2,FALSE)","v":16350},"Estimator","Manager","India",{"$f":"VLOOKUP(tblSalaries[[#This Row],[Where do you work]],tblCountries[[Actual]:[Mapping]],2,FALSE)","v":"India"},"4 to 6 hours a day",5,{"$f":"VLOOKUP(K894,tblCountries[],3,0)","v":"Asia"},{"$f":"VLOOKUP(tblSalaries[[#This Row],[How many hours of a day you work on Excel]],tblHours,2,0)","v":4},{"$f":"VLOOKUP(tblSalaries[[#This Row],[clean Country]],tblCountries[],5,0)","v":13.098808879263672},{"$f":"IF($Q$1,tblSalaries[[#This Row],[PPP Factor]]*tblSalaries[[#This Row],[Salary in USD]],tblSalaries[[#This Row],[Salary in USD]])","v":16350}]
[null,"ID0909","2012-05-27T16:10:04",80000,80000,"GBP",{"$f":"tblSalaries[[#This Row],[clean Salary (in local currency)]]*VLOOKUP(tblSalaries[[#This Row],[Currency]],tblXrate[],2,FALSE)","v":126094.26176538273},"Financial Modeller","Accountant","UK",{"$f":"VLOOKUP(tblSalaries[[#This Row],[Where do you work]],tblCountries[[Actual]:[Mapping]],2,FALSE)","v":"UK"},"4 to 6 hours a day",10,{"$f":"VLOOKUP(K895,tblCountries[],3,0)","v":"Europe"},{"$f":"VLOOKUP(tblSalaries[[#This Row],[How many hours of a day you work on Excel]],tblHours,2,0)","v":4},{"$f":"VLOOKUP(tblSalaries[[#This Row],[clean Country]],tblCountries[],5,0)","v":1.3407315045719035},{"$f":"IF($Q$1,tblSalaries[[#This Row],[PPP Factor]]*tblSalaries[[#This Row],[Salary in USD]],tblSalaries[[#This Row],[Salary in USD]])","v":126094.26176538273}]
[null,"ID0910","2012-05-27T16:10:27",60000,60000,"USD",{"$f":"tblSalaries[[#This Row],[clean Salary (in local currency)]]*VLOOKUP(tblSalaries[[#This Row],[Currency]],tblXrate[],2,FALSE)","v":60000},"Cost accountant","Accountant","Singapore",{"$f":"VLOOKUP(tblSalaries[[#This Row],[Where do you work]],tblCountries[[Actual]:[Mapping]],2,FALSE)","v":"Singapore"},"All the 8 hours baby, all the 8!",10,{"$f":"VLOOKUP(K896,tblCountries[],3,0)","v":"Asia"},{"$f":"VLOOKUP(tblSalaries[[#This Row],[How many hours of a day you work on Excel]],tblHours,2,0)","v":5},{"$f":"VLOOKUP(tblSalaries[[#This Row],[clean Country]],tblCountries[],5,0)","v":0.81035320125270049},{"$f":"IF($Q$1,tblSalaries[[#This Row],[PPP Factor]]*tblSalaries[[#This Row],[Salary in USD]],tblSalaries[[#This Row],[Salary in USD]])","v":60000}]
[null,"ID0911","2012-05-27T16:24:50",1300000,1300000,"INR",{"$f":"tblSalaries[[#This Row],[clean Salary (in local currency)]]*VLOOKUP(tblSalaries[[#This Row],[Currency]],tblXrate[],2,FALSE)","v":23150.291693675339},"banker","Manager","India",{"$f":"VLOOKUP(tblSalaries[[#This Row],[Where do you work]],tblCountries[[Actual]:[Mapping]],2,FALSE)","v":"India"},"1 or 2 hours a day",3,{"$f":"VLOOKUP(K897,tblCountries[],3,0)","v":"Asia"},{"$f":"VLOOKUP(tblSalaries[[#This Row],[How many hours of a day you work on Excel]],tblHours,2,0)","v":2},{"$f":"VLOOKUP(tblSalaries[[#This Row],[clean Country]],tblCountries[],5,0)","v":13.098808879263672},{"$f":"IF($Q$1,tblSalaries[[#This Row],[PPP Factor]]*tblSalaries[[#This Row],[Salary in USD]],tblSalaries[[#This Row],[Salary in USD]])","v":23150.291693675339}]
[null,"ID0912","2012-05-27T16:30:54",775000,775000,"INR",{"$f":"tblSalaries[[#This Row],[clean Salary (in local currency)]]*VLOOKUP(tblSalaries[[#This Row],[Currency]],tblXrate[],2,FALSE)","v":13801.135432767991},"Analyst","Analyst","India",{"$f":"VLOOKUP(tblSalaries[[#This Row],[Where do you work]],tblCountries[[Actual]:[Mapping]],2,FALSE)","v":"India"},"4 to 6 hours a day",2,{"$f":"VLOOKUP(K898,tblCountries[],3,0)","v":"Asia"},{"$f":"VLOOKUP(tblSalaries[[#This Row],[How many hours of a day you work on Excel]],tblHours,2,0)","v":4},{"$f":"VLOOKUP(tblSalaries[[#This Row],[clean Country]],tblCountries[],5,0)","v":13.098808879263672},{"$f":"IF($Q$1,tblSalaries[[#This Row],[PPP Factor]]*tblSalaries[[#This Row],[Salary in USD]],tblSalaries[[#This Row],[Salary in USD]])","v":13801.135432767991}]
[null,"ID0913","2012-05-27T16:50:50","1050000 INR",1050000,"INR",{"$f":"tblSalaries[[#This Row],[clean Salary (in local currency)]]*VLOOKUP(tblSalaries[[#This Row],[Currency]],tblXrate[],2,FALSE)","v":18698.312521814696},"Manager Market Reesrach","Manager","India",{"$f":"VLOOKUP(tblSalaries[[#This Row],[Where do you work]],tblCountries[[Actual]:[Mapping]],2,FALSE)","v":"India"},"All the 8 hours baby, all the 8!",5,{"$f":"VLOOKUP(K899,tblCountries[],3,0)","v":"Asia"},{"$f":"VLOOKUP(tblSalaries[[#This Row],[How many hours of a day you work on Excel]],tblHours,2,0)","v":5},{"$f":"VLOOKUP(tblSalaries[[#This Row],[clean Country]],tblCountries[],5,0)","v":13.098808879263672},{"$f":"IF($Q$1,tblSalaries[[#This Row],[PPP Factor]]*tblSalaries[[#This Row],[Salary in USD]],tblSalaries[[#This Row],[Salary in USD]])","v":18698.312521814696}]
[null,"ID0914","2012-05-27T17:10:36",36000,36000,"USD",{"$f":"tblSalaries[[#This Row],[clean Salary (in local currency)]]*VLOOKUP(tblSalaries[[#This Row],[Currency]],tblXrate[],2,FALSE)","v":36000},"QA Supervisor","Controller","Czech Republic",{"$f":"VLOOKUP(tblSalaries[[#This Row],[Where do you work]],tblCountries[[Actual]:[Mapping]],2,FALSE)","v":"Czech Republic"},"2 to 3 hours per day",9,{"$f":"VLOOKUP(K900,tblCountries[],3,0)","v":"Europe"},{"$f":"VLOOKUP(tblSalaries[[#This Row],[How many hours of a day you work on Excel]],tblHours,2,0)","v":3},{"$f":"VLOOKUP(tblSalaries[[#This Row],[clean Country]],tblCountries[],5,0)","v":1.788005321114478},{"$f":"IF($Q$1,tblSalaries[[#This Row],[PPP Factor]]*tblSalaries[[#This Row],[Salary in USD]],tblSalaries[[#This Row],[Salary in USD]])","v":36000}]
[null,"ID0915","2012-05-27T17:16:55","486000 INR",486000,"INR",{"$f":"tblSalaries[[#This Row],[clean Salary (in local currency)]]*VLOOKUP(tblSalaries[[#This Row],[Currency]],tblXrate[],2,FALSE)","v":8654.6475100970874},"Assistant manager","Manager","India",{"$f":"VLOOKUP(tblSalaries[[#This Row],[Where do you work]],tblCountries[[Actual]:[Mapping]],2,FALSE)","v":"India"},"All the 8 hours baby, all the 8!",6,{"$f":"VLOOKUP(K901,tblCountries[],3,0)","v":"Asia"},{"$f":"VLOOKUP(tblSalaries[[#This Row],[How many hours of a day you work on Excel]],tblHours,2,0)","v":5},{"$f":"VLOOKUP(tblSalaries[[#This Row],[clean Country]],tblCountries[],5,0)","v":13.098808879263672},{"$f":"IF($Q$1,tblSalaries[[#This Row],[PPP Factor]]*tblSalaries[[#This Row],[Salary in USD]],tblSalaries[[#This Row],[Salary in USD]])","v":8654.6475100970874}]
[null,"ID0916","2012-05-27T17:17:24","Â£65000",65000,"GBP",{"$f":"tblSalaries[[#This Row],[clean Salary (in local currency)]]*VLOOKUP(tblSalaries[[#This Row],[Currency]],tblXrate[],2,FALSE)","v":102451.58768437347},"Manager","Manager","UK",{"$f":"VLOOKUP(tblSalaries[[#This Row],[Where do you work]],tblCountries[[Actual]:[Mapping]],2,FALSE)","v":"UK"},"1 or 2 hours a day",15,{"$f":"VLOOKUP(K902,tblCountries[],3,0)","v":"Europe"},{"$f":"VLOOKUP(tblSalaries[[#This Row],[How many hours of a day you work on Excel]],tblHours,2,0)","v":2},{"$f":"VLOOKUP(tblSalaries[[#This Row],[clean Country]],tblCountries[],5,0)","v":1.3407315045719035},{"$f":"IF($Q$1,tblSalaries[[#This Row],[PPP Factor]]*tblSalaries[[#This Row],[Salary in USD]],tblSalaries[[#This Row],[Salary in USD]])","v":102451.58768437347}]
[null,"ID0917","2012-05-27T17:24:09",36400,36400,"USD",{"$f":"tblSalaries[[#This Row],[clean Salary (in local currency)]]*VLOOKUP(tblSalaries[[#This Row],[Currency]],tblXrate[],2,FALSE)","v":36400},"Analyst","Analyst","Zimbabwe",{"$f":"VLOOKUP(tblSalaries[[#This Row],[Where do you work]],tblCountries[[Actual]:[Mapping]],2,FALSE)","v":"Zimbabwe"},"4 to 6 hours a day",20,{"$f":"VLOOKUP(K903,tblCountries[],3,0)","v":"Africa"},{"$f":"VLOOKUP(tblSalaries[[#This Row],[How many hours of a day you work on Excel]],tblHours,2,0)","v":4},{"$f":"VLOOKUP(tblSalaries[[#This Row],[clean Country]],tblCountries[],5,0)","v":99.357289527720738},{"$f":"IF($Q$1,tblSalaries[[#This Row],[PPP Factor]]*tblSalaries[[#This Row],[Salary in USD]],tblSalaries[[#This Row],[Salary in USD]])","v":36400}]
[null,"ID0918","2012-05-27T18:19:31",64210.1,64210,"GBP",{"$f":"tblSalaries[[#This Row],[clean Salary (in local currency)]]*VLOOKUP(tblSalaries[[#This Row],[Currency]],tblXrate[],2,FALSE)","v":101206.40684944032},"HR Advisor - Systems & MI","Consultant","UK",{"$f":"VLOOKUP(tblSalaries[[#This Row],[Where do you work]],tblCountries[[Actual]:[Mapping]],2,FALSE)","v":"UK"},"4 to 6 hours a day",16,{"$f":"VLOOKUP(K904,tblCountries[],3,0)","v":"Europe"},{"$f":"VLOOKUP(tblSalaries[[#This Row],[How many hours of a day you work on Excel]],tblHours,2,0)","v":4},{"$f":"VLOOKUP(tblSalaries[[#This Row],[clean Country]],tblCountries[],5,0)","v":1.3407315045719035},{"$f":"IF($Q$1,tblSalaries[[#This Row],[PPP Factor]]*tblSalaries[[#This Row],[Salary in USD]],tblSalaries[[#This Row],[Salary in USD]])","v":101206.40684944032}]
[null,"ID0919","2012-05-27T18:33:51","300000RS",300000,"INR",{"$f":"tblSalaries[[#This Row],[clean Salary (in local currency)]]*VLOOKUP(tblSalaries[[#This Row],[Currency]],tblXrate[],2,FALSE)","v":5342.3750062327708},"ANALYST","Analyst","India",{"$f":"VLOOKUP(tblSalaries[[#This Row],[Where do you work]],tblCountries[[Actual]:[Mapping]],2,FALSE)","v":"India"},"4 to 6 hours a day",0.5,{"$f":"VLOOKUP(K905,tblCountries[],3,0)","v":"Asia"},{"$f":"VLOOKUP(tblSalaries[[#This Row],[How many hours of a day you work on Excel]],tblHours,2,0)","v":4},{"$f":"VLOOKUP(tblSalaries[[#This Row],[clean Country]],tblCountries[],5,0)","v":13.098808879263672},{"$f":"IF($Q$1,tblSalaries[[#This Row],[PPP Factor]]*tblSalaries[[#This Row],[Salary in USD]],tblSalaries[[#This Row],[Salary in USD]])","v":5342.3750062327708}]
[null,"ID0920","2012-05-27T19:39:26",104000,104000,"AED",{"$f":"tblSalaries[[#This Row],[clean Salary (in local currency)]]*VLOOKUP(tblSalaries[[#This Row],[Currency]],tblXrate[],2,FALSE)","v":28310.79811950968},"Financial Analyst","Analyst","UAE",{"$f":"VLOOKUP(tblSalaries[[#This Row],[Where do you work]],tblCountries[[Actual]:[Mapping]],2,FALSE)","v":"UAE"},"4 to 6 hours a day",11,{"$f":"VLOOKUP(K906,tblCountries[],3,0)","v":"Asia"},{"$f":"VLOOKUP(tblSalaries[[#This Row],[How many hours of a day you work on Excel]],tblHours,2,0)","v":4},{"$f":"VLOOKUP(tblSalaries[[#This Row],[clean Country]],tblCountries[],5,0)","v":1.0047551808629926},{"$f":"IF($Q$1,tblSalaries[[#This Row],[PPP Factor]]*tblSalaries[[#This Row],[Salary in USD]],tblSalaries[[#This Row],[Salary in USD]])","v":28310.79811950968}]
[null,"ID0921","2012-05-27T19:41:55",20500,20500,"EUR",{"$f":"tblSalaries[[#This Row],[clean Salary (in local currency)]]*VLOOKUP(tblSalaries[[#This Row],[Currency]],tblXrate[],2,FALSE)","v":26043.18849932796},"C&B Manager","Manager","Poland",{"$f":"VLOOKUP(tblSalaries[[#This Row],[Where do you work]],tblCountries[[Actual]:[Mapping]],2,FALSE)","v":"Poland"},"4 to 6 hours a day",8,{"$f":"VLOOKUP(K907,tblCountries[],3,0)","v":"Europe"},{"$f":"VLOOKUP(tblSalaries[[#This Row],[How many hours of a day you work on Excel]],tblHours,2,0)","v":4},{"$f":"VLOOKUP(tblSalaries[[#This Row],[clean Country]],tblCountries[],5,0)","v":2.3796105045736207},{"$f":"IF($Q$1,tblSalaries[[#This Row],[PPP Factor]]*tblSalaries[[#This Row],[Salary in USD]],tblSalaries[[#This Row],[Salary in USD]])","v":26043.18849932796}]
[null,"ID0922","2012-05-27T20:18:50","95000 AUD",95000,"AUD",{"$f":"tblSalaries[[#This Row],[clean Salary (in local currency)]]*VLOOKUP(tblSalaries[[#This Row],[Currency]],tblXrate[],2,FALSE)","v":96891.417358250401},"Senior Marketing Analyst","Analyst","Australia",{"$f":"VLOOKUP(tblSalaries[[#This Row],[Where do you work]],tblCountries[[Actual]:[Mapping]],2,FALSE)","v":"Australia"},"1 or 2 hours a day",7,{"$f":"VLOOKUP(K908,tblCountries[],3,0)","v":"Oceania"},{"$f":"VLOOKUP(tblSalaries[[#This Row],[How many hours of a day you work on Excel]],tblHours,2,0)","v":2},{"$f":"VLOOKUP(tblSalaries[[#This Row],[clean Country]],tblCountries[],5,0)","v":1.2026395585822935},{"$f":"IF($Q$1,tblSalaries[[#This Row],[PPP Factor]]*tblSalaries[[#This Row],[Salary in USD]],tblSalaries[[#This Row],[Salary in USD]])","v":96891.417358250401}]
[null,"ID0923","2012-05-27T20:43:13","Rs. 144000",144000,"INR",{"$f":"tblSalaries[[#This Row],[clean Salary (in local currency)]]*VLOOKUP(tblSalaries[[#This Row],[Currency]],tblXrate[],2,FALSE)","v":2564.3400029917298},"operation supervisor","Controller","India",{"$f":"VLOOKUP(tblSalaries[[#This Row],[Where do you work]],tblCountries[[Actual]:[Mapping]],2,FALSE)","v":"India"},"4 to 6 hours a day",4,{"$f":"VLOOKUP(K909,tblCountries[],3,0)","v":"Asia"},{"$f":"VLOOKUP(tblSalaries[[#This Row],[How many hours of a day you work on Excel]],tblHours,2,0)","v":4},{"$f":"VLOOKUP(tblSalaries[[#This Row],[clean Country]],tblCountries[],5,0)","v":13.098808879263672},{"$f":"IF($Q$1,tblSalaries[[#This Row],[PPP Factor]]*tblSalaries[[#This Row],[Salary in USD]],tblSalaries[[#This Row],[Salary in USD]])","v":2564.3400029917298}]
[null,"ID0924","2012-05-27T20:51:55",180000,180000,"INR",{"$f":"tblSalaries[[#This Row],[clean Salary (in local currency)]]*VLOOKUP(tblSalaries[[#This Row],[Currency]],tblXrate[],2,FALSE)","v":3205.4250037396623},"MIS TEAM MEMBER","Reporting","India",{"$f":"VLOOKUP(tblSalaries[[#This Row],[Where do you work]],tblCountries[[Actual]:[Mapping]],2,FALSE)","v":"India"},"All the 8 hours baby, all the 8!",8,{"$f":"VLOOKUP(K910,tblCountries[],3,0)","v":"Asia"},{"$f":"VLOOKUP(tblSalaries[[#This Row],[How many hours of a day you work on Excel]],tblHours,2,0)","v":5},{"$f":"VLOOKUP(tblSalaries[[#This Row],[clean Country]],tblCountries[],5,0)","v":13.098808879263672},{"$f":"IF($Q$1,tblSalaries[[#This Row],[PPP Factor]]*tblSalaries[[#This Row],[Salary in USD]],tblSalaries[[#This Row],[Salary in USD]])","v":3205.4250037396623}]
[null,"ID0925","2012-05-27T21:04:07",600000,600000,"INR",{"$f":"tblSalaries[[#This Row],[clean Salary (in local currency)]]*VLOOKUP(tblSalaries[[#This Row],[Currency]],tblXrate[],2,FALSE)","v":10684.750012465542},"Sales Analyst","Analyst","India",{"$f":"VLOOKUP(tblSalaries[[#This Row],[Where do you work]],tblCountries[[Actual]:[Mapping]],2,FALSE)","v":"India"},"All the 8 hours baby, all the 8!",8,{"$f":"VLOOKUP(K911,tblCountries[],3,0)","v":"Asia"},{"$f":"VLOOKUP(tblSalaries[[#This Row],[How many hours of a day you work on Excel]],tblHours,2,0)","v":5},{"$f":"VLOOKUP(tblSalaries[[#This Row],[clean Country]],tblCountries[],5,0)","v":13.098808879263672},{"$f":"IF($Q$1,tblSalaries[[#This Row],[PPP Factor]]*tblSalaries[[#This Row],[Salary in USD]],tblSalaries[[#This Row],[Salary in USD]])","v":10684.750012465542}]
[null,"ID0927","2012-05-27T21:21:41",150000,150000,"USD",{"$f":"tblSalaries[[#This Row],[clean Salary (in local currency)]]*VLOOKUP(tblSalaries[[#This Row],[Currency]],tblXrate[],2,FALSE)","v":150000},"Controller","Controller","USA",{"$f":"VLOOKUP(tblSalaries[[#This Row],[Where do you work]],tblCountries[[Actual]:[Mapping]],2,FALSE)","v":"USA"},"4 to 6 hours a day",25,{"$f":"VLOOKUP(K912,tblCountries[],3,0)","v":"North Amer."},{"$f":"VLOOKUP(tblSalaries[[#This Row],[How many hours of a day you work on Excel]],tblHours,2,0)","v":4},{"$f":"VLOOKUP(tblSalaries[[#This Row],[clean Country]],tblCountries[],5,0)","v":1},{"$f":"IF($Q$1,tblSalaries[[#This Row],[PPP Factor]]*tblSalaries[[#This Row],[Salary in USD]],tblSalaries[[#This Row],[Salary in USD]])","v":150000}]
[null,"ID0928","2012-05-27T21:24:42","7 Lakhs",700000,"INR",{"$f":"tblSalaries[[#This Row],[clean Salary (in local currency)]]*VLOOKUP(tblSalaries[[#This Row],[Currency]],tblXrate[],2,FALSE)","v":12465.541681209797},"Business Support Executive","Manager","India",{"$f":"VLOOKUP(tblSalaries[[#This Row],[Where do you work]],tblCountries[[Actual]:[Mapping]],2,FALSE)","v":"India"},"4 to 6 hours a day",3,{"$f":"VLOOKUP(K913,tblCountries[],3,0)","v":"Asia"},{"$f":"VLOOKUP(tblSalaries[[#This Row],[How many hours of a day you work on Excel]],tblHours,2,0)","v":4},{"$f":"VLOOKUP(tblSalaries[[#This Row],[clean Country]],tblCountries[],5,0)","v":13.098808879263672},{"$f":"IF($Q$1,tblSalaries[[#This Row],[PPP Factor]]*tblSalaries[[#This Row],[Salary in USD]],tblSalaries[[#This Row],[Salary in USD]])","v":12465.541681209797}]
[null,"ID0929","2012-05-27T21:44:39","15000 â‚¬",15000,"EUR",{"$f":"tblSalaries[[#This Row],[clean Salary (in local currency)]]*VLOOKUP(tblSalaries[[#This Row],[Currency]],tblXrate[],2,FALSE)","v":19055.991584874118},"analytic","Analyst","Slovenia",{"$f":"VLOOKUP(tblSalaries[[#This Row],[Where do you work]],tblCountries[[Actual]:[Mapping]],2,FALSE)","v":"Slovenia"},"4 to 6 hours a day",4,{"$f":"VLOOKUP(K914,tblCountries[],3,0)","v":"Europe"},{"$f":"VLOOKUP(tblSalaries[[#This Row],[How many hours of a day you work on Excel]],tblHours,2,0)","v":4},{"$f":"VLOOKUP(tblSalaries[[#This Row],[clean Country]],tblCountries[],5,0)","v":1.6893722505411632},{"$f":"IF($Q$1,tblSalaries[[#This Row],[PPP Factor]]*tblSalaries[[#This Row],[Salary in USD]],tblSalaries[[#This Row],[Salary in USD]])","v":19055.991584874118}]
[null,"ID0930","2012-05-27T21:49:55",105000,105000,"USD",{"$f":"tblSalaries[[#This Row],[clean Salary (in local currency)]]*VLOOKUP(tblSalaries[[#This Row],[Currency]],tblXrate[],2,FALSE)","v":105000},"business analyst","Analyst","USA",{"$f":"VLOOKUP(tblSalaries[[#This Row],[Where do you work]],tblCountries[[Actual]:[Mapping]],2,FALSE)","v":"USA"},"4 to 6 hours a day",20,{"$f":"VLOOKUP(K915,tblCountries[],3,0)","v":"North Amer."},{"$f":"VLOOKUP(tblSalaries[[#This Row],[How many hours of a day you work on Excel]],tblHours,2,0)","v":4},{"$f":"VLOOKUP(tblSalaries[[#This Row],[clean Country]],tblCountries[],5,0)","v":1},{"$f":"IF($Q$1,tblSalaries[[#This Row],[PPP Factor]]*tblSalaries[[#This Row],[Salary in USD]],tblSalaries[[#This Row],[Salary in USD]])","v":105000}]
[null,"ID0931","2012-05-27T22:05:15",24000,24000,"USD",{"$f":"tblSalaries[[#This Row],[clean Salary (in local currency)]]*VLOOKUP(tblSalaries[[#This Row],[Currency]],tblXrate[],2,FALSE)","v":24000},"business analyst","Analyst","India",{"$f":"VLOOKUP(tblSalaries[[#This Row],[Where do you work]],tblCountries[[Actual]:[Mapping]],2,FALSE)","v":"India"},"4 to 6 hours a day",3,{"$f":"VLOOKUP(K916,tblCountries[],3,0)","v":"Asia"},{"$f":"VLOOKUP(tblSalaries[[#This Row],[How many hours of a day you work on Excel]],tblHours,2,0)","v":4},{"$f":"VLOOKUP(tblSalaries[[#This Row],[clean Country]],tblCountries[],5,0)","v":13.098808879263672},{"$f":"IF($Q$1,tblSalaries[[#This Row],[PPP Factor]]*tblSalaries[[#This Row],[Salary in USD]],tblSalaries[[#This Row],[Salary in USD]])","v":24000}]
[null,"ID0932","2012-05-27T22:22:01","50000 GBP",50000,"GBP",{"$f":"tblSalaries[[#This Row],[clean Salary (in local currency)]]*VLOOKUP(tblSalaries[[#This Row],[Currency]],tblXrate[],2,FALSE)","v":78808.913603364199},"Finance Analyst","Analyst","UK",{"$f":"VLOOKUP(tblSalaries[[#This Row],[Where do you work]],tblCountries[[Actual]:[Mapping]],2,FALSE)","v":"UK"},"All the 8 hours baby, all the 8!",10,{"$f":"VLOOKUP(K917,tblCountries[],3,0)","v":"Europe"},{"$f":"VLOOKUP(tblSalaries[[#This Row],[How many hours of a day you work on Excel]],tblHours,2,0)","v":5},{"$f":"VLOOKUP(tblSalaries[[#This Row],[clean Country]],tblCountries[],5,0)","v":1.3407315045719035},{"$f":"IF($Q$1,tblSalaries[[#This Row],[PPP Factor]]*tblSalaries[[#This Row],[Salary in USD]],tblSalaries[[#This Row],[Salary in USD]])","v":78808.913603364199}]
[null,"ID0933","2012-05-27T22:35:22",42000,42000,"USD",{"$f":"tblSalaries[[#This Row],[clean Salary (in local currency)]]*VLOOKUP(tblSalaries[[#This Row],[Currency]],tblXrate[],2,FALSE)","v":42000},"Credit Controller","Controller","Saudi Arabia",{"$f":"VLOOKUP(tblSalaries[[#This Row],[Where do you work]],tblCountries[[Actual]:[Mapping]],2,FALSE)","v":"Saudi Arabia"},"All the 8 hours baby, all the 8!",15,{"$f":"VLOOKUP(K918,tblCountries[],3,0)","v":"Asia"},{"$f":"VLOOKUP(tblSalaries[[#This Row],[How many hours of a day you work on Excel]],tblHours,2,0)","v":5},{"$f":"VLOOKUP(tblSalaries[[#This Row],[clean Country]],tblCountries[],5,0)","v":1.9964104468374799},{"$f":"IF($Q$1,tblSalaries[[#This Row],[PPP Factor]]*tblSalaries[[#This Row],[Salary in USD]],tblSalaries[[#This Row],[Salary in USD]])","v":42000}]
[null,"ID0934","2012-05-27T22:40:38","R$ 19.200,00",19200,"BRL",{"$f":"tblSalaries[[#This Row],[clean Salary (in local currency)]]*VLOOKUP(tblSalaries[[#This Row],[Currency]],tblXrate[],2,FALSE)","v":9490.1984044603923},"Programmer","Analyst","Brazil",{"$f":"VLOOKUP(tblSalaries[[#This Row],[Where do you work]],tblCountries[[Actual]:[Mapping]],2,FALSE)","v":"Brazil"},"All the 8 hours baby, all the 8!",8,{"$f":"VLOOKUP(K919,tblCountries[],3,0)","v":"South Amer."},{"$f":"VLOOKUP(tblSalaries[[#This Row],[How many hours of a day you work on Excel]],tblHours,2,0)","v":5},{"$f":"VLOOKUP(tblSalaries[[#This Row],[clean Country]],tblCountries[],5,0)","v":4.1113943410655107},{"$f":"IF($Q$1,tblSalaries[[#This Row],[PPP Factor]]*tblSalaries[[#This Row],[Salary in USD]],tblSalaries[[#This Row],[Salary in USD]])","v":9490.1984044603923}]
[null,"ID0935","2012-05-27T22:58:39",60000,60000,"USD",{"$f":"tblSalaries[[#This Row],[clean Salary (in local currency)]]*VLOOKUP(tblSalaries[[#This Row],[Currency]],tblXrate[],2,FALSE)","v":60000},"Consultant","Consultant","Singapore",{"$f":"VLOOKUP(tblSalaries[[#This Row],[Where do you work]],tblCountries[[Actual]:[Mapping]],2,FALSE)","v":"Singapore"},"4 to 6 hours a day",5,{"$f":"VLOOKUP(K920,tblCountries[],3,0)","v":"Asia"},{"$f":"VLOOKUP(tblSalaries[[#This Row],[How many hours of a day you work on Excel]],tblHours,2,0)","v":4},{"$f":"VLOOKUP(tblSalaries[[#This Row],[clean Country]],tblCountries[],5,0)","v":0.81035320125270049},{"$f":"IF($Q$1,tblSalaries[[#This Row],[PPP Factor]]*tblSalaries[[#This Row],[Salary in USD]],tblSalaries[[#This Row],[Salary in USD]])","v":60000}]
[null,"ID0936","2012-05-27T23:03:21",1000000,1000000,"INR",{"$f":"tblSalaries[[#This Row],[clean Salary (in local currency)]]*VLOOKUP(tblSalaries[[#This Row],[Currency]],tblXrate[],2,FALSE)","v":17807.916687442568},"business","Manager","India",{"$f":"VLOOKUP(tblSalaries[[#This Row],[Where do you work]],tblCountries[[Actual]:[Mapping]],2,FALSE)","v":"India"},"All the 8 hours baby, all the 8!",8,{"$f":"VLOOKUP(K921,tblCountries[],3,0)","v":"Asia"},{"$f":"VLOOKUP(tblSalaries[[#This Row],[How many hours of a day you work on Excel]],tblHours,2,0)","v":5},{"$f":"VLOOKUP(tblSalaries[[#This Row],[clean Country]],tblCountries[],5,0)","v":13.098808879263672},{"$f":"IF($Q$1,tblSalaries[[#This Row],[PPP Factor]]*tblSalaries[[#This Row],[Salary in USD]],tblSalaries[[#This Row],[Salary in USD]])","v":17807.916687442568}]
[null,"ID0937","2012-05-27T23:10:01","Rs.7,00,000",700000,"INR",{"$f":"tblSalaries[[#This Row],[clean Salary (in local currency)]]*VLOOKUP(tblSalaries[[#This Row],[Currency]],tblXrate[],2,FALSE)","v":12465.541681209797},"Business Analyst","Analyst","India",{"$f":"VLOOKUP(tblSalaries[[#This Row],[Where do you work]],tblCountries[[Actual]:[Mapping]],2,FALSE)","v":"India"},"All the 8 hours baby, all the 8!",1,{"$f":"VLOOKUP(K922,tblCountries[],3,0)","v":"Asia"},{"$f":"VLOOKUP(tblSalaries[[#This Row],[How many hours of a day you work on Excel]],tblHours,2,0)","v":5},{"$f":"VLOOKUP(tblSalaries[[#This Row],[clean Country]],tblCountries[],5,0)","v":13.098808879263672},{"$f":"IF($Q$1,tblSalaries[[#This Row],[PPP Factor]]*tblSalaries[[#This Row],[Salary in USD]],tblSalaries[[#This Row],[Salary in USD]])","v":12465.541681209797}]
[null,"ID0938","2012-05-27T23:32:30",20571,20571,"USD",{"$f":"tblSalaries[[#This Row],[clean Salary (in local currency)]]*VLOOKUP(tblSalaries[[#This Row],[Currency]],tblXrate[],2,FALSE)","v":20571},"CFO","CXO or Top Mgmt.","Albania",{"$f":"VLOOKUP(tblSalaries[[#This Row],[Where do you work]],tblCountries[[Actual]:[Mapping]],2,FALSE)","v":"Albania"},"4 to 6 hours a day",8,{"$f":"VLOOKUP(K923,tblCountries[],3,0)","v":"Europe"},{"$f":"VLOOKUP(tblSalaries[[#This Row],[How many hours of a day you work on Excel]],tblHours,2,0)","v":4},{"$f":"VLOOKUP(tblSalaries[[#This Row],[clean Country]],tblCountries[],5,0)","v":6.2507427980881021},{"$f":"IF($Q$1,tblSalaries[[#This Row],[PPP Factor]]*tblSalaries[[#This Row],[Salary in USD]],tblSalaries[[#This Row],[Salary in USD]])","v":20571}]
[null,"ID0939","2012-05-27T23:43:21",290,3480,"USD",{"$f":"tblSalaries[[#This Row],[clean Salary (in local currency)]]*VLOOKUP(tblSalaries[[#This Row],[Currency]],tblXrate[],2,FALSE)","v":3480},"Reconciliation Manager in Textile Mill","Manager","Pakistan",{"$f":"VLOOKUP(tblSalaries[[#This Row],[Where do you work]],tblCountries[[Actual]:[Mapping]],2,FALSE)","v":"Pakistan"},"All the 8 hours baby, all the 8!",6,{"$f":"VLOOKUP(K924,tblCountries[],3,0)","v":"Asia"},{"$f":"VLOOKUP(tblSalaries[[#This Row],[How many hours of a day you work on Excel]],tblHours,2,0)","v":5},{"$f":"VLOOKUP(tblSalaries[[#This Row],[clean Country]],tblCountries[],5,0)","v":17.361679224973088},{"$f":"IF($Q$1,tblSalaries[[#This Row],[PPP Factor]]*tblSalaries[[#This Row],[Salary in USD]],tblSalaries[[#This Row],[Salary in USD]])","v":3480}]
[null,"ID0940","2012-05-27T23:46:03",18060,18060,"USD",{"$f":"tblSalaries[[#This Row],[clean Salary (in local currency)]]*VLOOKUP(tblSalaries[[#This Row],[Currency]],tblXrate[],2,FALSE)","v":18060},"Reporting Supervisor","Reporting","Philippines",{"$f":"VLOOKUP(tblSalaries[[#This Row],[Where do you work]],tblCountries[[Actual]:[Mapping]],2,FALSE)","v":"Philippines"},"4 to 6 hours a day",12,{"$f":"VLOOKUP(K925,tblCountries[],3,0)","v":"Asia"},{"$f":"VLOOKUP(tblSalaries[[#This Row],[How many hours of a day you work on Excel]],tblHours,2,0)","v":4},{"$f":"VLOOKUP(tblSalaries[[#This Row],[clean Country]],tblCountries[],5,0)","v":11.879941075374417},{"$f":"IF($Q$1,tblSalaries[[#This Row],[PPP Factor]]*tblSalaries[[#This Row],[Salary in USD]],tblSalaries[[#This Row],[Salary in USD]])","v":18060}]
[null,"ID0941","2012-05-27T23:47:25","30000 $",30000,"USD",{"$f":"tblSalaries[[#This Row],[clean Salary (in local currency)]]*VLOOKUP(tblSalaries[[#This Row],[Currency]],tblXrate[],2,FALSE)","v":30000},"Financial Expert","Accountant","Iran",{"$f":"VLOOKUP(tblSalaries[[#This Row],[Where do you work]],tblCountries[[Actual]:[Mapping]],2,FALSE)","v":"iran"},"2 to 3 hours per day",30,{"$f":"VLOOKUP(K926,tblCountries[],3,0)","v":"Asia"},{"$f":"VLOOKUP(tblSalaries[[#This Row],[How many hours of a day you work on Excel]],tblHours,2,0)","v":3},{"$f":"VLOOKUP(tblSalaries[[#This Row],[clean Country]],tblCountries[],5,0)","v":3.706963916341071},{"$f":"IF($Q$1,tblSalaries[[#This Row],[PPP Factor]]*tblSalaries[[#This Row],[Salary in USD]],tblSalaries[[#This Row],[Salary in USD]])","v":30000}]
[null,"ID0943","2012-05-27T23:52:48","usd 2000 per month",24000,"USD",{"$f":"tblSalaries[[#This Row],[clean Salary (in local currency)]]*VLOOKUP(tblSalaries[[#This Row],[Currency]],tblXrate[],2,FALSE)","v":24000},"sr manager","Manager","India",{"$f":"VLOOKUP(tblSalaries[[#This Row],[Where do you work]],tblCountries[[Actual]:[Mapping]],2,FALSE)","v":"India"},"4 to 6 hours a day",10,{"$f":"VLOOKUP(K927,tblCountries[],3,0)","v":"Asia"},{"$f":"VLOOKUP(tblSalaries[[#This Row],[How many hours of a day you work on Excel]],tblHours,2,0)","v":4},{"$f":"VLOOKUP(tblSalaries[[#This Row],[clean Country]],tblCountries[],5,0)","v":13.098808879263672},{"$f":"IF($Q$1,tblSalaries[[#This Row],[PPP Factor]]*tblSalaries[[#This Row],[Salary in USD]],tblSalaries[[#This Row],[Salary in USD]])","v":24000}]
[null,"ID0944","2012-05-28T00:10:43",63200,63200,"EUR",{"$f":"tblSalaries[[#This Row],[clean Salary (in local currency)]]*VLOOKUP(tblSalaries[[#This Row],[Currency]],tblXrate[],2,FALSE)","v":80289.244544269619},"Consultant","Consultant","France",{"$f":"VLOOKUP(tblSalaries[[#This Row],[Where do you work]],tblCountries[[Actual]:[Mapping]],2,FALSE)","v":"France"},"4 to 6 hours a day",3,{"$f":"VLOOKUP(K928,tblCountries[],3,0)","v":"Europe"},{"$f":"VLOOKUP(tblSalaries[[#This Row],[How many hours of a day you work on Excel]],tblHours,2,0)","v":4},{"$f":"VLOOKUP(tblSalaries[[#This Row],[clean Country]],tblCountries[],5,0)","v":1.3763511207190806},{"$f":"IF($Q$1,tblSalaries[[#This Row],[PPP Factor]]*tblSalaries[[#This Row],[Salary in USD]],tblSalaries[[#This Row],[Salary in USD]])","v":80289.244544269619}]
[null,"ID0945","2012-05-28T00:17:26",70000,70000,"USD",{"$f":"tblSalaries[[#This Row],[clean Salary (in local currency)]]*VLOOKUP(tblSalaries[[#This Row],[Currency]],tblXrate[],2,FALSE)","v":70000},"Client Manager","Manager","USA",{"$f":"VLOOKUP(tblSalaries[[#This Row],[Where do you work]],tblCountries[[Actual]:[Mapping]],2,FALSE)","v":"USA"},"4 to 6 hours a day",4,{"$f":"VLOOKUP(K929,tblCountries[],3,0)","v":"North Amer."},{"$f":"VLOOKUP(tblSalaries[[#This Row],[How many hours of a day you work on Excel]],tblHours,2,0)","v":4},{"$f":"VLOOKUP(tblSalaries[[#This Row],[clean Country]],tblCountries[],5,0)","v":1},{"$f":"IF($Q$1,tblSalaries[[#This Row],[PPP Factor]]*tblSalaries[[#This Row],[Salary in USD]],tblSalaries[[#This Row],[Salary in USD]])","v":70000}]
[null,"ID0946","2012-05-28T00:28:56","Rs 40000",480000,"INR",{"$f":"tblSalaries[[#This Row],[clean Salary (in local currency)]]*VLOOKUP(tblSalaries[[#This Row],[Currency]],tblXrate[],2,FALSE)","v":8547.8000099724322},"Manager","Manager","India",{"$f":"VLOOKUP(tblSalaries[[#This Row],[Where do you work]],tblCountries[[Actual]:[Mapping]],2,FALSE)","v":"India"},"2 to 3 hours per day",2,{"$f":"VLOOKUP(K930,tblCountries[],3,0)","v":"Asia"},{"$f":"VLOOKUP(tblSalaries[[#This Row],[How many hours of a day you work on Excel]],tblHours,2,0)","v":3},{"$f":"VLOOKUP(tblSalaries[[#This Row],[clean Country]],tblCountries[],5,0)","v":13.098808879263672},{"$f":"IF($Q$1,tblSalaries[[#This Row],[PPP Factor]]*tblSalaries[[#This Row],[Salary in USD]],tblSalaries[[#This Row],[Salary in USD]])","v":8547.8000099724322}]
[null,"ID0948","2012-05-28T00:36:20","INR 600K",600000,"INR",{"$f":"tblSalaries[[#This Row],[clean Salary (in local currency)]]*VLOOKUP(tblSalaries[[#This Row],[Currency]],tblXrate[],2,FALSE)","v":10684.750012465542},"Asst. Mgr. Finance","Analyst","India",{"$f":"VLOOKUP(tblSalaries[[#This Row],[Where do you work]],tblCountries[[Actual]:[Mapping]],2,FALSE)","v":"India"},"4 to 6 hours a day",11,{"$f":"VLOOKUP(K931,tblCountries[],3,0)","v":"Asia"},{"$f":"VLOOKUP(tblSalaries[[#This Row],[How many hours of a day you work on Excel]],tblHours,2,0)","v":4},{"$f":"VLOOKUP(tblSalaries[[#This Row],[clean Country]],tblCountries[],5,0)","v":13.098808879263672},{"$f":"IF($Q$1,tblSalaries[[#This Row],[PPP Factor]]*tblSalaries[[#This Row],[Salary in USD]],tblSalaries[[#This Row],[Salary in USD]])","v":10684.750012465542}]
[null,"ID0949","2012-05-28T00:43:40","600000 INR",600000,"INR",{"$f":"tblSalaries[[#This Row],[clean Salary (in local currency)]]*VLOOKUP(tblSalaries[[#This Row],[Currency]],tblXrate[],2,FALSE)","v":10684.750012465542},"Executive","Analyst","India",{"$f":"VLOOKUP(tblSalaries[[#This Row],[Where do you work]],tblCountries[[Actual]:[Mapping]],2,FALSE)","v":"India"},"2 to 3 hours per day",4,{"$f":"VLOOKUP(K932,tblCountries[],3,0)","v":"Asia"},{"$f":"VLOOKUP(tblSalaries[[#This Row],[How many hours of a day you work on Excel]],tblHours,2,0)","v":3},{"$f":"VLOOKUP(tblSalaries[[#This Row],[clean Country]],tblCountries[],5,0)","v":13.098808879263672},{"$f":"IF($Q$1,tblSalaries[[#This Row],[PPP Factor]]*tblSalaries[[#This Row],[Salary in USD]],tblSalaries[[#This Row],[Salary in USD]])","v":10684.750012465542}]
[null,"ID0950","2012-05-28T00:48:23",20000,20000,"USD",{"$f":"tblSalaries[[#This Row],[clean Salary (in local currency)]]*VLOOKUP(tblSalaries[[#This Row],[Currency]],tblXrate[],2,FALSE)","v":20000},"Financial Modeller","Accountant","Zambia",{"$f":"VLOOKUP(tblSalaries[[#This Row],[Where do you work]],tblCountries[[Actual]:[Mapping]],2,FALSE)","v":"Zambia"},"All the 8 hours baby, all the 8!",2,{"$f":"VLOOKUP(K933,tblCountries[],3,0)","v":"Africa"},{"$f":"VLOOKUP(tblSalaries[[#This Row],[How many hours of a day you work on Excel]],tblHours,2,0)","v":5},{"$f":"VLOOKUP(tblSalaries[[#This Row],[clean Country]],tblCountries[],5,0)","v":30.03538175046555},{"$f":"IF($Q$1,tblSalaries[[#This Row],[PPP Factor]]*tblSalaries[[#This Row],[Salary in USD]],tblSalaries[[#This Row],[Salary in USD]])","v":20000}]
[null,"ID0951","2012-05-28T01:17:17","42000 â‚¬",42000,"EUR",{"$f":"tblSalaries[[#This Row],[clean Salary (in local currency)]]*VLOOKUP(tblSalaries[[#This Row],[Currency]],tblXrate[],2,FALSE)","v":53356.776437647524},"Consultant","Consultant","Germany",{"$f":"VLOOKUP(tblSalaries[[#This Row],[Where do you work]],tblCountries[[Actual]:[Mapping]],2,FALSE)","v":"Germany"},"2 to 3 hours per day",3,{"$f":"VLOOKUP(K934,tblCountries[],3,0)","v":"Europe"},{"$f":"VLOOKUP(tblSalaries[[#This Row],[How many hours of a day you work on Excel]],tblHours,2,0)","v":3},{"$f":"VLOOKUP(tblSalaries[[#This Row],[clean Country]],tblCountries[],5,0)","v":1.276802913159353},{"$f":"IF($Q$1,tblSalaries[[#This Row],[PPP Factor]]*tblSalaries[[#This Row],[Salary in USD]],tblSalaries[[#This Row],[Salary in USD]])","v":53356.776437647524}]
[null,"ID0952","2012-05-28T01:29:19",3000,36000,"USD",{"$f":"tblSalaries[[#This Row],[clean Salary (in local currency)]]*VLOOKUP(tblSalaries[[#This Row],[Currency]],tblXrate[],2,FALSE)","v":36000},"Accountant","Accountant","United Arab Emirates",{"$f":"VLOOKUP(tblSalaries[[#This Row],[Where do you work]],tblCountries[[Actual]:[Mapping]],2,FALSE)","v":"UAE"},"4 to 6 hours a day",4.5,{"$f":"VLOOKUP(K935,tblCountries[],3,0)","v":"Asia"},{"$f":"VLOOKUP(tblSalaries[[#This Row],[How many hours of a day you work on Excel]],tblHours,2,0)","v":4},{"$f":"VLOOKUP(tblSalaries[[#This Row],[clean Country]],tblCountries[],5,0)","v":1.0047551808629926},{"$f":"IF($Q$1,tblSalaries[[#This Row],[PPP Factor]]*tblSalaries[[#This Row],[Salary in USD]],tblSalaries[[#This Row],[Salary in USD]])","v":36000}]
[null,"ID0953","2012-05-28T01:30:29",57000,57000,"USD",{"$f":"tblSalaries[[#This Row],[clean Salary (in local currency)]]*VLOOKUP(tblSalaries[[#This Row],[Currency]],tblXrate[],2,FALSE)","v":57000},"Construction Engineer","Engineer","USA",{"$f":"VLOOKUP(tblSalaries[[#This Row],[Where do you work]],tblCountries[[Actual]:[Mapping]],2,FALSE)","v":"USA"},"2 to 3 hours per day",4,{"$f":"VLOOKUP(K936,tblCountries[],3,0)","v":"North Amer."},{"$f":"VLOOKUP(tblSalaries[[#This Row],[How many hours of a day you work on Excel]],tblHours,2,0)","v":3},{"$f":"VLOOKUP(tblSalaries[[#This Row],[clean Country]],tblCountries[],5,0)","v":1},{"$f":"IF($Q$1,tblSalaries[[#This Row],[PPP Factor]]*tblSalaries[[#This Row],[Salary in USD]],tblSalaries[[#This Row],[Salary in USD]])","v":57000}]
[null,"ID0954","2012-05-28T01:47:29",135000,135000,"USD",{"$f":"tblSalaries[[#This Row],[clean Salary (in local currency)]]*VLOOKUP(tblSalaries[[#This Row],[Currency]],tblXrate[],2,FALSE)","v":135000},"Marketing Insights Manager","Manager","USA",{"$f":"VLOOKUP(tblSalaries[[#This Row],[Where do you work]],tblCountries[[Actual]:[Mapping]],2,FALSE)","v":"USA"},"All the 8 hours baby, all the 8!",15,{"$f":"VLOOKUP(K937,tblCountries[],3,0)","v":"North Amer."},{"$f":"VLOOKUP(tblSalaries[[#This Row],[How many hours of a day you work on Excel]],tblHours,2,0)","v":5},{"$f":"VLOOKUP(tblSalaries[[#This Row],[clean Country]],tblCountries[],5,0)","v":1},{"$f":"IF($Q$1,tblSalaries[[#This Row],[PPP Factor]]*tblSalaries[[#This Row],[Salary in USD]],tblSalaries[[#This Row],[Salary in USD]])","v":135000}]
[null,"ID0955","2012-05-28T02:25:13",75000,75000,"EUR",{"$f":"tblSalaries[[#This Row],[clean Salary (in local currency)]]*VLOOKUP(tblSalaries[[#This Row],[Currency]],tblXrate[],2,FALSE)","v":95279.957924370581},"Risk analyst","Analyst","Netherlands",{"$f":"VLOOKUP(tblSalaries[[#This Row],[Where do you work]],tblCountries[[Actual]:[Mapping]],2,FALSE)","v":"Netherlands"},"4 to 6 hours a day",4,{"$f":"VLOOKUP(K938,tblCountries[],3,0)","v":"Europe"},{"$f":"VLOOKUP(tblSalaries[[#This Row],[How many hours of a day you work on Excel]],tblHours,2,0)","v":4},{"$f":"VLOOKUP(tblSalaries[[#This Row],[clean Country]],tblCountries[],5,0)","v":1.1470734656141099},{"$f":"IF($Q$1,tblSalaries[[#This Row],[PPP Factor]]*tblSalaries[[#This Row],[Salary in USD]],tblSalaries[[#This Row],[Salary in USD]])","v":95279.957924370581}]
[null,"ID0957","2012-05-28T03:34:14",45000,45000,"EUR",{"$f":"tblSalaries[[#This Row],[clean Salary (in local currency)]]*VLOOKUP(tblSalaries[[#This Row],[Currency]],tblXrate[],2,FALSE)","v":57167.974754622352},"data analist","Analyst","netherlands",{"$f":"VLOOKUP(tblSalaries[[#This Row],[Where do you work]],tblCountries[[Actual]:[Mapping]],2,FALSE)","v":"Netherlands"},"2 to 3 hours per day",10,{"$f":"VLOOKUP(K939,tblCountries[],3,0)","v":"Europe"},{"$f":"VLOOKUP(tblSalaries[[#This Row],[How many hours of a day you work on Excel]],tblHours,2,0)","v":3},{"$f":"VLOOKUP(tblSalaries[[#This Row],[clean Country]],tblCountries[],5,0)","v":1.1470734656141099},{"$f":"IF($Q$1,tblSalaries[[#This Row],[PPP Factor]]*tblSalaries[[#This Row],[Salary in USD]],tblSalaries[[#This Row],[Salary in USD]])","v":57167.974754622352}]
[null,"ID0958","2012-05-28T03:44:00","2,000,000 Naira",2000000,"NAIRA",{"$f":"tblSalaries[[#This Row],[clean Salary (in local currency)]]*VLOOKUP(tblSalaries[[#This Row],[Currency]],tblXrate[],2,FALSE)","v":12326.656394453004},"Head Business Advisory","Manager","Nigeria",{"$f":"VLOOKUP(tblSalaries[[#This Row],[Where do you work]],tblCountries[[Actual]:[Mapping]],2,FALSE)","v":"Nigeria"},"4 to 6 hours a day",5,{"$f":"VLOOKUP(K940,tblCountries[],3,0)","v":"Africa"},{"$f":"VLOOKUP(tblSalaries[[#This Row],[How many hours of a day you work on Excel]],tblHours,2,0)","v":4},{"$f":"VLOOKUP(tblSalaries[[#This Row],[clean Country]],tblCountries[],5,0)","v":18.769200930954227},{"$f":"IF($Q$1,tblSalaries[[#This Row],[PPP Factor]]*tblSalaries[[#This Row],[Salary in USD]],tblSalaries[[#This Row],[Salary in USD]])","v":12326.656394453004}]
[null,"ID0959","2012-05-28T04:05:14",8000,8000,"USD",{"$f":"tblSalaries[[#This Row],[clean Salary (in local currency)]]*VLOOKUP(tblSalaries[[#This Row],[Currency]],tblXrate[],2,FALSE)","v":8000},"IT Analyst","Analyst","India",{"$f":"VLOOKUP(tblSalaries[[#This Row],[Where do you work]],tblCountries[[Actual]:[Mapping]],2,FALSE)","v":"India"},"1 or 2 hours a day",5,{"$f":"VLOOKUP(K941,tblCountries[],3,0)","v":"Asia"},{"$f":"VLOOKUP(tblSalaries[[#This Row],[How many hours of a day you work on Excel]],tblHours,2,0)","v":2},{"$f":"VLOOKUP(tblSalaries[[#This Row],[clean Country]],tblCountries[],5,0)","v":13.098808879263672},{"$f":"IF($Q$1,tblSalaries[[#This Row],[PPP Factor]]*tblSalaries[[#This Row],[Salary in USD]],tblSalaries[[#This Row],[Salary in USD]])","v":8000}]
[null,"ID0960","2012-05-28T04:40:41","48000 $",48000,"USD",{"$f":"tblSalaries[[#This Row],[clean Salary (in local currency)]]*VLOOKUP(tblSalaries[[#This Row],[Currency]],tblXrate[],2,FALSE)","v":48000},"Merchandise planner","Manager","France",{"$f":"VLOOKUP(tblSalaries[[#This Row],[Where do you work]],tblCountries[[Actual]:[Mapping]],2,FALSE)","v":"France"},"4 to 6 hours a day",5,{"$f":"VLOOKUP(K942,tblCountries[],3,0)","v":"Europe"},{"$f":"VLOOKUP(tblSalaries[[#This Row],[How many hours of a day you work on Excel]],tblHours,2,0)","v":4},{"$f":"VLOOKUP(tblSalaries[[#This Row],[clean Country]],tblCountries[],5,0)","v":1.3763511207190806},{"$f":"IF($Q$1,tblSalaries[[#This Row],[PPP Factor]]*tblSalaries[[#This Row],[Salary in USD]],tblSalaries[[#This Row],[Salary in USD]])","v":48000}]
[null,"ID0961","2012-05-28T05:07:44",40000,40000,"USD",{"$f":"tblSalaries[[#This Row],[clean Salary (in local currency)]]*VLOOKUP(tblSalaries[[#This Row],[Currency]],tblXrate[],2,FALSE)","v":40000},"analyst","Analyst","NZ",{"$f":"VLOOKUP(tblSalaries[[#This Row],[Where do you work]],tblCountries[[Actual]:[Mapping]],2,FALSE)","v":"New Zealand"},"4 to 6 hours a day",5,{"$f":"VLOOKUP(K943,tblCountries[],3,0)","v":"Oceania"},{"$f":"VLOOKUP(tblSalaries[[#This Row],[How many hours of a day you work on Excel]],tblHours,2,0)","v":4},{"$f":"VLOOKUP(tblSalaries[[#This Row],[clean Country]],tblCountries[],5,0)","v":1.7488434292323261},{"$f":"IF($Q$1,tblSalaries[[#This Row],[PPP Factor]]*tblSalaries[[#This Row],[Salary in USD]],tblSalaries[[#This Row],[Salary in USD]])","v":40000}]
[null,"ID0962","2012-05-28T05:09:12","NZ$ 75000",75000,"NZD",{"$f":"tblSalaries[[#This Row],[clean Salary (in local currency)]]*VLOOKUP(tblSalaries[[#This Row],[Currency]],tblXrate[],2,FALSE)","v":59819.107020370408},"Information Analyst","Analyst","New  Zealand",{"$f":"VLOOKUP(tblSalaries[[#This Row],[Where do you work]],tblCountries[[Actual]:[Mapping]],2,FALSE)","v":"New Zealand"},"4 to 6 hours a day",10,{"$f":"VLOOKUP(K944,tblCountries[],3,0)","v":"Oceania"},{"$f":"VLOOKUP(tblSalaries[[#This Row],[How many hours of a day you work on Excel]],tblHours,2,0)","v":4},{"$f":"VLOOKUP(tblSalaries[[#This Row],[clean Country]],tblCountries[],5,0)","v":1.7488434292323261},{"$f":"IF($Q$1,tblSalaries[[#This Row],[PPP Factor]]*tblSalaries[[#This Row],[Salary in USD]],tblSalaries[[#This Row],[Salary in USD]])","v":59819.107020370408}]
[null,"ID0963","2012-05-28T05:12:38",150000,150000,"USD",{"$f":"tblSalaries[[#This Row],[clean Salary (in local currency)]]*VLOOKUP(tblSalaries[[#This Row],[Currency]],tblXrate[],2,FALSE)","v":150000},"Software Tester","Analyst","Switzerland",{"$f":"VLOOKUP(tblSalaries[[#This Row],[Where do you work]],tblCountries[[Actual]:[Mapping]],2,FALSE)","v":"Switzerland"},"1 or 2 hours a day",20,{"$f":"VLOOKUP(K945,tblCountries[],3,0)","v":"Europe"},{"$f":"VLOOKUP(tblSalaries[[#This Row],[How many hours of a day you work on Excel]],tblHours,2,0)","v":2},{"$f":"VLOOKUP(tblSalaries[[#This Row],[clean Country]],tblCountries[],5,0)","v":1.1156790408116208},{"$f":"IF($Q$1,tblSalaries[[#This Row],[PPP Factor]]*tblSalaries[[#This Row],[Salary in USD]],tblSalaries[[#This Row],[Salary in USD]])","v":150000}]
[null,"ID0964","2012-05-28T05:20:41",80000,80000,"AUD",{"$f":"tblSalaries[[#This Row],[clean Salary (in local currency)]]*VLOOKUP(tblSalaries[[#This Row],[Currency]],tblXrate[],2,FALSE)","v":81592.772512210868},"Billing manager","Manager","Australia",{"$f":"VLOOKUP(tblSalaries[[#This Row],[Where do you work]],tblCountries[[Actual]:[Mapping]],2,FALSE)","v":"Australia"},"4 to 6 hours a day",25,{"$f":"VLOOKUP(K946,tblCountries[],3,0)","v":"Oceania"},{"$f":"VLOOKUP(tblSalaries[[#This Row],[How many hours of a day you work on Excel]],tblHours,2,0)","v":4},{"$f":"VLOOKUP(tblSalaries[[#This Row],[clean Country]],tblCountries[],5,0)","v":1.2026395585822935},{"$f":"IF($Q$1,tblSalaries[[#This Row],[PPP Factor]]*tblSalaries[[#This Row],[Salary in USD]],tblSalaries[[#This Row],[Salary in USD]])","v":81592.772512210868}]
[null,"ID0965","2012-05-28T05:48:56",95000,95000,"AUD",{"$f":"tblSalaries[[#This Row],[clean Salary (in local currency)]]*VLOOKUP(tblSalaries[[#This Row],[Currency]],tblXrate[],2,FALSE)","v":96891.417358250401},"financial analyst","Analyst","Australia",{"$f":"VLOOKUP(tblSalaries[[#This Row],[Where do you work]],tblCountries[[Actual]:[Mapping]],2,FALSE)","v":"Australia"},"2 to 3 hours per day",20,{"$f":"VLOOKUP(K947,tblCountries[],3,0)","v":"Oceania"},{"$f":"VLOOKUP(tblSalaries[[#This Row],[How many hours of a day you work on Excel]],tblHours,2,0)","v":3},{"$f":"VLOOKUP(tblSalaries[[#This Row],[clean Country]],tblCountries[],5,0)","v":1.2026395585822935},{"$f":"IF($Q$1,tblSalaries[[#This Row],[PPP Factor]]*tblSalaries[[#This Row],[Salary in USD]],tblSalaries[[#This Row],[Salary in USD]])","v":96891.417358250401}]
[null,"ID0966","2012-05-28T05:51:10","AUD90000",90000,"AUD",{"$f":"tblSalaries[[#This Row],[clean Salary (in local currency)]]*VLOOKUP(tblSalaries[[#This Row],[Currency]],tblXrate[],2,FALSE)","v":91791.869076237213},"Senior Research Analyst","Analyst","Australia",{"$f":"VLOOKUP(tblSalaries[[#This Row],[Where do you work]],tblCountries[[Actual]:[Mapping]],2,FALSE)","v":"Australia"},"4 to 6 hours a day",13,{"$f":"VLOOKUP(K948,tblCountries[],3,0)","v":"Oceania"},{"$f":"VLOOKUP(tblSalaries[[#This Row],[How many hours of a day you work on Excel]],tblHours,2,0)","v":4},{"$f":"VLOOKUP(tblSalaries[[#This Row],[clean Country]],tblCountries[],5,0)","v":1.2026395585822935},{"$f":"IF($Q$1,tblSalaries[[#This Row],[PPP Factor]]*tblSalaries[[#This Row],[Salary in USD]],tblSalaries[[#This Row],[Salary in USD]])","v":91791.869076237213}]
[null,"ID0967","2012-05-28T05:51:20",15000,15000,"USD",{"$f":"tblSalaries[[#This Row],[clean Salary (in local currency)]]*VLOOKUP(tblSalaries[[#This Row],[Currency]],tblXrate[],2,FALSE)","v":15000},"Quality Executive","Analyst","India",{"$f":"VLOOKUP(tblSalaries[[#This Row],[Where do you work]],tblCountries[[Actual]:[Mapping]],2,FALSE)","v":"India"},"2 to 3 hours per day",2,{"$f":"VLOOKUP(K949,tblCountries[],3,0)","v":"Asia"},{"$f":"VLOOKUP(tblSalaries[[#This Row],[How many hours of a day you work on Excel]],tblHours,2,0)","v":3},{"$f":"VLOOKUP(tblSalaries[[#This Row],[clean Country]],tblCountries[],5,0)","v":13.098808879263672},{"$f":"IF($Q$1,tblSalaries[[#This Row],[PPP Factor]]*tblSalaries[[#This Row],[Salary in USD]],tblSalaries[[#This Row],[Salary in USD]])","v":15000}]
[null,"ID0968","2012-05-28T06:25:36","AU$65",65000,"AUD",{"$f":"tblSalaries[[#This Row],[clean Salary (in local currency)]]*VLOOKUP(tblSalaries[[#This Row],[Currency]],tblXrate[],2,FALSE)","v":66294.12766617132},"Business Support ","Manager","Australia",{"$f":"VLOOKUP(tblSalaries[[#This Row],[Where do you work]],tblCountries[[Actual]:[Mapping]],2,FALSE)","v":"Australia"},"2 to 3 hours per day",5,{"$f":"VLOOKUP(K950,tblCountries[],3,0)","v":"Oceania"},{"$f":"VLOOKUP(tblSalaries[[#This Row],[How many hours of a day you work on Excel]],tblHours,2,0)","v":3},{"$f":"VLOOKUP(tblSalaries[[#This Row],[clean Country]],tblCountries[],5,0)","v":1.2026395585822935},{"$f":"IF($Q$1,tblSalaries[[#This Row],[PPP Factor]]*tblSalaries[[#This Row],[Salary in USD]],tblSalaries[[#This Row],[Salary in USD]])","v":66294.12766617132}]
[null,"ID0969","2012-05-28T06:35:50",100000,100000,"AUD",{"$f":"tblSalaries[[#This Row],[clean Salary (in local currency)]]*VLOOKUP(tblSalaries[[#This Row],[Currency]],tblXrate[],2,FALSE)","v":101990.96564026357},"Senior Consultant","Consultant","Australia",{"$f":"VLOOKUP(tblSalaries[[#This Row],[Where do you work]],tblCountries[[Actual]:[Mapping]],2,FALSE)","v":"Australia"},"All the 8 hours baby, all the 8!",6,{"$f":"VLOOKUP(K951,tblCountries[],3,0)","v":"Oceania"},{"$f":"VLOOKUP(tblSalaries[[#This Row],[How many hours of a day you work on Excel]],tblHours,2,0)","v":5},{"$f":"VLOOKUP(tblSalaries[[#This Row],[clean Country]],tblCountries[],5,0)","v":1.2026395585822935},{"$f":"IF($Q$1,tblSalaries[[#This Row],[PPP Factor]]*tblSalaries[[#This Row],[Salary in USD]],tblSalaries[[#This Row],[Salary in USD]])","v":101990.96564026357}]
[null,"ID0970","2012-05-28T06:51:54",60000,60000,"USD",{"$f":"tblSalaries[[#This Row],[clean Salary (in local currency)]]*VLOOKUP(tblSalaries[[#This Row],[Currency]],tblXrate[],2,FALSE)","v":60000},"Sales Manager","Manager","USA",{"$f":"VLOOKUP(tblSalaries[[#This Row],[Where do you work]],tblCountries[[Actual]:[Mapping]],2,FALSE)","v":"USA"},"2 to 3 hours per day",3,{"$f":"VLOOKUP(K952,tblCountries[],3,0)","v":"North Amer."},{"$f":"VLOOKUP(tblSalaries[[#This Row],[How many hours of a day you work on Excel]],tblHours,2,0)","v":3},{"$f":"VLOOKUP(tblSalaries[[#This Row],[clean Country]],tblCountries[],5,0)","v":1},{"$f":"IF($Q$1,tblSalaries[[#This Row],[PPP Factor]]*tblSalaries[[#This Row],[Salary in USD]],tblSalaries[[#This Row],[Salary in USD]])","v":60000}]
[null,"ID0971","2012-05-28T06:52:05",43000,43000,"AUD",{"$f":"tblSalaries[[#This Row],[clean Salary (in local currency)]]*VLOOKUP(tblSalaries[[#This Row],[Currency]],tblXrate[],2,FALSE)","v":43856.11522531334},"Finance Officer","Manager","Australia",{"$f":"VLOOKUP(tblSalaries[[#This Row],[Where do you work]],tblCountries[[Actual]:[Mapping]],2,FALSE)","v":"Australia"},"All the 8 hours baby, all the 8!",1,{"$f":"VLOOKUP(K953,tblCountries[],3,0)","v":"Oceania"},{"$f":"VLOOKUP(tblSalaries[[#This Row],[How many hours of a day you work on Excel]],tblHours,2,0)","v":5},{"$f":"VLOOKUP(tblSalaries[[#This Row],[clean Country]],tblCountries[],5,0)","v":1.2026395585822935},{"$f":"IF($Q$1,tblSalaries[[#This Row],[PPP Factor]]*tblSalaries[[#This Row],[Salary in USD]],tblSalaries[[#This Row],[Salary in USD]])","v":43856.11522531334}]
[null,"ID0972","2012-05-28T06:52:05",45616,45616,"USD",{"$f":"tblSalaries[[#This Row],[clean Salary (in local currency)]]*VLOOKUP(tblSalaries[[#This Row],[Currency]],tblXrate[],2,FALSE)","v":45616},"Assistant Fleet Analyst","Analyst","Australia",{"$f":"VLOOKUP(tblSalaries[[#This Row],[Where do you work]],tblCountries[[Actual]:[Mapping]],2,FALSE)","v":"Australia"},"4 to 6 hours a day",1.5,{"$f":"VLOOKUP(K954,tblCountries[],3,0)","v":"Oceania"},{"$f":"VLOOKUP(tblSalaries[[#This Row],[How many hours of a day you work on Excel]],tblHours,2,0)","v":4},{"$f":"VLOOKUP(tblSalaries[[#This Row],[clean Country]],tblCountries[],5,0)","v":1.2026395585822935},{"$f":"IF($Q$1,tblSalaries[[#This Row],[PPP Factor]]*tblSalaries[[#This Row],[Salary in USD]],tblSalaries[[#This Row],[Salary in USD]])","v":45616}]
[null,"ID0973","2012-05-28T07:00:25",95000,95000,"NZD",{"$f":"tblSalaries[[#This Row],[clean Salary (in local currency)]]*VLOOKUP(tblSalaries[[#This Row],[Currency]],tblXrate[],2,FALSE)","v":75770.868892469181},"Cost Accountant","Accountant","New Zealand",{"$f":"VLOOKUP(tblSalaries[[#This Row],[Where do you work]],tblCountries[[Actual]:[Mapping]],2,FALSE)","v":"New Zealand"},"4 to 6 hours a day",20,{"$f":"VLOOKUP(K955,tblCountries[],3,0)","v":"Oceania"},{"$f":"VLOOKUP(tblSalaries[[#This Row],[How many hours of a day you work on Excel]],tblHours,2,0)","v":4},{"$f":"VLOOKUP(tblSalaries[[#This Row],[clean Country]],tblCountries[],5,0)","v":1.7488434292323261},{"$f":"IF($Q$1,tblSalaries[[#This Row],[PPP Factor]]*tblSalaries[[#This Row],[Salary in USD]],tblSalaries[[#This Row],[Salary in USD]])","v":75770.868892469181}]
[null,"ID0974","2012-05-28T07:21:12",56600,56600,"AUD",{"$f":"tblSalaries[[#This Row],[clean Salary (in local currency)]]*VLOOKUP(tblSalaries[[#This Row],[Currency]],tblXrate[],2,FALSE)","v":57726.886552389187},"Operations Coordinator","Manager","Australia",{"$f":"VLOOKUP(tblSalaries[[#This Row],[Where do you work]],tblCountries[[Actual]:[Mapping]],2,FALSE)","v":"Australia"},"2 to 3 hours per day",2,{"$f":"VLOOKUP(K956,tblCountries[],3,0)","v":"Oceania"},{"$f":"VLOOKUP(tblSalaries[[#This Row],[How many hours of a day you work on Excel]],tblHours,2,0)","v":3},{"$f":"VLOOKUP(tblSalaries[[#This Row],[clean Country]],tblCountries[],5,0)","v":1.2026395585822935},{"$f":"IF($Q$1,tblSalaries[[#This Row],[PPP Factor]]*tblSalaries[[#This Row],[Salary in USD]],tblSalaries[[#This Row],[Salary in USD]])","v":57726.886552389187}]
[null,"ID0975","2012-05-28T07:23:07",20000,20000,"USD",{"$f":"tblSalaries[[#This Row],[clean Salary (in local currency)]]*VLOOKUP(tblSalaries[[#This Row],[Currency]],tblXrate[],2,FALSE)","v":20000},"data analyst","Analyst","Australia",{"$f":"VLOOKUP(tblSalaries[[#This Row],[Where do you work]],tblCountries[[Actual]:[Mapping]],2,FALSE)","v":"Australia"},"2 to 3 hours per day",2,{"$f":"VLOOKUP(K957,tblCountries[],3,0)","v":"Oceania"},{"$f":"VLOOKUP(tblSalaries[[#This Row],[How many hours of a day you work on Excel]],tblHours,2,0)","v":3},{"$f":"VLOOKUP(tblSalaries[[#This Row],[clean Country]],tblCountries[],5,0)","v":1.2026395585822935},{"$f":"IF($Q$1,tblSalaries[[#This Row],[PPP Factor]]*tblSalaries[[#This Row],[Salary in USD]],tblSalaries[[#This Row],[Salary in USD]])","v":20000}]
[null,"ID0976","2012-05-28T07:28:07","AUD$200,000",200000,"AUD",{"$f":"tblSalaries[[#This Row],[clean Salary (in local currency)]]*VLOOKUP(tblSalaries[[#This Row],[Currency]],tblXrate[],2,FALSE)","v":203981.93128052715},"Corporate Finance Manager","Manager","Australia",{"$f":"VLOOKUP(tblSalaries[[#This Row],[Where do you work]],tblCountries[[Actual]:[Mapping]],2,FALSE)","v":"Australia"},"4 to 6 hours a day",15,{"$f":"VLOOKUP(K958,tblCountries[],3,0)","v":"Oceania"},{"$f":"VLOOKUP(tblSalaries[[#This Row],[How many hours of a day you work on Excel]],tblHours,2,0)","v":4},{"$f":"VLOOKUP(tblSalaries[[#This Row],[clean Country]],tblCountries[],5,0)","v":1.2026395585822935},{"$f":"IF($Q$1,tblSalaries[[#This Row],[PPP Factor]]*tblSalaries[[#This Row],[Salary in USD]],tblSalaries[[#This Row],[Salary in USD]])","v":203981.93128052715}]
[null,"ID0977","2012-05-28T07:28:34",50000,50000,"AUD",{"$f":"tblSalaries[[#This Row],[clean Salary (in local currency)]]*VLOOKUP(tblSalaries[[#This Row],[Currency]],tblXrate[],2,FALSE)","v":50995.482820131787},"Operations","Controller","Australia",{"$f":"VLOOKUP(tblSalaries[[#This Row],[Where do you work]],tblCountries[[Actual]:[Mapping]],2,FALSE)","v":"Australia"},"1 or 2 hours a day",5,{"$f":"VLOOKUP(K959,tblCountries[],3,0)","v":"Oceania"},{"$f":"VLOOKUP(tblSalaries[[#This Row],[How many hours of a day you work on Excel]],tblHours,2,0)","v":2},{"$f":"VLOOKUP(tblSalaries[[#This Row],[clean Country]],tblCountries[],5,0)","v":1.2026395585822935},{"$f":"IF($Q$1,tblSalaries[[#This Row],[PPP Factor]]*tblSalaries[[#This Row],[Salary in USD]],tblSalaries[[#This Row],[Salary in USD]])","v":50995.482820131787}]
[null,"ID0978","2012-05-28T07:29:43",125000,125000,"AUD",{"$f":"tblSalaries[[#This Row],[clean Salary (in local currency)]]*VLOOKUP(tblSalaries[[#This Row],[Currency]],tblXrate[],2,FALSE)","v":127488.70705032947},"Director, Informatics","CXO or Top Mgmt.","Australia",{"$f":"VLOOKUP(tblSalaries[[#This Row],[Where do you work]],tblCountries[[Actual]:[Mapping]],2,FALSE)","v":"Australia"},"4 to 6 hours a day",15,{"$f":"VLOOKUP(K960,tblCountries[],3,0)","v":"Oceania"},{"$f":"VLOOKUP(tblSalaries[[#This Row],[How many hours of a day you work on Excel]],tblHours,2,0)","v":4},{"$f":"VLOOKUP(tblSalaries[[#This Row],[clean Country]],tblCountries[],5,0)","v":1.2026395585822935},{"$f":"IF($Q$1,tblSalaries[[#This Row],[PPP Factor]]*tblSalaries[[#This Row],[Salary in USD]],tblSalaries[[#This Row],[Salary in USD]])","v":127488.70705032947}]
[null,"ID0979","2012-05-28T07:33:29",65000,65000,"AUD",{"$f":"tblSalaries[[#This Row],[clean Salary (in local currency)]]*VLOOKUP(tblSalaries[[#This Row],[Currency]],tblXrate[],2,FALSE)","v":66294.12766617132},"Data Analyst","Analyst","Australia",{"$f":"VLOOKUP(tblSalaries[[#This Row],[Where do you work]],tblCountries[[Actual]:[Mapping]],2,FALSE)","v":"Australia"},"4 to 6 hours a day",4,{"$f":"VLOOKUP(K961,tblCountries[],3,0)","v":"Oceania"},{"$f":"VLOOKUP(tblSalaries[[#This Row],[How many hours of a day you work on Excel]],tblHours,2,0)","v":4},{"$f":"VLOOKUP(tblSalaries[[#This Row],[clean Country]],tblCountries[],5,0)","v":1.2026395585822935},{"$f":"IF($Q$1,tblSalaries[[#This Row],[PPP Factor]]*tblSalaries[[#This Row],[Salary in USD]],tblSalaries[[#This Row],[Salary in USD]])","v":66294.12766617132}]
[null,"ID0980","2012-05-28T07:39:22",62000,62000,"AUD",{"$f":"tblSalaries[[#This Row],[clean Salary (in local currency)]]*VLOOKUP(tblSalaries[[#This Row],[Currency]],tblXrate[],2,FALSE)","v":63234.398696963413},"Business Analyst","Analyst","Australia",{"$f":"VLOOKUP(tblSalaries[[#This Row],[Where do you work]],tblCountries[[Actual]:[Mapping]],2,FALSE)","v":"Australia"},"4 to 6 hours a day",3,{"$f":"VLOOKUP(K962,tblCountries[],3,0)","v":"Oceania"},{"$f":"VLOOKUP(tblSalaries[[#This Row],[How many hours of a day you work on Excel]],tblHours,2,0)","v":4},{"$f":"VLOOKUP(tblSalaries[[#This Row],[clean Country]],tblCountries[],5,0)","v":1.2026395585822935},{"$f":"IF($Q$1,tblSalaries[[#This Row],[PPP Factor]]*tblSalaries[[#This Row],[Salary in USD]],tblSalaries[[#This Row],[Salary in USD]])","v":63234.398696963413}]
[null,"ID0981","2012-05-28T07:46:28",260000,260000,"USD",{"$f":"tblSalaries[[#This Row],[clean Salary (in local currency)]]*VLOOKUP(tblSalaries[[#This Row],[Currency]],tblXrate[],2,FALSE)","v":260000},"CFO","CXO or Top Mgmt.","USA",{"$f":"VLOOKUP(tblSalaries[[#This Row],[Where do you work]],tblCountries[[Actual]:[Mapping]],2,FALSE)","v":"USA"},"2 to 3 hours per day",10,{"$f":"VLOOKUP(K963,tblCountries[],3,0)","v":"North Amer."},{"$f":"VLOOKUP(tblSalaries[[#This Row],[How many hours of a day you work on Excel]],tblHours,2,0)","v":3},{"$f":"VLOOKUP(tblSalaries[[#This Row],[clean Country]],tblCountries[],5,0)","v":1},{"$f":"IF($Q$1,tblSalaries[[#This Row],[PPP Factor]]*tblSalaries[[#This Row],[Salary in USD]],tblSalaries[[#This Row],[Salary in USD]])","v":260000}]
[null,"ID0983","2012-05-28T07:59:49",110000,110000,"AUD",{"$f":"tblSalaries[[#This Row],[clean Salary (in local currency)]]*VLOOKUP(tblSalaries[[#This Row],[Currency]],tblXrate[],2,FALSE)","v":112190.06220428993},"Sustainability Strategy Advisor","Manager","Australia",{"$f":"VLOOKUP(tblSalaries[[#This Row],[Where do you work]],tblCountries[[Actual]:[Mapping]],2,FALSE)","v":"Australia"},"2 to 3 hours per day",8,{"$f":"VLOOKUP(K964,tblCountries[],3,0)","v":"Oceania"},{"$f":"VLOOKUP(tblSalaries[[#This Row],[How many hours of a day you work on Excel]],tblHours,2,0)","v":3},{"$f":"VLOOKUP(tblSalaries[[#This Row],[clean Country]],tblCountries[],5,0)","v":1.2026395585822935},{"$f":"IF($Q$1,tblSalaries[[#This Row],[PPP Factor]]*tblSalaries[[#This Row],[Salary in USD]],tblSalaries[[#This Row],[Salary in USD]])","v":112190.06220428993}]
[null,"ID0984","2012-05-28T08:03:10","AUD$70,000",70000,"AUD",{"$f":"tblSalaries[[#This Row],[clean Salary (in local currency)]]*VLOOKUP(tblSalaries[[#This Row],[Currency]],tblXrate[],2,FALSE)","v":71393.675948184507},"Business Development","Manager","Australia",{"$f":"VLOOKUP(tblSalaries[[#This Row],[Where do you work]],tblCountries[[Actual]:[Mapping]],2,FALSE)","v":"Australia"},"4 to 6 hours a day",7,{"$f":"VLOOKUP(K965,tblCountries[],3,0)","v":"Oceania"},{"$f":"VLOOKUP(tblSalaries[[#This Row],[How many hours of a day you work on Excel]],tblHours,2,0)","v":4},{"$f":"VLOOKUP(tblSalaries[[#This Row],[clean Country]],tblCountries[],5,0)","v":1.2026395585822935},{"$f":"IF($Q$1,tblSalaries[[#This Row],[PPP Factor]]*tblSalaries[[#This Row],[Salary in USD]],tblSalaries[[#This Row],[Salary in USD]])","v":71393.675948184507}]
[null,"ID0985","2012-05-28T08:22:44","USD 85000.00",85000,"USD",{"$f":"tblSalaries[[#This Row],[clean Salary (in local currency)]]*VLOOKUP(tblSalaries[[#This Row],[Currency]],tblXrate[],2,FALSE)","v":85000},"Reporting and DB Analyist","Reporting","Australia",{"$f":"VLOOKUP(tblSalaries[[#This Row],[Where do you work]],tblCountries[[Actual]:[Mapping]],2,FALSE)","v":"Australia"},"4 to 6 hours a day",8,{"$f":"VLOOKUP(K966,tblCountries[],3,0)","v":"Oceania"},{"$f":"VLOOKUP(tblSalaries[[#This Row],[How many hours of a day you work on Excel]],tblHours,2,0)","v":4},{"$f":"VLOOKUP(tblSalaries[[#This Row],[clean Country]],tblCountries[],5,0)","v":1.2026395585822935},{"$f":"IF($Q$1,tblSalaries[[#This Row],[PPP Factor]]*tblSalaries[[#This Row],[Salary in USD]],tblSalaries[[#This Row],[Salary in USD]])","v":85000}]
[null,"ID0986","2012-05-28T08:26:43",94000,94000,"AUD",{"$f":"tblSalaries[[#This Row],[clean Salary (in local currency)]]*VLOOKUP(tblSalaries[[#This Row],[Currency]],tblXrate[],2,FALSE)","v":95871.50770184776},"Business Analyst","Analyst","Australia",{"$f":"VLOOKUP(tblSalaries[[#This Row],[Where do you work]],tblCountries[[Actual]:[Mapping]],2,FALSE)","v":"Australia"},"2 to 3 hours per day",2.5,{"$f":"VLOOKUP(K967,tblCountries[],3,0)","v":"Oceania"},{"$f":"VLOOKUP(tblSalaries[[#This Row],[How many hours of a day you work on Excel]],tblHours,2,0)","v":3},{"$f":"VLOOKUP(tblSalaries[[#This Row],[clean Country]],tblCountries[],5,0)","v":1.2026395585822935},{"$f":"IF($Q$1,tblSalaries[[#This Row],[PPP Factor]]*tblSalaries[[#This Row],[Salary in USD]],tblSalaries[[#This Row],[Salary in USD]])","v":95871.50770184776}]
[null,"ID0987","2012-05-28T08:35:32","A$107000",107000,"AUD",{"$f":"tblSalaries[[#This Row],[clean Salary (in local currency)]]*VLOOKUP(tblSalaries[[#This Row],[Currency]],tblXrate[],2,FALSE)","v":109130.33323508203},"Management Accountant","Manager","Australia",{"$f":"VLOOKUP(tblSalaries[[#This Row],[Where do you work]],tblCountries[[Actual]:[Mapping]],2,FALSE)","v":"Australia"},"4 to 6 hours a day",35,{"$f":"VLOOKUP(K968,tblCountries[],3,0)","v":"Oceania"},{"$f":"VLOOKUP(tblSalaries[[#This Row],[How many hours of a day you work on Excel]],tblHours,2,0)","v":4},{"$f":"VLOOKUP(tblSalaries[[#This Row],[clean Country]],tblCountries[],5,0)","v":1.2026395585822935},{"$f":"IF($Q$1,tblSalaries[[#This Row],[PPP Factor]]*tblSalaries[[#This Row],[Salary in USD]],tblSalaries[[#This Row],[Salary in USD]])","v":109130.33323508203}]
[null,"ID0988","2012-05-28T08:39:53",3000,36000,"USD",{"$f":"tblSalaries[[#This Row],[clean Salary (in local currency)]]*VLOOKUP(tblSalaries[[#This Row],[Currency]],tblXrate[],2,FALSE)","v":36000},"Project manager","Manager","malaysia",{"$f":"VLOOKUP(tblSalaries[[#This Row],[Where do you work]],tblCountries[[Actual]:[Mapping]],2,FALSE)","v":"Malaysia"},"1 or 2 hours a day",3,{"$f":"VLOOKUP(K969,tblCountries[],3,0)","v":"Asia"},{"$f":"VLOOKUP(tblSalaries[[#This Row],[How many hours of a day you work on Excel]],tblHours,2,0)","v":2},{"$f":"VLOOKUP(tblSalaries[[#This Row],[clean Country]],tblCountries[],5,0)","v":3.1081063720452211},{"$f":"IF($Q$1,tblSalaries[[#This Row],[PPP Factor]]*tblSalaries[[#This Row],[Salary in USD]],tblSalaries[[#This Row],[Salary in USD]])","v":36000}]
[null,"ID0989","2012-05-28T08:41:13",120000,120000,"AUD",{"$f":"tblSalaries[[#This Row],[clean Salary (in local currency)]]*VLOOKUP(tblSalaries[[#This Row],[Currency]],tblXrate[],2,FALSE)","v":122389.15876831629},"analyst","Analyst","Australia",{"$f":"VLOOKUP(tblSalaries[[#This Row],[Where do you work]],tblCountries[[Actual]:[Mapping]],2,FALSE)","v":"Australia"},"4 to 6 hours a day",2,{"$f":"VLOOKUP(K970,tblCountries[],3,0)","v":"Oceania"},{"$f":"VLOOKUP(tblSalaries[[#This Row],[How many hours of a day you work on Excel]],tblHours,2,0)","v":4},{"$f":"VLOOKUP(tblSalaries[[#This Row],[clean Country]],tblCountries[],5,0)","v":1.2026395585822935},{"$f":"IF($Q$1,tblSalaries[[#This Row],[PPP Factor]]*tblSalaries[[#This Row],[Salary in USD]],tblSalaries[[#This Row],[Salary in USD]])","v":122389.15876831629}]
[null,"ID0990","2012-05-28T08:47:39","AU$52.000",52000,"AUD",{"$f":"tblSalaries[[#This Row],[clean Salary (in local currency)]]*VLOOKUP(tblSalaries[[#This Row],[Currency]],tblXrate[],2,FALSE)","v":53035.30213293706},"Shipping Administrator","Analyst","Australia",{"$f":"VLOOKUP(tblSalaries[[#This Row],[Where do you work]],tblCountries[[Actual]:[Mapping]],2,FALSE)","v":"Australia"},"4 to 6 hours a day",4,{"$f":"VLOOKUP(K971,tblCountries[],3,0)","v":"Oceania"},{"$f":"VLOOKUP(tblSalaries[[#This Row],[How many hours of a day you work on Excel]],tblHours,2,0)","v":4},{"$f":"VLOOKUP(tblSalaries[[#This Row],[clean Country]],tblCountries[],5,0)","v":1.2026395585822935},{"$f":"IF($Q$1,tblSalaries[[#This Row],[PPP Factor]]*tblSalaries[[#This Row],[Salary in USD]],tblSalaries[[#This Row],[Salary in USD]])","v":53035.30213293706}]
[null,"ID0991","2012-05-28T08:48:56",125000,125000,"USD",{"$f":"tblSalaries[[#This Row],[clean Salary (in local currency)]]*VLOOKUP(tblSalaries[[#This Row],[Currency]],tblXrate[],2,FALSE)","v":125000},"VP, Operational Analytics","CXO or Top Mgmt.","USA",{"$f":"VLOOKUP(tblSalaries[[#This Row],[Where do you work]],tblCountries[[Actual]:[Mapping]],2,FALSE)","v":"USA"},"4 to 6 hours a day",10,{"$f":"VLOOKUP(K972,tblCountries[],3,0)","v":"North Amer."},{"$f":"VLOOKUP(tblSalaries[[#This Row],[How many hours of a day you work on Excel]],tblHours,2,0)","v":4},{"$f":"VLOOKUP(tblSalaries[[#This Row],[clean Country]],tblCountries[],5,0)","v":1},{"$f":"IF($Q$1,tblSalaries[[#This Row],[PPP Factor]]*tblSalaries[[#This Row],[Salary in USD]],tblSalaries[[#This Row],[Salary in USD]])","v":125000}]
[null,"ID0992","2012-05-28T09:03:56",19000,19000,"USD",{"$f":"tblSalaries[[#This Row],[clean Salary (in local currency)]]*VLOOKUP(tblSalaries[[#This Row],[Currency]],tblXrate[],2,FALSE)","v":19000},"Finance analyst","Analyst","China",{"$f":"VLOOKUP(tblSalaries[[#This Row],[Where do you work]],tblCountries[[Actual]:[Mapping]],2,FALSE)","v":"china"},"4 to 6 hours a day",6,{"$f":"VLOOKUP(K973,tblCountries[],3,0)","v":"Asia"},{"$f":"VLOOKUP(tblSalaries[[#This Row],[How many hours of a day you work on Excel]],tblHours,2,0)","v":4},{"$f":"VLOOKUP(tblSalaries[[#This Row],[clean Country]],tblCountries[],5,0)","v":5.7727272727272725},{"$f":"IF($Q$1,tblSalaries[[#This Row],[PPP Factor]]*tblSalaries[[#This Row],[Salary in USD]],tblSalaries[[#This Row],[Salary in USD]])","v":19000}]
[null,"ID0993","2012-05-28T09:12:27",92000,92000,"AUD",{"$f":"tblSalaries[[#This Row],[clean Salary (in local currency)]]*VLOOKUP(tblSalaries[[#This Row],[Currency]],tblXrate[],2,FALSE)","v":93831.688389042494},"Finance analyst","Analyst","Australia",{"$f":"VLOOKUP(tblSalaries[[#This Row],[Where do you work]],tblCountries[[Actual]:[Mapping]],2,FALSE)","v":"Australia"},"All the 8 hours baby, all the 8!",6,{"$f":"VLOOKUP(K974,tblCountries[],3,0)","v":"Oceania"},{"$f":"VLOOKUP(tblSalaries[[#This Row],[How many hours of a day you work on Excel]],tblHours,2,0)","v":5},{"$f":"VLOOKUP(tblSalaries[[#This Row],[clean Country]],tblCountries[],5,0)","v":1.2026395585822935},{"$f":"IF($Q$1,tblSalaries[[#This Row],[PPP Factor]]*tblSalaries[[#This Row],[Salary in USD]],tblSalaries[[#This Row],[Salary in USD]])","v":93831.688389042494}]
[null,"ID0994","2012-05-28T09:21:56",100000,100000,"AUD",{"$f":"tblSalaries[[#This Row],[clean Salary (in local currency)]]*VLOOKUP(tblSalaries[[#This Row],[Currency]],tblXrate[],2,FALSE)","v":101990.96564026357},"Reporting Analyst","Analyst","Australia",{"$f":"VLOOKUP(tblSalaries[[#This Row],[Where do you work]],tblCountries[[Actual]:[Mapping]],2,FALSE)","v":"Australia"},"4 to 6 hours a day",20,{"$f":"VLOOKUP(K975,tblCountries[],3,0)","v":"Oceania"},{"$f":"VLOOKUP(tblSalaries[[#This Row],[How many hours of a day you work on Excel]],tblHours,2,0)","v":4},{"$f":"VLOOKUP(tblSalaries[[#This Row],[clean Country]],tblCountries[],5,0)","v":1.2026395585822935},{"$f":"IF($Q$1,tblSalaries[[#This Row],[PPP Factor]]*tblSalaries[[#This Row],[Salary in USD]],tblSalaries[[#This Row],[Salary in USD]])","v":101990.96564026357}]
[null,"ID0995","2012-05-28T09:26:10",120000,120000,"AUD",{"$f":"tblSalaries[[#This Row],[clean Salary (in local currency)]]*VLOOKUP(tblSalaries[[#This Row],[Currency]],tblXrate[],2,FALSE)","v":122389.15876831629},"HSLP Data Analyst","Analyst","Australia",{"$f":"VLOOKUP(tblSalaries[[#This Row],[Where do you work]],tblCountries[[Actual]:[Mapping]],2,FALSE)","v":"Australia"},"4 to 6 hours a day",5,{"$f":"VLOOKUP(K976,tblCountries[],3,0)","v":"Oceania"},{"$f":"VLOOKUP(tblSalaries[[#This Row],[How many hours of a day you work on Excel]],tblHours,2,0)","v":4},{"$f":"VLOOKUP(tblSalaries[[#This Row],[clean Country]],tblCountries[],5,0)","v":1.2026395585822935},{"$f":"IF($Q$1,tblSalaries[[#This Row],[PPP Factor]]*tblSalaries[[#This Row],[Salary in USD]],tblSalaries[[#This Row],[Salary in USD]])","v":122389.15876831629}]
[null,"ID0996","2012-05-28T09:38:29",35000,35000,"CAD",{"$f":"tblSalaries[[#This Row],[clean Salary (in local currency)]]*VLOOKUP(tblSalaries[[#This Row],[Currency]],tblXrate[],2,FALSE)","v":34417.653306061438},"Reporting Analyst","Analyst","Canada",{"$f":"VLOOKUP(tblSalaries[[#This Row],[Where do you work]],tblCountries[[Actual]:[Mapping]],2,FALSE)","v":"Canada"},"All the 8 hours baby, all the 8!",4,{"$f":"VLOOKUP(K977,tblCountries[],3,0)","v":"North Amer."},{"$f":"VLOOKUP(tblSalaries[[#This Row],[How many hours of a day you work on Excel]],tblHours,2,0)","v":5},{"$f":"VLOOKUP(tblSalaries[[#This Row],[clean Country]],tblCountries[],5,0)","v":1.1935324732986359},{"$f":"IF($Q$1,tblSalaries[[#This Row],[PPP Factor]]*tblSalaries[[#This Row],[Salary in USD]],tblSalaries[[#This Row],[Salary in USD]])","v":34417.653306061438}]
[null,"ID0997","2012-05-28T09:40:10","US$12,000/year",12000,"USD",{"$f":"tblSalaries[[#This Row],[clean Salary (in local currency)]]*VLOOKUP(tblSalaries[[#This Row],[Currency]],tblXrate[],2,FALSE)","v":12000},"Manager","Manager","Asia",{"$f":"VLOOKUP(tblSalaries[[#This Row],[Where do you work]],tblCountries[[Actual]:[Mapping]],2,FALSE)","v":"Asia"},"All the 8 hours baby, all the 8!",3,{"$f":"VLOOKUP(K978,tblCountries[],3,0)","v":"Asia"},{"$f":"VLOOKUP(tblSalaries[[#This Row],[How many hours of a day you work on Excel]],tblHours,2,0)","v":5},{"$f":"VLOOKUP(tblSalaries[[#This Row],[clean Country]],tblCountries[],5,0)","v":1},{"$f":"IF($Q$1,tblSalaries[[#This Row],[PPP Factor]]*tblSalaries[[#This Row],[Salary in USD]],tblSalaries[[#This Row],[Salary in USD]])","v":12000}]
[null,"ID0998","2012-05-28T09:41:04",204000,204000,"INR",{"$f":"tblSalaries[[#This Row],[clean Salary (in local currency)]]*VLOOKUP(tblSalaries[[#This Row],[Currency]],tblXrate[],2,FALSE)","v":3632.815004238284},"Retired Government Officer, having knowledge in excel.","Manager","India",{"$f":"VLOOKUP(tblSalaries[[#This Row],[Where do you work]],tblCountries[[Actual]:[Mapping]],2,FALSE)","v":"India"},"4 to 6 hours a day",0,{"$f":"VLOOKUP(K979,tblCountries[],3,0)","v":"Asia"},{"$f":"VLOOKUP(tblSalaries[[#This Row],[How many hours of a day you work on Excel]],tblHours,2,0)","v":4},{"$f":"VLOOKUP(tblSalaries[[#This Row],[clean Country]],tblCountries[],5,0)","v":13.098808879263672},{"$f":"IF($Q$1,tblSalaries[[#This Row],[PPP Factor]]*tblSalaries[[#This Row],[Salary in USD]],tblSalaries[[#This Row],[Salary in USD]])","v":3632.815004238284}]
[null,"ID0999","2012-05-28T09:43:33","1200000 INR",1200000,"INR",{"$f":"tblSalaries[[#This Row],[clean Salary (in local currency)]]*VLOOKUP(tblSalaries[[#This Row],[Currency]],tblXrate[],2,FALSE)","v":21369.500024931083},"Senior Consultant","Consultant","India",{"$f":"VLOOKUP(tblSalaries[[#This Row],[Where do you work]],tblCountries[[Actual]:[Mapping]],2,FALSE)","v":"India"},"All the 8 hours baby, all the 8!",6,{"$f":"VLOOKUP(K980,tblCountries[],3,0)","v":"Asia"},{"$f":"VLOOKUP(tblSalaries[[#This Row],[How many hours of a day you work on Excel]],tblHours,2,0)","v":5},{"$f":"VLOOKUP(tblSalaries[[#This Row],[clean Country]],tblCountries[],5,0)","v":13.098808879263672},{"$f":"IF($Q$1,tblSalaries[[#This Row],[PPP Factor]]*tblSalaries[[#This Row],[Salary in USD]],tblSalaries[[#This Row],[Salary in USD]])","v":21369.500024931083}]
[null,"ID1000","2012-05-28T09:51:24","Rs. 500000",500000,"INR",{"$f":"tblSalaries[[#This Row],[clean Salary (in local currency)]]*VLOOKUP(tblSalaries[[#This Row],[Currency]],tblXrate[],2,FALSE)","v":8903.9583437212841},"Business Analyst","Analyst","India",{"$f":"VLOOKUP(tblSalaries[[#This Row],[Where do you work]],tblCountries[[Actual]:[Mapping]],2,FALSE)","v":"India"},"4 to 6 hours a day",7,{"$f":"VLOOKUP(K981,tblCountries[],3,0)","v":"Asia"},{"$f":"VLOOKUP(tblSalaries[[#This Row],[How many hours of a day you work on Excel]],tblHours,2,0)","v":4},{"$f":"VLOOKUP(tblSalaries[[#This Row],[clean Country]],tblCountries[],5,0)","v":13.098808879263672},{"$f":"IF($Q$1,tblSalaries[[#This Row],[PPP Factor]]*tblSalaries[[#This Row],[Salary in USD]],tblSalaries[[#This Row],[Salary in USD]])","v":8903.9583437212841}]
[null,"ID1001","2012-05-28T10:15:27","RM48,000",48000,"MYR",{"$f":"tblSalaries[[#This Row],[clean Salary (in local currency)]]*VLOOKUP(tblSalaries[[#This Row],[Currency]],tblXrate[],2,FALSE)","v":15206.427249917633},"Credit Risk Manager","Manager","Malaysia",{"$f":"VLOOKUP(tblSalaries[[#This Row],[Where do you work]],tblCountries[[Actual]:[Mapping]],2,FALSE)","v":"Malaysia"},"4 to 6 hours a day",2,{"$f":"VLOOKUP(K982,tblCountries[],3,0)","v":"Asia"},{"$f":"VLOOKUP(tblSalaries[[#This Row],[How many hours of a day you work on Excel]],tblHours,2,0)","v":4},{"$f":"VLOOKUP(tblSalaries[[#This Row],[clean Country]],tblCountries[],5,0)","v":3.1081063720452211},{"$f":"IF($Q$1,tblSalaries[[#This Row],[PPP Factor]]*tblSalaries[[#This Row],[Salary in USD]],tblSalaries[[#This Row],[Salary in USD]])","v":15206.427249917633}]
[null,"ID1002","2012-05-28T10:21:58","NZD 180000",180000,"NZD",{"$f":"tblSalaries[[#This Row],[clean Salary (in local currency)]]*VLOOKUP(tblSalaries[[#This Row],[Currency]],tblXrate[],2,FALSE)","v":143565.85684888897},"Commercial Manager","Manager","New Zealand",{"$f":"VLOOKUP(tblSalaries[[#This Row],[Where do you work]],tblCountries[[Actual]:[Mapping]],2,FALSE)","v":"New Zealand"},"4 to 6 hours a day",25,{"$f":"VLOOKUP(K983,tblCountries[],3,0)","v":"Oceania"},{"$f":"VLOOKUP(tblSalaries[[#This Row],[How many hours of a day you work on Excel]],tblHours,2,0)","v":4},{"$f":"VLOOKUP(tblSalaries[[#This Row],[clean Country]],tblCountries[],5,0)","v":1.7488434292323261},{"$f":"IF($Q$1,tblSalaries[[#This Row],[PPP Factor]]*tblSalaries[[#This Row],[Salary in USD]],tblSalaries[[#This Row],[Salary in USD]])","v":143565.85684888897}]
[null,"ID1003","2012-05-28T10:25:51","Rs.5,45,000",545000,"INR",{"$f":"tblSalaries[[#This Row],[clean Salary (in local currency)]]*VLOOKUP(tblSalaries[[#This Row],[Currency]],tblXrate[],2,FALSE)","v":9705.3145946561999},"Assistant Manager","Manager","India",{"$f":"VLOOKUP(tblSalaries[[#This Row],[Where do you work]],tblCountries[[Actual]:[Mapping]],2,FALSE)","v":"India"},"2 to 3 hours per day",6,{"$f":"VLOOKUP(K984,tblCountries[],3,0)","v":"Asia"},{"$f":"VLOOKUP(tblSalaries[[#This Row],[How many hours of a day you work on Excel]],tblHours,2,0)","v":3},{"$f":"VLOOKUP(tblSalaries[[#This Row],[clean Country]],tblCountries[],5,0)","v":13.098808879263672},{"$f":"IF($Q$1,tblSalaries[[#This Row],[PPP Factor]]*tblSalaries[[#This Row],[Salary in USD]],tblSalaries[[#This Row],[Salary in USD]])","v":9705.3145946561999}]
[null,"ID1004","2012-05-28T10:27:45","Rs.10,00,000",1000000,"INR",{"$f":"tblSalaries[[#This Row],[clean Salary (in local currency)]]*VLOOKUP(tblSalaries[[#This Row],[Currency]],tblXrate[],2,FALSE)","v":17807.916687442568},"Credit Manager - Loans","Manager","India",{"$f":"VLOOKUP(tblSalaries[[#This Row],[Where do you work]],tblCountries[[Actual]:[Mapping]],2,FALSE)","v":"India"},"All the 8 hours baby, all the 8!",8,{"$f":"VLOOKUP(K985,tblCountries[],3,0)","v":"Asia"},{"$f":"VLOOKUP(tblSalaries[[#This Row],[How many hours of a day you work on Excel]],tblHours,2,0)","v":5},{"$f":"VLOOKUP(tblSalaries[[#This Row],[clean Country]],tblCountries[],5,0)","v":13.098808879263672},{"$f":"IF($Q$1,tblSalaries[[#This Row],[PPP Factor]]*tblSalaries[[#This Row],[Salary in USD]],tblSalaries[[#This Row],[Salary in USD]])","v":17807.916687442568}]
[null,"ID1005","2012-05-28T10:27:48",180000,180000,"INR",{"$f":"tblSalaries[[#This Row],[clean Salary (in local currency)]]*VLOOKUP(tblSalaries[[#This Row],[Currency]],tblXrate[],2,FALSE)","v":3205.4250037396623},"Audit executive","Analyst","INDIA",{"$f":"VLOOKUP(tblSalaries[[#This Row],[Where do you work]],tblCountries[[Actual]:[Mapping]],2,FALSE)","v":"India"},"4 to 6 hours a day",10,{"$f":"VLOOKUP(K986,tblCountries[],3,0)","v":"Asia"},{"$f":"VLOOKUP(tblSalaries[[#This Row],[How many hours of a day you work on Excel]],tblHours,2,0)","v":4},{"$f":"VLOOKUP(tblSalaries[[#This Row],[clean Country]],tblCountries[],5,0)","v":13.098808879263672},{"$f":"IF($Q$1,tblSalaries[[#This Row],[PPP Factor]]*tblSalaries[[#This Row],[Salary in USD]],tblSalaries[[#This Row],[Salary in USD]])","v":3205.4250037396623}]
[null,"ID1006","2012-05-28T10:29:41","$45,000  USD",45000,"USD",{"$f":"tblSalaries[[#This Row],[clean Salary (in local currency)]]*VLOOKUP(tblSalaries[[#This Row],[Currency]],tblXrate[],2,FALSE)","v":45000},"Staff accountant -- Auditing","Accountant","USA",{"$f":"VLOOKUP(tblSalaries[[#This Row],[Where do you work]],tblCountries[[Actual]:[Mapping]],2,FALSE)","v":"USA"},"All the 8 hours baby, all the 8!",3,{"$f":"VLOOKUP(K987,tblCountries[],3,0)","v":"North Amer."},{"$f":"VLOOKUP(tblSalaries[[#This Row],[How many hours of a day you work on Excel]],tblHours,2,0)","v":5},{"$f":"VLOOKUP(tblSalaries[[#This Row],[clean Country]],tblCountries[],5,0)","v":1},{"$f":"IF($Q$1,tblSalaries[[#This Row],[PPP Factor]]*tblSalaries[[#This Row],[Salary in USD]],tblSalaries[[#This Row],[Salary in USD]])","v":45000}]
[null,"ID1007","2012-05-28T10:38:53",700000,700000,"INR",{"$f":"tblSalaries[[#This Row],[clean Salary (in local currency)]]*VLOOKUP(tblSalaries[[#This Row],[Currency]],tblXrate[],2,FALSE)","v":12465.541681209797},"Asst Manager - Quality","Manager","India",{"$f":"VLOOKUP(tblSalaries[[#This Row],[Where do you work]],tblCountries[[Actual]:[Mapping]],2,FALSE)","v":"India"},"2 to 3 hours per day",7,{"$f":"VLOOKUP(K988,tblCountries[],3,0)","v":"Asia"},{"$f":"VLOOKUP(tblSalaries[[#This Row],[How many hours of a day you work on Excel]],tblHours,2,0)","v":3},{"$f":"VLOOKUP(tblSalaries[[#This Row],[clean Country]],tblCountries[],5,0)","v":13.098808879263672},{"$f":"IF($Q$1,tblSalaries[[#This Row],[PPP Factor]]*tblSalaries[[#This Row],[Salary in USD]],tblSalaries[[#This Row],[Salary in USD]])","v":12465.541681209797}]
[null,"ID1008","2012-05-28T10:41:38",94000,94000,"AUD",{"$f":"tblSalaries[[#This Row],[clean Salary (in local currency)]]*VLOOKUP(tblSalaries[[#This Row],[Currency]],tblXrate[],2,FALSE)","v":95871.50770184776},"Principal Analyst","Analyst","Australia",{"$f":"VLOOKUP(tblSalaries[[#This Row],[Where do you work]],tblCountries[[Actual]:[Mapping]],2,FALSE)","v":"Australia"},"2 to 3 hours per day",14,{"$f":"VLOOKUP(K989,tblCountries[],3,0)","v":"Oceania"},{"$f":"VLOOKUP(tblSalaries[[#This Row],[How many hours of a day you work on Excel]],tblHours,2,0)","v":3},{"$f":"VLOOKUP(tblSalaries[[#This Row],[clean Country]],tblCountries[],5,0)","v":1.2026395585822935},{"$f":"IF($Q$1,tblSalaries[[#This Row],[PPP Factor]]*tblSalaries[[#This Row],[Salary in USD]],tblSalaries[[#This Row],[Salary in USD]])","v":95871.50770184776}]
[null,"ID1009","2012-05-28T10:42:08",170000,170000,"AUD",{"$f":"tblSalaries[[#This Row],[clean Salary (in local currency)]]*VLOOKUP(tblSalaries[[#This Row],[Currency]],tblXrate[],2,FALSE)","v":173384.64158844808},"Business Consultant","Consultant","Australia",{"$f":"VLOOKUP(tblSalaries[[#This Row],[Where do you work]],tblCountries[[Actual]:[Mapping]],2,FALSE)","v":"Australia"},"2 to 3 hours per day",8,{"$f":"VLOOKUP(K990,tblCountries[],3,0)","v":"Oceania"},{"$f":"VLOOKUP(tblSalaries[[#This Row],[How many hours of a day you work on Excel]],tblHours,2,0)","v":3},{"$f":"VLOOKUP(tblSalaries[[#This Row],[clean Country]],tblCountries[],5,0)","v":1.2026395585822935},{"$f":"IF($Q$1,tblSalaries[[#This Row],[PPP Factor]]*tblSalaries[[#This Row],[Salary in USD]],tblSalaries[[#This Row],[Salary in USD]])","v":173384.64158844808}]
[null,"ID1010","2012-05-28T11:11:53",650000,650000,"INR",{"$f":"tblSalaries[[#This Row],[clean Salary (in local currency)]]*VLOOKUP(tblSalaries[[#This Row],[Currency]],tblXrate[],2,FALSE)","v":11575.14584683767},"Ass Research  Manager","Manager","India",{"$f":"VLOOKUP(tblSalaries[[#This Row],[Where do you work]],tblCountries[[Actual]:[Mapping]],2,FALSE)","v":"India"},"2 to 3 hours per day",1,{"$f":"VLOOKUP(K991,tblCountries[],3,0)","v":"Asia"},{"$f":"VLOOKUP(tblSalaries[[#This Row],[How many hours of a day you work on Excel]],tblHours,2,0)","v":3},{"$f":"VLOOKUP(tblSalaries[[#This Row],[clean Country]],tblCountries[],5,0)","v":13.098808879263672},{"$f":"IF($Q$1,tblSalaries[[#This Row],[PPP Factor]]*tblSalaries[[#This Row],[Salary in USD]],tblSalaries[[#This Row],[Salary in USD]])","v":11575.14584683767}]
[null,"ID1011","2012-05-28T11:31:20",18000,18000,"USD",{"$f":"tblSalaries[[#This Row],[clean Salary (in local currency)]]*VLOOKUP(tblSalaries[[#This Row],[Currency]],tblXrate[],2,FALSE)","v":18000},"Data Specialist","Specialist","India",{"$f":"VLOOKUP(tblSalaries[[#This Row],[Where do you work]],tblCountries[[Actual]:[Mapping]],2,FALSE)","v":"India"},"All the 8 hours baby, all the 8!",8,{"$f":"VLOOKUP(K992,tblCountries[],3,0)","v":"Asia"},{"$f":"VLOOKUP(tblSalaries[[#This Row],[How many hours of a day you work on Excel]],tblHours,2,0)","v":5},{"$f":"VLOOKUP(tblSalaries[[#This Row],[clean Country]],tblCountries[],5,0)","v":13.098808879263672},{"$f":"IF($Q$1,tblSalaries[[#This Row],[PPP Factor]]*tblSalaries[[#This Row],[Salary in USD]],tblSalaries[[#This Row],[Salary in USD]])","v":18000}]
[null,"ID1012","2012-05-28T11:33:05","AUD$70,000",70000,"AUD",{"$f":"tblSalaries[[#This Row],[clean Salary (in local currency)]]*VLOOKUP(tblSalaries[[#This Row],[Currency]],tblXrate[],2,FALSE)","v":71393.675948184507},"Director","CXO or Top Mgmt.","Australia",{"$f":"VLOOKUP(tblSalaries[[#This Row],[Where do you work]],tblCountries[[Actual]:[Mapping]],2,FALSE)","v":"Australia"},"All the 8 hours baby, all the 8!",2,{"$f":"VLOOKUP(K993,tblCountries[],3,0)","v":"Oceania"},{"$f":"VLOOKUP(tblSalaries[[#This Row],[How many hours of a day you work on Excel]],tblHours,2,0)","v":5},{"$f":"VLOOKUP(tblSalaries[[#This Row],[clean Country]],tblCountries[],5,0)","v":1.2026395585822935},{"$f":"IF($Q$1,tblSalaries[[#This Row],[PPP Factor]]*tblSalaries[[#This Row],[Salary in USD]],tblSalaries[[#This Row],[Salary in USD]])","v":71393.675948184507}]
[null,"ID1013","2012-05-28T11:33:07","350000 Rs",350000,"INR",{"$f":"tblSalaries[[#This Row],[clean Salary (in local currency)]]*VLOOKUP(tblSalaries[[#This Row],[Currency]],tblXrate[],2,FALSE)","v":6232.7708406048987},"Data Analyst","Analyst","India",{"$f":"VLOOKUP(tblSalaries[[#This Row],[Where do you work]],tblCountries[[Actual]:[Mapping]],2,FALSE)","v":"India"},"4 to 6 hours a day",2.5,{"$f":"VLOOKUP(K994,tblCountries[],3,0)","v":"Asia"},{"$f":"VLOOKUP(tblSalaries[[#This Row],[How many hours of a day you work on Excel]],tblHours,2,0)","v":4},{"$f":"VLOOKUP(tblSalaries[[#This Row],[clean Country]],tblCountries[],5,0)","v":13.098808879263672},{"$f":"IF($Q$1,tblSalaries[[#This Row],[PPP Factor]]*tblSalaries[[#This Row],[Salary in USD]],tblSalaries[[#This Row],[Salary in USD]])","v":6232.7708406048987}]
[null,"ID1014","2012-05-28T11:37:17","LKR 240000",240000,"LKR",{"$f":"tblSalaries[[#This Row],[clean Salary (in local currency)]]*VLOOKUP(tblSalaries[[#This Row],[Currency]],tblXrate[],2,FALSE)","v":1805.7739622442759},"Management Trainee","Manager","Sri Lanka",{"$f":"VLOOKUP(tblSalaries[[#This Row],[Where do you work]],tblCountries[[Actual]:[Mapping]],2,FALSE)","v":"Sri Lanka"},"4 to 6 hours a day",3,{"$f":"VLOOKUP(K995,tblCountries[],3,0)","v":"Asia"},{"$f":"VLOOKUP(tblSalaries[[#This Row],[How many hours of a day you work on Excel]],tblHours,2,0)","v":4},{"$f":"VLOOKUP(tblSalaries[[#This Row],[clean Country]],tblCountries[],5,0)","v":8.5278463165315479},{"$f":"IF($Q$1,tblSalaries[[#This Row],[PPP Factor]]*tblSalaries[[#This Row],[Salary in USD]],tblSalaries[[#This Row],[Salary in USD]])","v":1805.7739622442759}]
[null,"ID1015","2012-05-28T11:39:01","Rs.6.4 lakhs",640000,"INR",{"$f":"tblSalaries[[#This Row],[clean Salary (in local currency)]]*VLOOKUP(tblSalaries[[#This Row],[Currency]],tblXrate[],2,FALSE)","v":11397.066679963244},"Sr.Analyst - Process Excellence","Analyst","India",{"$f":"VLOOKUP(tblSalaries[[#This Row],[Where do you work]],tblCountries[[Actual]:[Mapping]],2,FALSE)","v":"India"},"All the 8 hours baby, all the 8!",6,{"$f":"VLOOKUP(K996,tblCountries[],3,0)","v":"Asia"},{"$f":"VLOOKUP(tblSalaries[[#This Row],[How many hours of a day you work on Excel]],tblHours,2,0)","v":5},{"$f":"VLOOKUP(tblSalaries[[#This Row],[clean Country]],tblCountries[],5,0)","v":13.098808879263672},{"$f":"IF($Q$1,tblSalaries[[#This Row],[PPP Factor]]*tblSalaries[[#This Row],[Salary in USD]],tblSalaries[[#This Row],[Salary in USD]])","v":11397.066679963244}]
[null,"ID1016","2012-05-28T11:41:11",15000,15000,"USD",{"$f":"tblSalaries[[#This Row],[clean Salary (in local currency)]]*VLOOKUP(tblSalaries[[#This Row],[Currency]],tblXrate[],2,FALSE)","v":15000},"Operations Management","Manager","India",{"$f":"VLOOKUP(tblSalaries[[#This Row],[Where do you work]],tblCountries[[Actual]:[Mapping]],2,FALSE)","v":"India"},"4 to 6 hours a day",4,{"$f":"VLOOKUP(K997,tblCountries[],3,0)","v":"Asia"},{"$f":"VLOOKUP(tblSalaries[[#This Row],[How many hours of a day you work on Excel]],tblHours,2,0)","v":4},{"$f":"VLOOKUP(tblSalaries[[#This Row],[clean Country]],tblCountries[],5,0)","v":13.098808879263672},{"$f":"IF($Q$1,tblSalaries[[#This Row],[PPP Factor]]*tblSalaries[[#This Row],[Salary in USD]],tblSalaries[[#This Row],[Salary in USD]])","v":15000}]
[null,"ID1017","2012-05-28T11:58:39","R308 500",308500,"ZAR",{"$f":"tblSalaries[[#This Row],[clean Salary (in local currency)]]*VLOOKUP(tblSalaries[[#This Row],[Currency]],tblXrate[],2,FALSE)","v":37612.869087708088},"Management Information Consultant","Manager","South Africa",{"$f":"VLOOKUP(tblSalaries[[#This Row],[Where do you work]],tblCountries[[Actual]:[Mapping]],2,FALSE)","v":"South Africa"},"All the 8 hours baby, all the 8!",3,{"$f":"VLOOKUP(K998,tblCountries[],3,0)","v":"Africa"},{"$f":"VLOOKUP(tblSalaries[[#This Row],[How many hours of a day you work on Excel]],tblHours,2,0)","v":5},{"$f":"VLOOKUP(tblSalaries[[#This Row],[clean Country]],tblCountries[],5,0)","v":4.4096418481727877},{"$f":"IF($Q$1,tblSalaries[[#This Row],[PPP Factor]]*tblSalaries[[#This Row],[Salary in USD]],tblSalaries[[#This Row],[Salary in USD]])","v":37612.869087708088}]
[null,"ID1018","2012-05-28T12:00:14",3.65,365000,"INR",{"$f":"tblSalaries[[#This Row],[clean Salary (in local currency)]]*VLOOKUP(tblSalaries[[#This Row],[Currency]],tblXrate[],2,FALSE)","v":6499.8895909165376},"associate analyst","Analyst","India",{"$f":"VLOOKUP(tblSalaries[[#This Row],[Where do you work]],tblCountries[[Actual]:[Mapping]],2,FALSE)","v":"India"},"4 to 6 hours a day",3,{"$f":"VLOOKUP(K999,tblCountries[],3,0)","v":"Asia"},{"$f":"VLOOKUP(tblSalaries[[#This Row],[How many hours of a day you work on Excel]],tblHours,2,0)","v":4},{"$f":"VLOOKUP(tblSalaries[[#This Row],[clean Country]],tblCountries[],5,0)","v":13.098808879263672},{"$f":"IF($Q$1,tblSalaries[[#This Row],[PPP Factor]]*tblSalaries[[#This Row],[Salary in USD]],tblSalaries[[#This Row],[Salary in USD]])","v":6499.8895909165376}]
[null,"ID1019","2012-05-28T12:09:37","usd 20.000",20000,"USD",{"$f":"tblSalaries[[#This Row],[clean Salary (in local currency)]]*VLOOKUP(tblSalaries[[#This Row],[Currency]],tblXrate[],2,FALSE)","v":20000},"Head of Financial Reporting","Reporting","Paraguay",{"$f":"VLOOKUP(tblSalaries[[#This Row],[Where do you work]],tblCountries[[Actual]:[Mapping]],2,FALSE)","v":"Paraguay"},"All the 8 hours baby, all the 8!",6,{"$f":"VLOOKUP(K1000,tblCountries[],3,0)","v":"South Amer."},{"$f":"VLOOKUP(tblSalaries[[#This Row],[How many hours of a day you work on Excel]],tblHours,2,0)","v":5},{"$f":"VLOOKUP(tblSalaries[[#This Row],[clean Country]],tblCountries[],5,0)","v":8.939035654904858},{"$f":"IF($Q$1,tblSalaries[[#This Row],[PPP Factor]]*tblSalaries[[#This Row],[Salary in USD]],tblSalaries[[#This Row],[Salary in USD]])","v":20000}]
[null,"ID1020","2012-05-28T12:10:09",7265,7265,"USD",{"$f":"tblSalaries[[#This Row],[clean Salary (in local currency)]]*VLOOKUP(tblSalaries[[#This Row],[Currency]],tblXrate[],2,FALSE)","v":7265},"Softwar Engineer","Engineer","India",{"$f":"VLOOKUP(tblSalaries[[#This Row],[Where do you work]],tblCountries[[Actual]:[Mapping]],2,FALSE)","v":"India"},"4 to 6 hours a day",6,{"$f":"VLOOKUP(K1001,tblCountries[],3,0)","v":"Asia"},{"$f":"VLOOKUP(tblSalaries[[#This Row],[How many hours of a day you work on Excel]],tblHours,2,0)","v":4},{"$f":"VLOOKUP(tblSalaries[[#This Row],[clean Country]],tblCountries[],5,0)","v":13.098808879263672},{"$f":"IF($Q$1,tblSalaries[[#This Row],[PPP Factor]]*tblSalaries[[#This Row],[Salary in USD]],tblSalaries[[#This Row],[Salary in USD]])","v":7265}]
[null,"ID1021","2012-05-28T12:15:53","SGD92,000",92000,"SGD",{"$f":"tblSalaries[[#This Row],[clean Salary (in local currency)]]*VLOOKUP(tblSalaries[[#This Row],[Currency]],tblXrate[],2,FALSE)","v":72571.80269935554},"Finance Manager","Manager","Singapore",{"$f":"VLOOKUP(tblSalaries[[#This Row],[Where do you work]],tblCountries[[Actual]:[Mapping]],2,FALSE)","v":"Singapore"},"All the 8 hours baby, all the 8!",15,{"$f":"VLOOKUP(K1002,tblCountries[],3,0)","v":"Asia"},{"$f":"VLOOKUP(tblSalaries[[#This Row],[How many hours of a day you work on Excel]],tblHours,2,0)","v":5},{"$f":"VLOOKUP(tblSalaries[[#This Row],[clean Country]],tblCountries[],5,0)","v":0.81035320125270049},{"$f":"IF($Q$1,tblSalaries[[#This Row],[PPP Factor]]*tblSalaries[[#This Row],[Salary in USD]],tblSalaries[[#This Row],[Salary in USD]])","v":72571.80269935554}]
[null,"ID1023","2012-05-28T12:20:48","INR 4.5 Lac",450000,"INR",{"$f":"tblSalaries[[#This Row],[clean Salary (in local currency)]]*VLOOKUP(tblSalaries[[#This Row],[Currency]],tblXrate[],2,FALSE)","v":8013.5625093491553},"Asst. Manager","Manager","India",{"$f":"VLOOKUP(tblSalaries[[#This Row],[Where do you work]],tblCountries[[Actual]:[Mapping]],2,FALSE)","v":"India"},"All the 8 hours baby, all the 8!",15,{"$f":"VLOOKUP(K1003,tblCountries[],3,0)","v":"Asia"},{"$f":"VLOOKUP(tblSalaries[[#This Row],[How many hours of a day you work on Excel]],tblHours,2,0)","v":5},{"$f":"VLOOKUP(tblSalaries[[#This Row],[clean Country]],tblCountries[],5,0)","v":13.098808879263672},{"$f":"IF($Q$1,tblSalaries[[#This Row],[PPP Factor]]*tblSalaries[[#This Row],[Salary in USD]],tblSalaries[[#This Row],[Salary in USD]])","v":8013.5625093491553}]
[null,"ID1024","2012-05-28T12:26:01","Rs.5.7 lacs",570000,"INR",{"$f":"tblSalaries[[#This Row],[clean Salary (in local currency)]]*VLOOKUP(tblSalaries[[#This Row],[Currency]],tblXrate[],2,FALSE)","v":10150.512511842264},"MIS & Analysis","Analyst","India",{"$f":"VLOOKUP(tblSalaries[[#This Row],[Where do you work]],tblCountries[[Actual]:[Mapping]],2,FALSE)","v":"India"},"4 to 6 hours a day",5,{"$f":"VLOOKUP(K1004,tblCountries[],3,0)","v":"Asia"},{"$f":"VLOOKUP(tblSalaries[[#This Row],[How many hours of a day you work on Excel]],tblHours,2,0)","v":4},{"$f":"VLOOKUP(tblSalaries[[#This Row],[clean Country]],tblCountries[],5,0)","v":13.098808879263672},{"$f":"IF($Q$1,tblSalaries[[#This Row],[PPP Factor]]*tblSalaries[[#This Row],[Salary in USD]],tblSalaries[[#This Row],[Salary in USD]])","v":10150.512511842264}]
[null,"ID1025","2012-05-28T12:26:42",65000,65000,"USD",{"$f":"tblSalaries[[#This Row],[clean Salary (in local currency)]]*VLOOKUP(tblSalaries[[#This Row],[Currency]],tblXrate[],2,FALSE)","v":65000},"Controller","Controller","USA",{"$f":"VLOOKUP(tblSalaries[[#This Row],[Where do you work]],tblCountries[[Actual]:[Mapping]],2,FALSE)","v":"USA"},"4 to 6 hours a day",9,{"$f":"VLOOKUP(K1005,tblCountries[],3,0)","v":"North Amer."},{"$f":"VLOOKUP(tblSalaries[[#This Row],[How many hours of a day you work on Excel]],tblHours,2,0)","v":4},{"$f":"VLOOKUP(tblSalaries[[#This Row],[clean Country]],tblCountries[],5,0)","v":1},{"$f":"IF($Q$1,tblSalaries[[#This Row],[PPP Factor]]*tblSalaries[[#This Row],[Salary in USD]],tblSalaries[[#This Row],[Salary in USD]])","v":65000}]
[null,"ID1026","2012-05-28T12:32:12",300000,300000,"PKR",{"$f":"tblSalaries[[#This Row],[clean Salary (in local currency)]]*VLOOKUP(tblSalaries[[#This Row],[Currency]],tblXrate[],2,FALSE)","v":3184.2266150397395},"Banker","Manager","Pakistan",{"$f":"VLOOKUP(tblSalaries[[#This Row],[Where do you work]],tblCountries[[Actual]:[Mapping]],2,FALSE)","v":"Pakistan"},"4 to 6 hours a day",4,{"$f":"VLOOKUP(K1006,tblCountries[],3,0)","v":"Asia"},{"$f":"VLOOKUP(tblSalaries[[#This Row],[How many hours of a day you work on Excel]],tblHours,2,0)","v":4},{"$f":"VLOOKUP(tblSalaries[[#This Row],[clean Country]],tblCountries[],5,0)","v":17.361679224973088},{"$f":"IF($Q$1,tblSalaries[[#This Row],[PPP Factor]]*tblSalaries[[#This Row],[Salary in USD]],tblSalaries[[#This Row],[Salary in USD]])","v":3184.2266150397395}]
[null,"ID1027","2012-05-28T12:35:38","Net- 56000Rs, Gross - 61000Rs",612000,"INR",{"$f":"tblSalaries[[#This Row],[clean Salary (in local currency)]]*VLOOKUP(tblSalaries[[#This Row],[Currency]],tblXrate[],2,FALSE)","v":10898.445012714852},"Asst. Manager ","Manager","India",{"$f":"VLOOKUP(tblSalaries[[#This Row],[Where do you work]],tblCountries[[Actual]:[Mapping]],2,FALSE)","v":"India"},"2 to 3 hours per day",13,{"$f":"VLOOKUP(K1007,tblCountries[],3,0)","v":"Asia"},{"$f":"VLOOKUP(tblSalaries[[#This Row],[How many hours of a day you work on Excel]],tblHours,2,0)","v":3},{"$f":"VLOOKUP(tblSalaries[[#This Row],[clean Country]],tblCountries[],5,0)","v":13.098808879263672},{"$f":"IF($Q$1,tblSalaries[[#This Row],[PPP Factor]]*tblSalaries[[#This Row],[Salary in USD]],tblSalaries[[#This Row],[Salary in USD]])","v":10898.445012714852}]
[null,"ID1028","2012-05-28T12:40:26",900,10800,"USD",{"$f":"tblSalaries[[#This Row],[clean Salary (in local currency)]]*VLOOKUP(tblSalaries[[#This Row],[Currency]],tblXrate[],2,FALSE)","v":10800},"Project Managment Office","Manager","Pakistan",{"$f":"VLOOKUP(tblSalaries[[#This Row],[Where do you work]],tblCountries[[Actual]:[Mapping]],2,FALSE)","v":"Pakistan"},"All the 8 hours baby, all the 8!",5,{"$f":"VLOOKUP(K1008,tblCountries[],3,0)","v":"Asia"},{"$f":"VLOOKUP(tblSalaries[[#This Row],[How many hours of a day you work on Excel]],tblHours,2,0)","v":5},{"$f":"VLOOKUP(tblSalaries[[#This Row],[clean Country]],tblCountries[],5,0)","v":17.361679224973088},{"$f":"IF($Q$1,tblSalaries[[#This Row],[PPP Factor]]*tblSalaries[[#This Row],[Salary in USD]],tblSalaries[[#This Row],[Salary in USD]])","v":10800}]
[null,"ID1029","2012-05-28T12:47:20",120000,120000,"INR",{"$f":"tblSalaries[[#This Row],[clean Salary (in local currency)]]*VLOOKUP(tblSalaries[[#This Row],[Currency]],tblXrate[],2,FALSE)","v":2136.9500024931081},"Audit Assistant","Analyst","India",{"$f":"VLOOKUP(tblSalaries[[#This Row],[Where do you work]],tblCountries[[Actual]:[Mapping]],2,FALSE)","v":"India"},"2 to 3 hours per day",3.5,{"$f":"VLOOKUP(K1009,tblCountries[],3,0)","v":"Asia"},{"$f":"VLOOKUP(tblSalaries[[#This Row],[How many hours of a day you work on Excel]],tblHours,2,0)","v":3},{"$f":"VLOOKUP(tblSalaries[[#This Row],[clean Country]],tblCountries[],5,0)","v":13.098808879263672},{"$f":"IF($Q$1,tblSalaries[[#This Row],[PPP Factor]]*tblSalaries[[#This Row],[Salary in USD]],tblSalaries[[#This Row],[Salary in USD]])","v":2136.9500024931081}]
[null,"ID1030","2012-05-28T12:51:53",45000,45000,"USD",{"$f":"tblSalaries[[#This Row],[clean Salary (in local currency)]]*VLOOKUP(tblSalaries[[#This Row],[Currency]],tblXrate[],2,FALSE)","v":45000},"Engineer","Engineer","singapore",{"$f":"VLOOKUP(tblSalaries[[#This Row],[Where do you work]],tblCountries[[Actual]:[Mapping]],2,FALSE)","v":"Singapore"},"2 to 3 hours per day",4,{"$f":"VLOOKUP(K1010,tblCountries[],3,0)","v":"Asia"},{"$f":"VLOOKUP(tblSalaries[[#This Row],[How many hours of a day you work on Excel]],tblHours,2,0)","v":3},{"$f":"VLOOKUP(tblSalaries[[#This Row],[clean Country]],tblCountries[],5,0)","v":0.81035320125270049},{"$f":"IF($Q$1,tblSalaries[[#This Row],[PPP Factor]]*tblSalaries[[#This Row],[Salary in USD]],tblSalaries[[#This Row],[Salary in USD]])","v":45000}]
[null,"ID1031","2012-05-28T12:57:13","Rs. 4,00,000/-",400000,"INR",{"$f":"tblSalaries[[#This Row],[clean Salary (in local currency)]]*VLOOKUP(tblSalaries[[#This Row],[Currency]],tblXrate[],2,FALSE)","v":7123.1666749770275},"Sr. Executive","Manager","India",{"$f":"VLOOKUP(tblSalaries[[#This Row],[Where do you work]],tblCountries[[Actual]:[Mapping]],2,FALSE)","v":"India"},"2 to 3 hours per day",5,{"$f":"VLOOKUP(K1011,tblCountries[],3,0)","v":"Asia"},{"$f":"VLOOKUP(tblSalaries[[#This Row],[How many hours of a day you work on Excel]],tblHours,2,0)","v":3},{"$f":"VLOOKUP(tblSalaries[[#This Row],[clean Country]],tblCountries[],5,0)","v":13.098808879263672},{"$f":"IF($Q$1,tblSalaries[[#This Row],[PPP Factor]]*tblSalaries[[#This Row],[Salary in USD]],tblSalaries[[#This Row],[Salary in USD]])","v":7123.1666749770275}]
[null,"ID1032","2012-05-28T12:58:44","3 Lakh ",300000,"INR",{"$f":"tblSalaries[[#This Row],[clean Salary (in local currency)]]*VLOOKUP(tblSalaries[[#This Row],[Currency]],tblXrate[],2,FALSE)","v":5342.3750062327708},"ACCOUNTS","Accountant","India",{"$f":"VLOOKUP(tblSalaries[[#This Row],[Where do you work]],tblCountries[[Actual]:[Mapping]],2,FALSE)","v":"India"},"2 to 3 hours per day",5,{"$f":"VLOOKUP(K1012,tblCountries[],3,0)","v":"Asia"},{"$f":"VLOOKUP(tblSalaries[[#This Row],[How many hours of a day you work on Excel]],tblHours,2,0)","v":3},{"$f":"VLOOKUP(tblSalaries[[#This Row],[clean Country]],tblCountries[],5,0)","v":13.098808879263672},{"$f":"IF($Q$1,tblSalaries[[#This Row],[PPP Factor]]*tblSalaries[[#This Row],[Salary in USD]],tblSalaries[[#This Row],[Salary in USD]])","v":5342.3750062327708}]
[null,"ID1033","2012-05-28T12:59:59",18000,18000,"USD",{"$f":"tblSalaries[[#This Row],[clean Salary (in local currency)]]*VLOOKUP(tblSalaries[[#This Row],[Currency]],tblXrate[],2,FALSE)","v":18000},"Area Sales Manager","Manager","India",{"$f":"VLOOKUP(tblSalaries[[#This Row],[Where do you work]],tblCountries[[Actual]:[Mapping]],2,FALSE)","v":"India"},"2 to 3 hours per day",4.5999999999999996,{"$f":"VLOOKUP(K1013,tblCountries[],3,0)","v":"Asia"},{"$f":"VLOOKUP(tblSalaries[[#This Row],[How many hours of a day you work on Excel]],tblHours,2,0)","v":3},{"$f":"VLOOKUP(tblSalaries[[#This Row],[clean Country]],tblCountries[],5,0)","v":13.098808879263672},{"$f":"IF($Q$1,tblSalaries[[#This Row],[PPP Factor]]*tblSalaries[[#This Row],[Salary in USD]],tblSalaries[[#This Row],[Salary in USD]])","v":18000}]
[null,"ID1034","2012-05-28T13:01:42","PK RS 456000",456000,"PKR",{"$f":"tblSalaries[[#This Row],[clean Salary (in local currency)]]*VLOOKUP(tblSalaries[[#This Row],[Currency]],tblXrate[],2,FALSE)","v":4840.0244548604041},"Strategic Planning Executive","Manager","Pakistan",{"$f":"VLOOKUP(tblSalaries[[#This Row],[Where do you work]],tblCountries[[Actual]:[Mapping]],2,FALSE)","v":"Pakistan"},"4 to 6 hours a day",2,{"$f":"VLOOKUP(K1014,tblCountries[],3,0)","v":"Asia"},{"$f":"VLOOKUP(tblSalaries[[#This Row],[How many hours of a day you work on Excel]],tblHours,2,0)","v":4},{"$f":"VLOOKUP(tblSalaries[[#This Row],[clean Country]],tblCountries[],5,0)","v":17.361679224973088},{"$f":"IF($Q$1,tblSalaries[[#This Row],[PPP Factor]]*tblSalaries[[#This Row],[Salary in USD]],tblSalaries[[#This Row],[Salary in USD]])","v":4840.0244548604041}]
[null,"ID1035","2012-05-28T13:02:56","Rs 4,20,000 ",420000,"INR",{"$f":"tblSalaries[[#This Row],[clean Salary (in local currency)]]*VLOOKUP(tblSalaries[[#This Row],[Currency]],tblXrate[],2,FALSE)","v":7479.3250087258784},"Analyst","Analyst","India",{"$f":"VLOOKUP(tblSalaries[[#This Row],[Where do you work]],tblCountries[[Actual]:[Mapping]],2,FALSE)","v":"India"},"2 to 3 hours per day",10,{"$f":"VLOOKUP(K1015,tblCountries[],3,0)","v":"Asia"},{"$f":"VLOOKUP(tblSalaries[[#This Row],[How many hours of a day you work on Excel]],tblHours,2,0)","v":3},{"$f":"VLOOKUP(tblSalaries[[#This Row],[clean Country]],tblCountries[],5,0)","v":13.098808879263672},{"$f":"IF($Q$1,tblSalaries[[#This Row],[PPP Factor]]*tblSalaries[[#This Row],[Salary in USD]],tblSalaries[[#This Row],[Salary in USD]])","v":7479.3250087258784}]
[null,"ID1036","2012-05-28T13:05:39",210000,210000,"INR",{"$f":"tblSalaries[[#This Row],[clean Salary (in local currency)]]*VLOOKUP(tblSalaries[[#This Row],[Currency]],tblXrate[],2,FALSE)","v":3739.6625043629392},"MIS executive","Reporting","India",{"$f":"VLOOKUP(tblSalaries[[#This Row],[Where do you work]],tblCountries[[Actual]:[Mapping]],2,FALSE)","v":"India"},"All the 8 hours baby, all the 8!",3.5,{"$f":"VLOOKUP(K1016,tblCountries[],3,0)","v":"Asia"},{"$f":"VLOOKUP(tblSalaries[[#This Row],[How many hours of a day you work on Excel]],tblHours,2,0)","v":5},{"$f":"VLOOKUP(tblSalaries[[#This Row],[clean Country]],tblCountries[],5,0)","v":13.098808879263672},{"$f":"IF($Q$1,tblSalaries[[#This Row],[PPP Factor]]*tblSalaries[[#This Row],[Salary in USD]],tblSalaries[[#This Row],[Salary in USD]])","v":3739.6625043629392}]
[null,"ID1037","2012-05-28T13:06:37",3500,42000,"USD",{"$f":"tblSalaries[[#This Row],[clean Salary (in local currency)]]*VLOOKUP(tblSalaries[[#This Row],[Currency]],tblXrate[],2,FALSE)","v":42000},"Category Operations Supv.","Manager","Kuwait",{"$f":"VLOOKUP(tblSalaries[[#This Row],[Where do you work]],tblCountries[[Actual]:[Mapping]],2,FALSE)","v":"Kuwait"},"All the 8 hours baby, all the 8!",5,{"$f":"VLOOKUP(K1017,tblCountries[],3,0)","v":"Asia"},{"$f":"VLOOKUP(tblSalaries[[#This Row],[How many hours of a day you work on Excel]],tblHours,2,0)","v":5},{"$f":"VLOOKUP(tblSalaries[[#This Row],[clean Country]],tblCountries[],5,0)","v":1.1606102036410737},{"$f":"IF($Q$1,tblSalaries[[#This Row],[PPP Factor]]*tblSalaries[[#This Row],[Salary in USD]],tblSalaries[[#This Row],[Salary in USD]])","v":42000}]
[null,"ID1038","2012-05-28T13:10:02",28000,28000,"USD",{"$f":"tblSalaries[[#This Row],[clean Salary (in local currency)]]*VLOOKUP(tblSalaries[[#This Row],[Currency]],tblXrate[],2,FALSE)","v":28000},"BI","Reporting","India",{"$f":"VLOOKUP(tblSalaries[[#This Row],[Where do you work]],tblCountries[[Actual]:[Mapping]],2,FALSE)","v":"India"},"2 to 3 hours per day",3,{"$f":"VLOOKUP(K1018,tblCountries[],3,0)","v":"Asia"},{"$f":"VLOOKUP(tblSalaries[[#This Row],[How many hours of a day you work on Excel]],tblHours,2,0)","v":3},{"$f":"VLOOKUP(tblSalaries[[#This Row],[clean Country]],tblCountries[],5,0)","v":13.098808879263672},{"$f":"IF($Q$1,tblSalaries[[#This Row],[PPP Factor]]*tblSalaries[[#This Row],[Salary in USD]],tblSalaries[[#This Row],[Salary in USD]])","v":28000}]
[null,"ID1039","2012-05-28T13:11:42",6000,6000,"USD",{"$f":"tblSalaries[[#This Row],[clean Salary (in local currency)]]*VLOOKUP(tblSalaries[[#This Row],[Currency]],tblXrate[],2,FALSE)","v":6000},"Manager","Manager","India",{"$f":"VLOOKUP(tblSalaries[[#This Row],[Where do you work]],tblCountries[[Actual]:[Mapping]],2,FALSE)","v":"India"},"4 to 6 hours a day",5,{"$f":"VLOOKUP(K1019,tblCountries[],3,0)","v":"Asia"},{"$f":"VLOOKUP(tblSalaries[[#This Row],[How many hours of a day you work on Excel]],tblHours,2,0)","v":4},{"$f":"VLOOKUP(tblSalaries[[#This Row],[clean Country]],tblCountries[],5,0)","v":13.098808879263672},{"$f":"IF($Q$1,tblSalaries[[#This Row],[PPP Factor]]*tblSalaries[[#This Row],[Salary in USD]],tblSalaries[[#This Row],[Salary in USD]])","v":6000}]
[null,"ID1040","2012-05-28T13:26:22",55,55000,"NZD",{"$f":"tblSalaries[[#This Row],[clean Salary (in local currency)]]*VLOOKUP(tblSalaries[[#This Row],[Currency]],tblXrate[],2,FALSE)","v":43867.345148271634},"Financial Analyst","Analyst","New Zealand",{"$f":"VLOOKUP(tblSalaries[[#This Row],[Where do you work]],tblCountries[[Actual]:[Mapping]],2,FALSE)","v":"New Zealand"},"All the 8 hours baby, all the 8!",10,{"$f":"VLOOKUP(K1020,tblCountries[],3,0)","v":"Oceania"},{"$f":"VLOOKUP(tblSalaries[[#This Row],[How many hours of a day you work on Excel]],tblHours,2,0)","v":5},{"$f":"VLOOKUP(tblSalaries[[#This Row],[clean Country]],tblCountries[],5,0)","v":1.7488434292323261},{"$f":"IF($Q$1,tblSalaries[[#This Row],[PPP Factor]]*tblSalaries[[#This Row],[Salary in USD]],tblSalaries[[#This Row],[Salary in USD]])","v":43867.345148271634}]
[null,"ID1041","2012-05-28T13:27:46","10 Lakh",1000000,"INR",{"$f":"tblSalaries[[#This Row],[clean Salary (in local currency)]]*VLOOKUP(tblSalaries[[#This Row],[Currency]],tblXrate[],2,FALSE)","v":17807.916687442568},"Teaching","Analyst","India",{"$f":"VLOOKUP(tblSalaries[[#This Row],[Where do you work]],tblCountries[[Actual]:[Mapping]],2,FALSE)","v":"India"},"1 or 2 hours a day",25,{"$f":"VLOOKUP(K1021,tblCountries[],3,0)","v":"Asia"},{"$f":"VLOOKUP(tblSalaries[[#This Row],[How many hours of a day you work on Excel]],tblHours,2,0)","v":2},{"$f":"VLOOKUP(tblSalaries[[#This Row],[clean Country]],tblCountries[],5,0)","v":13.098808879263672},{"$f":"IF($Q$1,tblSalaries[[#This Row],[PPP Factor]]*tblSalaries[[#This Row],[Salary in USD]],tblSalaries[[#This Row],[Salary in USD]])","v":17807.916687442568}]
[null,"ID1042","2012-05-28T13:37:10",600000,600000,"INR",{"$f":"tblSalaries[[#This Row],[clean Salary (in local currency)]]*VLOOKUP(tblSalaries[[#This Row],[Currency]],tblXrate[],2,FALSE)","v":10684.750012465542},"Business Analyst","Analyst","India",{"$f":"VLOOKUP(tblSalaries[[#This Row],[Where do you work]],tblCountries[[Actual]:[Mapping]],2,FALSE)","v":"India"},"All the 8 hours baby, all the 8!",12,{"$f":"VLOOKUP(K1022,tblCountries[],3,0)","v":"Asia"},{"$f":"VLOOKUP(tblSalaries[[#This Row],[How many hours of a day you work on Excel]],tblHours,2,0)","v":5},{"$f":"VLOOKUP(tblSalaries[[#This Row],[clean Country]],tblCountries[],5,0)","v":13.098808879263672},{"$f":"IF($Q$1,tblSalaries[[#This Row],[PPP Factor]]*tblSalaries[[#This Row],[Salary in USD]],tblSalaries[[#This Row],[Salary in USD]])","v":10684.750012465542}]
[null,"ID1043","2012-05-28T13:40:58","USD 60000",60000,"USD",{"$f":"tblSalaries[[#This Row],[clean Salary (in local currency)]]*VLOOKUP(tblSalaries[[#This Row],[Currency]],tblXrate[],2,FALSE)","v":60000},"Excel Developer","Consultant","Finland",{"$f":"VLOOKUP(tblSalaries[[#This Row],[Where do you work]],tblCountries[[Actual]:[Mapping]],2,FALSE)","v":"Finland"},"All the 8 hours baby, all the 8!",5,{"$f":"VLOOKUP(K1023,tblCountries[],3,0)","v":"Europe"},{"$f":"VLOOKUP(tblSalaries[[#This Row],[How many hours of a day you work on Excel]],tblHours,2,0)","v":5},{"$f":"VLOOKUP(tblSalaries[[#This Row],[clean Country]],tblCountries[],5,0)","v":1.3353295065680539},{"$f":"IF($Q$1,tblSalaries[[#This Row],[PPP Factor]]*tblSalaries[[#This Row],[Salary in USD]],tblSalaries[[#This Row],[Salary in USD]])","v":60000}]
[null,"ID1044","2012-05-28T13:41:33",476000,476000,"INR",{"$f":"tblSalaries[[#This Row],[clean Salary (in local currency)]]*VLOOKUP(tblSalaries[[#This Row],[Currency]],tblXrate[],2,FALSE)","v":8476.5683432226633},"Report Specialist","Reporting","India",{"$f":"VLOOKUP(tblSalaries[[#This Row],[Where do you work]],tblCountries[[Actual]:[Mapping]],2,FALSE)","v":"India"},"4 to 6 hours a day",8,{"$f":"VLOOKUP(K1024,tblCountries[],3,0)","v":"Asia"},{"$f":"VLOOKUP(tblSalaries[[#This Row],[How many hours of a day you work on Excel]],tblHours,2,0)","v":4},{"$f":"VLOOKUP(tblSalaries[[#This Row],[clean Country]],tblCountries[],5,0)","v":13.098808879263672},{"$f":"IF($Q$1,tblSalaries[[#This Row],[PPP Factor]]*tblSalaries[[#This Row],[Salary in USD]],tblSalaries[[#This Row],[Salary in USD]])","v":8476.5683432226633}]
[null,"ID1045","2012-05-28T13:42:12",725,8700,"USD",{"$f":"tblSalaries[[#This Row],[clean Salary (in local currency)]]*VLOOKUP(tblSalaries[[#This Row],[Currency]],tblXrate[],2,FALSE)","v":8700},"Project Controlling (MIS Reports)","Controller","India",{"$f":"VLOOKUP(tblSalaries[[#This Row],[Where do you work]],tblCountries[[Actual]:[Mapping]],2,FALSE)","v":"India"},"2 to 3 hours per day",7,{"$f":"VLOOKUP(K1025,tblCountries[],3,0)","v":"Asia"},{"$f":"VLOOKUP(tblSalaries[[#This Row],[How many hours of a day you work on Excel]],tblHours,2,0)","v":3},{"$f":"VLOOKUP(tblSalaries[[#This Row],[clean Country]],tblCountries[],5,0)","v":13.098808879263672},{"$f":"IF($Q$1,tblSalaries[[#This Row],[PPP Factor]]*tblSalaries[[#This Row],[Salary in USD]],tblSalaries[[#This Row],[Salary in USD]])","v":8700}]
[null,"ID1046","2012-05-28T13:42:35","2,00,000 INR",200000,"INR",{"$f":"tblSalaries[[#This Row],[clean Salary (in local currency)]]*VLOOKUP(tblSalaries[[#This Row],[Currency]],tblXrate[],2,FALSE)","v":3561.5833374885137},"Monitoring & evaluation officer","Manager","India",{"$f":"VLOOKUP(tblSalaries[[#This Row],[Where do you work]],tblCountries[[Actual]:[Mapping]],2,FALSE)","v":"India"},"All the 8 hours baby, all the 8!",8,{"$f":"VLOOKUP(K1026,tblCountries[],3,0)","v":"Asia"},{"$f":"VLOOKUP(tblSalaries[[#This Row],[How many hours of a day you work on Excel]],tblHours,2,0)","v":5},{"$f":"VLOOKUP(tblSalaries[[#This Row],[clean Country]],tblCountries[],5,0)","v":13.098808879263672},{"$f":"IF($Q$1,tblSalaries[[#This Row],[PPP Factor]]*tblSalaries[[#This Row],[Salary in USD]],tblSalaries[[#This Row],[Salary in USD]])","v":3561.5833374885137}]
[null,"ID1047","2012-05-28T13:43:01",1.8,180000,"INR",{"$f":"tblSalaries[[#This Row],[clean Salary (in local currency)]]*VLOOKUP(tblSalaries[[#This Row],[Currency]],tblXrate[],2,FALSE)","v":3205.4250037396623},"MIS EXCUTIVE","Reporting","India",{"$f":"VLOOKUP(tblSalaries[[#This Row],[Where do you work]],tblCountries[[Actual]:[Mapping]],2,FALSE)","v":"India"},"All the 8 hours baby, all the 8!",4,{"$f":"VLOOKUP(K1027,tblCountries[],3,0)","v":"Asia"},{"$f":"VLOOKUP(tblSalaries[[#This Row],[How many hours of a day you work on Excel]],tblHours,2,0)","v":5},{"$f":"VLOOKUP(tblSalaries[[#This Row],[clean Country]],tblCountries[],5,0)","v":13.098808879263672},{"$f":"IF($Q$1,tblSalaries[[#This Row],[PPP Factor]]*tblSalaries[[#This Row],[Salary in USD]],tblSalaries[[#This Row],[Salary in USD]])","v":3205.4250037396623}]
[null,"ID1048","2012-05-28T13:46:17",252000,252000,"INR",{"$f":"tblSalaries[[#This Row],[clean Salary (in local currency)]]*VLOOKUP(tblSalaries[[#This Row],[Currency]],tblXrate[],2,FALSE)","v":4487.5950052355274},"Accounts Exec","Accountant","India",{"$f":"VLOOKUP(tblSalaries[[#This Row],[Where do you work]],tblCountries[[Actual]:[Mapping]],2,FALSE)","v":"India"},"1 or 2 hours a day",5,{"$f":"VLOOKUP(K1028,tblCountries[],3,0)","v":"Asia"},{"$f":"VLOOKUP(tblSalaries[[#This Row],[How many hours of a day you work on Excel]],tblHours,2,0)","v":2},{"$f":"VLOOKUP(tblSalaries[[#This Row],[clean Country]],tblCountries[],5,0)","v":13.098808879263672},{"$f":"IF($Q$1,tblSalaries[[#This Row],[PPP Factor]]*tblSalaries[[#This Row],[Salary in USD]],tblSalaries[[#This Row],[Salary in USD]])","v":4487.5950052355274}]
[null,"ID1049","2012-05-28T13:54:57","Rs. 700000",700000,"INR",{"$f":"tblSalaries[[#This Row],[clean Salary (in local currency)]]*VLOOKUP(tblSalaries[[#This Row],[Currency]],tblXrate[],2,FALSE)","v":12465.541681209797},"Credit Analyst","Analyst","India",{"$f":"VLOOKUP(tblSalaries[[#This Row],[Where do you work]],tblCountries[[Actual]:[Mapping]],2,FALSE)","v":"India"},"4 to 6 hours a day",5,{"$f":"VLOOKUP(K1029,tblCountries[],3,0)","v":"Asia"},{"$f":"VLOOKUP(tblSalaries[[#This Row],[How many hours of a day you work on Excel]],tblHours,2,0)","v":4},{"$f":"VLOOKUP(tblSalaries[[#This Row],[clean Country]],tblCountries[],5,0)","v":13.098808879263672},{"$f":"IF($Q$1,tblSalaries[[#This Row],[PPP Factor]]*tblSalaries[[#This Row],[Salary in USD]],tblSalaries[[#This Row],[Salary in USD]])","v":12465.541681209797}]
[null,"ID1050","2012-05-28T14:00:56",194,2400,"USD",{"$f":"tblSalaries[[#This Row],[clean Salary (in local currency)]]*VLOOKUP(tblSalaries[[#This Row],[Currency]],tblXrate[],2,FALSE)","v":2400},"Accounts Officer","Accountant","Pakistan",{"$f":"VLOOKUP(tblSalaries[[#This Row],[Where do you work]],tblCountries[[Actual]:[Mapping]],2,FALSE)","v":"Pakistan"},"2 to 3 hours per day",15,{"$f":"VLOOKUP(K1030,tblCountries[],3,0)","v":"Asia"},{"$f":"VLOOKUP(tblSalaries[[#This Row],[How many hours of a day you work on Excel]],tblHours,2,0)","v":3},{"$f":"VLOOKUP(tblSalaries[[#This Row],[clean Country]],tblCountries[],5,0)","v":17.361679224973088},{"$f":"IF($Q$1,tblSalaries[[#This Row],[PPP Factor]]*tblSalaries[[#This Row],[Salary in USD]],tblSalaries[[#This Row],[Salary in USD]])","v":2400}]
[null,"ID1051","2012-05-28T14:11:34","55000 usd",55000,"USD",{"$f":"tblSalaries[[#This Row],[clean Salary (in local currency)]]*VLOOKUP(tblSalaries[[#This Row],[Currency]],tblXrate[],2,FALSE)","v":55000},"Economist","Reporting","Israel",{"$f":"VLOOKUP(tblSalaries[[#This Row],[Where do you work]],tblCountries[[Actual]:[Mapping]],2,FALSE)","v":"Israel"},"4 to 6 hours a day",6,{"$f":"VLOOKUP(K1031,tblCountries[],3,0)","v":"Asia"},{"$f":"VLOOKUP(tblSalaries[[#This Row],[How many hours of a day you work on Excel]],tblHours,2,0)","v":4},{"$f":"VLOOKUP(tblSalaries[[#This Row],[clean Country]],tblCountries[],5,0)","v":1.5621307506053268},{"$f":"IF($Q$1,tblSalaries[[#This Row],[PPP Factor]]*tblSalaries[[#This Row],[Salary in USD]],tblSalaries[[#This Row],[Salary in USD]])","v":55000}]
[null,"ID1052","2012-05-28T14:12:35","12000 $",12000,"USD",{"$f":"tblSalaries[[#This Row],[clean Salary (in local currency)]]*VLOOKUP(tblSalaries[[#This Row],[Currency]],tblXrate[],2,FALSE)","v":12000},"planning & Sales Control emploee","Controller","Iran",{"$f":"VLOOKUP(tblSalaries[[#This Row],[Where do you work]],tblCountries[[Actual]:[Mapping]],2,FALSE)","v":"iran"},"4 to 6 hours a day",3,{"$f":"VLOOKUP(K1032,tblCountries[],3,0)","v":"Asia"},{"$f":"VLOOKUP(tblSalaries[[#This Row],[How many hours of a day you work on Excel]],tblHours,2,0)","v":4},{"$f":"VLOOKUP(tblSalaries[[#This Row],[clean Country]],tblCountries[],5,0)","v":3.706963916341071},{"$f":"IF($Q$1,tblSalaries[[#This Row],[PPP Factor]]*tblSalaries[[#This Row],[Salary in USD]],tblSalaries[[#This Row],[Salary in USD]])","v":12000}]
[null,"ID1053","2012-05-28T14:12:50",43500,43500,"EUR",{"$f":"tblSalaries[[#This Row],[clean Salary (in local currency)]]*VLOOKUP(tblSalaries[[#This Row],[Currency]],tblXrate[],2,FALSE)","v":55262.375596134938},"RRHH","Manager","SPAIN",{"$f":"VLOOKUP(tblSalaries[[#This Row],[Where do you work]],tblCountries[[Actual]:[Mapping]],2,FALSE)","v":"Spain"},"2 to 3 hours per day",10,{"$f":"VLOOKUP(K1033,tblCountries[],3,0)","v":"Europe"},{"$f":"VLOOKUP(tblSalaries[[#This Row],[How many hours of a day you work on Excel]],tblHours,2,0)","v":3},{"$f":"VLOOKUP(tblSalaries[[#This Row],[clean Country]],tblCountries[],5,0)","v":1.5799320838503232},{"$f":"IF($Q$1,tblSalaries[[#This Row],[PPP Factor]]*tblSalaries[[#This Row],[Salary in USD]],tblSalaries[[#This Row],[Salary in USD]])","v":55262.375596134938}]
[null,"ID1054","2012-05-28T14:12:52","Rs. 1200000",1200000,"INR",{"$f":"tblSalaries[[#This Row],[clean Salary (in local currency)]]*VLOOKUP(tblSalaries[[#This Row],[Currency]],tblXrate[],2,FALSE)","v":21369.500024931083},"Management Trainee","Manager","India",{"$f":"VLOOKUP(tblSalaries[[#This Row],[Where do you work]],tblCountries[[Actual]:[Mapping]],2,FALSE)","v":"India"},"2 to 3 hours per day",2,{"$f":"VLOOKUP(K1034,tblCountries[],3,0)","v":"Asia"},{"$f":"VLOOKUP(tblSalaries[[#This Row],[How many hours of a day you work on Excel]],tblHours,2,0)","v":3},{"$f":"VLOOKUP(tblSalaries[[#This Row],[clean Country]],tblCountries[],5,0)","v":13.098808879263672},{"$f":"IF($Q$1,tblSalaries[[#This Row],[PPP Factor]]*tblSalaries[[#This Row],[Salary in USD]],tblSalaries[[#This Row],[Salary in USD]])","v":21369.500024931083}]
[null,"ID1055","2012-05-28T14:18:40",26000,26000,"GBP",{"$f":"tblSalaries[[#This Row],[clean Salary (in local currency)]]*VLOOKUP(tblSalaries[[#This Row],[Currency]],tblXrate[],2,FALSE)","v":40980.635073749385},"Consultant","Consultant","UK",{"$f":"VLOOKUP(tblSalaries[[#This Row],[Where do you work]],tblCountries[[Actual]:[Mapping]],2,FALSE)","v":"UK"},"All the 8 hours baby, all the 8!",8,{"$f":"VLOOKUP(K1035,tblCountries[],3,0)","v":"Europe"},{"$f":"VLOOKUP(tblSalaries[[#This Row],[How many hours of a day you work on Excel]],tblHours,2,0)","v":5},{"$f":"VLOOKUP(tblSalaries[[#This Row],[clean Country]],tblCountries[],5,0)","v":1.3407315045719035},{"$f":"IF($Q$1,tblSalaries[[#This Row],[PPP Factor]]*tblSalaries[[#This Row],[Salary in USD]],tblSalaries[[#This Row],[Salary in USD]])","v":40980.635073749385}]
[null,"ID1056","2012-05-28T14:21:27",50000,50000,"AUD",{"$f":"tblSalaries[[#This Row],[clean Salary (in local currency)]]*VLOOKUP(tblSalaries[[#This Row],[Currency]],tblXrate[],2,FALSE)","v":50995.482820131787},"BA","Analyst","Australia",{"$f":"VLOOKUP(tblSalaries[[#This Row],[Where do you work]],tblCountries[[Actual]:[Mapping]],2,FALSE)","v":"Australia"},"4 to 6 hours a day",4,{"$f":"VLOOKUP(K1036,tblCountries[],3,0)","v":"Oceania"},{"$f":"VLOOKUP(tblSalaries[[#This Row],[How many hours of a day you work on Excel]],tblHours,2,0)","v":4},{"$f":"VLOOKUP(tblSalaries[[#This Row],[clean Country]],tblCountries[],5,0)","v":1.2026395585822935},{"$f":"IF($Q$1,tblSalaries[[#This Row],[PPP Factor]]*tblSalaries[[#This Row],[Salary in USD]],tblSalaries[[#This Row],[Salary in USD]])","v":50995.482820131787}]
[null,"ID1057","2012-05-28T14:22:02","16000 euro",16000,"EUR",{"$f":"tblSalaries[[#This Row],[clean Salary (in local currency)]]*VLOOKUP(tblSalaries[[#This Row],[Currency]],tblXrate[],2,FALSE)","v":20326.391023865726},"Management Information Systems","Manager","Greece",{"$f":"VLOOKUP(tblSalaries[[#This Row],[Where do you work]],tblCountries[[Actual]:[Mapping]],2,FALSE)","v":"Greece"},"All the 8 hours baby, all the 8!",16,{"$f":"VLOOKUP(K1037,tblCountries[],3,0)","v":"Europe"},{"$f":"VLOOKUP(tblSalaries[[#This Row],[How many hours of a day you work on Excel]],tblHours,2,0)","v":5},{"$f":"VLOOKUP(tblSalaries[[#This Row],[clean Country]],tblCountries[],5,0)","v":1.8402297102000456},{"$f":"IF($Q$1,tblSalaries[[#This Row],[PPP Factor]]*tblSalaries[[#This Row],[Salary in USD]],tblSalaries[[#This Row],[Salary in USD]])","v":20326.391023865726}]
[null,"ID1058","2012-05-28T14:23:57",1000,12000,"USD",{"$f":"tblSalaries[[#This Row],[clean Salary (in local currency)]]*VLOOKUP(tblSalaries[[#This Row],[Currency]],tblXrate[],2,FALSE)","v":12000},"consultant","Consultant","India",{"$f":"VLOOKUP(tblSalaries[[#This Row],[Where do you work]],tblCountries[[Actual]:[Mapping]],2,FALSE)","v":"India"},"2 to 3 hours per day",8,{"$f":"VLOOKUP(K1038,tblCountries[],3,0)","v":"Asia"},{"$f":"VLOOKUP(tblSalaries[[#This Row],[How many hours of a day you work on Excel]],tblHours,2,0)","v":3},{"$f":"VLOOKUP(tblSalaries[[#This Row],[clean Country]],tblCountries[],5,0)","v":13.098808879263672},{"$f":"IF($Q$1,tblSalaries[[#This Row],[PPP Factor]]*tblSalaries[[#This Row],[Salary in USD]],tblSalaries[[#This Row],[Salary in USD]])","v":12000}]
[null,"ID1059","2012-05-28T14:30:05","ZAR240000",240000,"ZAR",{"$f":"tblSalaries[[#This Row],[clean Salary (in local currency)]]*VLOOKUP(tblSalaries[[#This Row],[Currency]],tblXrate[],2,FALSE)","v":29261.227167098674},"Bookkeeper","Accountant","South Africa",{"$f":"VLOOKUP(tblSalaries[[#This Row],[Where do you work]],tblCountries[[Actual]:[Mapping]],2,FALSE)","v":"South Africa"},"2 to 3 hours per day",20,{"$f":"VLOOKUP(K1039,tblCountries[],3,0)","v":"Africa"},{"$f":"VLOOKUP(tblSalaries[[#This Row],[How many hours of a day you work on Excel]],tblHours,2,0)","v":3},{"$f":"VLOOKUP(tblSalaries[[#This Row],[clean Country]],tblCountries[],5,0)","v":4.4096418481727877},{"$f":"IF($Q$1,tblSalaries[[#This Row],[PPP Factor]]*tblSalaries[[#This Row],[Salary in USD]],tblSalaries[[#This Row],[Salary in USD]])","v":29261.227167098674}]
[null,"ID1060","2012-05-28T14:32:11",120000,120000,"ZAR",{"$f":"tblSalaries[[#This Row],[clean Salary (in local currency)]]*VLOOKUP(tblSalaries[[#This Row],[Currency]],tblXrate[],2,FALSE)","v":14630.613583549337},"VP","CXO or Top Mgmt.","South Africa",{"$f":"VLOOKUP(tblSalaries[[#This Row],[Where do you work]],tblCountries[[Actual]:[Mapping]],2,FALSE)","v":"South Africa"},"4 to 6 hours a day",10,{"$f":"VLOOKUP(K1040,tblCountries[],3,0)","v":"Africa"},{"$f":"VLOOKUP(tblSalaries[[#This Row],[How many hours of a day you work on Excel]],tblHours,2,0)","v":4},{"$f":"VLOOKUP(tblSalaries[[#This Row],[clean Country]],tblCountries[],5,0)","v":4.4096418481727877},{"$f":"IF($Q$1,tblSalaries[[#This Row],[PPP Factor]]*tblSalaries[[#This Row],[Salary in USD]],tblSalaries[[#This Row],[Salary in USD]])","v":14630.613583549337}]
[null,"ID1061","2012-05-28T14:34:34",408000,408000,"INR",{"$f":"tblSalaries[[#This Row],[clean Salary (in local currency)]]*VLOOKUP(tblSalaries[[#This Row],[Currency]],tblXrate[],2,FALSE)","v":7265.630008476568},"Sr Exec - Finance","Accountant","India",{"$f":"VLOOKUP(tblSalaries[[#This Row],[Where do you work]],tblCountries[[Actual]:[Mapping]],2,FALSE)","v":"India"},"All the 8 hours baby, all the 8!",5,{"$f":"VLOOKUP(K1041,tblCountries[],3,0)","v":"Asia"},{"$f":"VLOOKUP(tblSalaries[[#This Row],[How many hours of a day you work on Excel]],tblHours,2,0)","v":5},{"$f":"VLOOKUP(tblSalaries[[#This Row],[clean Country]],tblCountries[],5,0)","v":13.098808879263672},{"$f":"IF($Q$1,tblSalaries[[#This Row],[PPP Factor]]*tblSalaries[[#This Row],[Salary in USD]],tblSalaries[[#This Row],[Salary in USD]])","v":7265.630008476568}]
[null,"ID1062","2012-05-28T14:34:37","Â£28000",28000,"GBP",{"$f":"tblSalaries[[#This Row],[clean Salary (in local currency)]]*VLOOKUP(tblSalaries[[#This Row],[Currency]],tblXrate[],2,FALSE)","v":44132.991617883956},"Modeller","Analyst","UK",{"$f":"VLOOKUP(tblSalaries[[#This Row],[Where do you work]],tblCountries[[Actual]:[Mapping]],2,FALSE)","v":"UK"},"2 to 3 hours per day",16,{"$f":"VLOOKUP(K1042,tblCountries[],3,0)","v":"Europe"},{"$f":"VLOOKUP(tblSalaries[[#This Row],[How many hours of a day you work on Excel]],tblHours,2,0)","v":3},{"$f":"VLOOKUP(tblSalaries[[#This Row],[clean Country]],tblCountries[],5,0)","v":1.3407315045719035},{"$f":"IF($Q$1,tblSalaries[[#This Row],[PPP Factor]]*tblSalaries[[#This Row],[Salary in USD]],tblSalaries[[#This Row],[Salary in USD]])","v":44132.991617883956}]
[null,"ID1063","2012-05-28T14:40:54","INR 530000 ",530000,"INR",{"$f":"tblSalaries[[#This Row],[clean Salary (in local currency)]]*VLOOKUP(tblSalaries[[#This Row],[Currency]],tblXrate[],2,FALSE)","v":9438.1958443445619},"Project Administrator","Analyst","India",{"$f":"VLOOKUP(tblSalaries[[#This Row],[Where do you work]],tblCountries[[Actual]:[Mapping]],2,FALSE)","v":"India"},"2 to 3 hours per day",7,{"$f":"VLOOKUP(K1043,tblCountries[],3,0)","v":"Asia"},{"$f":"VLOOKUP(tblSalaries[[#This Row],[How many hours of a day you work on Excel]],tblHours,2,0)","v":3},{"$f":"VLOOKUP(tblSalaries[[#This Row],[clean Country]],tblCountries[],5,0)","v":13.098808879263672},{"$f":"IF($Q$1,tblSalaries[[#This Row],[PPP Factor]]*tblSalaries[[#This Row],[Salary in USD]],tblSalaries[[#This Row],[Salary in USD]])","v":9438.1958443445619}]
[null,"ID1064","2012-05-28T14:43:40","1500 $",18000,"USD",{"$f":"tblSalaries[[#This Row],[clean Salary (in local currency)]]*VLOOKUP(tblSalaries[[#This Row],[Currency]],tblXrate[],2,FALSE)","v":18000},"Analyst","Analyst","Poland",{"$f":"VLOOKUP(tblSalaries[[#This Row],[Where do you work]],tblCountries[[Actual]:[Mapping]],2,FALSE)","v":"Poland"},"4 to 6 hours a day",7,{"$f":"VLOOKUP(K1044,tblCountries[],3,0)","v":"Europe"},{"$f":"VLOOKUP(tblSalaries[[#This Row],[How many hours of a day you work on Excel]],tblHours,2,0)","v":4},{"$f":"VLOOKUP(tblSalaries[[#This Row],[clean Country]],tblCountries[],5,0)","v":2.3796105045736207},{"$f":"IF($Q$1,tblSalaries[[#This Row],[PPP Factor]]*tblSalaries[[#This Row],[Salary in USD]],tblSalaries[[#This Row],[Salary in USD]])","v":18000}]
[null,"ID1065","2012-05-28T14:44:26","Rs 200000",200000,"INR",{"$f":"tblSalaries[[#This Row],[clean Salary (in local currency)]]*VLOOKUP(tblSalaries[[#This Row],[Currency]],tblXrate[],2,FALSE)","v":3561.5833374885137},"Business Development Executive","Manager","India",{"$f":"VLOOKUP(tblSalaries[[#This Row],[Where do you work]],tblCountries[[Actual]:[Mapping]],2,FALSE)","v":"India"},"2 to 3 hours per day",5,{"$f":"VLOOKUP(K1045,tblCountries[],3,0)","v":"Asia"},{"$f":"VLOOKUP(tblSalaries[[#This Row],[How many hours of a day you work on Excel]],tblHours,2,0)","v":3},{"$f":"VLOOKUP(tblSalaries[[#This Row],[clean Country]],tblCountries[],5,0)","v":13.098808879263672},{"$f":"IF($Q$1,tblSalaries[[#This Row],[PPP Factor]]*tblSalaries[[#This Row],[Salary in USD]],tblSalaries[[#This Row],[Salary in USD]])","v":3561.5833374885137}]
[null,"ID1066","2012-05-28T14:45:04","2LAKHS",200000,"INR",{"$f":"tblSalaries[[#This Row],[clean Salary (in local currency)]]*VLOOKUP(tblSalaries[[#This Row],[Currency]],tblXrate[],2,FALSE)","v":3561.5833374885137},"MIS Executive","Reporting","India",{"$f":"VLOOKUP(tblSalaries[[#This Row],[Where do you work]],tblCountries[[Actual]:[Mapping]],2,FALSE)","v":"India"},"4 to 6 hours a day",3,{"$f":"VLOOKUP(K1046,tblCountries[],3,0)","v":"Asia"},{"$f":"VLOOKUP(tblSalaries[[#This Row],[How many hours of a day you work on Excel]],tblHours,2,0)","v":4},{"$f":"VLOOKUP(tblSalaries[[#This Row],[clean Country]],tblCountries[],5,0)","v":13.098808879263672},{"$f":"IF($Q$1,tblSalaries[[#This Row],[PPP Factor]]*tblSalaries[[#This Row],[Salary in USD]],tblSalaries[[#This Row],[Salary in USD]])","v":3561.5833374885137}]
[null,"ID1067","2012-05-28T14:46:42",5100,5100,"USD",{"$f":"tblSalaries[[#This Row],[clean Salary (in local currency)]]*VLOOKUP(tblSalaries[[#This Row],[Currency]],tblXrate[],2,FALSE)","v":5100},"MIS Executive","Reporting","India",{"$f":"VLOOKUP(tblSalaries[[#This Row],[Where do you work]],tblCountries[[Actual]:[Mapping]],2,FALSE)","v":"India"},"All the 8 hours baby, all the 8!",8,{"$f":"VLOOKUP(K1047,tblCountries[],3,0)","v":"Asia"},{"$f":"VLOOKUP(tblSalaries[[#This Row],[How many hours of a day you work on Excel]],tblHours,2,0)","v":5},{"$f":"VLOOKUP(tblSalaries[[#This Row],[clean Country]],tblCountries[],5,0)","v":13.098808879263672},{"$f":"IF($Q$1,tblSalaries[[#This Row],[PPP Factor]]*tblSalaries[[#This Row],[Salary in USD]],tblSalaries[[#This Row],[Salary in USD]])","v":5100}]
[null,"ID1068","2012-05-28T14:50:03",100000,1200000,"INR",{"$f":"tblSalaries[[#This Row],[clean Salary (in local currency)]]*VLOOKUP(tblSalaries[[#This Row],[Currency]],tblXrate[],2,FALSE)","v":21369.500024931083},"executive","Analyst","India",{"$f":"VLOOKUP(tblSalaries[[#This Row],[Where do you work]],tblCountries[[Actual]:[Mapping]],2,FALSE)","v":"India"},"4 to 6 hours a day",7,{"$f":"VLOOKUP(K1048,tblCountries[],3,0)","v":"Asia"},{"$f":"VLOOKUP(tblSalaries[[#This Row],[How many hours of a day you work on Excel]],tblHours,2,0)","v":4},{"$f":"VLOOKUP(tblSalaries[[#This Row],[clean Country]],tblCountries[],5,0)","v":13.098808879263672},{"$f":"IF($Q$1,tblSalaries[[#This Row],[PPP Factor]]*tblSalaries[[#This Row],[Salary in USD]],tblSalaries[[#This Row],[Salary in USD]])","v":21369.500024931083}]
[null,"ID1069","2012-05-28T14:52:45","Rs. 25000",300000,"INR",{"$f":"tblSalaries[[#This Row],[clean Salary (in local currency)]]*VLOOKUP(tblSalaries[[#This Row],[Currency]],tblXrate[],2,FALSE)","v":5342.3750062327708},"Professional consultant-Finance","Consultant","India",{"$f":"VLOOKUP(tblSalaries[[#This Row],[Where do you work]],tblCountries[[Actual]:[Mapping]],2,FALSE)","v":"India"},"2 to 3 hours per day",1,{"$f":"VLOOKUP(K1049,tblCountries[],3,0)","v":"Asia"},{"$f":"VLOOKUP(tblSalaries[[#This Row],[How many hours of a day you work on Excel]],tblHours,2,0)","v":3},{"$f":"VLOOKUP(tblSalaries[[#This Row],[clean Country]],tblCountries[],5,0)","v":13.098808879263672},{"$f":"IF($Q$1,tblSalaries[[#This Row],[PPP Factor]]*tblSalaries[[#This Row],[Salary in USD]],tblSalaries[[#This Row],[Salary in USD]])","v":5342.3750062327708}]
[null,"ID1070","2012-05-28T14:53:02",50000,50000,"USD",{"$f":"tblSalaries[[#This Row],[clean Salary (in local currency)]]*VLOOKUP(tblSalaries[[#This Row],[Currency]],tblXrate[],2,FALSE)","v":50000},"Managing Partner","CXO or Top Mgmt.","India",{"$f":"VLOOKUP(tblSalaries[[#This Row],[Where do you work]],tblCountries[[Actual]:[Mapping]],2,FALSE)","v":"India"},"1 or 2 hours a day",26,{"$f":"VLOOKUP(K1050,tblCountries[],3,0)","v":"Asia"},{"$f":"VLOOKUP(tblSalaries[[#This Row],[How many hours of a day you work on Excel]],tblHours,2,0)","v":2},{"$f":"VLOOKUP(tblSalaries[[#This Row],[clean Country]],tblCountries[],5,0)","v":13.098808879263672},{"$f":"IF($Q$1,tblSalaries[[#This Row],[PPP Factor]]*tblSalaries[[#This Row],[Salary in USD]],tblSalaries[[#This Row],[Salary in USD]])","v":50000}]
[null,"ID1071","2012-05-28T14:53:44","1600000Rs",1600000,"INR",{"$f":"tblSalaries[[#This Row],[clean Salary (in local currency)]]*VLOOKUP(tblSalaries[[#This Row],[Currency]],tblXrate[],2,FALSE)","v":28492.66669990811},"Manager Fin","Manager","India",{"$f":"VLOOKUP(tblSalaries[[#This Row],[Where do you work]],tblCountries[[Actual]:[Mapping]],2,FALSE)","v":"India"},"All the 8 hours baby, all the 8!",9,{"$f":"VLOOKUP(K1051,tblCountries[],3,0)","v":"Asia"},{"$f":"VLOOKUP(tblSalaries[[#This Row],[How many hours of a day you work on Excel]],tblHours,2,0)","v":5},{"$f":"VLOOKUP(tblSalaries[[#This Row],[clean Country]],tblCountries[],5,0)","v":13.098808879263672},{"$f":"IF($Q$1,tblSalaries[[#This Row],[PPP Factor]]*tblSalaries[[#This Row],[Salary in USD]],tblSalaries[[#This Row],[Salary in USD]])","v":28492.66669990811}]
[null,"ID1072","2012-05-28T14:56:27",15600,15600,"GBP",{"$f":"tblSalaries[[#This Row],[clean Salary (in local currency)]]*VLOOKUP(tblSalaries[[#This Row],[Currency]],tblXrate[],2,FALSE)","v":24588.381044249632},"business data analyst","Analyst","UK",{"$f":"VLOOKUP(tblSalaries[[#This Row],[Where do you work]],tblCountries[[Actual]:[Mapping]],2,FALSE)","v":"UK"},"All the 8 hours baby, all the 8!",0,{"$f":"VLOOKUP(K1052,tblCountries[],3,0)","v":"Europe"},{"$f":"VLOOKUP(tblSalaries[[#This Row],[How many hours of a day you work on Excel]],tblHours,2,0)","v":5},{"$f":"VLOOKUP(tblSalaries[[#This Row],[clean Country]],tblCountries[],5,0)","v":1.3407315045719035},{"$f":"IF($Q$1,tblSalaries[[#This Row],[PPP Factor]]*tblSalaries[[#This Row],[Salary in USD]],tblSalaries[[#This Row],[Salary in USD]])","v":24588.381044249632}]
[null,"ID1074","2012-05-28T15:12:38",7000,7000,"USD",{"$f":"tblSalaries[[#This Row],[clean Salary (in local currency)]]*VLOOKUP(tblSalaries[[#This Row],[Currency]],tblXrate[],2,FALSE)","v":7000},"MIS Executive","Reporting","India",{"$f":"VLOOKUP(tblSalaries[[#This Row],[Where do you work]],tblCountries[[Actual]:[Mapping]],2,FALSE)","v":"India"},"All the 8 hours baby, all the 8!",5,{"$f":"VLOOKUP(K1053,tblCountries[],3,0)","v":"Asia"},{"$f":"VLOOKUP(tblSalaries[[#This Row],[How many hours of a day you work on Excel]],tblHours,2,0)","v":5},{"$f":"VLOOKUP(tblSalaries[[#This Row],[clean Country]],tblCountries[],5,0)","v":13.098808879263672},{"$f":"IF($Q$1,tblSalaries[[#This Row],[PPP Factor]]*tblSalaries[[#This Row],[Salary in USD]],tblSalaries[[#This Row],[Salary in USD]])","v":7000}]
[null,"ID1075","2012-05-28T15:16:20","Rs. 438000",438000,"INR",{"$f":"tblSalaries[[#This Row],[clean Salary (in local currency)]]*VLOOKUP(tblSalaries[[#This Row],[Currency]],tblXrate[],2,FALSE)","v":7799.8675090998449},"Assistant Professor","Analyst","India",{"$f":"VLOOKUP(tblSalaries[[#This Row],[Where do you work]],tblCountries[[Actual]:[Mapping]],2,FALSE)","v":"India"},"1 or 2 hours a day",10,{"$f":"VLOOKUP(K1054,tblCountries[],3,0)","v":"Asia"},{"$f":"VLOOKUP(tblSalaries[[#This Row],[How many hours of a day you work on Excel]],tblHours,2,0)","v":2},{"$f":"VLOOKUP(tblSalaries[[#This Row],[clean Country]],tblCountries[],5,0)","v":13.098808879263672},{"$f":"IF($Q$1,tblSalaries[[#This Row],[PPP Factor]]*tblSalaries[[#This Row],[Salary in USD]],tblSalaries[[#This Row],[Salary in USD]])","v":7799.8675090998449}]
[null,"ID1076","2012-05-28T15:21:51","Â£50",50000,"GBP",{"$f":"tblSalaries[[#This Row],[clean Salary (in local currency)]]*VLOOKUP(tblSalaries[[#This Row],[Currency]],tblXrate[],2,FALSE)","v":78808.913603364199},"Production manager","Manager","UK",{"$f":"VLOOKUP(tblSalaries[[#This Row],[Where do you work]],tblCountries[[Actual]:[Mapping]],2,FALSE)","v":"UK"},"2 to 3 hours per day",12,{"$f":"VLOOKUP(K1055,tblCountries[],3,0)","v":"Europe"},{"$f":"VLOOKUP(tblSalaries[[#This Row],[How many hours of a day you work on Excel]],tblHours,2,0)","v":3},{"$f":"VLOOKUP(tblSalaries[[#This Row],[clean Country]],tblCountries[],5,0)","v":1.3407315045719035},{"$f":"IF($Q$1,tblSalaries[[#This Row],[PPP Factor]]*tblSalaries[[#This Row],[Salary in USD]],tblSalaries[[#This Row],[Salary in USD]])","v":78808.913603364199}]
[null,"ID1077","2012-05-28T15:27:59",560,6720,"USD",{"$f":"tblSalaries[[#This Row],[clean Salary (in local currency)]]*VLOOKUP(tblSalaries[[#This Row],[Currency]],tblXrate[],2,FALSE)","v":6720},"MIS Executive","Reporting","India",{"$f":"VLOOKUP(tblSalaries[[#This Row],[Where do you work]],tblCountries[[Actual]:[Mapping]],2,FALSE)","v":"India"},"4 to 6 hours a day",6,{"$f":"VLOOKUP(K1056,tblCountries[],3,0)","v":"Asia"},{"$f":"VLOOKUP(tblSalaries[[#This Row],[How many hours of a day you work on Excel]],tblHours,2,0)","v":4},{"$f":"VLOOKUP(tblSalaries[[#This Row],[clean Country]],tblCountries[],5,0)","v":13.098808879263672},{"$f":"IF($Q$1,tblSalaries[[#This Row],[PPP Factor]]*tblSalaries[[#This Row],[Salary in USD]],tblSalaries[[#This Row],[Salary in USD]])","v":6720}]
[null,"ID1078","2012-05-28T15:29:24","INR 2.5 Lakh",250000,"INR",{"$f":"tblSalaries[[#This Row],[clean Salary (in local currency)]]*VLOOKUP(tblSalaries[[#This Row],[Currency]],tblXrate[],2,FALSE)","v":4451.9791718606421},"SR. MIS ","Reporting","India",{"$f":"VLOOKUP(tblSalaries[[#This Row],[Where do you work]],tblCountries[[Actual]:[Mapping]],2,FALSE)","v":"India"},"All the 8 hours baby, all the 8!",3.5,{"$f":"VLOOKUP(K1057,tblCountries[],3,0)","v":"Asia"},{"$f":"VLOOKUP(tblSalaries[[#This Row],[How many hours of a day you work on Excel]],tblHours,2,0)","v":5},{"$f":"VLOOKUP(tblSalaries[[#This Row],[clean Country]],tblCountries[],5,0)","v":13.098808879263672},{"$f":"IF($Q$1,tblSalaries[[#This Row],[PPP Factor]]*tblSalaries[[#This Row],[Salary in USD]],tblSalaries[[#This Row],[Salary in USD]])","v":4451.9791718606421}]
[null,"ID1079","2012-05-28T15:29:53","Â£30000",30000,"GBP",{"$f":"tblSalaries[[#This Row],[clean Salary (in local currency)]]*VLOOKUP(tblSalaries[[#This Row],[Currency]],tblXrate[],2,FALSE)","v":47285.348162018527},"Data Analyst","Analyst","UK",{"$f":"VLOOKUP(tblSalaries[[#This Row],[Where do you work]],tblCountries[[Actual]:[Mapping]],2,FALSE)","v":"UK"},"All the 8 hours baby, all the 8!",15,{"$f":"VLOOKUP(K1058,tblCountries[],3,0)","v":"Europe"},{"$f":"VLOOKUP(tblSalaries[[#This Row],[How many hours of a day you work on Excel]],tblHours,2,0)","v":5},{"$f":"VLOOKUP(tblSalaries[[#This Row],[clean Country]],tblCountries[],5,0)","v":1.3407315045719035},{"$f":"IF($Q$1,tblSalaries[[#This Row],[PPP Factor]]*tblSalaries[[#This Row],[Salary in USD]],tblSalaries[[#This Row],[Salary in USD]])","v":47285.348162018527}]
[null,"ID1080","2012-05-28T15:33:23",600,7200,"USD",{"$f":"tblSalaries[[#This Row],[clean Salary (in local currency)]]*VLOOKUP(tblSalaries[[#This Row],[Currency]],tblXrate[],2,FALSE)","v":7200},"Data Entry Operator","Analyst","India",{"$f":"VLOOKUP(tblSalaries[[#This Row],[Where do you work]],tblCountries[[Actual]:[Mapping]],2,FALSE)","v":"India"},"All the 8 hours baby, all the 8!",10,{"$f":"VLOOKUP(K1059,tblCountries[],3,0)","v":"Asia"},{"$f":"VLOOKUP(tblSalaries[[#This Row],[How many hours of a day you work on Excel]],tblHours,2,0)","v":5},{"$f":"VLOOKUP(tblSalaries[[#This Row],[clean Country]],tblCountries[],5,0)","v":13.098808879263672},{"$f":"IF($Q$1,tblSalaries[[#This Row],[PPP Factor]]*tblSalaries[[#This Row],[Salary in USD]],tblSalaries[[#This Row],[Salary in USD]])","v":7200}]
[null,"ID1081","2012-05-28T15:33:37","INR 2500000",2500000,"INR",{"$f":"tblSalaries[[#This Row],[clean Salary (in local currency)]]*VLOOKUP(tblSalaries[[#This Row],[Currency]],tblXrate[],2,FALSE)","v":44519.791718606422},"Vice President","CXO or Top Mgmt.","India",{"$f":"VLOOKUP(tblSalaries[[#This Row],[Where do you work]],tblCountries[[Actual]:[Mapping]],2,FALSE)","v":"India"},"4 to 6 hours a day",9,{"$f":"VLOOKUP(K1060,tblCountries[],3,0)","v":"Asia"},{"$f":"VLOOKUP(tblSalaries[[#This Row],[How many hours of a day you work on Excel]],tblHours,2,0)","v":4},{"$f":"VLOOKUP(tblSalaries[[#This Row],[clean Country]],tblCountries[],5,0)","v":13.098808879263672},{"$f":"IF($Q$1,tblSalaries[[#This Row],[PPP Factor]]*tblSalaries[[#This Row],[Salary in USD]],tblSalaries[[#This Row],[Salary in USD]])","v":44519.791718606422}]
[null,"ID1082","2012-05-28T15:34:12",140000,140000,"INR",{"$f":"tblSalaries[[#This Row],[clean Salary (in local currency)]]*VLOOKUP(tblSalaries[[#This Row],[Currency]],tblXrate[],2,FALSE)","v":2493.1083362419595},"Accountant","Accountant","India",{"$f":"VLOOKUP(tblSalaries[[#This Row],[Where do you work]],tblCountries[[Actual]:[Mapping]],2,FALSE)","v":"India"},"4 to 6 hours a day",4,{"$f":"VLOOKUP(K1061,tblCountries[],3,0)","v":"Asia"},{"$f":"VLOOKUP(tblSalaries[[#This Row],[How many hours of a day you work on Excel]],tblHours,2,0)","v":4},{"$f":"VLOOKUP(tblSalaries[[#This Row],[clean Country]],tblCountries[],5,0)","v":13.098808879263672},{"$f":"IF($Q$1,tblSalaries[[#This Row],[PPP Factor]]*tblSalaries[[#This Row],[Salary in USD]],tblSalaries[[#This Row],[Salary in USD]])","v":2493.1083362419595}]
[null,"ID1083","2012-05-28T15:35:32",20000,20000,"GBP",{"$f":"tblSalaries[[#This Row],[clean Salary (in local currency)]]*VLOOKUP(tblSalaries[[#This Row],[Currency]],tblXrate[],2,FALSE)","v":31523.565441345683},"finance assistant","Analyst","UK",{"$f":"VLOOKUP(tblSalaries[[#This Row],[Where do you work]],tblCountries[[Actual]:[Mapping]],2,FALSE)","v":"UK"},"4 to 6 hours a day",1,{"$f":"VLOOKUP(K1062,tblCountries[],3,0)","v":"Europe"},{"$f":"VLOOKUP(tblSalaries[[#This Row],[How many hours of a day you work on Excel]],tblHours,2,0)","v":4},{"$f":"VLOOKUP(tblSalaries[[#This Row],[clean Country]],tblCountries[],5,0)","v":1.3407315045719035},{"$f":"IF($Q$1,tblSalaries[[#This Row],[PPP Factor]]*tblSalaries[[#This Row],[Salary in USD]],tblSalaries[[#This Row],[Salary in USD]])","v":31523.565441345683}]
[null,"ID1084","2012-05-28T15:37:23",1200000,1200000,"INR",{"$f":"tblSalaries[[#This Row],[clean Salary (in local currency)]]*VLOOKUP(tblSalaries[[#This Row],[Currency]],tblXrate[],2,FALSE)","v":21369.500024931083},"finance controller","Controller","India",{"$f":"VLOOKUP(tblSalaries[[#This Row],[Where do you work]],tblCountries[[Actual]:[Mapping]],2,FALSE)","v":"India"},"4 to 6 hours a day",8,{"$f":"VLOOKUP(K1063,tblCountries[],3,0)","v":"Asia"},{"$f":"VLOOKUP(tblSalaries[[#This Row],[How many hours of a day you work on Excel]],tblHours,2,0)","v":4},{"$f":"VLOOKUP(tblSalaries[[#This Row],[clean Country]],tblCountries[],5,0)","v":13.098808879263672},{"$f":"IF($Q$1,tblSalaries[[#This Row],[PPP Factor]]*tblSalaries[[#This Row],[Salary in USD]],tblSalaries[[#This Row],[Salary in USD]])","v":21369.500024931083}]
[null,"ID1085","2012-05-28T15:42:04",80000,80000,"GBP",{"$f":"tblSalaries[[#This Row],[clean Salary (in local currency)]]*VLOOKUP(tblSalaries[[#This Row],[Currency]],tblXrate[],2,FALSE)","v":126094.26176538273},"Manufacturing consultant","Consultant","UK",{"$f":"VLOOKUP(tblSalaries[[#This Row],[Where do you work]],tblCountries[[Actual]:[Mapping]],2,FALSE)","v":"UK"},"4 to 6 hours a day",10,{"$f":"VLOOKUP(K1064,tblCountries[],3,0)","v":"Europe"},{"$f":"VLOOKUP(tblSalaries[[#This Row],[How many hours of a day you work on Excel]],tblHours,2,0)","v":4},{"$f":"VLOOKUP(tblSalaries[[#This Row],[clean Country]],tblCountries[],5,0)","v":1.3407315045719035},{"$f":"IF($Q$1,tblSalaries[[#This Row],[PPP Factor]]*tblSalaries[[#This Row],[Salary in USD]],tblSalaries[[#This Row],[Salary in USD]])","v":126094.26176538273}]
[null,"ID1086","2012-05-28T15:44:12","Â£63000",63000,"GBP",{"$f":"tblSalaries[[#This Row],[clean Salary (in local currency)]]*VLOOKUP(tblSalaries[[#This Row],[Currency]],tblXrate[],2,FALSE)","v":99299.231140238902},"Business Improvement Specialist","Specialist","UK",{"$f":"VLOOKUP(tblSalaries[[#This Row],[Where do you work]],tblCountries[[Actual]:[Mapping]],2,FALSE)","v":"UK"},"2 to 3 hours per day",1,{"$f":"VLOOKUP(K1065,tblCountries[],3,0)","v":"Europe"},{"$f":"VLOOKUP(tblSalaries[[#This Row],[How many hours of a day you work on Excel]],tblHours,2,0)","v":3},{"$f":"VLOOKUP(tblSalaries[[#This Row],[clean Country]],tblCountries[],5,0)","v":1.3407315045719035},{"$f":"IF($Q$1,tblSalaries[[#This Row],[PPP Factor]]*tblSalaries[[#This Row],[Salary in USD]],tblSalaries[[#This Row],[Salary in USD]])","v":99299.231140238902}]
[null,"ID1087","2012-05-28T15:47:46","Â£55000",55000,"GBP",{"$f":"tblSalaries[[#This Row],[clean Salary (in local currency)]]*VLOOKUP(tblSalaries[[#This Row],[Currency]],tblXrate[],2,FALSE)","v":86689.804963700633},"Finance Director","CXO or Top Mgmt.","UK",{"$f":"VLOOKUP(tblSalaries[[#This Row],[Where do you work]],tblCountries[[Actual]:[Mapping]],2,FALSE)","v":"UK"},"2 to 3 hours per day",22,{"$f":"VLOOKUP(K1066,tblCountries[],3,0)","v":"Europe"},{"$f":"VLOOKUP(tblSalaries[[#This Row],[How many hours of a day you work on Excel]],tblHours,2,0)","v":3},{"$f":"VLOOKUP(tblSalaries[[#This Row],[clean Country]],tblCountries[],5,0)","v":1.3407315045719035},{"$f":"IF($Q$1,tblSalaries[[#This Row],[PPP Factor]]*tblSalaries[[#This Row],[Salary in USD]],tblSalaries[[#This Row],[Salary in USD]])","v":86689.804963700633}]
[null,"ID1088","2012-05-28T15:48:23","50000 US $ per year",50000,"USD",{"$f":"tblSalaries[[#This Row],[clean Salary (in local currency)]]*VLOOKUP(tblSalaries[[#This Row],[Currency]],tblXrate[],2,FALSE)","v":50000},"Sr. Manager MIS","Manager","India",{"$f":"VLOOKUP(tblSalaries[[#This Row],[Where do you work]],tblCountries[[Actual]:[Mapping]],2,FALSE)","v":"India"},"2 to 3 hours per day",30,{"$f":"VLOOKUP(K1067,tblCountries[],3,0)","v":"Asia"},{"$f":"VLOOKUP(tblSalaries[[#This Row],[How many hours of a day you work on Excel]],tblHours,2,0)","v":3},{"$f":"VLOOKUP(tblSalaries[[#This Row],[clean Country]],tblCountries[],5,0)","v":13.098808879263672},{"$f":"IF($Q$1,tblSalaries[[#This Row],[PPP Factor]]*tblSalaries[[#This Row],[Salary in USD]],tblSalaries[[#This Row],[Salary in USD]])","v":50000}]
[null,"ID1089","2012-05-28T15:49:22",240000,240000,"INR",{"$f":"tblSalaries[[#This Row],[clean Salary (in local currency)]]*VLOOKUP(tblSalaries[[#This Row],[Currency]],tblXrate[],2,FALSE)","v":4273.9000049862161},"Executive","Analyst","India",{"$f":"VLOOKUP(tblSalaries[[#This Row],[Where do you work]],tblCountries[[Actual]:[Mapping]],2,FALSE)","v":"India"},"2 to 3 hours per day",3,{"$f":"VLOOKUP(K1068,tblCountries[],3,0)","v":"Asia"},{"$f":"VLOOKUP(tblSalaries[[#This Row],[How many hours of a day you work on Excel]],tblHours,2,0)","v":3},{"$f":"VLOOKUP(tblSalaries[[#This Row],[clean Country]],tblCountries[],5,0)","v":13.098808879263672},{"$f":"IF($Q$1,tblSalaries[[#This Row],[PPP Factor]]*tblSalaries[[#This Row],[Salary in USD]],tblSalaries[[#This Row],[Salary in USD]])","v":4273.9000049862161}]
[null,"ID1090","2012-05-28T15:49:54","Rs. 250000",250000,"INR",{"$f":"tblSalaries[[#This Row],[clean Salary (in local currency)]]*VLOOKUP(tblSalaries[[#This Row],[Currency]],tblXrate[],2,FALSE)","v":4451.9791718606421},"MIS Executive","Reporting","India",{"$f":"VLOOKUP(tblSalaries[[#This Row],[Where do you work]],tblCountries[[Actual]:[Mapping]],2,FALSE)","v":"India"},"2 to 3 hours per day",3,{"$f":"VLOOKUP(K1069,tblCountries[],3,0)","v":"Asia"},{"$f":"VLOOKUP(tblSalaries[[#This Row],[How many hours of a day you work on Excel]],tblHours,2,0)","v":3},{"$f":"VLOOKUP(tblSalaries[[#This Row],[clean Country]],tblCountries[],5,0)","v":13.098808879263672},{"$f":"IF($Q$1,tblSalaries[[#This Row],[PPP Factor]]*tblSalaries[[#This Row],[Salary in USD]],tblSalaries[[#This Row],[Salary in USD]])","v":4451.9791718606421}]
[null,"ID1091","2012-05-28T15:51:32","50000 INR",600000,"INR",{"$f":"tblSalaries[[#This Row],[clean Salary (in local currency)]]*VLOOKUP(tblSalaries[[#This Row],[Currency]],tblXrate[],2,FALSE)","v":10684.750012465542},"Sr.Supervisor","Analyst","India",{"$f":"VLOOKUP(tblSalaries[[#This Row],[Where do you work]],tblCountries[[Actual]:[Mapping]],2,FALSE)","v":"India"},"4 to 6 hours a day",10,{"$f":"VLOOKUP(K1070,tblCountries[],3,0)","v":"Asia"},{"$f":"VLOOKUP(tblSalaries[[#This Row],[How many hours of a day you work on Excel]],tblHours,2,0)","v":4},{"$f":"VLOOKUP(tblSalaries[[#This Row],[clean Country]],tblCountries[],5,0)","v":13.098808879263672},{"$f":"IF($Q$1,tblSalaries[[#This Row],[PPP Factor]]*tblSalaries[[#This Row],[Salary in USD]],tblSalaries[[#This Row],[Salary in USD]])","v":10684.750012465542}]
[null,"ID1092","2012-05-28T15:59:46",40500,40500,"GBP",{"$f":"tblSalaries[[#This Row],[clean Salary (in local currency)]]*VLOOKUP(tblSalaries[[#This Row],[Currency]],tblXrate[],2,FALSE)","v":63835.220018725006},"Policy, Performance and Research Officer","Manager","UK",{"$f":"VLOOKUP(tblSalaries[[#This Row],[Where do you work]],tblCountries[[Actual]:[Mapping]],2,FALSE)","v":"UK"},"2 to 3 hours per day",25,{"$f":"VLOOKUP(K1071,tblCountries[],3,0)","v":"Europe"},{"$f":"VLOOKUP(tblSalaries[[#This Row],[How many hours of a day you work on Excel]],tblHours,2,0)","v":3},{"$f":"VLOOKUP(tblSalaries[[#This Row],[clean Country]],tblCountries[],5,0)","v":1.3407315045719035},{"$f":"IF($Q$1,tblSalaries[[#This Row],[PPP Factor]]*tblSalaries[[#This Row],[Salary in USD]],tblSalaries[[#This Row],[Salary in USD]])","v":63835.220018725006}]
[null,"ID1093","2012-05-28T16:01:05","Â£23000",23000,"GBP",{"$f":"tblSalaries[[#This Row],[clean Salary (in local currency)]]*VLOOKUP(tblSalaries[[#This Row],[Currency]],tblXrate[],2,FALSE)","v":36252.100257547536},"Data Analyst","Analyst","UK",{"$f":"VLOOKUP(tblSalaries[[#This Row],[Where do you work]],tblCountries[[Actual]:[Mapping]],2,FALSE)","v":"UK"},"All the 8 hours baby, all the 8!",5,{"$f":"VLOOKUP(K1072,tblCountries[],3,0)","v":"Europe"},{"$f":"VLOOKUP(tblSalaries[[#This Row],[How many hours of a day you work on Excel]],tblHours,2,0)","v":5},{"$f":"VLOOKUP(tblSalaries[[#This Row],[clean Country]],tblCountries[],5,0)","v":1.3407315045719035},{"$f":"IF($Q$1,tblSalaries[[#This Row],[PPP Factor]]*tblSalaries[[#This Row],[Salary in USD]],tblSalaries[[#This Row],[Salary in USD]])","v":36252.100257547536}]
[null,"ID1094","2012-05-28T16:03:18",7960,7960,"USD",{"$f":"tblSalaries[[#This Row],[clean Salary (in local currency)]]*VLOOKUP(tblSalaries[[#This Row],[Currency]],tblXrate[],2,FALSE)","v":7960},"Team Leader","Manager","India",{"$f":"VLOOKUP(tblSalaries[[#This Row],[Where do you work]],tblCountries[[Actual]:[Mapping]],2,FALSE)","v":"India"},"4 to 6 hours a day",7,{"$f":"VLOOKUP(K1073,tblCountries[],3,0)","v":"Asia"},{"$f":"VLOOKUP(tblSalaries[[#This Row],[How many hours of a day you work on Excel]],tblHours,2,0)","v":4},{"$f":"VLOOKUP(tblSalaries[[#This Row],[clean Country]],tblCountries[],5,0)","v":13.098808879263672},{"$f":"IF($Q$1,tblSalaries[[#This Row],[PPP Factor]]*tblSalaries[[#This Row],[Salary in USD]],tblSalaries[[#This Row],[Salary in USD]])","v":7960}]
[null,"ID1095","2012-05-28T16:03:45","Rs500000",500000,"INR",{"$f":"tblSalaries[[#This Row],[clean Salary (in local currency)]]*VLOOKUP(tblSalaries[[#This Row],[Currency]],tblXrate[],2,FALSE)","v":8903.9583437212841},"Executive","Analyst","India",{"$f":"VLOOKUP(tblSalaries[[#This Row],[Where do you work]],tblCountries[[Actual]:[Mapping]],2,FALSE)","v":"India"},"2 to 3 hours per day",23,{"$f":"VLOOKUP(K1074,tblCountries[],3,0)","v":"Asia"},{"$f":"VLOOKUP(tblSalaries[[#This Row],[How many hours of a day you work on Excel]],tblHours,2,0)","v":3},{"$f":"VLOOKUP(tblSalaries[[#This Row],[clean Country]],tblCountries[],5,0)","v":13.098808879263672},{"$f":"IF($Q$1,tblSalaries[[#This Row],[PPP Factor]]*tblSalaries[[#This Row],[Salary in USD]],tblSalaries[[#This Row],[Salary in USD]])","v":8903.9583437212841}]
[null,"ID1096","2012-05-28T16:05:43","40000 euro",40000,"EUR",{"$f":"tblSalaries[[#This Row],[clean Salary (in local currency)]]*VLOOKUP(tblSalaries[[#This Row],[Currency]],tblXrate[],2,FALSE)","v":50815.977559664309},"Accounting analyst","Analyst","Netherlands",{"$f":"VLOOKUP(tblSalaries[[#This Row],[Where do you work]],tblCountries[[Actual]:[Mapping]],2,FALSE)","v":"Netherlands"},"4 to 6 hours a day",3,{"$f":"VLOOKUP(K1075,tblCountries[],3,0)","v":"Europe"},{"$f":"VLOOKUP(tblSalaries[[#This Row],[How many hours of a day you work on Excel]],tblHours,2,0)","v":4},{"$f":"VLOOKUP(tblSalaries[[#This Row],[clean Country]],tblCountries[],5,0)","v":1.1470734656141099},{"$f":"IF($Q$1,tblSalaries[[#This Row],[PPP Factor]]*tblSalaries[[#This Row],[Salary in USD]],tblSalaries[[#This Row],[Salary in USD]])","v":50815.977559664309}]
[null,"ID1097","2012-05-28T16:07:51","Â£30000",30000,"GBP",{"$f":"tblSalaries[[#This Row],[clean Salary (in local currency)]]*VLOOKUP(tblSalaries[[#This Row],[Currency]],tblXrate[],2,FALSE)","v":47285.348162018527},"Information Analyst","Analyst","UK",{"$f":"VLOOKUP(tblSalaries[[#This Row],[Where do you work]],tblCountries[[Actual]:[Mapping]],2,FALSE)","v":"UK"},"4 to 6 hours a day",4,{"$f":"VLOOKUP(K1076,tblCountries[],3,0)","v":"Europe"},{"$f":"VLOOKUP(tblSalaries[[#This Row],[How many hours of a day you work on Excel]],tblHours,2,0)","v":4},{"$f":"VLOOKUP(tblSalaries[[#This Row],[clean Country]],tblCountries[],5,0)","v":1.3407315045719035},{"$f":"IF($Q$1,tblSalaries[[#This Row],[PPP Factor]]*tblSalaries[[#This Row],[Salary in USD]],tblSalaries[[#This Row],[Salary in USD]])","v":47285.348162018527}]
[null,"ID1098","2012-05-28T16:07:51",48000,48000,"GBP",{"$f":"tblSalaries[[#This Row],[clean Salary (in local currency)]]*VLOOKUP(tblSalaries[[#This Row],[Currency]],tblXrate[],2,FALSE)","v":75656.557059229643},"Business Operations Co-ordinator","Manager","UK",{"$f":"VLOOKUP(tblSalaries[[#This Row],[Where do you work]],tblCountries[[Actual]:[Mapping]],2,FALSE)","v":"UK"},"2 to 3 hours per day",10,{"$f":"VLOOKUP(K1077,tblCountries[],3,0)","v":"Europe"},{"$f":"VLOOKUP(tblSalaries[[#This Row],[How many hours of a day you work on Excel]],tblHours,2,0)","v":3},{"$f":"VLOOKUP(tblSalaries[[#This Row],[clean Country]],tblCountries[],5,0)","v":1.3407315045719035},{"$f":"IF($Q$1,tblSalaries[[#This Row],[PPP Factor]]*tblSalaries[[#This Row],[Salary in USD]],tblSalaries[[#This Row],[Salary in USD]])","v":75656.557059229643}]
[null,"ID1099","2012-05-28T16:10:52","Rs. 20000",240000,"INR",{"$f":"tblSalaries[[#This Row],[clean Salary (in local currency)]]*VLOOKUP(tblSalaries[[#This Row],[Currency]],tblXrate[],2,FALSE)","v":4273.9000049862161},"Accountant","Accountant","India",{"$f":"VLOOKUP(tblSalaries[[#This Row],[Where do you work]],tblCountries[[Actual]:[Mapping]],2,FALSE)","v":"India"},"All the 8 hours baby, all the 8!",20,{"$f":"VLOOKUP(K1078,tblCountries[],3,0)","v":"Asia"},{"$f":"VLOOKUP(tblSalaries[[#This Row],[How many hours of a day you work on Excel]],tblHours,2,0)","v":5},{"$f":"VLOOKUP(tblSalaries[[#This Row],[clean Country]],tblCountries[],5,0)","v":13.098808879263672},{"$f":"IF($Q$1,tblSalaries[[#This Row],[PPP Factor]]*tblSalaries[[#This Row],[Salary in USD]],tblSalaries[[#This Row],[Salary in USD]])","v":4273.9000049862161}]
[null,"ID1100","2012-05-28T16:19:21",37000,37000,"EUR",{"$f":"tblSalaries[[#This Row],[clean Salary (in local currency)]]*VLOOKUP(tblSalaries[[#This Row],[Currency]],tblXrate[],2,FALSE)","v":47004.779242689488},"Project Control Analyst","Analyst","Spain",{"$f":"VLOOKUP(tblSalaries[[#This Row],[Where do you work]],tblCountries[[Actual]:[Mapping]],2,FALSE)","v":"Spain"},"4 to 6 hours a day",11,{"$f":"VLOOKUP(K1079,tblCountries[],3,0)","v":"Europe"},{"$f":"VLOOKUP(tblSalaries[[#This Row],[How many hours of a day you work on Excel]],tblHours,2,0)","v":4},{"$f":"VLOOKUP(tblSalaries[[#This Row],[clean Country]],tblCountries[],5,0)","v":1.5799320838503232},{"$f":"IF($Q$1,tblSalaries[[#This Row],[PPP Factor]]*tblSalaries[[#This Row],[Salary in USD]],tblSalaries[[#This Row],[Salary in USD]])","v":47004.779242689488}]
[null,"ID1101","2012-05-28T16:19:41","Â£30000",30000,"GBP",{"$f":"tblSalaries[[#This Row],[clean Salary (in local currency)]]*VLOOKUP(tblSalaries[[#This Row],[Currency]],tblXrate[],2,FALSE)","v":47285.348162018527},"MDM Executive (Business Analyst)","Analyst","UK",{"$f":"VLOOKUP(tblSalaries[[#This Row],[Where do you work]],tblCountries[[Actual]:[Mapping]],2,FALSE)","v":"UK"},"All the 8 hours baby, all the 8!",10,{"$f":"VLOOKUP(K1080,tblCountries[],3,0)","v":"Europe"},{"$f":"VLOOKUP(tblSalaries[[#This Row],[How many hours of a day you work on Excel]],tblHours,2,0)","v":5},{"$f":"VLOOKUP(tblSalaries[[#This Row],[clean Country]],tblCountries[],5,0)","v":1.3407315045719035},{"$f":"IF($Q$1,tblSalaries[[#This Row],[PPP Factor]]*tblSalaries[[#This Row],[Salary in USD]],tblSalaries[[#This Row],[Salary in USD]])","v":47285.348162018527}]
[null,"ID1102","2012-05-28T16:20:52",58000,58000,"GBP",{"$f":"tblSalaries[[#This Row],[clean Salary (in local currency)]]*VLOOKUP(tblSalaries[[#This Row],[Currency]],tblXrate[],2,FALSE)","v":91418.339779902482},"Data analyst","Analyst","UK",{"$f":"VLOOKUP(tblSalaries[[#This Row],[Where do you work]],tblCountries[[Actual]:[Mapping]],2,FALSE)","v":"UK"},"All the 8 hours baby, all the 8!",8,{"$f":"VLOOKUP(K1081,tblCountries[],3,0)","v":"Europe"},{"$f":"VLOOKUP(tblSalaries[[#This Row],[How many hours of a day you work on Excel]],tblHours,2,0)","v":5},{"$f":"VLOOKUP(tblSalaries[[#This Row],[clean Country]],tblCountries[],5,0)","v":1.3407315045719035},{"$f":"IF($Q$1,tblSalaries[[#This Row],[PPP Factor]]*tblSalaries[[#This Row],[Salary in USD]],tblSalaries[[#This Row],[Salary in USD]])","v":91418.339779902482}]
[null,"ID1103","2012-05-28T16:21:27",79000,79000,"GBP",{"$f":"tblSalaries[[#This Row],[clean Salary (in local currency)]]*VLOOKUP(tblSalaries[[#This Row],[Currency]],tblXrate[],2,FALSE)","v":124518.08349331544},"Market Analyst","Analyst","UK",{"$f":"VLOOKUP(tblSalaries[[#This Row],[Where do you work]],tblCountries[[Actual]:[Mapping]],2,FALSE)","v":"UK"},"2 to 3 hours per day",14,{"$f":"VLOOKUP(K1082,tblCountries[],3,0)","v":"Europe"},{"$f":"VLOOKUP(tblSalaries[[#This Row],[How many hours of a day you work on Excel]],tblHours,2,0)","v":3},{"$f":"VLOOKUP(tblSalaries[[#This Row],[clean Country]],tblCountries[],5,0)","v":1.3407315045719035},{"$f":"IF($Q$1,tblSalaries[[#This Row],[PPP Factor]]*tblSalaries[[#This Row],[Salary in USD]],tblSalaries[[#This Row],[Salary in USD]])","v":124518.08349331544}]
[null,"ID1104","2012-05-28T16:26:14",43912.03,43912,"GBP",{"$f":"tblSalaries[[#This Row],[clean Salary (in local currency)]]*VLOOKUP(tblSalaries[[#This Row],[Currency]],tblXrate[],2,FALSE)","v":69213.140283018583},"Senior Data Analyst","Analyst","UK",{"$f":"VLOOKUP(tblSalaries[[#This Row],[Where do you work]],tblCountries[[Actual]:[Mapping]],2,FALSE)","v":"UK"},"All the 8 hours baby, all the 8!",3,{"$f":"VLOOKUP(K1083,tblCountries[],3,0)","v":"Europe"},{"$f":"VLOOKUP(tblSalaries[[#This Row],[How many hours of a day you work on Excel]],tblHours,2,0)","v":5},{"$f":"VLOOKUP(tblSalaries[[#This Row],[clean Country]],tblCountries[],5,0)","v":1.3407315045719035},{"$f":"IF($Q$1,tblSalaries[[#This Row],[PPP Factor]]*tblSalaries[[#This Row],[Salary in USD]],tblSalaries[[#This Row],[Salary in USD]])","v":69213.140283018583}]
[null,"ID1105","2012-05-28T16:28:25",3500,3500,"USD",{"$f":"tblSalaries[[#This Row],[clean Salary (in local currency)]]*VLOOKUP(tblSalaries[[#This Row],[Currency]],tblXrate[],2,FALSE)","v":3500},"OFFICER","Manager","PAKISTAN",{"$f":"VLOOKUP(tblSalaries[[#This Row],[Where do you work]],tblCountries[[Actual]:[Mapping]],2,FALSE)","v":"Pakistan"},"4 to 6 hours a day",4,{"$f":"VLOOKUP(K1084,tblCountries[],3,0)","v":"Asia"},{"$f":"VLOOKUP(tblSalaries[[#This Row],[How many hours of a day you work on Excel]],tblHours,2,0)","v":4},{"$f":"VLOOKUP(tblSalaries[[#This Row],[clean Country]],tblCountries[],5,0)","v":17.361679224973088},{"$f":"IF($Q$1,tblSalaries[[#This Row],[PPP Factor]]*tblSalaries[[#This Row],[Salary in USD]],tblSalaries[[#This Row],[Salary in USD]])","v":3500}]
[null,"ID1107","2012-05-28T16:34:48","Â£40000",40000,"GBP",{"$f":"tblSalaries[[#This Row],[clean Salary (in local currency)]]*VLOOKUP(tblSalaries[[#This Row],[Currency]],tblXrate[],2,FALSE)","v":63047.130882691366},"Buyer","Manager","UK",{"$f":"VLOOKUP(tblSalaries[[#This Row],[Where do you work]],tblCountries[[Actual]:[Mapping]],2,FALSE)","v":"UK"},"1 or 2 hours a day",20,{"$f":"VLOOKUP(K1085,tblCountries[],3,0)","v":"Europe"},{"$f":"VLOOKUP(tblSalaries[[#This Row],[How many hours of a day you work on Excel]],tblHours,2,0)","v":2},{"$f":"VLOOKUP(tblSalaries[[#This Row],[clean Country]],tblCountries[],5,0)","v":1.3407315045719035},{"$f":"IF($Q$1,tblSalaries[[#This Row],[PPP Factor]]*tblSalaries[[#This Row],[Salary in USD]],tblSalaries[[#This Row],[Salary in USD]])","v":63047.130882691366}]
[null,"ID1108","2012-05-28T16:35:19",57000,57000,"EUR",{"$f":"tblSalaries[[#This Row],[clean Salary (in local currency)]]*VLOOKUP(tblSalaries[[#This Row],[Currency]],tblXrate[],2,FALSE)","v":72412.768022521646},"Spare Part Coordinator","Manager","Norway",{"$f":"VLOOKUP(tblSalaries[[#This Row],[Where do you work]],tblCountries[[Actual]:[Mapping]],2,FALSE)","v":"Norway"},"1 or 2 hours a day",15,{"$f":"VLOOKUP(K1086,tblCountries[],3,0)","v":"Europe"},{"$f":"VLOOKUP(tblSalaries[[#This Row],[How many hours of a day you work on Excel]],tblHours,2,0)","v":2},{"$f":"VLOOKUP(tblSalaries[[#This Row],[clean Country]],tblCountries[],5,0)","v":0.90492042415514951},{"$f":"IF($Q$1,tblSalaries[[#This Row],[PPP Factor]]*tblSalaries[[#This Row],[Salary in USD]],tblSalaries[[#This Row],[Salary in USD]])","v":72412.768022521646}]
[null,"ID1109","2012-05-28T16:41:27",40000,40000,"EUR",{"$f":"tblSalaries[[#This Row],[clean Salary (in local currency)]]*VLOOKUP(tblSalaries[[#This Row],[Currency]],tblXrate[],2,FALSE)","v":50815.977559664309},"Actuary","Accountant","Portugal",{"$f":"VLOOKUP(tblSalaries[[#This Row],[Where do you work]],tblCountries[[Actual]:[Mapping]],2,FALSE)","v":"Portugal"},"2 to 3 hours per day",10,{"$f":"VLOOKUP(K1087,tblCountries[],3,0)","v":"Europe"},{"$f":"VLOOKUP(tblSalaries[[#This Row],[How many hours of a day you work on Excel]],tblHours,2,0)","v":3},{"$f":"VLOOKUP(tblSalaries[[#This Row],[clean Country]],tblCountries[],5,0)","v":2.0712726338769745},{"$f":"IF($Q$1,tblSalaries[[#This Row],[PPP Factor]]*tblSalaries[[#This Row],[Salary in USD]],tblSalaries[[#This Row],[Salary in USD]])","v":50815.977559664309}]
[null,"ID1110","2012-05-28T16:45:28",100000,1200000,"INR",{"$f":"tblSalaries[[#This Row],[clean Salary (in local currency)]]*VLOOKUP(tblSalaries[[#This Row],[Currency]],tblXrate[],2,FALSE)","v":21369.500024931083},"coordinator","Manager","India",{"$f":"VLOOKUP(tblSalaries[[#This Row],[Where do you work]],tblCountries[[Actual]:[Mapping]],2,FALSE)","v":"India"},"2 to 3 hours per day",5,{"$f":"VLOOKUP(K1088,tblCountries[],3,0)","v":"Asia"},{"$f":"VLOOKUP(tblSalaries[[#This Row],[How many hours of a day you work on Excel]],tblHours,2,0)","v":3},{"$f":"VLOOKUP(tblSalaries[[#This Row],[clean Country]],tblCountries[],5,0)","v":13.098808879263672},{"$f":"IF($Q$1,tblSalaries[[#This Row],[PPP Factor]]*tblSalaries[[#This Row],[Salary in USD]],tblSalaries[[#This Row],[Salary in USD]])","v":21369.500024931083}]
[null,"ID1111","2012-05-28T16:45:32","Â£35000",35000,"GBP",{"$f":"tblSalaries[[#This Row],[clean Salary (in local currency)]]*VLOOKUP(tblSalaries[[#This Row],[Currency]],tblXrate[],2,FALSE)","v":55166.239522354947},"Systems Analyst","Analyst","UK",{"$f":"VLOOKUP(tblSalaries[[#This Row],[Where do you work]],tblCountries[[Actual]:[Mapping]],2,FALSE)","v":"UK"},"2 to 3 hours per day",6,{"$f":"VLOOKUP(K1089,tblCountries[],3,0)","v":"Europe"},{"$f":"VLOOKUP(tblSalaries[[#This Row],[How many hours of a day you work on Excel]],tblHours,2,0)","v":3},{"$f":"VLOOKUP(tblSalaries[[#This Row],[clean Country]],tblCountries[],5,0)","v":1.3407315045719035},{"$f":"IF($Q$1,tblSalaries[[#This Row],[PPP Factor]]*tblSalaries[[#This Row],[Salary in USD]],tblSalaries[[#This Row],[Salary in USD]])","v":55166.239522354947}]
[null,"ID1112","2012-05-28T16:53:13","Rs. 15000",180000,"INR",{"$f":"tblSalaries[[#This Row],[clean Salary (in local currency)]]*VLOOKUP(tblSalaries[[#This Row],[Currency]],tblXrate[],2,FALSE)","v":3205.4250037396623},"Logistics Operation Analyst","Analyst","India",{"$f":"VLOOKUP(tblSalaries[[#This Row],[Where do you work]],tblCountries[[Actual]:[Mapping]],2,FALSE)","v":"India"},"All the 8 hours baby, all the 8!",3,{"$f":"VLOOKUP(K1090,tblCountries[],3,0)","v":"Asia"},{"$f":"VLOOKUP(tblSalaries[[#This Row],[How many hours of a day you work on Excel]],tblHours,2,0)","v":5},{"$f":"VLOOKUP(tblSalaries[[#This Row],[clean Country]],tblCountries[],5,0)","v":13.098808879263672},{"$f":"IF($Q$1,tblSalaries[[#This Row],[PPP Factor]]*tblSalaries[[#This Row],[Salary in USD]],tblSalaries[[#This Row],[Salary in USD]])","v":3205.4250037396623}]
[null,"ID1113","2012-05-28T16:58:03","Rs. 600000",600000,"INR",{"$f":"tblSalaries[[#This Row],[clean Salary (in local currency)]]*VLOOKUP(tblSalaries[[#This Row],[Currency]],tblXrate[],2,FALSE)","v":10684.750012465542},"Company Secretary","Accountant","India",{"$f":"VLOOKUP(tblSalaries[[#This Row],[Where do you work]],tblCountries[[Actual]:[Mapping]],2,FALSE)","v":"India"},"2 to 3 hours per day",8,{"$f":"VLOOKUP(K1091,tblCountries[],3,0)","v":"Asia"},{"$f":"VLOOKUP(tblSalaries[[#This Row],[How many hours of a day you work on Excel]],tblHours,2,0)","v":3},{"$f":"VLOOKUP(tblSalaries[[#This Row],[clean Country]],tblCountries[],5,0)","v":13.098808879263672},{"$f":"IF($Q$1,tblSalaries[[#This Row],[PPP Factor]]*tblSalaries[[#This Row],[Salary in USD]],tblSalaries[[#This Row],[Salary in USD]])","v":10684.750012465542}]
[null,"ID1114","2012-05-28T16:59:48","INR 300000",300000,"INR",{"$f":"tblSalaries[[#This Row],[clean Salary (in local currency)]]*VLOOKUP(tblSalaries[[#This Row],[Currency]],tblXrate[],2,FALSE)","v":5342.3750062327708},"Analyst","Analyst","India",{"$f":"VLOOKUP(tblSalaries[[#This Row],[Where do you work]],tblCountries[[Actual]:[Mapping]],2,FALSE)","v":"India"},"4 to 6 hours a day",5,{"$f":"VLOOKUP(K1092,tblCountries[],3,0)","v":"Asia"},{"$f":"VLOOKUP(tblSalaries[[#This Row],[How many hours of a day you work on Excel]],tblHours,2,0)","v":4},{"$f":"VLOOKUP(tblSalaries[[#This Row],[clean Country]],tblCountries[],5,0)","v":13.098808879263672},{"$f":"IF($Q$1,tblSalaries[[#This Row],[PPP Factor]]*tblSalaries[[#This Row],[Salary in USD]],tblSalaries[[#This Row],[Salary in USD]])","v":5342.3750062327708}]
[null,"ID1115","2012-05-28T17:02:43",75000,75000,"GBP",{"$f":"tblSalaries[[#This Row],[clean Salary (in local currency)]]*VLOOKUP(tblSalaries[[#This Row],[Currency]],tblXrate[],2,FALSE)","v":118213.37040504631},"Management Consultant","Manager","UK",{"$f":"VLOOKUP(tblSalaries[[#This Row],[Where do you work]],tblCountries[[Actual]:[Mapping]],2,FALSE)","v":"UK"},"2 to 3 hours per day",10,{"$f":"VLOOKUP(K1093,tblCountries[],3,0)","v":"Europe"},{"$f":"VLOOKUP(tblSalaries[[#This Row],[How many hours of a day you work on Excel]],tblHours,2,0)","v":3},{"$f":"VLOOKUP(tblSalaries[[#This Row],[clean Country]],tblCountries[],5,0)","v":1.3407315045719035},{"$f":"IF($Q$1,tblSalaries[[#This Row],[PPP Factor]]*tblSalaries[[#This Row],[Salary in USD]],tblSalaries[[#This Row],[Salary in USD]])","v":118213.37040504631}]
[null,"ID1116","2012-05-28T17:04:04","R100,000",100000,"ZAR",{"$f":"tblSalaries[[#This Row],[clean Salary (in local currency)]]*VLOOKUP(tblSalaries[[#This Row],[Currency]],tblXrate[],2,FALSE)","v":12192.177986291113},"Q.A.Officer","Manager","South Africa",{"$f":"VLOOKUP(tblSalaries[[#This Row],[Where do you work]],tblCountries[[Actual]:[Mapping]],2,FALSE)","v":"South Africa"},"All the 8 hours baby, all the 8!",15,{"$f":"VLOOKUP(K1094,tblCountries[],3,0)","v":"Africa"},{"$f":"VLOOKUP(tblSalaries[[#This Row],[How many hours of a day you work on Excel]],tblHours,2,0)","v":5},{"$f":"VLOOKUP(tblSalaries[[#This Row],[clean Country]],tblCountries[],5,0)","v":4.4096418481727877},{"$f":"IF($Q$1,tblSalaries[[#This Row],[PPP Factor]]*tblSalaries[[#This Row],[Salary in USD]],tblSalaries[[#This Row],[Salary in USD]])","v":12192.177986291113}]
[null,"ID1117","2012-05-28T17:05:07","Â£45000",45000,"GBP",{"$f":"tblSalaries[[#This Row],[clean Salary (in local currency)]]*VLOOKUP(tblSalaries[[#This Row],[Currency]],tblXrate[],2,FALSE)","v":70928.022243027779},"Assistant Director - Performance Information","CXO or Top Mgmt.","UK",{"$f":"VLOOKUP(tblSalaries[[#This Row],[Where do you work]],tblCountries[[Actual]:[Mapping]],2,FALSE)","v":"UK"},"4 to 6 hours a day",8,{"$f":"VLOOKUP(K1095,tblCountries[],3,0)","v":"Europe"},{"$f":"VLOOKUP(tblSalaries[[#This Row],[How many hours of a day you work on Excel]],tblHours,2,0)","v":4},{"$f":"VLOOKUP(tblSalaries[[#This Row],[clean Country]],tblCountries[],5,0)","v":1.3407315045719035},{"$f":"IF($Q$1,tblSalaries[[#This Row],[PPP Factor]]*tblSalaries[[#This Row],[Salary in USD]],tblSalaries[[#This Row],[Salary in USD]])","v":70928.022243027779}]
[null,"ID1118","2012-05-28T17:09:40","Â£25000",25000,"GBP",{"$f":"tblSalaries[[#This Row],[clean Salary (in local currency)]]*VLOOKUP(tblSalaries[[#This Row],[Currency]],tblXrate[],2,FALSE)","v":39404.456801682099},"Developer","Analyst","UK",{"$f":"VLOOKUP(tblSalaries[[#This Row],[Where do you work]],tblCountries[[Actual]:[Mapping]],2,FALSE)","v":"UK"},"4 to 6 hours a day",3,{"$f":"VLOOKUP(K1096,tblCountries[],3,0)","v":"Europe"},{"$f":"VLOOKUP(tblSalaries[[#This Row],[How many hours of a day you work on Excel]],tblHours,2,0)","v":4},{"$f":"VLOOKUP(tblSalaries[[#This Row],[clean Country]],tblCountries[],5,0)","v":1.3407315045719035},{"$f":"IF($Q$1,tblSalaries[[#This Row],[PPP Factor]]*tblSalaries[[#This Row],[Salary in USD]],tblSalaries[[#This Row],[Salary in USD]])","v":39404.456801682099}]
[null,"ID1119","2012-05-28T17:12:47",18987,18987,"USD",{"$f":"tblSalaries[[#This Row],[clean Salary (in local currency)]]*VLOOKUP(tblSalaries[[#This Row],[Currency]],tblXrate[],2,FALSE)","v":18987},"Business Analyst","Analyst","Nigeria",{"$f":"VLOOKUP(tblSalaries[[#This Row],[Where do you work]],tblCountries[[Actual]:[Mapping]],2,FALSE)","v":"Nigeria"},"All the 8 hours baby, all the 8!",7,{"$f":"VLOOKUP(K1097,tblCountries[],3,0)","v":"Africa"},{"$f":"VLOOKUP(tblSalaries[[#This Row],[How many hours of a day you work on Excel]],tblHours,2,0)","v":5},{"$f":"VLOOKUP(tblSalaries[[#This Row],[clean Country]],tblCountries[],5,0)","v":18.769200930954227},{"$f":"IF($Q$1,tblSalaries[[#This Row],[PPP Factor]]*tblSalaries[[#This Row],[Salary in USD]],tblSalaries[[#This Row],[Salary in USD]])","v":18987}]
[null,"ID1120","2012-05-28T17:15:29","Â£28500",28500,"GBP",{"$f":"tblSalaries[[#This Row],[clean Salary (in local currency)]]*VLOOKUP(tblSalaries[[#This Row],[Currency]],tblXrate[],2,FALSE)","v":44921.080753917595},"Development (Project & Planning) Manager","Manager","UK",{"$f":"VLOOKUP(tblSalaries[[#This Row],[Where do you work]],tblCountries[[Actual]:[Mapping]],2,FALSE)","v":"UK"},"1 or 2 hours a day",15,{"$f":"VLOOKUP(K1098,tblCountries[],3,0)","v":"Europe"},{"$f":"VLOOKUP(tblSalaries[[#This Row],[How many hours of a day you work on Excel]],tblHours,2,0)","v":2},{"$f":"VLOOKUP(tblSalaries[[#This Row],[clean Country]],tblCountries[],5,0)","v":1.3407315045719035},{"$f":"IF($Q$1,tblSalaries[[#This Row],[PPP Factor]]*tblSalaries[[#This Row],[Salary in USD]],tblSalaries[[#This Row],[Salary in USD]])","v":44921.080753917595}]
[null,"ID1121","2012-05-28T17:17:39",60000,60000,"USD",{"$f":"tblSalaries[[#This Row],[clean Salary (in local currency)]]*VLOOKUP(tblSalaries[[#This Row],[Currency]],tblXrate[],2,FALSE)","v":60000},"manager","Manager","India",{"$f":"VLOOKUP(tblSalaries[[#This Row],[Where do you work]],tblCountries[[Actual]:[Mapping]],2,FALSE)","v":"India"},"All the 8 hours baby, all the 8!",14,{"$f":"VLOOKUP(K1099,tblCountries[],3,0)","v":"Asia"},{"$f":"VLOOKUP(tblSalaries[[#This Row],[How many hours of a day you work on Excel]],tblHours,2,0)","v":5},{"$f":"VLOOKUP(tblSalaries[[#This Row],[clean Country]],tblCountries[],5,0)","v":13.098808879263672},{"$f":"IF($Q$1,tblSalaries[[#This Row],[PPP Factor]]*tblSalaries[[#This Row],[Salary in USD]],tblSalaries[[#This Row],[Salary in USD]])","v":60000}]
[null,"ID1122","2012-05-28T17:18:47","GBP Â£45200",45200,"GBP",{"$f":"tblSalaries[[#This Row],[clean Salary (in local currency)]]*VLOOKUP(tblSalaries[[#This Row],[Currency]],tblXrate[],2,FALSE)","v":71243.257897441246},"Clinical audit manager","Manager","UK",{"$f":"VLOOKUP(tblSalaries[[#This Row],[Where do you work]],tblCountries[[Actual]:[Mapping]],2,FALSE)","v":"UK"},"2 to 3 hours per day",5,{"$f":"VLOOKUP(K1100,tblCountries[],3,0)","v":"Europe"},{"$f":"VLOOKUP(tblSalaries[[#This Row],[How many hours of a day you work on Excel]],tblHours,2,0)","v":3},{"$f":"VLOOKUP(tblSalaries[[#This Row],[clean Country]],tblCountries[],5,0)","v":1.3407315045719035},{"$f":"IF($Q$1,tblSalaries[[#This Row],[PPP Factor]]*tblSalaries[[#This Row],[Salary in USD]],tblSalaries[[#This Row],[Salary in USD]])","v":71243.257897441246}]
[null,"ID1123","2012-05-28T17:22:19","252000 INR",252000,"INR",{"$f":"tblSalaries[[#This Row],[clean Salary (in local currency)]]*VLOOKUP(tblSalaries[[#This Row],[Currency]],tblXrate[],2,FALSE)","v":4487.5950052355274},"Inventory Manager","Manager","India",{"$f":"VLOOKUP(tblSalaries[[#This Row],[Where do you work]],tblCountries[[Actual]:[Mapping]],2,FALSE)","v":"India"},"1 or 2 hours a day",16,{"$f":"VLOOKUP(K1101,tblCountries[],3,0)","v":"Asia"},{"$f":"VLOOKUP(tblSalaries[[#This Row],[How many hours of a day you work on Excel]],tblHours,2,0)","v":2},{"$f":"VLOOKUP(tblSalaries[[#This Row],[clean Country]],tblCountries[],5,0)","v":13.098808879263672},{"$f":"IF($Q$1,tblSalaries[[#This Row],[PPP Factor]]*tblSalaries[[#This Row],[Salary in USD]],tblSalaries[[#This Row],[Salary in USD]])","v":4487.5950052355274}]
[null,"ID1124","2012-05-28T17:34:16",242304,242304,"INR",{"$f":"tblSalaries[[#This Row],[clean Salary (in local currency)]]*VLOOKUP(tblSalaries[[#This Row],[Currency]],tblXrate[],2,FALSE)","v":4314.929445034084},"accountant","Accountant","India",{"$f":"VLOOKUP(tblSalaries[[#This Row],[Where do you work]],tblCountries[[Actual]:[Mapping]],2,FALSE)","v":"India"},"4 to 6 hours a day",7,{"$f":"VLOOKUP(K1102,tblCountries[],3,0)","v":"Asia"},{"$f":"VLOOKUP(tblSalaries[[#This Row],[How many hours of a day you work on Excel]],tblHours,2,0)","v":4},{"$f":"VLOOKUP(tblSalaries[[#This Row],[clean Country]],tblCountries[],5,0)","v":13.098808879263672},{"$f":"IF($Q$1,tblSalaries[[#This Row],[PPP Factor]]*tblSalaries[[#This Row],[Salary in USD]],tblSalaries[[#This Row],[Salary in USD]])","v":4314.929445034084}]
[null,"ID1125","2012-05-28T17:38:46",210000,210000,"INR",{"$f":"tblSalaries[[#This Row],[clean Salary (in local currency)]]*VLOOKUP(tblSalaries[[#This Row],[Currency]],tblXrate[],2,FALSE)","v":3739.6625043629392},"information Analyst","Analyst","India",{"$f":"VLOOKUP(tblSalaries[[#This Row],[Where do you work]],tblCountries[[Actual]:[Mapping]],2,FALSE)","v":"India"},"All the 8 hours baby, all the 8!",1,{"$f":"VLOOKUP(K1103,tblCountries[],3,0)","v":"Asia"},{"$f":"VLOOKUP(tblSalaries[[#This Row],[How many hours of a day you work on Excel]],tblHours,2,0)","v":5},{"$f":"VLOOKUP(tblSalaries[[#This Row],[clean Country]],tblCountries[],5,0)","v":13.098808879263672},{"$f":"IF($Q$1,tblSalaries[[#This Row],[PPP Factor]]*tblSalaries[[#This Row],[Salary in USD]],tblSalaries[[#This Row],[Salary in USD]])","v":3739.6625043629392}]
[null,"ID1126","2012-05-28T17:42:11",5000,60000,"EUR",{"$f":"tblSalaries[[#This Row],[clean Salary (in local currency)]]*VLOOKUP(tblSalaries[[#This Row],[Currency]],tblXrate[],2,FALSE)","v":76223.966339496474},"Development Manager","Manager","Finland",{"$f":"VLOOKUP(tblSalaries[[#This Row],[Where do you work]],tblCountries[[Actual]:[Mapping]],2,FALSE)","v":"Finland"},"1 or 2 hours a day",4,{"$f":"VLOOKUP(K1104,tblCountries[],3,0)","v":"Europe"},{"$f":"VLOOKUP(tblSalaries[[#This Row],[How many hours of a day you work on Excel]],tblHours,2,0)","v":2},{"$f":"VLOOKUP(tblSalaries[[#This Row],[clean Country]],tblCountries[],5,0)","v":1.3353295065680539},{"$f":"IF($Q$1,tblSalaries[[#This Row],[PPP Factor]]*tblSalaries[[#This Row],[Salary in USD]],tblSalaries[[#This Row],[Salary in USD]])","v":76223.966339496474}]
[null,"ID1127","2012-05-28T17:42:22","AED 120000",120000,"AED",{"$f":"tblSalaries[[#This Row],[clean Salary (in local currency)]]*VLOOKUP(tblSalaries[[#This Row],[Currency]],tblXrate[],2,FALSE)","v":32666.305522511171},"Finance Manager","Manager","UAE",{"$f":"VLOOKUP(tblSalaries[[#This Row],[Where do you work]],tblCountries[[Actual]:[Mapping]],2,FALSE)","v":"UAE"},"2 to 3 hours per day",12,{"$f":"VLOOKUP(K1105,tblCountries[],3,0)","v":"Asia"},{"$f":"VLOOKUP(tblSalaries[[#This Row],[How many hours of a day you work on Excel]],tblHours,2,0)","v":3},{"$f":"VLOOKUP(tblSalaries[[#This Row],[clean Country]],tblCountries[],5,0)","v":1.0047551808629926},{"$f":"IF($Q$1,tblSalaries[[#This Row],[PPP Factor]]*tblSalaries[[#This Row],[Salary in USD]],tblSalaries[[#This Row],[Salary in USD]])","v":32666.305522511171}]
[null,"ID1128","2012-05-28T17:42:51",19000,19000,"USD",{"$f":"tblSalaries[[#This Row],[clean Salary (in local currency)]]*VLOOKUP(tblSalaries[[#This Row],[Currency]],tblXrate[],2,FALSE)","v":19000},"MI Specialist","Reporting","UK",{"$f":"VLOOKUP(tblSalaries[[#This Row],[Where do you work]],tblCountries[[Actual]:[Mapping]],2,FALSE)","v":"UK"},"All the 8 hours baby, all the 8!",8,{"$f":"VLOOKUP(K1106,tblCountries[],3,0)","v":"Europe"},{"$f":"VLOOKUP(tblSalaries[[#This Row],[How many hours of a day you work on Excel]],tblHours,2,0)","v":5},{"$f":"VLOOKUP(tblSalaries[[#This Row],[clean Country]],tblCountries[],5,0)","v":1.3407315045719035},{"$f":"IF($Q$1,tblSalaries[[#This Row],[PPP Factor]]*tblSalaries[[#This Row],[Salary in USD]],tblSalaries[[#This Row],[Salary in USD]])","v":19000}]
[null,"ID1129","2012-05-28T17:42:57",50000,50000,"EUR",{"$f":"tblSalaries[[#This Row],[clean Salary (in local currency)]]*VLOOKUP(tblSalaries[[#This Row],[Currency]],tblXrate[],2,FALSE)","v":63519.971949580387},"Network Enginer","Engineer","Portugal",{"$f":"VLOOKUP(tblSalaries[[#This Row],[Where do you work]],tblCountries[[Actual]:[Mapping]],2,FALSE)","v":"Portugal"},"2 to 3 hours per day",14,{"$f":"VLOOKUP(K1107,tblCountries[],3,0)","v":"Europe"},{"$f":"VLOOKUP(tblSalaries[[#This Row],[How many hours of a day you work on Excel]],tblHours,2,0)","v":3},{"$f":"VLOOKUP(tblSalaries[[#This Row],[clean Country]],tblCountries[],5,0)","v":2.0712726338769745},{"$f":"IF($Q$1,tblSalaries[[#This Row],[PPP Factor]]*tblSalaries[[#This Row],[Salary in USD]],tblSalaries[[#This Row],[Salary in USD]])","v":63519.971949580387}]
[null,"ID1130","2012-05-28T17:53:43","Rs. 900000",900000,"INR",{"$f":"tblSalaries[[#This Row],[clean Salary (in local currency)]]*VLOOKUP(tblSalaries[[#This Row],[Currency]],tblXrate[],2,FALSE)","v":16027.125018698311},"officer","Manager","India",{"$f":"VLOOKUP(tblSalaries[[#This Row],[Where do you work]],tblCountries[[Actual]:[Mapping]],2,FALSE)","v":"India"},"4 to 6 hours a day",22,{"$f":"VLOOKUP(K1108,tblCountries[],3,0)","v":"Asia"},{"$f":"VLOOKUP(tblSalaries[[#This Row],[How many hours of a day you work on Excel]],tblHours,2,0)","v":4},{"$f":"VLOOKUP(tblSalaries[[#This Row],[clean Country]],tblCountries[],5,0)","v":13.098808879263672},{"$f":"IF($Q$1,tblSalaries[[#This Row],[PPP Factor]]*tblSalaries[[#This Row],[Salary in USD]],tblSalaries[[#This Row],[Salary in USD]])","v":16027.125018698311}]
[null,"ID1131","2012-05-28T18:02:44","4,00,000",400000,"INR",{"$f":"tblSalaries[[#This Row],[clean Salary (in local currency)]]*VLOOKUP(tblSalaries[[#This Row],[Currency]],tblXrate[],2,FALSE)","v":7123.1666749770275},"Sr. Team Lead - MIS","Reporting","India",{"$f":"VLOOKUP(tblSalaries[[#This Row],[Where do you work]],tblCountries[[Actual]:[Mapping]],2,FALSE)","v":"India"},"4 to 6 hours a day",9,{"$f":"VLOOKUP(K1109,tblCountries[],3,0)","v":"Asia"},{"$f":"VLOOKUP(tblSalaries[[#This Row],[How many hours of a day you work on Excel]],tblHours,2,0)","v":4},{"$f":"VLOOKUP(tblSalaries[[#This Row],[clean Country]],tblCountries[],5,0)","v":13.098808879263672},{"$f":"IF($Q$1,tblSalaries[[#This Row],[PPP Factor]]*tblSalaries[[#This Row],[Salary in USD]],tblSalaries[[#This Row],[Salary in USD]])","v":7123.1666749770275}]
[null,"ID1132","2012-05-28T18:05:13",150252,150252,"INR",{"$f":"tblSalaries[[#This Row],[clean Salary (in local currency)]]*VLOOKUP(tblSalaries[[#This Row],[Currency]],tblXrate[],2,FALSE)","v":2675.675098121621},"KEY","Manager","India",{"$f":"VLOOKUP(tblSalaries[[#This Row],[Where do you work]],tblCountries[[Actual]:[Mapping]],2,FALSE)","v":"India"},"2 to 3 hours per day",5,{"$f":"VLOOKUP(K1110,tblCountries[],3,0)","v":"Asia"},{"$f":"VLOOKUP(tblSalaries[[#This Row],[How many hours of a day you work on Excel]],tblHours,2,0)","v":3},{"$f":"VLOOKUP(tblSalaries[[#This Row],[clean Country]],tblCountries[],5,0)","v":13.098808879263672},{"$f":"IF($Q$1,tblSalaries[[#This Row],[PPP Factor]]*tblSalaries[[#This Row],[Salary in USD]],tblSalaries[[#This Row],[Salary in USD]])","v":2675.675098121621}]
[null,"ID1133","2012-05-28T18:05:16","Â£15000",15000,"GBP",{"$f":"tblSalaries[[#This Row],[clean Salary (in local currency)]]*VLOOKUP(tblSalaries[[#This Row],[Currency]],tblXrate[],2,FALSE)","v":23642.674081009263},"MI Specialist","Reporting","UK",{"$f":"VLOOKUP(tblSalaries[[#This Row],[Where do you work]],tblCountries[[Actual]:[Mapping]],2,FALSE)","v":"UK"},"All the 8 hours baby, all the 8!",2,{"$f":"VLOOKUP(K1111,tblCountries[],3,0)","v":"Europe"},{"$f":"VLOOKUP(tblSalaries[[#This Row],[How many hours of a day you work on Excel]],tblHours,2,0)","v":5},{"$f":"VLOOKUP(tblSalaries[[#This Row],[clean Country]],tblCountries[],5,0)","v":1.3407315045719035},{"$f":"IF($Q$1,tblSalaries[[#This Row],[PPP Factor]]*tblSalaries[[#This Row],[Salary in USD]],tblSalaries[[#This Row],[Salary in USD]])","v":23642.674081009263}]
[null,"ID1134","2012-05-28T18:11:36","â‚¬ 45000",45000,"EUR",{"$f":"tblSalaries[[#This Row],[clean Salary (in local currency)]]*VLOOKUP(tblSalaries[[#This Row],[Currency]],tblXrate[],2,FALSE)","v":57167.974754622352},"Sales Planning","Manager","Spain",{"$f":"VLOOKUP(tblSalaries[[#This Row],[Where do you work]],tblCountries[[Actual]:[Mapping]],2,FALSE)","v":"Spain"},"4 to 6 hours a day",14,{"$f":"VLOOKUP(K1112,tblCountries[],3,0)","v":"Europe"},{"$f":"VLOOKUP(tblSalaries[[#This Row],[How many hours of a day you work on Excel]],tblHours,2,0)","v":4},{"$f":"VLOOKUP(tblSalaries[[#This Row],[clean Country]],tblCountries[],5,0)","v":1.5799320838503232},{"$f":"IF($Q$1,tblSalaries[[#This Row],[PPP Factor]]*tblSalaries[[#This Row],[Salary in USD]],tblSalaries[[#This Row],[Salary in USD]])","v":57167.974754622352}]
[null,"ID1135","2012-05-28T18:30:51","Rs 2400000",2400000,"INR",{"$f":"tblSalaries[[#This Row],[clean Salary (in local currency)]]*VLOOKUP(tblSalaries[[#This Row],[Currency]],tblXrate[],2,FALSE)","v":42739.000049862167},"GM Finance","Manager","India",{"$f":"VLOOKUP(tblSalaries[[#This Row],[Where do you work]],tblCountries[[Actual]:[Mapping]],2,FALSE)","v":"India"},"All the 8 hours baby, all the 8!",10,{"$f":"VLOOKUP(K1113,tblCountries[],3,0)","v":"Asia"},{"$f":"VLOOKUP(tblSalaries[[#This Row],[How many hours of a day you work on Excel]],tblHours,2,0)","v":5},{"$f":"VLOOKUP(tblSalaries[[#This Row],[clean Country]],tblCountries[],5,0)","v":13.098808879263672},{"$f":"IF($Q$1,tblSalaries[[#This Row],[PPP Factor]]*tblSalaries[[#This Row],[Salary in USD]],tblSalaries[[#This Row],[Salary in USD]])","v":42739.000049862167}]
[null,"ID1136","2012-05-28T18:34:12","PhP 216,000",216000,"PHP",{"$f":"tblSalaries[[#This Row],[clean Salary (in local currency)]]*VLOOKUP(tblSalaries[[#This Row],[Currency]],tblXrate[],2,FALSE)","v":5120.2912876821438},"Planner","Manager","Philippines",{"$f":"VLOOKUP(tblSalaries[[#This Row],[Where do you work]],tblCountries[[Actual]:[Mapping]],2,FALSE)","v":"Philippines"},"4 to 6 hours a day",2,{"$f":"VLOOKUP(K1114,tblCountries[],3,0)","v":"Asia"},{"$f":"VLOOKUP(tblSalaries[[#This Row],[How many hours of a day you work on Excel]],tblHours,2,0)","v":4},{"$f":"VLOOKUP(tblSalaries[[#This Row],[clean Country]],tblCountries[],5,0)","v":11.879941075374417},{"$f":"IF($Q$1,tblSalaries[[#This Row],[PPP Factor]]*tblSalaries[[#This Row],[Salary in USD]],tblSalaries[[#This Row],[Salary in USD]])","v":5120.2912876821438}]
[null,"ID1137","2012-05-28T18:38:06",100000,100000,"EUR",{"$f":"tblSalaries[[#This Row],[clean Salary (in local currency)]]*VLOOKUP(tblSalaries[[#This Row],[Currency]],tblXrate[],2,FALSE)","v":127039.94389916077},"Finance Director","CXO or Top Mgmt.","Spain",{"$f":"VLOOKUP(tblSalaries[[#This Row],[Where do you work]],tblCountries[[Actual]:[Mapping]],2,FALSE)","v":"Spain"},"1 or 2 hours a day",20,{"$f":"VLOOKUP(K1115,tblCountries[],3,0)","v":"Europe"},{"$f":"VLOOKUP(tblSalaries[[#This Row],[How many hours of a day you work on Excel]],tblHours,2,0)","v":2},{"$f":"VLOOKUP(tblSalaries[[#This Row],[clean Country]],tblCountries[],5,0)","v":1.5799320838503232},{"$f":"IF($Q$1,tblSalaries[[#This Row],[PPP Factor]]*tblSalaries[[#This Row],[Salary in USD]],tblSalaries[[#This Row],[Salary in USD]])","v":127039.94389916077}]
[null,"ID1138","2012-05-28T18:39:19",90000,90000,"USD",{"$f":"tblSalaries[[#This Row],[clean Salary (in local currency)]]*VLOOKUP(tblSalaries[[#This Row],[Currency]],tblXrate[],2,FALSE)","v":90000},"Performance manager","Manager","USA",{"$f":"VLOOKUP(tblSalaries[[#This Row],[Where do you work]],tblCountries[[Actual]:[Mapping]],2,FALSE)","v":"USA"},"4 to 6 hours a day",5,{"$f":"VLOOKUP(K1116,tblCountries[],3,0)","v":"North Amer."},{"$f":"VLOOKUP(tblSalaries[[#This Row],[How many hours of a day you work on Excel]],tblHours,2,0)","v":4},{"$f":"VLOOKUP(tblSalaries[[#This Row],[clean Country]],tblCountries[],5,0)","v":1},{"$f":"IF($Q$1,tblSalaries[[#This Row],[PPP Factor]]*tblSalaries[[#This Row],[Salary in USD]],tblSalaries[[#This Row],[Salary in USD]])","v":90000}]
[null,"ID1139","2012-05-28T18:40:08",400000,400000,"INR",{"$f":"tblSalaries[[#This Row],[clean Salary (in local currency)]]*VLOOKUP(tblSalaries[[#This Row],[Currency]],tblXrate[],2,FALSE)","v":7123.1666749770275},"software engineer","Engineer","India",{"$f":"VLOOKUP(tblSalaries[[#This Row],[Where do you work]],tblCountries[[Actual]:[Mapping]],2,FALSE)","v":"India"},"1 or 2 hours a day",2,{"$f":"VLOOKUP(K1117,tblCountries[],3,0)","v":"Asia"},{"$f":"VLOOKUP(tblSalaries[[#This Row],[How many hours of a day you work on Excel]],tblHours,2,0)","v":2},{"$f":"VLOOKUP(tblSalaries[[#This Row],[clean Country]],tblCountries[],5,0)","v":13.098808879263672},{"$f":"IF($Q$1,tblSalaries[[#This Row],[PPP Factor]]*tblSalaries[[#This Row],[Salary in USD]],tblSalaries[[#This Row],[Salary in USD]])","v":7123.1666749770275}]
[null,"ID1140","2012-05-28T18:45:00",10000,10000,"USD",{"$f":"tblSalaries[[#This Row],[clean Salary (in local currency)]]*VLOOKUP(tblSalaries[[#This Row],[Currency]],tblXrate[],2,FALSE)","v":10000},"Business analyst","Analyst","India",{"$f":"VLOOKUP(tblSalaries[[#This Row],[Where do you work]],tblCountries[[Actual]:[Mapping]],2,FALSE)","v":"India"},"2 to 3 hours per day",5,{"$f":"VLOOKUP(K1118,tblCountries[],3,0)","v":"Asia"},{"$f":"VLOOKUP(tblSalaries[[#This Row],[How many hours of a day you work on Excel]],tblHours,2,0)","v":3},{"$f":"VLOOKUP(tblSalaries[[#This Row],[clean Country]],tblCountries[],5,0)","v":13.098808879263672},{"$f":"IF($Q$1,tblSalaries[[#This Row],[PPP Factor]]*tblSalaries[[#This Row],[Salary in USD]],tblSalaries[[#This Row],[Salary in USD]])","v":10000}]
[null,"ID1141","2012-05-28T18:50:35",29000,29000,"GBP",{"$f":"tblSalaries[[#This Row],[clean Salary (in local currency)]]*VLOOKUP(tblSalaries[[#This Row],[Currency]],tblXrate[],2,FALSE)","v":45709.169889951241},"Financial Analyst","Analyst","UK",{"$f":"VLOOKUP(tblSalaries[[#This Row],[Where do you work]],tblCountries[[Actual]:[Mapping]],2,FALSE)","v":"UK"},"4 to 6 hours a day",14,{"$f":"VLOOKUP(K1119,tblCountries[],3,0)","v":"Europe"},{"$f":"VLOOKUP(tblSalaries[[#This Row],[How many hours of a day you work on Excel]],tblHours,2,0)","v":4},{"$f":"VLOOKUP(tblSalaries[[#This Row],[clean Country]],tblCountries[],5,0)","v":1.3407315045719035},{"$f":"IF($Q$1,tblSalaries[[#This Row],[PPP Factor]]*tblSalaries[[#This Row],[Salary in USD]],tblSalaries[[#This Row],[Salary in USD]])","v":45709.169889951241}]
[null,"ID1142","2012-05-28T19:05:22","200000 rupees",200000,"INR",{"$f":"tblSalaries[[#This Row],[clean Salary (in local currency)]]*VLOOKUP(tblSalaries[[#This Row],[Currency]],tblXrate[],2,FALSE)","v":3561.5833374885137},"MIS Sr. Executive","Reporting","India",{"$f":"VLOOKUP(tblSalaries[[#This Row],[Where do you work]],tblCountries[[Actual]:[Mapping]],2,FALSE)","v":"India"},"All the 8 hours baby, all the 8!",5,{"$f":"VLOOKUP(K1120,tblCountries[],3,0)","v":"Asia"},{"$f":"VLOOKUP(tblSalaries[[#This Row],[How many hours of a day you work on Excel]],tblHours,2,0)","v":5},{"$f":"VLOOKUP(tblSalaries[[#This Row],[clean Country]],tblCountries[],5,0)","v":13.098808879263672},{"$f":"IF($Q$1,tblSalaries[[#This Row],[PPP Factor]]*tblSalaries[[#This Row],[Salary in USD]],tblSalaries[[#This Row],[Salary in USD]])","v":3561.5833374885137}]
[null,"ID1143","2012-05-28T19:09:37",30000,30000,"EUR",{"$f":"tblSalaries[[#This Row],[clean Salary (in local currency)]]*VLOOKUP(tblSalaries[[#This Row],[Currency]],tblXrate[],2,FALSE)","v":38111.983169748237},"Translator","Analyst","Belgium",{"$f":"VLOOKUP(tblSalaries[[#This Row],[Where do you work]],tblCountries[[Actual]:[Mapping]],2,FALSE)","v":"Belgium"},"1 or 2 hours a day",15,{"$f":"VLOOKUP(K1121,tblCountries[],3,0)","v":"Europe"},{"$f":"VLOOKUP(tblSalaries[[#This Row],[How many hours of a day you work on Excel]],tblHours,2,0)","v":2},{"$f":"VLOOKUP(tblSalaries[[#This Row],[clean Country]],tblCountries[],5,0)","v":1.2822163924000318},{"$f":"IF($Q$1,tblSalaries[[#This Row],[PPP Factor]]*tblSalaries[[#This Row],[Salary in USD]],tblSalaries[[#This Row],[Salary in USD]])","v":38111.983169748237}]
[null,"ID1144","2012-05-28T19:19:51",5000,60000,"USD",{"$f":"tblSalaries[[#This Row],[clean Salary (in local currency)]]*VLOOKUP(tblSalaries[[#This Row],[Currency]],tblXrate[],2,FALSE)","v":60000},"Business Anaylyst","Analyst","USA",{"$f":"VLOOKUP(tblSalaries[[#This Row],[Where do you work]],tblCountries[[Actual]:[Mapping]],2,FALSE)","v":"USA"},"2 to 3 hours per day",4,{"$f":"VLOOKUP(K1122,tblCountries[],3,0)","v":"North Amer."},{"$f":"VLOOKUP(tblSalaries[[#This Row],[How many hours of a day you work on Excel]],tblHours,2,0)","v":3},{"$f":"VLOOKUP(tblSalaries[[#This Row],[clean Country]],tblCountries[],5,0)","v":1},{"$f":"IF($Q$1,tblSalaries[[#This Row],[PPP Factor]]*tblSalaries[[#This Row],[Salary in USD]],tblSalaries[[#This Row],[Salary in USD]])","v":60000}]
[null,"ID1145","2012-05-28T19:23:29",40000,40000,"USD",{"$f":"tblSalaries[[#This Row],[clean Salary (in local currency)]]*VLOOKUP(tblSalaries[[#This Row],[Currency]],tblXrate[],2,FALSE)","v":40000},"Engineer","Engineer","India",{"$f":"VLOOKUP(tblSalaries[[#This Row],[Where do you work]],tblCountries[[Actual]:[Mapping]],2,FALSE)","v":"India"},"2 to 3 hours per day",2,{"$f":"VLOOKUP(K1123,tblCountries[],3,0)","v":"Asia"},{"$f":"VLOOKUP(tblSalaries[[#This Row],[How many hours of a day you work on Excel]],tblHours,2,0)","v":3},{"$f":"VLOOKUP(tblSalaries[[#This Row],[clean Country]],tblCountries[],5,0)","v":13.098808879263672},{"$f":"IF($Q$1,tblSalaries[[#This Row],[PPP Factor]]*tblSalaries[[#This Row],[Salary in USD]],tblSalaries[[#This Row],[Salary in USD]])","v":40000}]
[null,"ID1146","2012-05-28T19:25:04","INR 853000",853000,"INR",{"$f":"tblSalaries[[#This Row],[clean Salary (in local currency)]]*VLOOKUP(tblSalaries[[#This Row],[Currency]],tblXrate[],2,FALSE)","v":15190.15293438851},"Lead Research Analyst","Analyst","India",{"$f":"VLOOKUP(tblSalaries[[#This Row],[Where do you work]],tblCountries[[Actual]:[Mapping]],2,FALSE)","v":"India"},"2 to 3 hours per day",6,{"$f":"VLOOKUP(K1124,tblCountries[],3,0)","v":"Asia"},{"$f":"VLOOKUP(tblSalaries[[#This Row],[How many hours of a day you work on Excel]],tblHours,2,0)","v":3},{"$f":"VLOOKUP(tblSalaries[[#This Row],[clean Country]],tblCountries[],5,0)","v":13.098808879263672},{"$f":"IF($Q$1,tblSalaries[[#This Row],[PPP Factor]]*tblSalaries[[#This Row],[Salary in USD]],tblSalaries[[#This Row],[Salary in USD]])","v":15190.15293438851}]
[null,"ID1147","2012-05-28T19:25:35",90000,90000,"EUR",{"$f":"tblSalaries[[#This Row],[clean Salary (in local currency)]]*VLOOKUP(tblSalaries[[#This Row],[Currency]],tblXrate[],2,FALSE)","v":114335.9495092447},"Management Information Manager","Manager","Continental Europe",{"$f":"VLOOKUP(tblSalaries[[#This Row],[Where do you work]],tblCountries[[Actual]:[Mapping]],2,FALSE)","v":"CEE"},"2 to 3 hours per day",20,{"$f":"VLOOKUP(K1125,tblCountries[],3,0)","v":"Europe"},{"$f":"VLOOKUP(tblSalaries[[#This Row],[How many hours of a day you work on Excel]],tblHours,2,0)","v":3},{"$f":"VLOOKUP(tblSalaries[[#This Row],[clean Country]],tblCountries[],5,0)","v":1},{"$f":"IF($Q$1,tblSalaries[[#This Row],[PPP Factor]]*tblSalaries[[#This Row],[Salary in USD]],tblSalaries[[#This Row],[Salary in USD]])","v":114335.9495092447}]
[null,"ID1148","2012-05-28T19:32:15","Â£23000",23000,"GBP",{"$f":"tblSalaries[[#This Row],[clean Salary (in local currency)]]*VLOOKUP(tblSalaries[[#This Row],[Currency]],tblXrate[],2,FALSE)","v":36252.100257547536},"Data Management Officer","Manager","UK",{"$f":"VLOOKUP(tblSalaries[[#This Row],[Where do you work]],tblCountries[[Actual]:[Mapping]],2,FALSE)","v":"UK"},"4 to 6 hours a day",10,{"$f":"VLOOKUP(K1126,tblCountries[],3,0)","v":"Europe"},{"$f":"VLOOKUP(tblSalaries[[#This Row],[How many hours of a day you work on Excel]],tblHours,2,0)","v":4},{"$f":"VLOOKUP(tblSalaries[[#This Row],[clean Country]],tblCountries[],5,0)","v":1.3407315045719035},{"$f":"IF($Q$1,tblSalaries[[#This Row],[PPP Factor]]*tblSalaries[[#This Row],[Salary in USD]],tblSalaries[[#This Row],[Salary in USD]])","v":36252.100257547536}]
[null,"ID1149","2012-05-28T19:53:14","Â£30000",30000,"GBP",{"$f":"tblSalaries[[#This Row],[clean Salary (in local currency)]]*VLOOKUP(tblSalaries[[#This Row],[Currency]],tblXrate[],2,FALSE)","v":47285.348162018527},"Reporting Accountant","Accountant","UK",{"$f":"VLOOKUP(tblSalaries[[#This Row],[Where do you work]],tblCountries[[Actual]:[Mapping]],2,FALSE)","v":"UK"},"2 to 3 hours per day",5,{"$f":"VLOOKUP(K1127,tblCountries[],3,0)","v":"Europe"},{"$f":"VLOOKUP(tblSalaries[[#This Row],[How many hours of a day you work on Excel]],tblHours,2,0)","v":3},{"$f":"VLOOKUP(tblSalaries[[#This Row],[clean Country]],tblCountries[],5,0)","v":1.3407315045719035},{"$f":"IF($Q$1,tblSalaries[[#This Row],[PPP Factor]]*tblSalaries[[#This Row],[Salary in USD]],tblSalaries[[#This Row],[Salary in USD]])","v":47285.348162018527}]
[null,"ID1150","2012-05-28T20:05:20","â‚¬70k",70000,"EUR",{"$f":"tblSalaries[[#This Row],[clean Salary (in local currency)]]*VLOOKUP(tblSalaries[[#This Row],[Currency]],tblXrate[],2,FALSE)","v":88927.960729412545},"Construction Planner","Consultant","Ireland",{"$f":"VLOOKUP(tblSalaries[[#This Row],[Where do you work]],tblCountries[[Actual]:[Mapping]],2,FALSE)","v":"Ireland"},"2 to 3 hours per day",20,{"$f":"VLOOKUP(K1128,tblCountries[],3,0)","v":"Europe"},{"$f":"VLOOKUP(tblSalaries[[#This Row],[How many hours of a day you work on Excel]],tblHours,2,0)","v":3},{"$f":"VLOOKUP(tblSalaries[[#This Row],[clean Country]],tblCountries[],5,0)","v":1.2206917429803981},{"$f":"IF($Q$1,tblSalaries[[#This Row],[PPP Factor]]*tblSalaries[[#This Row],[Salary in USD]],tblSalaries[[#This Row],[Salary in USD]])","v":88927.960729412545}]
[null,"ID1151","2012-05-28T20:19:57",6000,6000,"USD",{"$f":"tblSalaries[[#This Row],[clean Salary (in local currency)]]*VLOOKUP(tblSalaries[[#This Row],[Currency]],tblXrate[],2,FALSE)","v":6000},"Assistant Accountant","Accountant","Zambia",{"$f":"VLOOKUP(tblSalaries[[#This Row],[Where do you work]],tblCountries[[Actual]:[Mapping]],2,FALSE)","v":"Zambia"},"All the 8 hours baby, all the 8!",5,{"$f":"VLOOKUP(K1129,tblCountries[],3,0)","v":"Africa"},{"$f":"VLOOKUP(tblSalaries[[#This Row],[How many hours of a day you work on Excel]],tblHours,2,0)","v":5},{"$f":"VLOOKUP(tblSalaries[[#This Row],[clean Country]],tblCountries[],5,0)","v":30.03538175046555},{"$f":"IF($Q$1,tblSalaries[[#This Row],[PPP Factor]]*tblSalaries[[#This Row],[Salary in USD]],tblSalaries[[#This Row],[Salary in USD]])","v":6000}]
[null,"ID1152","2012-05-28T20:20:54",35000,35000,"USD",{"$f":"tblSalaries[[#This Row],[clean Salary (in local currency)]]*VLOOKUP(tblSalaries[[#This Row],[Currency]],tblXrate[],2,FALSE)","v":35000},"BI Analyst","Analyst","USA",{"$f":"VLOOKUP(tblSalaries[[#This Row],[Where do you work]],tblCountries[[Actual]:[Mapping]],2,FALSE)","v":"USA"},"All the 8 hours baby, all the 8!",20,{"$f":"VLOOKUP(K1130,tblCountries[],3,0)","v":"North Amer."},{"$f":"VLOOKUP(tblSalaries[[#This Row],[How many hours of a day you work on Excel]],tblHours,2,0)","v":5},{"$f":"VLOOKUP(tblSalaries[[#This Row],[clean Country]],tblCountries[],5,0)","v":1},{"$f":"IF($Q$1,tblSalaries[[#This Row],[PPP Factor]]*tblSalaries[[#This Row],[Salary in USD]],tblSalaries[[#This Row],[Salary in USD]])","v":35000}]
[null,"ID1153","2012-05-28T20:35:30","Â£35000",35000,"GBP",{"$f":"tblSalaries[[#This Row],[clean Salary (in local currency)]]*VLOOKUP(tblSalaries[[#This Row],[Currency]],tblXrate[],2,FALSE)","v":55166.239522354947},"MI Analyst","Analyst","UK",{"$f":"VLOOKUP(tblSalaries[[#This Row],[Where do you work]],tblCountries[[Actual]:[Mapping]],2,FALSE)","v":"UK"},"4 to 6 hours a day",10,{"$f":"VLOOKUP(K1131,tblCountries[],3,0)","v":"Europe"},{"$f":"VLOOKUP(tblSalaries[[#This Row],[How many hours of a day you work on Excel]],tblHours,2,0)","v":4},{"$f":"VLOOKUP(tblSalaries[[#This Row],[clean Country]],tblCountries[],5,0)","v":1.3407315045719035},{"$f":"IF($Q$1,tblSalaries[[#This Row],[PPP Factor]]*tblSalaries[[#This Row],[Salary in USD]],tblSalaries[[#This Row],[Salary in USD]])","v":55166.239522354947}]
[null,"ID1154","2012-05-28T20:43:31",168000,168000,"PKR",{"$f":"tblSalaries[[#This Row],[clean Salary (in local currency)]]*VLOOKUP(tblSalaries[[#This Row],[Currency]],tblXrate[],2,FALSE)","v":1783.166904422254},"Accounts Assistant","Accountant","Pakistan",{"$f":"VLOOKUP(tblSalaries[[#This Row],[Where do you work]],tblCountries[[Actual]:[Mapping]],2,FALSE)","v":"Pakistan"},"4 to 6 hours a day",10,{"$f":"VLOOKUP(K1132,tblCountries[],3,0)","v":"Asia"},{"$f":"VLOOKUP(tblSalaries[[#This Row],[How many hours of a day you work on Excel]],tblHours,2,0)","v":4},{"$f":"VLOOKUP(tblSalaries[[#This Row],[clean Country]],tblCountries[],5,0)","v":17.361679224973088},{"$f":"IF($Q$1,tblSalaries[[#This Row],[PPP Factor]]*tblSalaries[[#This Row],[Salary in USD]],tblSalaries[[#This Row],[Salary in USD]])","v":1783.166904422254}]
[null,"ID1155","2012-05-28T20:45:35",13.5,13500,"USD",{"$f":"tblSalaries[[#This Row],[clean Salary (in local currency)]]*VLOOKUP(tblSalaries[[#This Row],[Currency]],tblXrate[],2,FALSE)","v":13500},"Project manager","Manager","Montenegro",{"$f":"VLOOKUP(tblSalaries[[#This Row],[Where do you work]],tblCountries[[Actual]:[Mapping]],2,FALSE)","v":"Montenegro"},"4 to 6 hours a day",13,{"$f":"VLOOKUP(K1133,tblCountries[],3,0)","v":"Europe"},{"$f":"VLOOKUP(tblSalaries[[#This Row],[How many hours of a day you work on Excel]],tblHours,2,0)","v":4},{"$f":"VLOOKUP(tblSalaries[[#This Row],[clean Country]],tblCountries[],5,0)","v":4.1911650064963188},{"$f":"IF($Q$1,tblSalaries[[#This Row],[PPP Factor]]*tblSalaries[[#This Row],[Salary in USD]],tblSalaries[[#This Row],[Salary in USD]])","v":13500}]
[null,"ID1156","2012-05-28T20:51:37","Â£37500",37500,"GBP",{"$f":"tblSalaries[[#This Row],[clean Salary (in local currency)]]*VLOOKUP(tblSalaries[[#This Row],[Currency]],tblXrate[],2,FALSE)","v":59106.685202523156},"Corporate Finance Executive","Accountant","UK",{"$f":"VLOOKUP(tblSalaries[[#This Row],[Where do you work]],tblCountries[[Actual]:[Mapping]],2,FALSE)","v":"UK"},"2 to 3 hours per day",5,{"$f":"VLOOKUP(K1134,tblCountries[],3,0)","v":"Europe"},{"$f":"VLOOKUP(tblSalaries[[#This Row],[How many hours of a day you work on Excel]],tblHours,2,0)","v":3},{"$f":"VLOOKUP(tblSalaries[[#This Row],[clean Country]],tblCountries[],5,0)","v":1.3407315045719035},{"$f":"IF($Q$1,tblSalaries[[#This Row],[PPP Factor]]*tblSalaries[[#This Row],[Salary in USD]],tblSalaries[[#This Row],[Salary in USD]])","v":59106.685202523156}]
[null,"ID1157","2012-05-28T20:54:29","Rs. 59,000 (Per Month)",708000,"INR",{"$f":"tblSalaries[[#This Row],[clean Salary (in local currency)]]*VLOOKUP(tblSalaries[[#This Row],[Currency]],tblXrate[],2,FALSE)","v":12608.005014709339},"Manager-Operation","Manager","India",{"$f":"VLOOKUP(tblSalaries[[#This Row],[Where do you work]],tblCountries[[Actual]:[Mapping]],2,FALSE)","v":"India"},"4 to 6 hours a day",5,{"$f":"VLOOKUP(K1135,tblCountries[],3,0)","v":"Asia"},{"$f":"VLOOKUP(tblSalaries[[#This Row],[How many hours of a day you work on Excel]],tblHours,2,0)","v":4},{"$f":"VLOOKUP(tblSalaries[[#This Row],[clean Country]],tblCountries[],5,0)","v":13.098808879263672},{"$f":"IF($Q$1,tblSalaries[[#This Row],[PPP Factor]]*tblSalaries[[#This Row],[Salary in USD]],tblSalaries[[#This Row],[Salary in USD]])","v":12608.005014709339}]
[null,"ID1158","2012-05-28T21:14:25","R366252",366252,"ZAR",{"$f":"tblSalaries[[#This Row],[clean Salary (in local currency)]]*VLOOKUP(tblSalaries[[#This Row],[Currency]],tblXrate[],2,FALSE)","v":44654.095718350931},"Accountant","Accountant","South Africa",{"$f":"VLOOKUP(tblSalaries[[#This Row],[Where do you work]],tblCountries[[Actual]:[Mapping]],2,FALSE)","v":"South Africa"},"All the 8 hours baby, all the 8!",15,{"$f":"VLOOKUP(K1136,tblCountries[],3,0)","v":"Africa"},{"$f":"VLOOKUP(tblSalaries[[#This Row],[How many hours of a day you work on Excel]],tblHours,2,0)","v":5},{"$f":"VLOOKUP(tblSalaries[[#This Row],[clean Country]],tblCountries[],5,0)","v":4.4096418481727877},{"$f":"IF($Q$1,tblSalaries[[#This Row],[PPP Factor]]*tblSalaries[[#This Row],[Salary in USD]],tblSalaries[[#This Row],[Salary in USD]])","v":44654.095718350931}]
[null,"ID1159","2012-05-28T21:17:04",69000,69000,"USD",{"$f":"tblSalaries[[#This Row],[clean Salary (in local currency)]]*VLOOKUP(tblSalaries[[#This Row],[Currency]],tblXrate[],2,FALSE)","v":69000},"Financial Analysist","Analyst","USA",{"$f":"VLOOKUP(tblSalaries[[#This Row],[Where do you work]],tblCountries[[Actual]:[Mapping]],2,FALSE)","v":"USA"},"2 to 3 hours per day",20,{"$f":"VLOOKUP(K1137,tblCountries[],3,0)","v":"North Amer."},{"$f":"VLOOKUP(tblSalaries[[#This Row],[How many hours of a day you work on Excel]],tblHours,2,0)","v":3},{"$f":"VLOOKUP(tblSalaries[[#This Row],[clean Country]],tblCountries[],5,0)","v":1},{"$f":"IF($Q$1,tblSalaries[[#This Row],[PPP Factor]]*tblSalaries[[#This Row],[Salary in USD]],tblSalaries[[#This Row],[Salary in USD]])","v":69000}]
[null,"ID1160","2012-05-28T21:55:25",500,6000,"USD",{"$f":"tblSalaries[[#This Row],[clean Salary (in local currency)]]*VLOOKUP(tblSalaries[[#This Row],[Currency]],tblXrate[],2,FALSE)","v":6000},"AM Ops","Manager","India",{"$f":"VLOOKUP(tblSalaries[[#This Row],[Where do you work]],tblCountries[[Actual]:[Mapping]],2,FALSE)","v":"India"},"4 to 6 hours a day",6,{"$f":"VLOOKUP(K1138,tblCountries[],3,0)","v":"Asia"},{"$f":"VLOOKUP(tblSalaries[[#This Row],[How many hours of a day you work on Excel]],tblHours,2,0)","v":4},{"$f":"VLOOKUP(tblSalaries[[#This Row],[clean Country]],tblCountries[],5,0)","v":13.098808879263672},{"$f":"IF($Q$1,tblSalaries[[#This Row],[PPP Factor]]*tblSalaries[[#This Row],[Salary in USD]],tblSalaries[[#This Row],[Salary in USD]])","v":6000}]
[null,"ID1161","2012-05-28T22:08:12","Rs.5,00,000",500000,"INR",{"$f":"tblSalaries[[#This Row],[clean Salary (in local currency)]]*VLOOKUP(tblSalaries[[#This Row],[Currency]],tblXrate[],2,FALSE)","v":8903.9583437212841},"Deputy Manager","Manager","India",{"$f":"VLOOKUP(tblSalaries[[#This Row],[Where do you work]],tblCountries[[Actual]:[Mapping]],2,FALSE)","v":"India"},"1 or 2 hours a day",25,{"$f":"VLOOKUP(K1139,tblCountries[],3,0)","v":"Asia"},{"$f":"VLOOKUP(tblSalaries[[#This Row],[How many hours of a day you work on Excel]],tblHours,2,0)","v":2},{"$f":"VLOOKUP(tblSalaries[[#This Row],[clean Country]],tblCountries[],5,0)","v":13.098808879263672},{"$f":"IF($Q$1,tblSalaries[[#This Row],[PPP Factor]]*tblSalaries[[#This Row],[Salary in USD]],tblSalaries[[#This Row],[Salary in USD]])","v":8903.9583437212841}]
[null,"ID1162","2012-05-28T22:10:12",30000,30000,"USD",{"$f":"tblSalaries[[#This Row],[clean Salary (in local currency)]]*VLOOKUP(tblSalaries[[#This Row],[Currency]],tblXrate[],2,FALSE)","v":30000},"pricing and cost manager","Manager","mexico",{"$f":"VLOOKUP(tblSalaries[[#This Row],[Where do you work]],tblCountries[[Actual]:[Mapping]],2,FALSE)","v":"Mexico"},"All the 8 hours baby, all the 8!",17,{"$f":"VLOOKUP(K1140,tblCountries[],3,0)","v":"North Amer."},{"$f":"VLOOKUP(tblSalaries[[#This Row],[How many hours of a day you work on Excel]],tblHours,2,0)","v":5},{"$f":"VLOOKUP(tblSalaries[[#This Row],[clean Country]],tblCountries[],5,0)","v":3.3119096509240245},{"$f":"IF($Q$1,tblSalaries[[#This Row],[PPP Factor]]*tblSalaries[[#This Row],[Salary in USD]],tblSalaries[[#This Row],[Salary in USD]])","v":30000}]
[null,"ID1163","2012-05-28T22:13:24",8600,8600,"USD",{"$f":"tblSalaries[[#This Row],[clean Salary (in local currency)]]*VLOOKUP(tblSalaries[[#This Row],[Currency]],tblXrate[],2,FALSE)","v":8600},"Catlog associates","Analyst","India",{"$f":"VLOOKUP(tblSalaries[[#This Row],[Where do you work]],tblCountries[[Actual]:[Mapping]],2,FALSE)","v":"India"},"4 to 6 hours a day",2,{"$f":"VLOOKUP(K1141,tblCountries[],3,0)","v":"Asia"},{"$f":"VLOOKUP(tblSalaries[[#This Row],[How many hours of a day you work on Excel]],tblHours,2,0)","v":4},{"$f":"VLOOKUP(tblSalaries[[#This Row],[clean Country]],tblCountries[],5,0)","v":13.098808879263672},{"$f":"IF($Q$1,tblSalaries[[#This Row],[PPP Factor]]*tblSalaries[[#This Row],[Salary in USD]],tblSalaries[[#This Row],[Salary in USD]])","v":8600}]
[null,"ID1164","2012-05-28T22:25:04","Â£51,000/$81,600",81600,"USD",{"$f":"tblSalaries[[#This Row],[clean Salary (in local currency)]]*VLOOKUP(tblSalaries[[#This Row],[Currency]],tblXrate[],2,FALSE)","v":81600},"Business Analyst - Central Finance","Analyst","UK",{"$f":"VLOOKUP(tblSalaries[[#This Row],[Where do you work]],tblCountries[[Actual]:[Mapping]],2,FALSE)","v":"UK"},"4 to 6 hours a day",4,{"$f":"VLOOKUP(K1142,tblCountries[],3,0)","v":"Europe"},{"$f":"VLOOKUP(tblSalaries[[#This Row],[How many hours of a day you work on Excel]],tblHours,2,0)","v":4},{"$f":"VLOOKUP(tblSalaries[[#This Row],[clean Country]],tblCountries[],5,0)","v":1.3407315045719035},{"$f":"IF($Q$1,tblSalaries[[#This Row],[PPP Factor]]*tblSalaries[[#This Row],[Salary in USD]],tblSalaries[[#This Row],[Salary in USD]])","v":81600}]
[null,"ID1165","2012-05-28T22:33:29",600000,600000,"DOP",{"$f":"tblSalaries[[#This Row],[clean Salary (in local currency)]]*VLOOKUP(tblSalaries[[#This Row],[Currency]],tblXrate[],2,FALSE)","v":15404.364569961488},"Analista de Produccion","Analyst","Republica Dominicana",{"$f":"VLOOKUP(tblSalaries[[#This Row],[Where do you work]],tblCountries[[Actual]:[Mapping]],2,FALSE)","v":"Dominican Republic"},"All the 8 hours baby, all the 8!",3,{"$f":"VLOOKUP(K1143,tblCountries[],3,0)","v":"North Amer."},{"$f":"VLOOKUP(tblSalaries[[#This Row],[How many hours of a day you work on Excel]],tblHours,2,0)","v":5},{"$f":"VLOOKUP(tblSalaries[[#This Row],[clean Country]],tblCountries[],5,0)","v":5.2101862818994293},{"$f":"IF($Q$1,tblSalaries[[#This Row],[PPP Factor]]*tblSalaries[[#This Row],[Salary in USD]],tblSalaries[[#This Row],[Salary in USD]])","v":15404.364569961488}]
[null,"ID1166","2012-05-28T22:35:56","CAD$65000",65000,"CAD",{"$f":"tblSalaries[[#This Row],[clean Salary (in local currency)]]*VLOOKUP(tblSalaries[[#This Row],[Currency]],tblXrate[],2,FALSE)","v":63918.498996971248},"IT Analyst (Reporting)","Analyst","Canada",{"$f":"VLOOKUP(tblSalaries[[#This Row],[Where do you work]],tblCountries[[Actual]:[Mapping]],2,FALSE)","v":"Canada"},"4 to 6 hours a day",20,{"$f":"VLOOKUP(K1144,tblCountries[],3,0)","v":"North Amer."},{"$f":"VLOOKUP(tblSalaries[[#This Row],[How many hours of a day you work on Excel]],tblHours,2,0)","v":4},{"$f":"VLOOKUP(tblSalaries[[#This Row],[clean Country]],tblCountries[],5,0)","v":1.1935324732986359},{"$f":"IF($Q$1,tblSalaries[[#This Row],[PPP Factor]]*tblSalaries[[#This Row],[Salary in USD]],tblSalaries[[#This Row],[Salary in USD]])","v":63918.498996971248}]
[null,"ID1167","2012-05-28T22:36:22",75000,75000,"USD",{"$f":"tblSalaries[[#This Row],[clean Salary (in local currency)]]*VLOOKUP(tblSalaries[[#This Row],[Currency]],tblXrate[],2,FALSE)","v":75000},"Controller","Controller","USA",{"$f":"VLOOKUP(tblSalaries[[#This Row],[Where do you work]],tblCountries[[Actual]:[Mapping]],2,FALSE)","v":"USA"},"2 to 3 hours per day",20,{"$f":"VLOOKUP(K1145,tblCountries[],3,0)","v":"North Amer."},{"$f":"VLOOKUP(tblSalaries[[#This Row],[How many hours of a day you work on Excel]],tblHours,2,0)","v":3},{"$f":"VLOOKUP(tblSalaries[[#This Row],[clean Country]],tblCountries[],5,0)","v":1},{"$f":"IF($Q$1,tblSalaries[[#This Row],[PPP Factor]]*tblSalaries[[#This Row],[Salary in USD]],tblSalaries[[#This Row],[Salary in USD]])","v":75000}]
[null,"ID1168","2012-05-28T22:36:47",59000,59000,"USD",{"$f":"tblSalaries[[#This Row],[clean Salary (in local currency)]]*VLOOKUP(tblSalaries[[#This Row],[Currency]],tblXrate[],2,FALSE)","v":59000},"Management Analyst","Analyst","USA",{"$f":"VLOOKUP(tblSalaries[[#This Row],[Where do you work]],tblCountries[[Actual]:[Mapping]],2,FALSE)","v":"USA"},"4 to 6 hours a day",14,{"$f":"VLOOKUP(K1146,tblCountries[],3,0)","v":"North Amer."},{"$f":"VLOOKUP(tblSalaries[[#This Row],[How many hours of a day you work on Excel]],tblHours,2,0)","v":4},{"$f":"VLOOKUP(tblSalaries[[#This Row],[clean Country]],tblCountries[],5,0)","v":1},{"$f":"IF($Q$1,tblSalaries[[#This Row],[PPP Factor]]*tblSalaries[[#This Row],[Salary in USD]],tblSalaries[[#This Row],[Salary in USD]])","v":59000}]
[null,"ID1169","2012-05-28T22:38:37","$50,000 U.S.",50000,"USD",{"$f":"tblSalaries[[#This Row],[clean Salary (in local currency)]]*VLOOKUP(tblSalaries[[#This Row],[Currency]],tblXrate[],2,FALSE)","v":50000},"Program Manager","Manager","Canada",{"$f":"VLOOKUP(tblSalaries[[#This Row],[Where do you work]],tblCountries[[Actual]:[Mapping]],2,FALSE)","v":"Canada"},"1 or 2 hours a day",5,{"$f":"VLOOKUP(K1147,tblCountries[],3,0)","v":"North Amer."},{"$f":"VLOOKUP(tblSalaries[[#This Row],[How many hours of a day you work on Excel]],tblHours,2,0)","v":2},{"$f":"VLOOKUP(tblSalaries[[#This Row],[clean Country]],tblCountries[],5,0)","v":1.1935324732986359},{"$f":"IF($Q$1,tblSalaries[[#This Row],[PPP Factor]]*tblSalaries[[#This Row],[Salary in USD]],tblSalaries[[#This Row],[Salary in USD]])","v":50000}]
[null,"ID1170","2012-05-28T22:39:09","Â£80000",80000,"GBP",{"$f":"tblSalaries[[#This Row],[clean Salary (in local currency)]]*VLOOKUP(tblSalaries[[#This Row],[Currency]],tblXrate[],2,FALSE)","v":126094.26176538273},"Financial Controller","Controller","UK",{"$f":"VLOOKUP(tblSalaries[[#This Row],[Where do you work]],tblCountries[[Actual]:[Mapping]],2,FALSE)","v":"UK"},"4 to 6 hours a day",15,{"$f":"VLOOKUP(K1148,tblCountries[],3,0)","v":"Europe"},{"$f":"VLOOKUP(tblSalaries[[#This Row],[How many hours of a day you work on Excel]],tblHours,2,0)","v":4},{"$f":"VLOOKUP(tblSalaries[[#This Row],[clean Country]],tblCountries[],5,0)","v":1.3407315045719035},{"$f":"IF($Q$1,tblSalaries[[#This Row],[PPP Factor]]*tblSalaries[[#This Row],[Salary in USD]],tblSalaries[[#This Row],[Salary in USD]])","v":126094.26176538273}]
[null,"ID1171","2012-05-28T22:41:01","R$ 54000",54000,"BRL",{"$f":"tblSalaries[[#This Row],[clean Salary (in local currency)]]*VLOOKUP(tblSalaries[[#This Row],[Currency]],tblXrate[],2,FALSE)","v":26691.183012544854},"Logistics Coordinator","Manager","Brazil",{"$f":"VLOOKUP(tblSalaries[[#This Row],[Where do you work]],tblCountries[[Actual]:[Mapping]],2,FALSE)","v":"Brazil"},"1 or 2 hours a day",7,{"$f":"VLOOKUP(K1149,tblCountries[],3,0)","v":"South Amer."},{"$f":"VLOOKUP(tblSalaries[[#This Row],[How many hours of a day you work on Excel]],tblHours,2,0)","v":2},{"$f":"VLOOKUP(tblSalaries[[#This Row],[clean Country]],tblCountries[],5,0)","v":4.1113943410655107},{"$f":"IF($Q$1,tblSalaries[[#This Row],[PPP Factor]]*tblSalaries[[#This Row],[Salary in USD]],tblSalaries[[#This Row],[Salary in USD]])","v":26691.183012544854}]
[null,"ID1172","2012-05-28T22:41:15",500000,500000,"INR",{"$f":"tblSalaries[[#This Row],[clean Salary (in local currency)]]*VLOOKUP(tblSalaries[[#This Row],[Currency]],tblXrate[],2,FALSE)","v":8903.9583437212841},"Business Analyst","Analyst","India",{"$f":"VLOOKUP(tblSalaries[[#This Row],[Where do you work]],tblCountries[[Actual]:[Mapping]],2,FALSE)","v":"India"},"4 to 6 hours a day",0.8,{"$f":"VLOOKUP(K1150,tblCountries[],3,0)","v":"Asia"},{"$f":"VLOOKUP(tblSalaries[[#This Row],[How many hours of a day you work on Excel]],tblHours,2,0)","v":4},{"$f":"VLOOKUP(tblSalaries[[#This Row],[clean Country]],tblCountries[],5,0)","v":13.098808879263672},{"$f":"IF($Q$1,tblSalaries[[#This Row],[PPP Factor]]*tblSalaries[[#This Row],[Salary in USD]],tblSalaries[[#This Row],[Salary in USD]])","v":8903.9583437212841}]
[null,"ID1173","2012-05-28T22:41:26","8725 $",8725,"USD",{"$f":"tblSalaries[[#This Row],[clean Salary (in local currency)]]*VLOOKUP(tblSalaries[[#This Row],[Currency]],tblXrate[],2,FALSE)","v":8725},"Administration Officer","Manager","Pakistan",{"$f":"VLOOKUP(tblSalaries[[#This Row],[Where do you work]],tblCountries[[Actual]:[Mapping]],2,FALSE)","v":"Pakistan"},"2 to 3 hours per day",18,{"$f":"VLOOKUP(K1151,tblCountries[],3,0)","v":"Asia"},{"$f":"VLOOKUP(tblSalaries[[#This Row],[How many hours of a day you work on Excel]],tblHours,2,0)","v":3},{"$f":"VLOOKUP(tblSalaries[[#This Row],[clean Country]],tblCountries[],5,0)","v":17.361679224973088},{"$f":"IF($Q$1,tblSalaries[[#This Row],[PPP Factor]]*tblSalaries[[#This Row],[Salary in USD]],tblSalaries[[#This Row],[Salary in USD]])","v":8725}]
[null,"ID1175","2012-05-28T22:44:48","Â£32000",32000,"GBP",{"$f":"tblSalaries[[#This Row],[clean Salary (in local currency)]]*VLOOKUP(tblSalaries[[#This Row],[Currency]],tblXrate[],2,FALSE)","v":50437.70470615309},"Service Analyst","Analyst","UK",{"$f":"VLOOKUP(tblSalaries[[#This Row],[Where do you work]],tblCountries[[Actual]:[Mapping]],2,FALSE)","v":"UK"},"4 to 6 hours a day",4,{"$f":"VLOOKUP(K1152,tblCountries[],3,0)","v":"Europe"},{"$f":"VLOOKUP(tblSalaries[[#This Row],[How many hours of a day you work on Excel]],tblHours,2,0)","v":4},{"$f":"VLOOKUP(tblSalaries[[#This Row],[clean Country]],tblCountries[],5,0)","v":1.3407315045719035},{"$f":"IF($Q$1,tblSalaries[[#This Row],[PPP Factor]]*tblSalaries[[#This Row],[Salary in USD]],tblSalaries[[#This Row],[Salary in USD]])","v":50437.70470615309}]
[null,"ID1176","2012-05-28T22:45:49","Â£43000",43000,"GBP",{"$f":"tblSalaries[[#This Row],[clean Salary (in local currency)]]*VLOOKUP(tblSalaries[[#This Row],[Currency]],tblXrate[],2,FALSE)","v":67775.665698893223},"Head of Finance","Accountant","UK",{"$f":"VLOOKUP(tblSalaries[[#This Row],[Where do you work]],tblCountries[[Actual]:[Mapping]],2,FALSE)","v":"UK"},"All the 8 hours baby, all the 8!",15,{"$f":"VLOOKUP(K1153,tblCountries[],3,0)","v":"Europe"},{"$f":"VLOOKUP(tblSalaries[[#This Row],[How many hours of a day you work on Excel]],tblHours,2,0)","v":5},{"$f":"VLOOKUP(tblSalaries[[#This Row],[clean Country]],tblCountries[],5,0)","v":1.3407315045719035},{"$f":"IF($Q$1,tblSalaries[[#This Row],[PPP Factor]]*tblSalaries[[#This Row],[Salary in USD]],tblSalaries[[#This Row],[Salary in USD]])","v":67775.665698893223}]
[null,"ID1177","2012-05-28T22:46:37","CAD $53,000/-",53000,"CAD",{"$f":"tblSalaries[[#This Row],[clean Salary (in local currency)]]*VLOOKUP(tblSalaries[[#This Row],[Currency]],tblXrate[],2,FALSE)","v":52118.160720607324},"Data Analyst","Analyst","Canada",{"$f":"VLOOKUP(tblSalaries[[#This Row],[Where do you work]],tblCountries[[Actual]:[Mapping]],2,FALSE)","v":"Canada"},"4 to 6 hours a day",6,{"$f":"VLOOKUP(K1154,tblCountries[],3,0)","v":"North Amer."},{"$f":"VLOOKUP(tblSalaries[[#This Row],[How many hours of a day you work on Excel]],tblHours,2,0)","v":4},{"$f":"VLOOKUP(tblSalaries[[#This Row],[clean Country]],tblCountries[],5,0)","v":1.1935324732986359},{"$f":"IF($Q$1,tblSalaries[[#This Row],[PPP Factor]]*tblSalaries[[#This Row],[Salary in USD]],tblSalaries[[#This Row],[Salary in USD]])","v":52118.160720607324}]
[null,"ID1178","2012-05-28T22:48:32","INR 20 Lakhs p.a.",200000,"INR",{"$f":"tblSalaries[[#This Row],[clean Salary (in local currency)]]*VLOOKUP(tblSalaries[[#This Row],[Currency]],tblXrate[],2,FALSE)","v":3561.5833374885137},"Associate","Analyst","India",{"$f":"VLOOKUP(tblSalaries[[#This Row],[Where do you work]],tblCountries[[Actual]:[Mapping]],2,FALSE)","v":"India"},"1 or 2 hours a day",6,{"$f":"VLOOKUP(K1155,tblCountries[],3,0)","v":"Asia"},{"$f":"VLOOKUP(tblSalaries[[#This Row],[How many hours of a day you work on Excel]],tblHours,2,0)","v":2},{"$f":"VLOOKUP(tblSalaries[[#This Row],[clean Country]],tblCountries[],5,0)","v":13.098808879263672},{"$f":"IF($Q$1,tblSalaries[[#This Row],[PPP Factor]]*tblSalaries[[#This Row],[Salary in USD]],tblSalaries[[#This Row],[Salary in USD]])","v":3561.5833374885137}]
[null,"ID1179","2012-05-28T22:49:15","4.5 laks",450000,"INR",{"$f":"tblSalaries[[#This Row],[clean Salary (in local currency)]]*VLOOKUP(tblSalaries[[#This Row],[Currency]],tblXrate[],2,FALSE)","v":8013.5625093491553},"Production Manager","Manager","India",{"$f":"VLOOKUP(tblSalaries[[#This Row],[Where do you work]],tblCountries[[Actual]:[Mapping]],2,FALSE)","v":"India"},"4 to 6 hours a day",21,{"$f":"VLOOKUP(K1156,tblCountries[],3,0)","v":"Asia"},{"$f":"VLOOKUP(tblSalaries[[#This Row],[How many hours of a day you work on Excel]],tblHours,2,0)","v":4},{"$f":"VLOOKUP(tblSalaries[[#This Row],[clean Country]],tblCountries[],5,0)","v":13.098808879263672},{"$f":"IF($Q$1,tblSalaries[[#This Row],[PPP Factor]]*tblSalaries[[#This Row],[Salary in USD]],tblSalaries[[#This Row],[Salary in USD]])","v":8013.5625093491553}]
[null,"ID1180","2012-05-28T22:50:51",28000,28000,"USD",{"$f":"tblSalaries[[#This Row],[clean Salary (in local currency)]]*VLOOKUP(tblSalaries[[#This Row],[Currency]],tblXrate[],2,FALSE)","v":28000},"Business Intelligence Manager","Manager","Poland",{"$f":"VLOOKUP(tblSalaries[[#This Row],[Where do you work]],tblCountries[[Actual]:[Mapping]],2,FALSE)","v":"Poland"},"4 to 6 hours a day",5,{"$f":"VLOOKUP(K1157,tblCountries[],3,0)","v":"Europe"},{"$f":"VLOOKUP(tblSalaries[[#This Row],[How many hours of a day you work on Excel]],tblHours,2,0)","v":4},{"$f":"VLOOKUP(tblSalaries[[#This Row],[clean Country]],tblCountries[],5,0)","v":2.3796105045736207},{"$f":"IF($Q$1,tblSalaries[[#This Row],[PPP Factor]]*tblSalaries[[#This Row],[Salary in USD]],tblSalaries[[#This Row],[Salary in USD]])","v":28000}]
[null,"ID1181","2012-05-28T22:51:27",31763,31763,"GBP",{"$f":"tblSalaries[[#This Row],[clean Salary (in local currency)]]*VLOOKUP(tblSalaries[[#This Row],[Currency]],tblXrate[],2,FALSE)","v":50064.150455673145},"Network Administrator","Analyst","UK",{"$f":"VLOOKUP(tblSalaries[[#This Row],[Where do you work]],tblCountries[[Actual]:[Mapping]],2,FALSE)","v":"UK"},"2 to 3 hours per day",2,{"$f":"VLOOKUP(K1158,tblCountries[],3,0)","v":"Europe"},{"$f":"VLOOKUP(tblSalaries[[#This Row],[How many hours of a day you work on Excel]],tblHours,2,0)","v":3},{"$f":"VLOOKUP(tblSalaries[[#This Row],[clean Country]],tblCountries[],5,0)","v":1.3407315045719035},{"$f":"IF($Q$1,tblSalaries[[#This Row],[PPP Factor]]*tblSalaries[[#This Row],[Salary in USD]],tblSalaries[[#This Row],[Salary in USD]])","v":50064.150455673145}]
[null,"ID1182","2012-05-28T22:52:19","GBPÂ£32000",32000,"GBP",{"$f":"tblSalaries[[#This Row],[clean Salary (in local currency)]]*VLOOKUP(tblSalaries[[#This Row],[Currency]],tblXrate[],2,FALSE)","v":50437.70470615309},"Performance Analyst","Analyst","Canada",{"$f":"VLOOKUP(tblSalaries[[#This Row],[Where do you work]],tblCountries[[Actual]:[Mapping]],2,FALSE)","v":"Canada"},"4 to 6 hours a day",9,{"$f":"VLOOKUP(K1159,tblCountries[],3,0)","v":"North Amer."},{"$f":"VLOOKUP(tblSalaries[[#This Row],[How many hours of a day you work on Excel]],tblHours,2,0)","v":4},{"$f":"VLOOKUP(tblSalaries[[#This Row],[clean Country]],tblCountries[],5,0)","v":1.1935324732986359},{"$f":"IF($Q$1,tblSalaries[[#This Row],[PPP Factor]]*tblSalaries[[#This Row],[Salary in USD]],tblSalaries[[#This Row],[Salary in USD]])","v":50437.70470615309}]
[null,"ID1183","2012-05-28T22:53:03",27840,27840,"USD",{"$f":"tblSalaries[[#This Row],[clean Salary (in local currency)]]*VLOOKUP(tblSalaries[[#This Row],[Currency]],tblXrate[],2,FALSE)","v":27840},"Data Entry Clerk III","Analyst","USA",{"$f":"VLOOKUP(tblSalaries[[#This Row],[Where do you work]],tblCountries[[Actual]:[Mapping]],2,FALSE)","v":"USA"},"2 to 3 hours per day",1,{"$f":"VLOOKUP(K1160,tblCountries[],3,0)","v":"North Amer."},{"$f":"VLOOKUP(tblSalaries[[#This Row],[How many hours of a day you work on Excel]],tblHours,2,0)","v":3},{"$f":"VLOOKUP(tblSalaries[[#This Row],[clean Country]],tblCountries[],5,0)","v":1},{"$f":"IF($Q$1,tblSalaries[[#This Row],[PPP Factor]]*tblSalaries[[#This Row],[Salary in USD]],tblSalaries[[#This Row],[Salary in USD]])","v":27840}]
[null,"ID1184","2012-05-28T22:54:24","Rs. 350000",350000,"INR",{"$f":"tblSalaries[[#This Row],[clean Salary (in local currency)]]*VLOOKUP(tblSalaries[[#This Row],[Currency]],tblXrate[],2,FALSE)","v":6232.7708406048987},"officer accounts","Accountant","India",{"$f":"VLOOKUP(tblSalaries[[#This Row],[Where do you work]],tblCountries[[Actual]:[Mapping]],2,FALSE)","v":"India"},"2 to 3 hours per day",1.5,{"$f":"VLOOKUP(K1161,tblCountries[],3,0)","v":"Asia"},{"$f":"VLOOKUP(tblSalaries[[#This Row],[How many hours of a day you work on Excel]],tblHours,2,0)","v":3},{"$f":"VLOOKUP(tblSalaries[[#This Row],[clean Country]],tblCountries[],5,0)","v":13.098808879263672},{"$f":"IF($Q$1,tblSalaries[[#This Row],[PPP Factor]]*tblSalaries[[#This Row],[Salary in USD]],tblSalaries[[#This Row],[Salary in USD]])","v":6232.7708406048987}]
[null,"ID1185","2012-05-28T22:55:40","S$50000",50000,"USD",{"$f":"tblSalaries[[#This Row],[clean Salary (in local currency)]]*VLOOKUP(tblSalaries[[#This Row],[Currency]],tblXrate[],2,FALSE)","v":50000},"Engineer","Engineer","Singapore",{"$f":"VLOOKUP(tblSalaries[[#This Row],[Where do you work]],tblCountries[[Actual]:[Mapping]],2,FALSE)","v":"Singapore"},"2 to 3 hours per day",25,{"$f":"VLOOKUP(K1162,tblCountries[],3,0)","v":"Asia"},{"$f":"VLOOKUP(tblSalaries[[#This Row],[How many hours of a day you work on Excel]],tblHours,2,0)","v":3},{"$f":"VLOOKUP(tblSalaries[[#This Row],[clean Country]],tblCountries[],5,0)","v":0.81035320125270049},{"$f":"IF($Q$1,tblSalaries[[#This Row],[PPP Factor]]*tblSalaries[[#This Row],[Salary in USD]],tblSalaries[[#This Row],[Salary in USD]])","v":50000}]
[null,"ID1186","2012-05-28T22:58:25",48000,48000,"USD",{"$f":"tblSalaries[[#This Row],[clean Salary (in local currency)]]*VLOOKUP(tblSalaries[[#This Row],[Currency]],tblXrate[],2,FALSE)","v":48000},"Cost Controlling Executive","Controller","Qatar",{"$f":"VLOOKUP(tblSalaries[[#This Row],[Where do you work]],tblCountries[[Actual]:[Mapping]],2,FALSE)","v":"Qatar"},"2 to 3 hours per day",10,{"$f":"VLOOKUP(K1163,tblCountries[],3,0)","v":"Asia"},{"$f":"VLOOKUP(tblSalaries[[#This Row],[How many hours of a day you work on Excel]],tblHours,2,0)","v":3},{"$f":"VLOOKUP(tblSalaries[[#This Row],[clean Country]],tblCountries[],5,0)","v":0.4700368164906793},{"$f":"IF($Q$1,tblSalaries[[#This Row],[PPP Factor]]*tblSalaries[[#This Row],[Salary in USD]],tblSalaries[[#This Row],[Salary in USD]])","v":48000}]
[null,"ID1187","2012-05-28T22:59:16",2000,24000,"USD",{"$f":"tblSalaries[[#This Row],[clean Salary (in local currency)]]*VLOOKUP(tblSalaries[[#This Row],[Currency]],tblXrate[],2,FALSE)","v":24000},"Administration Manager","Manager","Argentina",{"$f":"VLOOKUP(tblSalaries[[#This Row],[Where do you work]],tblCountries[[Actual]:[Mapping]],2,FALSE)","v":"Argentina"},"4 to 6 hours a day",21,{"$f":"VLOOKUP(K1164,tblCountries[],3,0)","v":"South Amer."},{"$f":"VLOOKUP(tblSalaries[[#This Row],[How many hours of a day you work on Excel]],tblHours,2,0)","v":4},{"$f":"VLOOKUP(tblSalaries[[#This Row],[clean Country]],tblCountries[],5,0)","v":2.7624457638730302},{"$f":"IF($Q$1,tblSalaries[[#This Row],[PPP Factor]]*tblSalaries[[#This Row],[Salary in USD]],tblSalaries[[#This Row],[Salary in USD]])","v":24000}]
[null,"ID1188","2012-05-28T23:02:08",75000,75000,"USD",{"$f":"tblSalaries[[#This Row],[clean Salary (in local currency)]]*VLOOKUP(tblSalaries[[#This Row],[Currency]],tblXrate[],2,FALSE)","v":75000},"Financial Analyst","Analyst","USA",{"$f":"VLOOKUP(tblSalaries[[#This Row],[Where do you work]],tblCountries[[Actual]:[Mapping]],2,FALSE)","v":"USA"},"4 to 6 hours a day",12,{"$f":"VLOOKUP(K1165,tblCountries[],3,0)","v":"North Amer."},{"$f":"VLOOKUP(tblSalaries[[#This Row],[How many hours of a day you work on Excel]],tblHours,2,0)","v":4},{"$f":"VLOOKUP(tblSalaries[[#This Row],[clean Country]],tblCountries[],5,0)","v":1},{"$f":"IF($Q$1,tblSalaries[[#This Row],[PPP Factor]]*tblSalaries[[#This Row],[Salary in USD]],tblSalaries[[#This Row],[Salary in USD]])","v":75000}]
[null,"ID1189","2012-05-28T23:05:03","216000 AED",216000,"AED",{"$f":"tblSalaries[[#This Row],[clean Salary (in local currency)]]*VLOOKUP(tblSalaries[[#This Row],[Currency]],tblXrate[],2,FALSE)","v":58799.349940520107},"Financial analyst","Analyst","Dubai",{"$f":"VLOOKUP(tblSalaries[[#This Row],[Where do you work]],tblCountries[[Actual]:[Mapping]],2,FALSE)","v":"Dubai"},"4 to 6 hours a day",2,{"$f":"VLOOKUP(K1166,tblCountries[],3,0)","v":"Asia"},{"$f":"VLOOKUP(tblSalaries[[#This Row],[How many hours of a day you work on Excel]],tblHours,2,0)","v":4},{"$f":"VLOOKUP(tblSalaries[[#This Row],[clean Country]],tblCountries[],5,0)","v":1},{"$f":"IF($Q$1,tblSalaries[[#This Row],[PPP Factor]]*tblSalaries[[#This Row],[Salary in USD]],tblSalaries[[#This Row],[Salary in USD]])","v":58799.349940520107}]
[null,"ID1190","2012-05-28T23:06:22","Rupees : 2,000,000",2000000,"PKR",{"$f":"tblSalaries[[#This Row],[clean Salary (in local currency)]]*VLOOKUP(tblSalaries[[#This Row],[Currency]],tblXrate[],2,FALSE)","v":21228.177433598263},"Excel Corporate Trainer","Consultant","Pakistan",{"$f":"VLOOKUP(tblSalaries[[#This Row],[Where do you work]],tblCountries[[Actual]:[Mapping]],2,FALSE)","v":"Pakistan"},"All the 8 hours baby, all the 8!",8,{"$f":"VLOOKUP(K1167,tblCountries[],3,0)","v":"Asia"},{"$f":"VLOOKUP(tblSalaries[[#This Row],[How many hours of a day you work on Excel]],tblHours,2,0)","v":5},{"$f":"VLOOKUP(tblSalaries[[#This Row],[clean Country]],tblCountries[],5,0)","v":17.361679224973088},{"$f":"IF($Q$1,tblSalaries[[#This Row],[PPP Factor]]*tblSalaries[[#This Row],[Salary in USD]],tblSalaries[[#This Row],[Salary in USD]])","v":21228.177433598263}]
[null,"ID1191","2012-05-28T23:13:24",60000,60000,"USD",{"$f":"tblSalaries[[#This Row],[clean Salary (in local currency)]]*VLOOKUP(tblSalaries[[#This Row],[Currency]],tblXrate[],2,FALSE)","v":60000},"Quality Management","Manager","USA",{"$f":"VLOOKUP(tblSalaries[[#This Row],[Where do you work]],tblCountries[[Actual]:[Mapping]],2,FALSE)","v":"USA"},"2 to 3 hours per day",10,{"$f":"VLOOKUP(K1168,tblCountries[],3,0)","v":"North Amer."},{"$f":"VLOOKUP(tblSalaries[[#This Row],[How many hours of a day you work on Excel]],tblHours,2,0)","v":3},{"$f":"VLOOKUP(tblSalaries[[#This Row],[clean Country]],tblCountries[],5,0)","v":1},{"$f":"IF($Q$1,tblSalaries[[#This Row],[PPP Factor]]*tblSalaries[[#This Row],[Salary in USD]],tblSalaries[[#This Row],[Salary in USD]])","v":60000}]
[null,"ID1192","2012-05-28T23:13:31","5000  PLN   net",60000,"PLN",{"$f":"tblSalaries[[#This Row],[clean Salary (in local currency)]]*VLOOKUP(tblSalaries[[#This Row],[Currency]],tblXrate[],2,FALSE)","v":18018.883790212141},"Sales Analyst","Analyst","Poland",{"$f":"VLOOKUP(tblSalaries[[#This Row],[Where do you work]],tblCountries[[Actual]:[Mapping]],2,FALSE)","v":"Poland"},"All the 8 hours baby, all the 8!",10,{"$f":"VLOOKUP(K1169,tblCountries[],3,0)","v":"Europe"},{"$f":"VLOOKUP(tblSalaries[[#This Row],[How many hours of a day you work on Excel]],tblHours,2,0)","v":5},{"$f":"VLOOKUP(tblSalaries[[#This Row],[clean Country]],tblCountries[],5,0)","v":2.3796105045736207},{"$f":"IF($Q$1,tblSalaries[[#This Row],[PPP Factor]]*tblSalaries[[#This Row],[Salary in USD]],tblSalaries[[#This Row],[Salary in USD]])","v":18018.883790212141}]
[null,"ID1193","2012-05-28T23:17:12","US$ 7,200",7200,"USD",{"$f":"tblSalaries[[#This Row],[clean Salary (in local currency)]]*VLOOKUP(tblSalaries[[#This Row],[Currency]],tblXrate[],2,FALSE)","v":7200},"Supervisor MIS","Reporting","India",{"$f":"VLOOKUP(tblSalaries[[#This Row],[Where do you work]],tblCountries[[Actual]:[Mapping]],2,FALSE)","v":"India"},"4 to 6 hours a day",7,{"$f":"VLOOKUP(K1170,tblCountries[],3,0)","v":"Asia"},{"$f":"VLOOKUP(tblSalaries[[#This Row],[How many hours of a day you work on Excel]],tblHours,2,0)","v":4},{"$f":"VLOOKUP(tblSalaries[[#This Row],[clean Country]],tblCountries[],5,0)","v":13.098808879263672},{"$f":"IF($Q$1,tblSalaries[[#This Row],[PPP Factor]]*tblSalaries[[#This Row],[Salary in USD]],tblSalaries[[#This Row],[Salary in USD]])","v":7200}]
[null,"ID1194","2012-05-28T23:17:31",56000,56000,"USD",{"$f":"tblSalaries[[#This Row],[clean Salary (in local currency)]]*VLOOKUP(tblSalaries[[#This Row],[Currency]],tblXrate[],2,FALSE)","v":56000},"Analyst","Analyst","USA",{"$f":"VLOOKUP(tblSalaries[[#This Row],[Where do you work]],tblCountries[[Actual]:[Mapping]],2,FALSE)","v":"USA"},"1 or 2 hours a day",2,{"$f":"VLOOKUP(K1171,tblCountries[],3,0)","v":"North Amer."},{"$f":"VLOOKUP(tblSalaries[[#This Row],[How many hours of a day you work on Excel]],tblHours,2,0)","v":2},{"$f":"VLOOKUP(tblSalaries[[#This Row],[clean Country]],tblCountries[],5,0)","v":1},{"$f":"IF($Q$1,tblSalaries[[#This Row],[PPP Factor]]*tblSalaries[[#This Row],[Salary in USD]],tblSalaries[[#This Row],[Salary in USD]])","v":56000}]
[null,"ID1195","2012-05-28T23:19:36","Rs 5,40,000",540000,"INR",{"$f":"tblSalaries[[#This Row],[clean Salary (in local currency)]]*VLOOKUP(tblSalaries[[#This Row],[Currency]],tblXrate[],2,FALSE)","v":9616.275011218986},"Business Analyst - Solutions","Analyst","India",{"$f":"VLOOKUP(tblSalaries[[#This Row],[Where do you work]],tblCountries[[Actual]:[Mapping]],2,FALSE)","v":"India"},"4 to 6 hours a day",7.9,{"$f":"VLOOKUP(K1172,tblCountries[],3,0)","v":"Asia"},{"$f":"VLOOKUP(tblSalaries[[#This Row],[How many hours of a day you work on Excel]],tblHours,2,0)","v":4},{"$f":"VLOOKUP(tblSalaries[[#This Row],[clean Country]],tblCountries[],5,0)","v":13.098808879263672},{"$f":"IF($Q$1,tblSalaries[[#This Row],[PPP Factor]]*tblSalaries[[#This Row],[Salary in USD]],tblSalaries[[#This Row],[Salary in USD]])","v":9616.275011218986}]
[null,"ID1196","2012-05-28T23:21:02","KES 4.3 million",4300000,"KENYA",{"$f":"tblSalaries[[#This Row],[clean Salary (in local currency)]]*VLOOKUP(tblSalaries[[#This Row],[Currency]],tblXrate[],2,FALSE)","v":51497.005988023957},"Finance Manager","Manager","Kenya",{"$f":"VLOOKUP(tblSalaries[[#This Row],[Where do you work]],tblCountries[[Actual]:[Mapping]],2,FALSE)","v":"Kenya"},"4 to 6 hours a day",9,{"$f":"VLOOKUP(K1173,tblCountries[],3,0)","v":"Africa"},{"$f":"VLOOKUP(tblSalaries[[#This Row],[How many hours of a day you work on Excel]],tblHours,2,0)","v":4},{"$f":"VLOOKUP(tblSalaries[[#This Row],[clean Country]],tblCountries[],5,0)","v":27.713058419243985},{"$f":"IF($Q$1,tblSalaries[[#This Row],[PPP Factor]]*tblSalaries[[#This Row],[Salary in USD]],tblSalaries[[#This Row],[Salary in USD]])","v":51497.005988023957}]
[null,"ID1197","2012-05-28T23:25:32","82.000 Euro (pre-tax)",82000,"EUR",{"$f":"tblSalaries[[#This Row],[clean Salary (in local currency)]]*VLOOKUP(tblSalaries[[#This Row],[Currency]],tblXrate[],2,FALSE)","v":104172.75399731184},"Finance Project Manager","Manager","Netherlands",{"$f":"VLOOKUP(tblSalaries[[#This Row],[Where do you work]],tblCountries[[Actual]:[Mapping]],2,FALSE)","v":"Netherlands"},"All the 8 hours baby, all the 8!",25,{"$f":"VLOOKUP(K1174,tblCountries[],3,0)","v":"Europe"},{"$f":"VLOOKUP(tblSalaries[[#This Row],[How many hours of a day you work on Excel]],tblHours,2,0)","v":5},{"$f":"VLOOKUP(tblSalaries[[#This Row],[clean Country]],tblCountries[],5,0)","v":1.1470734656141099},{"$f":"IF($Q$1,tblSalaries[[#This Row],[PPP Factor]]*tblSalaries[[#This Row],[Salary in USD]],tblSalaries[[#This Row],[Salary in USD]])","v":104172.75399731184}]
[null,"ID1198","2012-05-28T23:33:59",88000,88000,"USD",{"$f":"tblSalaries[[#This Row],[clean Salary (in local currency)]]*VLOOKUP(tblSalaries[[#This Row],[Currency]],tblXrate[],2,FALSE)","v":88000},"Manager, Strategy & Insights","Manager","USA",{"$f":"VLOOKUP(tblSalaries[[#This Row],[Where do you work]],tblCountries[[Actual]:[Mapping]],2,FALSE)","v":"USA"},"4 to 6 hours a day",2,{"$f":"VLOOKUP(K1175,tblCountries[],3,0)","v":"North Amer."},{"$f":"VLOOKUP(tblSalaries[[#This Row],[How many hours of a day you work on Excel]],tblHours,2,0)","v":4},{"$f":"VLOOKUP(tblSalaries[[#This Row],[clean Country]],tblCountries[],5,0)","v":1},{"$f":"IF($Q$1,tblSalaries[[#This Row],[PPP Factor]]*tblSalaries[[#This Row],[Salary in USD]],tblSalaries[[#This Row],[Salary in USD]])","v":88000}]
[null,"ID1199","2012-05-28T23:38:52",80000,80000,"USD",{"$f":"tblSalaries[[#This Row],[clean Salary (in local currency)]]*VLOOKUP(tblSalaries[[#This Row],[Currency]],tblXrate[],2,FALSE)","v":80000},"Financial/Data Analyst","Analyst","USA",{"$f":"VLOOKUP(tblSalaries[[#This Row],[Where do you work]],tblCountries[[Actual]:[Mapping]],2,FALSE)","v":"USA"},"4 to 6 hours a day",6,{"$f":"VLOOKUP(K1176,tblCountries[],3,0)","v":"North Amer."},{"$f":"VLOOKUP(tblSalaries[[#This Row],[How many hours of a day you work on Excel]],tblHours,2,0)","v":4},{"$f":"VLOOKUP(tblSalaries[[#This Row],[clean Country]],tblCountries[],5,0)","v":1},{"$f":"IF($Q$1,tblSalaries[[#This Row],[PPP Factor]]*tblSalaries[[#This Row],[Salary in USD]],tblSalaries[[#This Row],[Salary in USD]])","v":80000}]
[null,"ID1200","2012-05-28T23:47:10",19000,19000,"USD",{"$f":"tblSalaries[[#This Row],[clean Salary (in local currency)]]*VLOOKUP(tblSalaries[[#This Row],[Currency]],tblXrate[],2,FALSE)","v":19000},"Accountant","Accountant","UK",{"$f":"VLOOKUP(tblSalaries[[#This Row],[Where do you work]],tblCountries[[Actual]:[Mapping]],2,FALSE)","v":"UK"},"4 to 6 hours a day",20,{"$f":"VLOOKUP(K1177,tblCountries[],3,0)","v":"Europe"},{"$f":"VLOOKUP(tblSalaries[[#This Row],[How many hours of a day you work on Excel]],tblHours,2,0)","v":4},{"$f":"VLOOKUP(tblSalaries[[#This Row],[clean Country]],tblCountries[],5,0)","v":1.3407315045719035},{"$f":"IF($Q$1,tblSalaries[[#This Row],[PPP Factor]]*tblSalaries[[#This Row],[Salary in USD]],tblSalaries[[#This Row],[Salary in USD]])","v":19000}]
[null,"ID1201","2012-05-28T23:51:37","Euro 15.000",15000,"EUR",{"$f":"tblSalaries[[#This Row],[clean Salary (in local currency)]]*VLOOKUP(tblSalaries[[#This Row],[Currency]],tblXrate[],2,FALSE)","v":19055.991584874118},"business consultant","Consultant","Italy",{"$f":"VLOOKUP(tblSalaries[[#This Row],[Where do you work]],tblCountries[[Actual]:[Mapping]],2,FALSE)","v":"italy"},"4 to 6 hours a day",3,{"$f":"VLOOKUP(K1178,tblCountries[],3,0)","v":"Europe"},{"$f":"VLOOKUP(tblSalaries[[#This Row],[How many hours of a day you work on Excel]],tblHours,2,0)","v":4},{"$f":"VLOOKUP(tblSalaries[[#This Row],[clean Country]],tblCountries[],5,0)","v":1.5883337710084033},{"$f":"IF($Q$1,tblSalaries[[#This Row],[PPP Factor]]*tblSalaries[[#This Row],[Salary in USD]],tblSalaries[[#This Row],[Salary in USD]])","v":19055.991584874118}]
[null,"ID1202","2012-05-28T23:52:42",480000,480000,"INR",{"$f":"tblSalaries[[#This Row],[clean Salary (in local currency)]]*VLOOKUP(tblSalaries[[#This Row],[Currency]],tblXrate[],2,FALSE)","v":8547.8000099724322},"Documentation Consultant","Consultant","India",{"$f":"VLOOKUP(tblSalaries[[#This Row],[Where do you work]],tblCountries[[Actual]:[Mapping]],2,FALSE)","v":"India"},"All the 8 hours baby, all the 8!",15,{"$f":"VLOOKUP(K1179,tblCountries[],3,0)","v":"Asia"},{"$f":"VLOOKUP(tblSalaries[[#This Row],[How many hours of a day you work on Excel]],tblHours,2,0)","v":5},{"$f":"VLOOKUP(tblSalaries[[#This Row],[clean Country]],tblCountries[],5,0)","v":13.098808879263672},{"$f":"IF($Q$1,tblSalaries[[#This Row],[PPP Factor]]*tblSalaries[[#This Row],[Salary in USD]],tblSalaries[[#This Row],[Salary in USD]])","v":8547.8000099724322}]
[null,"ID1203","2012-05-28T23:53:02",1100000,1100000,"INR",{"$f":"tblSalaries[[#This Row],[clean Salary (in local currency)]]*VLOOKUP(tblSalaries[[#This Row],[Currency]],tblXrate[],2,FALSE)","v":19588.708356186824},"Sr. Consultant","Consultant","India",{"$f":"VLOOKUP(tblSalaries[[#This Row],[Where do you work]],tblCountries[[Actual]:[Mapping]],2,FALSE)","v":"India"},"All the 8 hours baby, all the 8!",13,{"$f":"VLOOKUP(K1180,tblCountries[],3,0)","v":"Asia"},{"$f":"VLOOKUP(tblSalaries[[#This Row],[How many hours of a day you work on Excel]],tblHours,2,0)","v":5},{"$f":"VLOOKUP(tblSalaries[[#This Row],[clean Country]],tblCountries[],5,0)","v":13.098808879263672},{"$f":"IF($Q$1,tblSalaries[[#This Row],[PPP Factor]]*tblSalaries[[#This Row],[Salary in USD]],tblSalaries[[#This Row],[Salary in USD]])","v":19588.708356186824}]
[null,"ID1204","2012-05-29T00:00:21",61000,61000,"USD",{"$f":"tblSalaries[[#This Row],[clean Salary (in local currency)]]*VLOOKUP(tblSalaries[[#This Row],[Currency]],tblXrate[],2,FALSE)","v":61000},"Financial Analyst","Analyst","USA",{"$f":"VLOOKUP(tblSalaries[[#This Row],[Where do you work]],tblCountries[[Actual]:[Mapping]],2,FALSE)","v":"USA"},"4 to 6 hours a day",1.5,{"$f":"VLOOKUP(K1181,tblCountries[],3,0)","v":"North Amer."},{"$f":"VLOOKUP(tblSalaries[[#This Row],[How many hours of a day you work on Excel]],tblHours,2,0)","v":4},{"$f":"VLOOKUP(tblSalaries[[#This Row],[clean Country]],tblCountries[],5,0)","v":1},{"$f":"IF($Q$1,tblSalaries[[#This Row],[PPP Factor]]*tblSalaries[[#This Row],[Salary in USD]],tblSalaries[[#This Row],[Salary in USD]])","v":61000}]
[null,"ID1205","2012-05-29T00:03:43",34000,34000,"GBP",{"$f":"tblSalaries[[#This Row],[clean Salary (in local currency)]]*VLOOKUP(tblSalaries[[#This Row],[Currency]],tblXrate[],2,FALSE)","v":53590.061250287661},"investment accountant","Accountant","UK",{"$f":"VLOOKUP(tblSalaries[[#This Row],[Where do you work]],tblCountries[[Actual]:[Mapping]],2,FALSE)","v":"UK"},"All the 8 hours baby, all the 8!",10,{"$f":"VLOOKUP(K1182,tblCountries[],3,0)","v":"Europe"},{"$f":"VLOOKUP(tblSalaries[[#This Row],[How many hours of a day you work on Excel]],tblHours,2,0)","v":5},{"$f":"VLOOKUP(tblSalaries[[#This Row],[clean Country]],tblCountries[],5,0)","v":1.3407315045719035},{"$f":"IF($Q$1,tblSalaries[[#This Row],[PPP Factor]]*tblSalaries[[#This Row],[Salary in USD]],tblSalaries[[#This Row],[Salary in USD]])","v":53590.061250287661}]
[null,"ID1206","2012-05-29T00:03:48",34000,34000,"GBP",{"$f":"tblSalaries[[#This Row],[clean Salary (in local currency)]]*VLOOKUP(tblSalaries[[#This Row],[Currency]],tblXrate[],2,FALSE)","v":53590.061250287661},"investment accountant","Accountant","UK",{"$f":"VLOOKUP(tblSalaries[[#This Row],[Where do you work]],tblCountries[[Actual]:[Mapping]],2,FALSE)","v":"UK"},"All the 8 hours baby, all the 8!",10,{"$f":"VLOOKUP(K1183,tblCountries[],3,0)","v":"Europe"},{"$f":"VLOOKUP(tblSalaries[[#This Row],[How many hours of a day you work on Excel]],tblHours,2,0)","v":5},{"$f":"VLOOKUP(tblSalaries[[#This Row],[clean Country]],tblCountries[],5,0)","v":1.3407315045719035},{"$f":"IF($Q$1,tblSalaries[[#This Row],[PPP Factor]]*tblSalaries[[#This Row],[Salary in USD]],tblSalaries[[#This Row],[Salary in USD]])","v":53590.061250287661}]
[null,"ID1207","2012-05-29T00:07:00",250000,250000,"INR",{"$f":"tblSalaries[[#This Row],[clean Salary (in local currency)]]*VLOOKUP(tblSalaries[[#This Row],[Currency]],tblXrate[],2,FALSE)","v":4451.9791718606421},"Officer Production","Manager","India",{"$f":"VLOOKUP(tblSalaries[[#This Row],[Where do you work]],tblCountries[[Actual]:[Mapping]],2,FALSE)","v":"India"},"4 to 6 hours a day",1,{"$f":"VLOOKUP(K1184,tblCountries[],3,0)","v":"Asia"},{"$f":"VLOOKUP(tblSalaries[[#This Row],[How many hours of a day you work on Excel]],tblHours,2,0)","v":4},{"$f":"VLOOKUP(tblSalaries[[#This Row],[clean Country]],tblCountries[],5,0)","v":13.098808879263672},{"$f":"IF($Q$1,tblSalaries[[#This Row],[PPP Factor]]*tblSalaries[[#This Row],[Salary in USD]],tblSalaries[[#This Row],[Salary in USD]])","v":4451.9791718606421}]
[null,"ID1208","2012-05-29T00:07:36",20000,20000,"EUR",{"$f":"tblSalaries[[#This Row],[clean Salary (in local currency)]]*VLOOKUP(tblSalaries[[#This Row],[Currency]],tblXrate[],2,FALSE)","v":25407.988779832154},"warehouse management","Manager","GREECE",{"$f":"VLOOKUP(tblSalaries[[#This Row],[Where do you work]],tblCountries[[Actual]:[Mapping]],2,FALSE)","v":"Greece"},"1 or 2 hours a day",12,{"$f":"VLOOKUP(K1185,tblCountries[],3,0)","v":"Europe"},{"$f":"VLOOKUP(tblSalaries[[#This Row],[How many hours of a day you work on Excel]],tblHours,2,0)","v":2},{"$f":"VLOOKUP(tblSalaries[[#This Row],[clean Country]],tblCountries[],5,0)","v":1.8402297102000456},{"$f":"IF($Q$1,tblSalaries[[#This Row],[PPP Factor]]*tblSalaries[[#This Row],[Salary in USD]],tblSalaries[[#This Row],[Salary in USD]])","v":25407.988779832154}]
[null,"ID1209","2012-05-29T00:12:23",23000,23000,"USD",{"$f":"tblSalaries[[#This Row],[clean Salary (in local currency)]]*VLOOKUP(tblSalaries[[#This Row],[Currency]],tblXrate[],2,FALSE)","v":23000},"Chief Accountant","Accountant","Saudi Arabia",{"$f":"VLOOKUP(tblSalaries[[#This Row],[Where do you work]],tblCountries[[Actual]:[Mapping]],2,FALSE)","v":"Saudi Arabia"},"All the 8 hours baby, all the 8!",14,{"$f":"VLOOKUP(K1186,tblCountries[],3,0)","v":"Asia"},{"$f":"VLOOKUP(tblSalaries[[#This Row],[How many hours of a day you work on Excel]],tblHours,2,0)","v":5},{"$f":"VLOOKUP(tblSalaries[[#This Row],[clean Country]],tblCountries[],5,0)","v":1.9964104468374799},{"$f":"IF($Q$1,tblSalaries[[#This Row],[PPP Factor]]*tblSalaries[[#This Row],[Salary in USD]],tblSalaries[[#This Row],[Salary in USD]])","v":23000}]
[null,"ID1210","2012-05-29T00:16:55","Rs. 900000",900000,"INR",{"$f":"tblSalaries[[#This Row],[clean Salary (in local currency)]]*VLOOKUP(tblSalaries[[#This Row],[Currency]],tblXrate[],2,FALSE)","v":16027.125018698311},"Manager F & A","Manager","India",{"$f":"VLOOKUP(tblSalaries[[#This Row],[Where do you work]],tblCountries[[Actual]:[Mapping]],2,FALSE)","v":"India"},"1 or 2 hours a day",13,{"$f":"VLOOKUP(K1187,tblCountries[],3,0)","v":"Asia"},{"$f":"VLOOKUP(tblSalaries[[#This Row],[How many hours of a day you work on Excel]],tblHours,2,0)","v":2},{"$f":"VLOOKUP(tblSalaries[[#This Row],[clean Country]],tblCountries[],5,0)","v":13.098808879263672},{"$f":"IF($Q$1,tblSalaries[[#This Row],[PPP Factor]]*tblSalaries[[#This Row],[Salary in USD]],tblSalaries[[#This Row],[Salary in USD]])","v":16027.125018698311}]
[null,"ID1211","2012-05-29T00:25:39",60000,60000,"USD",{"$f":"tblSalaries[[#This Row],[clean Salary (in local currency)]]*VLOOKUP(tblSalaries[[#This Row],[Currency]],tblXrate[],2,FALSE)","v":60000},"Quality Assurance Engineer","Engineer","USA",{"$f":"VLOOKUP(tblSalaries[[#This Row],[Where do you work]],tblCountries[[Actual]:[Mapping]],2,FALSE)","v":"USA"},"1 or 2 hours a day",6,{"$f":"VLOOKUP(K1188,tblCountries[],3,0)","v":"North Amer."},{"$f":"VLOOKUP(tblSalaries[[#This Row],[How many hours of a day you work on Excel]],tblHours,2,0)","v":2},{"$f":"VLOOKUP(tblSalaries[[#This Row],[clean Country]],tblCountries[],5,0)","v":1},{"$f":"IF($Q$1,tblSalaries[[#This Row],[PPP Factor]]*tblSalaries[[#This Row],[Salary in USD]],tblSalaries[[#This Row],[Salary in USD]])","v":60000}]
[null,"ID1212","2012-05-29T00:25:46",800,4800,"USD",{"$f":"tblSalaries[[#This Row],[clean Salary (in local currency)]]*VLOOKUP(tblSalaries[[#This Row],[Currency]],tblXrate[],2,FALSE)","v":4800},"Financial Analyst","Analyst","India",{"$f":"VLOOKUP(tblSalaries[[#This Row],[Where do you work]],tblCountries[[Actual]:[Mapping]],2,FALSE)","v":"India"},"4 to 6 hours a day",5,{"$f":"VLOOKUP(K1189,tblCountries[],3,0)","v":"Asia"},{"$f":"VLOOKUP(tblSalaries[[#This Row],[How many hours of a day you work on Excel]],tblHours,2,0)","v":4},{"$f":"VLOOKUP(tblSalaries[[#This Row],[clean Country]],tblCountries[],5,0)","v":13.098808879263672},{"$f":"IF($Q$1,tblSalaries[[#This Row],[PPP Factor]]*tblSalaries[[#This Row],[Salary in USD]],tblSalaries[[#This Row],[Salary in USD]])","v":4800}]
[null,"ID1213","2012-05-29T00:26:21","DKK 625000",625000,"DKK",{"$f":"tblSalaries[[#This Row],[clean Salary (in local currency)]]*VLOOKUP(tblSalaries[[#This Row],[Currency]],tblXrate[],2,FALSE)","v":106815.148267971},"Manager Business Controlling","Manager","Denmark",{"$f":"VLOOKUP(tblSalaries[[#This Row],[Where do you work]],tblCountries[[Actual]:[Mapping]],2,FALSE)","v":"Denmark"},"4 to 6 hours a day",25,{"$f":"VLOOKUP(K1190,tblCountries[],3,0)","v":"Europe"},{"$f":"VLOOKUP(tblSalaries[[#This Row],[How many hours of a day you work on Excel]],tblHours,2,0)","v":4},{"$f":"VLOOKUP(tblSalaries[[#This Row],[clean Country]],tblCountries[],5,0)","v":1.3024063307493541},{"$f":"IF($Q$1,tblSalaries[[#This Row],[PPP Factor]]*tblSalaries[[#This Row],[Salary in USD]],tblSalaries[[#This Row],[Salary in USD]])","v":106815.148267971}]
[null,"ID1214","2012-05-29T00:28:38",500000,500000,"INR",{"$f":"tblSalaries[[#This Row],[clean Salary (in local currency)]]*VLOOKUP(tblSalaries[[#This Row],[Currency]],tblXrate[],2,FALSE)","v":8903.9583437212841},"Consultant","Consultant","India",{"$f":"VLOOKUP(tblSalaries[[#This Row],[Where do you work]],tblCountries[[Actual]:[Mapping]],2,FALSE)","v":"India"},"2 to 3 hours per day",3,{"$f":"VLOOKUP(K1191,tblCountries[],3,0)","v":"Asia"},{"$f":"VLOOKUP(tblSalaries[[#This Row],[How many hours of a day you work on Excel]],tblHours,2,0)","v":3},{"$f":"VLOOKUP(tblSalaries[[#This Row],[clean Country]],tblCountries[],5,0)","v":13.098808879263672},{"$f":"IF($Q$1,tblSalaries[[#This Row],[PPP Factor]]*tblSalaries[[#This Row],[Salary in USD]],tblSalaries[[#This Row],[Salary in USD]])","v":8903.9583437212841}]
[null,"ID1215","2012-05-29T00:29:32",60000,60000,"USD",{"$f":"tblSalaries[[#This Row],[clean Salary (in local currency)]]*VLOOKUP(tblSalaries[[#This Row],[Currency]],tblXrate[],2,FALSE)","v":60000},"sample manager","Manager","USA",{"$f":"VLOOKUP(tblSalaries[[#This Row],[Where do you work]],tblCountries[[Actual]:[Mapping]],2,FALSE)","v":"USA"},"4 to 6 hours a day",12,{"$f":"VLOOKUP(K1192,tblCountries[],3,0)","v":"North Amer."},{"$f":"VLOOKUP(tblSalaries[[#This Row],[How many hours of a day you work on Excel]],tblHours,2,0)","v":4},{"$f":"VLOOKUP(tblSalaries[[#This Row],[clean Country]],tblCountries[],5,0)","v":1},{"$f":"IF($Q$1,tblSalaries[[#This Row],[PPP Factor]]*tblSalaries[[#This Row],[Salary in USD]],tblSalaries[[#This Row],[Salary in USD]])","v":60000}]
[null,"ID1216","2012-05-29T00:30:42",2600000,2600000,"INR",{"$f":"tblSalaries[[#This Row],[clean Salary (in local currency)]]*VLOOKUP(tblSalaries[[#This Row],[Currency]],tblXrate[],2,FALSE)","v":46300.583387350678},"Practice Manager","Manager","India",{"$f":"VLOOKUP(tblSalaries[[#This Row],[Where do you work]],tblCountries[[Actual]:[Mapping]],2,FALSE)","v":"India"},"4 to 6 hours a day",4,{"$f":"VLOOKUP(K1193,tblCountries[],3,0)","v":"Asia"},{"$f":"VLOOKUP(tblSalaries[[#This Row],[How many hours of a day you work on Excel]],tblHours,2,0)","v":4},{"$f":"VLOOKUP(tblSalaries[[#This Row],[clean Country]],tblCountries[],5,0)","v":13.098808879263672},{"$f":"IF($Q$1,tblSalaries[[#This Row],[PPP Factor]]*tblSalaries[[#This Row],[Salary in USD]],tblSalaries[[#This Row],[Salary in USD]])","v":46300.583387350678}]
[null,"ID1217","2012-05-29T00:32:35","INR 750,000",750000,"INR",{"$f":"tblSalaries[[#This Row],[clean Salary (in local currency)]]*VLOOKUP(tblSalaries[[#This Row],[Currency]],tblXrate[],2,FALSE)","v":13355.937515581925},"Assistant Manager","Manager","India",{"$f":"VLOOKUP(tblSalaries[[#This Row],[Where do you work]],tblCountries[[Actual]:[Mapping]],2,FALSE)","v":"India"},"2 to 3 hours per day",3,{"$f":"VLOOKUP(K1194,tblCountries[],3,0)","v":"Asia"},{"$f":"VLOOKUP(tblSalaries[[#This Row],[How many hours of a day you work on Excel]],tblHours,2,0)","v":3},{"$f":"VLOOKUP(tblSalaries[[#This Row],[clean Country]],tblCountries[],5,0)","v":13.098808879263672},{"$f":"IF($Q$1,tblSalaries[[#This Row],[PPP Factor]]*tblSalaries[[#This Row],[Salary in USD]],tblSalaries[[#This Row],[Salary in USD]])","v":13355.937515581925}]
[null,"ID1218","2012-05-29T00:36:21",74000,74000,"USD",{"$f":"tblSalaries[[#This Row],[clean Salary (in local currency)]]*VLOOKUP(tblSalaries[[#This Row],[Currency]],tblXrate[],2,FALSE)","v":74000},"marketing specialist","Specialist","USA",{"$f":"VLOOKUP(tblSalaries[[#This Row],[Where do you work]],tblCountries[[Actual]:[Mapping]],2,FALSE)","v":"USA"},"4 to 6 hours a day",10,{"$f":"VLOOKUP(K1195,tblCountries[],3,0)","v":"North Amer."},{"$f":"VLOOKUP(tblSalaries[[#This Row],[How many hours of a day you work on Excel]],tblHours,2,0)","v":4},{"$f":"VLOOKUP(tblSalaries[[#This Row],[clean Country]],tblCountries[],5,0)","v":1},{"$f":"IF($Q$1,tblSalaries[[#This Row],[PPP Factor]]*tblSalaries[[#This Row],[Salary in USD]],tblSalaries[[#This Row],[Salary in USD]])","v":74000}]
[null,"ID1219","2012-05-29T00:47:17",95856,95856,"USD",{"$f":"tblSalaries[[#This Row],[clean Salary (in local currency)]]*VLOOKUP(tblSalaries[[#This Row],[Currency]],tblXrate[],2,FALSE)","v":95856},"Analyst","Analyst","USA",{"$f":"VLOOKUP(tblSalaries[[#This Row],[Where do you work]],tblCountries[[Actual]:[Mapping]],2,FALSE)","v":"USA"},"2 to 3 hours per day",13,{"$f":"VLOOKUP(K1196,tblCountries[],3,0)","v":"North Amer."},{"$f":"VLOOKUP(tblSalaries[[#This Row],[How many hours of a day you work on Excel]],tblHours,2,0)","v":3},{"$f":"VLOOKUP(tblSalaries[[#This Row],[clean Country]],tblCountries[],5,0)","v":1},{"$f":"IF($Q$1,tblSalaries[[#This Row],[PPP Factor]]*tblSalaries[[#This Row],[Salary in USD]],tblSalaries[[#This Row],[Salary in USD]])","v":95856}]
[null,"ID1220","2012-05-29T01:03:19","40,000 US",40000,"USD",{"$f":"tblSalaries[[#This Row],[clean Salary (in local currency)]]*VLOOKUP(tblSalaries[[#This Row],[Currency]],tblXrate[],2,FALSE)","v":40000},"Staff Accountant","Accountant","USA",{"$f":"VLOOKUP(tblSalaries[[#This Row],[Where do you work]],tblCountries[[Actual]:[Mapping]],2,FALSE)","v":"USA"},"2 to 3 hours per day",15,{"$f":"VLOOKUP(K1197,tblCountries[],3,0)","v":"North Amer."},{"$f":"VLOOKUP(tblSalaries[[#This Row],[How many hours of a day you work on Excel]],tblHours,2,0)","v":3},{"$f":"VLOOKUP(tblSalaries[[#This Row],[clean Country]],tblCountries[],5,0)","v":1},{"$f":"IF($Q$1,tblSalaries[[#This Row],[PPP Factor]]*tblSalaries[[#This Row],[Salary in USD]],tblSalaries[[#This Row],[Salary in USD]])","v":40000}]
[null,"ID1221","2012-05-29T01:06:44",4400,4400,"USD",{"$f":"tblSalaries[[#This Row],[clean Salary (in local currency)]]*VLOOKUP(tblSalaries[[#This Row],[Currency]],tblXrate[],2,FALSE)","v":4400},"Manager Corporate Finance","Manager","Latin America",{"$f":"VLOOKUP(tblSalaries[[#This Row],[Where do you work]],tblCountries[[Actual]:[Mapping]],2,FALSE)","v":"Latin America"},"2 to 3 hours per day",5,{"$f":"VLOOKUP(K1198,tblCountries[],3,0)","v":"South Amer."},{"$f":"VLOOKUP(tblSalaries[[#This Row],[How many hours of a day you work on Excel]],tblHours,2,0)","v":3},{"$f":"VLOOKUP(tblSalaries[[#This Row],[clean Country]],tblCountries[],5,0)","v":1},{"$f":"IF($Q$1,tblSalaries[[#This Row],[PPP Factor]]*tblSalaries[[#This Row],[Salary in USD]],tblSalaries[[#This Row],[Salary in USD]])","v":4400}]
[null,"ID1222","2012-05-29T01:12:28",90000,90000,"USD",{"$f":"tblSalaries[[#This Row],[clean Salary (in local currency)]]*VLOOKUP(tblSalaries[[#This Row],[Currency]],tblXrate[],2,FALSE)","v":90000},"Senior Analyst","Analyst","USA",{"$f":"VLOOKUP(tblSalaries[[#This Row],[Where do you work]],tblCountries[[Actual]:[Mapping]],2,FALSE)","v":"USA"},"4 to 6 hours a day",30,{"$f":"VLOOKUP(K1199,tblCountries[],3,0)","v":"North Amer."},{"$f":"VLOOKUP(tblSalaries[[#This Row],[How many hours of a day you work on Excel]],tblHours,2,0)","v":4},{"$f":"VLOOKUP(tblSalaries[[#This Row],[clean Country]],tblCountries[],5,0)","v":1},{"$f":"IF($Q$1,tblSalaries[[#This Row],[PPP Factor]]*tblSalaries[[#This Row],[Salary in USD]],tblSalaries[[#This Row],[Salary in USD]])","v":90000}]
[null,"ID1223","2012-05-29T01:19:26","INR 450000",450000,"INR",{"$f":"tblSalaries[[#This Row],[clean Salary (in local currency)]]*VLOOKUP(tblSalaries[[#This Row],[Currency]],tblXrate[],2,FALSE)","v":8013.5625093491553},"ASSISTANT MANAGER","Manager","India",{"$f":"VLOOKUP(tblSalaries[[#This Row],[Where do you work]],tblCountries[[Actual]:[Mapping]],2,FALSE)","v":"India"},"All the 8 hours baby, all the 8!",2,{"$f":"VLOOKUP(K1200,tblCountries[],3,0)","v":"Asia"},{"$f":"VLOOKUP(tblSalaries[[#This Row],[How many hours of a day you work on Excel]],tblHours,2,0)","v":5},{"$f":"VLOOKUP(tblSalaries[[#This Row],[clean Country]],tblCountries[],5,0)","v":13.098808879263672},{"$f":"IF($Q$1,tblSalaries[[#This Row],[PPP Factor]]*tblSalaries[[#This Row],[Salary in USD]],tblSalaries[[#This Row],[Salary in USD]])","v":8013.5625093491553}]
[null,"ID1224","2012-05-29T01:22:59","INR 1000000",1000000,"INR",{"$f":"tblSalaries[[#This Row],[clean Salary (in local currency)]]*VLOOKUP(tblSalaries[[#This Row],[Currency]],tblXrate[],2,FALSE)","v":17807.916687442568},"Asst Manager","Manager","India",{"$f":"VLOOKUP(tblSalaries[[#This Row],[Where do you work]],tblCountries[[Actual]:[Mapping]],2,FALSE)","v":"India"},"4 to 6 hours a day",8.5,{"$f":"VLOOKUP(K1201,tblCountries[],3,0)","v":"Asia"},{"$f":"VLOOKUP(tblSalaries[[#This Row],[How many hours of a day you work on Excel]],tblHours,2,0)","v":4},{"$f":"VLOOKUP(tblSalaries[[#This Row],[clean Country]],tblCountries[],5,0)","v":13.098808879263672},{"$f":"IF($Q$1,tblSalaries[[#This Row],[PPP Factor]]*tblSalaries[[#This Row],[Salary in USD]],tblSalaries[[#This Row],[Salary in USD]])","v":17807.916687442568}]
[null,"ID1225","2012-05-29T01:31:39","700000 INR",700000,"INR",{"$f":"tblSalaries[[#This Row],[clean Salary (in local currency)]]*VLOOKUP(tblSalaries[[#This Row],[Currency]],tblXrate[],2,FALSE)","v":12465.541681209797},"Lead Executive MIS","Reporting","India",{"$f":"VLOOKUP(tblSalaries[[#This Row],[Where do you work]],tblCountries[[Actual]:[Mapping]],2,FALSE)","v":"India"},"4 to 6 hours a day",6,{"$f":"VLOOKUP(K1202,tblCountries[],3,0)","v":"Asia"},{"$f":"VLOOKUP(tblSalaries[[#This Row],[How many hours of a day you work on Excel]],tblHours,2,0)","v":4},{"$f":"VLOOKUP(tblSalaries[[#This Row],[clean Country]],tblCountries[],5,0)","v":13.098808879263672},{"$f":"IF($Q$1,tblSalaries[[#This Row],[PPP Factor]]*tblSalaries[[#This Row],[Salary in USD]],tblSalaries[[#This Row],[Salary in USD]])","v":12465.541681209797}]
[null,"ID1226","2012-05-29T01:41:00",80000,80000,"USD",{"$f":"tblSalaries[[#This Row],[clean Salary (in local currency)]]*VLOOKUP(tblSalaries[[#This Row],[Currency]],tblXrate[],2,FALSE)","v":80000},"Snr Business Analyst","Analyst","Singapore",{"$f":"VLOOKUP(tblSalaries[[#This Row],[Where do you work]],tblCountries[[Actual]:[Mapping]],2,FALSE)","v":"Singapore"},"1 or 2 hours a day",6,{"$f":"VLOOKUP(K1203,tblCountries[],3,0)","v":"Asia"},{"$f":"VLOOKUP(tblSalaries[[#This Row],[How many hours of a day you work on Excel]],tblHours,2,0)","v":2},{"$f":"VLOOKUP(tblSalaries[[#This Row],[clean Country]],tblCountries[],5,0)","v":0.81035320125270049},{"$f":"IF($Q$1,tblSalaries[[#This Row],[PPP Factor]]*tblSalaries[[#This Row],[Salary in USD]],tblSalaries[[#This Row],[Salary in USD]])","v":80000}]
[null,"ID1227","2012-05-29T01:44:03",100000,100000,"USD",{"$f":"tblSalaries[[#This Row],[clean Salary (in local currency)]]*VLOOKUP(tblSalaries[[#This Row],[Currency]],tblXrate[],2,FALSE)","v":100000},"Finance Manager","Manager","USA",{"$f":"VLOOKUP(tblSalaries[[#This Row],[Where do you work]],tblCountries[[Actual]:[Mapping]],2,FALSE)","v":"USA"},"4 to 6 hours a day",11,{"$f":"VLOOKUP(K1204,tblCountries[],3,0)","v":"North Amer."},{"$f":"VLOOKUP(tblSalaries[[#This Row],[How many hours of a day you work on Excel]],tblHours,2,0)","v":4},{"$f":"VLOOKUP(tblSalaries[[#This Row],[clean Country]],tblCountries[],5,0)","v":1},{"$f":"IF($Q$1,tblSalaries[[#This Row],[PPP Factor]]*tblSalaries[[#This Row],[Salary in USD]],tblSalaries[[#This Row],[Salary in USD]])","v":100000}]
[null,"ID1228","2012-05-29T01:45:13",4100,49200,"USD",{"$f":"tblSalaries[[#This Row],[clean Salary (in local currency)]]*VLOOKUP(tblSalaries[[#This Row],[Currency]],tblXrate[],2,FALSE)","v":49200},"Chief Accountant","Accountant","QATAR",{"$f":"VLOOKUP(tblSalaries[[#This Row],[Where do you work]],tblCountries[[Actual]:[Mapping]],2,FALSE)","v":"Qatar"},"2 to 3 hours per day",25,{"$f":"VLOOKUP(K1205,tblCountries[],3,0)","v":"Asia"},{"$f":"VLOOKUP(tblSalaries[[#This Row],[How many hours of a day you work on Excel]],tblHours,2,0)","v":3},{"$f":"VLOOKUP(tblSalaries[[#This Row],[clean Country]],tblCountries[],5,0)","v":0.4700368164906793},{"$f":"IF($Q$1,tblSalaries[[#This Row],[PPP Factor]]*tblSalaries[[#This Row],[Salary in USD]],tblSalaries[[#This Row],[Salary in USD]])","v":49200}]
[null,"ID1229","2012-05-29T01:47:39",750,9000,"USD",{"$f":"tblSalaries[[#This Row],[clean Salary (in local currency)]]*VLOOKUP(tblSalaries[[#This Row],[Currency]],tblXrate[],2,FALSE)","v":9000},"assurance manager","Manager","India",{"$f":"VLOOKUP(tblSalaries[[#This Row],[Where do you work]],tblCountries[[Actual]:[Mapping]],2,FALSE)","v":"India"},"4 to 6 hours a day",1,{"$f":"VLOOKUP(K1206,tblCountries[],3,0)","v":"Asia"},{"$f":"VLOOKUP(tblSalaries[[#This Row],[How many hours of a day you work on Excel]],tblHours,2,0)","v":4},{"$f":"VLOOKUP(tblSalaries[[#This Row],[clean Country]],tblCountries[],5,0)","v":13.098808879263672},{"$f":"IF($Q$1,tblSalaries[[#This Row],[PPP Factor]]*tblSalaries[[#This Row],[Salary in USD]],tblSalaries[[#This Row],[Salary in USD]])","v":9000}]
[null,"ID1230","2012-05-29T01:50:01",300000,300000,"INR",{"$f":"tblSalaries[[#This Row],[clean Salary (in local currency)]]*VLOOKUP(tblSalaries[[#This Row],[Currency]],tblXrate[],2,FALSE)","v":5342.3750062327708},"Finance Analyst","Analyst","India",{"$f":"VLOOKUP(tblSalaries[[#This Row],[Where do you work]],tblCountries[[Actual]:[Mapping]],2,FALSE)","v":"India"},"4 to 6 hours a day",6,{"$f":"VLOOKUP(K1207,tblCountries[],3,0)","v":"Asia"},{"$f":"VLOOKUP(tblSalaries[[#This Row],[How many hours of a day you work on Excel]],tblHours,2,0)","v":4},{"$f":"VLOOKUP(tblSalaries[[#This Row],[clean Country]],tblCountries[],5,0)","v":13.098808879263672},{"$f":"IF($Q$1,tblSalaries[[#This Row],[PPP Factor]]*tblSalaries[[#This Row],[Salary in USD]],tblSalaries[[#This Row],[Salary in USD]])","v":5342.3750062327708}]
[null,"ID1231","2012-05-29T02:02:39","$40K",40000,"USD",{"$f":"tblSalaries[[#This Row],[clean Salary (in local currency)]]*VLOOKUP(tblSalaries[[#This Row],[Currency]],tblXrate[],2,FALSE)","v":40000},"SOX,SAP, Insurance Coordinator","Manager","Pakistan, Angola",{"$f":"VLOOKUP(tblSalaries[[#This Row],[Where do you work]],tblCountries[[Actual]:[Mapping]],2,FALSE)","v":"Pakistan"},"4 to 6 hours a day",15,{"$f":"VLOOKUP(K1208,tblCountries[],3,0)","v":"Asia"},{"$f":"VLOOKUP(tblSalaries[[#This Row],[How many hours of a day you work on Excel]],tblHours,2,0)","v":4},{"$f":"VLOOKUP(tblSalaries[[#This Row],[clean Country]],tblCountries[],5,0)","v":17.361679224973088},{"$f":"IF($Q$1,tblSalaries[[#This Row],[PPP Factor]]*tblSalaries[[#This Row],[Salary in USD]],tblSalaries[[#This Row],[Salary in USD]])","v":40000}]
[null,"ID1232","2012-05-29T02:12:32","Â£26000",26000,"GBP",{"$f":"tblSalaries[[#This Row],[clean Salary (in local currency)]]*VLOOKUP(tblSalaries[[#This Row],[Currency]],tblXrate[],2,FALSE)","v":40980.635073749385},"Business Analyst","Analyst","UK",{"$f":"VLOOKUP(tblSalaries[[#This Row],[Where do you work]],tblCountries[[Actual]:[Mapping]],2,FALSE)","v":"UK"},"4 to 6 hours a day",2,{"$f":"VLOOKUP(K1209,tblCountries[],3,0)","v":"Europe"},{"$f":"VLOOKUP(tblSalaries[[#This Row],[How many hours of a day you work on Excel]],tblHours,2,0)","v":4},{"$f":"VLOOKUP(tblSalaries[[#This Row],[clean Country]],tblCountries[],5,0)","v":1.3407315045719035},{"$f":"IF($Q$1,tblSalaries[[#This Row],[PPP Factor]]*tblSalaries[[#This Row],[Salary in USD]],tblSalaries[[#This Row],[Salary in USD]])","v":40980.635073749385}]
[null,"ID1233","2012-05-29T02:19:27","Â£29000",29000,"GBP",{"$f":"tblSalaries[[#This Row],[clean Salary (in local currency)]]*VLOOKUP(tblSalaries[[#This Row],[Currency]],tblXrate[],2,FALSE)","v":45709.169889951241},"Financial Accountant","Accountant","UK",{"$f":"VLOOKUP(tblSalaries[[#This Row],[Where do you work]],tblCountries[[Actual]:[Mapping]],2,FALSE)","v":"UK"},"2 to 3 hours per day",8,{"$f":"VLOOKUP(K1210,tblCountries[],3,0)","v":"Europe"},{"$f":"VLOOKUP(tblSalaries[[#This Row],[How many hours of a day you work on Excel]],tblHours,2,0)","v":3},{"$f":"VLOOKUP(tblSalaries[[#This Row],[clean Country]],tblCountries[],5,0)","v":1.3407315045719035},{"$f":"IF($Q$1,tblSalaries[[#This Row],[PPP Factor]]*tblSalaries[[#This Row],[Salary in USD]],tblSalaries[[#This Row],[Salary in USD]])","v":45709.169889951241}]
[null,"ID1234","2012-05-29T02:22:13",400000,400000,"INR",{"$f":"tblSalaries[[#This Row],[clean Salary (in local currency)]]*VLOOKUP(tblSalaries[[#This Row],[Currency]],tblXrate[],2,FALSE)","v":7123.1666749770275},"Pmo","Manager","India",{"$f":"VLOOKUP(tblSalaries[[#This Row],[Where do you work]],tblCountries[[Actual]:[Mapping]],2,FALSE)","v":"India"},"4 to 6 hours a day",1,{"$f":"VLOOKUP(K1211,tblCountries[],3,0)","v":"Asia"},{"$f":"VLOOKUP(tblSalaries[[#This Row],[How many hours of a day you work on Excel]],tblHours,2,0)","v":4},{"$f":"VLOOKUP(tblSalaries[[#This Row],[clean Country]],tblCountries[],5,0)","v":13.098808879263672},{"$f":"IF($Q$1,tblSalaries[[#This Row],[PPP Factor]]*tblSalaries[[#This Row],[Salary in USD]],tblSalaries[[#This Row],[Salary in USD]])","v":7123.1666749770275}]
[null,"ID1235","2012-05-29T02:26:28","100000 USD",100000,"USD",{"$f":"tblSalaries[[#This Row],[clean Salary (in local currency)]]*VLOOKUP(tblSalaries[[#This Row],[Currency]],tblXrate[],2,FALSE)","v":100000},"Controller","Controller","Norway",{"$f":"VLOOKUP(tblSalaries[[#This Row],[Where do you work]],tblCountries[[Actual]:[Mapping]],2,FALSE)","v":"Norway"},"4 to 6 hours a day",12,{"$f":"VLOOKUP(K1212,tblCountries[],3,0)","v":"Europe"},{"$f":"VLOOKUP(tblSalaries[[#This Row],[How many hours of a day you work on Excel]],tblHours,2,0)","v":4},{"$f":"VLOOKUP(tblSalaries[[#This Row],[clean Country]],tblCountries[],5,0)","v":0.90492042415514951},{"$f":"IF($Q$1,tblSalaries[[#This Row],[PPP Factor]]*tblSalaries[[#This Row],[Salary in USD]],tblSalaries[[#This Row],[Salary in USD]])","v":100000}]
[null,"ID1236","2012-05-29T02:43:44","62.000 euro",62000,"EUR",{"$f":"tblSalaries[[#This Row],[clean Salary (in local currency)]]*VLOOKUP(tblSalaries[[#This Row],[Currency]],tblXrate[],2,FALSE)","v":78764.765217479682},"Stafmember","Analyst","Netherlands",{"$f":"VLOOKUP(tblSalaries[[#This Row],[Where do you work]],tblCountries[[Actual]:[Mapping]],2,FALSE)","v":"Netherlands"},"4 to 6 hours a day",15,{"$f":"VLOOKUP(K1213,tblCountries[],3,0)","v":"Europe"},{"$f":"VLOOKUP(tblSalaries[[#This Row],[How many hours of a day you work on Excel]],tblHours,2,0)","v":4},{"$f":"VLOOKUP(tblSalaries[[#This Row],[clean Country]],tblCountries[],5,0)","v":1.1470734656141099},{"$f":"IF($Q$1,tblSalaries[[#This Row],[PPP Factor]]*tblSalaries[[#This Row],[Salary in USD]],tblSalaries[[#This Row],[Salary in USD]])","v":78764.765217479682}]
[null,"ID1237","2012-05-29T03:16:02",150000,150000,"AUD",{"$f":"tblSalaries[[#This Row],[clean Salary (in local currency)]]*VLOOKUP(tblSalaries[[#This Row],[Currency]],tblXrate[],2,FALSE)","v":152986.44846039536},"Analyst","Analyst","Australia",{"$f":"VLOOKUP(tblSalaries[[#This Row],[Where do you work]],tblCountries[[Actual]:[Mapping]],2,FALSE)","v":"Australia"},"2 to 3 hours per day",10,{"$f":"VLOOKUP(K1214,tblCountries[],3,0)","v":"Oceania"},{"$f":"VLOOKUP(tblSalaries[[#This Row],[How many hours of a day you work on Excel]],tblHours,2,0)","v":3},{"$f":"VLOOKUP(tblSalaries[[#This Row],[clean Country]],tblCountries[],5,0)","v":1.2026395585822935},{"$f":"IF($Q$1,tblSalaries[[#This Row],[PPP Factor]]*tblSalaries[[#This Row],[Salary in USD]],tblSalaries[[#This Row],[Salary in USD]])","v":152986.44846039536}]
[null,"ID1238","2012-05-29T03:28:37","â‚¬35,000 / â‚¬44,000",35000,"EUR",{"$f":"tblSalaries[[#This Row],[clean Salary (in local currency)]]*VLOOKUP(tblSalaries[[#This Row],[Currency]],tblXrate[],2,FALSE)","v":44463.980364706273},"Business Analyst","Analyst","Ireland",{"$f":"VLOOKUP(tblSalaries[[#This Row],[Where do you work]],tblCountries[[Actual]:[Mapping]],2,FALSE)","v":"Ireland"},"All the 8 hours baby, all the 8!",12,{"$f":"VLOOKUP(K1215,tblCountries[],3,0)","v":"Europe"},{"$f":"VLOOKUP(tblSalaries[[#This Row],[How many hours of a day you work on Excel]],tblHours,2,0)","v":5},{"$f":"VLOOKUP(tblSalaries[[#This Row],[clean Country]],tblCountries[],5,0)","v":1.2206917429803981},{"$f":"IF($Q$1,tblSalaries[[#This Row],[PPP Factor]]*tblSalaries[[#This Row],[Salary in USD]],tblSalaries[[#This Row],[Salary in USD]])","v":44463.980364706273}]
[null,"ID1239","2012-05-29T03:51:09",30,30000,"EUR",{"$f":"tblSalaries[[#This Row],[clean Salary (in local currency)]]*VLOOKUP(tblSalaries[[#This Row],[Currency]],tblXrate[],2,FALSE)","v":38111.983169748237},"education advisor","Consultant","the Netherlands",{"$f":"VLOOKUP(tblSalaries[[#This Row],[Where do you work]],tblCountries[[Actual]:[Mapping]],2,FALSE)","v":"Netherlands"},"1 or 2 hours a day",8,{"$f":"VLOOKUP(K1216,tblCountries[],3,0)","v":"Europe"},{"$f":"VLOOKUP(tblSalaries[[#This Row],[How many hours of a day you work on Excel]],tblHours,2,0)","v":2},{"$f":"VLOOKUP(tblSalaries[[#This Row],[clean Country]],tblCountries[],5,0)","v":1.1470734656141099},{"$f":"IF($Q$1,tblSalaries[[#This Row],[PPP Factor]]*tblSalaries[[#This Row],[Salary in USD]],tblSalaries[[#This Row],[Salary in USD]])","v":38111.983169748237}]
[null,"ID1240","2012-05-29T03:51:28",75000,75000,"GBP",{"$f":"tblSalaries[[#This Row],[clean Salary (in local currency)]]*VLOOKUP(tblSalaries[[#This Row],[Currency]],tblXrate[],2,FALSE)","v":118213.37040504631},"Finance Manager","Manager","UK",{"$f":"VLOOKUP(tblSalaries[[#This Row],[Where do you work]],tblCountries[[Actual]:[Mapping]],2,FALSE)","v":"UK"},"4 to 6 hours a day",20,{"$f":"VLOOKUP(K1217,tblCountries[],3,0)","v":"Europe"},{"$f":"VLOOKUP(tblSalaries[[#This Row],[How many hours of a day you work on Excel]],tblHours,2,0)","v":4},{"$f":"VLOOKUP(tblSalaries[[#This Row],[clean Country]],tblCountries[],5,0)","v":1.3407315045719035},{"$f":"IF($Q$1,tblSalaries[[#This Row],[PPP Factor]]*tblSalaries[[#This Row],[Salary in USD]],tblSalaries[[#This Row],[Salary in USD]])","v":118213.37040504631}]
[null,"ID1241","2012-05-29T04:03:07",25000,25000,"GBP",{"$f":"tblSalaries[[#This Row],[clean Salary (in local currency)]]*VLOOKUP(tblSalaries[[#This Row],[Currency]],tblXrate[],2,FALSE)","v":39404.456801682099},"Senior Accounts Clerk","Accountant","UK",{"$f":"VLOOKUP(tblSalaries[[#This Row],[Where do you work]],tblCountries[[Actual]:[Mapping]],2,FALSE)","v":"UK"},"2 to 3 hours per day",10,{"$f":"VLOOKUP(K1218,tblCountries[],3,0)","v":"Europe"},{"$f":"VLOOKUP(tblSalaries[[#This Row],[How many hours of a day you work on Excel]],tblHours,2,0)","v":3},{"$f":"VLOOKUP(tblSalaries[[#This Row],[clean Country]],tblCountries[],5,0)","v":1.3407315045719035},{"$f":"IF($Q$1,tblSalaries[[#This Row],[PPP Factor]]*tblSalaries[[#This Row],[Salary in USD]],tblSalaries[[#This Row],[Salary in USD]])","v":39404.456801682099}]
[null,"ID1242","2012-05-29T04:08:45",71000,71000,"EUR",{"$f":"tblSalaries[[#This Row],[clean Salary (in local currency)]]*VLOOKUP(tblSalaries[[#This Row],[Currency]],tblXrate[],2,FALSE)","v":90198.36016840415},"Consultant","Consultant","Germany",{"$f":"VLOOKUP(tblSalaries[[#This Row],[Where do you work]],tblCountries[[Actual]:[Mapping]],2,FALSE)","v":"Germany"},"1 or 2 hours a day",3,{"$f":"VLOOKUP(K1219,tblCountries[],3,0)","v":"Europe"},{"$f":"VLOOKUP(tblSalaries[[#This Row],[How many hours of a day you work on Excel]],tblHours,2,0)","v":2},{"$f":"VLOOKUP(tblSalaries[[#This Row],[clean Country]],tblCountries[],5,0)","v":1.276802913159353},{"$f":"IF($Q$1,tblSalaries[[#This Row],[PPP Factor]]*tblSalaries[[#This Row],[Salary in USD]],tblSalaries[[#This Row],[Salary in USD]])","v":90198.36016840415}]
[null,"ID1243","2012-05-29T04:11:58","Â£30000",30000,"GBP",{"$f":"tblSalaries[[#This Row],[clean Salary (in local currency)]]*VLOOKUP(tblSalaries[[#This Row],[Currency]],tblXrate[],2,FALSE)","v":47285.348162018527},"Infection Prevention Surveillance Specialist","Specialist","UK",{"$f":"VLOOKUP(tblSalaries[[#This Row],[Where do you work]],tblCountries[[Actual]:[Mapping]],2,FALSE)","v":"UK"},"4 to 6 hours a day",14,{"$f":"VLOOKUP(K1220,tblCountries[],3,0)","v":"Europe"},{"$f":"VLOOKUP(tblSalaries[[#This Row],[How many hours of a day you work on Excel]],tblHours,2,0)","v":4},{"$f":"VLOOKUP(tblSalaries[[#This Row],[clean Country]],tblCountries[],5,0)","v":1.3407315045719035},{"$f":"IF($Q$1,tblSalaries[[#This Row],[PPP Factor]]*tblSalaries[[#This Row],[Salary in USD]],tblSalaries[[#This Row],[Salary in USD]])","v":47285.348162018527}]
[null,"ID1244","2012-05-29T04:25:02",56000,56000,"USD",{"$f":"tblSalaries[[#This Row],[clean Salary (in local currency)]]*VLOOKUP(tblSalaries[[#This Row],[Currency]],tblXrate[],2,FALSE)","v":56000},"Accountant","Accountant","USA",{"$f":"VLOOKUP(tblSalaries[[#This Row],[Where do you work]],tblCountries[[Actual]:[Mapping]],2,FALSE)","v":"USA"},"4 to 6 hours a day",1,{"$f":"VLOOKUP(K1221,tblCountries[],3,0)","v":"North Amer."},{"$f":"VLOOKUP(tblSalaries[[#This Row],[How many hours of a day you work on Excel]],tblHours,2,0)","v":4},{"$f":"VLOOKUP(tblSalaries[[#This Row],[clean Country]],tblCountries[],5,0)","v":1},{"$f":"IF($Q$1,tblSalaries[[#This Row],[PPP Factor]]*tblSalaries[[#This Row],[Salary in USD]],tblSalaries[[#This Row],[Salary in USD]])","v":56000}]
[null,"ID1245","2012-05-29T04:30:10","IDR 4000000",48000000,"IDR",{"$f":"tblSalaries[[#This Row],[clean Salary (in local currency)]]*VLOOKUP(tblSalaries[[#This Row],[Currency]],tblXrate[],2,FALSE)","v":5082.6943786459069},"Office Instructor","Analyst","Indonesia",{"$f":"VLOOKUP(tblSalaries[[#This Row],[Where do you work]],tblCountries[[Actual]:[Mapping]],2,FALSE)","v":"Indonesia"},"1 or 2 hours a day",2,{"$f":"VLOOKUP(K1222,tblCountries[],3,0)","v":"Asia"},{"$f":"VLOOKUP(tblSalaries[[#This Row],[How many hours of a day you work on Excel]],tblHours,2,0)","v":2},{"$f":"VLOOKUP(tblSalaries[[#This Row],[clean Country]],tblCountries[],5,0)","v":10.370124303471924},{"$f":"IF($Q$1,tblSalaries[[#This Row],[PPP Factor]]*tblSalaries[[#This Row],[Salary in USD]],tblSalaries[[#This Row],[Salary in USD]])","v":5082.6943786459069}]
[null,"ID1246","2012-05-29T04:33:37","GBP 34000",34000,"GBP",{"$f":"tblSalaries[[#This Row],[clean Salary (in local currency)]]*VLOOKUP(tblSalaries[[#This Row],[Currency]],tblXrate[],2,FALSE)","v":53590.061250287661},"Investment Accountant","Accountant","UK",{"$f":"VLOOKUP(tblSalaries[[#This Row],[Where do you work]],tblCountries[[Actual]:[Mapping]],2,FALSE)","v":"UK"},"All the 8 hours baby, all the 8!",10,{"$f":"VLOOKUP(K1223,tblCountries[],3,0)","v":"Europe"},{"$f":"VLOOKUP(tblSalaries[[#This Row],[How many hours of a day you work on Excel]],tblHours,2,0)","v":5},{"$f":"VLOOKUP(tblSalaries[[#This Row],[clean Country]],tblCountries[],5,0)","v":1.3407315045719035},{"$f":"IF($Q$1,tblSalaries[[#This Row],[PPP Factor]]*tblSalaries[[#This Row],[Salary in USD]],tblSalaries[[#This Row],[Salary in USD]])","v":53590.061250287661}]
[null,"ID1247","2012-05-29T05:03:26","dkk 450000",450000,"DKK",{"$f":"tblSalaries[[#This Row],[clean Salary (in local currency)]]*VLOOKUP(tblSalaries[[#This Row],[Currency]],tblXrate[],2,FALSE)","v":76906.906752939132},"owner","CXO or Top Mgmt.","Denmark",{"$f":"VLOOKUP(tblSalaries[[#This Row],[Where do you work]],tblCountries[[Actual]:[Mapping]],2,FALSE)","v":"Denmark"},"All the 8 hours baby, all the 8!",17,{"$f":"VLOOKUP(K1224,tblCountries[],3,0)","v":"Europe"},{"$f":"VLOOKUP(tblSalaries[[#This Row],[How many hours of a day you work on Excel]],tblHours,2,0)","v":5},{"$f":"VLOOKUP(tblSalaries[[#This Row],[clean Country]],tblCountries[],5,0)","v":1.3024063307493541},{"$f":"IF($Q$1,tblSalaries[[#This Row],[PPP Factor]]*tblSalaries[[#This Row],[Salary in USD]],tblSalaries[[#This Row],[Salary in USD]])","v":76906.906752939132}]
[null,"ID1248","2012-05-29T05:08:57","85000 USD",85000,"USD",{"$f":"tblSalaries[[#This Row],[clean Salary (in local currency)]]*VLOOKUP(tblSalaries[[#This Row],[Currency]],tblXrate[],2,FALSE)","v":85000},"Senior Executive Compensation Analyst ","Analyst","USA",{"$f":"VLOOKUP(tblSalaries[[#This Row],[Where do you work]],tblCountries[[Actual]:[Mapping]],2,FALSE)","v":"USA"},"4 to 6 hours a day",5,{"$f":"VLOOKUP(K1225,tblCountries[],3,0)","v":"North Amer."},{"$f":"VLOOKUP(tblSalaries[[#This Row],[How many hours of a day you work on Excel]],tblHours,2,0)","v":4},{"$f":"VLOOKUP(tblSalaries[[#This Row],[clean Country]],tblCountries[],5,0)","v":1},{"$f":"IF($Q$1,tblSalaries[[#This Row],[PPP Factor]]*tblSalaries[[#This Row],[Salary in USD]],tblSalaries[[#This Row],[Salary in USD]])","v":85000}]
[null,"ID1249","2012-05-29T05:11:03","USD72000",72000,"USD",{"$f":"tblSalaries[[#This Row],[clean Salary (in local currency)]]*VLOOKUP(tblSalaries[[#This Row],[Currency]],tblXrate[],2,FALSE)","v":72000},"Markets Adviser","Consultant","New Zealand",{"$f":"VLOOKUP(tblSalaries[[#This Row],[Where do you work]],tblCountries[[Actual]:[Mapping]],2,FALSE)","v":"New Zealand"},"2 to 3 hours per day",10,{"$f":"VLOOKUP(K1226,tblCountries[],3,0)","v":"Oceania"},{"$f":"VLOOKUP(tblSalaries[[#This Row],[How many hours of a day you work on Excel]],tblHours,2,0)","v":3},{"$f":"VLOOKUP(tblSalaries[[#This Row],[clean Country]],tblCountries[],5,0)","v":1.7488434292323261},{"$f":"IF($Q$1,tblSalaries[[#This Row],[PPP Factor]]*tblSalaries[[#This Row],[Salary in USD]],tblSalaries[[#This Row],[Salary in USD]])","v":72000}]
[null,"ID1250","2012-05-29T05:21:39",55000,55000,"USD",{"$f":"tblSalaries[[#This Row],[clean Salary (in local currency)]]*VLOOKUP(tblSalaries[[#This Row],[Currency]],tblXrate[],2,FALSE)","v":55000},"Systems Analyst","Analyst","USA",{"$f":"VLOOKUP(tblSalaries[[#This Row],[Where do you work]],tblCountries[[Actual]:[Mapping]],2,FALSE)","v":"USA"},"1 or 2 hours a day",7,{"$f":"VLOOKUP(K1227,tblCountries[],3,0)","v":"North Amer."},{"$f":"VLOOKUP(tblSalaries[[#This Row],[How many hours of a day you work on Excel]],tblHours,2,0)","v":2},{"$f":"VLOOKUP(tblSalaries[[#This Row],[clean Country]],tblCountries[],5,0)","v":1},{"$f":"IF($Q$1,tblSalaries[[#This Row],[PPP Factor]]*tblSalaries[[#This Row],[Salary in USD]],tblSalaries[[#This Row],[Salary in USD]])","v":55000}]
[null,"ID1251","2012-05-29T05:47:34","GBP 43,000",43000,"GBP",{"$f":"tblSalaries[[#This Row],[clean Salary (in local currency)]]*VLOOKUP(tblSalaries[[#This Row],[Currency]],tblXrate[],2,FALSE)","v":67775.665698893223},"Financial Controller","Controller","UK",{"$f":"VLOOKUP(tblSalaries[[#This Row],[Where do you work]],tblCountries[[Actual]:[Mapping]],2,FALSE)","v":"UK"},"4 to 6 hours a day",25,{"$f":"VLOOKUP(K1228,tblCountries[],3,0)","v":"Europe"},{"$f":"VLOOKUP(tblSalaries[[#This Row],[How many hours of a day you work on Excel]],tblHours,2,0)","v":4},{"$f":"VLOOKUP(tblSalaries[[#This Row],[clean Country]],tblCountries[],5,0)","v":1.3407315045719035},{"$f":"IF($Q$1,tblSalaries[[#This Row],[PPP Factor]]*tblSalaries[[#This Row],[Salary in USD]],tblSalaries[[#This Row],[Salary in USD]])","v":67775.665698893223}]
[null,"ID1252","2012-05-29T05:53:42","Â£25750",25750,"GBP",{"$f":"tblSalaries[[#This Row],[clean Salary (in local currency)]]*VLOOKUP(tblSalaries[[#This Row],[Currency]],tblXrate[],2,FALSE)","v":40586.590505732565},"Energy Analyst","Analyst","UK",{"$f":"VLOOKUP(tblSalaries[[#This Row],[Where do you work]],tblCountries[[Actual]:[Mapping]],2,FALSE)","v":"UK"},"4 to 6 hours a day",1,{"$f":"VLOOKUP(K1229,tblCountries[],3,0)","v":"Europe"},{"$f":"VLOOKUP(tblSalaries[[#This Row],[How many hours of a day you work on Excel]],tblHours,2,0)","v":4},{"$f":"VLOOKUP(tblSalaries[[#This Row],[clean Country]],tblCountries[],5,0)","v":1.3407315045719035},{"$f":"IF($Q$1,tblSalaries[[#This Row],[PPP Factor]]*tblSalaries[[#This Row],[Salary in USD]],tblSalaries[[#This Row],[Salary in USD]])","v":40586.590505732565}]
[null,"ID1253","2012-05-29T06:08:12",50846,50846,"USD",{"$f":"tblSalaries[[#This Row],[clean Salary (in local currency)]]*VLOOKUP(tblSalaries[[#This Row],[Currency]],tblXrate[],2,FALSE)","v":50846},"Program & Policy Analyst-Advanced","Analyst","USA",{"$f":"VLOOKUP(tblSalaries[[#This Row],[Where do you work]],tblCountries[[Actual]:[Mapping]],2,FALSE)","v":"USA"},"4 to 6 hours a day",25,{"$f":"VLOOKUP(K1230,tblCountries[],3,0)","v":"North Amer."},{"$f":"VLOOKUP(tblSalaries[[#This Row],[How many hours of a day you work on Excel]],tblHours,2,0)","v":4},{"$f":"VLOOKUP(tblSalaries[[#This Row],[clean Country]],tblCountries[],5,0)","v":1},{"$f":"IF($Q$1,tblSalaries[[#This Row],[PPP Factor]]*tblSalaries[[#This Row],[Salary in USD]],tblSalaries[[#This Row],[Salary in USD]])","v":50846}]
[null,"ID1254","2012-05-29T06:24:36",63000,63000,"USD",{"$f":"tblSalaries[[#This Row],[clean Salary (in local currency)]]*VLOOKUP(tblSalaries[[#This Row],[Currency]],tblXrate[],2,FALSE)","v":63000},"Senior Staff Accountant","Accountant","USA",{"$f":"VLOOKUP(tblSalaries[[#This Row],[Where do you work]],tblCountries[[Actual]:[Mapping]],2,FALSE)","v":"USA"},"All the 8 hours baby, all the 8!",16,{"$f":"VLOOKUP(K1231,tblCountries[],3,0)","v":"North Amer."},{"$f":"VLOOKUP(tblSalaries[[#This Row],[How many hours of a day you work on Excel]],tblHours,2,0)","v":5},{"$f":"VLOOKUP(tblSalaries[[#This Row],[clean Country]],tblCountries[],5,0)","v":1},{"$f":"IF($Q$1,tblSalaries[[#This Row],[PPP Factor]]*tblSalaries[[#This Row],[Salary in USD]],tblSalaries[[#This Row],[Salary in USD]])","v":63000}]
[null,"ID1255","2012-05-29T06:26:05",80000,80000,"AUD",{"$f":"tblSalaries[[#This Row],[clean Salary (in local currency)]]*VLOOKUP(tblSalaries[[#This Row],[Currency]],tblXrate[],2,FALSE)","v":81592.772512210868},"systems accountant","Accountant","Australia",{"$f":"VLOOKUP(tblSalaries[[#This Row],[Where do you work]],tblCountries[[Actual]:[Mapping]],2,FALSE)","v":"Australia"},"4 to 6 hours a day",5,{"$f":"VLOOKUP(K1232,tblCountries[],3,0)","v":"Oceania"},{"$f":"VLOOKUP(tblSalaries[[#This Row],[How many hours of a day you work on Excel]],tblHours,2,0)","v":4},{"$f":"VLOOKUP(tblSalaries[[#This Row],[clean Country]],tblCountries[],5,0)","v":1.2026395585822935},{"$f":"IF($Q$1,tblSalaries[[#This Row],[PPP Factor]]*tblSalaries[[#This Row],[Salary in USD]],tblSalaries[[#This Row],[Salary in USD]])","v":81592.772512210868}]
[null,"ID1256","2012-05-29T07:21:41",50700,50700,"USD",{"$f":"tblSalaries[[#This Row],[clean Salary (in local currency)]]*VLOOKUP(tblSalaries[[#This Row],[Currency]],tblXrate[],2,FALSE)","v":50700},"Sr. Systems Analyst","Analyst","Brazil",{"$f":"VLOOKUP(tblSalaries[[#This Row],[Where do you work]],tblCountries[[Actual]:[Mapping]],2,FALSE)","v":"Brazil"},"1 or 2 hours a day",15,{"$f":"VLOOKUP(K1233,tblCountries[],3,0)","v":"South Amer."},{"$f":"VLOOKUP(tblSalaries[[#This Row],[How many hours of a day you work on Excel]],tblHours,2,0)","v":2},{"$f":"VLOOKUP(tblSalaries[[#This Row],[clean Country]],tblCountries[],5,0)","v":4.1113943410655107},{"$f":"IF($Q$1,tblSalaries[[#This Row],[PPP Factor]]*tblSalaries[[#This Row],[Salary in USD]],tblSalaries[[#This Row],[Salary in USD]])","v":50700}]
[null,"ID1257","2012-05-29T07:28:41",20000,20000,"GBP",{"$f":"tblSalaries[[#This Row],[clean Salary (in local currency)]]*VLOOKUP(tblSalaries[[#This Row],[Currency]],tblXrate[],2,FALSE)","v":31523.565441345683},"Environmental Information Analyst","Analyst","UK",{"$f":"VLOOKUP(tblSalaries[[#This Row],[Where do you work]],tblCountries[[Actual]:[Mapping]],2,FALSE)","v":"UK"},"4 to 6 hours a day",1,{"$f":"VLOOKUP(K1234,tblCountries[],3,0)","v":"Europe"},{"$f":"VLOOKUP(tblSalaries[[#This Row],[How many hours of a day you work on Excel]],tblHours,2,0)","v":4},{"$f":"VLOOKUP(tblSalaries[[#This Row],[clean Country]],tblCountries[],5,0)","v":1.3407315045719035},{"$f":"IF($Q$1,tblSalaries[[#This Row],[PPP Factor]]*tblSalaries[[#This Row],[Salary in USD]],tblSalaries[[#This Row],[Salary in USD]])","v":31523.565441345683}]
[null,"ID1258","2012-05-29T07:46:56",70000,70000,"USD",{"$f":"tblSalaries[[#This Row],[clean Salary (in local currency)]]*VLOOKUP(tblSalaries[[#This Row],[Currency]],tblXrate[],2,FALSE)","v":70000},"Develope","Analyst","USA",{"$f":"VLOOKUP(tblSalaries[[#This Row],[Where do you work]],tblCountries[[Actual]:[Mapping]],2,FALSE)","v":"USA"},"1 or 2 hours a day",6,{"$f":"VLOOKUP(K1235,tblCountries[],3,0)","v":"North Amer."},{"$f":"VLOOKUP(tblSalaries[[#This Row],[How many hours of a day you work on Excel]],tblHours,2,0)","v":2},{"$f":"VLOOKUP(tblSalaries[[#This Row],[clean Country]],tblCountries[],5,0)","v":1},{"$f":"IF($Q$1,tblSalaries[[#This Row],[PPP Factor]]*tblSalaries[[#This Row],[Salary in USD]],tblSalaries[[#This Row],[Salary in USD]])","v":70000}]
[null,"ID1259","2012-05-29T07:52:56",65000,65000,"CAD",{"$f":"tblSalaries[[#This Row],[clean Salary (in local currency)]]*VLOOKUP(tblSalaries[[#This Row],[Currency]],tblXrate[],2,FALSE)","v":63918.498996971248},"it manager","Manager","Canada",{"$f":"VLOOKUP(tblSalaries[[#This Row],[Where do you work]],tblCountries[[Actual]:[Mapping]],2,FALSE)","v":"Canada"},"2 to 3 hours per day",15,{"$f":"VLOOKUP(K1236,tblCountries[],3,0)","v":"North Amer."},{"$f":"VLOOKUP(tblSalaries[[#This Row],[How many hours of a day you work on Excel]],tblHours,2,0)","v":3},{"$f":"VLOOKUP(tblSalaries[[#This Row],[clean Country]],tblCountries[],5,0)","v":1.1935324732986359},{"$f":"IF($Q$1,tblSalaries[[#This Row],[PPP Factor]]*tblSalaries[[#This Row],[Salary in USD]],tblSalaries[[#This Row],[Salary in USD]])","v":63918.498996971248}]
[null,"ID1260","2012-05-29T07:57:04",800000,9600000,"MONGOLIAN",{"$f":"tblSalaries[[#This Row],[clean Salary (in local currency)]]*VLOOKUP(tblSalaries[[#This Row],[Currency]],tblXrate[],2,FALSE)","v":7261.724659606657},"Analyst","Analyst","Mongolia",{"$f":"VLOOKUP(tblSalaries[[#This Row],[Where do you work]],tblCountries[[Actual]:[Mapping]],2,FALSE)","v":"Mongolia"},"All the 8 hours baby, all the 8!",2,{"$f":"VLOOKUP(K1237,tblCountries[],3,0)","v":"Asia"},{"$f":"VLOOKUP(tblSalaries[[#This Row],[How many hours of a day you work on Excel]],tblHours,2,0)","v":5},{"$f":"VLOOKUP(tblSalaries[[#This Row],[clean Country]],tblCountries[],5,0)","v":10.199620573355817},{"$f":"IF($Q$1,tblSalaries[[#This Row],[PPP Factor]]*tblSalaries[[#This Row],[Salary in USD]],tblSalaries[[#This Row],[Salary in USD]])","v":7261.724659606657}]
[null,"ID1261","2012-05-29T08:13:06","RM3000",36000,"MYR",{"$f":"tblSalaries[[#This Row],[clean Salary (in local currency)]]*VLOOKUP(tblSalaries[[#This Row],[Currency]],tblXrate[],2,FALSE)","v":11404.820437438224},"Process Engineering","Engineer","Malaysia",{"$f":"VLOOKUP(tblSalaries[[#This Row],[Where do you work]],tblCountries[[Actual]:[Mapping]],2,FALSE)","v":"Malaysia"},"4 to 6 hours a day",2,{"$f":"VLOOKUP(K1238,tblCountries[],3,0)","v":"Asia"},{"$f":"VLOOKUP(tblSalaries[[#This Row],[How many hours of a day you work on Excel]],tblHours,2,0)","v":4},{"$f":"VLOOKUP(tblSalaries[[#This Row],[clean Country]],tblCountries[],5,0)","v":3.1081063720452211},{"$f":"IF($Q$1,tblSalaries[[#This Row],[PPP Factor]]*tblSalaries[[#This Row],[Salary in USD]],tblSalaries[[#This Row],[Salary in USD]])","v":11404.820437438224}]
[null,"ID1262","2012-05-29T08:25:51","120,000  US$",120000,"USD",{"$f":"tblSalaries[[#This Row],[clean Salary (in local currency)]]*VLOOKUP(tblSalaries[[#This Row],[Currency]],tblXrate[],2,FALSE)","v":120000},"Consultant - Process Improvement","Consultant","Singapore",{"$f":"VLOOKUP(tblSalaries[[#This Row],[Where do you work]],tblCountries[[Actual]:[Mapping]],2,FALSE)","v":"Singapore"},"1 or 2 hours a day",5,{"$f":"VLOOKUP(K1239,tblCountries[],3,0)","v":"Asia"},{"$f":"VLOOKUP(tblSalaries[[#This Row],[How many hours of a day you work on Excel]],tblHours,2,0)","v":2},{"$f":"VLOOKUP(tblSalaries[[#This Row],[clean Country]],tblCountries[],5,0)","v":0.81035320125270049},{"$f":"IF($Q$1,tblSalaries[[#This Row],[PPP Factor]]*tblSalaries[[#This Row],[Salary in USD]],tblSalaries[[#This Row],[Salary in USD]])","v":120000}]
[null,"ID1263","2012-05-29T08:41:02",90000,90000,"AUD",{"$f":"tblSalaries[[#This Row],[clean Salary (in local currency)]]*VLOOKUP(tblSalaries[[#This Row],[Currency]],tblXrate[],2,FALSE)","v":91791.869076237213},"Business Analyst","Analyst","Australia",{"$f":"VLOOKUP(tblSalaries[[#This Row],[Where do you work]],tblCountries[[Actual]:[Mapping]],2,FALSE)","v":"Australia"},"4 to 6 hours a day",5,{"$f":"VLOOKUP(K1240,tblCountries[],3,0)","v":"Oceania"},{"$f":"VLOOKUP(tblSalaries[[#This Row],[How many hours of a day you work on Excel]],tblHours,2,0)","v":4},{"$f":"VLOOKUP(tblSalaries[[#This Row],[clean Country]],tblCountries[],5,0)","v":1.2026395585822935},{"$f":"IF($Q$1,tblSalaries[[#This Row],[PPP Factor]]*tblSalaries[[#This Row],[Salary in USD]],tblSalaries[[#This Row],[Salary in USD]])","v":91791.869076237213}]
[null,"ID1264","2012-05-29T08:41:14",110000,110000,"AUD",{"$f":"tblSalaries[[#This Row],[clean Salary (in local currency)]]*VLOOKUP(tblSalaries[[#This Row],[Currency]],tblXrate[],2,FALSE)","v":112190.06220428993},"Analyst","Analyst","Australia",{"$f":"VLOOKUP(tblSalaries[[#This Row],[Where do you work]],tblCountries[[Actual]:[Mapping]],2,FALSE)","v":"Australia"},"2 to 3 hours per day",7,{"$f":"VLOOKUP(K1241,tblCountries[],3,0)","v":"Oceania"},{"$f":"VLOOKUP(tblSalaries[[#This Row],[How many hours of a day you work on Excel]],tblHours,2,0)","v":3},{"$f":"VLOOKUP(tblSalaries[[#This Row],[clean Country]],tblCountries[],5,0)","v":1.2026395585822935},{"$f":"IF($Q$1,tblSalaries[[#This Row],[PPP Factor]]*tblSalaries[[#This Row],[Salary in USD]],tblSalaries[[#This Row],[Salary in USD]])","v":112190.06220428993}]
[null,"ID1265","2012-05-29T08:47:48",40000,40000,"USD",{"$f":"tblSalaries[[#This Row],[clean Salary (in local currency)]]*VLOOKUP(tblSalaries[[#This Row],[Currency]],tblXrate[],2,FALSE)","v":40000},"Senior Materials Handler","Manager","USA",{"$f":"VLOOKUP(tblSalaries[[#This Row],[Where do you work]],tblCountries[[Actual]:[Mapping]],2,FALSE)","v":"USA"},"2 to 3 hours per day",18,{"$f":"VLOOKUP(K1242,tblCountries[],3,0)","v":"North Amer."},{"$f":"VLOOKUP(tblSalaries[[#This Row],[How many hours of a day you work on Excel]],tblHours,2,0)","v":3},{"$f":"VLOOKUP(tblSalaries[[#This Row],[clean Country]],tblCountries[],5,0)","v":1},{"$f":"IF($Q$1,tblSalaries[[#This Row],[PPP Factor]]*tblSalaries[[#This Row],[Salary in USD]],tblSalaries[[#This Row],[Salary in USD]])","v":40000}]
[null,"ID1266","2012-05-29T08:59:41",107000,107000,"USD",{"$f":"tblSalaries[[#This Row],[clean Salary (in local currency)]]*VLOOKUP(tblSalaries[[#This Row],[Currency]],tblXrate[],2,FALSE)","v":107000},"Certified Public Accountant","Accountant","USA",{"$f":"VLOOKUP(tblSalaries[[#This Row],[Where do you work]],tblCountries[[Actual]:[Mapping]],2,FALSE)","v":"USA"},"4 to 6 hours a day",12,{"$f":"VLOOKUP(K1243,tblCountries[],3,0)","v":"North Amer."},{"$f":"VLOOKUP(tblSalaries[[#This Row],[How many hours of a day you work on Excel]],tblHours,2,0)","v":4},{"$f":"VLOOKUP(tblSalaries[[#This Row],[clean Country]],tblCountries[],5,0)","v":1},{"$f":"IF($Q$1,tblSalaries[[#This Row],[PPP Factor]]*tblSalaries[[#This Row],[Salary in USD]],tblSalaries[[#This Row],[Salary in USD]])","v":107000}]
[null,"ID1267","2012-05-29T09:15:09",82000,82000,"USD",{"$f":"tblSalaries[[#This Row],[clean Salary (in local currency)]]*VLOOKUP(tblSalaries[[#This Row],[Currency]],tblXrate[],2,FALSE)","v":82000},"Manager - Marketing Analytics","Manager","USA",{"$f":"VLOOKUP(tblSalaries[[#This Row],[Where do you work]],tblCountries[[Actual]:[Mapping]],2,FALSE)","v":"USA"},"4 to 6 hours a day",10,{"$f":"VLOOKUP(K1244,tblCountries[],3,0)","v":"North Amer."},{"$f":"VLOOKUP(tblSalaries[[#This Row],[How many hours of a day you work on Excel]],tblHours,2,0)","v":4},{"$f":"VLOOKUP(tblSalaries[[#This Row],[clean Country]],tblCountries[],5,0)","v":1},{"$f":"IF($Q$1,tblSalaries[[#This Row],[PPP Factor]]*tblSalaries[[#This Row],[Salary in USD]],tblSalaries[[#This Row],[Salary in USD]])","v":82000}]
[null,"ID1268","2012-05-29T09:25:31",100000,100000,"AUD",{"$f":"tblSalaries[[#This Row],[clean Salary (in local currency)]]*VLOOKUP(tblSalaries[[#This Row],[Currency]],tblXrate[],2,FALSE)","v":101990.96564026357},"Contractor/Consultant","Consultant","Australia",{"$f":"VLOOKUP(tblSalaries[[#This Row],[Where do you work]],tblCountries[[Actual]:[Mapping]],2,FALSE)","v":"Australia"},"4 to 6 hours a day",15,{"$f":"VLOOKUP(K1245,tblCountries[],3,0)","v":"Oceania"},{"$f":"VLOOKUP(tblSalaries[[#This Row],[How many hours of a day you work on Excel]],tblHours,2,0)","v":4},{"$f":"VLOOKUP(tblSalaries[[#This Row],[clean Country]],tblCountries[],5,0)","v":1.2026395585822935},{"$f":"IF($Q$1,tblSalaries[[#This Row],[PPP Factor]]*tblSalaries[[#This Row],[Salary in USD]],tblSalaries[[#This Row],[Salary in USD]])","v":101990.96564026357}]
[null,"ID1270","2012-05-29T09:37:40","AUD $43000",43000,"USD",{"$f":"tblSalaries[[#This Row],[clean Salary (in local currency)]]*VLOOKUP(tblSalaries[[#This Row],[Currency]],tblXrate[],2,FALSE)","v":43000},"Operations Support Officer","Manager","Australia",{"$f":"VLOOKUP(tblSalaries[[#This Row],[Where do you work]],tblCountries[[Actual]:[Mapping]],2,FALSE)","v":"Australia"},"2 to 3 hours per day",4,{"$f":"VLOOKUP(K1246,tblCountries[],3,0)","v":"Oceania"},{"$f":"VLOOKUP(tblSalaries[[#This Row],[How many hours of a day you work on Excel]],tblHours,2,0)","v":3},{"$f":"VLOOKUP(tblSalaries[[#This Row],[clean Country]],tblCountries[],5,0)","v":1.2026395585822935},{"$f":"IF($Q$1,tblSalaries[[#This Row],[PPP Factor]]*tblSalaries[[#This Row],[Salary in USD]],tblSalaries[[#This Row],[Salary in USD]])","v":43000}]
[null,"ID1271","2012-05-29T09:38:14",69000,69000,"USD",{"$f":"tblSalaries[[#This Row],[clean Salary (in local currency)]]*VLOOKUP(tblSalaries[[#This Row],[Currency]],tblXrate[],2,FALSE)","v":69000},"master scheduler","Controller","USA",{"$f":"VLOOKUP(tblSalaries[[#This Row],[Where do you work]],tblCountries[[Actual]:[Mapping]],2,FALSE)","v":"USA"},"4 to 6 hours a day",20,{"$f":"VLOOKUP(K1247,tblCountries[],3,0)","v":"North Amer."},{"$f":"VLOOKUP(tblSalaries[[#This Row],[How many hours of a day you work on Excel]],tblHours,2,0)","v":4},{"$f":"VLOOKUP(tblSalaries[[#This Row],[clean Country]],tblCountries[],5,0)","v":1},{"$f":"IF($Q$1,tblSalaries[[#This Row],[PPP Factor]]*tblSalaries[[#This Row],[Salary in USD]],tblSalaries[[#This Row],[Salary in USD]])","v":69000}]
[null,"ID1273","2012-05-29T09:47:47",30000,30000,"USD",{"$f":"tblSalaries[[#This Row],[clean Salary (in local currency)]]*VLOOKUP(tblSalaries[[#This Row],[Currency]],tblXrate[],2,FALSE)","v":30000},"Practice Manager - Business Operations","Manager","India",{"$f":"VLOOKUP(tblSalaries[[#This Row],[Where do you work]],tblCountries[[Actual]:[Mapping]],2,FALSE)","v":"India"},"2 to 3 hours per day",3,{"$f":"VLOOKUP(K1248,tblCountries[],3,0)","v":"Asia"},{"$f":"VLOOKUP(tblSalaries[[#This Row],[How many hours of a day you work on Excel]],tblHours,2,0)","v":3},{"$f":"VLOOKUP(tblSalaries[[#This Row],[clean Country]],tblCountries[],5,0)","v":13.098808879263672},{"$f":"IF($Q$1,tblSalaries[[#This Row],[PPP Factor]]*tblSalaries[[#This Row],[Salary in USD]],tblSalaries[[#This Row],[Salary in USD]])","v":30000}]
[null,"ID1274","2012-05-29T09:52:02","48000 $AUD",48000,"AUD",{"$f":"tblSalaries[[#This Row],[clean Salary (in local currency)]]*VLOOKUP(tblSalaries[[#This Row],[Currency]],tblXrate[],2,FALSE)","v":48955.663507326513},"Research Assistant","Analyst","Australia",{"$f":"VLOOKUP(tblSalaries[[#This Row],[Where do you work]],tblCountries[[Actual]:[Mapping]],2,FALSE)","v":"Australia"},"1 or 2 hours a day",2,{"$f":"VLOOKUP(K1249,tblCountries[],3,0)","v":"Oceania"},{"$f":"VLOOKUP(tblSalaries[[#This Row],[How many hours of a day you work on Excel]],tblHours,2,0)","v":2},{"$f":"VLOOKUP(tblSalaries[[#This Row],[clean Country]],tblCountries[],5,0)","v":1.2026395585822935},{"$f":"IF($Q$1,tblSalaries[[#This Row],[PPP Factor]]*tblSalaries[[#This Row],[Salary in USD]],tblSalaries[[#This Row],[Salary in USD]])","v":48955.663507326513}]
[null,"ID1275","2012-05-29T10:08:21",70000,70000,"USD",{"$f":"tblSalaries[[#This Row],[clean Salary (in local currency)]]*VLOOKUP(tblSalaries[[#This Row],[Currency]],tblXrate[],2,FALSE)","v":70000},"Project Manager","Manager","USA",{"$f":"VLOOKUP(tblSalaries[[#This Row],[Where do you work]],tblCountries[[Actual]:[Mapping]],2,FALSE)","v":"USA"},"4 to 6 hours a day",8,{"$f":"VLOOKUP(K1250,tblCountries[],3,0)","v":"North Amer."},{"$f":"VLOOKUP(tblSalaries[[#This Row],[How many hours of a day you work on Excel]],tblHours,2,0)","v":4},{"$f":"VLOOKUP(tblSalaries[[#This Row],[clean Country]],tblCountries[],5,0)","v":1},{"$f":"IF($Q$1,tblSalaries[[#This Row],[PPP Factor]]*tblSalaries[[#This Row],[Salary in USD]],tblSalaries[[#This Row],[Salary in USD]])","v":70000}]
[null,"ID1276","2012-05-29T10:09:37",45000,45000,"USD",{"$f":"tblSalaries[[#This Row],[clean Salary (in local currency)]]*VLOOKUP(tblSalaries[[#This Row],[Currency]],tblXrate[],2,FALSE)","v":45000},"Staff Assistant","Analyst","USA",{"$f":"VLOOKUP(tblSalaries[[#This Row],[Where do you work]],tblCountries[[Actual]:[Mapping]],2,FALSE)","v":"USA"},"4 to 6 hours a day",7,{"$f":"VLOOKUP(K1251,tblCountries[],3,0)","v":"North Amer."},{"$f":"VLOOKUP(tblSalaries[[#This Row],[How many hours of a day you work on Excel]],tblHours,2,0)","v":4},{"$f":"VLOOKUP(tblSalaries[[#This Row],[clean Country]],tblCountries[],5,0)","v":1},{"$f":"IF($Q$1,tblSalaries[[#This Row],[PPP Factor]]*tblSalaries[[#This Row],[Salary in USD]],tblSalaries[[#This Row],[Salary in USD]])","v":45000}]
[null,"ID1277","2012-05-29T10:11:28",35000,35000,"USD",{"$f":"tblSalaries[[#This Row],[clean Salary (in local currency)]]*VLOOKUP(tblSalaries[[#This Row],[Currency]],tblXrate[],2,FALSE)","v":35000},"AVP Securitisation","CXO or Top Mgmt.","Malaysia",{"$f":"VLOOKUP(tblSalaries[[#This Row],[Where do you work]],tblCountries[[Actual]:[Mapping]],2,FALSE)","v":"Malaysia"},"All the 8 hours baby, all the 8!",12,{"$f":"VLOOKUP(K1252,tblCountries[],3,0)","v":"Asia"},{"$f":"VLOOKUP(tblSalaries[[#This Row],[How many hours of a day you work on Excel]],tblHours,2,0)","v":5},{"$f":"VLOOKUP(tblSalaries[[#This Row],[clean Country]],tblCountries[],5,0)","v":3.1081063720452211},{"$f":"IF($Q$1,tblSalaries[[#This Row],[PPP Factor]]*tblSalaries[[#This Row],[Salary in USD]],tblSalaries[[#This Row],[Salary in USD]])","v":35000}]
[null,"ID1278","2012-05-29T10:43:49",500000,500000,"INR",{"$f":"tblSalaries[[#This Row],[clean Salary (in local currency)]]*VLOOKUP(tblSalaries[[#This Row],[Currency]],tblXrate[],2,FALSE)","v":8903.9583437212841},"Asstt. Manager","Manager","India",{"$f":"VLOOKUP(tblSalaries[[#This Row],[Where do you work]],tblCountries[[Actual]:[Mapping]],2,FALSE)","v":"India"},"2 to 3 hours per day",29,{"$f":"VLOOKUP(K1253,tblCountries[],3,0)","v":"Asia"},{"$f":"VLOOKUP(tblSalaries[[#This Row],[How many hours of a day you work on Excel]],tblHours,2,0)","v":3},{"$f":"VLOOKUP(tblSalaries[[#This Row],[clean Country]],tblCountries[],5,0)","v":13.098808879263672},{"$f":"IF($Q$1,tblSalaries[[#This Row],[PPP Factor]]*tblSalaries[[#This Row],[Salary in USD]],tblSalaries[[#This Row],[Salary in USD]])","v":8903.9583437212841}]
[null,"ID1279","2012-05-29T10:45:46","MYR89500",89500,"MYR",{"$f":"tblSalaries[[#This Row],[clean Salary (in local currency)]]*VLOOKUP(tblSalaries[[#This Row],[Currency]],tblXrate[],2,FALSE)","v":28353.650809742252},"Manager","Manager","Malaysia",{"$f":"VLOOKUP(tblSalaries[[#This Row],[Where do you work]],tblCountries[[Actual]:[Mapping]],2,FALSE)","v":"Malaysia"},"2 to 3 hours per day",20,{"$f":"VLOOKUP(K1254,tblCountries[],3,0)","v":"Asia"},{"$f":"VLOOKUP(tblSalaries[[#This Row],[How many hours of a day you work on Excel]],tblHours,2,0)","v":3},{"$f":"VLOOKUP(tblSalaries[[#This Row],[clean Country]],tblCountries[],5,0)","v":3.1081063720452211},{"$f":"IF($Q$1,tblSalaries[[#This Row],[PPP Factor]]*tblSalaries[[#This Row],[Salary in USD]],tblSalaries[[#This Row],[Salary in USD]])","v":28353.650809742252}]
[null,"ID1280","2012-05-29T10:48:33","USD 11800 (INR 650000)",11800,"USD",{"$f":"tblSalaries[[#This Row],[clean Salary (in local currency)]]*VLOOKUP(tblSalaries[[#This Row],[Currency]],tblXrate[],2,FALSE)","v":11800},"Assistant Data Analyst","Analyst","India",{"$f":"VLOOKUP(tblSalaries[[#This Row],[Where do you work]],tblCountries[[Actual]:[Mapping]],2,FALSE)","v":"India"},"4 to 6 hours a day",10,{"$f":"VLOOKUP(K1255,tblCountries[],3,0)","v":"Asia"},{"$f":"VLOOKUP(tblSalaries[[#This Row],[How many hours of a day you work on Excel]],tblHours,2,0)","v":4},{"$f":"VLOOKUP(tblSalaries[[#This Row],[clean Country]],tblCountries[],5,0)","v":13.098808879263672},{"$f":"IF($Q$1,tblSalaries[[#This Row],[PPP Factor]]*tblSalaries[[#This Row],[Salary in USD]],tblSalaries[[#This Row],[Salary in USD]])","v":11800}]
[null,"ID1281","2012-05-29T10:51:02","Rs.3.6 Lakhs pa",360000,"INR",{"$f":"tblSalaries[[#This Row],[clean Salary (in local currency)]]*VLOOKUP(tblSalaries[[#This Row],[Currency]],tblXrate[],2,FALSE)","v":6410.8500074793246},"Team Leader WFM","Manager","India",{"$f":"VLOOKUP(tblSalaries[[#This Row],[Where do you work]],tblCountries[[Actual]:[Mapping]],2,FALSE)","v":"India"},"All the 8 hours baby, all the 8!",6,{"$f":"VLOOKUP(K1256,tblCountries[],3,0)","v":"Asia"},{"$f":"VLOOKUP(tblSalaries[[#This Row],[How many hours of a day you work on Excel]],tblHours,2,0)","v":5},{"$f":"VLOOKUP(tblSalaries[[#This Row],[clean Country]],tblCountries[],5,0)","v":13.098808879263672},{"$f":"IF($Q$1,tblSalaries[[#This Row],[PPP Factor]]*tblSalaries[[#This Row],[Salary in USD]],tblSalaries[[#This Row],[Salary in USD]])","v":6410.8500074793246}]
[null,"ID1282","2012-05-29T10:51:31",50000,50000,"USD",{"$f":"tblSalaries[[#This Row],[clean Salary (in local currency)]]*VLOOKUP(tblSalaries[[#This Row],[Currency]],tblXrate[],2,FALSE)","v":50000},"Data Analyst","Analyst","USA",{"$f":"VLOOKUP(tblSalaries[[#This Row],[Where do you work]],tblCountries[[Actual]:[Mapping]],2,FALSE)","v":"USA"},"4 to 6 hours a day",3,{"$f":"VLOOKUP(K1257,tblCountries[],3,0)","v":"North Amer."},{"$f":"VLOOKUP(tblSalaries[[#This Row],[How many hours of a day you work on Excel]],tblHours,2,0)","v":4},{"$f":"VLOOKUP(tblSalaries[[#This Row],[clean Country]],tblCountries[],5,0)","v":1},{"$f":"IF($Q$1,tblSalaries[[#This Row],[PPP Factor]]*tblSalaries[[#This Row],[Salary in USD]],tblSalaries[[#This Row],[Salary in USD]])","v":50000}]
[null,"ID1283","2012-05-29T11:00:32",85000,85000,"USD",{"$f":"tblSalaries[[#This Row],[clean Salary (in local currency)]]*VLOOKUP(tblSalaries[[#This Row],[Currency]],tblXrate[],2,FALSE)","v":85000},"manager operation","Manager","srilanka",{"$f":"VLOOKUP(tblSalaries[[#This Row],[Where do you work]],tblCountries[[Actual]:[Mapping]],2,FALSE)","v":"Sri Lanka"},"All the 8 hours baby, all the 8!",10,{"$f":"VLOOKUP(K1258,tblCountries[],3,0)","v":"Asia"},{"$f":"VLOOKUP(tblSalaries[[#This Row],[How many hours of a day you work on Excel]],tblHours,2,0)","v":5},{"$f":"VLOOKUP(tblSalaries[[#This Row],[clean Country]],tblCountries[],5,0)","v":8.5278463165315479},{"$f":"IF($Q$1,tblSalaries[[#This Row],[PPP Factor]]*tblSalaries[[#This Row],[Salary in USD]],tblSalaries[[#This Row],[Salary in USD]])","v":85000}]
[null,"ID1284","2012-05-29T11:35:53","Indian Rs 10 Lakhs",1000000,"INR",{"$f":"tblSalaries[[#This Row],[clean Salary (in local currency)]]*VLOOKUP(tblSalaries[[#This Row],[Currency]],tblXrate[],2,FALSE)","v":17807.916687442568},"Manager","Manager","India",{"$f":"VLOOKUP(tblSalaries[[#This Row],[Where do you work]],tblCountries[[Actual]:[Mapping]],2,FALSE)","v":"India"},"2 to 3 hours per day",10,{"$f":"VLOOKUP(K1259,tblCountries[],3,0)","v":"Asia"},{"$f":"VLOOKUP(tblSalaries[[#This Row],[How many hours of a day you work on Excel]],tblHours,2,0)","v":3},{"$f":"VLOOKUP(tblSalaries[[#This Row],[clean Country]],tblCountries[],5,0)","v":13.098808879263672},{"$f":"IF($Q$1,tblSalaries[[#This Row],[PPP Factor]]*tblSalaries[[#This Row],[Salary in USD]],tblSalaries[[#This Row],[Salary in USD]])","v":17807.916687442568}]
[null,"ID1285","2012-05-29T11:46:47","INR 900000",900000,"INR",{"$f":"tblSalaries[[#This Row],[clean Salary (in local currency)]]*VLOOKUP(tblSalaries[[#This Row],[Currency]],tblXrate[],2,FALSE)","v":16027.125018698311},"RENTAL INVENTORY CONTROLLER","Controller","India",{"$f":"VLOOKUP(tblSalaries[[#This Row],[Where do you work]],tblCountries[[Actual]:[Mapping]],2,FALSE)","v":"India"},"All the 8 hours baby, all the 8!",8,{"$f":"VLOOKUP(K1260,tblCountries[],3,0)","v":"Asia"},{"$f":"VLOOKUP(tblSalaries[[#This Row],[How many hours of a day you work on Excel]],tblHours,2,0)","v":5},{"$f":"VLOOKUP(tblSalaries[[#This Row],[clean Country]],tblCountries[],5,0)","v":13.098808879263672},{"$f":"IF($Q$1,tblSalaries[[#This Row],[PPP Factor]]*tblSalaries[[#This Row],[Salary in USD]],tblSalaries[[#This Row],[Salary in USD]])","v":16027.125018698311}]
[null,"ID1286","2012-05-29T11:51:35",192000,192000,"USD",{"$f":"tblSalaries[[#This Row],[clean Salary (in local currency)]]*VLOOKUP(tblSalaries[[#This Row],[Currency]],tblXrate[],2,FALSE)","v":192000},"Publisher","CXO or Top Mgmt.","USA",{"$f":"VLOOKUP(tblSalaries[[#This Row],[Where do you work]],tblCountries[[Actual]:[Mapping]],2,FALSE)","v":"USA"},"All the 8 hours baby, all the 8!",27,{"$f":"VLOOKUP(K1261,tblCountries[],3,0)","v":"North Amer."},{"$f":"VLOOKUP(tblSalaries[[#This Row],[How many hours of a day you work on Excel]],tblHours,2,0)","v":5},{"$f":"VLOOKUP(tblSalaries[[#This Row],[clean Country]],tblCountries[],5,0)","v":1},{"$f":"IF($Q$1,tblSalaries[[#This Row],[PPP Factor]]*tblSalaries[[#This Row],[Salary in USD]],tblSalaries[[#This Row],[Salary in USD]])","v":192000}]
[null,"ID1287","2012-05-29T12:14:02",54000,54000,"USD",{"$f":"tblSalaries[[#This Row],[clean Salary (in local currency)]]*VLOOKUP(tblSalaries[[#This Row],[Currency]],tblXrate[],2,FALSE)","v":54000},"Resource Planning Analyst","Analyst","USA",{"$f":"VLOOKUP(tblSalaries[[#This Row],[Where do you work]],tblCountries[[Actual]:[Mapping]],2,FALSE)","v":"USA"},"All the 8 hours baby, all the 8!",6,{"$f":"VLOOKUP(K1262,tblCountries[],3,0)","v":"North Amer."},{"$f":"VLOOKUP(tblSalaries[[#This Row],[How many hours of a day you work on Excel]],tblHours,2,0)","v":5},{"$f":"VLOOKUP(tblSalaries[[#This Row],[clean Country]],tblCountries[],5,0)","v":1},{"$f":"IF($Q$1,tblSalaries[[#This Row],[PPP Factor]]*tblSalaries[[#This Row],[Salary in USD]],tblSalaries[[#This Row],[Salary in USD]])","v":54000}]
[null,"ID1288","2012-05-29T12:17:07",18000,18000,"USD",{"$f":"tblSalaries[[#This Row],[clean Salary (in local currency)]]*VLOOKUP(tblSalaries[[#This Row],[Currency]],tblXrate[],2,FALSE)","v":18000},"Manager","Manager","India",{"$f":"VLOOKUP(tblSalaries[[#This Row],[Where do you work]],tblCountries[[Actual]:[Mapping]],2,FALSE)","v":"India"},"4 to 6 hours a day",12,{"$f":"VLOOKUP(K1263,tblCountries[],3,0)","v":"Asia"},{"$f":"VLOOKUP(tblSalaries[[#This Row],[How many hours of a day you work on Excel]],tblHours,2,0)","v":4},{"$f":"VLOOKUP(tblSalaries[[#This Row],[clean Country]],tblCountries[],5,0)","v":13.098808879263672},{"$f":"IF($Q$1,tblSalaries[[#This Row],[PPP Factor]]*tblSalaries[[#This Row],[Salary in USD]],tblSalaries[[#This Row],[Salary in USD]])","v":18000}]
[null,"ID1289","2012-05-29T12:19:39","3,00,000.00",300000,"INR",{"$f":"tblSalaries[[#This Row],[clean Salary (in local currency)]]*VLOOKUP(tblSalaries[[#This Row],[Currency]],tblXrate[],2,FALSE)","v":5342.3750062327708},"MIS OFFICER","Reporting","India",{"$f":"VLOOKUP(tblSalaries[[#This Row],[Where do you work]],tblCountries[[Actual]:[Mapping]],2,FALSE)","v":"India"},"2 to 3 hours per day",5,{"$f":"VLOOKUP(K1264,tblCountries[],3,0)","v":"Asia"},{"$f":"VLOOKUP(tblSalaries[[#This Row],[How many hours of a day you work on Excel]],tblHours,2,0)","v":3},{"$f":"VLOOKUP(tblSalaries[[#This Row],[clean Country]],tblCountries[],5,0)","v":13.098808879263672},{"$f":"IF($Q$1,tblSalaries[[#This Row],[PPP Factor]]*tblSalaries[[#This Row],[Salary in USD]],tblSalaries[[#This Row],[Salary in USD]])","v":5342.3750062327708}]
[null,"ID1290","2012-05-29T12:20:32","400000INR",400000,"INR",{"$f":"tblSalaries[[#This Row],[clean Salary (in local currency)]]*VLOOKUP(tblSalaries[[#This Row],[Currency]],tblXrate[],2,FALSE)","v":7123.1666749770275},"PMO","Manager","India",{"$f":"VLOOKUP(tblSalaries[[#This Row],[Where do you work]],tblCountries[[Actual]:[Mapping]],2,FALSE)","v":"India"},"All the 8 hours baby, all the 8!",3,{"$f":"VLOOKUP(K1265,tblCountries[],3,0)","v":"Asia"},{"$f":"VLOOKUP(tblSalaries[[#This Row],[How many hours of a day you work on Excel]],tblHours,2,0)","v":5},{"$f":"VLOOKUP(tblSalaries[[#This Row],[clean Country]],tblCountries[],5,0)","v":13.098808879263672},{"$f":"IF($Q$1,tblSalaries[[#This Row],[PPP Factor]]*tblSalaries[[#This Row],[Salary in USD]],tblSalaries[[#This Row],[Salary in USD]])","v":7123.1666749770275}]
[null,"ID1291","2012-05-29T12:28:41",15000,15000,"USD",{"$f":"tblSalaries[[#This Row],[clean Salary (in local currency)]]*VLOOKUP(tblSalaries[[#This Row],[Currency]],tblXrate[],2,FALSE)","v":15000},"Monitoring & Evaluation officer","Manager","Myanmar",{"$f":"VLOOKUP(tblSalaries[[#This Row],[Where do you work]],tblCountries[[Actual]:[Mapping]],2,FALSE)","v":"Myanmar"},"4 to 6 hours a day",10,{"$f":"VLOOKUP(K1266,tblCountries[],3,0)","v":"Asia"},{"$f":"VLOOKUP(tblSalaries[[#This Row],[How many hours of a day you work on Excel]],tblHours,2,0)","v":4},{"$f":"VLOOKUP(tblSalaries[[#This Row],[clean Country]],tblCountries[],5,0)","v":1},{"$f":"IF($Q$1,tblSalaries[[#This Row],[PPP Factor]]*tblSalaries[[#This Row],[Salary in USD]],tblSalaries[[#This Row],[Salary in USD]])","v":15000}]
[null,"ID1292","2012-05-29T12:29:12","us $ 14000",14000,"USD",{"$f":"tblSalaries[[#This Row],[clean Salary (in local currency)]]*VLOOKUP(tblSalaries[[#This Row],[Currency]],tblXrate[],2,FALSE)","v":14000},"Pricing Analyst","Analyst","India",{"$f":"VLOOKUP(tblSalaries[[#This Row],[Where do you work]],tblCountries[[Actual]:[Mapping]],2,FALSE)","v":"India"},"4 to 6 hours a day",12,{"$f":"VLOOKUP(K1267,tblCountries[],3,0)","v":"Asia"},{"$f":"VLOOKUP(tblSalaries[[#This Row],[How many hours of a day you work on Excel]],tblHours,2,0)","v":4},{"$f":"VLOOKUP(tblSalaries[[#This Row],[clean Country]],tblCountries[],5,0)","v":13.098808879263672},{"$f":"IF($Q$1,tblSalaries[[#This Row],[PPP Factor]]*tblSalaries[[#This Row],[Salary in USD]],tblSalaries[[#This Row],[Salary in USD]])","v":14000}]
[null,"ID1294","2012-05-29T13:06:30",8000,8000,"USD",{"$f":"tblSalaries[[#This Row],[clean Salary (in local currency)]]*VLOOKUP(tblSalaries[[#This Row],[Currency]],tblXrate[],2,FALSE)","v":8000},"Data Analyst","Analyst","India",{"$f":"VLOOKUP(tblSalaries[[#This Row],[Where do you work]],tblCountries[[Actual]:[Mapping]],2,FALSE)","v":"India"},"All the 8 hours baby, all the 8!",4,{"$f":"VLOOKUP(K1268,tblCountries[],3,0)","v":"Asia"},{"$f":"VLOOKUP(tblSalaries[[#This Row],[How many hours of a day you work on Excel]],tblHours,2,0)","v":5},{"$f":"VLOOKUP(tblSalaries[[#This Row],[clean Country]],tblCountries[],5,0)","v":13.098808879263672},{"$f":"IF($Q$1,tblSalaries[[#This Row],[PPP Factor]]*tblSalaries[[#This Row],[Salary in USD]],tblSalaries[[#This Row],[Salary in USD]])","v":8000}]
[null,"ID1295","2012-05-29T13:13:56",12500,12500,"USD",{"$f":"tblSalaries[[#This Row],[clean Salary (in local currency)]]*VLOOKUP(tblSalaries[[#This Row],[Currency]],tblXrate[],2,FALSE)","v":12500},"Specialist","Specialist","Philippines",{"$f":"VLOOKUP(tblSalaries[[#This Row],[Where do you work]],tblCountries[[Actual]:[Mapping]],2,FALSE)","v":"Philippines"},"2 to 3 hours per day",7,{"$f":"VLOOKUP(K1269,tblCountries[],3,0)","v":"Asia"},{"$f":"VLOOKUP(tblSalaries[[#This Row],[How many hours of a day you work on Excel]],tblHours,2,0)","v":3},{"$f":"VLOOKUP(tblSalaries[[#This Row],[clean Country]],tblCountries[],5,0)","v":11.879941075374417},{"$f":"IF($Q$1,tblSalaries[[#This Row],[PPP Factor]]*tblSalaries[[#This Row],[Salary in USD]],tblSalaries[[#This Row],[Salary in USD]])","v":12500}]
[null,"ID1296","2012-05-29T13:15:17",140000,140000,"USD",{"$f":"tblSalaries[[#This Row],[clean Salary (in local currency)]]*VLOOKUP(tblSalaries[[#This Row],[Currency]],tblXrate[],2,FALSE)","v":140000},"Senior Accountant","Accountant","USA",{"$f":"VLOOKUP(tblSalaries[[#This Row],[Where do you work]],tblCountries[[Actual]:[Mapping]],2,FALSE)","v":"USA"},"4 to 6 hours a day",12,{"$f":"VLOOKUP(K1270,tblCountries[],3,0)","v":"North Amer."},{"$f":"VLOOKUP(tblSalaries[[#This Row],[How many hours of a day you work on Excel]],tblHours,2,0)","v":4},{"$f":"VLOOKUP(tblSalaries[[#This Row],[clean Country]],tblCountries[],5,0)","v":1},{"$f":"IF($Q$1,tblSalaries[[#This Row],[PPP Factor]]*tblSalaries[[#This Row],[Salary in USD]],tblSalaries[[#This Row],[Salary in USD]])","v":140000}]
[null,"ID1297","2012-05-29T13:16:45",1000,12000,"USD",{"$f":"tblSalaries[[#This Row],[clean Salary (in local currency)]]*VLOOKUP(tblSalaries[[#This Row],[Currency]],tblXrate[],2,FALSE)","v":12000},"excel prof","Consultant","pakistan",{"$f":"VLOOKUP(tblSalaries[[#This Row],[Where do you work]],tblCountries[[Actual]:[Mapping]],2,FALSE)","v":"Pakistan"},"4 to 6 hours a day",1,{"$f":"VLOOKUP(K1271,tblCountries[],3,0)","v":"Asia"},{"$f":"VLOOKUP(tblSalaries[[#This Row],[How many hours of a day you work on Excel]],tblHours,2,0)","v":4},{"$f":"VLOOKUP(tblSalaries[[#This Row],[clean Country]],tblCountries[],5,0)","v":17.361679224973088},{"$f":"IF($Q$1,tblSalaries[[#This Row],[PPP Factor]]*tblSalaries[[#This Row],[Salary in USD]],tblSalaries[[#This Row],[Salary in USD]])","v":12000}]
[null,"ID1298","2012-05-29T13:16:59","30000 EUR",30000,"EUR",{"$f":"tblSalaries[[#This Row],[clean Salary (in local currency)]]*VLOOKUP(tblSalaries[[#This Row],[Currency]],tblXrate[],2,FALSE)","v":38111.983169748237},"Employee","Analyst","Belgium",{"$f":"VLOOKUP(tblSalaries[[#This Row],[Where do you work]],tblCountries[[Actual]:[Mapping]],2,FALSE)","v":"Belgium"},"2 to 3 hours per day",15,{"$f":"VLOOKUP(K1272,tblCountries[],3,0)","v":"Europe"},{"$f":"VLOOKUP(tblSalaries[[#This Row],[How many hours of a day you work on Excel]],tblHours,2,0)","v":3},{"$f":"VLOOKUP(tblSalaries[[#This Row],[clean Country]],tblCountries[],5,0)","v":1.2822163924000318},{"$f":"IF($Q$1,tblSalaries[[#This Row],[PPP Factor]]*tblSalaries[[#This Row],[Salary in USD]],tblSalaries[[#This Row],[Salary in USD]])","v":38111.983169748237}]
[null,"ID1299","2012-05-29T13:23:45","6,00,000 INR",600000,"INR",{"$f":"tblSalaries[[#This Row],[clean Salary (in local currency)]]*VLOOKUP(tblSalaries[[#This Row],[Currency]],tblXrate[],2,FALSE)","v":10684.750012465542},"Senior Business Executive","Manager","India",{"$f":"VLOOKUP(tblSalaries[[#This Row],[Where do you work]],tblCountries[[Actual]:[Mapping]],2,FALSE)","v":"India"},"2 to 3 hours per day",2,{"$f":"VLOOKUP(K1273,tblCountries[],3,0)","v":"Asia"},{"$f":"VLOOKUP(tblSalaries[[#This Row],[How many hours of a day you work on Excel]],tblHours,2,0)","v":3},{"$f":"VLOOKUP(tblSalaries[[#This Row],[clean Country]],tblCountries[],5,0)","v":13.098808879263672},{"$f":"IF($Q$1,tblSalaries[[#This Row],[PPP Factor]]*tblSalaries[[#This Row],[Salary in USD]],tblSalaries[[#This Row],[Salary in USD]])","v":10684.750012465542}]
[null,"ID1301","2012-05-29T13:40:09","3.5 lakhs p.a",350000,"INR",{"$f":"tblSalaries[[#This Row],[clean Salary (in local currency)]]*VLOOKUP(tblSalaries[[#This Row],[Currency]],tblXrate[],2,FALSE)","v":6232.7708406048987},"I dont know","Analyst","India",{"$f":"VLOOKUP(tblSalaries[[#This Row],[Where do you work]],tblCountries[[Actual]:[Mapping]],2,FALSE)","v":"India"},"4 to 6 hours a day",1.5,{"$f":"VLOOKUP(K1274,tblCountries[],3,0)","v":"Asia"},{"$f":"VLOOKUP(tblSalaries[[#This Row],[How many hours of a day you work on Excel]],tblHours,2,0)","v":4},{"$f":"VLOOKUP(tblSalaries[[#This Row],[clean Country]],tblCountries[],5,0)","v":13.098808879263672},{"$f":"IF($Q$1,tblSalaries[[#This Row],[PPP Factor]]*tblSalaries[[#This Row],[Salary in USD]],tblSalaries[[#This Row],[Salary in USD]])","v":6232.7708406048987}]
[null,"ID1302","2012-05-29T13:52:13",45000,45000,"USD",{"$f":"tblSalaries[[#This Row],[clean Salary (in local currency)]]*VLOOKUP(tblSalaries[[#This Row],[Currency]],tblXrate[],2,FALSE)","v":45000},"Financial Analysis","Analyst","Pakistan",{"$f":"VLOOKUP(tblSalaries[[#This Row],[Where do you work]],tblCountries[[Actual]:[Mapping]],2,FALSE)","v":"Pakistan"},"All the 8 hours baby, all the 8!",8,{"$f":"VLOOKUP(K1275,tblCountries[],3,0)","v":"Asia"},{"$f":"VLOOKUP(tblSalaries[[#This Row],[How many hours of a day you work on Excel]],tblHours,2,0)","v":5},{"$f":"VLOOKUP(tblSalaries[[#This Row],[clean Country]],tblCountries[],5,0)","v":17.361679224973088},{"$f":"IF($Q$1,tblSalaries[[#This Row],[PPP Factor]]*tblSalaries[[#This Row],[Salary in USD]],tblSalaries[[#This Row],[Salary in USD]])","v":45000}]
[null,"ID1303","2012-05-29T13:53:59",80000,80000,"USD",{"$f":"tblSalaries[[#This Row],[clean Salary (in local currency)]]*VLOOKUP(tblSalaries[[#This Row],[Currency]],tblXrate[],2,FALSE)","v":80000},"Manager","Manager","USA",{"$f":"VLOOKUP(tblSalaries[[#This Row],[Where do you work]],tblCountries[[Actual]:[Mapping]],2,FALSE)","v":"USA"},"1 or 2 hours a day",6,{"$f":"VLOOKUP(K1276,tblCountries[],3,0)","v":"North Amer."},{"$f":"VLOOKUP(tblSalaries[[#This Row],[How many hours of a day you work on Excel]],tblHours,2,0)","v":2},{"$f":"VLOOKUP(tblSalaries[[#This Row],[clean Country]],tblCountries[],5,0)","v":1},{"$f":"IF($Q$1,tblSalaries[[#This Row],[PPP Factor]]*tblSalaries[[#This Row],[Salary in USD]],tblSalaries[[#This Row],[Salary in USD]])","v":80000}]
[null,"ID1304","2012-05-29T13:54:38","Rs 1500000",1500000,"INR",{"$f":"tblSalaries[[#This Row],[clean Salary (in local currency)]]*VLOOKUP(tblSalaries[[#This Row],[Currency]],tblXrate[],2,FALSE)","v":26711.875031163851},"Analyst","Analyst","India",{"$f":"VLOOKUP(tblSalaries[[#This Row],[Where do you work]],tblCountries[[Actual]:[Mapping]],2,FALSE)","v":"India"},"4 to 6 hours a day",7,{"$f":"VLOOKUP(K1277,tblCountries[],3,0)","v":"Asia"},{"$f":"VLOOKUP(tblSalaries[[#This Row],[How many hours of a day you work on Excel]],tblHours,2,0)","v":4},{"$f":"VLOOKUP(tblSalaries[[#This Row],[clean Country]],tblCountries[],5,0)","v":13.098808879263672},{"$f":"IF($Q$1,tblSalaries[[#This Row],[PPP Factor]]*tblSalaries[[#This Row],[Salary in USD]],tblSalaries[[#This Row],[Salary in USD]])","v":26711.875031163851}]
[null,"ID1305","2012-05-29T13:58:30","US$ 100,000",100000,"USD",{"$f":"tblSalaries[[#This Row],[clean Salary (in local currency)]]*VLOOKUP(tblSalaries[[#This Row],[Currency]],tblXrate[],2,FALSE)","v":100000},"Business Analyst","Analyst","Uganda",{"$f":"VLOOKUP(tblSalaries[[#This Row],[Where do you work]],tblCountries[[Actual]:[Mapping]],2,FALSE)","v":"Uganda"},"4 to 6 hours a day",17,{"$f":"VLOOKUP(K1278,tblCountries[],3,0)","v":"Africa"},{"$f":"VLOOKUP(tblSalaries[[#This Row],[How many hours of a day you work on Excel]],tblHours,2,0)","v":4},{"$f":"VLOOKUP(tblSalaries[[#This Row],[clean Country]],tblCountries[],5,0)","v":36.740318906605921},{"$f":"IF($Q$1,tblSalaries[[#This Row],[PPP Factor]]*tblSalaries[[#This Row],[Salary in USD]],tblSalaries[[#This Row],[Salary in USD]])","v":100000}]
[null,"ID1306","2012-05-29T13:59:14",68000,68000,"AUD",{"$f":"tblSalaries[[#This Row],[clean Salary (in local currency)]]*VLOOKUP(tblSalaries[[#This Row],[Currency]],tblXrate[],2,FALSE)","v":69353.856635379227},"Project Support Officer","Manager","Australia",{"$f":"VLOOKUP(tblSalaries[[#This Row],[Where do you work]],tblCountries[[Actual]:[Mapping]],2,FALSE)","v":"Australia"},"4 to 6 hours a day",10,{"$f":"VLOOKUP(K1279,tblCountries[],3,0)","v":"Oceania"},{"$f":"VLOOKUP(tblSalaries[[#This Row],[How many hours of a day you work on Excel]],tblHours,2,0)","v":4},{"$f":"VLOOKUP(tblSalaries[[#This Row],[clean Country]],tblCountries[],5,0)","v":1.2026395585822935},{"$f":"IF($Q$1,tblSalaries[[#This Row],[PPP Factor]]*tblSalaries[[#This Row],[Salary in USD]],tblSalaries[[#This Row],[Salary in USD]])","v":69353.856635379227}]
[null,"ID1307","2012-05-29T14:10:28","AUS 49,000",49000,"AUD",{"$f":"tblSalaries[[#This Row],[clean Salary (in local currency)]]*VLOOKUP(tblSalaries[[#This Row],[Currency]],tblXrate[],2,FALSE)","v":49975.573163729154},"Document Control","Controller","Australia",{"$f":"VLOOKUP(tblSalaries[[#This Row],[Where do you work]],tblCountries[[Actual]:[Mapping]],2,FALSE)","v":"Australia"},"4 to 6 hours a day",30,{"$f":"VLOOKUP(K1280,tblCountries[],3,0)","v":"Oceania"},{"$f":"VLOOKUP(tblSalaries[[#This Row],[How many hours of a day you work on Excel]],tblHours,2,0)","v":4},{"$f":"VLOOKUP(tblSalaries[[#This Row],[clean Country]],tblCountries[],5,0)","v":1.2026395585822935},{"$f":"IF($Q$1,tblSalaries[[#This Row],[PPP Factor]]*tblSalaries[[#This Row],[Salary in USD]],tblSalaries[[#This Row],[Salary in USD]])","v":49975.573163729154}]
[null,"ID1308","2012-05-29T14:16:06","5,75,000",575000,"INR",{"$f":"tblSalaries[[#This Row],[clean Salary (in local currency)]]*VLOOKUP(tblSalaries[[#This Row],[Currency]],tblXrate[],2,FALSE)","v":10239.552095279476},"Asst Manager HR","Manager","India",{"$f":"VLOOKUP(tblSalaries[[#This Row],[Where do you work]],tblCountries[[Actual]:[Mapping]],2,FALSE)","v":"India"},"2 to 3 hours per day",5,{"$f":"VLOOKUP(K1281,tblCountries[],3,0)","v":"Asia"},{"$f":"VLOOKUP(tblSalaries[[#This Row],[How many hours of a day you work on Excel]],tblHours,2,0)","v":3},{"$f":"VLOOKUP(tblSalaries[[#This Row],[clean Country]],tblCountries[],5,0)","v":13.098808879263672},{"$f":"IF($Q$1,tblSalaries[[#This Row],[PPP Factor]]*tblSalaries[[#This Row],[Salary in USD]],tblSalaries[[#This Row],[Salary in USD]])","v":10239.552095279476}]
[null,"ID1309","2012-05-29T14:34:42","500000 Rupees",500000,"INR",{"$f":"tblSalaries[[#This Row],[clean Salary (in local currency)]]*VLOOKUP(tblSalaries[[#This Row],[Currency]],tblXrate[],2,FALSE)","v":8903.9583437212841},"Senior software engineer","Engineer","India",{"$f":"VLOOKUP(tblSalaries[[#This Row],[Where do you work]],tblCountries[[Actual]:[Mapping]],2,FALSE)","v":"India"},"4 to 6 hours a day",2,{"$f":"VLOOKUP(K1282,tblCountries[],3,0)","v":"Asia"},{"$f":"VLOOKUP(tblSalaries[[#This Row],[How many hours of a day you work on Excel]],tblHours,2,0)","v":4},{"$f":"VLOOKUP(tblSalaries[[#This Row],[clean Country]],tblCountries[],5,0)","v":13.098808879263672},{"$f":"IF($Q$1,tblSalaries[[#This Row],[PPP Factor]]*tblSalaries[[#This Row],[Salary in USD]],tblSalaries[[#This Row],[Salary in USD]])","v":8903.9583437212841}]
[null,"ID1310","2012-05-29T14:55:21","36K",36000,"USD",{"$f":"tblSalaries[[#This Row],[clean Salary (in local currency)]]*VLOOKUP(tblSalaries[[#This Row],[Currency]],tblXrate[],2,FALSE)","v":36000},"Administrative Assistant","Analyst","Kuwait",{"$f":"VLOOKUP(tblSalaries[[#This Row],[Where do you work]],tblCountries[[Actual]:[Mapping]],2,FALSE)","v":"Kuwait"},"2 to 3 hours per day",10,{"$f":"VLOOKUP(K1283,tblCountries[],3,0)","v":"Asia"},{"$f":"VLOOKUP(tblSalaries[[#This Row],[How many hours of a day you work on Excel]],tblHours,2,0)","v":3},{"$f":"VLOOKUP(tblSalaries[[#This Row],[clean Country]],tblCountries[],5,0)","v":1.1606102036410737},{"$f":"IF($Q$1,tblSalaries[[#This Row],[PPP Factor]]*tblSalaries[[#This Row],[Salary in USD]],tblSalaries[[#This Row],[Salary in USD]])","v":36000}]
[null,"ID1311","2012-05-29T14:55:29","210000 per annum",210000,"INR",{"$f":"tblSalaries[[#This Row],[clean Salary (in local currency)]]*VLOOKUP(tblSalaries[[#This Row],[Currency]],tblXrate[],2,FALSE)","v":3739.6625043629392},"MIS cum Purchase Executive","Reporting","India",{"$f":"VLOOKUP(tblSalaries[[#This Row],[Where do you work]],tblCountries[[Actual]:[Mapping]],2,FALSE)","v":"India"},"1 or 2 hours a day",4.5,{"$f":"VLOOKUP(K1284,tblCountries[],3,0)","v":"Asia"},{"$f":"VLOOKUP(tblSalaries[[#This Row],[How many hours of a day you work on Excel]],tblHours,2,0)","v":2},{"$f":"VLOOKUP(tblSalaries[[#This Row],[clean Country]],tblCountries[],5,0)","v":13.098808879263672},{"$f":"IF($Q$1,tblSalaries[[#This Row],[PPP Factor]]*tblSalaries[[#This Row],[Salary in USD]],tblSalaries[[#This Row],[Salary in USD]])","v":3739.6625043629392}]
[null,"ID1312","2012-05-29T14:59:11","â‚¬ 48500",48500,"EUR",{"$f":"tblSalaries[[#This Row],[clean Salary (in local currency)]]*VLOOKUP(tblSalaries[[#This Row],[Currency]],tblXrate[],2,FALSE)","v":61614.372791092981},"Information analyst","Analyst","Netherlands",{"$f":"VLOOKUP(tblSalaries[[#This Row],[Where do you work]],tblCountries[[Actual]:[Mapping]],2,FALSE)","v":"Netherlands"},"4 to 6 hours a day",8,{"$f":"VLOOKUP(K1285,tblCountries[],3,0)","v":"Europe"},{"$f":"VLOOKUP(tblSalaries[[#This Row],[How many hours of a day you work on Excel]],tblHours,2,0)","v":4},{"$f":"VLOOKUP(tblSalaries[[#This Row],[clean Country]],tblCountries[],5,0)","v":1.1470734656141099},{"$f":"IF($Q$1,tblSalaries[[#This Row],[PPP Factor]]*tblSalaries[[#This Row],[Salary in USD]],tblSalaries[[#This Row],[Salary in USD]])","v":61614.372791092981}]
[null,"ID1313","2012-05-29T15:02:56","2 LPA",200000,"INR",{"$f":"tblSalaries[[#This Row],[clean Salary (in local currency)]]*VLOOKUP(tblSalaries[[#This Row],[Currency]],tblXrate[],2,FALSE)","v":3561.5833374885137},"MIS","Reporting","India",{"$f":"VLOOKUP(tblSalaries[[#This Row],[Where do you work]],tblCountries[[Actual]:[Mapping]],2,FALSE)","v":"India"},"2 to 3 hours per day",3,{"$f":"VLOOKUP(K1286,tblCountries[],3,0)","v":"Asia"},{"$f":"VLOOKUP(tblSalaries[[#This Row],[How many hours of a day you work on Excel]],tblHours,2,0)","v":3},{"$f":"VLOOKUP(tblSalaries[[#This Row],[clean Country]],tblCountries[],5,0)","v":13.098808879263672},{"$f":"IF($Q$1,tblSalaries[[#This Row],[PPP Factor]]*tblSalaries[[#This Row],[Salary in USD]],tblSalaries[[#This Row],[Salary in USD]])","v":3561.5833374885137}]
[null,"ID1314","2012-05-29T15:04:11","INR360000",360000,"INR",{"$f":"tblSalaries[[#This Row],[clean Salary (in local currency)]]*VLOOKUP(tblSalaries[[#This Row],[Currency]],tblXrate[],2,FALSE)","v":6410.8500074793246},"Sr. Executive -HR","Analyst","India",{"$f":"VLOOKUP(tblSalaries[[#This Row],[Where do you work]],tblCountries[[Actual]:[Mapping]],2,FALSE)","v":"India"},"All the 8 hours baby, all the 8!",6,{"$f":"VLOOKUP(K1287,tblCountries[],3,0)","v":"Asia"},{"$f":"VLOOKUP(tblSalaries[[#This Row],[How many hours of a day you work on Excel]],tblHours,2,0)","v":5},{"$f":"VLOOKUP(tblSalaries[[#This Row],[clean Country]],tblCountries[],5,0)","v":13.098808879263672},{"$f":"IF($Q$1,tblSalaries[[#This Row],[PPP Factor]]*tblSalaries[[#This Row],[Salary in USD]],tblSalaries[[#This Row],[Salary in USD]])","v":6410.8500074793246}]
[null,"ID1315","2012-05-29T15:08:12","â‚¬ 28500",28500,"EUR",{"$f":"tblSalaries[[#This Row],[clean Salary (in local currency)]]*VLOOKUP(tblSalaries[[#This Row],[Currency]],tblXrate[],2,FALSE)","v":36206.384011260823},"Salary Professsional","Analyst","Netherlands",{"$f":"VLOOKUP(tblSalaries[[#This Row],[Where do you work]],tblCountries[[Actual]:[Mapping]],2,FALSE)","v":"Netherlands"},"1 or 2 hours a day",5,{"$f":"VLOOKUP(K1288,tblCountries[],3,0)","v":"Europe"},{"$f":"VLOOKUP(tblSalaries[[#This Row],[How many hours of a day you work on Excel]],tblHours,2,0)","v":2},{"$f":"VLOOKUP(tblSalaries[[#This Row],[clean Country]],tblCountries[],5,0)","v":1.1470734656141099},{"$f":"IF($Q$1,tblSalaries[[#This Row],[PPP Factor]]*tblSalaries[[#This Row],[Salary in USD]],tblSalaries[[#This Row],[Salary in USD]])","v":36206.384011260823}]
[null,"ID1316","2012-05-29T15:10:24",13500,13500,"USD",{"$f":"tblSalaries[[#This Row],[clean Salary (in local currency)]]*VLOOKUP(tblSalaries[[#This Row],[Currency]],tblXrate[],2,FALSE)","v":13500},"Asst. Manager","Manager","India",{"$f":"VLOOKUP(tblSalaries[[#This Row],[Where do you work]],tblCountries[[Actual]:[Mapping]],2,FALSE)","v":"India"},"2 to 3 hours per day",20,{"$f":"VLOOKUP(K1289,tblCountries[],3,0)","v":"Asia"},{"$f":"VLOOKUP(tblSalaries[[#This Row],[How many hours of a day you work on Excel]],tblHours,2,0)","v":3},{"$f":"VLOOKUP(tblSalaries[[#This Row],[clean Country]],tblCountries[],5,0)","v":13.098808879263672},{"$f":"IF($Q$1,tblSalaries[[#This Row],[PPP Factor]]*tblSalaries[[#This Row],[Salary in USD]],tblSalaries[[#This Row],[Salary in USD]])","v":13500}]
[null,"ID1317","2012-05-29T15:18:45",250,3000,"USD",{"$f":"tblSalaries[[#This Row],[clean Salary (in local currency)]]*VLOOKUP(tblSalaries[[#This Row],[Currency]],tblXrate[],2,FALSE)","v":3000},"FANANCE","Accountant","SRI LANKA",{"$f":"VLOOKUP(tblSalaries[[#This Row],[Where do you work]],tblCountries[[Actual]:[Mapping]],2,FALSE)","v":"Sri Lanka"},"4 to 6 hours a day",2,{"$f":"VLOOKUP(K1290,tblCountries[],3,0)","v":"Asia"},{"$f":"VLOOKUP(tblSalaries[[#This Row],[How many hours of a day you work on Excel]],tblHours,2,0)","v":4},{"$f":"VLOOKUP(tblSalaries[[#This Row],[clean Country]],tblCountries[],5,0)","v":8.5278463165315479},{"$f":"IF($Q$1,tblSalaries[[#This Row],[PPP Factor]]*tblSalaries[[#This Row],[Salary in USD]],tblSalaries[[#This Row],[Salary in USD]])","v":3000}]
[null,"ID1318","2012-05-29T15:24:45",1200000,1200000,"INR",{"$f":"tblSalaries[[#This Row],[clean Salary (in local currency)]]*VLOOKUP(tblSalaries[[#This Row],[Currency]],tblXrate[],2,FALSE)","v":21369.500024931083},"Manager - Corporate strategy and Planning","Manager","India",{"$f":"VLOOKUP(tblSalaries[[#This Row],[Where do you work]],tblCountries[[Actual]:[Mapping]],2,FALSE)","v":"India"},"4 to 6 hours a day",9,{"$f":"VLOOKUP(K1291,tblCountries[],3,0)","v":"Asia"},{"$f":"VLOOKUP(tblSalaries[[#This Row],[How many hours of a day you work on Excel]],tblHours,2,0)","v":4},{"$f":"VLOOKUP(tblSalaries[[#This Row],[clean Country]],tblCountries[],5,0)","v":13.098808879263672},{"$f":"IF($Q$1,tblSalaries[[#This Row],[PPP Factor]]*tblSalaries[[#This Row],[Salary in USD]],tblSalaries[[#This Row],[Salary in USD]])","v":21369.500024931083}]
[null,"ID1319","2012-05-29T15:36:25","6lakhs",600000,"INR",{"$f":"tblSalaries[[#This Row],[clean Salary (in local currency)]]*VLOOKUP(tblSalaries[[#This Row],[Currency]],tblXrate[],2,FALSE)","v":10684.750012465542},"General Manager","Manager","India",{"$f":"VLOOKUP(tblSalaries[[#This Row],[Where do you work]],tblCountries[[Actual]:[Mapping]],2,FALSE)","v":"India"},"2 to 3 hours per day",28,{"$f":"VLOOKUP(K1292,tblCountries[],3,0)","v":"Asia"},{"$f":"VLOOKUP(tblSalaries[[#This Row],[How many hours of a day you work on Excel]],tblHours,2,0)","v":3},{"$f":"VLOOKUP(tblSalaries[[#This Row],[clean Country]],tblCountries[],5,0)","v":13.098808879263672},{"$f":"IF($Q$1,tblSalaries[[#This Row],[PPP Factor]]*tblSalaries[[#This Row],[Salary in USD]],tblSalaries[[#This Row],[Salary in USD]])","v":10684.750012465542}]
[null,"ID1320","2012-05-29T15:36:42",139000,139000,"EUR",{"$f":"tblSalaries[[#This Row],[clean Salary (in local currency)]]*VLOOKUP(tblSalaries[[#This Row],[Currency]],tblXrate[],2,FALSE)","v":176585.52201983347},"NAF Support Manager","Manager","Germany",{"$f":"VLOOKUP(tblSalaries[[#This Row],[Where do you work]],tblCountries[[Actual]:[Mapping]],2,FALSE)","v":"Germany"},"1 or 2 hours a day",25,{"$f":"VLOOKUP(K1293,tblCountries[],3,0)","v":"Europe"},{"$f":"VLOOKUP(tblSalaries[[#This Row],[How many hours of a day you work on Excel]],tblHours,2,0)","v":2},{"$f":"VLOOKUP(tblSalaries[[#This Row],[clean Country]],tblCountries[],5,0)","v":1.276802913159353},{"$f":"IF($Q$1,tblSalaries[[#This Row],[PPP Factor]]*tblSalaries[[#This Row],[Salary in USD]],tblSalaries[[#This Row],[Salary in USD]])","v":176585.52201983347}]
[null,"ID1322","2012-05-29T15:38:40","43000 EUR",43000,"EUR",{"$f":"tblSalaries[[#This Row],[clean Salary (in local currency)]]*VLOOKUP(tblSalaries[[#This Row],[Currency]],tblXrate[],2,FALSE)","v":54627.175876639136},"Project manager of IT infrastructure","Manager","France",{"$f":"VLOOKUP(tblSalaries[[#This Row],[Where do you work]],tblCountries[[Actual]:[Mapping]],2,FALSE)","v":"France"},"All the 8 hours baby, all the 8!",7,{"$f":"VLOOKUP(K1294,tblCountries[],3,0)","v":"Europe"},{"$f":"VLOOKUP(tblSalaries[[#This Row],[How many hours of a day you work on Excel]],tblHours,2,0)","v":5},{"$f":"VLOOKUP(tblSalaries[[#This Row],[clean Country]],tblCountries[],5,0)","v":1.3763511207190806},{"$f":"IF($Q$1,tblSalaries[[#This Row],[PPP Factor]]*tblSalaries[[#This Row],[Salary in USD]],tblSalaries[[#This Row],[Salary in USD]])","v":54627.175876639136}]
[null,"ID1323","2012-05-29T15:46:17","about 24.000 â‚¬",24000,"EUR",{"$f":"tblSalaries[[#This Row],[clean Salary (in local currency)]]*VLOOKUP(tblSalaries[[#This Row],[Currency]],tblXrate[],2,FALSE)","v":30489.586535798586},"Controller","Controller","Italy",{"$f":"VLOOKUP(tblSalaries[[#This Row],[Where do you work]],tblCountries[[Actual]:[Mapping]],2,FALSE)","v":"italy"},"4 to 6 hours a day",10,{"$f":"VLOOKUP(K1295,tblCountries[],3,0)","v":"Europe"},{"$f":"VLOOKUP(tblSalaries[[#This Row],[How many hours of a day you work on Excel]],tblHours,2,0)","v":4},{"$f":"VLOOKUP(tblSalaries[[#This Row],[clean Country]],tblCountries[],5,0)","v":1.5883337710084033},{"$f":"IF($Q$1,tblSalaries[[#This Row],[PPP Factor]]*tblSalaries[[#This Row],[Salary in USD]],tblSalaries[[#This Row],[Salary in USD]])","v":30489.586535798586}]
[null,"ID1324","2012-05-29T15:49:41",314000,314000,"INR",{"$f":"tblSalaries[[#This Row],[clean Salary (in local currency)]]*VLOOKUP(tblSalaries[[#This Row],[Currency]],tblXrate[],2,FALSE)","v":5591.6858398569666},"relationship manager","Manager","India",{"$f":"VLOOKUP(tblSalaries[[#This Row],[Where do you work]],tblCountries[[Actual]:[Mapping]],2,FALSE)","v":"India"},"1 or 2 hours a day",0.1,{"$f":"VLOOKUP(K1296,tblCountries[],3,0)","v":"Asia"},{"$f":"VLOOKUP(tblSalaries[[#This Row],[How many hours of a day you work on Excel]],tblHours,2,0)","v":2},{"$f":"VLOOKUP(tblSalaries[[#This Row],[clean Country]],tblCountries[],5,0)","v":13.098808879263672},{"$f":"IF($Q$1,tblSalaries[[#This Row],[PPP Factor]]*tblSalaries[[#This Row],[Salary in USD]],tblSalaries[[#This Row],[Salary in USD]])","v":5591.6858398569666}]
[null,"ID1325","2012-05-29T15:51:21","82000 USD",82000,"USD",{"$f":"tblSalaries[[#This Row],[clean Salary (in local currency)]]*VLOOKUP(tblSalaries[[#This Row],[Currency]],tblXrate[],2,FALSE)","v":82000},"Consultant","Consultant","South Africa",{"$f":"VLOOKUP(tblSalaries[[#This Row],[Where do you work]],tblCountries[[Actual]:[Mapping]],2,FALSE)","v":"South Africa"},"4 to 6 hours a day",10,{"$f":"VLOOKUP(K1297,tblCountries[],3,0)","v":"Africa"},{"$f":"VLOOKUP(tblSalaries[[#This Row],[How many hours of a day you work on Excel]],tblHours,2,0)","v":4},{"$f":"VLOOKUP(tblSalaries[[#This Row],[clean Country]],tblCountries[],5,0)","v":4.4096418481727877},{"$f":"IF($Q$1,tblSalaries[[#This Row],[PPP Factor]]*tblSalaries[[#This Row],[Salary in USD]],tblSalaries[[#This Row],[Salary in USD]])","v":82000}]
[null,"ID1326","2012-05-29T15:53:14",10000,10000,"USD",{"$f":"tblSalaries[[#This Row],[clean Salary (in local currency)]]*VLOOKUP(tblSalaries[[#This Row],[Currency]],tblXrate[],2,FALSE)","v":10000},"MIS","Reporting","India",{"$f":"VLOOKUP(tblSalaries[[#This Row],[Where do you work]],tblCountries[[Actual]:[Mapping]],2,FALSE)","v":"India"},"1 or 2 hours a day",0.5,{"$f":"VLOOKUP(K1298,tblCountries[],3,0)","v":"Asia"},{"$f":"VLOOKUP(tblSalaries[[#This Row],[How many hours of a day you work on Excel]],tblHours,2,0)","v":2},{"$f":"VLOOKUP(tblSalaries[[#This Row],[clean Country]],tblCountries[],5,0)","v":13.098808879263672},{"$f":"IF($Q$1,tblSalaries[[#This Row],[PPP Factor]]*tblSalaries[[#This Row],[Salary in USD]],tblSalaries[[#This Row],[Salary in USD]])","v":10000}]
[null,"ID1327","2012-05-29T16:07:59",9000,9000,"USD",{"$f":"tblSalaries[[#This Row],[clean Salary (in local currency)]]*VLOOKUP(tblSalaries[[#This Row],[Currency]],tblXrate[],2,FALSE)","v":9000},"Data Analyst","Analyst","India",{"$f":"VLOOKUP(tblSalaries[[#This Row],[Where do you work]],tblCountries[[Actual]:[Mapping]],2,FALSE)","v":"India"},"All the 8 hours baby, all the 8!",0.6,{"$f":"VLOOKUP(K1299,tblCountries[],3,0)","v":"Asia"},{"$f":"VLOOKUP(tblSalaries[[#This Row],[How many hours of a day you work on Excel]],tblHours,2,0)","v":5},{"$f":"VLOOKUP(tblSalaries[[#This Row],[clean Country]],tblCountries[],5,0)","v":13.098808879263672},{"$f":"IF($Q$1,tblSalaries[[#This Row],[PPP Factor]]*tblSalaries[[#This Row],[Salary in USD]],tblSalaries[[#This Row],[Salary in USD]])","v":9000}]
[null,"ID1328","2012-05-29T16:08:40",9000,9000,"USD",{"$f":"tblSalaries[[#This Row],[clean Salary (in local currency)]]*VLOOKUP(tblSalaries[[#This Row],[Currency]],tblXrate[],2,FALSE)","v":9000},"Data Analyst","Analyst","India",{"$f":"VLOOKUP(tblSalaries[[#This Row],[Where do you work]],tblCountries[[Actual]:[Mapping]],2,FALSE)","v":"India"},"4 to 6 hours a day",1,{"$f":"VLOOKUP(K1300,tblCountries[],3,0)","v":"Asia"},{"$f":"VLOOKUP(tblSalaries[[#This Row],[How many hours of a day you work on Excel]],tblHours,2,0)","v":4},{"$f":"VLOOKUP(tblSalaries[[#This Row],[clean Country]],tblCountries[],5,0)","v":13.098808879263672},{"$f":"IF($Q$1,tblSalaries[[#This Row],[PPP Factor]]*tblSalaries[[#This Row],[Salary in USD]],tblSalaries[[#This Row],[Salary in USD]])","v":9000}]
[null,"ID1329","2012-05-29T16:18:59","6.6 Lacs",660000,"INR",{"$f":"tblSalaries[[#This Row],[clean Salary (in local currency)]]*VLOOKUP(tblSalaries[[#This Row],[Currency]],tblXrate[],2,FALSE)","v":11753.225013712095},"AM business Intelligence","Manager","India",{"$f":"VLOOKUP(tblSalaries[[#This Row],[Where do you work]],tblCountries[[Actual]:[Mapping]],2,FALSE)","v":"India"},"All the 8 hours baby, all the 8!",7,{"$f":"VLOOKUP(K1301,tblCountries[],3,0)","v":"Asia"},{"$f":"VLOOKUP(tblSalaries[[#This Row],[How many hours of a day you work on Excel]],tblHours,2,0)","v":5},{"$f":"VLOOKUP(tblSalaries[[#This Row],[clean Country]],tblCountries[],5,0)","v":13.098808879263672},{"$f":"IF($Q$1,tblSalaries[[#This Row],[PPP Factor]]*tblSalaries[[#This Row],[Salary in USD]],tblSalaries[[#This Row],[Salary in USD]])","v":11753.225013712095}]
[null,"ID1330","2012-05-29T16:26:15","17000 Rs",204000,"INR",{"$f":"tblSalaries[[#This Row],[clean Salary (in local currency)]]*VLOOKUP(tblSalaries[[#This Row],[Currency]],tblXrate[],2,FALSE)","v":3632.815004238284},"MIS Associate","Reporting","India",{"$f":"VLOOKUP(tblSalaries[[#This Row],[Where do you work]],tblCountries[[Actual]:[Mapping]],2,FALSE)","v":"India"},"All the 8 hours baby, all the 8!",2,{"$f":"VLOOKUP(K1302,tblCountries[],3,0)","v":"Asia"},{"$f":"VLOOKUP(tblSalaries[[#This Row],[How many hours of a day you work on Excel]],tblHours,2,0)","v":5},{"$f":"VLOOKUP(tblSalaries[[#This Row],[clean Country]],tblCountries[],5,0)","v":13.098808879263672},{"$f":"IF($Q$1,tblSalaries[[#This Row],[PPP Factor]]*tblSalaries[[#This Row],[Salary in USD]],tblSalaries[[#This Row],[Salary in USD]])","v":3632.815004238284}]
[null,"ID1331","2012-05-29T16:31:06",75000,75000,"EUR",{"$f":"tblSalaries[[#This Row],[clean Salary (in local currency)]]*VLOOKUP(tblSalaries[[#This Row],[Currency]],tblXrate[],2,FALSE)","v":95279.957924370581},"Financial Analyst","Analyst","Netherlands",{"$f":"VLOOKUP(tblSalaries[[#This Row],[Where do you work]],tblCountries[[Actual]:[Mapping]],2,FALSE)","v":"Netherlands"},"All the 8 hours baby, all the 8!",16,{"$f":"VLOOKUP(K1303,tblCountries[],3,0)","v":"Europe"},{"$f":"VLOOKUP(tblSalaries[[#This Row],[How many hours of a day you work on Excel]],tblHours,2,0)","v":5},{"$f":"VLOOKUP(tblSalaries[[#This Row],[clean Country]],tblCountries[],5,0)","v":1.1470734656141099},{"$f":"IF($Q$1,tblSalaries[[#This Row],[PPP Factor]]*tblSalaries[[#This Row],[Salary in USD]],tblSalaries[[#This Row],[Salary in USD]])","v":95279.957924370581}]
[null,"ID1332","2012-05-29T16:39:11","Â£45000",45000,"GBP",{"$f":"tblSalaries[[#This Row],[clean Salary (in local currency)]]*VLOOKUP(tblSalaries[[#This Row],[Currency]],tblXrate[],2,FALSE)","v":70928.022243027779},"Senior Consultant","Consultant","UK",{"$f":"VLOOKUP(tblSalaries[[#This Row],[Where do you work]],tblCountries[[Actual]:[Mapping]],2,FALSE)","v":"UK"},"2 to 3 hours per day",4,{"$f":"VLOOKUP(K1304,tblCountries[],3,0)","v":"Europe"},{"$f":"VLOOKUP(tblSalaries[[#This Row],[How many hours of a day you work on Excel]],tblHours,2,0)","v":3},{"$f":"VLOOKUP(tblSalaries[[#This Row],[clean Country]],tblCountries[],5,0)","v":1.3407315045719035},{"$f":"IF($Q$1,tblSalaries[[#This Row],[PPP Factor]]*tblSalaries[[#This Row],[Salary in USD]],tblSalaries[[#This Row],[Salary in USD]])","v":70928.022243027779}]
[null,"ID1333","2012-05-29T16:41:19","41000 â‚¬",41000,"EUR",{"$f":"tblSalaries[[#This Row],[clean Salary (in local currency)]]*VLOOKUP(tblSalaries[[#This Row],[Currency]],tblXrate[],2,FALSE)","v":52086.37699865592},"engineer","Engineer","Spain",{"$f":"VLOOKUP(tblSalaries[[#This Row],[Where do you work]],tblCountries[[Actual]:[Mapping]],2,FALSE)","v":"Spain"},"4 to 6 hours a day",12,{"$f":"VLOOKUP(K1305,tblCountries[],3,0)","v":"Europe"},{"$f":"VLOOKUP(tblSalaries[[#This Row],[How many hours of a day you work on Excel]],tblHours,2,0)","v":4},{"$f":"VLOOKUP(tblSalaries[[#This Row],[clean Country]],tblCountries[],5,0)","v":1.5799320838503232},{"$f":"IF($Q$1,tblSalaries[[#This Row],[PPP Factor]]*tblSalaries[[#This Row],[Salary in USD]],tblSalaries[[#This Row],[Salary in USD]])","v":52086.37699865592}]
[null,"ID1334","2012-05-29T16:49:44",275000,275000,"INR",{"$f":"tblSalaries[[#This Row],[clean Salary (in local currency)]]*VLOOKUP(tblSalaries[[#This Row],[Currency]],tblXrate[],2,FALSE)","v":4897.177089046706},"TL WFM","Manager","India",{"$f":"VLOOKUP(tblSalaries[[#This Row],[Where do you work]],tblCountries[[Actual]:[Mapping]],2,FALSE)","v":"India"},"All the 8 hours baby, all the 8!",4,{"$f":"VLOOKUP(K1306,tblCountries[],3,0)","v":"Asia"},{"$f":"VLOOKUP(tblSalaries[[#This Row],[How many hours of a day you work on Excel]],tblHours,2,0)","v":5},{"$f":"VLOOKUP(tblSalaries[[#This Row],[clean Country]],tblCountries[],5,0)","v":13.098808879263672},{"$f":"IF($Q$1,tblSalaries[[#This Row],[PPP Factor]]*tblSalaries[[#This Row],[Salary in USD]],tblSalaries[[#This Row],[Salary in USD]])","v":4897.177089046706}]
[null,"ID1335","2012-05-29T16:55:43",80000,80000,"NZD",{"$f":"tblSalaries[[#This Row],[clean Salary (in local currency)]]*VLOOKUP(tblSalaries[[#This Row],[Currency]],tblXrate[],2,FALSE)","v":63807.047488395103},"accountant","Accountant","new zealand",{"$f":"VLOOKUP(tblSalaries[[#This Row],[Where do you work]],tblCountries[[Actual]:[Mapping]],2,FALSE)","v":"New Zealand"},"All the 8 hours baby, all the 8!",15,{"$f":"VLOOKUP(K1307,tblCountries[],3,0)","v":"Oceania"},{"$f":"VLOOKUP(tblSalaries[[#This Row],[How many hours of a day you work on Excel]],tblHours,2,0)","v":5},{"$f":"VLOOKUP(tblSalaries[[#This Row],[clean Country]],tblCountries[],5,0)","v":1.7488434292323261},{"$f":"IF($Q$1,tblSalaries[[#This Row],[PPP Factor]]*tblSalaries[[#This Row],[Salary in USD]],tblSalaries[[#This Row],[Salary in USD]])","v":63807.047488395103}]
[null,"ID1336","2012-05-29T17:05:31",24000,24000,"USD",{"$f":"tblSalaries[[#This Row],[clean Salary (in local currency)]]*VLOOKUP(tblSalaries[[#This Row],[Currency]],tblXrate[],2,FALSE)","v":24000},"Dir. Revenue Mgt","Manager","Kingdom of Saudi Arabia",{"$f":"VLOOKUP(tblSalaries[[#This Row],[Where do you work]],tblCountries[[Actual]:[Mapping]],2,FALSE)","v":"Saudi Arabia"},"4 to 6 hours a day",5,{"$f":"VLOOKUP(K1308,tblCountries[],3,0)","v":"Asia"},{"$f":"VLOOKUP(tblSalaries[[#This Row],[How many hours of a day you work on Excel]],tblHours,2,0)","v":4},{"$f":"VLOOKUP(tblSalaries[[#This Row],[clean Country]],tblCountries[],5,0)","v":1.9964104468374799},{"$f":"IF($Q$1,tblSalaries[[#This Row],[PPP Factor]]*tblSalaries[[#This Row],[Salary in USD]],tblSalaries[[#This Row],[Salary in USD]])","v":24000}]
[null,"ID1337","2012-05-29T17:09:02","60000 USD p.a.",60000,"USD",{"$f":"tblSalaries[[#This Row],[clean Salary (in local currency)]]*VLOOKUP(tblSalaries[[#This Row],[Currency]],tblXrate[],2,FALSE)","v":60000},"Controlling Manager","Manager","CEE",{"$f":"VLOOKUP(tblSalaries[[#This Row],[Where do you work]],tblCountries[[Actual]:[Mapping]],2,FALSE)","v":"CEE"},"All the 8 hours baby, all the 8!",20,{"$f":"VLOOKUP(K1309,tblCountries[],3,0)","v":"Europe"},{"$f":"VLOOKUP(tblSalaries[[#This Row],[How many hours of a day you work on Excel]],tblHours,2,0)","v":5},{"$f":"VLOOKUP(tblSalaries[[#This Row],[clean Country]],tblCountries[],5,0)","v":1},{"$f":"IF($Q$1,tblSalaries[[#This Row],[PPP Factor]]*tblSalaries[[#This Row],[Salary in USD]],tblSalaries[[#This Row],[Salary in USD]])","v":60000}]
[null,"ID1338","2012-05-29T17:09:52",300000,300000,"INR",{"$f":"tblSalaries[[#This Row],[clean Salary (in local currency)]]*VLOOKUP(tblSalaries[[#This Row],[Currency]],tblXrate[],2,FALSE)","v":5342.3750062327708},"Financial Modelling Analyst","Analyst","India",{"$f":"VLOOKUP(tblSalaries[[#This Row],[Where do you work]],tblCountries[[Actual]:[Mapping]],2,FALSE)","v":"India"},"All the 8 hours baby, all the 8!",3,{"$f":"VLOOKUP(K1310,tblCountries[],3,0)","v":"Asia"},{"$f":"VLOOKUP(tblSalaries[[#This Row],[How many hours of a day you work on Excel]],tblHours,2,0)","v":5},{"$f":"VLOOKUP(tblSalaries[[#This Row],[clean Country]],tblCountries[],5,0)","v":13.098808879263672},{"$f":"IF($Q$1,tblSalaries[[#This Row],[PPP Factor]]*tblSalaries[[#This Row],[Salary in USD]],tblSalaries[[#This Row],[Salary in USD]])","v":5342.3750062327708}]
[null,"ID1339","2012-05-29T17:16:20",500000,500000,"INR",{"$f":"tblSalaries[[#This Row],[clean Salary (in local currency)]]*VLOOKUP(tblSalaries[[#This Row],[Currency]],tblXrate[],2,FALSE)","v":8903.9583437212841},"support manager","Manager","India",{"$f":"VLOOKUP(tblSalaries[[#This Row],[Where do you work]],tblCountries[[Actual]:[Mapping]],2,FALSE)","v":"India"},"2 to 3 hours per day",5,{"$f":"VLOOKUP(K1311,tblCountries[],3,0)","v":"Asia"},{"$f":"VLOOKUP(tblSalaries[[#This Row],[How many hours of a day you work on Excel]],tblHours,2,0)","v":3},{"$f":"VLOOKUP(tblSalaries[[#This Row],[clean Country]],tblCountries[],5,0)","v":13.098808879263672},{"$f":"IF($Q$1,tblSalaries[[#This Row],[PPP Factor]]*tblSalaries[[#This Row],[Salary in USD]],tblSalaries[[#This Row],[Salary in USD]])","v":8903.9583437212841}]
[null,"ID1340","2012-05-29T17:17:13","Â£26000",26000,"GBP",{"$f":"tblSalaries[[#This Row],[clean Salary (in local currency)]]*VLOOKUP(tblSalaries[[#This Row],[Currency]],tblXrate[],2,FALSE)","v":40980.635073749385},"Web Analyst","Analyst","UK",{"$f":"VLOOKUP(tblSalaries[[#This Row],[Where do you work]],tblCountries[[Actual]:[Mapping]],2,FALSE)","v":"UK"},"4 to 6 hours a day",2,{"$f":"VLOOKUP(K1312,tblCountries[],3,0)","v":"Europe"},{"$f":"VLOOKUP(tblSalaries[[#This Row],[How many hours of a day you work on Excel]],tblHours,2,0)","v":4},{"$f":"VLOOKUP(tblSalaries[[#This Row],[clean Country]],tblCountries[],5,0)","v":1.3407315045719035},{"$f":"IF($Q$1,tblSalaries[[#This Row],[PPP Factor]]*tblSalaries[[#This Row],[Salary in USD]],tblSalaries[[#This Row],[Salary in USD]])","v":40980.635073749385}]
[null,"ID1341","2012-05-29T17:17:46","Rs.6,00,000",600000,"INR",{"$f":"tblSalaries[[#This Row],[clean Salary (in local currency)]]*VLOOKUP(tblSalaries[[#This Row],[Currency]],tblXrate[],2,FALSE)","v":10684.750012465542},"Assistant Manager","Manager","India",{"$f":"VLOOKUP(tblSalaries[[#This Row],[Where do you work]],tblCountries[[Actual]:[Mapping]],2,FALSE)","v":"India"},"1 or 2 hours a day",7,{"$f":"VLOOKUP(K1313,tblCountries[],3,0)","v":"Asia"},{"$f":"VLOOKUP(tblSalaries[[#This Row],[How many hours of a day you work on Excel]],tblHours,2,0)","v":2},{"$f":"VLOOKUP(tblSalaries[[#This Row],[clean Country]],tblCountries[],5,0)","v":13.098808879263672},{"$f":"IF($Q$1,tblSalaries[[#This Row],[PPP Factor]]*tblSalaries[[#This Row],[Salary in USD]],tblSalaries[[#This Row],[Salary in USD]])","v":10684.750012465542}]
[null,"ID1342","2012-05-29T17:30:43",1200000,1200000,"INR",{"$f":"tblSalaries[[#This Row],[clean Salary (in local currency)]]*VLOOKUP(tblSalaries[[#This Row],[Currency]],tblXrate[],2,FALSE)","v":21369.500024931083},"Consultant","Consultant","India",{"$f":"VLOOKUP(tblSalaries[[#This Row],[Where do you work]],tblCountries[[Actual]:[Mapping]],2,FALSE)","v":"India"},"2 to 3 hours per day",21,{"$f":"VLOOKUP(K1314,tblCountries[],3,0)","v":"Asia"},{"$f":"VLOOKUP(tblSalaries[[#This Row],[How many hours of a day you work on Excel]],tblHours,2,0)","v":3},{"$f":"VLOOKUP(tblSalaries[[#This Row],[clean Country]],tblCountries[],5,0)","v":13.098808879263672},{"$f":"IF($Q$1,tblSalaries[[#This Row],[PPP Factor]]*tblSalaries[[#This Row],[Salary in USD]],tblSalaries[[#This Row],[Salary in USD]])","v":21369.500024931083}]
[null,"ID1343","2012-05-29T17:36:13",18000,18000,"USD",{"$f":"tblSalaries[[#This Row],[clean Salary (in local currency)]]*VLOOKUP(tblSalaries[[#This Row],[Currency]],tblXrate[],2,FALSE)","v":18000},"liquidity manager","Manager","Ghana",{"$f":"VLOOKUP(tblSalaries[[#This Row],[Where do you work]],tblCountries[[Actual]:[Mapping]],2,FALSE)","v":"Ghana"},"4 to 6 hours a day",12,{"$f":"VLOOKUP(K1315,tblCountries[],3,0)","v":"Africa"},{"$f":"VLOOKUP(tblSalaries[[#This Row],[How many hours of a day you work on Excel]],tblHours,2,0)","v":4},{"$f":"VLOOKUP(tblSalaries[[#This Row],[clean Country]],tblCountries[],5,0)","v":15.69477781381771},{"$f":"IF($Q$1,tblSalaries[[#This Row],[PPP Factor]]*tblSalaries[[#This Row],[Salary in USD]],tblSalaries[[#This Row],[Salary in USD]])","v":18000}]
[null,"ID1344","2012-05-29T17:39:55","41000 $",41000,"USD",{"$f":"tblSalaries[[#This Row],[clean Salary (in local currency)]]*VLOOKUP(tblSalaries[[#This Row],[Currency]],tblXrate[],2,FALSE)","v":41000},"PO/PMO/Planner/PM","Manager","Israel",{"$f":"VLOOKUP(tblSalaries[[#This Row],[Where do you work]],tblCountries[[Actual]:[Mapping]],2,FALSE)","v":"Israel"},"2 to 3 hours per day",4,{"$f":"VLOOKUP(K1316,tblCountries[],3,0)","v":"Asia"},{"$f":"VLOOKUP(tblSalaries[[#This Row],[How many hours of a day you work on Excel]],tblHours,2,0)","v":3},{"$f":"VLOOKUP(tblSalaries[[#This Row],[clean Country]],tblCountries[],5,0)","v":1.5621307506053268},{"$f":"IF($Q$1,tblSalaries[[#This Row],[PPP Factor]]*tblSalaries[[#This Row],[Salary in USD]],tblSalaries[[#This Row],[Salary in USD]])","v":41000}]
[null,"ID1345","2012-05-29T17:45:59","16,00,000",1600000,"INR",{"$f":"tblSalaries[[#This Row],[clean Salary (in local currency)]]*VLOOKUP(tblSalaries[[#This Row],[Currency]],tblXrate[],2,FALSE)","v":28492.66669990811},"Senior Associate ","Analyst","India",{"$f":"VLOOKUP(tblSalaries[[#This Row],[Where do you work]],tblCountries[[Actual]:[Mapping]],2,FALSE)","v":"India"},"2 to 3 hours per day",4,{"$f":"VLOOKUP(K1317,tblCountries[],3,0)","v":"Asia"},{"$f":"VLOOKUP(tblSalaries[[#This Row],[How many hours of a day you work on Excel]],tblHours,2,0)","v":3},{"$f":"VLOOKUP(tblSalaries[[#This Row],[clean Country]],tblCountries[],5,0)","v":13.098808879263672},{"$f":"IF($Q$1,tblSalaries[[#This Row],[PPP Factor]]*tblSalaries[[#This Row],[Salary in USD]],tblSalaries[[#This Row],[Salary in USD]])","v":28492.66669990811}]
[null,"ID1346","2012-05-29T17:48:04",49500,49500,"USD",{"$f":"tblSalaries[[#This Row],[clean Salary (in local currency)]]*VLOOKUP(tblSalaries[[#This Row],[Currency]],tblXrate[],2,FALSE)","v":49500},"Financial Analyst II","Analyst","USA",{"$f":"VLOOKUP(tblSalaries[[#This Row],[Where do you work]],tblCountries[[Actual]:[Mapping]],2,FALSE)","v":"USA"},"4 to 6 hours a day",4.5,{"$f":"VLOOKUP(K1318,tblCountries[],3,0)","v":"North Amer."},{"$f":"VLOOKUP(tblSalaries[[#This Row],[How many hours of a day you work on Excel]],tblHours,2,0)","v":4},{"$f":"VLOOKUP(tblSalaries[[#This Row],[clean Country]],tblCountries[],5,0)","v":1},{"$f":"IF($Q$1,tblSalaries[[#This Row],[PPP Factor]]*tblSalaries[[#This Row],[Salary in USD]],tblSalaries[[#This Row],[Salary in USD]])","v":49500}]
[null,"ID1347","2012-05-29T18:00:19",6600,6600,"USD",{"$f":"tblSalaries[[#This Row],[clean Salary (in local currency)]]*VLOOKUP(tblSalaries[[#This Row],[Currency]],tblXrate[],2,FALSE)","v":6600},"MIS HR,HRIS","Reporting","India",{"$f":"VLOOKUP(tblSalaries[[#This Row],[Where do you work]],tblCountries[[Actual]:[Mapping]],2,FALSE)","v":"India"},"2 to 3 hours per day",6.4,{"$f":"VLOOKUP(K1319,tblCountries[],3,0)","v":"Asia"},{"$f":"VLOOKUP(tblSalaries[[#This Row],[How many hours of a day you work on Excel]],tblHours,2,0)","v":3},{"$f":"VLOOKUP(tblSalaries[[#This Row],[clean Country]],tblCountries[],5,0)","v":13.098808879263672},{"$f":"IF($Q$1,tblSalaries[[#This Row],[PPP Factor]]*tblSalaries[[#This Row],[Salary in USD]],tblSalaries[[#This Row],[Salary in USD]])","v":6600}]
[null,"ID1348","2012-05-29T18:05:50","Â£70000",70000,"GBP",{"$f":"tblSalaries[[#This Row],[clean Salary (in local currency)]]*VLOOKUP(tblSalaries[[#This Row],[Currency]],tblXrate[],2,FALSE)","v":110332.47904470989},"Consultant","Consultant","UK",{"$f":"VLOOKUP(tblSalaries[[#This Row],[Where do you work]],tblCountries[[Actual]:[Mapping]],2,FALSE)","v":"UK"},"4 to 6 hours a day",15,{"$f":"VLOOKUP(K1320,tblCountries[],3,0)","v":"Europe"},{"$f":"VLOOKUP(tblSalaries[[#This Row],[How many hours of a day you work on Excel]],tblHours,2,0)","v":4},{"$f":"VLOOKUP(tblSalaries[[#This Row],[clean Country]],tblCountries[],5,0)","v":1.3407315045719035},{"$f":"IF($Q$1,tblSalaries[[#This Row],[PPP Factor]]*tblSalaries[[#This Row],[Salary in USD]],tblSalaries[[#This Row],[Salary in USD]])","v":110332.47904470989}]
[null,"ID1349","2012-05-29T18:14:48","Â£30000",30000,"GBP",{"$f":"tblSalaries[[#This Row],[clean Salary (in local currency)]]*VLOOKUP(tblSalaries[[#This Row],[Currency]],tblXrate[],2,FALSE)","v":47285.348162018527},"Market Analyst","Analyst","UK",{"$f":"VLOOKUP(tblSalaries[[#This Row],[Where do you work]],tblCountries[[Actual]:[Mapping]],2,FALSE)","v":"UK"},"All the 8 hours baby, all the 8!",6,{"$f":"VLOOKUP(K1321,tblCountries[],3,0)","v":"Europe"},{"$f":"VLOOKUP(tblSalaries[[#This Row],[How many hours of a day you work on Excel]],tblHours,2,0)","v":5},{"$f":"VLOOKUP(tblSalaries[[#This Row],[clean Country]],tblCountries[],5,0)","v":1.3407315045719035},{"$f":"IF($Q$1,tblSalaries[[#This Row],[PPP Factor]]*tblSalaries[[#This Row],[Salary in USD]],tblSalaries[[#This Row],[Salary in USD]])","v":47285.348162018527}]
[null,"ID1350","2012-05-29T18:14:53","USD 5300",5300,"USD",{"$f":"tblSalaries[[#This Row],[clean Salary (in local currency)]]*VLOOKUP(tblSalaries[[#This Row],[Currency]],tblXrate[],2,FALSE)","v":5300},"Asst. Production Manager","Manager","Pakistan",{"$f":"VLOOKUP(tblSalaries[[#This Row],[Where do you work]],tblCountries[[Actual]:[Mapping]],2,FALSE)","v":"Pakistan"},"4 to 6 hours a day",5,{"$f":"VLOOKUP(K1322,tblCountries[],3,0)","v":"Asia"},{"$f":"VLOOKUP(tblSalaries[[#This Row],[How many hours of a day you work on Excel]],tblHours,2,0)","v":4},{"$f":"VLOOKUP(tblSalaries[[#This Row],[clean Country]],tblCountries[],5,0)","v":17.361679224973088},{"$f":"IF($Q$1,tblSalaries[[#This Row],[PPP Factor]]*tblSalaries[[#This Row],[Salary in USD]],tblSalaries[[#This Row],[Salary in USD]])","v":5300}]
[null,"ID1351","2012-05-29T18:21:13",34500,34500,"EUR",{"$f":"tblSalaries[[#This Row],[clean Salary (in local currency)]]*VLOOKUP(tblSalaries[[#This Row],[Currency]],tblXrate[],2,FALSE)","v":43828.780645210471},"Analyst","Analyst","Netherlands",{"$f":"VLOOKUP(tblSalaries[[#This Row],[Where do you work]],tblCountries[[Actual]:[Mapping]],2,FALSE)","v":"Netherlands"},"4 to 6 hours a day",15,{"$f":"VLOOKUP(K1323,tblCountries[],3,0)","v":"Europe"},{"$f":"VLOOKUP(tblSalaries[[#This Row],[How many hours of a day you work on Excel]],tblHours,2,0)","v":4},{"$f":"VLOOKUP(tblSalaries[[#This Row],[clean Country]],tblCountries[],5,0)","v":1.1470734656141099},{"$f":"IF($Q$1,tblSalaries[[#This Row],[PPP Factor]]*tblSalaries[[#This Row],[Salary in USD]],tblSalaries[[#This Row],[Salary in USD]])","v":43828.780645210471}]
[null,"ID1352","2012-05-29T18:33:08",80000,80000,"USD",{"$f":"tblSalaries[[#This Row],[clean Salary (in local currency)]]*VLOOKUP(tblSalaries[[#This Row],[Currency]],tblXrate[],2,FALSE)","v":80000},"Developer","Analyst","USA",{"$f":"VLOOKUP(tblSalaries[[#This Row],[Where do you work]],tblCountries[[Actual]:[Mapping]],2,FALSE)","v":"USA"},"1 or 2 hours a day",14,{"$f":"VLOOKUP(K1324,tblCountries[],3,0)","v":"North Amer."},{"$f":"VLOOKUP(tblSalaries[[#This Row],[How many hours of a day you work on Excel]],tblHours,2,0)","v":2},{"$f":"VLOOKUP(tblSalaries[[#This Row],[clean Country]],tblCountries[],5,0)","v":1},{"$f":"IF($Q$1,tblSalaries[[#This Row],[PPP Factor]]*tblSalaries[[#This Row],[Salary in USD]],tblSalaries[[#This Row],[Salary in USD]])","v":80000}]
[null,"ID1353","2012-05-29T18:35:10","9 067",9067,"EUR",{"$f":"tblSalaries[[#This Row],[clean Salary (in local currency)]]*VLOOKUP(tblSalaries[[#This Row],[Currency]],tblXrate[],2,FALSE)","v":11518.711713336908},"assistant","Analyst","Hungary",{"$f":"VLOOKUP(tblSalaries[[#This Row],[Where do you work]],tblCountries[[Actual]:[Mapping]],2,FALSE)","v":"Hungary"},"2 to 3 hours per day",3,{"$f":"VLOOKUP(K1325,tblCountries[],3,0)","v":"Europe"},{"$f":"VLOOKUP(tblSalaries[[#This Row],[How many hours of a day you work on Excel]],tblHours,2,0)","v":3},{"$f":"VLOOKUP(tblSalaries[[#This Row],[clean Country]],tblCountries[],5,0)","v":2.4698586085447398},{"$f":"IF($Q$1,tblSalaries[[#This Row],[PPP Factor]]*tblSalaries[[#This Row],[Salary in USD]],tblSalaries[[#This Row],[Salary in USD]])","v":11518.711713336908}]
[null,"ID1354","2012-05-29T18:35:31","A$150000",150000,"AUD",{"$f":"tblSalaries[[#This Row],[clean Salary (in local currency)]]*VLOOKUP(tblSalaries[[#This Row],[Currency]],tblXrate[],2,FALSE)","v":152986.44846039536},"Bus Analyst","Analyst","Australia",{"$f":"VLOOKUP(tblSalaries[[#This Row],[Where do you work]],tblCountries[[Actual]:[Mapping]],2,FALSE)","v":"Australia"},"1 or 2 hours a day",5.5,{"$f":"VLOOKUP(K1326,tblCountries[],3,0)","v":"Oceania"},{"$f":"VLOOKUP(tblSalaries[[#This Row],[How many hours of a day you work on Excel]],tblHours,2,0)","v":2},{"$f":"VLOOKUP(tblSalaries[[#This Row],[clean Country]],tblCountries[],5,0)","v":1.2026395585822935},{"$f":"IF($Q$1,tblSalaries[[#This Row],[PPP Factor]]*tblSalaries[[#This Row],[Salary in USD]],tblSalaries[[#This Row],[Salary in USD]])","v":152986.44846039536}]
[null,"ID1355","2012-05-29T18:38:51",125000,125000,"USD",{"$f":"tblSalaries[[#This Row],[clean Salary (in local currency)]]*VLOOKUP(tblSalaries[[#This Row],[Currency]],tblXrate[],2,FALSE)","v":125000},"Vice President of Performance Management","Manager","USA",{"$f":"VLOOKUP(tblSalaries[[#This Row],[Where do you work]],tblCountries[[Actual]:[Mapping]],2,FALSE)","v":"USA"},"4 to 6 hours a day",2,{"$f":"VLOOKUP(K1327,tblCountries[],3,0)","v":"North Amer."},{"$f":"VLOOKUP(tblSalaries[[#This Row],[How many hours of a day you work on Excel]],tblHours,2,0)","v":4},{"$f":"VLOOKUP(tblSalaries[[#This Row],[clean Country]],tblCountries[],5,0)","v":1},{"$f":"IF($Q$1,tblSalaries[[#This Row],[PPP Factor]]*tblSalaries[[#This Row],[Salary in USD]],tblSalaries[[#This Row],[Salary in USD]])","v":125000}]
[null,"ID1356","2012-05-29T18:55:18",100000,100000,"AUD",{"$f":"tblSalaries[[#This Row],[clean Salary (in local currency)]]*VLOOKUP(tblSalaries[[#This Row],[Currency]],tblXrate[],2,FALSE)","v":101990.96564026357},"Principal advisor","Consultant","Australia",{"$f":"VLOOKUP(tblSalaries[[#This Row],[Where do you work]],tblCountries[[Actual]:[Mapping]],2,FALSE)","v":"Australia"},"1 or 2 hours a day",30,{"$f":"VLOOKUP(K1328,tblCountries[],3,0)","v":"Oceania"},{"$f":"VLOOKUP(tblSalaries[[#This Row],[How many hours of a day you work on Excel]],tblHours,2,0)","v":2},{"$f":"VLOOKUP(tblSalaries[[#This Row],[clean Country]],tblCountries[],5,0)","v":1.2026395585822935},{"$f":"IF($Q$1,tblSalaries[[#This Row],[PPP Factor]]*tblSalaries[[#This Row],[Salary in USD]],tblSalaries[[#This Row],[Salary in USD]])","v":101990.96564026357}]
[null,"ID1357","2012-05-29T18:55:20",105000,105000,"USD",{"$f":"tblSalaries[[#This Row],[clean Salary (in local currency)]]*VLOOKUP(tblSalaries[[#This Row],[Currency]],tblXrate[],2,FALSE)","v":105000},"Director of Technology","CXO or Top Mgmt.","USA",{"$f":"VLOOKUP(tblSalaries[[#This Row],[Where do you work]],tblCountries[[Actual]:[Mapping]],2,FALSE)","v":"USA"},"1 or 2 hours a day",15,{"$f":"VLOOKUP(K1329,tblCountries[],3,0)","v":"North Amer."},{"$f":"VLOOKUP(tblSalaries[[#This Row],[How many hours of a day you work on Excel]],tblHours,2,0)","v":2},{"$f":"VLOOKUP(tblSalaries[[#This Row],[clean Country]],tblCountries[],5,0)","v":1},{"$f":"IF($Q$1,tblSalaries[[#This Row],[PPP Factor]]*tblSalaries[[#This Row],[Salary in USD]],tblSalaries[[#This Row],[Salary in USD]])","v":105000}]
[null,"ID1358","2012-05-29T19:01:05",40000,40000,"EUR",{"$f":"tblSalaries[[#This Row],[clean Salary (in local currency)]]*VLOOKUP(tblSalaries[[#This Row],[Currency]],tblXrate[],2,FALSE)","v":50815.977559664309},"officer","Manager","Austria",{"$f":"VLOOKUP(tblSalaries[[#This Row],[Where do you work]],tblCountries[[Actual]:[Mapping]],2,FALSE)","v":"Austria"},"4 to 6 hours a day",20,{"$f":"VLOOKUP(K1330,tblCountries[],3,0)","v":"Europe"},{"$f":"VLOOKUP(tblSalaries[[#This Row],[How many hours of a day you work on Excel]],tblHours,2,0)","v":4},{"$f":"VLOOKUP(tblSalaries[[#This Row],[clean Country]],tblCountries[],5,0)","v":1.1569747979532303},{"$f":"IF($Q$1,tblSalaries[[#This Row],[PPP Factor]]*tblSalaries[[#This Row],[Salary in USD]],tblSalaries[[#This Row],[Salary in USD]])","v":50815.977559664309}]
[null,"ID1359","2012-05-29T19:01:48",75000,75000,"USD",{"$f":"tblSalaries[[#This Row],[clean Salary (in local currency)]]*VLOOKUP(tblSalaries[[#This Row],[Currency]],tblXrate[],2,FALSE)","v":75000},"Financial Analyst","Analyst","USA",{"$f":"VLOOKUP(tblSalaries[[#This Row],[Where do you work]],tblCountries[[Actual]:[Mapping]],2,FALSE)","v":"USA"},"4 to 6 hours a day",7,{"$f":"VLOOKUP(K1331,tblCountries[],3,0)","v":"North Amer."},{"$f":"VLOOKUP(tblSalaries[[#This Row],[How many hours of a day you work on Excel]],tblHours,2,0)","v":4},{"$f":"VLOOKUP(tblSalaries[[#This Row],[clean Country]],tblCountries[],5,0)","v":1},{"$f":"IF($Q$1,tblSalaries[[#This Row],[PPP Factor]]*tblSalaries[[#This Row],[Salary in USD]],tblSalaries[[#This Row],[Salary in USD]])","v":75000}]
[null,"ID1360","2012-05-29T19:06:14","2.5 per lacks",250000,"INR",{"$f":"tblSalaries[[#This Row],[clean Salary (in local currency)]]*VLOOKUP(tblSalaries[[#This Row],[Currency]],tblXrate[],2,FALSE)","v":4451.9791718606421},"Credit Executive","Analyst","India",{"$f":"VLOOKUP(tblSalaries[[#This Row],[Where do you work]],tblCountries[[Actual]:[Mapping]],2,FALSE)","v":"India"},"All the 8 hours baby, all the 8!",8,{"$f":"VLOOKUP(K1332,tblCountries[],3,0)","v":"Asia"},{"$f":"VLOOKUP(tblSalaries[[#This Row],[How many hours of a day you work on Excel]],tblHours,2,0)","v":5},{"$f":"VLOOKUP(tblSalaries[[#This Row],[clean Country]],tblCountries[],5,0)","v":13.098808879263672},{"$f":"IF($Q$1,tblSalaries[[#This Row],[PPP Factor]]*tblSalaries[[#This Row],[Salary in USD]],tblSalaries[[#This Row],[Salary in USD]])","v":4451.9791718606421}]
[null,"ID1361","2012-05-29T19:08:37",110000,110000,"USD",{"$f":"tblSalaries[[#This Row],[clean Salary (in local currency)]]*VLOOKUP(tblSalaries[[#This Row],[Currency]],tblXrate[],2,FALSE)","v":110000},"Business Analytics Associate","Analyst","USA",{"$f":"VLOOKUP(tblSalaries[[#This Row],[Where do you work]],tblCountries[[Actual]:[Mapping]],2,FALSE)","v":"USA"},"1 or 2 hours a day",10,{"$f":"VLOOKUP(K1333,tblCountries[],3,0)","v":"North Amer."},{"$f":"VLOOKUP(tblSalaries[[#This Row],[How many hours of a day you work on Excel]],tblHours,2,0)","v":2},{"$f":"VLOOKUP(tblSalaries[[#This Row],[clean Country]],tblCountries[],5,0)","v":1},{"$f":"IF($Q$1,tblSalaries[[#This Row],[PPP Factor]]*tblSalaries[[#This Row],[Salary in USD]],tblSalaries[[#This Row],[Salary in USD]])","v":110000}]
[null,"ID1362","2012-05-29T19:10:05","27,000.GBP 42,353 USD ",27000,"GBP",{"$f":"tblSalaries[[#This Row],[clean Salary (in local currency)]]*VLOOKUP(tblSalaries[[#This Row],[Currency]],tblXrate[],2,FALSE)","v":42556.81334581667},"Engineering Tech","Engineer","UK",{"$f":"VLOOKUP(tblSalaries[[#This Row],[Where do you work]],tblCountries[[Actual]:[Mapping]],2,FALSE)","v":"UK"},"4 to 6 hours a day",1,{"$f":"VLOOKUP(K1334,tblCountries[],3,0)","v":"Europe"},{"$f":"VLOOKUP(tblSalaries[[#This Row],[How many hours of a day you work on Excel]],tblHours,2,0)","v":4},{"$f":"VLOOKUP(tblSalaries[[#This Row],[clean Country]],tblCountries[],5,0)","v":1.3407315045719035},{"$f":"IF($Q$1,tblSalaries[[#This Row],[PPP Factor]]*tblSalaries[[#This Row],[Salary in USD]],tblSalaries[[#This Row],[Salary in USD]])","v":42556.81334581667}]
[null,"ID1363","2012-05-29T19:11:31","Rs. 4.5 lakhs ",450000,"INR",{"$f":"tblSalaries[[#This Row],[clean Salary (in local currency)]]*VLOOKUP(tblSalaries[[#This Row],[Currency]],tblXrate[],2,FALSE)","v":8013.5625093491553},"Mechanical Design engineer","Engineer","India",{"$f":"VLOOKUP(tblSalaries[[#This Row],[Where do you work]],tblCountries[[Actual]:[Mapping]],2,FALSE)","v":"India"},"1 or 2 hours a day",7,{"$f":"VLOOKUP(K1335,tblCountries[],3,0)","v":"Asia"},{"$f":"VLOOKUP(tblSalaries[[#This Row],[How many hours of a day you work on Excel]],tblHours,2,0)","v":2},{"$f":"VLOOKUP(tblSalaries[[#This Row],[clean Country]],tblCountries[],5,0)","v":13.098808879263672},{"$f":"IF($Q$1,tblSalaries[[#This Row],[PPP Factor]]*tblSalaries[[#This Row],[Salary in USD]],tblSalaries[[#This Row],[Salary in USD]])","v":8013.5625093491553}]
[null,"ID1364","2012-05-29T19:12:19",125000,125000,"USD",{"$f":"tblSalaries[[#This Row],[clean Salary (in local currency)]]*VLOOKUP(tblSalaries[[#This Row],[Currency]],tblXrate[],2,FALSE)","v":125000},"Finance Manager","Manager","USA",{"$f":"VLOOKUP(tblSalaries[[#This Row],[Where do you work]],tblCountries[[Actual]:[Mapping]],2,FALSE)","v":"USA"},"4 to 6 hours a day",25,{"$f":"VLOOKUP(K1336,tblCountries[],3,0)","v":"North Amer."},{"$f":"VLOOKUP(tblSalaries[[#This Row],[How many hours of a day you work on Excel]],tblHours,2,0)","v":4},{"$f":"VLOOKUP(tblSalaries[[#This Row],[clean Country]],tblCountries[],5,0)","v":1},{"$f":"IF($Q$1,tblSalaries[[#This Row],[PPP Factor]]*tblSalaries[[#This Row],[Salary in USD]],tblSalaries[[#This Row],[Salary in USD]])","v":125000}]
[null,"ID1365","2012-05-29T19:23:32",60000,60000,"USD",{"$f":"tblSalaries[[#This Row],[clean Salary (in local currency)]]*VLOOKUP(tblSalaries[[#This Row],[Currency]],tblXrate[],2,FALSE)","v":60000},"Business Information Analyst","Analyst","USA",{"$f":"VLOOKUP(tblSalaries[[#This Row],[Where do you work]],tblCountries[[Actual]:[Mapping]],2,FALSE)","v":"USA"},"All the 8 hours baby, all the 8!",12,{"$f":"VLOOKUP(K1337,tblCountries[],3,0)","v":"North Amer."},{"$f":"VLOOKUP(tblSalaries[[#This Row],[How many hours of a day you work on Excel]],tblHours,2,0)","v":5},{"$f":"VLOOKUP(tblSalaries[[#This Row],[clean Country]],tblCountries[],5,0)","v":1},{"$f":"IF($Q$1,tblSalaries[[#This Row],[PPP Factor]]*tblSalaries[[#This Row],[Salary in USD]],tblSalaries[[#This Row],[Salary in USD]])","v":60000}]
[null,"ID1366","2012-05-29T19:31:32","2.21Lac",2210000,"INR",{"$f":"tblSalaries[[#This Row],[clean Salary (in local currency)]]*VLOOKUP(tblSalaries[[#This Row],[Currency]],tblXrate[],2,FALSE)","v":39355.495879248076},"Marketing","Analyst","India",{"$f":"VLOOKUP(tblSalaries[[#This Row],[Where do you work]],tblCountries[[Actual]:[Mapping]],2,FALSE)","v":"India"},"1 or 2 hours a day",5.6,{"$f":"VLOOKUP(K1338,tblCountries[],3,0)","v":"Asia"},{"$f":"VLOOKUP(tblSalaries[[#This Row],[How many hours of a day you work on Excel]],tblHours,2,0)","v":2},{"$f":"VLOOKUP(tblSalaries[[#This Row],[clean Country]],tblCountries[],5,0)","v":13.098808879263672},{"$f":"IF($Q$1,tblSalaries[[#This Row],[PPP Factor]]*tblSalaries[[#This Row],[Salary in USD]],tblSalaries[[#This Row],[Salary in USD]])","v":39355.495879248076}]
[null,"ID1367","2012-05-29T19:33:07",45000,45000,"EUR",{"$f":"tblSalaries[[#This Row],[clean Salary (in local currency)]]*VLOOKUP(tblSalaries[[#This Row],[Currency]],tblXrate[],2,FALSE)","v":57167.974754622352},"Junior Controller","Controller","Germany",{"$f":"VLOOKUP(tblSalaries[[#This Row],[Where do you work]],tblCountries[[Actual]:[Mapping]],2,FALSE)","v":"Germany"},"4 to 6 hours a day",12,{"$f":"VLOOKUP(K1339,tblCountries[],3,0)","v":"Europe"},{"$f":"VLOOKUP(tblSalaries[[#This Row],[How many hours of a day you work on Excel]],tblHours,2,0)","v":4},{"$f":"VLOOKUP(tblSalaries[[#This Row],[clean Country]],tblCountries[],5,0)","v":1.276802913159353},{"$f":"IF($Q$1,tblSalaries[[#This Row],[PPP Factor]]*tblSalaries[[#This Row],[Salary in USD]],tblSalaries[[#This Row],[Salary in USD]])","v":57167.974754622352}]
[null,"ID1368","2012-05-29T19:39:35","4000000 JPY",4000000,"JPY",{"$f":"tblSalaries[[#This Row],[clean Salary (in local currency)]]*VLOOKUP(tblSalaries[[#This Row],[Currency]],tblXrate[],2,FALSE)","v":50694.322109187968},"System Analyst (Configuration Mgmt)","Analyst","Japan",{"$f":"VLOOKUP(tblSalaries[[#This Row],[Where do you work]],tblCountries[[Actual]:[Mapping]],2,FALSE)","v":"Japan"},"4 to 6 hours a day",8,{"$f":"VLOOKUP(K1340,tblCountries[],3,0)","v":"Asia"},{"$f":"VLOOKUP(tblSalaries[[#This Row],[How many hours of a day you work on Excel]],tblHours,2,0)","v":4},{"$f":"VLOOKUP(tblSalaries[[#This Row],[clean Country]],tblCountries[],5,0)","v":1.392832469775475},{"$f":"IF($Q$1,tblSalaries[[#This Row],[PPP Factor]]*tblSalaries[[#This Row],[Salary in USD]],tblSalaries[[#This Row],[Salary in USD]])","v":50694.322109187968}]
[null,"ID1369","2012-05-29T19:47:18",57500,57500,"USD",{"$f":"tblSalaries[[#This Row],[clean Salary (in local currency)]]*VLOOKUP(tblSalaries[[#This Row],[Currency]],tblXrate[],2,FALSE)","v":57500},"Planning Supervisor","Manager","USA",{"$f":"VLOOKUP(tblSalaries[[#This Row],[Where do you work]],tblCountries[[Actual]:[Mapping]],2,FALSE)","v":"USA"},"4 to 6 hours a day",30,{"$f":"VLOOKUP(K1341,tblCountries[],3,0)","v":"North Amer."},{"$f":"VLOOKUP(tblSalaries[[#This Row],[How many hours of a day you work on Excel]],tblHours,2,0)","v":4},{"$f":"VLOOKUP(tblSalaries[[#This Row],[clean Country]],tblCountries[],5,0)","v":1},{"$f":"IF($Q$1,tblSalaries[[#This Row],[PPP Factor]]*tblSalaries[[#This Row],[Salary in USD]],tblSalaries[[#This Row],[Salary in USD]])","v":57500}]
[null,"ID1370","2012-05-29T19:50:25",62000,62000,"EUR",{"$f":"tblSalaries[[#This Row],[clean Salary (in local currency)]]*VLOOKUP(tblSalaries[[#This Row],[Currency]],tblXrate[],2,FALSE)","v":78764.765217479682},"Controller","Controller","Netherlands",{"$f":"VLOOKUP(tblSalaries[[#This Row],[Where do you work]],tblCountries[[Actual]:[Mapping]],2,FALSE)","v":"Netherlands"},"4 to 6 hours a day",15,{"$f":"VLOOKUP(K1342,tblCountries[],3,0)","v":"Europe"},{"$f":"VLOOKUP(tblSalaries[[#This Row],[How many hours of a day you work on Excel]],tblHours,2,0)","v":4},{"$f":"VLOOKUP(tblSalaries[[#This Row],[clean Country]],tblCountries[],5,0)","v":1.1470734656141099},{"$f":"IF($Q$1,tblSalaries[[#This Row],[PPP Factor]]*tblSalaries[[#This Row],[Salary in USD]],tblSalaries[[#This Row],[Salary in USD]])","v":78764.765217479682}]
[null,"ID1371","2012-05-29T19:52:35","$80,000 USD",80000,"USD",{"$f":"tblSalaries[[#This Row],[clean Salary (in local currency)]]*VLOOKUP(tblSalaries[[#This Row],[Currency]],tblXrate[],2,FALSE)","v":80000},"Manager of Data Analytics","Manager","USA",{"$f":"VLOOKUP(tblSalaries[[#This Row],[Where do you work]],tblCountries[[Actual]:[Mapping]],2,FALSE)","v":"USA"},"4 to 6 hours a day",10,{"$f":"VLOOKUP(K1343,tblCountries[],3,0)","v":"North Amer."},{"$f":"VLOOKUP(tblSalaries[[#This Row],[How many hours of a day you work on Excel]],tblHours,2,0)","v":4},{"$f":"VLOOKUP(tblSalaries[[#This Row],[clean Country]],tblCountries[],5,0)","v":1},{"$f":"IF($Q$1,tblSalaries[[#This Row],[PPP Factor]]*tblSalaries[[#This Row],[Salary in USD]],tblSalaries[[#This Row],[Salary in USD]])","v":80000}]
[null,"ID1372","2012-05-29T19:54:38","Â£45000",45000,"GBP",{"$f":"tblSalaries[[#This Row],[clean Salary (in local currency)]]*VLOOKUP(tblSalaries[[#This Row],[Currency]],tblXrate[],2,FALSE)","v":70928.022243027779},"Management Accountant","Manager","UK",{"$f":"VLOOKUP(tblSalaries[[#This Row],[Where do you work]],tblCountries[[Actual]:[Mapping]],2,FALSE)","v":"UK"},"2 to 3 hours per day",15,{"$f":"VLOOKUP(K1344,tblCountries[],3,0)","v":"Europe"},{"$f":"VLOOKUP(tblSalaries[[#This Row],[How many hours of a day you work on Excel]],tblHours,2,0)","v":3},{"$f":"VLOOKUP(tblSalaries[[#This Row],[clean Country]],tblCountries[],5,0)","v":1.3407315045719035},{"$f":"IF($Q$1,tblSalaries[[#This Row],[PPP Factor]]*tblSalaries[[#This Row],[Salary in USD]],tblSalaries[[#This Row],[Salary in USD]])","v":70928.022243027779}]
[null,"ID1373","2012-05-29T20:03:07",33000,33000,"USD",{"$f":"tblSalaries[[#This Row],[clean Salary (in local currency)]]*VLOOKUP(tblSalaries[[#This Row],[Currency]],tblXrate[],2,FALSE)","v":33000},"Quality Control Supervisor","Controller","USA",{"$f":"VLOOKUP(tblSalaries[[#This Row],[Where do you work]],tblCountries[[Actual]:[Mapping]],2,FALSE)","v":"USA"},"4 to 6 hours a day",3,{"$f":"VLOOKUP(K1345,tblCountries[],3,0)","v":"North Amer."},{"$f":"VLOOKUP(tblSalaries[[#This Row],[How many hours of a day you work on Excel]],tblHours,2,0)","v":4},{"$f":"VLOOKUP(tblSalaries[[#This Row],[clean Country]],tblCountries[],5,0)","v":1},{"$f":"IF($Q$1,tblSalaries[[#This Row],[PPP Factor]]*tblSalaries[[#This Row],[Salary in USD]],tblSalaries[[#This Row],[Salary in USD]])","v":33000}]
[null,"ID1374","2012-05-29T20:20:21","$100,000 US",100000,"USD",{"$f":"tblSalaries[[#This Row],[clean Salary (in local currency)]]*VLOOKUP(tblSalaries[[#This Row],[Currency]],tblXrate[],2,FALSE)","v":100000},"Senior Financial Analyst","Analyst","USA",{"$f":"VLOOKUP(tblSalaries[[#This Row],[Where do you work]],tblCountries[[Actual]:[Mapping]],2,FALSE)","v":"USA"},"4 to 6 hours a day",1,{"$f":"VLOOKUP(K1346,tblCountries[],3,0)","v":"North Amer."},{"$f":"VLOOKUP(tblSalaries[[#This Row],[How many hours of a day you work on Excel]],tblHours,2,0)","v":4},{"$f":"VLOOKUP(tblSalaries[[#This Row],[clean Country]],tblCountries[],5,0)","v":1},{"$f":"IF($Q$1,tblSalaries[[#This Row],[PPP Factor]]*tblSalaries[[#This Row],[Salary in USD]],tblSalaries[[#This Row],[Salary in USD]])","v":100000}]
[null,"ID1375","2012-05-29T20:40:12","$60,000 USD",60000,"USD",{"$f":"tblSalaries[[#This Row],[clean Salary (in local currency)]]*VLOOKUP(tblSalaries[[#This Row],[Currency]],tblXrate[],2,FALSE)","v":60000},"project manager","Manager","USA",{"$f":"VLOOKUP(tblSalaries[[#This Row],[Where do you work]],tblCountries[[Actual]:[Mapping]],2,FALSE)","v":"USA"},"2 to 3 hours per day",20,{"$f":"VLOOKUP(K1347,tblCountries[],3,0)","v":"North Amer."},{"$f":"VLOOKUP(tblSalaries[[#This Row],[How many hours of a day you work on Excel]],tblHours,2,0)","v":3},{"$f":"VLOOKUP(tblSalaries[[#This Row],[clean Country]],tblCountries[],5,0)","v":1},{"$f":"IF($Q$1,tblSalaries[[#This Row],[PPP Factor]]*tblSalaries[[#This Row],[Salary in USD]],tblSalaries[[#This Row],[Salary in USD]])","v":60000}]
[null,"ID1376","2012-05-29T20:53:43",95000,95000,"USD",{"$f":"tblSalaries[[#This Row],[clean Salary (in local currency)]]*VLOOKUP(tblSalaries[[#This Row],[Currency]],tblXrate[],2,FALSE)","v":95000},"Cost Analyst","Analyst","USA",{"$f":"VLOOKUP(tblSalaries[[#This Row],[Where do you work]],tblCountries[[Actual]:[Mapping]],2,FALSE)","v":"USA"},"2 to 3 hours per day",7,{"$f":"VLOOKUP(K1348,tblCountries[],3,0)","v":"North Amer."},{"$f":"VLOOKUP(tblSalaries[[#This Row],[How many hours of a day you work on Excel]],tblHours,2,0)","v":3},{"$f":"VLOOKUP(tblSalaries[[#This Row],[clean Country]],tblCountries[],5,0)","v":1},{"$f":"IF($Q$1,tblSalaries[[#This Row],[PPP Factor]]*tblSalaries[[#This Row],[Salary in USD]],tblSalaries[[#This Row],[Salary in USD]])","v":95000}]
[null,"ID1377","2012-05-29T21:07:27",24000,24000,"USD",{"$f":"tblSalaries[[#This Row],[clean Salary (in local currency)]]*VLOOKUP(tblSalaries[[#This Row],[Currency]],tblXrate[],2,FALSE)","v":24000},"clerk 24 hrs per week","Analyst","USA",{"$f":"VLOOKUP(tblSalaries[[#This Row],[Where do you work]],tblCountries[[Actual]:[Mapping]],2,FALSE)","v":"USA"},"1 or 2 hours a day",33,{"$f":"VLOOKUP(K1349,tblCountries[],3,0)","v":"North Amer."},{"$f":"VLOOKUP(tblSalaries[[#This Row],[How many hours of a day you work on Excel]],tblHours,2,0)","v":2},{"$f":"VLOOKUP(tblSalaries[[#This Row],[clean Country]],tblCountries[],5,0)","v":1},{"$f":"IF($Q$1,tblSalaries[[#This Row],[PPP Factor]]*tblSalaries[[#This Row],[Salary in USD]],tblSalaries[[#This Row],[Salary in USD]])","v":24000}]
[null,"ID1378","2012-05-29T21:17:26",50000,50000,"USD",{"$f":"tblSalaries[[#This Row],[clean Salary (in local currency)]]*VLOOKUP(tblSalaries[[#This Row],[Currency]],tblXrate[],2,FALSE)","v":50000},"Engineering Intern","Engineer","USA",{"$f":"VLOOKUP(tblSalaries[[#This Row],[Where do you work]],tblCountries[[Actual]:[Mapping]],2,FALSE)","v":"USA"},"4 to 6 hours a day",0.5,{"$f":"VLOOKUP(K1350,tblCountries[],3,0)","v":"North Amer."},{"$f":"VLOOKUP(tblSalaries[[#This Row],[How many hours of a day you work on Excel]],tblHours,2,0)","v":4},{"$f":"VLOOKUP(tblSalaries[[#This Row],[clean Country]],tblCountries[],5,0)","v":1},{"$f":"IF($Q$1,tblSalaries[[#This Row],[PPP Factor]]*tblSalaries[[#This Row],[Salary in USD]],tblSalaries[[#This Row],[Salary in USD]])","v":50000}]
[null,"ID1379","2012-05-29T21:25:03",103000,103000,"USD",{"$f":"tblSalaries[[#This Row],[clean Salary (in local currency)]]*VLOOKUP(tblSalaries[[#This Row],[Currency]],tblXrate[],2,FALSE)","v":103000},"Controller","Controller","USA",{"$f":"VLOOKUP(tblSalaries[[#This Row],[Where do you work]],tblCountries[[Actual]:[Mapping]],2,FALSE)","v":"USA"},"4 to 6 hours a day",22,{"$f":"VLOOKUP(K1351,tblCountries[],3,0)","v":"North Amer."},{"$f":"VLOOKUP(tblSalaries[[#This Row],[How many hours of a day you work on Excel]],tblHours,2,0)","v":4},{"$f":"VLOOKUP(tblSalaries[[#This Row],[clean Country]],tblCountries[],5,0)","v":1},{"$f":"IF($Q$1,tblSalaries[[#This Row],[PPP Factor]]*tblSalaries[[#This Row],[Salary in USD]],tblSalaries[[#This Row],[Salary in USD]])","v":103000}]
[null,"ID1380","2012-05-29T21:27:23",36000,36000,"USD",{"$f":"tblSalaries[[#This Row],[clean Salary (in local currency)]]*VLOOKUP(tblSalaries[[#This Row],[Currency]],tblXrate[],2,FALSE)","v":36000},"Data Specialist","Specialist","USA",{"$f":"VLOOKUP(tblSalaries[[#This Row],[Where do you work]],tblCountries[[Actual]:[Mapping]],2,FALSE)","v":"USA"},"All the 8 hours baby, all the 8!",8,{"$f":"VLOOKUP(K1352,tblCountries[],3,0)","v":"North Amer."},{"$f":"VLOOKUP(tblSalaries[[#This Row],[How many hours of a day you work on Excel]],tblHours,2,0)","v":5},{"$f":"VLOOKUP(tblSalaries[[#This Row],[clean Country]],tblCountries[],5,0)","v":1},{"$f":"IF($Q$1,tblSalaries[[#This Row],[PPP Factor]]*tblSalaries[[#This Row],[Salary in USD]],tblSalaries[[#This Row],[Salary in USD]])","v":36000}]
[null,"ID1381","2012-05-29T21:28:07",85000,85000,"USD",{"$f":"tblSalaries[[#This Row],[clean Salary (in local currency)]]*VLOOKUP(tblSalaries[[#This Row],[Currency]],tblXrate[],2,FALSE)","v":85000},"Senior Analyst","Analyst","USA",{"$f":"VLOOKUP(tblSalaries[[#This Row],[Where do you work]],tblCountries[[Actual]:[Mapping]],2,FALSE)","v":"USA"},"4 to 6 hours a day",17,{"$f":"VLOOKUP(K1353,tblCountries[],3,0)","v":"North Amer."},{"$f":"VLOOKUP(tblSalaries[[#This Row],[How many hours of a day you work on Excel]],tblHours,2,0)","v":4},{"$f":"VLOOKUP(tblSalaries[[#This Row],[clean Country]],tblCountries[],5,0)","v":1},{"$f":"IF($Q$1,tblSalaries[[#This Row],[PPP Factor]]*tblSalaries[[#This Row],[Salary in USD]],tblSalaries[[#This Row],[Salary in USD]])","v":85000}]
[null,"ID1382","2012-05-29T21:29:36",100000,100000,"USD",{"$f":"tblSalaries[[#This Row],[clean Salary (in local currency)]]*VLOOKUP(tblSalaries[[#This Row],[Currency]],tblXrate[],2,FALSE)","v":100000},"Vice Head of Dpt in Education","CXO or Top Mgmt.","Sweden",{"$f":"VLOOKUP(tblSalaries[[#This Row],[Where do you work]],tblCountries[[Actual]:[Mapping]],2,FALSE)","v":"Sweden"},"2 to 3 hours per day",20,{"$f":"VLOOKUP(K1354,tblCountries[],3,0)","v":"Europe"},{"$f":"VLOOKUP(tblSalaries[[#This Row],[How many hours of a day you work on Excel]],tblHours,2,0)","v":3},{"$f":"VLOOKUP(tblSalaries[[#This Row],[clean Country]],tblCountries[],5,0)","v":1.1978759221666584},{"$f":"IF($Q$1,tblSalaries[[#This Row],[PPP Factor]]*tblSalaries[[#This Row],[Salary in USD]],tblSalaries[[#This Row],[Salary in USD]])","v":100000}]
[null,"ID1383","2012-05-29T21:33:42","$83000 USD ",83000,"USD",{"$f":"tblSalaries[[#This Row],[clean Salary (in local currency)]]*VLOOKUP(tblSalaries[[#This Row],[Currency]],tblXrate[],2,FALSE)","v":83000},"Senior Planning Analyst","Analyst","Canada",{"$f":"VLOOKUP(tblSalaries[[#This Row],[Where do you work]],tblCountries[[Actual]:[Mapping]],2,FALSE)","v":"Canada"},"4 to 6 hours a day",12,{"$f":"VLOOKUP(K1355,tblCountries[],3,0)","v":"North Amer."},{"$f":"VLOOKUP(tblSalaries[[#This Row],[How many hours of a day you work on Excel]],tblHours,2,0)","v":4},{"$f":"VLOOKUP(tblSalaries[[#This Row],[clean Country]],tblCountries[],5,0)","v":1.1935324732986359},{"$f":"IF($Q$1,tblSalaries[[#This Row],[PPP Factor]]*tblSalaries[[#This Row],[Salary in USD]],tblSalaries[[#This Row],[Salary in USD]])","v":83000}]
[null,"ID1384","2012-05-29T21:38:10",85000,85000,"USD",{"$f":"tblSalaries[[#This Row],[clean Salary (in local currency)]]*VLOOKUP(tblSalaries[[#This Row],[Currency]],tblXrate[],2,FALSE)","v":85000},"energy engineer","Engineer","USA",{"$f":"VLOOKUP(tblSalaries[[#This Row],[Where do you work]],tblCountries[[Actual]:[Mapping]],2,FALSE)","v":"USA"},"2 to 3 hours per day",25,{"$f":"VLOOKUP(K1356,tblCountries[],3,0)","v":"North Amer."},{"$f":"VLOOKUP(tblSalaries[[#This Row],[How many hours of a day you work on Excel]],tblHours,2,0)","v":3},{"$f":"VLOOKUP(tblSalaries[[#This Row],[clean Country]],tblCountries[],5,0)","v":1},{"$f":"IF($Q$1,tblSalaries[[#This Row],[PPP Factor]]*tblSalaries[[#This Row],[Salary in USD]],tblSalaries[[#This Row],[Salary in USD]])","v":85000}]
[null,"ID1385","2012-05-29T21:42:44",120000,120000,"USD",{"$f":"tblSalaries[[#This Row],[clean Salary (in local currency)]]*VLOOKUP(tblSalaries[[#This Row],[Currency]],tblXrate[],2,FALSE)","v":120000},"Finance Manager","Manager","USA",{"$f":"VLOOKUP(tblSalaries[[#This Row],[Where do you work]],tblCountries[[Actual]:[Mapping]],2,FALSE)","v":"USA"},"2 to 3 hours per day",5,{"$f":"VLOOKUP(K1357,tblCountries[],3,0)","v":"North Amer."},{"$f":"VLOOKUP(tblSalaries[[#This Row],[How many hours of a day you work on Excel]],tblHours,2,0)","v":3},{"$f":"VLOOKUP(tblSalaries[[#This Row],[clean Country]],tblCountries[],5,0)","v":1},{"$f":"IF($Q$1,tblSalaries[[#This Row],[PPP Factor]]*tblSalaries[[#This Row],[Salary in USD]],tblSalaries[[#This Row],[Salary in USD]])","v":120000}]
[null,"ID1386","2012-05-29T21:44:00",69960,69960,"USD",{"$f":"tblSalaries[[#This Row],[clean Salary (in local currency)]]*VLOOKUP(tblSalaries[[#This Row],[Currency]],tblXrate[],2,FALSE)","v":69960},"Measurement & Verification Engineer","Engineer","USA",{"$f":"VLOOKUP(tblSalaries[[#This Row],[Where do you work]],tblCountries[[Actual]:[Mapping]],2,FALSE)","v":"USA"},"2 to 3 hours per day",22,{"$f":"VLOOKUP(K1358,tblCountries[],3,0)","v":"North Amer."},{"$f":"VLOOKUP(tblSalaries[[#This Row],[How many hours of a day you work on Excel]],tblHours,2,0)","v":3},{"$f":"VLOOKUP(tblSalaries[[#This Row],[clean Country]],tblCountries[],5,0)","v":1},{"$f":"IF($Q$1,tblSalaries[[#This Row],[PPP Factor]]*tblSalaries[[#This Row],[Salary in USD]],tblSalaries[[#This Row],[Salary in USD]])","v":69960}]
[null,"ID1387","2012-05-29T21:46:28","97,000 USD",97000,"USD",{"$f":"tblSalaries[[#This Row],[clean Salary (in local currency)]]*VLOOKUP(tblSalaries[[#This Row],[Currency]],tblXrate[],2,FALSE)","v":97000},"Sr. Manager of Finance","Manager","USA",{"$f":"VLOOKUP(tblSalaries[[#This Row],[Where do you work]],tblCountries[[Actual]:[Mapping]],2,FALSE)","v":"USA"},"4 to 6 hours a day",14,{"$f":"VLOOKUP(K1359,tblCountries[],3,0)","v":"North Amer."},{"$f":"VLOOKUP(tblSalaries[[#This Row],[How many hours of a day you work on Excel]],tblHours,2,0)","v":4},{"$f":"VLOOKUP(tblSalaries[[#This Row],[clean Country]],tblCountries[],5,0)","v":1},{"$f":"IF($Q$1,tblSalaries[[#This Row],[PPP Factor]]*tblSalaries[[#This Row],[Salary in USD]],tblSalaries[[#This Row],[Salary in USD]])","v":97000}]
[null,"ID1388","2012-05-29T21:48:13","60000 $",60000,"GBP",{"$f":"tblSalaries[[#This Row],[clean Salary (in local currency)]]*VLOOKUP(tblSalaries[[#This Row],[Currency]],tblXrate[],2,FALSE)","v":94570.696324037053},"Analyst","Analyst","UK",{"$f":"VLOOKUP(tblSalaries[[#This Row],[Where do you work]],tblCountries[[Actual]:[Mapping]],2,FALSE)","v":"UK"},"4 to 6 hours a day",7,{"$f":"VLOOKUP(K1360,tblCountries[],3,0)","v":"Europe"},{"$f":"VLOOKUP(tblSalaries[[#This Row],[How many hours of a day you work on Excel]],tblHours,2,0)","v":4},{"$f":"VLOOKUP(tblSalaries[[#This Row],[clean Country]],tblCountries[],5,0)","v":1.3407315045719035},{"$f":"IF($Q$1,tblSalaries[[#This Row],[PPP Factor]]*tblSalaries[[#This Row],[Salary in USD]],tblSalaries[[#This Row],[Salary in USD]])","v":94570.696324037053}]
[null,"ID1389","2012-05-29T21:50:30",39000,39000,"USD",{"$f":"tblSalaries[[#This Row],[clean Salary (in local currency)]]*VLOOKUP(tblSalaries[[#This Row],[Currency]],tblXrate[],2,FALSE)","v":39000},"I.T Manager","Manager","South Africa",{"$f":"VLOOKUP(tblSalaries[[#This Row],[Where do you work]],tblCountries[[Actual]:[Mapping]],2,FALSE)","v":"South Africa"},"All the 8 hours baby, all the 8!",6,{"$f":"VLOOKUP(K1361,tblCountries[],3,0)","v":"Africa"},{"$f":"VLOOKUP(tblSalaries[[#This Row],[How many hours of a day you work on Excel]],tblHours,2,0)","v":5},{"$f":"VLOOKUP(tblSalaries[[#This Row],[clean Country]],tblCountries[],5,0)","v":4.4096418481727877},{"$f":"IF($Q$1,tblSalaries[[#This Row],[PPP Factor]]*tblSalaries[[#This Row],[Salary in USD]],tblSalaries[[#This Row],[Salary in USD]])","v":39000}]
[null,"ID1390","2012-05-29T21:50:45","Rs 250000",250000,"INR",{"$f":"tblSalaries[[#This Row],[clean Salary (in local currency)]]*VLOOKUP(tblSalaries[[#This Row],[Currency]],tblXrate[],2,FALSE)","v":4451.9791718606421},"Manager","Manager","India",{"$f":"VLOOKUP(tblSalaries[[#This Row],[Where do you work]],tblCountries[[Actual]:[Mapping]],2,FALSE)","v":"India"},"1 or 2 hours a day",15,{"$f":"VLOOKUP(K1362,tblCountries[],3,0)","v":"Asia"},{"$f":"VLOOKUP(tblSalaries[[#This Row],[How many hours of a day you work on Excel]],tblHours,2,0)","v":2},{"$f":"VLOOKUP(tblSalaries[[#This Row],[clean Country]],tblCountries[],5,0)","v":13.098808879263672},{"$f":"IF($Q$1,tblSalaries[[#This Row],[PPP Factor]]*tblSalaries[[#This Row],[Salary in USD]],tblSalaries[[#This Row],[Salary in USD]])","v":4451.9791718606421}]
[null,"ID1391","2012-05-29T21:54:33",62000,62000,"USD",{"$f":"tblSalaries[[#This Row],[clean Salary (in local currency)]]*VLOOKUP(tblSalaries[[#This Row],[Currency]],tblXrate[],2,FALSE)","v":62000},"Measurement Specialist","Specialist","USA",{"$f":"VLOOKUP(tblSalaries[[#This Row],[Where do you work]],tblCountries[[Actual]:[Mapping]],2,FALSE)","v":"USA"},"All the 8 hours baby, all the 8!",25,{"$f":"VLOOKUP(K1363,tblCountries[],3,0)","v":"North Amer."},{"$f":"VLOOKUP(tblSalaries[[#This Row],[How many hours of a day you work on Excel]],tblHours,2,0)","v":5},{"$f":"VLOOKUP(tblSalaries[[#This Row],[clean Country]],tblCountries[],5,0)","v":1},{"$f":"IF($Q$1,tblSalaries[[#This Row],[PPP Factor]]*tblSalaries[[#This Row],[Salary in USD]],tblSalaries[[#This Row],[Salary in USD]])","v":62000}]
[null,"ID1392","2012-05-29T21:59:35",44000,44000,"USD",{"$f":"tblSalaries[[#This Row],[clean Salary (in local currency)]]*VLOOKUP(tblSalaries[[#This Row],[Currency]],tblXrate[],2,FALSE)","v":44000},"Test engineer","Engineer","USA",{"$f":"VLOOKUP(tblSalaries[[#This Row],[Where do you work]],tblCountries[[Actual]:[Mapping]],2,FALSE)","v":"USA"},"4 to 6 hours a day",15,{"$f":"VLOOKUP(K1364,tblCountries[],3,0)","v":"North Amer."},{"$f":"VLOOKUP(tblSalaries[[#This Row],[How many hours of a day you work on Excel]],tblHours,2,0)","v":4},{"$f":"VLOOKUP(tblSalaries[[#This Row],[clean Country]],tblCountries[],5,0)","v":1},{"$f":"IF($Q$1,tblSalaries[[#This Row],[PPP Factor]]*tblSalaries[[#This Row],[Salary in USD]],tblSalaries[[#This Row],[Salary in USD]])","v":44000}]
[null,"ID1393","2012-05-29T22:02:31",150000,150000,"USD",{"$f":"tblSalaries[[#This Row],[clean Salary (in local currency)]]*VLOOKUP(tblSalaries[[#This Row],[Currency]],tblXrate[],2,FALSE)","v":150000},"VP, Business Management","Manager","USA",{"$f":"VLOOKUP(tblSalaries[[#This Row],[Where do you work]],tblCountries[[Actual]:[Mapping]],2,FALSE)","v":"USA"},"2 to 3 hours per day",30,{"$f":"VLOOKUP(K1365,tblCountries[],3,0)","v":"North Amer."},{"$f":"VLOOKUP(tblSalaries[[#This Row],[How many hours of a day you work on Excel]],tblHours,2,0)","v":3},{"$f":"VLOOKUP(tblSalaries[[#This Row],[clean Country]],tblCountries[],5,0)","v":1},{"$f":"IF($Q$1,tblSalaries[[#This Row],[PPP Factor]]*tblSalaries[[#This Row],[Salary in USD]],tblSalaries[[#This Row],[Salary in USD]])","v":150000}]
[null,"ID1394","2012-05-29T22:04:09",180000,180000,"EUR",{"$f":"tblSalaries[[#This Row],[clean Salary (in local currency)]]*VLOOKUP(tblSalaries[[#This Row],[Currency]],tblXrate[],2,FALSE)","v":228671.89901848941},"MIS Controller","Controller","Europe",{"$f":"VLOOKUP(tblSalaries[[#This Row],[Where do you work]],tblCountries[[Actual]:[Mapping]],2,FALSE)","v":"Europe"},"4 to 6 hours a day",15,{"$f":"VLOOKUP(K1366,tblCountries[],3,0)","v":"Europe"},{"$f":"VLOOKUP(tblSalaries[[#This Row],[How many hours of a day you work on Excel]],tblHours,2,0)","v":4},{"$f":"VLOOKUP(tblSalaries[[#This Row],[clean Country]],tblCountries[],5,0)","v":1},{"$f":"IF($Q$1,tblSalaries[[#This Row],[PPP Factor]]*tblSalaries[[#This Row],[Salary in USD]],tblSalaries[[#This Row],[Salary in USD]])","v":228671.89901848941}]
[null,"ID1395","2012-05-29T22:13:08",73500,73500,"USD",{"$f":"tblSalaries[[#This Row],[clean Salary (in local currency)]]*VLOOKUP(tblSalaries[[#This Row],[Currency]],tblXrate[],2,FALSE)","v":73500},"Senior Underwriting Analyst","Analyst","USA",{"$f":"VLOOKUP(tblSalaries[[#This Row],[Where do you work]],tblCountries[[Actual]:[Mapping]],2,FALSE)","v":"USA"},"All the 8 hours baby, all the 8!",6,{"$f":"VLOOKUP(K1367,tblCountries[],3,0)","v":"North Amer."},{"$f":"VLOOKUP(tblSalaries[[#This Row],[How many hours of a day you work on Excel]],tblHours,2,0)","v":5},{"$f":"VLOOKUP(tblSalaries[[#This Row],[clean Country]],tblCountries[],5,0)","v":1},{"$f":"IF($Q$1,tblSalaries[[#This Row],[PPP Factor]]*tblSalaries[[#This Row],[Salary in USD]],tblSalaries[[#This Row],[Salary in USD]])","v":73500}]
[null,"ID1396","2012-05-29T22:14:19",77500,77500,"USD",{"$f":"tblSalaries[[#This Row],[clean Salary (in local currency)]]*VLOOKUP(tblSalaries[[#This Row],[Currency]],tblXrate[],2,FALSE)","v":77500},"Sr Financial Analyst","Analyst","USA",{"$f":"VLOOKUP(tblSalaries[[#This Row],[Where do you work]],tblCountries[[Actual]:[Mapping]],2,FALSE)","v":"USA"},"4 to 6 hours a day",7,{"$f":"VLOOKUP(K1368,tblCountries[],3,0)","v":"North Amer."},{"$f":"VLOOKUP(tblSalaries[[#This Row],[How many hours of a day you work on Excel]],tblHours,2,0)","v":4},{"$f":"VLOOKUP(tblSalaries[[#This Row],[clean Country]],tblCountries[],5,0)","v":1},{"$f":"IF($Q$1,tblSalaries[[#This Row],[PPP Factor]]*tblSalaries[[#This Row],[Salary in USD]],tblSalaries[[#This Row],[Salary in USD]])","v":77500}]
[null,"ID1397","2012-05-29T22:18:48",60800,60800,"USD",{"$f":"tblSalaries[[#This Row],[clean Salary (in local currency)]]*VLOOKUP(tblSalaries[[#This Row],[Currency]],tblXrate[],2,FALSE)","v":60800},"Data Integrity & Reporting Tool Analyst","Analyst","USA",{"$f":"VLOOKUP(tblSalaries[[#This Row],[Where do you work]],tblCountries[[Actual]:[Mapping]],2,FALSE)","v":"USA"},"All the 8 hours baby, all the 8!",10,{"$f":"VLOOKUP(K1369,tblCountries[],3,0)","v":"North Amer."},{"$f":"VLOOKUP(tblSalaries[[#This Row],[How many hours of a day you work on Excel]],tblHours,2,0)","v":5},{"$f":"VLOOKUP(tblSalaries[[#This Row],[clean Country]],tblCountries[],5,0)","v":1},{"$f":"IF($Q$1,tblSalaries[[#This Row],[PPP Factor]]*tblSalaries[[#This Row],[Salary in USD]],tblSalaries[[#This Row],[Salary in USD]])","v":60800}]
[null,"ID1398","2012-05-29T22:24:28",136000,136000,"USD",{"$f":"tblSalaries[[#This Row],[clean Salary (in local currency)]]*VLOOKUP(tblSalaries[[#This Row],[Currency]],tblXrate[],2,FALSE)","v":136000},"Manager FP and A","Manager","USA",{"$f":"VLOOKUP(tblSalaries[[#This Row],[Where do you work]],tblCountries[[Actual]:[Mapping]],2,FALSE)","v":"USA"},"4 to 6 hours a day",10,{"$f":"VLOOKUP(K1370,tblCountries[],3,0)","v":"North Amer."},{"$f":"VLOOKUP(tblSalaries[[#This Row],[How many hours of a day you work on Excel]],tblHours,2,0)","v":4},{"$f":"VLOOKUP(tblSalaries[[#This Row],[clean Country]],tblCountries[],5,0)","v":1},{"$f":"IF($Q$1,tblSalaries[[#This Row],[PPP Factor]]*tblSalaries[[#This Row],[Salary in USD]],tblSalaries[[#This Row],[Salary in USD]])","v":136000}]
[null,"ID1399","2012-05-29T22:32:16",20000,20000,"USD",{"$f":"tblSalaries[[#This Row],[clean Salary (in local currency)]]*VLOOKUP(tblSalaries[[#This Row],[Currency]],tblXrate[],2,FALSE)","v":20000},"Business Operation Specialist","Specialist","India",{"$f":"VLOOKUP(tblSalaries[[#This Row],[Where do you work]],tblCountries[[Actual]:[Mapping]],2,FALSE)","v":"India"},"4 to 6 hours a day",6,{"$f":"VLOOKUP(K1371,tblCountries[],3,0)","v":"Asia"},{"$f":"VLOOKUP(tblSalaries[[#This Row],[How many hours of a day you work on Excel]],tblHours,2,0)","v":4},{"$f":"VLOOKUP(tblSalaries[[#This Row],[clean Country]],tblCountries[],5,0)","v":13.098808879263672},{"$f":"IF($Q$1,tblSalaries[[#This Row],[PPP Factor]]*tblSalaries[[#This Row],[Salary in USD]],tblSalaries[[#This Row],[Salary in USD]])","v":20000}]
[null,"ID1400","2012-05-29T22:35:17",95000,95000,"USD",{"$f":"tblSalaries[[#This Row],[clean Salary (in local currency)]]*VLOOKUP(tblSalaries[[#This Row],[Currency]],tblXrate[],2,FALSE)","v":95000},"Stress Engineer","Engineer","USA",{"$f":"VLOOKUP(tblSalaries[[#This Row],[Where do you work]],tblCountries[[Actual]:[Mapping]],2,FALSE)","v":"USA"},"4 to 6 hours a day",14,{"$f":"VLOOKUP(K1372,tblCountries[],3,0)","v":"North Amer."},{"$f":"VLOOKUP(tblSalaries[[#This Row],[How many hours of a day you work on Excel]],tblHours,2,0)","v":4},{"$f":"VLOOKUP(tblSalaries[[#This Row],[clean Country]],tblCountries[],5,0)","v":1},{"$f":"IF($Q$1,tblSalaries[[#This Row],[PPP Factor]]*tblSalaries[[#This Row],[Salary in USD]],tblSalaries[[#This Row],[Salary in USD]])","v":95000}]
[null,"ID1401","2012-05-29T22:47:10",130000,130000,"USD",{"$f":"tblSalaries[[#This Row],[clean Salary (in local currency)]]*VLOOKUP(tblSalaries[[#This Row],[Currency]],tblXrate[],2,FALSE)","v":130000},"Manager","Manager","USA",{"$f":"VLOOKUP(tblSalaries[[#This Row],[Where do you work]],tblCountries[[Actual]:[Mapping]],2,FALSE)","v":"USA"},"1 or 2 hours a day",25,{"$f":"VLOOKUP(K1373,tblCountries[],3,0)","v":"North Amer."},{"$f":"VLOOKUP(tblSalaries[[#This Row],[How many hours of a day you work on Excel]],tblHours,2,0)","v":2},{"$f":"VLOOKUP(tblSalaries[[#This Row],[clean Country]],tblCountries[],5,0)","v":1},{"$f":"IF($Q$1,tblSalaries[[#This Row],[PPP Factor]]*tblSalaries[[#This Row],[Salary in USD]],tblSalaries[[#This Row],[Salary in USD]])","v":130000}]
[null,"ID1402","2012-05-29T22:50:16",65000,65000,"USD",{"$f":"tblSalaries[[#This Row],[clean Salary (in local currency)]]*VLOOKUP(tblSalaries[[#This Row],[Currency]],tblXrate[],2,FALSE)","v":65000},"eeo analyst","Analyst","USA",{"$f":"VLOOKUP(tblSalaries[[#This Row],[Where do you work]],tblCountries[[Actual]:[Mapping]],2,FALSE)","v":"USA"},"2 to 3 hours per day",10,{"$f":"VLOOKUP(K1374,tblCountries[],3,0)","v":"North Amer."},{"$f":"VLOOKUP(tblSalaries[[#This Row],[How many hours of a day you work on Excel]],tblHours,2,0)","v":3},{"$f":"VLOOKUP(tblSalaries[[#This Row],[clean Country]],tblCountries[],5,0)","v":1},{"$f":"IF($Q$1,tblSalaries[[#This Row],[PPP Factor]]*tblSalaries[[#This Row],[Salary in USD]],tblSalaries[[#This Row],[Salary in USD]])","v":65000}]
[null,"ID1403","2012-05-29T22:50:20",80000,80000,"USD",{"$f":"tblSalaries[[#This Row],[clean Salary (in local currency)]]*VLOOKUP(tblSalaries[[#This Row],[Currency]],tblXrate[],2,FALSE)","v":80000},"Sr Process Consultant","Consultant","USA",{"$f":"VLOOKUP(tblSalaries[[#This Row],[Where do you work]],tblCountries[[Actual]:[Mapping]],2,FALSE)","v":"USA"},"2 to 3 hours per day",8,{"$f":"VLOOKUP(K1375,tblCountries[],3,0)","v":"North Amer."},{"$f":"VLOOKUP(tblSalaries[[#This Row],[How many hours of a day you work on Excel]],tblHours,2,0)","v":3},{"$f":"VLOOKUP(tblSalaries[[#This Row],[clean Country]],tblCountries[],5,0)","v":1},{"$f":"IF($Q$1,tblSalaries[[#This Row],[PPP Factor]]*tblSalaries[[#This Row],[Salary in USD]],tblSalaries[[#This Row],[Salary in USD]])","v":80000}]
[null,"ID1404","2012-05-29T22:56:24","37K",37000,"USD",{"$f":"tblSalaries[[#This Row],[clean Salary (in local currency)]]*VLOOKUP(tblSalaries[[#This Row],[Currency]],tblXrate[],2,FALSE)","v":37000},"Credentialing Coordinator & Productivity Reports \"Guru\"","Reporting","USA",{"$f":"VLOOKUP(tblSalaries[[#This Row],[Where do you work]],tblCountries[[Actual]:[Mapping]],2,FALSE)","v":"USA"},"2 to 3 hours per day",30,{"$f":"VLOOKUP(K1376,tblCountries[],3,0)","v":"North Amer."},{"$f":"VLOOKUP(tblSalaries[[#This Row],[How many hours of a day you work on Excel]],tblHours,2,0)","v":3},{"$f":"VLOOKUP(tblSalaries[[#This Row],[clean Country]],tblCountries[],5,0)","v":1},{"$f":"IF($Q$1,tblSalaries[[#This Row],[PPP Factor]]*tblSalaries[[#This Row],[Salary in USD]],tblSalaries[[#This Row],[Salary in USD]])","v":37000}]
[null,"ID1405","2012-05-29T23:06:00",40000,40000,"USD",{"$f":"tblSalaries[[#This Row],[clean Salary (in local currency)]]*VLOOKUP(tblSalaries[[#This Row],[Currency]],tblXrate[],2,FALSE)","v":40000},"Transportation Planner","Manager","USA",{"$f":"VLOOKUP(tblSalaries[[#This Row],[Where do you work]],tblCountries[[Actual]:[Mapping]],2,FALSE)","v":"USA"},"1 or 2 hours a day",8,{"$f":"VLOOKUP(K1377,tblCountries[],3,0)","v":"North Amer."},{"$f":"VLOOKUP(tblSalaries[[#This Row],[How many hours of a day you work on Excel]],tblHours,2,0)","v":2},{"$f":"VLOOKUP(tblSalaries[[#This Row],[clean Country]],tblCountries[],5,0)","v":1},{"$f":"IF($Q$1,tblSalaries[[#This Row],[PPP Factor]]*tblSalaries[[#This Row],[Salary in USD]],tblSalaries[[#This Row],[Salary in USD]])","v":40000}]
[null,"ID1406","2012-05-29T23:08:45",49000,49000,"USD",{"$f":"tblSalaries[[#This Row],[clean Salary (in local currency)]]*VLOOKUP(tblSalaries[[#This Row],[Currency]],tblXrate[],2,FALSE)","v":49000},"Research Analyst","Analyst","USA",{"$f":"VLOOKUP(tblSalaries[[#This Row],[Where do you work]],tblCountries[[Actual]:[Mapping]],2,FALSE)","v":"USA"},"4 to 6 hours a day",10,{"$f":"VLOOKUP(K1378,tblCountries[],3,0)","v":"North Amer."},{"$f":"VLOOKUP(tblSalaries[[#This Row],[How many hours of a day you work on Excel]],tblHours,2,0)","v":4},{"$f":"VLOOKUP(tblSalaries[[#This Row],[clean Country]],tblCountries[],5,0)","v":1},{"$f":"IF($Q$1,tblSalaries[[#This Row],[PPP Factor]]*tblSalaries[[#This Row],[Salary in USD]],tblSalaries[[#This Row],[Salary in USD]])","v":49000}]
[null,"ID1407","2012-05-29T23:09:29",65000,65000,"USD",{"$f":"tblSalaries[[#This Row],[clean Salary (in local currency)]]*VLOOKUP(tblSalaries[[#This Row],[Currency]],tblXrate[],2,FALSE)","v":65000},"Data Analyst","Analyst","USA",{"$f":"VLOOKUP(tblSalaries[[#This Row],[Where do you work]],tblCountries[[Actual]:[Mapping]],2,FALSE)","v":"USA"},"All the 8 hours baby, all the 8!",14,{"$f":"VLOOKUP(K1379,tblCountries[],3,0)","v":"North Amer."},{"$f":"VLOOKUP(tblSalaries[[#This Row],[How many hours of a day you work on Excel]],tblHours,2,0)","v":5},{"$f":"VLOOKUP(tblSalaries[[#This Row],[clean Country]],tblCountries[],5,0)","v":1},{"$f":"IF($Q$1,tblSalaries[[#This Row],[PPP Factor]]*tblSalaries[[#This Row],[Salary in USD]],tblSalaries[[#This Row],[Salary in USD]])","v":65000}]
[null,"ID1408","2012-05-29T23:13:32",55000,55000,"USD",{"$f":"tblSalaries[[#This Row],[clean Salary (in local currency)]]*VLOOKUP(tblSalaries[[#This Row],[Currency]],tblXrate[],2,FALSE)","v":55000},"Risk Analyst","Analyst","USA",{"$f":"VLOOKUP(tblSalaries[[#This Row],[Where do you work]],tblCountries[[Actual]:[Mapping]],2,FALSE)","v":"USA"},"All the 8 hours baby, all the 8!",1,{"$f":"VLOOKUP(K1380,tblCountries[],3,0)","v":"North Amer."},{"$f":"VLOOKUP(tblSalaries[[#This Row],[How many hours of a day you work on Excel]],tblHours,2,0)","v":5},{"$f":"VLOOKUP(tblSalaries[[#This Row],[clean Country]],tblCountries[],5,0)","v":1},{"$f":"IF($Q$1,tblSalaries[[#This Row],[PPP Factor]]*tblSalaries[[#This Row],[Salary in USD]],tblSalaries[[#This Row],[Salary in USD]])","v":55000}]
[null,"ID1409","2012-05-29T23:20:41",40000,40000,"USD",{"$f":"tblSalaries[[#This Row],[clean Salary (in local currency)]]*VLOOKUP(tblSalaries[[#This Row],[Currency]],tblXrate[],2,FALSE)","v":40000},"Project Coordinator","Manager","USA",{"$f":"VLOOKUP(tblSalaries[[#This Row],[Where do you work]],tblCountries[[Actual]:[Mapping]],2,FALSE)","v":"USA"},"4 to 6 hours a day",1,{"$f":"VLOOKUP(K1381,tblCountries[],3,0)","v":"North Amer."},{"$f":"VLOOKUP(tblSalaries[[#This Row],[How many hours of a day you work on Excel]],tblHours,2,0)","v":4},{"$f":"VLOOKUP(tblSalaries[[#This Row],[clean Country]],tblCountries[],5,0)","v":1},{"$f":"IF($Q$1,tblSalaries[[#This Row],[PPP Factor]]*tblSalaries[[#This Row],[Salary in USD]],tblSalaries[[#This Row],[Salary in USD]])","v":40000}]
[null,"ID1410","2012-05-29T23:21:25",60000,60000,"USD",{"$f":"tblSalaries[[#This Row],[clean Salary (in local currency)]]*VLOOKUP(tblSalaries[[#This Row],[Currency]],tblXrate[],2,FALSE)","v":60000},"business analyst","Analyst","USA",{"$f":"VLOOKUP(tblSalaries[[#This Row],[Where do you work]],tblCountries[[Actual]:[Mapping]],2,FALSE)","v":"USA"},"4 to 6 hours a day",15,{"$f":"VLOOKUP(K1382,tblCountries[],3,0)","v":"North Amer."},{"$f":"VLOOKUP(tblSalaries[[#This Row],[How many hours of a day you work on Excel]],tblHours,2,0)","v":4},{"$f":"VLOOKUP(tblSalaries[[#This Row],[clean Country]],tblCountries[],5,0)","v":1},{"$f":"IF($Q$1,tblSalaries[[#This Row],[PPP Factor]]*tblSalaries[[#This Row],[Salary in USD]],tblSalaries[[#This Row],[Salary in USD]])","v":60000}]
[null,"ID1411","2012-05-29T23:31:03","36000 euros",36000,"EUR",{"$f":"tblSalaries[[#This Row],[clean Salary (in local currency)]]*VLOOKUP(tblSalaries[[#This Row],[Currency]],tblXrate[],2,FALSE)","v":45734.379803697877},"Data Analytics Consultant","Analyst","Ireland",{"$f":"VLOOKUP(tblSalaries[[#This Row],[Where do you work]],tblCountries[[Actual]:[Mapping]],2,FALSE)","v":"Ireland"},"2 to 3 hours per day",4,{"$f":"VLOOKUP(K1383,tblCountries[],3,0)","v":"Europe"},{"$f":"VLOOKUP(tblSalaries[[#This Row],[How many hours of a day you work on Excel]],tblHours,2,0)","v":3},{"$f":"VLOOKUP(tblSalaries[[#This Row],[clean Country]],tblCountries[],5,0)","v":1.2206917429803981},{"$f":"IF($Q$1,tblSalaries[[#This Row],[PPP Factor]]*tblSalaries[[#This Row],[Salary in USD]],tblSalaries[[#This Row],[Salary in USD]])","v":45734.379803697877}]
[null,"ID1412","2012-05-29T23:39:13",150000,150000,"USD",{"$f":"tblSalaries[[#This Row],[clean Salary (in local currency)]]*VLOOKUP(tblSalaries[[#This Row],[Currency]],tblXrate[],2,FALSE)","v":150000},"Senior Analyst","Analyst","USA",{"$f":"VLOOKUP(tblSalaries[[#This Row],[Where do you work]],tblCountries[[Actual]:[Mapping]],2,FALSE)","v":"USA"},"2 to 3 hours per day",30,{"$f":"VLOOKUP(K1384,tblCountries[],3,0)","v":"North Amer."},{"$f":"VLOOKUP(tblSalaries[[#This Row],[How many hours of a day you work on Excel]],tblHours,2,0)","v":3},{"$f":"VLOOKUP(tblSalaries[[#This Row],[clean Country]],tblCountries[],5,0)","v":1},{"$f":"IF($Q$1,tblSalaries[[#This Row],[PPP Factor]]*tblSalaries[[#This Row],[Salary in USD]],tblSalaries[[#This Row],[Salary in USD]])","v":150000}]
[null,"ID1413","2012-05-29T23:44:26",88000,88000,"USD",{"$f":"tblSalaries[[#This Row],[clean Salary (in local currency)]]*VLOOKUP(tblSalaries[[#This Row],[Currency]],tblXrate[],2,FALSE)","v":88000},"Manager, Financial Planning & Analysis","Manager","USA",{"$f":"VLOOKUP(tblSalaries[[#This Row],[Where do you work]],tblCountries[[Actual]:[Mapping]],2,FALSE)","v":"USA"},"4 to 6 hours a day",21,{"$f":"VLOOKUP(K1385,tblCountries[],3,0)","v":"North Amer."},{"$f":"VLOOKUP(tblSalaries[[#This Row],[How many hours of a day you work on Excel]],tblHours,2,0)","v":4},{"$f":"VLOOKUP(tblSalaries[[#This Row],[clean Country]],tblCountries[],5,0)","v":1},{"$f":"IF($Q$1,tblSalaries[[#This Row],[PPP Factor]]*tblSalaries[[#This Row],[Salary in USD]],tblSalaries[[#This Row],[Salary in USD]])","v":88000}]
[null,"ID1414","2012-05-30T00:02:08",64500,64500,"USD",{"$f":"tblSalaries[[#This Row],[clean Salary (in local currency)]]*VLOOKUP(tblSalaries[[#This Row],[Currency]],tblXrate[],2,FALSE)","v":64500},"Lead Budget/Financial Analyst","Analyst","USA",{"$f":"VLOOKUP(tblSalaries[[#This Row],[Where do you work]],tblCountries[[Actual]:[Mapping]],2,FALSE)","v":"USA"},"4 to 6 hours a day",13,{"$f":"VLOOKUP(K1386,tblCountries[],3,0)","v":"North Amer."},{"$f":"VLOOKUP(tblSalaries[[#This Row],[How many hours of a day you work on Excel]],tblHours,2,0)","v":4},{"$f":"VLOOKUP(tblSalaries[[#This Row],[clean Country]],tblCountries[],5,0)","v":1},{"$f":"IF($Q$1,tblSalaries[[#This Row],[PPP Factor]]*tblSalaries[[#This Row],[Salary in USD]],tblSalaries[[#This Row],[Salary in USD]])","v":64500}]
[null,"ID1415","2012-05-30T00:13:07","216000.00 Saudi Riyak",216000,"SAR",{"$f":"tblSalaries[[#This Row],[clean Salary (in local currency)]]*VLOOKUP(tblSalaries[[#This Row],[Currency]],tblXrate[],2,FALSE)","v":57600},"Senior Electrical Engineer","Engineer","Saudi Arabia",{"$f":"VLOOKUP(tblSalaries[[#This Row],[Where do you work]],tblCountries[[Actual]:[Mapping]],2,FALSE)","v":"Saudi Arabia"},"4 to 6 hours a day",20,{"$f":"VLOOKUP(K1387,tblCountries[],3,0)","v":"Asia"},{"$f":"VLOOKUP(tblSalaries[[#This Row],[How many hours of a day you work on Excel]],tblHours,2,0)","v":4},{"$f":"VLOOKUP(tblSalaries[[#This Row],[clean Country]],tblCountries[],5,0)","v":1.9964104468374799},{"$f":"IF($Q$1,tblSalaries[[#This Row],[PPP Factor]]*tblSalaries[[#This Row],[Salary in USD]],tblSalaries[[#This Row],[Salary in USD]])","v":57600}]
[null,"ID1416","2012-05-30T00:22:28",50000,50000,"USD",{"$f":"tblSalaries[[#This Row],[clean Salary (in local currency)]]*VLOOKUP(tblSalaries[[#This Row],[Currency]],tblXrate[],2,FALSE)","v":50000},"Accounting Supervisor","Accountant","USA",{"$f":"VLOOKUP(tblSalaries[[#This Row],[Where do you work]],tblCountries[[Actual]:[Mapping]],2,FALSE)","v":"USA"},"4 to 6 hours a day",15,{"$f":"VLOOKUP(K1388,tblCountries[],3,0)","v":"North Amer."},{"$f":"VLOOKUP(tblSalaries[[#This Row],[How many hours of a day you work on Excel]],tblHours,2,0)","v":4},{"$f":"VLOOKUP(tblSalaries[[#This Row],[clean Country]],tblCountries[],5,0)","v":1},{"$f":"IF($Q$1,tblSalaries[[#This Row],[PPP Factor]]*tblSalaries[[#This Row],[Salary in USD]],tblSalaries[[#This Row],[Salary in USD]])","v":50000}]
[null,"ID1417","2012-05-30T00:25:43",120000,120000,"USD",{"$f":"tblSalaries[[#This Row],[clean Salary (in local currency)]]*VLOOKUP(tblSalaries[[#This Row],[Currency]],tblXrate[],2,FALSE)","v":120000},"Finance Manager","Manager","USA",{"$f":"VLOOKUP(tblSalaries[[#This Row],[Where do you work]],tblCountries[[Actual]:[Mapping]],2,FALSE)","v":"USA"},"2 to 3 hours per day",10,{"$f":"VLOOKUP(K1389,tblCountries[],3,0)","v":"North Amer."},{"$f":"VLOOKUP(tblSalaries[[#This Row],[How many hours of a day you work on Excel]],tblHours,2,0)","v":3},{"$f":"VLOOKUP(tblSalaries[[#This Row],[clean Country]],tblCountries[],5,0)","v":1},{"$f":"IF($Q$1,tblSalaries[[#This Row],[PPP Factor]]*tblSalaries[[#This Row],[Salary in USD]],tblSalaries[[#This Row],[Salary in USD]])","v":120000}]
[null,"ID1418","2012-05-30T00:34:53",107000,107000,"USD",{"$f":"tblSalaries[[#This Row],[clean Salary (in local currency)]]*VLOOKUP(tblSalaries[[#This Row],[Currency]],tblXrate[],2,FALSE)","v":107000},"Tax Manager","Manager","USA",{"$f":"VLOOKUP(tblSalaries[[#This Row],[Where do you work]],tblCountries[[Actual]:[Mapping]],2,FALSE)","v":"USA"},"All the 8 hours baby, all the 8!",29,{"$f":"VLOOKUP(K1390,tblCountries[],3,0)","v":"North Amer."},{"$f":"VLOOKUP(tblSalaries[[#This Row],[How many hours of a day you work on Excel]],tblHours,2,0)","v":5},{"$f":"VLOOKUP(tblSalaries[[#This Row],[clean Country]],tblCountries[],5,0)","v":1},{"$f":"IF($Q$1,tblSalaries[[#This Row],[PPP Factor]]*tblSalaries[[#This Row],[Salary in USD]],tblSalaries[[#This Row],[Salary in USD]])","v":107000}]
[null,"ID1419","2012-05-30T00:42:50",40000,40000,"USD",{"$f":"tblSalaries[[#This Row],[clean Salary (in local currency)]]*VLOOKUP(tblSalaries[[#This Row],[Currency]],tblXrate[],2,FALSE)","v":40000},"Metrics Analyst","Analyst","USA",{"$f":"VLOOKUP(tblSalaries[[#This Row],[Where do you work]],tblCountries[[Actual]:[Mapping]],2,FALSE)","v":"USA"},"2 to 3 hours per day",6,{"$f":"VLOOKUP(K1391,tblCountries[],3,0)","v":"North Amer."},{"$f":"VLOOKUP(tblSalaries[[#This Row],[How many hours of a day you work on Excel]],tblHours,2,0)","v":3},{"$f":"VLOOKUP(tblSalaries[[#This Row],[clean Country]],tblCountries[],5,0)","v":1},{"$f":"IF($Q$1,tblSalaries[[#This Row],[PPP Factor]]*tblSalaries[[#This Row],[Salary in USD]],tblSalaries[[#This Row],[Salary in USD]])","v":40000}]
[null,"ID1420","2012-05-30T00:50:03",81000,81000,"USD",{"$f":"tblSalaries[[#This Row],[clean Salary (in local currency)]]*VLOOKUP(tblSalaries[[#This Row],[Currency]],tblXrate[],2,FALSE)","v":81000},"Finance & IT Manager","Manager","USA",{"$f":"VLOOKUP(tblSalaries[[#This Row],[Where do you work]],tblCountries[[Actual]:[Mapping]],2,FALSE)","v":"USA"},"1 or 2 hours a day",12,{"$f":"VLOOKUP(K1392,tblCountries[],3,0)","v":"North Amer."},{"$f":"VLOOKUP(tblSalaries[[#This Row],[How many hours of a day you work on Excel]],tblHours,2,0)","v":2},{"$f":"VLOOKUP(tblSalaries[[#This Row],[clean Country]],tblCountries[],5,0)","v":1},{"$f":"IF($Q$1,tblSalaries[[#This Row],[PPP Factor]]*tblSalaries[[#This Row],[Salary in USD]],tblSalaries[[#This Row],[Salary in USD]])","v":81000}]
[null,"ID1421","2012-05-30T01:05:26",45000,45000,"USD",{"$f":"tblSalaries[[#This Row],[clean Salary (in local currency)]]*VLOOKUP(tblSalaries[[#This Row],[Currency]],tblXrate[],2,FALSE)","v":45000},"Technical Support Specialist","Specialist","USA",{"$f":"VLOOKUP(tblSalaries[[#This Row],[Where do you work]],tblCountries[[Actual]:[Mapping]],2,FALSE)","v":"USA"},"4 to 6 hours a day",20,{"$f":"VLOOKUP(K1393,tblCountries[],3,0)","v":"North Amer."},{"$f":"VLOOKUP(tblSalaries[[#This Row],[How many hours of a day you work on Excel]],tblHours,2,0)","v":4},{"$f":"VLOOKUP(tblSalaries[[#This Row],[clean Country]],tblCountries[],5,0)","v":1},{"$f":"IF($Q$1,tblSalaries[[#This Row],[PPP Factor]]*tblSalaries[[#This Row],[Salary in USD]],tblSalaries[[#This Row],[Salary in USD]])","v":45000}]
[null,"ID1422","2012-05-30T01:12:04",49000,49000,"USD",{"$f":"tblSalaries[[#This Row],[clean Salary (in local currency)]]*VLOOKUP(tblSalaries[[#This Row],[Currency]],tblXrate[],2,FALSE)","v":49000},"Clinical Data Specialist","Specialist","USA",{"$f":"VLOOKUP(tblSalaries[[#This Row],[Where do you work]],tblCountries[[Actual]:[Mapping]],2,FALSE)","v":"USA"},"4 to 6 hours a day",5,{"$f":"VLOOKUP(K1394,tblCountries[],3,0)","v":"North Amer."},{"$f":"VLOOKUP(tblSalaries[[#This Row],[How many hours of a day you work on Excel]],tblHours,2,0)","v":4},{"$f":"VLOOKUP(tblSalaries[[#This Row],[clean Country]],tblCountries[],5,0)","v":1},{"$f":"IF($Q$1,tblSalaries[[#This Row],[PPP Factor]]*tblSalaries[[#This Row],[Salary in USD]],tblSalaries[[#This Row],[Salary in USD]])","v":49000}]
[null,"ID1423","2012-05-30T01:12:35","INR 750000",750000,"INR",{"$f":"tblSalaries[[#This Row],[clean Salary (in local currency)]]*VLOOKUP(tblSalaries[[#This Row],[Currency]],tblXrate[],2,FALSE)","v":13355.937515581925},"Associate - Indirect Tax","CXO or Top Mgmt.","India",{"$f":"VLOOKUP(tblSalaries[[#This Row],[Where do you work]],tblCountries[[Actual]:[Mapping]],2,FALSE)","v":"India"},"1 or 2 hours a day",1,{"$f":"VLOOKUP(K1395,tblCountries[],3,0)","v":"Asia"},{"$f":"VLOOKUP(tblSalaries[[#This Row],[How many hours of a day you work on Excel]],tblHours,2,0)","v":2},{"$f":"VLOOKUP(tblSalaries[[#This Row],[clean Country]],tblCountries[],5,0)","v":13.098808879263672},{"$f":"IF($Q$1,tblSalaries[[#This Row],[PPP Factor]]*tblSalaries[[#This Row],[Salary in USD]],tblSalaries[[#This Row],[Salary in USD]])","v":13355.937515581925}]
[null,"ID1424","2012-05-30T01:15:32",72000,72000,"USD",{"$f":"tblSalaries[[#This Row],[clean Salary (in local currency)]]*VLOOKUP(tblSalaries[[#This Row],[Currency]],tblXrate[],2,FALSE)","v":72000},"Manager","Manager","USA",{"$f":"VLOOKUP(tblSalaries[[#This Row],[Where do you work]],tblCountries[[Actual]:[Mapping]],2,FALSE)","v":"USA"},"1 or 2 hours a day",20,{"$f":"VLOOKUP(K1396,tblCountries[],3,0)","v":"North Amer."},{"$f":"VLOOKUP(tblSalaries[[#This Row],[How many hours of a day you work on Excel]],tblHours,2,0)","v":2},{"$f":"VLOOKUP(tblSalaries[[#This Row],[clean Country]],tblCountries[],5,0)","v":1},{"$f":"IF($Q$1,tblSalaries[[#This Row],[PPP Factor]]*tblSalaries[[#This Row],[Salary in USD]],tblSalaries[[#This Row],[Salary in USD]])","v":72000}]
[null,"ID1425","2012-05-30T01:25:17",50000,50000,"USD",{"$f":"tblSalaries[[#This Row],[clean Salary (in local currency)]]*VLOOKUP(tblSalaries[[#This Row],[Currency]],tblXrate[],2,FALSE)","v":50000},"Digital Analyst","Analyst","USA",{"$f":"VLOOKUP(tblSalaries[[#This Row],[Where do you work]],tblCountries[[Actual]:[Mapping]],2,FALSE)","v":"USA"},"4 to 6 hours a day",7,{"$f":"VLOOKUP(K1397,tblCountries[],3,0)","v":"North Amer."},{"$f":"VLOOKUP(tblSalaries[[#This Row],[How many hours of a day you work on Excel]],tblHours,2,0)","v":4},{"$f":"VLOOKUP(tblSalaries[[#This Row],[clean Country]],tblCountries[],5,0)","v":1},{"$f":"IF($Q$1,tblSalaries[[#This Row],[PPP Factor]]*tblSalaries[[#This Row],[Salary in USD]],tblSalaries[[#This Row],[Salary in USD]])","v":50000}]
[null,"ID1426","2012-05-30T01:25:26",57678.400000000001,57678,"USD",{"$f":"tblSalaries[[#This Row],[clean Salary (in local currency)]]*VLOOKUP(tblSalaries[[#This Row],[Currency]],tblXrate[],2,FALSE)","v":57678},"Financial Analyst","Analyst","USA",{"$f":"VLOOKUP(tblSalaries[[#This Row],[Where do you work]],tblCountries[[Actual]:[Mapping]],2,FALSE)","v":"USA"},"4 to 6 hours a day",2,{"$f":"VLOOKUP(K1398,tblCountries[],3,0)","v":"North Amer."},{"$f":"VLOOKUP(tblSalaries[[#This Row],[How many hours of a day you work on Excel]],tblHours,2,0)","v":4},{"$f":"VLOOKUP(tblSalaries[[#This Row],[clean Country]],tblCountries[],5,0)","v":1},{"$f":"IF($Q$1,tblSalaries[[#This Row],[PPP Factor]]*tblSalaries[[#This Row],[Salary in USD]],tblSalaries[[#This Row],[Salary in USD]])","v":57678}]
[null,"ID1427","2012-05-30T01:29:51",80442,80442,"USD",{"$f":"tblSalaries[[#This Row],[clean Salary (in local currency)]]*VLOOKUP(tblSalaries[[#This Row],[Currency]],tblXrate[],2,FALSE)","v":80442},"Senior Budget Analyst","Analyst","USA",{"$f":"VLOOKUP(tblSalaries[[#This Row],[Where do you work]],tblCountries[[Actual]:[Mapping]],2,FALSE)","v":"USA"},"4 to 6 hours a day",16,{"$f":"VLOOKUP(K1399,tblCountries[],3,0)","v":"North Amer."},{"$f":"VLOOKUP(tblSalaries[[#This Row],[How many hours of a day you work on Excel]],tblHours,2,0)","v":4},{"$f":"VLOOKUP(tblSalaries[[#This Row],[clean Country]],tblCountries[],5,0)","v":1},{"$f":"IF($Q$1,tblSalaries[[#This Row],[PPP Factor]]*tblSalaries[[#This Row],[Salary in USD]],tblSalaries[[#This Row],[Salary in USD]])","v":80442}]
[null,"ID1428","2012-05-30T01:48:18",75000,75000,"USD",{"$f":"tblSalaries[[#This Row],[clean Salary (in local currency)]]*VLOOKUP(tblSalaries[[#This Row],[Currency]],tblXrate[],2,FALSE)","v":75000},"HR Cordinator","Manager","USA",{"$f":"VLOOKUP(tblSalaries[[#This Row],[Where do you work]],tblCountries[[Actual]:[Mapping]],2,FALSE)","v":"USA"},"1 or 2 hours a day",9,{"$f":"VLOOKUP(K1400,tblCountries[],3,0)","v":"North Amer."},{"$f":"VLOOKUP(tblSalaries[[#This Row],[How many hours of a day you work on Excel]],tblHours,2,0)","v":2},{"$f":"VLOOKUP(tblSalaries[[#This Row],[clean Country]],tblCountries[],5,0)","v":1},{"$f":"IF($Q$1,tblSalaries[[#This Row],[PPP Factor]]*tblSalaries[[#This Row],[Salary in USD]],tblSalaries[[#This Row],[Salary in USD]])","v":75000}]
[null,"ID1429","2012-05-30T01:52:33",61000,61000,"USD",{"$f":"tblSalaries[[#This Row],[clean Salary (in local currency)]]*VLOOKUP(tblSalaries[[#This Row],[Currency]],tblXrate[],2,FALSE)","v":61000},"Treasury Analyst","Analyst","USA",{"$f":"VLOOKUP(tblSalaries[[#This Row],[Where do you work]],tblCountries[[Actual]:[Mapping]],2,FALSE)","v":"USA"},"4 to 6 hours a day",12,{"$f":"VLOOKUP(K1401,tblCountries[],3,0)","v":"North Amer."},{"$f":"VLOOKUP(tblSalaries[[#This Row],[How many hours of a day you work on Excel]],tblHours,2,0)","v":4},{"$f":"VLOOKUP(tblSalaries[[#This Row],[clean Country]],tblCountries[],5,0)","v":1},{"$f":"IF($Q$1,tblSalaries[[#This Row],[PPP Factor]]*tblSalaries[[#This Row],[Salary in USD]],tblSalaries[[#This Row],[Salary in USD]])","v":61000}]
[null,"ID1430","2012-05-30T01:57:58",77000,77000,"USD",{"$f":"tblSalaries[[#This Row],[clean Salary (in local currency)]]*VLOOKUP(tblSalaries[[#This Row],[Currency]],tblXrate[],2,FALSE)","v":77000},"Assistant Engineer","Engineer","USA",{"$f":"VLOOKUP(tblSalaries[[#This Row],[Where do you work]],tblCountries[[Actual]:[Mapping]],2,FALSE)","v":"USA"},"4 to 6 hours a day",10,{"$f":"VLOOKUP(K1402,tblCountries[],3,0)","v":"North Amer."},{"$f":"VLOOKUP(tblSalaries[[#This Row],[How many hours of a day you work on Excel]],tblHours,2,0)","v":4},{"$f":"VLOOKUP(tblSalaries[[#This Row],[clean Country]],tblCountries[],5,0)","v":1},{"$f":"IF($Q$1,tblSalaries[[#This Row],[PPP Factor]]*tblSalaries[[#This Row],[Salary in USD]],tblSalaries[[#This Row],[Salary in USD]])","v":77000}]
[null,"ID1431","2012-05-30T02:18:02","92000 USD",92000,"USD",{"$f":"tblSalaries[[#This Row],[clean Salary (in local currency)]]*VLOOKUP(tblSalaries[[#This Row],[Currency]],tblXrate[],2,FALSE)","v":92000},"Controller","Controller","USA",{"$f":"VLOOKUP(tblSalaries[[#This Row],[Where do you work]],tblCountries[[Actual]:[Mapping]],2,FALSE)","v":"USA"},"2 to 3 hours per day",9,{"$f":"VLOOKUP(K1403,tblCountries[],3,0)","v":"North Amer."},{"$f":"VLOOKUP(tblSalaries[[#This Row],[How many hours of a day you work on Excel]],tblHours,2,0)","v":3},{"$f":"VLOOKUP(tblSalaries[[#This Row],[clean Country]],tblCountries[],5,0)","v":1},{"$f":"IF($Q$1,tblSalaries[[#This Row],[PPP Factor]]*tblSalaries[[#This Row],[Salary in USD]],tblSalaries[[#This Row],[Salary in USD]])","v":92000}]
[null,"ID1432","2012-05-30T02:18:30",72000,72000,"USD",{"$f":"tblSalaries[[#This Row],[clean Salary (in local currency)]]*VLOOKUP(tblSalaries[[#This Row],[Currency]],tblXrate[],2,FALSE)","v":72000},"sr. senior analyst","Analyst","USA",{"$f":"VLOOKUP(tblSalaries[[#This Row],[Where do you work]],tblCountries[[Actual]:[Mapping]],2,FALSE)","v":"USA"},"All the 8 hours baby, all the 8!",10,{"$f":"VLOOKUP(K1404,tblCountries[],3,0)","v":"North Amer."},{"$f":"VLOOKUP(tblSalaries[[#This Row],[How many hours of a day you work on Excel]],tblHours,2,0)","v":5},{"$f":"VLOOKUP(tblSalaries[[#This Row],[clean Country]],tblCountries[],5,0)","v":1},{"$f":"IF($Q$1,tblSalaries[[#This Row],[PPP Factor]]*tblSalaries[[#This Row],[Salary in USD]],tblSalaries[[#This Row],[Salary in USD]])","v":72000}]
[null,"ID1433","2012-05-30T02:22:39",14000,14000,"USD",{"$f":"tblSalaries[[#This Row],[clean Salary (in local currency)]]*VLOOKUP(tblSalaries[[#This Row],[Currency]],tblXrate[],2,FALSE)","v":14000},"Consultant","Consultant","India",{"$f":"VLOOKUP(tblSalaries[[#This Row],[Where do you work]],tblCountries[[Actual]:[Mapping]],2,FALSE)","v":"India"},"4 to 6 hours a day",3,{"$f":"VLOOKUP(K1405,tblCountries[],3,0)","v":"Asia"},{"$f":"VLOOKUP(tblSalaries[[#This Row],[How many hours of a day you work on Excel]],tblHours,2,0)","v":4},{"$f":"VLOOKUP(tblSalaries[[#This Row],[clean Country]],tblCountries[],5,0)","v":13.098808879263672},{"$f":"IF($Q$1,tblSalaries[[#This Row],[PPP Factor]]*tblSalaries[[#This Row],[Salary in USD]],tblSalaries[[#This Row],[Salary in USD]])","v":14000}]
[null,"ID1434","2012-05-30T02:22:59",111000,111000,"USD",{"$f":"tblSalaries[[#This Row],[clean Salary (in local currency)]]*VLOOKUP(tblSalaries[[#This Row],[Currency]],tblXrate[],2,FALSE)","v":111000},"Project Manager - Finance","Manager","USA",{"$f":"VLOOKUP(tblSalaries[[#This Row],[Where do you work]],tblCountries[[Actual]:[Mapping]],2,FALSE)","v":"USA"},"2 to 3 hours per day",10,{"$f":"VLOOKUP(K1406,tblCountries[],3,0)","v":"North Amer."},{"$f":"VLOOKUP(tblSalaries[[#This Row],[How many hours of a day you work on Excel]],tblHours,2,0)","v":3},{"$f":"VLOOKUP(tblSalaries[[#This Row],[clean Country]],tblCountries[],5,0)","v":1},{"$f":"IF($Q$1,tblSalaries[[#This Row],[PPP Factor]]*tblSalaries[[#This Row],[Salary in USD]],tblSalaries[[#This Row],[Salary in USD]])","v":111000}]
[null,"ID1435","2012-05-30T02:32:17",80000,80000,"USD",{"$f":"tblSalaries[[#This Row],[clean Salary (in local currency)]]*VLOOKUP(tblSalaries[[#This Row],[Currency]],tblXrate[],2,FALSE)","v":80000},"Senior analyst, ops support","Analyst","USA",{"$f":"VLOOKUP(tblSalaries[[#This Row],[Where do you work]],tblCountries[[Actual]:[Mapping]],2,FALSE)","v":"USA"},"4 to 6 hours a day",20,{"$f":"VLOOKUP(K1407,tblCountries[],3,0)","v":"North Amer."},{"$f":"VLOOKUP(tblSalaries[[#This Row],[How many hours of a day you work on Excel]],tblHours,2,0)","v":4},{"$f":"VLOOKUP(tblSalaries[[#This Row],[clean Country]],tblCountries[],5,0)","v":1},{"$f":"IF($Q$1,tblSalaries[[#This Row],[PPP Factor]]*tblSalaries[[#This Row],[Salary in USD]],tblSalaries[[#This Row],[Salary in USD]])","v":80000}]
[null,"ID1436","2012-05-30T02:35:40","Rs 3.25 Lacs",3250000,"INR",{"$f":"tblSalaries[[#This Row],[clean Salary (in local currency)]]*VLOOKUP(tblSalaries[[#This Row],[Currency]],tblXrate[],2,FALSE)","v":57875.729234188344},"ISO TS Documentation","Analyst","India",{"$f":"VLOOKUP(tblSalaries[[#This Row],[Where do you work]],tblCountries[[Actual]:[Mapping]],2,FALSE)","v":"India"},"4 to 6 hours a day",5.5,{"$f":"VLOOKUP(K1408,tblCountries[],3,0)","v":"Asia"},{"$f":"VLOOKUP(tblSalaries[[#This Row],[How many hours of a day you work on Excel]],tblHours,2,0)","v":4},{"$f":"VLOOKUP(tblSalaries[[#This Row],[clean Country]],tblCountries[],5,0)","v":13.098808879263672},{"$f":"IF($Q$1,tblSalaries[[#This Row],[PPP Factor]]*tblSalaries[[#This Row],[Salary in USD]],tblSalaries[[#This Row],[Salary in USD]])","v":57875.729234188344}]
[null,"ID1437","2012-05-30T02:39:50",25000,25000,"USD",{"$f":"tblSalaries[[#This Row],[clean Salary (in local currency)]]*VLOOKUP(tblSalaries[[#This Row],[Currency]],tblXrate[],2,FALSE)","v":25000},"Accountant","Accountant","India",{"$f":"VLOOKUP(tblSalaries[[#This Row],[Where do you work]],tblCountries[[Actual]:[Mapping]],2,FALSE)","v":"India"},"2 to 3 hours per day",8,{"$f":"VLOOKUP(K1409,tblCountries[],3,0)","v":"Asia"},{"$f":"VLOOKUP(tblSalaries[[#This Row],[How many hours of a day you work on Excel]],tblHours,2,0)","v":3},{"$f":"VLOOKUP(tblSalaries[[#This Row],[clean Country]],tblCountries[],5,0)","v":13.098808879263672},{"$f":"IF($Q$1,tblSalaries[[#This Row],[PPP Factor]]*tblSalaries[[#This Row],[Salary in USD]],tblSalaries[[#This Row],[Salary in USD]])","v":25000}]
[null,"ID1438","2012-05-30T03:20:17","24000 USD",24000,"USD",{"$f":"tblSalaries[[#This Row],[clean Salary (in local currency)]]*VLOOKUP(tblSalaries[[#This Row],[Currency]],tblXrate[],2,FALSE)","v":24000},"inventory controller","Controller","USA",{"$f":"VLOOKUP(tblSalaries[[#This Row],[Where do you work]],tblCountries[[Actual]:[Mapping]],2,FALSE)","v":"USA"},"1 or 2 hours a day",2,{"$f":"VLOOKUP(K1410,tblCountries[],3,0)","v":"North Amer."},{"$f":"VLOOKUP(tblSalaries[[#This Row],[How many hours of a day you work on Excel]],tblHours,2,0)","v":2},{"$f":"VLOOKUP(tblSalaries[[#This Row],[clean Country]],tblCountries[],5,0)","v":1},{"$f":"IF($Q$1,tblSalaries[[#This Row],[PPP Factor]]*tblSalaries[[#This Row],[Salary in USD]],tblSalaries[[#This Row],[Salary in USD]])","v":24000}]
[null,"ID1439","2012-05-30T04:13:50",61000,61000,"USD",{"$f":"tblSalaries[[#This Row],[clean Salary (in local currency)]]*VLOOKUP(tblSalaries[[#This Row],[Currency]],tblXrate[],2,FALSE)","v":61000},"Accounting manager","Manager","USA",{"$f":"VLOOKUP(tblSalaries[[#This Row],[Where do you work]],tblCountries[[Actual]:[Mapping]],2,FALSE)","v":"USA"},"2 to 3 hours per day",25,{"$f":"VLOOKUP(K1411,tblCountries[],3,0)","v":"North Amer."},{"$f":"VLOOKUP(tblSalaries[[#This Row],[How many hours of a day you work on Excel]],tblHours,2,0)","v":3},{"$f":"VLOOKUP(tblSalaries[[#This Row],[clean Country]],tblCountries[],5,0)","v":1},{"$f":"IF($Q$1,tblSalaries[[#This Row],[PPP Factor]]*tblSalaries[[#This Row],[Salary in USD]],tblSalaries[[#This Row],[Salary in USD]])","v":61000}]
[null,"ID1440","2012-05-30T08:05:16","AUD55,000",55000,"AUD",{"$f":"tblSalaries[[#This Row],[clean Salary (in local currency)]]*VLOOKUP(tblSalaries[[#This Row],[Currency]],tblXrate[],2,FALSE)","v":56095.031102144967},"PA","Analyst","Australia",{"$f":"VLOOKUP(tblSalaries[[#This Row],[Where do you work]],tblCountries[[Actual]:[Mapping]],2,FALSE)","v":"Australia"},"2 to 3 hours per day",11,{"$f":"VLOOKUP(K1412,tblCountries[],3,0)","v":"Oceania"},{"$f":"VLOOKUP(tblSalaries[[#This Row],[How many hours of a day you work on Excel]],tblHours,2,0)","v":3},{"$f":"VLOOKUP(tblSalaries[[#This Row],[clean Country]],tblCountries[],5,0)","v":1.2026395585822935},{"$f":"IF($Q$1,tblSalaries[[#This Row],[PPP Factor]]*tblSalaries[[#This Row],[Salary in USD]],tblSalaries[[#This Row],[Salary in USD]])","v":56095.031102144967}]
[null,"ID1442","2012-05-30T09:42:01",70000,70000,"AUD",{"$f":"tblSalaries[[#This Row],[clean Salary (in local currency)]]*VLOOKUP(tblSalaries[[#This Row],[Currency]],tblXrate[],2,FALSE)","v":71393.675948184507},"Assistant Accountant","Accountant","Australia",{"$f":"VLOOKUP(tblSalaries[[#This Row],[Where do you work]],tblCountries[[Actual]:[Mapping]],2,FALSE)","v":"Australia"},"2 to 3 hours per day",5,{"$f":"VLOOKUP(K1413,tblCountries[],3,0)","v":"Oceania"},{"$f":"VLOOKUP(tblSalaries[[#This Row],[How many hours of a day you work on Excel]],tblHours,2,0)","v":3},{"$f":"VLOOKUP(tblSalaries[[#This Row],[clean Country]],tblCountries[],5,0)","v":1.2026395585822935},{"$f":"IF($Q$1,tblSalaries[[#This Row],[PPP Factor]]*tblSalaries[[#This Row],[Salary in USD]],tblSalaries[[#This Row],[Salary in USD]])","v":71393.675948184507}]
[null,"ID1443","2012-05-30T10:11:19",96230,96230,"USD",{"$f":"tblSalaries[[#This Row],[clean Salary (in local currency)]]*VLOOKUP(tblSalaries[[#This Row],[Currency]],tblXrate[],2,FALSE)","v":96230},"Manager, Data Management","Manager","USA",{"$f":"VLOOKUP(tblSalaries[[#This Row],[Where do you work]],tblCountries[[Actual]:[Mapping]],2,FALSE)","v":"USA"},"4 to 6 hours a day",18,{"$f":"VLOOKUP(K1414,tblCountries[],3,0)","v":"North Amer."},{"$f":"VLOOKUP(tblSalaries[[#This Row],[How many hours of a day you work on Excel]],tblHours,2,0)","v":4},{"$f":"VLOOKUP(tblSalaries[[#This Row],[clean Country]],tblCountries[],5,0)","v":1},{"$f":"IF($Q$1,tblSalaries[[#This Row],[PPP Factor]]*tblSalaries[[#This Row],[Salary in USD]],tblSalaries[[#This Row],[Salary in USD]])","v":96230}]
[null,"ID1444","2012-05-30T10:40:24",75000,75000,"USD",{"$f":"tblSalaries[[#This Row],[clean Salary (in local currency)]]*VLOOKUP(tblSalaries[[#This Row],[Currency]],tblXrate[],2,FALSE)","v":75000},"Business Analyst","Analyst","USA",{"$f":"VLOOKUP(tblSalaries[[#This Row],[Where do you work]],tblCountries[[Actual]:[Mapping]],2,FALSE)","v":"USA"},"2 to 3 hours per day",1.5,{"$f":"VLOOKUP(K1415,tblCountries[],3,0)","v":"North Amer."},{"$f":"VLOOKUP(tblSalaries[[#This Row],[How many hours of a day you work on Excel]],tblHours,2,0)","v":3},{"$f":"VLOOKUP(tblSalaries[[#This Row],[clean Country]],tblCountries[],5,0)","v":1},{"$f":"IF($Q$1,tblSalaries[[#This Row],[PPP Factor]]*tblSalaries[[#This Row],[Salary in USD]],tblSalaries[[#This Row],[Salary in USD]])","v":75000}]
[null,"ID1445","2012-05-30T10:57:38",8500,102000,"USD",{"$f":"tblSalaries[[#This Row],[clean Salary (in local currency)]]*VLOOKUP(tblSalaries[[#This Row],[Currency]],tblXrate[],2,FALSE)","v":102000},"Sales Analyst","Analyst","USA",{"$f":"VLOOKUP(tblSalaries[[#This Row],[Where do you work]],tblCountries[[Actual]:[Mapping]],2,FALSE)","v":"USA"},"4 to 6 hours a day",5,{"$f":"VLOOKUP(K1416,tblCountries[],3,0)","v":"North Amer."},{"$f":"VLOOKUP(tblSalaries[[#This Row],[How many hours of a day you work on Excel]],tblHours,2,0)","v":4},{"$f":"VLOOKUP(tblSalaries[[#This Row],[clean Country]],tblCountries[],5,0)","v":1},{"$f":"IF($Q$1,tblSalaries[[#This Row],[PPP Factor]]*tblSalaries[[#This Row],[Salary in USD]],tblSalaries[[#This Row],[Salary in USD]])","v":102000}]
[null,"ID1446","2012-05-30T11:20:33","MYR60000",60000,"MYR",{"$f":"tblSalaries[[#This Row],[clean Salary (in local currency)]]*VLOOKUP(tblSalaries[[#This Row],[Currency]],tblXrate[],2,FALSE)","v":19008.034062397041},"Liquidity Management Executive","Manager","Malaysia",{"$f":"VLOOKUP(tblSalaries[[#This Row],[Where do you work]],tblCountries[[Actual]:[Mapping]],2,FALSE)","v":"Malaysia"},"4 to 6 hours a day",3,{"$f":"VLOOKUP(K1417,tblCountries[],3,0)","v":"Asia"},{"$f":"VLOOKUP(tblSalaries[[#This Row],[How many hours of a day you work on Excel]],tblHours,2,0)","v":4},{"$f":"VLOOKUP(tblSalaries[[#This Row],[clean Country]],tblCountries[],5,0)","v":3.1081063720452211},{"$f":"IF($Q$1,tblSalaries[[#This Row],[PPP Factor]]*tblSalaries[[#This Row],[Salary in USD]],tblSalaries[[#This Row],[Salary in USD]])","v":19008.034062397041}]
[null,"ID1447","2012-05-30T11:38:53",363,4356,"USD",{"$f":"tblSalaries[[#This Row],[clean Salary (in local currency)]]*VLOOKUP(tblSalaries[[#This Row],[Currency]],tblXrate[],2,FALSE)","v":4356},"Business Analyst","Analyst","India",{"$f":"VLOOKUP(tblSalaries[[#This Row],[Where do you work]],tblCountries[[Actual]:[Mapping]],2,FALSE)","v":"India"},"4 to 6 hours a day",5,{"$f":"VLOOKUP(K1418,tblCountries[],3,0)","v":"Asia"},{"$f":"VLOOKUP(tblSalaries[[#This Row],[How many hours of a day you work on Excel]],tblHours,2,0)","v":4},{"$f":"VLOOKUP(tblSalaries[[#This Row],[clean Country]],tblCountries[],5,0)","v":13.098808879263672},{"$f":"IF($Q$1,tblSalaries[[#This Row],[PPP Factor]]*tblSalaries[[#This Row],[Salary in USD]],tblSalaries[[#This Row],[Salary in USD]])","v":4356}]
[null,"ID1448","2012-05-30T11:43:50",300000,300000,"INR",{"$f":"tblSalaries[[#This Row],[clean Salary (in local currency)]]*VLOOKUP(tblSalaries[[#This Row],[Currency]],tblXrate[],2,FALSE)","v":5342.3750062327708},"accountant","Accountant","India",{"$f":"VLOOKUP(tblSalaries[[#This Row],[Where do you work]],tblCountries[[Actual]:[Mapping]],2,FALSE)","v":"India"},"4 to 6 hours a day",4,{"$f":"VLOOKUP(K1419,tblCountries[],3,0)","v":"Asia"},{"$f":"VLOOKUP(tblSalaries[[#This Row],[How many hours of a day you work on Excel]],tblHours,2,0)","v":4},{"$f":"VLOOKUP(tblSalaries[[#This Row],[clean Country]],tblCountries[],5,0)","v":13.098808879263672},{"$f":"IF($Q$1,tblSalaries[[#This Row],[PPP Factor]]*tblSalaries[[#This Row],[Salary in USD]],tblSalaries[[#This Row],[Salary in USD]])","v":5342.3750062327708}]
[null,"ID1449","2012-05-30T12:12:38",67000,67000,"USD",{"$f":"tblSalaries[[#This Row],[clean Salary (in local currency)]]*VLOOKUP(tblSalaries[[#This Row],[Currency]],tblXrate[],2,FALSE)","v":67000},"accounting systems manager ","Manager","USA",{"$f":"VLOOKUP(tblSalaries[[#This Row],[Where do you work]],tblCountries[[Actual]:[Mapping]],2,FALSE)","v":"USA"},"2 to 3 hours per day",20,{"$f":"VLOOKUP(K1420,tblCountries[],3,0)","v":"North Amer."},{"$f":"VLOOKUP(tblSalaries[[#This Row],[How many hours of a day you work on Excel]],tblHours,2,0)","v":3},{"$f":"VLOOKUP(tblSalaries[[#This Row],[clean Country]],tblCountries[],5,0)","v":1},{"$f":"IF($Q$1,tblSalaries[[#This Row],[PPP Factor]]*tblSalaries[[#This Row],[Salary in USD]],tblSalaries[[#This Row],[Salary in USD]])","v":67000}]
[null,"ID1450","2012-05-30T12:25:23",480000,480000,"INR",{"$f":"tblSalaries[[#This Row],[clean Salary (in local currency)]]*VLOOKUP(tblSalaries[[#This Row],[Currency]],tblXrate[],2,FALSE)","v":8547.8000099724322},"Performance Analyst","Analyst","India",{"$f":"VLOOKUP(tblSalaries[[#This Row],[Where do you work]],tblCountries[[Actual]:[Mapping]],2,FALSE)","v":"India"},"4 to 6 hours a day",7,{"$f":"VLOOKUP(K1421,tblCountries[],3,0)","v":"Asia"},{"$f":"VLOOKUP(tblSalaries[[#This Row],[How many hours of a day you work on Excel]],tblHours,2,0)","v":4},{"$f":"VLOOKUP(tblSalaries[[#This Row],[clean Country]],tblCountries[],5,0)","v":13.098808879263672},{"$f":"IF($Q$1,tblSalaries[[#This Row],[PPP Factor]]*tblSalaries[[#This Row],[Salary in USD]],tblSalaries[[#This Row],[Salary in USD]])","v":8547.8000099724322}]
[null,"ID1451","2012-05-30T12:35:08","Rs. 900000 per annum",900000,"INR",{"$f":"tblSalaries[[#This Row],[clean Salary (in local currency)]]*VLOOKUP(tblSalaries[[#This Row],[Currency]],tblXrate[],2,FALSE)","v":16027.125018698311},"Data Analyst","Analyst","India",{"$f":"VLOOKUP(tblSalaries[[#This Row],[Where do you work]],tblCountries[[Actual]:[Mapping]],2,FALSE)","v":"India"},"4 to 6 hours a day",4,{"$f":"VLOOKUP(K1422,tblCountries[],3,0)","v":"Asia"},{"$f":"VLOOKUP(tblSalaries[[#This Row],[How many hours of a day you work on Excel]],tblHours,2,0)","v":4},{"$f":"VLOOKUP(tblSalaries[[#This Row],[clean Country]],tblCountries[],5,0)","v":13.098808879263672},{"$f":"IF($Q$1,tblSalaries[[#This Row],[PPP Factor]]*tblSalaries[[#This Row],[Salary in USD]],tblSalaries[[#This Row],[Salary in USD]])","v":16027.125018698311}]
[null,"ID1452","2012-05-30T12:56:38","Rs  6 lakhs/annum",600000,"INR",{"$f":"tblSalaries[[#This Row],[clean Salary (in local currency)]]*VLOOKUP(tblSalaries[[#This Row],[Currency]],tblXrate[],2,FALSE)","v":10684.750012465542},"consultant","Consultant","India",{"$f":"VLOOKUP(tblSalaries[[#This Row],[Where do you work]],tblCountries[[Actual]:[Mapping]],2,FALSE)","v":"India"},"2 to 3 hours per day",36,{"$f":"VLOOKUP(K1423,tblCountries[],3,0)","v":"Asia"},{"$f":"VLOOKUP(tblSalaries[[#This Row],[How many hours of a day you work on Excel]],tblHours,2,0)","v":3},{"$f":"VLOOKUP(tblSalaries[[#This Row],[clean Country]],tblCountries[],5,0)","v":13.098808879263672},{"$f":"IF($Q$1,tblSalaries[[#This Row],[PPP Factor]]*tblSalaries[[#This Row],[Salary in USD]],tblSalaries[[#This Row],[Salary in USD]])","v":10684.750012465542}]
[null,"ID1453","2012-05-30T13:06:12",30000,30000,"USD",{"$f":"tblSalaries[[#This Row],[clean Salary (in local currency)]]*VLOOKUP(tblSalaries[[#This Row],[Currency]],tblXrate[],2,FALSE)","v":30000},"Accounting Specialist","Accountant","UAE",{"$f":"VLOOKUP(tblSalaries[[#This Row],[Where do you work]],tblCountries[[Actual]:[Mapping]],2,FALSE)","v":"UAE"},"4 to 6 hours a day",8,{"$f":"VLOOKUP(K1424,tblCountries[],3,0)","v":"Asia"},{"$f":"VLOOKUP(tblSalaries[[#This Row],[How many hours of a day you work on Excel]],tblHours,2,0)","v":4},{"$f":"VLOOKUP(tblSalaries[[#This Row],[clean Country]],tblCountries[],5,0)","v":1.0047551808629926},{"$f":"IF($Q$1,tblSalaries[[#This Row],[PPP Factor]]*tblSalaries[[#This Row],[Salary in USD]],tblSalaries[[#This Row],[Salary in USD]])","v":30000}]
[null,"ID1454","2012-05-30T13:21:06",500000,500000,"INR",{"$f":"tblSalaries[[#This Row],[clean Salary (in local currency)]]*VLOOKUP(tblSalaries[[#This Row],[Currency]],tblXrate[],2,FALSE)","v":8903.9583437212841},"Project Management","Manager","India",{"$f":"VLOOKUP(tblSalaries[[#This Row],[Where do you work]],tblCountries[[Actual]:[Mapping]],2,FALSE)","v":"India"},"2 to 3 hours per day",0,{"$f":"VLOOKUP(K1425,tblCountries[],3,0)","v":"Asia"},{"$f":"VLOOKUP(tblSalaries[[#This Row],[How many hours of a day you work on Excel]],tblHours,2,0)","v":3},{"$f":"VLOOKUP(tblSalaries[[#This Row],[clean Country]],tblCountries[],5,0)","v":13.098808879263672},{"$f":"IF($Q$1,tblSalaries[[#This Row],[PPP Factor]]*tblSalaries[[#This Row],[Salary in USD]],tblSalaries[[#This Row],[Salary in USD]])","v":8903.9583437212841}]
[null,"ID1455","2012-05-30T13:25:12",20000,20000,"USD",{"$f":"tblSalaries[[#This Row],[clean Salary (in local currency)]]*VLOOKUP(tblSalaries[[#This Row],[Currency]],tblXrate[],2,FALSE)","v":20000},"manager","Manager","India",{"$f":"VLOOKUP(tblSalaries[[#This Row],[Where do you work]],tblCountries[[Actual]:[Mapping]],2,FALSE)","v":"India"},"Excel ?!? What Excel?",10,{"$f":"VLOOKUP(K1426,tblCountries[],3,0)","v":"Asia"},{"$f":"VLOOKUP(tblSalaries[[#This Row],[How many hours of a day you work on Excel]],tblHours,2,0)","v":1},{"$f":"VLOOKUP(tblSalaries[[#This Row],[clean Country]],tblCountries[],5,0)","v":13.098808879263672},{"$f":"IF($Q$1,tblSalaries[[#This Row],[PPP Factor]]*tblSalaries[[#This Row],[Salary in USD]],tblSalaries[[#This Row],[Salary in USD]])","v":20000}]
[null,"ID1456","2012-05-30T13:31:35",86000,86000,"AUD",{"$f":"tblSalaries[[#This Row],[clean Salary (in local currency)]]*VLOOKUP(tblSalaries[[#This Row],[Currency]],tblXrate[],2,FALSE)","v":87712.230450626681},"data analyst","Analyst","Australia",{"$f":"VLOOKUP(tblSalaries[[#This Row],[Where do you work]],tblCountries[[Actual]:[Mapping]],2,FALSE)","v":"Australia"},"4 to 6 hours a day",10,{"$f":"VLOOKUP(K1427,tblCountries[],3,0)","v":"Oceania"},{"$f":"VLOOKUP(tblSalaries[[#This Row],[How many hours of a day you work on Excel]],tblHours,2,0)","v":4},{"$f":"VLOOKUP(tblSalaries[[#This Row],[clean Country]],tblCountries[],5,0)","v":1.2026395585822935},{"$f":"IF($Q$1,tblSalaries[[#This Row],[PPP Factor]]*tblSalaries[[#This Row],[Salary in USD]],tblSalaries[[#This Row],[Salary in USD]])","v":87712.230450626681}]
[null,"ID1457","2012-05-30T13:36:42",1000000,1000000,"INR",{"$f":"tblSalaries[[#This Row],[clean Salary (in local currency)]]*VLOOKUP(tblSalaries[[#This Row],[Currency]],tblXrate[],2,FALSE)","v":17807.916687442568},"project management","Manager","India",{"$f":"VLOOKUP(tblSalaries[[#This Row],[Where do you work]],tblCountries[[Actual]:[Mapping]],2,FALSE)","v":"India"},"All the 8 hours baby, all the 8!",6,{"$f":"VLOOKUP(K1428,tblCountries[],3,0)","v":"Asia"},{"$f":"VLOOKUP(tblSalaries[[#This Row],[How many hours of a day you work on Excel]],tblHours,2,0)","v":5},{"$f":"VLOOKUP(tblSalaries[[#This Row],[clean Country]],tblCountries[],5,0)","v":13.098808879263672},{"$f":"IF($Q$1,tblSalaries[[#This Row],[PPP Factor]]*tblSalaries[[#This Row],[Salary in USD]],tblSalaries[[#This Row],[Salary in USD]])","v":17807.916687442568}]
[null,"ID1458","2012-05-30T13:36:48",41000,41000,"USD",{"$f":"tblSalaries[[#This Row],[clean Salary (in local currency)]]*VLOOKUP(tblSalaries[[#This Row],[Currency]],tblXrate[],2,FALSE)","v":41000},"Marketing Analyst","Analyst","Japan",{"$f":"VLOOKUP(tblSalaries[[#This Row],[Where do you work]],tblCountries[[Actual]:[Mapping]],2,FALSE)","v":"Japan"},"2 to 3 hours per day",2,{"$f":"VLOOKUP(K1429,tblCountries[],3,0)","v":"Asia"},{"$f":"VLOOKUP(tblSalaries[[#This Row],[How many hours of a day you work on Excel]],tblHours,2,0)","v":3},{"$f":"VLOOKUP(tblSalaries[[#This Row],[clean Country]],tblCountries[],5,0)","v":1.392832469775475},{"$f":"IF($Q$1,tblSalaries[[#This Row],[PPP Factor]]*tblSalaries[[#This Row],[Salary in USD]],tblSalaries[[#This Row],[Salary in USD]])","v":41000}]
[null,"ID1459","2012-05-30T13:41:41",60000,60000,"USD",{"$f":"tblSalaries[[#This Row],[clean Salary (in local currency)]]*VLOOKUP(tblSalaries[[#This Row],[Currency]],tblXrate[],2,FALSE)","v":60000},"Business Intelligence Supervisor","Manager","USA",{"$f":"VLOOKUP(tblSalaries[[#This Row],[Where do you work]],tblCountries[[Actual]:[Mapping]],2,FALSE)","v":"USA"},"2 to 3 hours per day",4,{"$f":"VLOOKUP(K1430,tblCountries[],3,0)","v":"North Amer."},{"$f":"VLOOKUP(tblSalaries[[#This Row],[How many hours of a day you work on Excel]],tblHours,2,0)","v":3},{"$f":"VLOOKUP(tblSalaries[[#This Row],[clean Country]],tblCountries[],5,0)","v":1},{"$f":"IF($Q$1,tblSalaries[[#This Row],[PPP Factor]]*tblSalaries[[#This Row],[Salary in USD]],tblSalaries[[#This Row],[Salary in USD]])","v":60000}]
[null,"ID1460","2012-05-30T13:47:51","zar22000",264000,"ZAR",{"$f":"tblSalaries[[#This Row],[clean Salary (in local currency)]]*VLOOKUP(tblSalaries[[#This Row],[Currency]],tblXrate[],2,FALSE)","v":32187.34988380854},"Analyst","Analyst","SouthAfrica",{"$f":"VLOOKUP(tblSalaries[[#This Row],[Where do you work]],tblCountries[[Actual]:[Mapping]],2,FALSE)","v":"South Africa"},"All the 8 hours baby, all the 8!",2,{"$f":"VLOOKUP(K1431,tblCountries[],3,0)","v":"Africa"},{"$f":"VLOOKUP(tblSalaries[[#This Row],[How many hours of a day you work on Excel]],tblHours,2,0)","v":5},{"$f":"VLOOKUP(tblSalaries[[#This Row],[clean Country]],tblCountries[],5,0)","v":4.4096418481727877},{"$f":"IF($Q$1,tblSalaries[[#This Row],[PPP Factor]]*tblSalaries[[#This Row],[Salary in USD]],tblSalaries[[#This Row],[Salary in USD]])","v":32187.34988380854}]
[null,"ID1461","2012-05-30T13:56:27",50000,50000,"NZD",{"$f":"tblSalaries[[#This Row],[clean Salary (in local currency)]]*VLOOKUP(tblSalaries[[#This Row],[Currency]],tblXrate[],2,FALSE)","v":39879.404680246938},"stress engineer","Engineer","nld",{"$f":"VLOOKUP(tblSalaries[[#This Row],[Where do you work]],tblCountries[[Actual]:[Mapping]],2,FALSE)","v":"New Zealand"},"4 to 6 hours a day",5,{"$f":"VLOOKUP(K1432,tblCountries[],3,0)","v":"Oceania"},{"$f":"VLOOKUP(tblSalaries[[#This Row],[How many hours of a day you work on Excel]],tblHours,2,0)","v":4},{"$f":"VLOOKUP(tblSalaries[[#This Row],[clean Country]],tblCountries[],5,0)","v":1.7488434292323261},{"$f":"IF($Q$1,tblSalaries[[#This Row],[PPP Factor]]*tblSalaries[[#This Row],[Salary in USD]],tblSalaries[[#This Row],[Salary in USD]])","v":39879.404680246938}]
[null,"ID1462","2012-05-30T13:56:48","320000 INR",320000,"INR",{"$f":"tblSalaries[[#This Row],[clean Salary (in local currency)]]*VLOOKUP(tblSalaries[[#This Row],[Currency]],tblXrate[],2,FALSE)","v":5698.5333399816218},"Analyst","Analyst","India",{"$f":"VLOOKUP(tblSalaries[[#This Row],[Where do you work]],tblCountries[[Actual]:[Mapping]],2,FALSE)","v":"India"},"2 to 3 hours per day",2,{"$f":"VLOOKUP(K1433,tblCountries[],3,0)","v":"Asia"},{"$f":"VLOOKUP(tblSalaries[[#This Row],[How many hours of a day you work on Excel]],tblHours,2,0)","v":3},{"$f":"VLOOKUP(tblSalaries[[#This Row],[clean Country]],tblCountries[],5,0)","v":13.098808879263672},{"$f":"IF($Q$1,tblSalaries[[#This Row],[PPP Factor]]*tblSalaries[[#This Row],[Salary in USD]],tblSalaries[[#This Row],[Salary in USD]])","v":5698.5333399816218}]
[null,"ID1463","2012-05-30T14:09:10","4 Lakhs INR p.a",400000,"INR",{"$f":"tblSalaries[[#This Row],[clean Salary (in local currency)]]*VLOOKUP(tblSalaries[[#This Row],[Currency]],tblXrate[],2,FALSE)","v":7123.1666749770275},"Reporting Manager","Manager","India",{"$f":"VLOOKUP(tblSalaries[[#This Row],[Where do you work]],tblCountries[[Actual]:[Mapping]],2,FALSE)","v":"India"},"4 to 6 hours a day",6,{"$f":"VLOOKUP(K1434,tblCountries[],3,0)","v":"Asia"},{"$f":"VLOOKUP(tblSalaries[[#This Row],[How many hours of a day you work on Excel]],tblHours,2,0)","v":4},{"$f":"VLOOKUP(tblSalaries[[#This Row],[clean Country]],tblCountries[],5,0)","v":13.098808879263672},{"$f":"IF($Q$1,tblSalaries[[#This Row],[PPP Factor]]*tblSalaries[[#This Row],[Salary in USD]],tblSalaries[[#This Row],[Salary in USD]])","v":7123.1666749770275}]
[null,"ID1464","2012-05-30T14:19:07","Rs.2,50,000.00",250000,"INR",{"$f":"tblSalaries[[#This Row],[clean Salary (in local currency)]]*VLOOKUP(tblSalaries[[#This Row],[Currency]],tblXrate[],2,FALSE)","v":4451.9791718606421},"Manager Commercial","Manager","India",{"$f":"VLOOKUP(tblSalaries[[#This Row],[Where do you work]],tblCountries[[Actual]:[Mapping]],2,FALSE)","v":"India"},"2 to 3 hours per day",15,{"$f":"VLOOKUP(K1435,tblCountries[],3,0)","v":"Asia"},{"$f":"VLOOKUP(tblSalaries[[#This Row],[How many hours of a day you work on Excel]],tblHours,2,0)","v":3},{"$f":"VLOOKUP(tblSalaries[[#This Row],[clean Country]],tblCountries[],5,0)","v":13.098808879263672},{"$f":"IF($Q$1,tblSalaries[[#This Row],[PPP Factor]]*tblSalaries[[#This Row],[Salary in USD]],tblSalaries[[#This Row],[Salary in USD]])","v":4451.9791718606421}]
[null,"ID1465","2012-05-30T14:21:57",360000,360000,"INR",{"$f":"tblSalaries[[#This Row],[clean Salary (in local currency)]]*VLOOKUP(tblSalaries[[#This Row],[Currency]],tblXrate[],2,FALSE)","v":6410.8500074793246},"analyst","Analyst","India",{"$f":"VLOOKUP(tblSalaries[[#This Row],[Where do you work]],tblCountries[[Actual]:[Mapping]],2,FALSE)","v":"India"},"2 to 3 hours per day",6,{"$f":"VLOOKUP(K1436,tblCountries[],3,0)","v":"Asia"},{"$f":"VLOOKUP(tblSalaries[[#This Row],[How many hours of a day you work on Excel]],tblHours,2,0)","v":3},{"$f":"VLOOKUP(tblSalaries[[#This Row],[clean Country]],tblCountries[],5,0)","v":13.098808879263672},{"$f":"IF($Q$1,tblSalaries[[#This Row],[PPP Factor]]*tblSalaries[[#This Row],[Salary in USD]],tblSalaries[[#This Row],[Salary in USD]])","v":6410.8500074793246}]
[null,"ID1466","2012-05-30T14:28:57","Rs. 1150000/-",1150000,"INR",{"$f":"tblSalaries[[#This Row],[clean Salary (in local currency)]]*VLOOKUP(tblSalaries[[#This Row],[Currency]],tblXrate[],2,FALSE)","v":20479.104190558952},"Project Manager","Manager","India",{"$f":"VLOOKUP(tblSalaries[[#This Row],[Where do you work]],tblCountries[[Actual]:[Mapping]],2,FALSE)","v":"India"},"All the 8 hours baby, all the 8!",12,{"$f":"VLOOKUP(K1437,tblCountries[],3,0)","v":"Asia"},{"$f":"VLOOKUP(tblSalaries[[#This Row],[How many hours of a day you work on Excel]],tblHours,2,0)","v":5},{"$f":"VLOOKUP(tblSalaries[[#This Row],[clean Country]],tblCountries[],5,0)","v":13.098808879263672},{"$f":"IF($Q$1,tblSalaries[[#This Row],[PPP Factor]]*tblSalaries[[#This Row],[Salary in USD]],tblSalaries[[#This Row],[Salary in USD]])","v":20479.104190558952}]
[null,"ID1467","2012-05-30T14:31:33",620000,620000,"INR",{"$f":"tblSalaries[[#This Row],[clean Salary (in local currency)]]*VLOOKUP(tblSalaries[[#This Row],[Currency]],tblXrate[],2,FALSE)","v":11040.908346214392},"Catalog Auditor","Analyst","India",{"$f":"VLOOKUP(tblSalaries[[#This Row],[Where do you work]],tblCountries[[Actual]:[Mapping]],2,FALSE)","v":"India"},"1 or 2 hours a day",5,{"$f":"VLOOKUP(K1438,tblCountries[],3,0)","v":"Asia"},{"$f":"VLOOKUP(tblSalaries[[#This Row],[How many hours of a day you work on Excel]],tblHours,2,0)","v":2},{"$f":"VLOOKUP(tblSalaries[[#This Row],[clean Country]],tblCountries[],5,0)","v":13.098808879263672},{"$f":"IF($Q$1,tblSalaries[[#This Row],[PPP Factor]]*tblSalaries[[#This Row],[Salary in USD]],tblSalaries[[#This Row],[Salary in USD]])","v":11040.908346214392}]
[null,"ID1468","2012-05-30T15:59:01","Rs 10,00,000",1000000,"INR",{"$f":"tblSalaries[[#This Row],[clean Salary (in local currency)]]*VLOOKUP(tblSalaries[[#This Row],[Currency]],tblXrate[],2,FALSE)","v":17807.916687442568},"Marketing Specialist","Specialist","India",{"$f":"VLOOKUP(tblSalaries[[#This Row],[Where do you work]],tblCountries[[Actual]:[Mapping]],2,FALSE)","v":"India"},"2 to 3 hours per day",7,{"$f":"VLOOKUP(K1439,tblCountries[],3,0)","v":"Asia"},{"$f":"VLOOKUP(tblSalaries[[#This Row],[How many hours of a day you work on Excel]],tblHours,2,0)","v":3},{"$f":"VLOOKUP(tblSalaries[[#This Row],[clean Country]],tblCountries[],5,0)","v":13.098808879263672},{"$f":"IF($Q$1,tblSalaries[[#This Row],[PPP Factor]]*tblSalaries[[#This Row],[Salary in USD]],tblSalaries[[#This Row],[Salary in USD]])","v":17807.916687442568}]
[null,"ID1469","2012-05-30T16:12:34","Rs. 200000",200000,"INR",{"$f":"tblSalaries[[#This Row],[clean Salary (in local currency)]]*VLOOKUP(tblSalaries[[#This Row],[Currency]],tblXrate[],2,FALSE)","v":3561.5833374885137},"Executive","Analyst","India",{"$f":"VLOOKUP(tblSalaries[[#This Row],[Where do you work]],tblCountries[[Actual]:[Mapping]],2,FALSE)","v":"India"},"4 to 6 hours a day",11,{"$f":"VLOOKUP(K1440,tblCountries[],3,0)","v":"Asia"},{"$f":"VLOOKUP(tblSalaries[[#This Row],[How many hours of a day you work on Excel]],tblHours,2,0)","v":4},{"$f":"VLOOKUP(tblSalaries[[#This Row],[clean Country]],tblCountries[],5,0)","v":13.098808879263672},{"$f":"IF($Q$1,tblSalaries[[#This Row],[PPP Factor]]*tblSalaries[[#This Row],[Salary in USD]],tblSalaries[[#This Row],[Salary in USD]])","v":3561.5833374885137}]
[null,"ID1470","2012-05-30T16:22:19","Â£17000",17000,"GBP",{"$f":"tblSalaries[[#This Row],[clean Salary (in local currency)]]*VLOOKUP(tblSalaries[[#This Row],[Currency]],tblXrate[],2,FALSE)","v":26795.030625143831},"Verification Agent","Analyst","UK",{"$f":"VLOOKUP(tblSalaries[[#This Row],[Where do you work]],tblCountries[[Actual]:[Mapping]],2,FALSE)","v":"UK"},"2 to 3 hours per day",5,{"$f":"VLOOKUP(K1441,tblCountries[],3,0)","v":"Europe"},{"$f":"VLOOKUP(tblSalaries[[#This Row],[How many hours of a day you work on Excel]],tblHours,2,0)","v":3},{"$f":"VLOOKUP(tblSalaries[[#This Row],[clean Country]],tblCountries[],5,0)","v":1.3407315045719035},{"$f":"IF($Q$1,tblSalaries[[#This Row],[PPP Factor]]*tblSalaries[[#This Row],[Salary in USD]],tblSalaries[[#This Row],[Salary in USD]])","v":26795.030625143831}]
[null,"ID1471","2012-05-30T16:48:32",1700,20400,"USD",{"$f":"tblSalaries[[#This Row],[clean Salary (in local currency)]]*VLOOKUP(tblSalaries[[#This Row],[Currency]],tblXrate[],2,FALSE)","v":20400},"M & E Officer","Manager","Myanmar [Burma]",{"$f":"VLOOKUP(tblSalaries[[#This Row],[Where do you work]],tblCountries[[Actual]:[Mapping]],2,FALSE)","v":"Myanmar"},"1 or 2 hours a day",10,{"$f":"VLOOKUP(K1442,tblCountries[],3,0)","v":"Asia"},{"$f":"VLOOKUP(tblSalaries[[#This Row],[How many hours of a day you work on Excel]],tblHours,2,0)","v":2},{"$f":"VLOOKUP(tblSalaries[[#This Row],[clean Country]],tblCountries[],5,0)","v":1},{"$f":"IF($Q$1,tblSalaries[[#This Row],[PPP Factor]]*tblSalaries[[#This Row],[Salary in USD]],tblSalaries[[#This Row],[Salary in USD]])","v":20400}]
[null,"ID1472","2012-05-30T16:49:15","Â£25000",25000,"GBP",{"$f":"tblSalaries[[#This Row],[clean Salary (in local currency)]]*VLOOKUP(tblSalaries[[#This Row],[Currency]],tblXrate[],2,FALSE)","v":39404.456801682099},"Assistant Financial Accountant","Accountant","UK",{"$f":"VLOOKUP(tblSalaries[[#This Row],[Where do you work]],tblCountries[[Actual]:[Mapping]],2,FALSE)","v":"UK"},"4 to 6 hours a day",35,{"$f":"VLOOKUP(K1443,tblCountries[],3,0)","v":"Europe"},{"$f":"VLOOKUP(tblSalaries[[#This Row],[How many hours of a day you work on Excel]],tblHours,2,0)","v":4},{"$f":"VLOOKUP(tblSalaries[[#This Row],[clean Country]],tblCountries[],5,0)","v":1.3407315045719035},{"$f":"IF($Q$1,tblSalaries[[#This Row],[PPP Factor]]*tblSalaries[[#This Row],[Salary in USD]],tblSalaries[[#This Row],[Salary in USD]])","v":39404.456801682099}]
[null,"ID1473","2012-05-30T16:55:51",118000,118000,"EUR",{"$f":"tblSalaries[[#This Row],[clean Salary (in local currency)]]*VLOOKUP(tblSalaries[[#This Row],[Currency]],tblXrate[],2,FALSE)","v":149907.13380100971},"Support","Analyst","EU",{"$f":"VLOOKUP(tblSalaries[[#This Row],[Where do you work]],tblCountries[[Actual]:[Mapping]],2,FALSE)","v":"Europe"},"4 to 6 hours a day",7,{"$f":"VLOOKUP(K1444,tblCountries[],3,0)","v":"Europe"},{"$f":"VLOOKUP(tblSalaries[[#This Row],[How many hours of a day you work on Excel]],tblHours,2,0)","v":4},{"$f":"VLOOKUP(tblSalaries[[#This Row],[clean Country]],tblCountries[],5,0)","v":1},{"$f":"IF($Q$1,tblSalaries[[#This Row],[PPP Factor]]*tblSalaries[[#This Row],[Salary in USD]],tblSalaries[[#This Row],[Salary in USD]])","v":149907.13380100971}]
[null,"ID1474","2012-05-30T17:01:10",230000,230000,"INR",{"$f":"tblSalaries[[#This Row],[clean Salary (in local currency)]]*VLOOKUP(tblSalaries[[#This Row],[Currency]],tblXrate[],2,FALSE)","v":4095.8208381117906},"Process Assocaite","Analyst","India",{"$f":"VLOOKUP(tblSalaries[[#This Row],[Where do you work]],tblCountries[[Actual]:[Mapping]],2,FALSE)","v":"India"},"4 to 6 hours a day",1.6,{"$f":"VLOOKUP(K1445,tblCountries[],3,0)","v":"Asia"},{"$f":"VLOOKUP(tblSalaries[[#This Row],[How many hours of a day you work on Excel]],tblHours,2,0)","v":4},{"$f":"VLOOKUP(tblSalaries[[#This Row],[clean Country]],tblCountries[],5,0)","v":13.098808879263672},{"$f":"IF($Q$1,tblSalaries[[#This Row],[PPP Factor]]*tblSalaries[[#This Row],[Salary in USD]],tblSalaries[[#This Row],[Salary in USD]])","v":4095.8208381117906}]
[null,"ID1475","2012-05-30T17:04:53","$AUD 125,000 +",125000,"AUD",{"$f":"tblSalaries[[#This Row],[clean Salary (in local currency)]]*VLOOKUP(tblSalaries[[#This Row],[Currency]],tblXrate[],2,FALSE)","v":127488.70705032947},"Financial Application Developer","Accountant","Australia",{"$f":"VLOOKUP(tblSalaries[[#This Row],[Where do you work]],tblCountries[[Actual]:[Mapping]],2,FALSE)","v":"Australia"},"4 to 6 hours a day",7,{"$f":"VLOOKUP(K1446,tblCountries[],3,0)","v":"Oceania"},{"$f":"VLOOKUP(tblSalaries[[#This Row],[How many hours of a day you work on Excel]],tblHours,2,0)","v":4},{"$f":"VLOOKUP(tblSalaries[[#This Row],[clean Country]],tblCountries[],5,0)","v":1.2026395585822935},{"$f":"IF($Q$1,tblSalaries[[#This Row],[PPP Factor]]*tblSalaries[[#This Row],[Salary in USD]],tblSalaries[[#This Row],[Salary in USD]])","v":127488.70705032947}]
[null,"ID1476","2012-05-30T17:07:47","Â£37000",37000,"GBP",{"$f":"tblSalaries[[#This Row],[clean Salary (in local currency)]]*VLOOKUP(tblSalaries[[#This Row],[Currency]],tblXrate[],2,FALSE)","v":58318.59606648951},"Planning & Scheduling Manager","Manager","UK",{"$f":"VLOOKUP(tblSalaries[[#This Row],[Where do you work]],tblCountries[[Actual]:[Mapping]],2,FALSE)","v":"UK"},"All the 8 hours baby, all the 8!",20,{"$f":"VLOOKUP(K1447,tblCountries[],3,0)","v":"Europe"},{"$f":"VLOOKUP(tblSalaries[[#This Row],[How many hours of a day you work on Excel]],tblHours,2,0)","v":5},{"$f":"VLOOKUP(tblSalaries[[#This Row],[clean Country]],tblCountries[],5,0)","v":1.3407315045719035},{"$f":"IF($Q$1,tblSalaries[[#This Row],[PPP Factor]]*tblSalaries[[#This Row],[Salary in USD]],tblSalaries[[#This Row],[Salary in USD]])","v":58318.59606648951}]
[null,"ID1477","2012-05-30T17:14:27","ZAR6500",78000,"ZAR",{"$f":"tblSalaries[[#This Row],[clean Salary (in local currency)]]*VLOOKUP(tblSalaries[[#This Row],[Currency]],tblXrate[],2,FALSE)","v":9509.8988293070688},"Online Stats Controller","Controller","South Africa",{"$f":"VLOOKUP(tblSalaries[[#This Row],[Where do you work]],tblCountries[[Actual]:[Mapping]],2,FALSE)","v":"South Africa"},"4 to 6 hours a day",2,{"$f":"VLOOKUP(K1448,tblCountries[],3,0)","v":"Africa"},{"$f":"VLOOKUP(tblSalaries[[#This Row],[How many hours of a day you work on Excel]],tblHours,2,0)","v":4},{"$f":"VLOOKUP(tblSalaries[[#This Row],[clean Country]],tblCountries[],5,0)","v":4.4096418481727877},{"$f":"IF($Q$1,tblSalaries[[#This Row],[PPP Factor]]*tblSalaries[[#This Row],[Salary in USD]],tblSalaries[[#This Row],[Salary in USD]])","v":9509.8988293070688}]
[null,"ID1478","2012-05-30T17:18:38","INR 60000",720000,"INR",{"$f":"tblSalaries[[#This Row],[clean Salary (in local currency)]]*VLOOKUP(tblSalaries[[#This Row],[Currency]],tblXrate[],2,FALSE)","v":12821.700014958649},"DEO","Analyst","India",{"$f":"VLOOKUP(tblSalaries[[#This Row],[Where do you work]],tblCountries[[Actual]:[Mapping]],2,FALSE)","v":"India"},"4 to 6 hours a day",3,{"$f":"VLOOKUP(K1449,tblCountries[],3,0)","v":"Asia"},{"$f":"VLOOKUP(tblSalaries[[#This Row],[How many hours of a day you work on Excel]],tblHours,2,0)","v":4},{"$f":"VLOOKUP(tblSalaries[[#This Row],[clean Country]],tblCountries[],5,0)","v":13.098808879263672},{"$f":"IF($Q$1,tblSalaries[[#This Row],[PPP Factor]]*tblSalaries[[#This Row],[Salary in USD]],tblSalaries[[#This Row],[Salary in USD]])","v":12821.700014958649}]
[null,"ID1479","2012-05-30T18:15:28",4000,4000,"USD",{"$f":"tblSalaries[[#This Row],[clean Salary (in local currency)]]*VLOOKUP(tblSalaries[[#This Row],[Currency]],tblXrate[],2,FALSE)","v":4000},"M I S Executive","Analyst","India",{"$f":"VLOOKUP(tblSalaries[[#This Row],[Where do you work]],tblCountries[[Actual]:[Mapping]],2,FALSE)","v":"India"},"All the 8 hours baby, all the 8!",6,{"$f":"VLOOKUP(K1450,tblCountries[],3,0)","v":"Asia"},{"$f":"VLOOKUP(tblSalaries[[#This Row],[How many hours of a day you work on Excel]],tblHours,2,0)","v":5},{"$f":"VLOOKUP(tblSalaries[[#This Row],[clean Country]],tblCountries[],5,0)","v":13.098808879263672},{"$f":"IF($Q$1,tblSalaries[[#This Row],[PPP Factor]]*tblSalaries[[#This Row],[Salary in USD]],tblSalaries[[#This Row],[Salary in USD]])","v":4000}]
[null,"ID1480","2012-05-30T18:16:05",42000,42000,"USD",{"$f":"tblSalaries[[#This Row],[clean Salary (in local currency)]]*VLOOKUP(tblSalaries[[#This Row],[Currency]],tblXrate[],2,FALSE)","v":42000},"Service Solution Rep","Analyst","USA",{"$f":"VLOOKUP(tblSalaries[[#This Row],[Where do you work]],tblCountries[[Actual]:[Mapping]],2,FALSE)","v":"USA"},"All the 8 hours baby, all the 8!",2,{"$f":"VLOOKUP(K1451,tblCountries[],3,0)","v":"North Amer."},{"$f":"VLOOKUP(tblSalaries[[#This Row],[How many hours of a day you work on Excel]],tblHours,2,0)","v":5},{"$f":"VLOOKUP(tblSalaries[[#This Row],[clean Country]],tblCountries[],5,0)","v":1},{"$f":"IF($Q$1,tblSalaries[[#This Row],[PPP Factor]]*tblSalaries[[#This Row],[Salary in USD]],tblSalaries[[#This Row],[Salary in USD]])","v":42000}]
[null,"ID1481","2012-05-30T18:47:17","US $ 3200",3200,"USD",{"$f":"tblSalaries[[#This Row],[clean Salary (in local currency)]]*VLOOKUP(tblSalaries[[#This Row],[Currency]],tblXrate[],2,FALSE)","v":3200},"Regional Business Manager ","Manager","India",{"$f":"VLOOKUP(tblSalaries[[#This Row],[Where do you work]],tblCountries[[Actual]:[Mapping]],2,FALSE)","v":"India"},"All the 8 hours baby, all the 8!",19,{"$f":"VLOOKUP(K1452,tblCountries[],3,0)","v":"Asia"},{"$f":"VLOOKUP(tblSalaries[[#This Row],[How many hours of a day you work on Excel]],tblHours,2,0)","v":5},{"$f":"VLOOKUP(tblSalaries[[#This Row],[clean Country]],tblCountries[],5,0)","v":13.098808879263672},{"$f":"IF($Q$1,tblSalaries[[#This Row],[PPP Factor]]*tblSalaries[[#This Row],[Salary in USD]],tblSalaries[[#This Row],[Salary in USD]])","v":3200}]
[null,"ID1482","2012-05-30T18:51:57",60000,60000,"USD",{"$f":"tblSalaries[[#This Row],[clean Salary (in local currency)]]*VLOOKUP(tblSalaries[[#This Row],[Currency]],tblXrate[],2,FALSE)","v":60000},"sales&marketing","Analyst","turkey",{"$f":"VLOOKUP(tblSalaries[[#This Row],[Where do you work]],tblCountries[[Actual]:[Mapping]],2,FALSE)","v":"Turkey"},"2 to 3 hours per day",10,{"$f":"VLOOKUP(K1453,tblCountries[],3,0)","v":"Asia"},{"$f":"VLOOKUP(tblSalaries[[#This Row],[How many hours of a day you work on Excel]],tblHours,2,0)","v":3},{"$f":"VLOOKUP(tblSalaries[[#This Row],[clean Country]],tblCountries[],5,0)","v":3.3331266790659226},{"$f":"IF($Q$1,tblSalaries[[#This Row],[PPP Factor]]*tblSalaries[[#This Row],[Salary in USD]],tblSalaries[[#This Row],[Salary in USD]])","v":60000}]
[null,"ID1483","2012-05-30T19:01:20",85000,85000,"USD",{"$f":"tblSalaries[[#This Row],[clean Salary (in local currency)]]*VLOOKUP(tblSalaries[[#This Row],[Currency]],tblXrate[],2,FALSE)","v":85000},"sr analyst","Analyst","USA",{"$f":"VLOOKUP(tblSalaries[[#This Row],[Where do you work]],tblCountries[[Actual]:[Mapping]],2,FALSE)","v":"USA"},"4 to 6 hours a day",9,{"$f":"VLOOKUP(K1454,tblCountries[],3,0)","v":"North Amer."},{"$f":"VLOOKUP(tblSalaries[[#This Row],[How many hours of a day you work on Excel]],tblHours,2,0)","v":4},{"$f":"VLOOKUP(tblSalaries[[#This Row],[clean Country]],tblCountries[],5,0)","v":1},{"$f":"IF($Q$1,tblSalaries[[#This Row],[PPP Factor]]*tblSalaries[[#This Row],[Salary in USD]],tblSalaries[[#This Row],[Salary in USD]])","v":85000}]
[null,"ID1484","2012-05-30T19:04:44",109000,109000,"USD",{"$f":"tblSalaries[[#This Row],[clean Salary (in local currency)]]*VLOOKUP(tblSalaries[[#This Row],[Currency]],tblXrate[],2,FALSE)","v":109000},"Mgr Technology","Manager","USA",{"$f":"VLOOKUP(tblSalaries[[#This Row],[Where do you work]],tblCountries[[Actual]:[Mapping]],2,FALSE)","v":"USA"},"4 to 6 hours a day",15,{"$f":"VLOOKUP(K1455,tblCountries[],3,0)","v":"North Amer."},{"$f":"VLOOKUP(tblSalaries[[#This Row],[How many hours of a day you work on Excel]],tblHours,2,0)","v":4},{"$f":"VLOOKUP(tblSalaries[[#This Row],[clean Country]],tblCountries[],5,0)","v":1},{"$f":"IF($Q$1,tblSalaries[[#This Row],[PPP Factor]]*tblSalaries[[#This Row],[Salary in USD]],tblSalaries[[#This Row],[Salary in USD]])","v":109000}]
[null,"ID1485","2012-05-30T19:27:35","60000 Euros",60000,"EUR",{"$f":"tblSalaries[[#This Row],[clean Salary (in local currency)]]*VLOOKUP(tblSalaries[[#This Row],[Currency]],tblXrate[],2,FALSE)","v":76223.966339496474},"Sales Analyst","Analyst","Italy",{"$f":"VLOOKUP(tblSalaries[[#This Row],[Where do you work]],tblCountries[[Actual]:[Mapping]],2,FALSE)","v":"italy"},"All the 8 hours baby, all the 8!",14,{"$f":"VLOOKUP(K1456,tblCountries[],3,0)","v":"Europe"},{"$f":"VLOOKUP(tblSalaries[[#This Row],[How many hours of a day you work on Excel]],tblHours,2,0)","v":5},{"$f":"VLOOKUP(tblSalaries[[#This Row],[clean Country]],tblCountries[],5,0)","v":1.5883337710084033},{"$f":"IF($Q$1,tblSalaries[[#This Row],[PPP Factor]]*tblSalaries[[#This Row],[Salary in USD]],tblSalaries[[#This Row],[Salary in USD]])","v":76223.966339496474}]
[null,"ID1486","2012-05-30T19:42:50",77000,77000,"USD",{"$f":"tblSalaries[[#This Row],[clean Salary (in local currency)]]*VLOOKUP(tblSalaries[[#This Row],[Currency]],tblXrate[],2,FALSE)","v":77000},"Chemical Engineer","Engineer","USA",{"$f":"VLOOKUP(tblSalaries[[#This Row],[Where do you work]],tblCountries[[Actual]:[Mapping]],2,FALSE)","v":"USA"},"2 to 3 hours per day",13,{"$f":"VLOOKUP(K1457,tblCountries[],3,0)","v":"North Amer."},{"$f":"VLOOKUP(tblSalaries[[#This Row],[How many hours of a day you work on Excel]],tblHours,2,0)","v":3},{"$f":"VLOOKUP(tblSalaries[[#This Row],[clean Country]],tblCountries[],5,0)","v":1},{"$f":"IF($Q$1,tblSalaries[[#This Row],[PPP Factor]]*tblSalaries[[#This Row],[Salary in USD]],tblSalaries[[#This Row],[Salary in USD]])","v":77000}]
[null,"ID1487","2012-05-30T19:43:43",25000,25000,"USD",{"$f":"tblSalaries[[#This Row],[clean Salary (in local currency)]]*VLOOKUP(tblSalaries[[#This Row],[Currency]],tblXrate[],2,FALSE)","v":25000},"data analyst","Analyst","India",{"$f":"VLOOKUP(tblSalaries[[#This Row],[Where do you work]],tblCountries[[Actual]:[Mapping]],2,FALSE)","v":"India"},"All the 8 hours baby, all the 8!",4,{"$f":"VLOOKUP(K1458,tblCountries[],3,0)","v":"Asia"},{"$f":"VLOOKUP(tblSalaries[[#This Row],[How many hours of a day you work on Excel]],tblHours,2,0)","v":5},{"$f":"VLOOKUP(tblSalaries[[#This Row],[clean Country]],tblCountries[],5,0)","v":13.098808879263672},{"$f":"IF($Q$1,tblSalaries[[#This Row],[PPP Factor]]*tblSalaries[[#This Row],[Salary in USD]],tblSalaries[[#This Row],[Salary in USD]])","v":25000}]
[null,"ID1488","2012-05-30T20:19:51",64000,64000,"USD",{"$f":"tblSalaries[[#This Row],[clean Salary (in local currency)]]*VLOOKUP(tblSalaries[[#This Row],[Currency]],tblXrate[],2,FALSE)","v":64000},"Program Manager","Manager","USA",{"$f":"VLOOKUP(tblSalaries[[#This Row],[Where do you work]],tblCountries[[Actual]:[Mapping]],2,FALSE)","v":"USA"},"2 to 3 hours per day",12,{"$f":"VLOOKUP(K1459,tblCountries[],3,0)","v":"North Amer."},{"$f":"VLOOKUP(tblSalaries[[#This Row],[How many hours of a day you work on Excel]],tblHours,2,0)","v":3},{"$f":"VLOOKUP(tblSalaries[[#This Row],[clean Country]],tblCountries[],5,0)","v":1},{"$f":"IF($Q$1,tblSalaries[[#This Row],[PPP Factor]]*tblSalaries[[#This Row],[Salary in USD]],tblSalaries[[#This Row],[Salary in USD]])","v":64000}]
[null,"ID1489","2012-05-30T20:26:10",146633,146633,"GBP",{"$f":"tblSalaries[[#This Row],[clean Salary (in local currency)]]*VLOOKUP(tblSalaries[[#This Row],[Currency]],tblXrate[],2,FALSE)","v":231119.74856804207},"Senior Planning Engineer","Engineer","UK",{"$f":"VLOOKUP(tblSalaries[[#This Row],[Where do you work]],tblCountries[[Actual]:[Mapping]],2,FALSE)","v":"UK"},"2 to 3 hours per day",10,{"$f":"VLOOKUP(K1460,tblCountries[],3,0)","v":"Europe"},{"$f":"VLOOKUP(tblSalaries[[#This Row],[How many hours of a day you work on Excel]],tblHours,2,0)","v":3},{"$f":"VLOOKUP(tblSalaries[[#This Row],[clean Country]],tblCountries[],5,0)","v":1.3407315045719035},{"$f":"IF($Q$1,tblSalaries[[#This Row],[PPP Factor]]*tblSalaries[[#This Row],[Salary in USD]],tblSalaries[[#This Row],[Salary in USD]])","v":231119.74856804207}]
[null,"ID1490","2012-05-30T20:40:45",76000,76000,"USD",{"$f":"tblSalaries[[#This Row],[clean Salary (in local currency)]]*VLOOKUP(tblSalaries[[#This Row],[Currency]],tblXrate[],2,FALSE)","v":76000},"Sr. Analyst","Analyst","USA",{"$f":"VLOOKUP(tblSalaries[[#This Row],[Where do you work]],tblCountries[[Actual]:[Mapping]],2,FALSE)","v":"USA"},"All the 8 hours baby, all the 8!",10,{"$f":"VLOOKUP(K1461,tblCountries[],3,0)","v":"North Amer."},{"$f":"VLOOKUP(tblSalaries[[#This Row],[How many hours of a day you work on Excel]],tblHours,2,0)","v":5},{"$f":"VLOOKUP(tblSalaries[[#This Row],[clean Country]],tblCountries[],5,0)","v":1},{"$f":"IF($Q$1,tblSalaries[[#This Row],[PPP Factor]]*tblSalaries[[#This Row],[Salary in USD]],tblSalaries[[#This Row],[Salary in USD]])","v":76000}]
[null,"ID1491","2012-05-30T20:42:27",10000,10000,"GBP",{"$f":"tblSalaries[[#This Row],[clean Salary (in local currency)]]*VLOOKUP(tblSalaries[[#This Row],[Currency]],tblXrate[],2,FALSE)","v":15761.782720672842},"Analyst","Analyst","UK",{"$f":"VLOOKUP(tblSalaries[[#This Row],[Where do you work]],tblCountries[[Actual]:[Mapping]],2,FALSE)","v":"UK"},"2 to 3 hours per day",8,{"$f":"VLOOKUP(K1462,tblCountries[],3,0)","v":"Europe"},{"$f":"VLOOKUP(tblSalaries[[#This Row],[How many hours of a day you work on Excel]],tblHours,2,0)","v":3},{"$f":"VLOOKUP(tblSalaries[[#This Row],[clean Country]],tblCountries[],5,0)","v":1.3407315045719035},{"$f":"IF($Q$1,tblSalaries[[#This Row],[PPP Factor]]*tblSalaries[[#This Row],[Salary in USD]],tblSalaries[[#This Row],[Salary in USD]])","v":15761.782720672842}]
[null,"ID1492","2012-05-30T20:42:47","AUD 165000",165000,"AUD",{"$f":"tblSalaries[[#This Row],[clean Salary (in local currency)]]*VLOOKUP(tblSalaries[[#This Row],[Currency]],tblXrate[],2,FALSE)","v":168285.09330643489},"Engineer","Engineer","Australia",{"$f":"VLOOKUP(tblSalaries[[#This Row],[Where do you work]],tblCountries[[Actual]:[Mapping]],2,FALSE)","v":"Australia"},"2 to 3 hours per day",17,{"$f":"VLOOKUP(K1463,tblCountries[],3,0)","v":"Oceania"},{"$f":"VLOOKUP(tblSalaries[[#This Row],[How many hours of a day you work on Excel]],tblHours,2,0)","v":3},{"$f":"VLOOKUP(tblSalaries[[#This Row],[clean Country]],tblCountries[],5,0)","v":1.2026395585822935},{"$f":"IF($Q$1,tblSalaries[[#This Row],[PPP Factor]]*tblSalaries[[#This Row],[Salary in USD]],tblSalaries[[#This Row],[Salary in USD]])","v":168285.09330643489}]
[null,"ID1493","2012-05-30T20:47:55","50000 US$",50000,"USD",{"$f":"tblSalaries[[#This Row],[clean Salary (in local currency)]]*VLOOKUP(tblSalaries[[#This Row],[Currency]],tblXrate[],2,FALSE)","v":50000},"Sr. Financial Analyst","Analyst","Kuwait",{"$f":"VLOOKUP(tblSalaries[[#This Row],[Where do you work]],tblCountries[[Actual]:[Mapping]],2,FALSE)","v":"Kuwait"},"4 to 6 hours a day",13,{"$f":"VLOOKUP(K1464,tblCountries[],3,0)","v":"Asia"},{"$f":"VLOOKUP(tblSalaries[[#This Row],[How many hours of a day you work on Excel]],tblHours,2,0)","v":4},{"$f":"VLOOKUP(tblSalaries[[#This Row],[clean Country]],tblCountries[],5,0)","v":1.1606102036410737},{"$f":"IF($Q$1,tblSalaries[[#This Row],[PPP Factor]]*tblSalaries[[#This Row],[Salary in USD]],tblSalaries[[#This Row],[Salary in USD]])","v":50000}]
[null,"ID1494","2012-05-30T20:53:12","7200 USD per year aprox",7200,"USD",{"$f":"tblSalaries[[#This Row],[clean Salary (in local currency)]]*VLOOKUP(tblSalaries[[#This Row],[Currency]],tblXrate[],2,FALSE)","v":7200},"control process auxiliary","Controller","Colombia",{"$f":"VLOOKUP(tblSalaries[[#This Row],[Where do you work]],tblCountries[[Actual]:[Mapping]],2,FALSE)","v":"Colombia"},"4 to 6 hours a day",8,{"$f":"VLOOKUP(K1465,tblCountries[],3,0)","v":"South Amer."},{"$f":"VLOOKUP(tblSalaries[[#This Row],[How many hours of a day you work on Excel]],tblHours,2,0)","v":4},{"$f":"VLOOKUP(tblSalaries[[#This Row],[clean Country]],tblCountries[],5,0)","v":4.721143526197678},{"$f":"IF($Q$1,tblSalaries[[#This Row],[PPP Factor]]*tblSalaries[[#This Row],[Salary in USD]],tblSalaries[[#This Row],[Salary in USD]])","v":7200}]
[null,"ID1495","2012-05-30T21:07:54",42000,42000,"EUR",{"$f":"tblSalaries[[#This Row],[clean Salary (in local currency)]]*VLOOKUP(tblSalaries[[#This Row],[Currency]],tblXrate[],2,FALSE)","v":53356.776437647524},"Business Intelligence Consultant","Consultant","Germany",{"$f":"VLOOKUP(tblSalaries[[#This Row],[Where do you work]],tblCountries[[Actual]:[Mapping]],2,FALSE)","v":"Germany"},"All the 8 hours baby, all the 8!",7,{"$f":"VLOOKUP(K1466,tblCountries[],3,0)","v":"Europe"},{"$f":"VLOOKUP(tblSalaries[[#This Row],[How many hours of a day you work on Excel]],tblHours,2,0)","v":5},{"$f":"VLOOKUP(tblSalaries[[#This Row],[clean Country]],tblCountries[],5,0)","v":1.276802913159353},{"$f":"IF($Q$1,tblSalaries[[#This Row],[PPP Factor]]*tblSalaries[[#This Row],[Salary in USD]],tblSalaries[[#This Row],[Salary in USD]])","v":53356.776437647524}]
[null,"ID1496","2012-05-30T21:19:31",45000,45000,"USD",{"$f":"tblSalaries[[#This Row],[clean Salary (in local currency)]]*VLOOKUP(tblSalaries[[#This Row],[Currency]],tblXrate[],2,FALSE)","v":45000},"Data Specialist","Specialist","USA",{"$f":"VLOOKUP(tblSalaries[[#This Row],[Where do you work]],tblCountries[[Actual]:[Mapping]],2,FALSE)","v":"USA"},"2 to 3 hours per day",10,{"$f":"VLOOKUP(K1467,tblCountries[],3,0)","v":"North Amer."},{"$f":"VLOOKUP(tblSalaries[[#This Row],[How many hours of a day you work on Excel]],tblHours,2,0)","v":3},{"$f":"VLOOKUP(tblSalaries[[#This Row],[clean Country]],tblCountries[],5,0)","v":1},{"$f":"IF($Q$1,tblSalaries[[#This Row],[PPP Factor]]*tblSalaries[[#This Row],[Salary in USD]],tblSalaries[[#This Row],[Salary in USD]])","v":45000}]
[null,"ID1497","2012-05-30T21:26:04",5000,5000,"USD",{"$f":"tblSalaries[[#This Row],[clean Salary (in local currency)]]*VLOOKUP(tblSalaries[[#This Row],[Currency]],tblXrate[],2,FALSE)","v":5000},"Officer MIS","Manager","India",{"$f":"VLOOKUP(tblSalaries[[#This Row],[Where do you work]],tblCountries[[Actual]:[Mapping]],2,FALSE)","v":"India"},"All the 8 hours baby, all the 8!",4,{"$f":"VLOOKUP(K1468,tblCountries[],3,0)","v":"Asia"},{"$f":"VLOOKUP(tblSalaries[[#This Row],[How many hours of a day you work on Excel]],tblHours,2,0)","v":5},{"$f":"VLOOKUP(tblSalaries[[#This Row],[clean Country]],tblCountries[],5,0)","v":13.098808879263672},{"$f":"IF($Q$1,tblSalaries[[#This Row],[PPP Factor]]*tblSalaries[[#This Row],[Salary in USD]],tblSalaries[[#This Row],[Salary in USD]])","v":5000}]
[null,"ID1498","2012-05-30T21:45:06",74000,74000,"AUD",{"$f":"tblSalaries[[#This Row],[clean Salary (in local currency)]]*VLOOKUP(tblSalaries[[#This Row],[Currency]],tblXrate[],2,FALSE)","v":75473.31457379504},"operations Administrator","Analyst","Australia",{"$f":"VLOOKUP(tblSalaries[[#This Row],[Where do you work]],tblCountries[[Actual]:[Mapping]],2,FALSE)","v":"Australia"},"All the 8 hours baby, all the 8!",20,{"$f":"VLOOKUP(K1469,tblCountries[],3,0)","v":"Oceania"},{"$f":"VLOOKUP(tblSalaries[[#This Row],[How many hours of a day you work on Excel]],tblHours,2,0)","v":5},{"$f":"VLOOKUP(tblSalaries[[#This Row],[clean Country]],tblCountries[],5,0)","v":1.2026395585822935},{"$f":"IF($Q$1,tblSalaries[[#This Row],[PPP Factor]]*tblSalaries[[#This Row],[Salary in USD]],tblSalaries[[#This Row],[Salary in USD]])","v":75473.31457379504}]
[null,"ID1499","2012-05-30T22:11:21","15000 USD",15000,"USD",{"$f":"tblSalaries[[#This Row],[clean Salary (in local currency)]]*VLOOKUP(tblSalaries[[#This Row],[Currency]],tblXrate[],2,FALSE)","v":15000},"Manager","Manager","Romania",{"$f":"VLOOKUP(tblSalaries[[#This Row],[Where do you work]],tblCountries[[Actual]:[Mapping]],2,FALSE)","v":"Romania"},"2 to 3 hours per day",5,{"$f":"VLOOKUP(K1470,tblCountries[],3,0)","v":"Europe"},{"$f":"VLOOKUP(tblSalaries[[#This Row],[How many hours of a day you work on Excel]],tblHours,2,0)","v":3},{"$f":"VLOOKUP(tblSalaries[[#This Row],[clean Country]],tblCountries[],5,0)","v":3.8784065405578709},{"$f":"IF($Q$1,tblSalaries[[#This Row],[PPP Factor]]*tblSalaries[[#This Row],[Salary in USD]],tblSalaries[[#This Row],[Salary in USD]])","v":15000}]
[null,"ID1500","2012-05-30T22:31:33","33500 â‚¬",33500,"EUR",{"$f":"tblSalaries[[#This Row],[clean Salary (in local currency)]]*VLOOKUP(tblSalaries[[#This Row],[Currency]],tblXrate[],2,FALSE)","v":42558.381206218859},"Controller / VBA Developet","Controller","Germany",{"$f":"VLOOKUP(tblSalaries[[#This Row],[Where do you work]],tblCountries[[Actual]:[Mapping]],2,FALSE)","v":"Germany"},"All the 8 hours baby, all the 8!",8,{"$f":"VLOOKUP(K1471,tblCountries[],3,0)","v":"Europe"},{"$f":"VLOOKUP(tblSalaries[[#This Row],[How many hours of a day you work on Excel]],tblHours,2,0)","v":5},{"$f":"VLOOKUP(tblSalaries[[#This Row],[clean Country]],tblCountries[],5,0)","v":1.276802913159353},{"$f":"IF($Q$1,tblSalaries[[#This Row],[PPP Factor]]*tblSalaries[[#This Row],[Salary in USD]],tblSalaries[[#This Row],[Salary in USD]])","v":42558.381206218859}]
[null,"ID1501","2012-05-30T22:31:35","61K",61000,"USD",{"$f":"tblSalaries[[#This Row],[clean Salary (in local currency)]]*VLOOKUP(tblSalaries[[#This Row],[Currency]],tblXrate[],2,FALSE)","v":61000},"Financial Analyst","Analyst","USA",{"$f":"VLOOKUP(tblSalaries[[#This Row],[Where do you work]],tblCountries[[Actual]:[Mapping]],2,FALSE)","v":"USA"},"4 to 6 hours a day",5,{"$f":"VLOOKUP(K1472,tblCountries[],3,0)","v":"North Amer."},{"$f":"VLOOKUP(tblSalaries[[#This Row],[How many hours of a day you work on Excel]],tblHours,2,0)","v":4},{"$f":"VLOOKUP(tblSalaries[[#This Row],[clean Country]],tblCountries[],5,0)","v":1},{"$f":"IF($Q$1,tblSalaries[[#This Row],[PPP Factor]]*tblSalaries[[#This Row],[Salary in USD]],tblSalaries[[#This Row],[Salary in USD]])","v":61000}]
[null,"ID1502","2012-05-30T22:32:21",66000,66000,"USD",{"$f":"tblSalaries[[#This Row],[clean Salary (in local currency)]]*VLOOKUP(tblSalaries[[#This Row],[Currency]],tblXrate[],2,FALSE)","v":66000},"Director of Business Analytics","Analyst","USA",{"$f":"VLOOKUP(tblSalaries[[#This Row],[Where do you work]],tblCountries[[Actual]:[Mapping]],2,FALSE)","v":"USA"},"4 to 6 hours a day",2,{"$f":"VLOOKUP(K1473,tblCountries[],3,0)","v":"North Amer."},{"$f":"VLOOKUP(tblSalaries[[#This Row],[How many hours of a day you work on Excel]],tblHours,2,0)","v":4},{"$f":"VLOOKUP(tblSalaries[[#This Row],[clean Country]],tblCountries[],5,0)","v":1},{"$f":"IF($Q$1,tblSalaries[[#This Row],[PPP Factor]]*tblSalaries[[#This Row],[Salary in USD]],tblSalaries[[#This Row],[Salary in USD]])","v":66000}]
[null,"ID1503","2012-05-30T22:59:44","278000 PA",278000,"INR",{"$f":"tblSalaries[[#This Row],[clean Salary (in local currency)]]*VLOOKUP(tblSalaries[[#This Row],[Currency]],tblXrate[],2,FALSE)","v":4950.6008391090336},"MIS Executive","Reporting","India",{"$f":"VLOOKUP(tblSalaries[[#This Row],[Where do you work]],tblCountries[[Actual]:[Mapping]],2,FALSE)","v":"India"},"All the 8 hours baby, all the 8!",8,{"$f":"VLOOKUP(K1474,tblCountries[],3,0)","v":"Asia"},{"$f":"VLOOKUP(tblSalaries[[#This Row],[How many hours of a day you work on Excel]],tblHours,2,0)","v":5},{"$f":"VLOOKUP(tblSalaries[[#This Row],[clean Country]],tblCountries[],5,0)","v":13.098808879263672},{"$f":"IF($Q$1,tblSalaries[[#This Row],[PPP Factor]]*tblSalaries[[#This Row],[Salary in USD]],tblSalaries[[#This Row],[Salary in USD]])","v":4950.6008391090336}]
[null,"ID1504","2012-05-30T23:01:48",55000,55000,"USD",{"$f":"tblSalaries[[#This Row],[clean Salary (in local currency)]]*VLOOKUP(tblSalaries[[#This Row],[Currency]],tblXrate[],2,FALSE)","v":55000},"Supplier Manager","Manager","USA",{"$f":"VLOOKUP(tblSalaries[[#This Row],[Where do you work]],tblCountries[[Actual]:[Mapping]],2,FALSE)","v":"USA"},"2 to 3 hours per day",14,{"$f":"VLOOKUP(K1475,tblCountries[],3,0)","v":"North Amer."},{"$f":"VLOOKUP(tblSalaries[[#This Row],[How many hours of a day you work on Excel]],tblHours,2,0)","v":3},{"$f":"VLOOKUP(tblSalaries[[#This Row],[clean Country]],tblCountries[],5,0)","v":1},{"$f":"IF($Q$1,tblSalaries[[#This Row],[PPP Factor]]*tblSalaries[[#This Row],[Salary in USD]],tblSalaries[[#This Row],[Salary in USD]])","v":55000}]
[null,"ID1505","2012-05-30T23:26:00",32000,32000,"USD",{"$f":"tblSalaries[[#This Row],[clean Salary (in local currency)]]*VLOOKUP(tblSalaries[[#This Row],[Currency]],tblXrate[],2,FALSE)","v":32000},"Reports Writer","Reporting","USA",{"$f":"VLOOKUP(tblSalaries[[#This Row],[Where do you work]],tblCountries[[Actual]:[Mapping]],2,FALSE)","v":"USA"},"4 to 6 hours a day",10,{"$f":"VLOOKUP(K1476,tblCountries[],3,0)","v":"North Amer."},{"$f":"VLOOKUP(tblSalaries[[#This Row],[How many hours of a day you work on Excel]],tblHours,2,0)","v":4},{"$f":"VLOOKUP(tblSalaries[[#This Row],[clean Country]],tblCountries[],5,0)","v":1},{"$f":"IF($Q$1,tblSalaries[[#This Row],[PPP Factor]]*tblSalaries[[#This Row],[Salary in USD]],tblSalaries[[#This Row],[Salary in USD]])","v":32000}]
[null,"ID1506","2012-05-30T23:29:58",18000,18000,"USD",{"$f":"tblSalaries[[#This Row],[clean Salary (in local currency)]]*VLOOKUP(tblSalaries[[#This Row],[Currency]],tblXrate[],2,FALSE)","v":18000},"Process Associate","Analyst","India",{"$f":"VLOOKUP(tblSalaries[[#This Row],[Where do you work]],tblCountries[[Actual]:[Mapping]],2,FALSE)","v":"India"},"All the 8 hours baby, all the 8!",6,{"$f":"VLOOKUP(K1477,tblCountries[],3,0)","v":"Asia"},{"$f":"VLOOKUP(tblSalaries[[#This Row],[How many hours of a day you work on Excel]],tblHours,2,0)","v":5},{"$f":"VLOOKUP(tblSalaries[[#This Row],[clean Country]],tblCountries[],5,0)","v":13.098808879263672},{"$f":"IF($Q$1,tblSalaries[[#This Row],[PPP Factor]]*tblSalaries[[#This Row],[Salary in USD]],tblSalaries[[#This Row],[Salary in USD]])","v":18000}]
[null,"ID1507","2012-05-30T23:59:22","6.5 LAKHS",650000,"INR",{"$f":"tblSalaries[[#This Row],[clean Salary (in local currency)]]*VLOOKUP(tblSalaries[[#This Row],[Currency]],tblXrate[],2,FALSE)","v":11575.14584683767},"HR/ADMINISTRATION","Analyst","India",{"$f":"VLOOKUP(tblSalaries[[#This Row],[Where do you work]],tblCountries[[Actual]:[Mapping]],2,FALSE)","v":"India"},"4 to 6 hours a day",21,{"$f":"VLOOKUP(K1478,tblCountries[],3,0)","v":"Asia"},{"$f":"VLOOKUP(tblSalaries[[#This Row],[How many hours of a day you work on Excel]],tblHours,2,0)","v":4},{"$f":"VLOOKUP(tblSalaries[[#This Row],[clean Country]],tblCountries[],5,0)","v":13.098808879263672},{"$f":"IF($Q$1,tblSalaries[[#This Row],[PPP Factor]]*tblSalaries[[#This Row],[Salary in USD]],tblSalaries[[#This Row],[Salary in USD]])","v":11575.14584683767}]
[null,"ID1508","2012-05-31T00:36:30",50000,50000,"EUR",{"$f":"tblSalaries[[#This Row],[clean Salary (in local currency)]]*VLOOKUP(tblSalaries[[#This Row],[Currency]],tblXrate[],2,FALSE)","v":63519.971949580387},"accountant","Accountant","italy",{"$f":"VLOOKUP(tblSalaries[[#This Row],[Where do you work]],tblCountries[[Actual]:[Mapping]],2,FALSE)","v":"italy"},"All the 8 hours baby, all the 8!",15,{"$f":"VLOOKUP(K1479,tblCountries[],3,0)","v":"Europe"},{"$f":"VLOOKUP(tblSalaries[[#This Row],[How many hours of a day you work on Excel]],tblHours,2,0)","v":5},{"$f":"VLOOKUP(tblSalaries[[#This Row],[clean Country]],tblCountries[],5,0)","v":1.5883337710084033},{"$f":"IF($Q$1,tblSalaries[[#This Row],[PPP Factor]]*tblSalaries[[#This Row],[Salary in USD]],tblSalaries[[#This Row],[Salary in USD]])","v":63519.971949580387}]
[null,"ID1509","2012-05-31T00:46:55","4.00 lac",4000000,"INR",{"$f":"tblSalaries[[#This Row],[clean Salary (in local currency)]]*VLOOKUP(tblSalaries[[#This Row],[Currency]],tblXrate[],2,FALSE)","v":71231.666749770273},"Operational Specialist","Specialist","India",{"$f":"VLOOKUP(tblSalaries[[#This Row],[Where do you work]],tblCountries[[Actual]:[Mapping]],2,FALSE)","v":"India"},"All the 8 hours baby, all the 8!",5,{"$f":"VLOOKUP(K1480,tblCountries[],3,0)","v":"Asia"},{"$f":"VLOOKUP(tblSalaries[[#This Row],[How many hours of a day you work on Excel]],tblHours,2,0)","v":5},{"$f":"VLOOKUP(tblSalaries[[#This Row],[clean Country]],tblCountries[],5,0)","v":13.098808879263672},{"$f":"IF($Q$1,tblSalaries[[#This Row],[PPP Factor]]*tblSalaries[[#This Row],[Salary in USD]],tblSalaries[[#This Row],[Salary in USD]])","v":71231.666749770273}]
[null,"ID1510","2012-05-31T01:09:06","US$ 10000",10000,"USD",{"$f":"tblSalaries[[#This Row],[clean Salary (in local currency)]]*VLOOKUP(tblSalaries[[#This Row],[Currency]],tblXrate[],2,FALSE)","v":10000},"Trainee","Analyst","Brazil",{"$f":"VLOOKUP(tblSalaries[[#This Row],[Where do you work]],tblCountries[[Actual]:[Mapping]],2,FALSE)","v":"Brazil"},"4 to 6 hours a day",1,{"$f":"VLOOKUP(K1481,tblCountries[],3,0)","v":"South Amer."},{"$f":"VLOOKUP(tblSalaries[[#This Row],[How many hours of a day you work on Excel]],tblHours,2,0)","v":4},{"$f":"VLOOKUP(tblSalaries[[#This Row],[clean Country]],tblCountries[],5,0)","v":4.1113943410655107},{"$f":"IF($Q$1,tblSalaries[[#This Row],[PPP Factor]]*tblSalaries[[#This Row],[Salary in USD]],tblSalaries[[#This Row],[Salary in USD]])","v":10000}]
[null,"ID1511","2012-05-31T01:17:16",74300,74300,"USD",{"$f":"tblSalaries[[#This Row],[clean Salary (in local currency)]]*VLOOKUP(tblSalaries[[#This Row],[Currency]],tblXrate[],2,FALSE)","v":74300},"Senior Business Research Analyst","Analyst","USA",{"$f":"VLOOKUP(tblSalaries[[#This Row],[Where do you work]],tblCountries[[Actual]:[Mapping]],2,FALSE)","v":"USA"},"4 to 6 hours a day",3,{"$f":"VLOOKUP(K1482,tblCountries[],3,0)","v":"North Amer."},{"$f":"VLOOKUP(tblSalaries[[#This Row],[How many hours of a day you work on Excel]],tblHours,2,0)","v":4},{"$f":"VLOOKUP(tblSalaries[[#This Row],[clean Country]],tblCountries[],5,0)","v":1},{"$f":"IF($Q$1,tblSalaries[[#This Row],[PPP Factor]]*tblSalaries[[#This Row],[Salary in USD]],tblSalaries[[#This Row],[Salary in USD]])","v":74300}]
[null,"ID1512","2012-05-31T01:17:48",1500000,1500000,"INR",{"$f":"tblSalaries[[#This Row],[clean Salary (in local currency)]]*VLOOKUP(tblSalaries[[#This Row],[Currency]],tblXrate[],2,FALSE)","v":26711.875031163851},"Senior Consultant - PMO","Consultant","India",{"$f":"VLOOKUP(tblSalaries[[#This Row],[Where do you work]],tblCountries[[Actual]:[Mapping]],2,FALSE)","v":"India"},"4 to 6 hours a day",10,{"$f":"VLOOKUP(K1483,tblCountries[],3,0)","v":"Asia"},{"$f":"VLOOKUP(tblSalaries[[#This Row],[How many hours of a day you work on Excel]],tblHours,2,0)","v":4},{"$f":"VLOOKUP(tblSalaries[[#This Row],[clean Country]],tblCountries[],5,0)","v":13.098808879263672},{"$f":"IF($Q$1,tblSalaries[[#This Row],[PPP Factor]]*tblSalaries[[#This Row],[Salary in USD]],tblSalaries[[#This Row],[Salary in USD]])","v":26711.875031163851}]
[null,"ID1513","2012-05-31T01:45:48","Rs 5,36,000",536000,"INR",{"$f":"tblSalaries[[#This Row],[clean Salary (in local currency)]]*VLOOKUP(tblSalaries[[#This Row],[Currency]],tblXrate[],2,FALSE)","v":9545.0433444692171},"Team Lead","Manager","India",{"$f":"VLOOKUP(tblSalaries[[#This Row],[Where do you work]],tblCountries[[Actual]:[Mapping]],2,FALSE)","v":"India"},"4 to 6 hours a day",4,{"$f":"VLOOKUP(K1484,tblCountries[],3,0)","v":"Asia"},{"$f":"VLOOKUP(tblSalaries[[#This Row],[How many hours of a day you work on Excel]],tblHours,2,0)","v":4},{"$f":"VLOOKUP(tblSalaries[[#This Row],[clean Country]],tblCountries[],5,0)","v":13.098808879263672},{"$f":"IF($Q$1,tblSalaries[[#This Row],[PPP Factor]]*tblSalaries[[#This Row],[Salary in USD]],tblSalaries[[#This Row],[Salary in USD]])","v":9545.0433444692171}]
[null,"ID1514","2012-05-31T01:50:26",95000,95000,"USD",{"$f":"tblSalaries[[#This Row],[clean Salary (in local currency)]]*VLOOKUP(tblSalaries[[#This Row],[Currency]],tblXrate[],2,FALSE)","v":95000},"Sr Financial Analyst","Analyst","USA",{"$f":"VLOOKUP(tblSalaries[[#This Row],[Where do you work]],tblCountries[[Actual]:[Mapping]],2,FALSE)","v":"USA"},"4 to 6 hours a day",15,{"$f":"VLOOKUP(K1485,tblCountries[],3,0)","v":"North Amer."},{"$f":"VLOOKUP(tblSalaries[[#This Row],[How many hours of a day you work on Excel]],tblHours,2,0)","v":4},{"$f":"VLOOKUP(tblSalaries[[#This Row],[clean Country]],tblCountries[],5,0)","v":1},{"$f":"IF($Q$1,tblSalaries[[#This Row],[PPP Factor]]*tblSalaries[[#This Row],[Salary in USD]],tblSalaries[[#This Row],[Salary in USD]])","v":95000}]
[null,"ID1515","2012-05-31T02:24:37",64300,64300,"USD",{"$f":"tblSalaries[[#This Row],[clean Salary (in local currency)]]*VLOOKUP(tblSalaries[[#This Row],[Currency]],tblXrate[],2,FALSE)","v":64300},"Financial Analst","Accountant","USA",{"$f":"VLOOKUP(tblSalaries[[#This Row],[Where do you work]],tblCountries[[Actual]:[Mapping]],2,FALSE)","v":"USA"},"4 to 6 hours a day",15,{"$f":"VLOOKUP(K1486,tblCountries[],3,0)","v":"North Amer."},{"$f":"VLOOKUP(tblSalaries[[#This Row],[How many hours of a day you work on Excel]],tblHours,2,0)","v":4},{"$f":"VLOOKUP(tblSalaries[[#This Row],[clean Country]],tblCountries[],5,0)","v":1},{"$f":"IF($Q$1,tblSalaries[[#This Row],[PPP Factor]]*tblSalaries[[#This Row],[Salary in USD]],tblSalaries[[#This Row],[Salary in USD]])","v":64300}]
[null,"ID1516","2012-05-31T02:37:09",250000,250000,"USD",{"$f":"tblSalaries[[#This Row],[clean Salary (in local currency)]]*VLOOKUP(tblSalaries[[#This Row],[Currency]],tblXrate[],2,FALSE)","v":250000},"consultant","Consultant","USA",{"$f":"VLOOKUP(tblSalaries[[#This Row],[Where do you work]],tblCountries[[Actual]:[Mapping]],2,FALSE)","v":"USA"},"All the 8 hours baby, all the 8!",20,{"$f":"VLOOKUP(K1487,tblCountries[],3,0)","v":"North Amer."},{"$f":"VLOOKUP(tblSalaries[[#This Row],[How many hours of a day you work on Excel]],tblHours,2,0)","v":5},{"$f":"VLOOKUP(tblSalaries[[#This Row],[clean Country]],tblCountries[],5,0)","v":1},{"$f":"IF($Q$1,tblSalaries[[#This Row],[PPP Factor]]*tblSalaries[[#This Row],[Salary in USD]],tblSalaries[[#This Row],[Salary in USD]])","v":250000}]
[null,"ID1519","2012-05-31T03:07:09",89000,89000,"USD",{"$f":"tblSalaries[[#This Row],[clean Salary (in local currency)]]*VLOOKUP(tblSalaries[[#This Row],[Currency]],tblXrate[],2,FALSE)","v":89000},"Finance Manager","Manager","USA",{"$f":"VLOOKUP(tblSalaries[[#This Row],[Where do you work]],tblCountries[[Actual]:[Mapping]],2,FALSE)","v":"USA"},"2 to 3 hours per day",10,{"$f":"VLOOKUP(K1488,tblCountries[],3,0)","v":"North Amer."},{"$f":"VLOOKUP(tblSalaries[[#This Row],[How many hours of a day you work on Excel]],tblHours,2,0)","v":3},{"$f":"VLOOKUP(tblSalaries[[#This Row],[clean Country]],tblCountries[],5,0)","v":1},{"$f":"IF($Q$1,tblSalaries[[#This Row],[PPP Factor]]*tblSalaries[[#This Row],[Salary in USD]],tblSalaries[[#This Row],[Salary in USD]])","v":89000}]
[null,"ID1520","2012-05-31T04:12:19",75000,75000,"USD",{"$f":"tblSalaries[[#This Row],[clean Salary (in local currency)]]*VLOOKUP(tblSalaries[[#This Row],[Currency]],tblXrate[],2,FALSE)","v":75000},"Financial Analyst","Analyst","USA",{"$f":"VLOOKUP(tblSalaries[[#This Row],[Where do you work]],tblCountries[[Actual]:[Mapping]],2,FALSE)","v":"USA"},"All the 8 hours baby, all the 8!",1.5,{"$f":"VLOOKUP(K1489,tblCountries[],3,0)","v":"North Amer."},{"$f":"VLOOKUP(tblSalaries[[#This Row],[How many hours of a day you work on Excel]],tblHours,2,0)","v":5},{"$f":"VLOOKUP(tblSalaries[[#This Row],[clean Country]],tblCountries[],5,0)","v":1},{"$f":"IF($Q$1,tblSalaries[[#This Row],[PPP Factor]]*tblSalaries[[#This Row],[Salary in USD]],tblSalaries[[#This Row],[Salary in USD]])","v":75000}]
[null,"ID1521","2012-05-31T05:02:59",45000,45000,"USD",{"$f":"tblSalaries[[#This Row],[clean Salary (in local currency)]]*VLOOKUP(tblSalaries[[#This Row],[Currency]],tblXrate[],2,FALSE)","v":45000},"Excel Business Analyst","Analyst","USA",{"$f":"VLOOKUP(tblSalaries[[#This Row],[Where do you work]],tblCountries[[Actual]:[Mapping]],2,FALSE)","v":"USA"},"All the 8 hours baby, all the 8!",5,{"$f":"VLOOKUP(K1490,tblCountries[],3,0)","v":"North Amer."},{"$f":"VLOOKUP(tblSalaries[[#This Row],[How many hours of a day you work on Excel]],tblHours,2,0)","v":5},{"$f":"VLOOKUP(tblSalaries[[#This Row],[clean Country]],tblCountries[],5,0)","v":1},{"$f":"IF($Q$1,tblSalaries[[#This Row],[PPP Factor]]*tblSalaries[[#This Row],[Salary in USD]],tblSalaries[[#This Row],[Salary in USD]])","v":45000}]
[null,"ID1522","2012-05-31T05:23:58",127500,127500,"USD",{"$f":"tblSalaries[[#This Row],[clean Salary (in local currency)]]*VLOOKUP(tblSalaries[[#This Row],[Currency]],tblXrate[],2,FALSE)","v":127500},"SVP","CXO or Top Mgmt.","USA",{"$f":"VLOOKUP(tblSalaries[[#This Row],[Where do you work]],tblCountries[[Actual]:[Mapping]],2,FALSE)","v":"USA"},"All the 8 hours baby, all the 8!",22,{"$f":"VLOOKUP(K1491,tblCountries[],3,0)","v":"North Amer."},{"$f":"VLOOKUP(tblSalaries[[#This Row],[How many hours of a day you work on Excel]],tblHours,2,0)","v":5},{"$f":"VLOOKUP(tblSalaries[[#This Row],[clean Country]],tblCountries[],5,0)","v":1},{"$f":"IF($Q$1,tblSalaries[[#This Row],[PPP Factor]]*tblSalaries[[#This Row],[Salary in USD]],tblSalaries[[#This Row],[Salary in USD]])","v":127500}]
[null,"ID1523","2012-05-31T05:31:54",170000,170000,"USD",{"$f":"tblSalaries[[#This Row],[clean Salary (in local currency)]]*VLOOKUP(tblSalaries[[#This Row],[Currency]],tblXrate[],2,FALSE)","v":170000},"CFO","CXO or Top Mgmt.","USA",{"$f":"VLOOKUP(tblSalaries[[#This Row],[Where do you work]],tblCountries[[Actual]:[Mapping]],2,FALSE)","v":"USA"},"2 to 3 hours per day",18,{"$f":"VLOOKUP(K1492,tblCountries[],3,0)","v":"North Amer."},{"$f":"VLOOKUP(tblSalaries[[#This Row],[How many hours of a day you work on Excel]],tblHours,2,0)","v":3},{"$f":"VLOOKUP(tblSalaries[[#This Row],[clean Country]],tblCountries[],5,0)","v":1},{"$f":"IF($Q$1,tblSalaries[[#This Row],[PPP Factor]]*tblSalaries[[#This Row],[Salary in USD]],tblSalaries[[#This Row],[Salary in USD]])","v":170000}]
[null,"ID1524","2012-05-31T05:37:29",800,9600,"USD",{"$f":"tblSalaries[[#This Row],[clean Salary (in local currency)]]*VLOOKUP(tblSalaries[[#This Row],[Currency]],tblXrate[],2,FALSE)","v":9600},"Reporting Analyst","Analyst","Bolivia",{"$f":"VLOOKUP(tblSalaries[[#This Row],[Where do you work]],tblCountries[[Actual]:[Mapping]],2,FALSE)","v":"Bolivia"},"All the 8 hours baby, all the 8!",2,{"$f":"VLOOKUP(K1493,tblCountries[],3,0)","v":"South Amer."},{"$f":"VLOOKUP(tblSalaries[[#This Row],[How many hours of a day you work on Excel]],tblHours,2,0)","v":5},{"$f":"VLOOKUP(tblSalaries[[#This Row],[clean Country]],tblCountries[],5,0)","v":10.103779494675297},{"$f":"IF($Q$1,tblSalaries[[#This Row],[PPP Factor]]*tblSalaries[[#This Row],[Salary in USD]],tblSalaries[[#This Row],[Salary in USD]])","v":9600}]
[null,"ID1525","2012-05-31T06:13:42",62000,62000,"USD",{"$f":"tblSalaries[[#This Row],[clean Salary (in local currency)]]*VLOOKUP(tblSalaries[[#This Row],[Currency]],tblXrate[],2,FALSE)","v":62000},"info analyst","Analyst","USA",{"$f":"VLOOKUP(tblSalaries[[#This Row],[Where do you work]],tblCountries[[Actual]:[Mapping]],2,FALSE)","v":"USA"},"All the 8 hours baby, all the 8!",27,{"$f":"VLOOKUP(K1494,tblCountries[],3,0)","v":"North Amer."},{"$f":"VLOOKUP(tblSalaries[[#This Row],[How many hours of a day you work on Excel]],tblHours,2,0)","v":5},{"$f":"VLOOKUP(tblSalaries[[#This Row],[clean Country]],tblCountries[],5,0)","v":1},{"$f":"IF($Q$1,tblSalaries[[#This Row],[PPP Factor]]*tblSalaries[[#This Row],[Salary in USD]],tblSalaries[[#This Row],[Salary in USD]])","v":62000}]
[null,"ID1526","2012-05-31T06:23:09",22000,22000,"USD",{"$f":"tblSalaries[[#This Row],[clean Salary (in local currency)]]*VLOOKUP(tblSalaries[[#This Row],[Currency]],tblXrate[],2,FALSE)","v":22000},"Data Manager","Manager","USA",{"$f":"VLOOKUP(tblSalaries[[#This Row],[Where do you work]],tblCountries[[Actual]:[Mapping]],2,FALSE)","v":"USA"},"4 to 6 hours a day",3,{"$f":"VLOOKUP(K1495,tblCountries[],3,0)","v":"North Amer."},{"$f":"VLOOKUP(tblSalaries[[#This Row],[How many hours of a day you work on Excel]],tblHours,2,0)","v":4},{"$f":"VLOOKUP(tblSalaries[[#This Row],[clean Country]],tblCountries[],5,0)","v":1},{"$f":"IF($Q$1,tblSalaries[[#This Row],[PPP Factor]]*tblSalaries[[#This Row],[Salary in USD]],tblSalaries[[#This Row],[Salary in USD]])","v":22000}]
[null,"ID1527","2012-05-31T06:23:55",45000,45000,"USD",{"$f":"tblSalaries[[#This Row],[clean Salary (in local currency)]]*VLOOKUP(tblSalaries[[#This Row],[Currency]],tblXrate[],2,FALSE)","v":45000},"Business Analyst","Analyst","USA",{"$f":"VLOOKUP(tblSalaries[[#This Row],[Where do you work]],tblCountries[[Actual]:[Mapping]],2,FALSE)","v":"USA"},"4 to 6 hours a day",8,{"$f":"VLOOKUP(K1496,tblCountries[],3,0)","v":"North Amer."},{"$f":"VLOOKUP(tblSalaries[[#This Row],[How many hours of a day you work on Excel]],tblHours,2,0)","v":4},{"$f":"VLOOKUP(tblSalaries[[#This Row],[clean Country]],tblCountries[],5,0)","v":1},{"$f":"IF($Q$1,tblSalaries[[#This Row],[PPP Factor]]*tblSalaries[[#This Row],[Salary in USD]],tblSalaries[[#This Row],[Salary in USD]])","v":45000}]
[null,"ID1528","2012-05-31T07:17:36",145000,145000,"USD",{"$f":"tblSalaries[[#This Row],[clean Salary (in local currency)]]*VLOOKUP(tblSalaries[[#This Row],[Currency]],tblXrate[],2,FALSE)","v":145000},"Associate","Analyst","USA",{"$f":"VLOOKUP(tblSalaries[[#This Row],[Where do you work]],tblCountries[[Actual]:[Mapping]],2,FALSE)","v":"USA"},"4 to 6 hours a day",6,{"$f":"VLOOKUP(K1497,tblCountries[],3,0)","v":"North Amer."},{"$f":"VLOOKUP(tblSalaries[[#This Row],[How many hours of a day you work on Excel]],tblHours,2,0)","v":4},{"$f":"VLOOKUP(tblSalaries[[#This Row],[clean Country]],tblCountries[],5,0)","v":1},{"$f":"IF($Q$1,tblSalaries[[#This Row],[PPP Factor]]*tblSalaries[[#This Row],[Salary in USD]],tblSalaries[[#This Row],[Salary in USD]])","v":145000}]
[null,"ID1529","2012-05-31T08:20:03",89000,89000,"USD",{"$f":"tblSalaries[[#This Row],[clean Salary (in local currency)]]*VLOOKUP(tblSalaries[[#This Row],[Currency]],tblXrate[],2,FALSE)","v":89000},"BI Analyst","Analyst","USA",{"$f":"VLOOKUP(tblSalaries[[#This Row],[Where do you work]],tblCountries[[Actual]:[Mapping]],2,FALSE)","v":"USA"},"All the 8 hours baby, all the 8!",14,{"$f":"VLOOKUP(K1498,tblCountries[],3,0)","v":"North Amer."},{"$f":"VLOOKUP(tblSalaries[[#This Row],[How many hours of a day you work on Excel]],tblHours,2,0)","v":5},{"$f":"VLOOKUP(tblSalaries[[#This Row],[clean Country]],tblCountries[],5,0)","v":1},{"$f":"IF($Q$1,tblSalaries[[#This Row],[PPP Factor]]*tblSalaries[[#This Row],[Salary in USD]],tblSalaries[[#This Row],[Salary in USD]])","v":89000}]
[null,"ID1530","2012-05-31T09:28:05",38000,38000,"USD",{"$f":"tblSalaries[[#This Row],[clean Salary (in local currency)]]*VLOOKUP(tblSalaries[[#This Row],[Currency]],tblXrate[],2,FALSE)","v":38000},"Accountant","Accountant","USA",{"$f":"VLOOKUP(tblSalaries[[#This Row],[Where do you work]],tblCountries[[Actual]:[Mapping]],2,FALSE)","v":"USA"},"4 to 6 hours a day",11,{"$f":"VLOOKUP(K1499,tblCountries[],3,0)","v":"North Amer."},{"$f":"VLOOKUP(tblSalaries[[#This Row],[How many hours of a day you work on Excel]],tblHours,2,0)","v":4},{"$f":"VLOOKUP(tblSalaries[[#This Row],[clean Country]],tblCountries[],5,0)","v":1},{"$f":"IF($Q$1,tblSalaries[[#This Row],[PPP Factor]]*tblSalaries[[#This Row],[Salary in USD]],tblSalaries[[#This Row],[Salary in USD]])","v":38000}]
[null,"ID1531","2012-05-31T09:45:09",50000,50000,"CAD",{"$f":"tblSalaries[[#This Row],[clean Salary (in local currency)]]*VLOOKUP(tblSalaries[[#This Row],[Currency]],tblXrate[],2,FALSE)","v":49168.076151516347},"Business Analyst","Analyst","Canada",{"$f":"VLOOKUP(tblSalaries[[#This Row],[Where do you work]],tblCountries[[Actual]:[Mapping]],2,FALSE)","v":"Canada"},"4 to 6 hours a day",3,{"$f":"VLOOKUP(K1500,tblCountries[],3,0)","v":"North Amer."},{"$f":"VLOOKUP(tblSalaries[[#This Row],[How many hours of a day you work on Excel]],tblHours,2,0)","v":4},{"$f":"VLOOKUP(tblSalaries[[#This Row],[clean Country]],tblCountries[],5,0)","v":1.1935324732986359},{"$f":"IF($Q$1,tblSalaries[[#This Row],[PPP Factor]]*tblSalaries[[#This Row],[Salary in USD]],tblSalaries[[#This Row],[Salary in USD]])","v":49168.076151516347}]
[null,"ID1532","2012-05-31T10:29:42",500000,500000,"INR",{"$f":"tblSalaries[[#This Row],[clean Salary (in local currency)]]*VLOOKUP(tblSalaries[[#This Row],[Currency]],tblXrate[],2,FALSE)","v":8903.9583437212841},"Developer","Analyst","India",{"$f":"VLOOKUP(tblSalaries[[#This Row],[Where do you work]],tblCountries[[Actual]:[Mapping]],2,FALSE)","v":"India"},"4 to 6 hours a day",8,{"$f":"VLOOKUP(K1501,tblCountries[],3,0)","v":"Asia"},{"$f":"VLOOKUP(tblSalaries[[#This Row],[How many hours of a day you work on Excel]],tblHours,2,0)","v":4},{"$f":"VLOOKUP(tblSalaries[[#This Row],[clean Country]],tblCountries[],5,0)","v":13.098808879263672},{"$f":"IF($Q$1,tblSalaries[[#This Row],[PPP Factor]]*tblSalaries[[#This Row],[Salary in USD]],tblSalaries[[#This Row],[Salary in USD]])","v":8903.9583437212841}]
[null,"ID1533","2012-05-31T10:33:07","10000 US$",10000,"USD",{"$f":"tblSalaries[[#This Row],[clean Salary (in local currency)]]*VLOOKUP(tblSalaries[[#This Row],[Currency]],tblXrate[],2,FALSE)","v":10000},"Project management","Manager","Vietnam",{"$f":"VLOOKUP(tblSalaries[[#This Row],[Where do you work]],tblCountries[[Actual]:[Mapping]],2,FALSE)","v":"Vietnam"},"2 to 3 hours per day",8,{"$f":"VLOOKUP(K1502,tblCountries[],3,0)","v":"Asia"},{"$f":"VLOOKUP(tblSalaries[[#This Row],[How many hours of a day you work on Excel]],tblHours,2,0)","v":3},{"$f":"VLOOKUP(tblSalaries[[#This Row],[clean Country]],tblCountries[],5,0)","v":14.405180113128907},{"$f":"IF($Q$1,tblSalaries[[#This Row],[PPP Factor]]*tblSalaries[[#This Row],[Salary in USD]],tblSalaries[[#This Row],[Salary in USD]])","v":10000}]
[null,"ID1534","2012-05-31T10:37:38",105000,105000,"USD",{"$f":"tblSalaries[[#This Row],[clean Salary (in local currency)]]*VLOOKUP(tblSalaries[[#This Row],[Currency]],tblXrate[],2,FALSE)","v":105000},"Business Banker","Manager","USA",{"$f":"VLOOKUP(tblSalaries[[#This Row],[Where do you work]],tblCountries[[Actual]:[Mapping]],2,FALSE)","v":"USA"},"1 or 2 hours a day",30,{"$f":"VLOOKUP(K1503,tblCountries[],3,0)","v":"North Amer."},{"$f":"VLOOKUP(tblSalaries[[#This Row],[How many hours of a day you work on Excel]],tblHours,2,0)","v":2},{"$f":"VLOOKUP(tblSalaries[[#This Row],[clean Country]],tblCountries[],5,0)","v":1},{"$f":"IF($Q$1,tblSalaries[[#This Row],[PPP Factor]]*tblSalaries[[#This Row],[Salary in USD]],tblSalaries[[#This Row],[Salary in USD]])","v":105000}]
[null,"ID1535","2012-05-31T10:54:48",1000,12000,"USD",{"$f":"tblSalaries[[#This Row],[clean Salary (in local currency)]]*VLOOKUP(tblSalaries[[#This Row],[Currency]],tblXrate[],2,FALSE)","v":12000},"Associate Analyst","Analyst","MYS",{"$f":"VLOOKUP(tblSalaries[[#This Row],[Where do you work]],tblCountries[[Actual]:[Mapping]],2,FALSE)","v":"Malaysia"},"2 to 3 hours per day",0,{"$f":"VLOOKUP(K1504,tblCountries[],3,0)","v":"Asia"},{"$f":"VLOOKUP(tblSalaries[[#This Row],[How many hours of a day you work on Excel]],tblHours,2,0)","v":3},{"$f":"VLOOKUP(tblSalaries[[#This Row],[clean Country]],tblCountries[],5,0)","v":3.1081063720452211},{"$f":"IF($Q$1,tblSalaries[[#This Row],[PPP Factor]]*tblSalaries[[#This Row],[Salary in USD]],tblSalaries[[#This Row],[Salary in USD]])","v":12000}]
[null,"ID1536","2012-05-31T11:08:38","Rs. 200000/-",200000,"INR",{"$f":"tblSalaries[[#This Row],[clean Salary (in local currency)]]*VLOOKUP(tblSalaries[[#This Row],[Currency]],tblXrate[],2,FALSE)","v":3561.5833374885137},"Accounts Executive","Accountant","India",{"$f":"VLOOKUP(tblSalaries[[#This Row],[Where do you work]],tblCountries[[Actual]:[Mapping]],2,FALSE)","v":"India"},"All the 8 hours baby, all the 8!",3,{"$f":"VLOOKUP(K1505,tblCountries[],3,0)","v":"Asia"},{"$f":"VLOOKUP(tblSalaries[[#This Row],[How many hours of a day you work on Excel]],tblHours,2,0)","v":5},{"$f":"VLOOKUP(tblSalaries[[#This Row],[clean Country]],tblCountries[],5,0)","v":13.098808879263672},{"$f":"IF($Q$1,tblSalaries[[#This Row],[PPP Factor]]*tblSalaries[[#This Row],[Salary in USD]],tblSalaries[[#This Row],[Salary in USD]])","v":3561.5833374885137}]
[null,"ID1537","2012-05-31T13:25:49","85,000 AUD",85000,"AUD",{"$f":"tblSalaries[[#This Row],[clean Salary (in local currency)]]*VLOOKUP(tblSalaries[[#This Row],[Currency]],tblXrate[],2,FALSE)","v":86692.320794224041},"Demand Planner","Analyst","Australia",{"$f":"VLOOKUP(tblSalaries[[#This Row],[Where do you work]],tblCountries[[Actual]:[Mapping]],2,FALSE)","v":"Australia"},"1 or 2 hours a day",5,{"$f":"VLOOKUP(K1506,tblCountries[],3,0)","v":"Oceania"},{"$f":"VLOOKUP(tblSalaries[[#This Row],[How many hours of a day you work on Excel]],tblHours,2,0)","v":2},{"$f":"VLOOKUP(tblSalaries[[#This Row],[clean Country]],tblCountries[],5,0)","v":1.2026395585822935},{"$f":"IF($Q$1,tblSalaries[[#This Row],[PPP Factor]]*tblSalaries[[#This Row],[Salary in USD]],tblSalaries[[#This Row],[Salary in USD]])","v":86692.320794224041}]
[null,"ID1539","2012-05-31T16:00:16",8000,8000,"USD",{"$f":"tblSalaries[[#This Row],[clean Salary (in local currency)]]*VLOOKUP(tblSalaries[[#This Row],[Currency]],tblXrate[],2,FALSE)","v":8000},"Owner","CXO or Top Mgmt.","India",{"$f":"VLOOKUP(tblSalaries[[#This Row],[Where do you work]],tblCountries[[Actual]:[Mapping]],2,FALSE)","v":"India"},"4 to 6 hours a day",18,{"$f":"VLOOKUP(K1507,tblCountries[],3,0)","v":"Asia"},{"$f":"VLOOKUP(tblSalaries[[#This Row],[How many hours of a day you work on Excel]],tblHours,2,0)","v":4},{"$f":"VLOOKUP(tblSalaries[[#This Row],[clean Country]],tblCountries[],5,0)","v":13.098808879263672},{"$f":"IF($Q$1,tblSalaries[[#This Row],[PPP Factor]]*tblSalaries[[#This Row],[Salary in USD]],tblSalaries[[#This Row],[Salary in USD]])","v":8000}]
[null,"ID1540","2012-05-31T16:10:28","Rs. 380000",380000,"INR",{"$f":"tblSalaries[[#This Row],[clean Salary (in local currency)]]*VLOOKUP(tblSalaries[[#This Row],[Currency]],tblXrate[],2,FALSE)","v":6767.0083412281756},"reporting analyst","Analyst","India",{"$f":"VLOOKUP(tblSalaries[[#This Row],[Where do you work]],tblCountries[[Actual]:[Mapping]],2,FALSE)","v":"India"},"2 to 3 hours per day",6,{"$f":"VLOOKUP(K1508,tblCountries[],3,0)","v":"Asia"},{"$f":"VLOOKUP(tblSalaries[[#This Row],[How many hours of a day you work on Excel]],tblHours,2,0)","v":3},{"$f":"VLOOKUP(tblSalaries[[#This Row],[clean Country]],tblCountries[],5,0)","v":13.098808879263672},{"$f":"IF($Q$1,tblSalaries[[#This Row],[PPP Factor]]*tblSalaries[[#This Row],[Salary in USD]],tblSalaries[[#This Row],[Salary in USD]])","v":6767.0083412281756}]
[null,"ID1541","2012-05-31T16:16:11","Â£30500",30500,"GBP",{"$f":"tblSalaries[[#This Row],[clean Salary (in local currency)]]*VLOOKUP(tblSalaries[[#This Row],[Currency]],tblXrate[],2,FALSE)","v":48073.437298052166},"Construction Estimator","Consultant","UK",{"$f":"VLOOKUP(tblSalaries[[#This Row],[Where do you work]],tblCountries[[Actual]:[Mapping]],2,FALSE)","v":"UK"},"4 to 6 hours a day",14,{"$f":"VLOOKUP(K1509,tblCountries[],3,0)","v":"Europe"},{"$f":"VLOOKUP(tblSalaries[[#This Row],[How many hours of a day you work on Excel]],tblHours,2,0)","v":4},{"$f":"VLOOKUP(tblSalaries[[#This Row],[clean Country]],tblCountries[],5,0)","v":1.3407315045719035},{"$f":"IF($Q$1,tblSalaries[[#This Row],[PPP Factor]]*tblSalaries[[#This Row],[Salary in USD]],tblSalaries[[#This Row],[Salary in USD]])","v":48073.437298052166}]
[null,"ID1542","2012-05-31T16:25:23","60K â‚¬",60000,"EUR",{"$f":"tblSalaries[[#This Row],[clean Salary (in local currency)]]*VLOOKUP(tblSalaries[[#This Row],[Currency]],tblXrate[],2,FALSE)","v":76223.966339496474},"Trade Marketing","Manager","NL",{"$f":"VLOOKUP(tblSalaries[[#This Row],[Where do you work]],tblCountries[[Actual]:[Mapping]],2,FALSE)","v":"Netherlands"},"2 to 3 hours per day",15,{"$f":"VLOOKUP(K1510,tblCountries[],3,0)","v":"Europe"},{"$f":"VLOOKUP(tblSalaries[[#This Row],[How many hours of a day you work on Excel]],tblHours,2,0)","v":3},{"$f":"VLOOKUP(tblSalaries[[#This Row],[clean Country]],tblCountries[],5,0)","v":1.1470734656141099},{"$f":"IF($Q$1,tblSalaries[[#This Row],[PPP Factor]]*tblSalaries[[#This Row],[Salary in USD]],tblSalaries[[#This Row],[Salary in USD]])","v":76223.966339496474}]
[null,"ID1543","2012-05-31T16:25:24",320000,320000,"SAR",{"$f":"tblSalaries[[#This Row],[clean Salary (in local currency)]]*VLOOKUP(tblSalaries[[#This Row],[Currency]],tblXrate[],2,FALSE)","v":85333.333333333328},"Merchandise Planning Manager","Manager","Saudi Arabia",{"$f":"VLOOKUP(tblSalaries[[#This Row],[Where do you work]],tblCountries[[Actual]:[Mapping]],2,FALSE)","v":"Saudi Arabia"},"2 to 3 hours per day",15,{"$f":"VLOOKUP(K1511,tblCountries[],3,0)","v":"Asia"},{"$f":"VLOOKUP(tblSalaries[[#This Row],[How many hours of a day you work on Excel]],tblHours,2,0)","v":3},{"$f":"VLOOKUP(tblSalaries[[#This Row],[clean Country]],tblCountries[],5,0)","v":1.9964104468374799},{"$f":"IF($Q$1,tblSalaries[[#This Row],[PPP Factor]]*tblSalaries[[#This Row],[Salary in USD]],tblSalaries[[#This Row],[Salary in USD]])","v":85333.333333333328}]
[null,"ID1544","2012-05-31T16:30:09",48360,48360,"GBP",{"$f":"tblSalaries[[#This Row],[clean Salary (in local currency)]]*VLOOKUP(tblSalaries[[#This Row],[Currency]],tblXrate[],2,FALSE)","v":76223.981237173866},"pricing manager","Manager","UK",{"$f":"VLOOKUP(tblSalaries[[#This Row],[Where do you work]],tblCountries[[Actual]:[Mapping]],2,FALSE)","v":"UK"},"All the 8 hours baby, all the 8!",8,{"$f":"VLOOKUP(K1512,tblCountries[],3,0)","v":"Europe"},{"$f":"VLOOKUP(tblSalaries[[#This Row],[How many hours of a day you work on Excel]],tblHours,2,0)","v":5},{"$f":"VLOOKUP(tblSalaries[[#This Row],[clean Country]],tblCountries[],5,0)","v":1.3407315045719035},{"$f":"IF($Q$1,tblSalaries[[#This Row],[PPP Factor]]*tblSalaries[[#This Row],[Salary in USD]],tblSalaries[[#This Row],[Salary in USD]])","v":76223.981237173866}]
[null,"ID1545","2012-05-31T17:08:59",30000,30000,"USD",{"$f":"tblSalaries[[#This Row],[clean Salary (in local currency)]]*VLOOKUP(tblSalaries[[#This Row],[Currency]],tblXrate[],2,FALSE)","v":30000},"Marketing Services Manager","Manager","Pakistan",{"$f":"VLOOKUP(tblSalaries[[#This Row],[Where do you work]],tblCountries[[Actual]:[Mapping]],2,FALSE)","v":"Pakistan"},"4 to 6 hours a day",5,{"$f":"VLOOKUP(K1513,tblCountries[],3,0)","v":"Asia"},{"$f":"VLOOKUP(tblSalaries[[#This Row],[How many hours of a day you work on Excel]],tblHours,2,0)","v":4},{"$f":"VLOOKUP(tblSalaries[[#This Row],[clean Country]],tblCountries[],5,0)","v":17.361679224973088},{"$f":"IF($Q$1,tblSalaries[[#This Row],[PPP Factor]]*tblSalaries[[#This Row],[Salary in USD]],tblSalaries[[#This Row],[Salary in USD]])","v":30000}]
[null,"ID1546","2012-05-31T17:21:45",34000,34000,"USD",{"$f":"tblSalaries[[#This Row],[clean Salary (in local currency)]]*VLOOKUP(tblSalaries[[#This Row],[Currency]],tblXrate[],2,FALSE)","v":34000},"Sr Analyst","Analyst","India",{"$f":"VLOOKUP(tblSalaries[[#This Row],[Where do you work]],tblCountries[[Actual]:[Mapping]],2,FALSE)","v":"India"},"All the 8 hours baby, all the 8!",4,{"$f":"VLOOKUP(K1514,tblCountries[],3,0)","v":"Asia"},{"$f":"VLOOKUP(tblSalaries[[#This Row],[How many hours of a day you work on Excel]],tblHours,2,0)","v":5},{"$f":"VLOOKUP(tblSalaries[[#This Row],[clean Country]],tblCountries[],5,0)","v":13.098808879263672},{"$f":"IF($Q$1,tblSalaries[[#This Row],[PPP Factor]]*tblSalaries[[#This Row],[Salary in USD]],tblSalaries[[#This Row],[Salary in USD]])","v":34000}]
[null,"ID1547","2012-05-31T17:34:34","Rs. 180000",180000,"INR",{"$f":"tblSalaries[[#This Row],[clean Salary (in local currency)]]*VLOOKUP(tblSalaries[[#This Row],[Currency]],tblXrate[],2,FALSE)","v":3205.4250037396623},"Asst Store Manager","Manager","India",{"$f":"VLOOKUP(tblSalaries[[#This Row],[Where do you work]],tblCountries[[Actual]:[Mapping]],2,FALSE)","v":"India"},"4 to 6 hours a day",5,{"$f":"VLOOKUP(K1515,tblCountries[],3,0)","v":"Asia"},{"$f":"VLOOKUP(tblSalaries[[#This Row],[How many hours of a day you work on Excel]],tblHours,2,0)","v":4},{"$f":"VLOOKUP(tblSalaries[[#This Row],[clean Country]],tblCountries[],5,0)","v":13.098808879263672},{"$f":"IF($Q$1,tblSalaries[[#This Row],[PPP Factor]]*tblSalaries[[#This Row],[Salary in USD]],tblSalaries[[#This Row],[Salary in USD]])","v":3205.4250037396623}]
[null,"ID1548","2012-05-31T17:35:33","45.000 USD",45000,"USD",{"$f":"tblSalaries[[#This Row],[clean Salary (in local currency)]]*VLOOKUP(tblSalaries[[#This Row],[Currency]],tblXrate[],2,FALSE)","v":45000},"Junior Reporting Manager","Manager","Germany",{"$f":"VLOOKUP(tblSalaries[[#This Row],[Where do you work]],tblCountries[[Actual]:[Mapping]],2,FALSE)","v":"Germany"},"2 to 3 hours per day",5,{"$f":"VLOOKUP(K1516,tblCountries[],3,0)","v":"Europe"},{"$f":"VLOOKUP(tblSalaries[[#This Row],[How many hours of a day you work on Excel]],tblHours,2,0)","v":3},{"$f":"VLOOKUP(tblSalaries[[#This Row],[clean Country]],tblCountries[],5,0)","v":1.276802913159353},{"$f":"IF($Q$1,tblSalaries[[#This Row],[PPP Factor]]*tblSalaries[[#This Row],[Salary in USD]],tblSalaries[[#This Row],[Salary in USD]])","v":45000}]
[null,"ID1549","2012-05-31T18:35:30",24864,24864,"USD",{"$f":"tblSalaries[[#This Row],[clean Salary (in local currency)]]*VLOOKUP(tblSalaries[[#This Row],[Currency]],tblXrate[],2,FALSE)","v":24864},"Brand manager","Manager","Libya",{"$f":"VLOOKUP(tblSalaries[[#This Row],[Where do you work]],tblCountries[[Actual]:[Mapping]],2,FALSE)","v":"Libya"},"All the 8 hours baby, all the 8!",8,{"$f":"VLOOKUP(K1517,tblCountries[],3,0)","v":"Africa"},{"$f":"VLOOKUP(tblSalaries[[#This Row],[How many hours of a day you work on Excel]],tblHours,2,0)","v":5},{"$f":"VLOOKUP(tblSalaries[[#This Row],[clean Country]],tblCountries[],5,0)","v":8.3613271124935196},{"$f":"IF($Q$1,tblSalaries[[#This Row],[PPP Factor]]*tblSalaries[[#This Row],[Salary in USD]],tblSalaries[[#This Row],[Salary in USD]])","v":24864}]
[null,"ID1550","2012-05-31T19:51:29","Â£30000",30000,"GBP",{"$f":"tblSalaries[[#This Row],[clean Salary (in local currency)]]*VLOOKUP(tblSalaries[[#This Row],[Currency]],tblXrate[],2,FALSE)","v":47285.348162018527},"Cost Analyst","Analyst","UK",{"$f":"VLOOKUP(tblSalaries[[#This Row],[Where do you work]],tblCountries[[Actual]:[Mapping]],2,FALSE)","v":"UK"},"4 to 6 hours a day",7,{"$f":"VLOOKUP(K1518,tblCountries[],3,0)","v":"Europe"},{"$f":"VLOOKUP(tblSalaries[[#This Row],[How many hours of a day you work on Excel]],tblHours,2,0)","v":4},{"$f":"VLOOKUP(tblSalaries[[#This Row],[clean Country]],tblCountries[],5,0)","v":1.3407315045719035},{"$f":"IF($Q$1,tblSalaries[[#This Row],[PPP Factor]]*tblSalaries[[#This Row],[Salary in USD]],tblSalaries[[#This Row],[Salary in USD]])","v":47285.348162018527}]
[null,"ID1551","2012-05-31T20:13:27",1000000,1000000,"INR",{"$f":"tblSalaries[[#This Row],[clean Salary (in local currency)]]*VLOOKUP(tblSalaries[[#This Row],[Currency]],tblXrate[],2,FALSE)","v":17807.916687442568},"Financial analyst","Analyst","India",{"$f":"VLOOKUP(tblSalaries[[#This Row],[Where do you work]],tblCountries[[Actual]:[Mapping]],2,FALSE)","v":"India"},"All the 8 hours baby, all the 8!",10,{"$f":"VLOOKUP(K1519,tblCountries[],3,0)","v":"Asia"},{"$f":"VLOOKUP(tblSalaries[[#This Row],[How many hours of a day you work on Excel]],tblHours,2,0)","v":5},{"$f":"VLOOKUP(tblSalaries[[#This Row],[clean Country]],tblCountries[],5,0)","v":13.098808879263672},{"$f":"IF($Q$1,tblSalaries[[#This Row],[PPP Factor]]*tblSalaries[[#This Row],[Salary in USD]],tblSalaries[[#This Row],[Salary in USD]])","v":17807.916687442568}]
[null,"ID1552","2012-05-31T20:14:20","Â£35000",35000,"GBP",{"$f":"tblSalaries[[#This Row],[clean Salary (in local currency)]]*VLOOKUP(tblSalaries[[#This Row],[Currency]],tblXrate[],2,FALSE)","v":55166.239522354947},"Research Analyst","Analyst","UK",{"$f":"VLOOKUP(tblSalaries[[#This Row],[Where do you work]],tblCountries[[Actual]:[Mapping]],2,FALSE)","v":"UK"},"4 to 6 hours a day",3,{"$f":"VLOOKUP(K1520,tblCountries[],3,0)","v":"Europe"},{"$f":"VLOOKUP(tblSalaries[[#This Row],[How many hours of a day you work on Excel]],tblHours,2,0)","v":4},{"$f":"VLOOKUP(tblSalaries[[#This Row],[clean Country]],tblCountries[],5,0)","v":1.3407315045719035},{"$f":"IF($Q$1,tblSalaries[[#This Row],[PPP Factor]]*tblSalaries[[#This Row],[Salary in USD]],tblSalaries[[#This Row],[Salary in USD]])","v":55166.239522354947}]
[null,"ID1553","2012-05-31T21:05:02","55000 EUR",55000,"EUR",{"$f":"tblSalaries[[#This Row],[clean Salary (in local currency)]]*VLOOKUP(tblSalaries[[#This Row],[Currency]],tblXrate[],2,FALSE)","v":69871.969144538423},"Risk Officer","Manager","The Netherlands",{"$f":"VLOOKUP(tblSalaries[[#This Row],[Where do you work]],tblCountries[[Actual]:[Mapping]],2,FALSE)","v":"Netherlands"},"1 or 2 hours a day",5,{"$f":"VLOOKUP(K1521,tblCountries[],3,0)","v":"Europe"},{"$f":"VLOOKUP(tblSalaries[[#This Row],[How many hours of a day you work on Excel]],tblHours,2,0)","v":2},{"$f":"VLOOKUP(tblSalaries[[#This Row],[clean Country]],tblCountries[],5,0)","v":1.1470734656141099},{"$f":"IF($Q$1,tblSalaries[[#This Row],[PPP Factor]]*tblSalaries[[#This Row],[Salary in USD]],tblSalaries[[#This Row],[Salary in USD]])","v":69871.969144538423}]
[null,"ID1554","2012-05-31T21:06:45",70970,70970,"USD",{"$f":"tblSalaries[[#This Row],[clean Salary (in local currency)]]*VLOOKUP(tblSalaries[[#This Row],[Currency]],tblXrate[],2,FALSE)","v":70970},"Sr. Risk Analyst","Analyst","USA",{"$f":"VLOOKUP(tblSalaries[[#This Row],[Where do you work]],tblCountries[[Actual]:[Mapping]],2,FALSE)","v":"USA"},"4 to 6 hours a day",17,{"$f":"VLOOKUP(K1522,tblCountries[],3,0)","v":"North Amer."},{"$f":"VLOOKUP(tblSalaries[[#This Row],[How many hours of a day you work on Excel]],tblHours,2,0)","v":4},{"$f":"VLOOKUP(tblSalaries[[#This Row],[clean Country]],tblCountries[],5,0)","v":1},{"$f":"IF($Q$1,tblSalaries[[#This Row],[PPP Factor]]*tblSalaries[[#This Row],[Salary in USD]],tblSalaries[[#This Row],[Salary in USD]])","v":70970}]
[null,"ID1555","2012-05-31T21:45:03","60000 EUR",60000,"EUR",{"$f":"tblSalaries[[#This Row],[clean Salary (in local currency)]]*VLOOKUP(tblSalaries[[#This Row],[Currency]],tblXrate[],2,FALSE)","v":76223.966339496474},"Business Engineer","Engineer","Netherlands",{"$f":"VLOOKUP(tblSalaries[[#This Row],[Where do you work]],tblCountries[[Actual]:[Mapping]],2,FALSE)","v":"Netherlands"},"4 to 6 hours a day",7,{"$f":"VLOOKUP(K1523,tblCountries[],3,0)","v":"Europe"},{"$f":"VLOOKUP(tblSalaries[[#This Row],[How many hours of a day you work on Excel]],tblHours,2,0)","v":4},{"$f":"VLOOKUP(tblSalaries[[#This Row],[clean Country]],tblCountries[],5,0)","v":1.1470734656141099},{"$f":"IF($Q$1,tblSalaries[[#This Row],[PPP Factor]]*tblSalaries[[#This Row],[Salary in USD]],tblSalaries[[#This Row],[Salary in USD]])","v":76223.966339496474}]
[null,"ID1556","2012-05-31T21:47:37",110000,110000,"USD",{"$f":"tblSalaries[[#This Row],[clean Salary (in local currency)]]*VLOOKUP(tblSalaries[[#This Row],[Currency]],tblXrate[],2,FALSE)","v":110000},"Business Controller","Controller","Norway",{"$f":"VLOOKUP(tblSalaries[[#This Row],[Where do you work]],tblCountries[[Actual]:[Mapping]],2,FALSE)","v":"Norway"},"All the 8 hours baby, all the 8!",5,{"$f":"VLOOKUP(K1524,tblCountries[],3,0)","v":"Europe"},{"$f":"VLOOKUP(tblSalaries[[#This Row],[How many hours of a day you work on Excel]],tblHours,2,0)","v":5},{"$f":"VLOOKUP(tblSalaries[[#This Row],[clean Country]],tblCountries[],5,0)","v":0.90492042415514951},{"$f":"IF($Q$1,tblSalaries[[#This Row],[PPP Factor]]*tblSalaries[[#This Row],[Salary in USD]],tblSalaries[[#This Row],[Salary in USD]])","v":110000}]
[null,"ID1557","2012-05-31T21:48:35",1200,14400,"USD",{"$f":"tblSalaries[[#This Row],[clean Salary (in local currency)]]*VLOOKUP(tblSalaries[[#This Row],[Currency]],tblXrate[],2,FALSE)","v":14400},"FA /financial Analyst","Analyst","Bulgaria",{"$f":"VLOOKUP(tblSalaries[[#This Row],[Where do you work]],tblCountries[[Actual]:[Mapping]],2,FALSE)","v":"Bulgaria"},"All the 8 hours baby, all the 8!",15,{"$f":"VLOOKUP(K1525,tblCountries[],3,0)","v":"Europe"},{"$f":"VLOOKUP(tblSalaries[[#This Row],[How many hours of a day you work on Excel]],tblHours,2,0)","v":5},{"$f":"VLOOKUP(tblSalaries[[#This Row],[clean Country]],tblCountries[],5,0)","v":3.5586526439655808},{"$f":"IF($Q$1,tblSalaries[[#This Row],[PPP Factor]]*tblSalaries[[#This Row],[Salary in USD]],tblSalaries[[#This Row],[Salary in USD]])","v":14400}]
[null,"ID1558","2012-05-31T22:05:03",125000,125000,"USD",{"$f":"tblSalaries[[#This Row],[clean Salary (in local currency)]]*VLOOKUP(tblSalaries[[#This Row],[Currency]],tblXrate[],2,FALSE)","v":125000},"Consultant","Consultant","USA",{"$f":"VLOOKUP(tblSalaries[[#This Row],[Where do you work]],tblCountries[[Actual]:[Mapping]],2,FALSE)","v":"USA"},"All the 8 hours baby, all the 8!",8,{"$f":"VLOOKUP(K1526,tblCountries[],3,0)","v":"North Amer."},{"$f":"VLOOKUP(tblSalaries[[#This Row],[How many hours of a day you work on Excel]],tblHours,2,0)","v":5},{"$f":"VLOOKUP(tblSalaries[[#This Row],[clean Country]],tblCountries[],5,0)","v":1},{"$f":"IF($Q$1,tblSalaries[[#This Row],[PPP Factor]]*tblSalaries[[#This Row],[Salary in USD]],tblSalaries[[#This Row],[Salary in USD]])","v":125000}]
[null,"ID1559","2012-05-31T22:06:59",74000,74000,"CAD",{"$f":"tblSalaries[[#This Row],[clean Salary (in local currency)]]*VLOOKUP(tblSalaries[[#This Row],[Currency]],tblXrate[],2,FALSE)","v":72768.752704244194},"Operations Analyst","Analyst","Canada",{"$f":"VLOOKUP(tblSalaries[[#This Row],[Where do you work]],tblCountries[[Actual]:[Mapping]],2,FALSE)","v":"Canada"},"4 to 6 hours a day",10,{"$f":"VLOOKUP(K1527,tblCountries[],3,0)","v":"North Amer."},{"$f":"VLOOKUP(tblSalaries[[#This Row],[How many hours of a day you work on Excel]],tblHours,2,0)","v":4},{"$f":"VLOOKUP(tblSalaries[[#This Row],[clean Country]],tblCountries[],5,0)","v":1.1935324732986359},{"$f":"IF($Q$1,tblSalaries[[#This Row],[PPP Factor]]*tblSalaries[[#This Row],[Salary in USD]],tblSalaries[[#This Row],[Salary in USD]])","v":72768.752704244194}]
[null,"ID1560","2012-05-31T22:56:21","$59,000 USD",59000,"USD",{"$f":"tblSalaries[[#This Row],[clean Salary (in local currency)]]*VLOOKUP(tblSalaries[[#This Row],[Currency]],tblXrate[],2,FALSE)","v":59000},"Operations Manager","Manager","USA",{"$f":"VLOOKUP(tblSalaries[[#This Row],[Where do you work]],tblCountries[[Actual]:[Mapping]],2,FALSE)","v":"USA"},"4 to 6 hours a day",15,{"$f":"VLOOKUP(K1528,tblCountries[],3,0)","v":"North Amer."},{"$f":"VLOOKUP(tblSalaries[[#This Row],[How many hours of a day you work on Excel]],tblHours,2,0)","v":4},{"$f":"VLOOKUP(tblSalaries[[#This Row],[clean Country]],tblCountries[],5,0)","v":1},{"$f":"IF($Q$1,tblSalaries[[#This Row],[PPP Factor]]*tblSalaries[[#This Row],[Salary in USD]],tblSalaries[[#This Row],[Salary in USD]])","v":59000}]
[null,"ID1561","2012-05-31T23:08:12",71500,71500,"USD",{"$f":"tblSalaries[[#This Row],[clean Salary (in local currency)]]*VLOOKUP(tblSalaries[[#This Row],[Currency]],tblXrate[],2,FALSE)","v":71500},"Management Reporting Analyst","Analyst","USA",{"$f":"VLOOKUP(tblSalaries[[#This Row],[Where do you work]],tblCountries[[Actual]:[Mapping]],2,FALSE)","v":"USA"},"4 to 6 hours a day",5,{"$f":"VLOOKUP(K1529,tblCountries[],3,0)","v":"North Amer."},{"$f":"VLOOKUP(tblSalaries[[#This Row],[How many hours of a day you work on Excel]],tblHours,2,0)","v":4},{"$f":"VLOOKUP(tblSalaries[[#This Row],[clean Country]],tblCountries[],5,0)","v":1},{"$f":"IF($Q$1,tblSalaries[[#This Row],[PPP Factor]]*tblSalaries[[#This Row],[Salary in USD]],tblSalaries[[#This Row],[Salary in USD]])","v":71500}]
[null,"ID1562","2012-05-31T23:09:08","Â£25000",25000,"GBP",{"$f":"tblSalaries[[#This Row],[clean Salary (in local currency)]]*VLOOKUP(tblSalaries[[#This Row],[Currency]],tblXrate[],2,FALSE)","v":39404.456801682099},"Reporting Team Lead","Reporting","UK",{"$f":"VLOOKUP(tblSalaries[[#This Row],[Where do you work]],tblCountries[[Actual]:[Mapping]],2,FALSE)","v":"UK"},"4 to 6 hours a day",2,{"$f":"VLOOKUP(K1530,tblCountries[],3,0)","v":"Europe"},{"$f":"VLOOKUP(tblSalaries[[#This Row],[How many hours of a day you work on Excel]],tblHours,2,0)","v":4},{"$f":"VLOOKUP(tblSalaries[[#This Row],[clean Country]],tblCountries[],5,0)","v":1.3407315045719035},{"$f":"IF($Q$1,tblSalaries[[#This Row],[PPP Factor]]*tblSalaries[[#This Row],[Salary in USD]],tblSalaries[[#This Row],[Salary in USD]])","v":39404.456801682099}]
[null,"ID1563","2012-05-31T23:10:44","70000 â‚¬",70000,"EUR",{"$f":"tblSalaries[[#This Row],[clean Salary (in local currency)]]*VLOOKUP(tblSalaries[[#This Row],[Currency]],tblXrate[],2,FALSE)","v":88927.960729412545},"Specialist Learning Technology","Specialist","Germany",{"$f":"VLOOKUP(tblSalaries[[#This Row],[Where do you work]],tblCountries[[Actual]:[Mapping]],2,FALSE)","v":"Germany"},"1 or 2 hours a day",5,{"$f":"VLOOKUP(K1531,tblCountries[],3,0)","v":"Europe"},{"$f":"VLOOKUP(tblSalaries[[#This Row],[How many hours of a day you work on Excel]],tblHours,2,0)","v":2},{"$f":"VLOOKUP(tblSalaries[[#This Row],[clean Country]],tblCountries[],5,0)","v":1.276802913159353},{"$f":"IF($Q$1,tblSalaries[[#This Row],[PPP Factor]]*tblSalaries[[#This Row],[Salary in USD]],tblSalaries[[#This Row],[Salary in USD]])","v":88927.960729412545}]
[null,"ID1564","2012-05-31T23:48:36","USD90,000",90000,"USD",{"$f":"tblSalaries[[#This Row],[clean Salary (in local currency)]]*VLOOKUP(tblSalaries[[#This Row],[Currency]],tblXrate[],2,FALSE)","v":90000},"Operationsl Regional Manager","Manager","USA",{"$f":"VLOOKUP(tblSalaries[[#This Row],[Where do you work]],tblCountries[[Actual]:[Mapping]],2,FALSE)","v":"USA"},"4 to 6 hours a day",25,{"$f":"VLOOKUP(K1532,tblCountries[],3,0)","v":"North Amer."},{"$f":"VLOOKUP(tblSalaries[[#This Row],[How many hours of a day you work on Excel]],tblHours,2,0)","v":4},{"$f":"VLOOKUP(tblSalaries[[#This Row],[clean Country]],tblCountries[],5,0)","v":1},{"$f":"IF($Q$1,tblSalaries[[#This Row],[PPP Factor]]*tblSalaries[[#This Row],[Salary in USD]],tblSalaries[[#This Row],[Salary in USD]])","v":90000}]
[null,"ID1565","2012-06-01T00:02:34","Rs. 700000",700000,"INR",{"$f":"tblSalaries[[#This Row],[clean Salary (in local currency)]]*VLOOKUP(tblSalaries[[#This Row],[Currency]],tblXrate[],2,FALSE)","v":12465.541681209797},"Manager - Business Development","Manager","India",{"$f":"VLOOKUP(tblSalaries[[#This Row],[Where do you work]],tblCountries[[Actual]:[Mapping]],2,FALSE)","v":"India"},"All the 8 hours baby, all the 8!",30,{"$f":"VLOOKUP(K1533,tblCountries[],3,0)","v":"Asia"},{"$f":"VLOOKUP(tblSalaries[[#This Row],[How many hours of a day you work on Excel]],tblHours,2,0)","v":5},{"$f":"VLOOKUP(tblSalaries[[#This Row],[clean Country]],tblCountries[],5,0)","v":13.098808879263672},{"$f":"IF($Q$1,tblSalaries[[#This Row],[PPP Factor]]*tblSalaries[[#This Row],[Salary in USD]],tblSalaries[[#This Row],[Salary in USD]])","v":12465.541681209797}]
[null,"ID1566","2012-06-01T00:18:35","$40,000 USD",40000,"USD",{"$f":"tblSalaries[[#This Row],[clean Salary (in local currency)]]*VLOOKUP(tblSalaries[[#This Row],[Currency]],tblXrate[],2,FALSE)","v":40000},"QA Data Analyst","Analyst","USA",{"$f":"VLOOKUP(tblSalaries[[#This Row],[Where do you work]],tblCountries[[Actual]:[Mapping]],2,FALSE)","v":"USA"},"4 to 6 hours a day",8,{"$f":"VLOOKUP(K1534,tblCountries[],3,0)","v":"North Amer."},{"$f":"VLOOKUP(tblSalaries[[#This Row],[How many hours of a day you work on Excel]],tblHours,2,0)","v":4},{"$f":"VLOOKUP(tblSalaries[[#This Row],[clean Country]],tblCountries[],5,0)","v":1},{"$f":"IF($Q$1,tblSalaries[[#This Row],[PPP Factor]]*tblSalaries[[#This Row],[Salary in USD]],tblSalaries[[#This Row],[Salary in USD]])","v":40000}]
[null,"ID1567","2012-06-01T00:23:54",30000,30000,"USD",{"$f":"tblSalaries[[#This Row],[clean Salary (in local currency)]]*VLOOKUP(tblSalaries[[#This Row],[Currency]],tblXrate[],2,FALSE)","v":30000},"SME","Analyst","India",{"$f":"VLOOKUP(tblSalaries[[#This Row],[Where do you work]],tblCountries[[Actual]:[Mapping]],2,FALSE)","v":"India"},"All the 8 hours baby, all the 8!",4,{"$f":"VLOOKUP(K1535,tblCountries[],3,0)","v":"Asia"},{"$f":"VLOOKUP(tblSalaries[[#This Row],[How many hours of a day you work on Excel]],tblHours,2,0)","v":5},{"$f":"VLOOKUP(tblSalaries[[#This Row],[clean Country]],tblCountries[],5,0)","v":13.098808879263672},{"$f":"IF($Q$1,tblSalaries[[#This Row],[PPP Factor]]*tblSalaries[[#This Row],[Salary in USD]],tblSalaries[[#This Row],[Salary in USD]])","v":30000}]
[null,"ID1569","2012-06-01T01:29:02",46325,46325,"USD",{"$f":"tblSalaries[[#This Row],[clean Salary (in local currency)]]*VLOOKUP(tblSalaries[[#This Row],[Currency]],tblXrate[],2,FALSE)","v":46325},"Work Force Scheduler for Call Center","Controller","USA",{"$f":"VLOOKUP(tblSalaries[[#This Row],[Where do you work]],tblCountries[[Actual]:[Mapping]],2,FALSE)","v":"USA"},"4 to 6 hours a day",1,{"$f":"VLOOKUP(K1536,tblCountries[],3,0)","v":"North Amer."},{"$f":"VLOOKUP(tblSalaries[[#This Row],[How many hours of a day you work on Excel]],tblHours,2,0)","v":4},{"$f":"VLOOKUP(tblSalaries[[#This Row],[clean Country]],tblCountries[],5,0)","v":1},{"$f":"IF($Q$1,tblSalaries[[#This Row],[PPP Factor]]*tblSalaries[[#This Row],[Salary in USD]],tblSalaries[[#This Row],[Salary in USD]])","v":46325}]
[null,"ID1570","2012-06-01T01:47:43",15000,15000,"USD",{"$f":"tblSalaries[[#This Row],[clean Salary (in local currency)]]*VLOOKUP(tblSalaries[[#This Row],[Currency]],tblXrate[],2,FALSE)","v":15000},"Application Developer","Analyst","USA",{"$f":"VLOOKUP(tblSalaries[[#This Row],[Where do you work]],tblCountries[[Actual]:[Mapping]],2,FALSE)","v":"USA"},"All the 8 hours baby, all the 8!",8,{"$f":"VLOOKUP(K1537,tblCountries[],3,0)","v":"North Amer."},{"$f":"VLOOKUP(tblSalaries[[#This Row],[How many hours of a day you work on Excel]],tblHours,2,0)","v":5},{"$f":"VLOOKUP(tblSalaries[[#This Row],[clean Country]],tblCountries[],5,0)","v":1},{"$f":"IF($Q$1,tblSalaries[[#This Row],[PPP Factor]]*tblSalaries[[#This Row],[Salary in USD]],tblSalaries[[#This Row],[Salary in USD]])","v":15000}]
[null,"ID1571","2012-06-01T02:33:02",31200,31200,"USD",{"$f":"tblSalaries[[#This Row],[clean Salary (in local currency)]]*VLOOKUP(tblSalaries[[#This Row],[Currency]],tblXrate[],2,FALSE)","v":31200},"Data Analyst","Analyst","USA",{"$f":"VLOOKUP(tblSalaries[[#This Row],[Where do you work]],tblCountries[[Actual]:[Mapping]],2,FALSE)","v":"USA"},"4 to 6 hours a day",15,{"$f":"VLOOKUP(K1538,tblCountries[],3,0)","v":"North Amer."},{"$f":"VLOOKUP(tblSalaries[[#This Row],[How many hours of a day you work on Excel]],tblHours,2,0)","v":4},{"$f":"VLOOKUP(tblSalaries[[#This Row],[clean Country]],tblCountries[],5,0)","v":1},{"$f":"IF($Q$1,tblSalaries[[#This Row],[PPP Factor]]*tblSalaries[[#This Row],[Salary in USD]],tblSalaries[[#This Row],[Salary in USD]])","v":31200}]
[null,"ID1572","2012-06-01T02:46:21","Rs. 500000",500000,"INR",{"$f":"tblSalaries[[#This Row],[clean Salary (in local currency)]]*VLOOKUP(tblSalaries[[#This Row],[Currency]],tblXrate[],2,FALSE)","v":8903.9583437212841},"Sr. Associate","Analyst","India",{"$f":"VLOOKUP(tblSalaries[[#This Row],[Where do you work]],tblCountries[[Actual]:[Mapping]],2,FALSE)","v":"India"},"4 to 6 hours a day",9,{"$f":"VLOOKUP(K1539,tblCountries[],3,0)","v":"Asia"},{"$f":"VLOOKUP(tblSalaries[[#This Row],[How many hours of a day you work on Excel]],tblHours,2,0)","v":4},{"$f":"VLOOKUP(tblSalaries[[#This Row],[clean Country]],tblCountries[],5,0)","v":13.098808879263672},{"$f":"IF($Q$1,tblSalaries[[#This Row],[PPP Factor]]*tblSalaries[[#This Row],[Salary in USD]],tblSalaries[[#This Row],[Salary in USD]])","v":8903.9583437212841}]
[null,"ID1573","2012-06-01T03:01:04",1320,15840,"USD",{"$f":"tblSalaries[[#This Row],[clean Salary (in local currency)]]*VLOOKUP(tblSalaries[[#This Row],[Currency]],tblXrate[],2,FALSE)","v":15840},"Asistente","Analyst","Peru",{"$f":"VLOOKUP(tblSalaries[[#This Row],[Where do you work]],tblCountries[[Actual]:[Mapping]],2,FALSE)","v":"Peru"},"All the 8 hours baby, all the 8!",8,{"$f":"VLOOKUP(K1540,tblCountries[],3,0)","v":"South Amer."},{"$f":"VLOOKUP(tblSalaries[[#This Row],[How many hours of a day you work on Excel]],tblHours,2,0)","v":5},{"$f":"VLOOKUP(tblSalaries[[#This Row],[clean Country]],tblCountries[],5,0)","v":4.8088849135360761},{"$f":"IF($Q$1,tblSalaries[[#This Row],[PPP Factor]]*tblSalaries[[#This Row],[Salary in USD]],tblSalaries[[#This Row],[Salary in USD]])","v":15840}]
[null,"ID1574","2012-06-01T03:07:31","INR 850000",850000,"INR",{"$f":"tblSalaries[[#This Row],[clean Salary (in local currency)]]*VLOOKUP(tblSalaries[[#This Row],[Currency]],tblXrate[],2,FALSE)","v":15136.729184326183},"Sr Business analyst","Analyst","India",{"$f":"VLOOKUP(tblSalaries[[#This Row],[Where do you work]],tblCountries[[Actual]:[Mapping]],2,FALSE)","v":"India"},"4 to 6 hours a day",5,{"$f":"VLOOKUP(K1541,tblCountries[],3,0)","v":"Asia"},{"$f":"VLOOKUP(tblSalaries[[#This Row],[How many hours of a day you work on Excel]],tblHours,2,0)","v":4},{"$f":"VLOOKUP(tblSalaries[[#This Row],[clean Country]],tblCountries[],5,0)","v":13.098808879263672},{"$f":"IF($Q$1,tblSalaries[[#This Row],[PPP Factor]]*tblSalaries[[#This Row],[Salary in USD]],tblSalaries[[#This Row],[Salary in USD]])","v":15136.729184326183}]
[null,"ID1575","2012-06-01T04:10:52",41000,41000,"USD",{"$f":"tblSalaries[[#This Row],[clean Salary (in local currency)]]*VLOOKUP(tblSalaries[[#This Row],[Currency]],tblXrate[],2,FALSE)","v":41000},"Excel Developer","Consultant","USA",{"$f":"VLOOKUP(tblSalaries[[#This Row],[Where do you work]],tblCountries[[Actual]:[Mapping]],2,FALSE)","v":"USA"},"4 to 6 hours a day",10,{"$f":"VLOOKUP(K1542,tblCountries[],3,0)","v":"North Amer."},{"$f":"VLOOKUP(tblSalaries[[#This Row],[How many hours of a day you work on Excel]],tblHours,2,0)","v":4},{"$f":"VLOOKUP(tblSalaries[[#This Row],[clean Country]],tblCountries[],5,0)","v":1},{"$f":"IF($Q$1,tblSalaries[[#This Row],[PPP Factor]]*tblSalaries[[#This Row],[Salary in USD]],tblSalaries[[#This Row],[Salary in USD]])","v":41000}]
[null,"ID1576","2012-06-01T04:44:29",11000,11000,"USD",{"$f":"tblSalaries[[#This Row],[clean Salary (in local currency)]]*VLOOKUP(tblSalaries[[#This Row],[Currency]],tblXrate[],2,FALSE)","v":11000},"Coordinator","Manager","MÃ©xico",{"$f":"VLOOKUP(tblSalaries[[#This Row],[Where do you work]],tblCountries[[Actual]:[Mapping]],2,FALSE)","v":"Mexico"},"4 to 6 hours a day",2,{"$f":"VLOOKUP(K1543,tblCountries[],3,0)","v":"North Amer."},{"$f":"VLOOKUP(tblSalaries[[#This Row],[How many hours of a day you work on Excel]],tblHours,2,0)","v":4},{"$f":"VLOOKUP(tblSalaries[[#This Row],[clean Country]],tblCountries[],5,0)","v":3.3119096509240245},{"$f":"IF($Q$1,tblSalaries[[#This Row],[PPP Factor]]*tblSalaries[[#This Row],[Salary in USD]],tblSalaries[[#This Row],[Salary in USD]])","v":11000}]
[null,"ID1577","2012-06-01T05:32:31","35000 GBP",35000,"GBP",{"$f":"tblSalaries[[#This Row],[clean Salary (in local currency)]]*VLOOKUP(tblSalaries[[#This Row],[Currency]],tblXrate[],2,FALSE)","v":55166.239522354947},"finance director","CXO or Top Mgmt.","UK",{"$f":"VLOOKUP(tblSalaries[[#This Row],[Where do you work]],tblCountries[[Actual]:[Mapping]],2,FALSE)","v":"UK"},"2 to 3 hours per day",30,{"$f":"VLOOKUP(K1544,tblCountries[],3,0)","v":"Europe"},{"$f":"VLOOKUP(tblSalaries[[#This Row],[How many hours of a day you work on Excel]],tblHours,2,0)","v":3},{"$f":"VLOOKUP(tblSalaries[[#This Row],[clean Country]],tblCountries[],5,0)","v":1.3407315045719035},{"$f":"IF($Q$1,tblSalaries[[#This Row],[PPP Factor]]*tblSalaries[[#This Row],[Salary in USD]],tblSalaries[[#This Row],[Salary in USD]])","v":55166.239522354947}]
[null,"ID1578","2012-06-01T05:37:32",240000,240000,"PHP",{"$f":"tblSalaries[[#This Row],[clean Salary (in local currency)]]*VLOOKUP(tblSalaries[[#This Row],[Currency]],tblXrate[],2,FALSE)","v":5689.2125418690484},"IT Coordinator","Manager","Philippines",{"$f":"VLOOKUP(tblSalaries[[#This Row],[Where do you work]],tblCountries[[Actual]:[Mapping]],2,FALSE)","v":"Philippines"},"4 to 6 hours a day",15,{"$f":"VLOOKUP(K1545,tblCountries[],3,0)","v":"Asia"},{"$f":"VLOOKUP(tblSalaries[[#This Row],[How many hours of a day you work on Excel]],tblHours,2,0)","v":4},{"$f":"VLOOKUP(tblSalaries[[#This Row],[clean Country]],tblCountries[],5,0)","v":11.879941075374417},{"$f":"IF($Q$1,tblSalaries[[#This Row],[PPP Factor]]*tblSalaries[[#This Row],[Salary in USD]],tblSalaries[[#This Row],[Salary in USD]])","v":5689.2125418690484}]
[null,"ID1579","2012-06-01T05:52:11",17728.57,17728,"USD",{"$f":"tblSalaries[[#This Row],[clean Salary (in local currency)]]*VLOOKUP(tblSalaries[[#This Row],[Currency]],tblXrate[],2,FALSE)","v":17728},"Financial analyst","Analyst","Mexico",{"$f":"VLOOKUP(tblSalaries[[#This Row],[Where do you work]],tblCountries[[Actual]:[Mapping]],2,FALSE)","v":"Mexico"},"4 to 6 hours a day",3,{"$f":"VLOOKUP(K1546,tblCountries[],3,0)","v":"North Amer."},{"$f":"VLOOKUP(tblSalaries[[#This Row],[How many hours of a day you work on Excel]],tblHours,2,0)","v":4},{"$f":"VLOOKUP(tblSalaries[[#This Row],[clean Country]],tblCountries[],5,0)","v":3.3119096509240245},{"$f":"IF($Q$1,tblSalaries[[#This Row],[PPP Factor]]*tblSalaries[[#This Row],[Salary in USD]],tblSalaries[[#This Row],[Salary in USD]])","v":17728}]
[null,"ID1580","2012-06-01T05:56:20","120000 MAD",120000,"MAD",{"$f":"tblSalaries[[#This Row],[clean Salary (in local currency)]]*VLOOKUP(tblSalaries[[#This Row],[Currency]],tblXrate[],2,FALSE)","v":13745.704467353951},"Supply chain Controller","Controller","Morocco",{"$f":"VLOOKUP(tblSalaries[[#This Row],[Where do you work]],tblCountries[[Actual]:[Mapping]],2,FALSE)","v":"Morocco"},"All the 8 hours baby, all the 8!",8,{"$f":"VLOOKUP(K1547,tblCountries[],3,0)","v":"Africa"},{"$f":"VLOOKUP(tblSalaries[[#This Row],[How many hours of a day you work on Excel]],tblHours,2,0)","v":5},{"$f":"VLOOKUP(tblSalaries[[#This Row],[clean Country]],tblCountries[],5,0)","v":9.5777909738717337},{"$f":"IF($Q$1,tblSalaries[[#This Row],[PPP Factor]]*tblSalaries[[#This Row],[Salary in USD]],tblSalaries[[#This Row],[Salary in USD]])","v":13745.704467353951}]
[null,"ID1581","2012-06-01T06:17:19",50000,50000,"USD",{"$f":"tblSalaries[[#This Row],[clean Salary (in local currency)]]*VLOOKUP(tblSalaries[[#This Row],[Currency]],tblXrate[],2,FALSE)","v":50000},"Staff Accountant","Accountant","USA",{"$f":"VLOOKUP(tblSalaries[[#This Row],[Where do you work]],tblCountries[[Actual]:[Mapping]],2,FALSE)","v":"USA"},"4 to 6 hours a day",15,{"$f":"VLOOKUP(K1548,tblCountries[],3,0)","v":"North Amer."},{"$f":"VLOOKUP(tblSalaries[[#This Row],[How many hours of a day you work on Excel]],tblHours,2,0)","v":4},{"$f":"VLOOKUP(tblSalaries[[#This Row],[clean Country]],tblCountries[],5,0)","v":1},{"$f":"IF($Q$1,tblSalaries[[#This Row],[PPP Factor]]*tblSalaries[[#This Row],[Salary in USD]],tblSalaries[[#This Row],[Salary in USD]])","v":50000}]
[null,"ID1582","2012-06-01T06:31:49",80000,80000,"CAD",{"$f":"tblSalaries[[#This Row],[clean Salary (in local currency)]]*VLOOKUP(tblSalaries[[#This Row],[Currency]],tblXrate[],2,FALSE)","v":78668.921842426149},"Business Operations Analyst","Analyst","Canada",{"$f":"VLOOKUP(tblSalaries[[#This Row],[Where do you work]],tblCountries[[Actual]:[Mapping]],2,FALSE)","v":"Canada"},"4 to 6 hours a day",7,{"$f":"VLOOKUP(K1549,tblCountries[],3,0)","v":"North Amer."},{"$f":"VLOOKUP(tblSalaries[[#This Row],[How many hours of a day you work on Excel]],tblHours,2,0)","v":4},{"$f":"VLOOKUP(tblSalaries[[#This Row],[clean Country]],tblCountries[],5,0)","v":1.1935324732986359},{"$f":"IF($Q$1,tblSalaries[[#This Row],[PPP Factor]]*tblSalaries[[#This Row],[Salary in USD]],tblSalaries[[#This Row],[Salary in USD]])","v":78668.921842426149}]
[null,"ID1583","2012-06-01T06:53:52",85000,85000,"USD",{"$f":"tblSalaries[[#This Row],[clean Salary (in local currency)]]*VLOOKUP(tblSalaries[[#This Row],[Currency]],tblXrate[],2,FALSE)","v":85000},"Sr Report Developer","Reporting","USA",{"$f":"VLOOKUP(tblSalaries[[#This Row],[Where do you work]],tblCountries[[Actual]:[Mapping]],2,FALSE)","v":"USA"},"4 to 6 hours a day",10,{"$f":"VLOOKUP(K1550,tblCountries[],3,0)","v":"North Amer."},{"$f":"VLOOKUP(tblSalaries[[#This Row],[How many hours of a day you work on Excel]],tblHours,2,0)","v":4},{"$f":"VLOOKUP(tblSalaries[[#This Row],[clean Country]],tblCountries[],5,0)","v":1},{"$f":"IF($Q$1,tblSalaries[[#This Row],[PPP Factor]]*tblSalaries[[#This Row],[Salary in USD]],tblSalaries[[#This Row],[Salary in USD]])","v":85000}]
[null,"ID1584","2012-06-01T07:22:36",100000,100000,"AUD",{"$f":"tblSalaries[[#This Row],[clean Salary (in local currency)]]*VLOOKUP(tblSalaries[[#This Row],[Currency]],tblXrate[],2,FALSE)","v":101990.96564026357},"Management Accountant","Manager","Australia",{"$f":"VLOOKUP(tblSalaries[[#This Row],[Where do you work]],tblCountries[[Actual]:[Mapping]],2,FALSE)","v":"Australia"},"4 to 6 hours a day",20,{"$f":"VLOOKUP(K1551,tblCountries[],3,0)","v":"Oceania"},{"$f":"VLOOKUP(tblSalaries[[#This Row],[How many hours of a day you work on Excel]],tblHours,2,0)","v":4},{"$f":"VLOOKUP(tblSalaries[[#This Row],[clean Country]],tblCountries[],5,0)","v":1.2026395585822935},{"$f":"IF($Q$1,tblSalaries[[#This Row],[PPP Factor]]*tblSalaries[[#This Row],[Salary in USD]],tblSalaries[[#This Row],[Salary in USD]])","v":101990.96564026357}]
[null,"ID1585","2012-06-01T08:06:34","5.65 lac per annum",5650000,"INR",{"$f":"tblSalaries[[#This Row],[clean Salary (in local currency)]]*VLOOKUP(tblSalaries[[#This Row],[Currency]],tblXrate[],2,FALSE)","v":100614.72928405051},"MIS","Reporting","India",{"$f":"VLOOKUP(tblSalaries[[#This Row],[Where do you work]],tblCountries[[Actual]:[Mapping]],2,FALSE)","v":"India"},"2 to 3 hours per day",6,{"$f":"VLOOKUP(K1552,tblCountries[],3,0)","v":"Asia"},{"$f":"VLOOKUP(tblSalaries[[#This Row],[How many hours of a day you work on Excel]],tblHours,2,0)","v":3},{"$f":"VLOOKUP(tblSalaries[[#This Row],[clean Country]],tblCountries[],5,0)","v":13.098808879263672},{"$f":"IF($Q$1,tblSalaries[[#This Row],[PPP Factor]]*tblSalaries[[#This Row],[Salary in USD]],tblSalaries[[#This Row],[Salary in USD]])","v":100614.72928405051}]
[null,"ID1586","2012-06-01T08:52:31",85000,85000,"AUD",{"$f":"tblSalaries[[#This Row],[clean Salary (in local currency)]]*VLOOKUP(tblSalaries[[#This Row],[Currency]],tblXrate[],2,FALSE)","v":86692.320794224041},"Administrator","Analyst","Australia",{"$f":"VLOOKUP(tblSalaries[[#This Row],[Where do you work]],tblCountries[[Actual]:[Mapping]],2,FALSE)","v":"Australia"},"4 to 6 hours a day",30,{"$f":"VLOOKUP(K1553,tblCountries[],3,0)","v":"Oceania"},{"$f":"VLOOKUP(tblSalaries[[#This Row],[How many hours of a day you work on Excel]],tblHours,2,0)","v":4},{"$f":"VLOOKUP(tblSalaries[[#This Row],[clean Country]],tblCountries[],5,0)","v":1.2026395585822935},{"$f":"IF($Q$1,tblSalaries[[#This Row],[PPP Factor]]*tblSalaries[[#This Row],[Salary in USD]],tblSalaries[[#This Row],[Salary in USD]])","v":86692.320794224041}]
[null,"ID1587","2012-06-01T10:55:27","AU $120000",120000,"AUD",{"$f":"tblSalaries[[#This Row],[clean Salary (in local currency)]]*VLOOKUP(tblSalaries[[#This Row],[Currency]],tblXrate[],2,FALSE)","v":122389.15876831629},"Reporting Analyst","Analyst","Australia",{"$f":"VLOOKUP(tblSalaries[[#This Row],[Where do you work]],tblCountries[[Actual]:[Mapping]],2,FALSE)","v":"Australia"},"2 to 3 hours per day",5,{"$f":"VLOOKUP(K1554,tblCountries[],3,0)","v":"Oceania"},{"$f":"VLOOKUP(tblSalaries[[#This Row],[How many hours of a day you work on Excel]],tblHours,2,0)","v":3},{"$f":"VLOOKUP(tblSalaries[[#This Row],[clean Country]],tblCountries[],5,0)","v":1.2026395585822935},{"$f":"IF($Q$1,tblSalaries[[#This Row],[PPP Factor]]*tblSalaries[[#This Row],[Salary in USD]],tblSalaries[[#This Row],[Salary in USD]])","v":122389.15876831629}]
[null,"ID1588","2012-06-01T10:57:59","30000 Rs",360000,"INR",{"$f":"tblSalaries[[#This Row],[clean Salary (in local currency)]]*VLOOKUP(tblSalaries[[#This Row],[Currency]],tblXrate[],2,FALSE)","v":6410.8500074793246},"team leader ","Manager","India",{"$f":"VLOOKUP(tblSalaries[[#This Row],[Where do you work]],tblCountries[[Actual]:[Mapping]],2,FALSE)","v":"India"},"2 to 3 hours per day",8,{"$f":"VLOOKUP(K1555,tblCountries[],3,0)","v":"Asia"},{"$f":"VLOOKUP(tblSalaries[[#This Row],[How many hours of a day you work on Excel]],tblHours,2,0)","v":3},{"$f":"VLOOKUP(tblSalaries[[#This Row],[clean Country]],tblCountries[],5,0)","v":13.098808879263672},{"$f":"IF($Q$1,tblSalaries[[#This Row],[PPP Factor]]*tblSalaries[[#This Row],[Salary in USD]],tblSalaries[[#This Row],[Salary in USD]])","v":6410.8500074793246}]
[null,"ID1589","2012-06-01T13:03:18",44000,44000,"USD",{"$f":"tblSalaries[[#This Row],[clean Salary (in local currency)]]*VLOOKUP(tblSalaries[[#This Row],[Currency]],tblXrate[],2,FALSE)","v":44000},"Quality Assurance Analyst","Analyst","USA",{"$f":"VLOOKUP(tblSalaries[[#This Row],[Where do you work]],tblCountries[[Actual]:[Mapping]],2,FALSE)","v":"USA"},"4 to 6 hours a day",3.5,{"$f":"VLOOKUP(K1556,tblCountries[],3,0)","v":"North Amer."},{"$f":"VLOOKUP(tblSalaries[[#This Row],[How many hours of a day you work on Excel]],tblHours,2,0)","v":4},{"$f":"VLOOKUP(tblSalaries[[#This Row],[clean Country]],tblCountries[],5,0)","v":1},{"$f":"IF($Q$1,tblSalaries[[#This Row],[PPP Factor]]*tblSalaries[[#This Row],[Salary in USD]],tblSalaries[[#This Row],[Salary in USD]])","v":44000}]
[null,"ID1590","2012-06-01T14:32:41",250000,250000,"INR",{"$f":"tblSalaries[[#This Row],[clean Salary (in local currency)]]*VLOOKUP(tblSalaries[[#This Row],[Currency]],tblXrate[],2,FALSE)","v":4451.9791718606421},"Analytics engineer","Engineer","India",{"$f":"VLOOKUP(tblSalaries[[#This Row],[Where do you work]],tblCountries[[Actual]:[Mapping]],2,FALSE)","v":"India"},"4 to 6 hours a day",2.5,{"$f":"VLOOKUP(K1557,tblCountries[],3,0)","v":"Asia"},{"$f":"VLOOKUP(tblSalaries[[#This Row],[How many hours of a day you work on Excel]],tblHours,2,0)","v":4},{"$f":"VLOOKUP(tblSalaries[[#This Row],[clean Country]],tblCountries[],5,0)","v":13.098808879263672},{"$f":"IF($Q$1,tblSalaries[[#This Row],[PPP Factor]]*tblSalaries[[#This Row],[Salary in USD]],tblSalaries[[#This Row],[Salary in USD]])","v":4451.9791718606421}]
[null,"ID1591","2012-06-01T14:50:41",4500,4500,"USD",{"$f":"tblSalaries[[#This Row],[clean Salary (in local currency)]]*VLOOKUP(tblSalaries[[#This Row],[Currency]],tblXrate[],2,FALSE)","v":4500},"Assistant Manger Service Quality Assurance","Analyst","Pakistan",{"$f":"VLOOKUP(tblSalaries[[#This Row],[Where do you work]],tblCountries[[Actual]:[Mapping]],2,FALSE)","v":"Pakistan"},"4 to 6 hours a day",6,{"$f":"VLOOKUP(K1558,tblCountries[],3,0)","v":"Asia"},{"$f":"VLOOKUP(tblSalaries[[#This Row],[How many hours of a day you work on Excel]],tblHours,2,0)","v":4},{"$f":"VLOOKUP(tblSalaries[[#This Row],[clean Country]],tblCountries[],5,0)","v":17.361679224973088},{"$f":"IF($Q$1,tblSalaries[[#This Row],[PPP Factor]]*tblSalaries[[#This Row],[Salary in USD]],tblSalaries[[#This Row],[Salary in USD]])","v":4500}]
[null,"ID1592","2012-06-01T15:09:27",1700000,1700000,"INR",{"$f":"tblSalaries[[#This Row],[clean Salary (in local currency)]]*VLOOKUP(tblSalaries[[#This Row],[Currency]],tblXrate[],2,FALSE)","v":30273.458368652366},"AVP","CXO or Top Mgmt.","India",{"$f":"VLOOKUP(tblSalaries[[#This Row],[Where do you work]],tblCountries[[Actual]:[Mapping]],2,FALSE)","v":"India"},"4 to 6 hours a day",6,{"$f":"VLOOKUP(K1559,tblCountries[],3,0)","v":"Asia"},{"$f":"VLOOKUP(tblSalaries[[#This Row],[How many hours of a day you work on Excel]],tblHours,2,0)","v":4},{"$f":"VLOOKUP(tblSalaries[[#This Row],[clean Country]],tblCountries[],5,0)","v":13.098808879263672},{"$f":"IF($Q$1,tblSalaries[[#This Row],[PPP Factor]]*tblSalaries[[#This Row],[Salary in USD]],tblSalaries[[#This Row],[Salary in USD]])","v":30273.458368652366}]
[null,"ID1593","2012-06-01T15:39:20","U$52,000/annual",52000,"USD",{"$f":"tblSalaries[[#This Row],[clean Salary (in local currency)]]*VLOOKUP(tblSalaries[[#This Row],[Currency]],tblXrate[],2,FALSE)","v":52000},"Planner","Analyst","USA",{"$f":"VLOOKUP(tblSalaries[[#This Row],[Where do you work]],tblCountries[[Actual]:[Mapping]],2,FALSE)","v":"USA"},"All the 8 hours baby, all the 8!",5,{"$f":"VLOOKUP(K1560,tblCountries[],3,0)","v":"North Amer."},{"$f":"VLOOKUP(tblSalaries[[#This Row],[How many hours of a day you work on Excel]],tblHours,2,0)","v":5},{"$f":"VLOOKUP(tblSalaries[[#This Row],[clean Country]],tblCountries[],5,0)","v":1},{"$f":"IF($Q$1,tblSalaries[[#This Row],[PPP Factor]]*tblSalaries[[#This Row],[Salary in USD]],tblSalaries[[#This Row],[Salary in USD]])","v":52000}]
[null,"ID1594","2012-06-01T18:08:07","75000 $",75000,"USD",{"$f":"tblSalaries[[#This Row],[clean Salary (in local currency)]]*VLOOKUP(tblSalaries[[#This Row],[Currency]],tblXrate[],2,FALSE)","v":75000},"Consultant","Consultant","Germany",{"$f":"VLOOKUP(tblSalaries[[#This Row],[Where do you work]],tblCountries[[Actual]:[Mapping]],2,FALSE)","v":"Germany"},"2 to 3 hours per day",9,{"$f":"VLOOKUP(K1561,tblCountries[],3,0)","v":"Europe"},{"$f":"VLOOKUP(tblSalaries[[#This Row],[How many hours of a day you work on Excel]],tblHours,2,0)","v":3},{"$f":"VLOOKUP(tblSalaries[[#This Row],[clean Country]],tblCountries[],5,0)","v":1.276802913159353},{"$f":"IF($Q$1,tblSalaries[[#This Row],[PPP Factor]]*tblSalaries[[#This Row],[Salary in USD]],tblSalaries[[#This Row],[Salary in USD]])","v":75000}]
[null,"ID1595","2012-06-01T18:18:31","Rs 1000000",1000000,"INR",{"$f":"tblSalaries[[#This Row],[clean Salary (in local currency)]]*VLOOKUP(tblSalaries[[#This Row],[Currency]],tblXrate[],2,FALSE)","v":17807.916687442568},"Senior Analyst","Analyst","India",{"$f":"VLOOKUP(tblSalaries[[#This Row],[Where do you work]],tblCountries[[Actual]:[Mapping]],2,FALSE)","v":"India"},"All the 8 hours baby, all the 8!",4,{"$f":"VLOOKUP(K1562,tblCountries[],3,0)","v":"Asia"},{"$f":"VLOOKUP(tblSalaries[[#This Row],[How many hours of a day you work on Excel]],tblHours,2,0)","v":5},{"$f":"VLOOKUP(tblSalaries[[#This Row],[clean Country]],tblCountries[],5,0)","v":13.098808879263672},{"$f":"IF($Q$1,tblSalaries[[#This Row],[PPP Factor]]*tblSalaries[[#This Row],[Salary in USD]],tblSalaries[[#This Row],[Salary in USD]])","v":17807.916687442568}]
[null,"ID1596","2012-06-01T18:58:42",177600,177600,"USD",{"$f":"tblSalaries[[#This Row],[clean Salary (in local currency)]]*VLOOKUP(tblSalaries[[#This Row],[Currency]],tblXrate[],2,FALSE)","v":177600},"Accountant","Accountant","Lesotho",{"$f":"VLOOKUP(tblSalaries[[#This Row],[Where do you work]],tblCountries[[Actual]:[Mapping]],2,FALSE)","v":"Lesotho"},"4 to 6 hours a day",6,{"$f":"VLOOKUP(K1563,tblCountries[],3,0)","v":"Africa"},{"$f":"VLOOKUP(tblSalaries[[#This Row],[How many hours of a day you work on Excel]],tblHours,2,0)","v":4},{"$f":"VLOOKUP(tblSalaries[[#This Row],[clean Country]],tblCountries[],5,0)","v":24.687244897959182},{"$f":"IF($Q$1,tblSalaries[[#This Row],[PPP Factor]]*tblSalaries[[#This Row],[Salary in USD]],tblSalaries[[#This Row],[Salary in USD]])","v":177600}]
[null,"ID1597","2012-06-01T19:42:46",650000,650000,"INR",{"$f":"tblSalaries[[#This Row],[clean Salary (in local currency)]]*VLOOKUP(tblSalaries[[#This Row],[Currency]],tblXrate[],2,FALSE)","v":11575.14584683767},"Associate","Analyst","India",{"$f":"VLOOKUP(tblSalaries[[#This Row],[Where do you work]],tblCountries[[Actual]:[Mapping]],2,FALSE)","v":"India"},"4 to 6 hours a day",5,{"$f":"VLOOKUP(K1564,tblCountries[],3,0)","v":"Asia"},{"$f":"VLOOKUP(tblSalaries[[#This Row],[How many hours of a day you work on Excel]],tblHours,2,0)","v":4},{"$f":"VLOOKUP(tblSalaries[[#This Row],[clean Country]],tblCountries[],5,0)","v":13.098808879263672},{"$f":"IF($Q$1,tblSalaries[[#This Row],[PPP Factor]]*tblSalaries[[#This Row],[Salary in USD]],tblSalaries[[#This Row],[Salary in USD]])","v":11575.14584683767}]
[null,"ID1598","2012-06-01T19:46:33","21000EUR",21000,"EUR",{"$f":"tblSalaries[[#This Row],[clean Salary (in local currency)]]*VLOOKUP(tblSalaries[[#This Row],[Currency]],tblXrate[],2,FALSE)","v":26678.388218823762},"Coordenador PeÃ§as Grupo","Manager","Portugal",{"$f":"VLOOKUP(tblSalaries[[#This Row],[Where do you work]],tblCountries[[Actual]:[Mapping]],2,FALSE)","v":"Portugal"},"4 to 6 hours a day",10,{"$f":"VLOOKUP(K1565,tblCountries[],3,0)","v":"Europe"},{"$f":"VLOOKUP(tblSalaries[[#This Row],[How many hours of a day you work on Excel]],tblHours,2,0)","v":4},{"$f":"VLOOKUP(tblSalaries[[#This Row],[clean Country]],tblCountries[],5,0)","v":2.0712726338769745},{"$f":"IF($Q$1,tblSalaries[[#This Row],[PPP Factor]]*tblSalaries[[#This Row],[Salary in USD]],tblSalaries[[#This Row],[Salary in USD]])","v":26678.388218823762}]
[null,"ID1600","2012-06-01T19:57:45","Â£80000",80000,"GBP",{"$f":"tblSalaries[[#This Row],[clean Salary (in local currency)]]*VLOOKUP(tblSalaries[[#This Row],[Currency]],tblXrate[],2,FALSE)","v":126094.26176538273},"Owner of Business Improvement Consultancy","Consultant","UK",{"$f":"VLOOKUP(tblSalaries[[#This Row],[Where do you work]],tblCountries[[Actual]:[Mapping]],2,FALSE)","v":"UK"},"4 to 6 hours a day",12,{"$f":"VLOOKUP(K1566,tblCountries[],3,0)","v":"Europe"},{"$f":"VLOOKUP(tblSalaries[[#This Row],[How many hours of a day you work on Excel]],tblHours,2,0)","v":4},{"$f":"VLOOKUP(tblSalaries[[#This Row],[clean Country]],tblCountries[],5,0)","v":1.3407315045719035},{"$f":"IF($Q$1,tblSalaries[[#This Row],[PPP Factor]]*tblSalaries[[#This Row],[Salary in USD]],tblSalaries[[#This Row],[Salary in USD]])","v":126094.26176538273}]
[null,"ID1601","2012-06-01T20:12:22","500 USD",6000,"USD",{"$f":"tblSalaries[[#This Row],[clean Salary (in local currency)]]*VLOOKUP(tblSalaries[[#This Row],[Currency]],tblXrate[],2,FALSE)","v":6000},"Business Analyst","Analyst","India",{"$f":"VLOOKUP(tblSalaries[[#This Row],[Where do you work]],tblCountries[[Actual]:[Mapping]],2,FALSE)","v":"India"},"4 to 6 hours a day",2,{"$f":"VLOOKUP(K1567,tblCountries[],3,0)","v":"Asia"},{"$f":"VLOOKUP(tblSalaries[[#This Row],[How many hours of a day you work on Excel]],tblHours,2,0)","v":4},{"$f":"VLOOKUP(tblSalaries[[#This Row],[clean Country]],tblCountries[],5,0)","v":13.098808879263672},{"$f":"IF($Q$1,tblSalaries[[#This Row],[PPP Factor]]*tblSalaries[[#This Row],[Salary in USD]],tblSalaries[[#This Row],[Salary in USD]])","v":6000}]
[null,"ID1602","2012-06-01T20:27:23",10000,10000,"USD",{"$f":"tblSalaries[[#This Row],[clean Salary (in local currency)]]*VLOOKUP(tblSalaries[[#This Row],[Currency]],tblXrate[],2,FALSE)","v":10000},"MIS","Reporting","India",{"$f":"VLOOKUP(tblSalaries[[#This Row],[Where do you work]],tblCountries[[Actual]:[Mapping]],2,FALSE)","v":"India"},"All the 8 hours baby, all the 8!",6,{"$f":"VLOOKUP(K1568,tblCountries[],3,0)","v":"Asia"},{"$f":"VLOOKUP(tblSalaries[[#This Row],[How many hours of a day you work on Excel]],tblHours,2,0)","v":5},{"$f":"VLOOKUP(tblSalaries[[#This Row],[clean Country]],tblCountries[],5,0)","v":13.098808879263672},{"$f":"IF($Q$1,tblSalaries[[#This Row],[PPP Factor]]*tblSalaries[[#This Row],[Salary in USD]],tblSalaries[[#This Row],[Salary in USD]])","v":10000}]
[null,"ID1603","2012-06-01T20:37:53",50000,50000,"USD",{"$f":"tblSalaries[[#This Row],[clean Salary (in local currency)]]*VLOOKUP(tblSalaries[[#This Row],[Currency]],tblXrate[],2,FALSE)","v":50000},"Sales Operations Analyst","Analyst","USA",{"$f":"VLOOKUP(tblSalaries[[#This Row],[Where do you work]],tblCountries[[Actual]:[Mapping]],2,FALSE)","v":"USA"},"All the 8 hours baby, all the 8!",2,{"$f":"VLOOKUP(K1569,tblCountries[],3,0)","v":"North Amer."},{"$f":"VLOOKUP(tblSalaries[[#This Row],[How many hours of a day you work on Excel]],tblHours,2,0)","v":5},{"$f":"VLOOKUP(tblSalaries[[#This Row],[clean Country]],tblCountries[],5,0)","v":1},{"$f":"IF($Q$1,tblSalaries[[#This Row],[PPP Factor]]*tblSalaries[[#This Row],[Salary in USD]],tblSalaries[[#This Row],[Salary in USD]])","v":50000}]
[null,"ID1604","2012-06-01T20:38:57",10000,10000,"USD",{"$f":"tblSalaries[[#This Row],[clean Salary (in local currency)]]*VLOOKUP(tblSalaries[[#This Row],[Currency]],tblXrate[],2,FALSE)","v":10000},"dgm","Manager","India",{"$f":"VLOOKUP(tblSalaries[[#This Row],[Where do you work]],tblCountries[[Actual]:[Mapping]],2,FALSE)","v":"India"},"All the 8 hours baby, all the 8!",12,{"$f":"VLOOKUP(K1570,tblCountries[],3,0)","v":"Asia"},{"$f":"VLOOKUP(tblSalaries[[#This Row],[How many hours of a day you work on Excel]],tblHours,2,0)","v":5},{"$f":"VLOOKUP(tblSalaries[[#This Row],[clean Country]],tblCountries[],5,0)","v":13.098808879263672},{"$f":"IF($Q$1,tblSalaries[[#This Row],[PPP Factor]]*tblSalaries[[#This Row],[Salary in USD]],tblSalaries[[#This Row],[Salary in USD]])","v":10000}]
[null,"ID1605","2012-06-01T20:53:08",50000,50000,"USD",{"$f":"tblSalaries[[#This Row],[clean Salary (in local currency)]]*VLOOKUP(tblSalaries[[#This Row],[Currency]],tblXrate[],2,FALSE)","v":50000},"Catalog Circulation Analyst","Analyst","USA",{"$f":"VLOOKUP(tblSalaries[[#This Row],[Where do you work]],tblCountries[[Actual]:[Mapping]],2,FALSE)","v":"USA"},"All the 8 hours baby, all the 8!",12,{"$f":"VLOOKUP(K1571,tblCountries[],3,0)","v":"North Amer."},{"$f":"VLOOKUP(tblSalaries[[#This Row],[How many hours of a day you work on Excel]],tblHours,2,0)","v":5},{"$f":"VLOOKUP(tblSalaries[[#This Row],[clean Country]],tblCountries[],5,0)","v":1},{"$f":"IF($Q$1,tblSalaries[[#This Row],[PPP Factor]]*tblSalaries[[#This Row],[Salary in USD]],tblSalaries[[#This Row],[Salary in USD]])","v":50000}]
[null,"ID1606","2012-06-01T22:20:26","20000 $",20000,"USD",{"$f":"tblSalaries[[#This Row],[clean Salary (in local currency)]]*VLOOKUP(tblSalaries[[#This Row],[Currency]],tblXrate[],2,FALSE)","v":20000},"Manager","Manager","India",{"$f":"VLOOKUP(tblSalaries[[#This Row],[Where do you work]],tblCountries[[Actual]:[Mapping]],2,FALSE)","v":"India"},"4 to 6 hours a day",1,{"$f":"VLOOKUP(K1572,tblCountries[],3,0)","v":"Asia"},{"$f":"VLOOKUP(tblSalaries[[#This Row],[How many hours of a day you work on Excel]],tblHours,2,0)","v":4},{"$f":"VLOOKUP(tblSalaries[[#This Row],[clean Country]],tblCountries[],5,0)","v":13.098808879263672},{"$f":"IF($Q$1,tblSalaries[[#This Row],[PPP Factor]]*tblSalaries[[#This Row],[Salary in USD]],tblSalaries[[#This Row],[Salary in USD]])","v":20000}]
[null,"ID1607","2012-06-01T23:29:43","Â£20000",20000,"GBP",{"$f":"tblSalaries[[#This Row],[clean Salary (in local currency)]]*VLOOKUP(tblSalaries[[#This Row],[Currency]],tblXrate[],2,FALSE)","v":31523.565441345683},"Operations Analyst","Analyst","UK",{"$f":"VLOOKUP(tblSalaries[[#This Row],[Where do you work]],tblCountries[[Actual]:[Mapping]],2,FALSE)","v":"UK"},"All the 8 hours baby, all the 8!",3,{"$f":"VLOOKUP(K1573,tblCountries[],3,0)","v":"Europe"},{"$f":"VLOOKUP(tblSalaries[[#This Row],[How many hours of a day you work on Excel]],tblHours,2,0)","v":5},{"$f":"VLOOKUP(tblSalaries[[#This Row],[clean Country]],tblCountries[],5,0)","v":1.3407315045719035},{"$f":"IF($Q$1,tblSalaries[[#This Row],[PPP Factor]]*tblSalaries[[#This Row],[Salary in USD]],tblSalaries[[#This Row],[Salary in USD]])","v":31523.565441345683}]
[null,"ID1608","2012-06-02T01:29:04","â‚¬ 50k",50000,"EUR",{"$f":"tblSalaries[[#This Row],[clean Salary (in local currency)]]*VLOOKUP(tblSalaries[[#This Row],[Currency]],tblXrate[],2,FALSE)","v":63519.971949580387},"Controller","Controller","Netherlands",{"$f":"VLOOKUP(tblSalaries[[#This Row],[Where do you work]],tblCountries[[Actual]:[Mapping]],2,FALSE)","v":"Netherlands"},"4 to 6 hours a day",10,{"$f":"VLOOKUP(K1574,tblCountries[],3,0)","v":"Europe"},{"$f":"VLOOKUP(tblSalaries[[#This Row],[How many hours of a day you work on Excel]],tblHours,2,0)","v":4},{"$f":"VLOOKUP(tblSalaries[[#This Row],[clean Country]],tblCountries[],5,0)","v":1.1470734656141099},{"$f":"IF($Q$1,tblSalaries[[#This Row],[PPP Factor]]*tblSalaries[[#This Row],[Salary in USD]],tblSalaries[[#This Row],[Salary in USD]])","v":63519.971949580387}]
[null,"ID1609","2012-06-02T01:43:24",2300,27600,"EUR",{"$f":"tblSalaries[[#This Row],[clean Salary (in local currency)]]*VLOOKUP(tblSalaries[[#This Row],[Currency]],tblXrate[],2,FALSE)","v":35063.024516168378},"controller","Controller","Hungary",{"$f":"VLOOKUP(tblSalaries[[#This Row],[Where do you work]],tblCountries[[Actual]:[Mapping]],2,FALSE)","v":"Hungary"},"All the 8 hours baby, all the 8!",15,{"$f":"VLOOKUP(K1575,tblCountries[],3,0)","v":"Europe"},{"$f":"VLOOKUP(tblSalaries[[#This Row],[How many hours of a day you work on Excel]],tblHours,2,0)","v":5},{"$f":"VLOOKUP(tblSalaries[[#This Row],[clean Country]],tblCountries[],5,0)","v":2.4698586085447398},{"$f":"IF($Q$1,tblSalaries[[#This Row],[PPP Factor]]*tblSalaries[[#This Row],[Salary in USD]],tblSalaries[[#This Row],[Salary in USD]])","v":35063.024516168378}]
[null,"ID1610","2012-06-02T02:24:39",55000,55000,"USD",{"$f":"tblSalaries[[#This Row],[clean Salary (in local currency)]]*VLOOKUP(tblSalaries[[#This Row],[Currency]],tblXrate[],2,FALSE)","v":55000},"Business Analyst","Analyst","USA",{"$f":"VLOOKUP(tblSalaries[[#This Row],[Where do you work]],tblCountries[[Actual]:[Mapping]],2,FALSE)","v":"USA"},"4 to 6 hours a day",2,{"$f":"VLOOKUP(K1576,tblCountries[],3,0)","v":"North Amer."},{"$f":"VLOOKUP(tblSalaries[[#This Row],[How many hours of a day you work on Excel]],tblHours,2,0)","v":4},{"$f":"VLOOKUP(tblSalaries[[#This Row],[clean Country]],tblCountries[],5,0)","v":1},{"$f":"IF($Q$1,tblSalaries[[#This Row],[PPP Factor]]*tblSalaries[[#This Row],[Salary in USD]],tblSalaries[[#This Row],[Salary in USD]])","v":55000}]
[null,"ID1611","2012-06-02T02:28:30",38000,38000,"USD",{"$f":"tblSalaries[[#This Row],[clean Salary (in local currency)]]*VLOOKUP(tblSalaries[[#This Row],[Currency]],tblXrate[],2,FALSE)","v":38000},"Business Analyst","Analyst","USA",{"$f":"VLOOKUP(tblSalaries[[#This Row],[Where do you work]],tblCountries[[Actual]:[Mapping]],2,FALSE)","v":"USA"},"All the 8 hours baby, all the 8!",1,{"$f":"VLOOKUP(K1577,tblCountries[],3,0)","v":"North Amer."},{"$f":"VLOOKUP(tblSalaries[[#This Row],[How many hours of a day you work on Excel]],tblHours,2,0)","v":5},{"$f":"VLOOKUP(tblSalaries[[#This Row],[clean Country]],tblCountries[],5,0)","v":1},{"$f":"IF($Q$1,tblSalaries[[#This Row],[PPP Factor]]*tblSalaries[[#This Row],[Salary in USD]],tblSalaries[[#This Row],[Salary in USD]])","v":38000}]
[null,"ID1612","2012-06-02T03:08:50",1800000,1800000,"INR",{"$f":"tblSalaries[[#This Row],[clean Salary (in local currency)]]*VLOOKUP(tblSalaries[[#This Row],[Currency]],tblXrate[],2,FALSE)","v":32054.250037396621},"analyst","Analyst","India",{"$f":"VLOOKUP(tblSalaries[[#This Row],[Where do you work]],tblCountries[[Actual]:[Mapping]],2,FALSE)","v":"India"},"All the 8 hours baby, all the 8!",1,{"$f":"VLOOKUP(K1578,tblCountries[],3,0)","v":"Asia"},{"$f":"VLOOKUP(tblSalaries[[#This Row],[How many hours of a day you work on Excel]],tblHours,2,0)","v":5},{"$f":"VLOOKUP(tblSalaries[[#This Row],[clean Country]],tblCountries[],5,0)","v":13.098808879263672},{"$f":"IF($Q$1,tblSalaries[[#This Row],[PPP Factor]]*tblSalaries[[#This Row],[Salary in USD]],tblSalaries[[#This Row],[Salary in USD]])","v":32054.250037396621}]
[null,"ID1613","2012-06-02T03:13:57",35500,35500,"USD",{"$f":"tblSalaries[[#This Row],[clean Salary (in local currency)]]*VLOOKUP(tblSalaries[[#This Row],[Currency]],tblXrate[],2,FALSE)","v":35500},"SAS Adminstrator","Analyst","USA",{"$f":"VLOOKUP(tblSalaries[[#This Row],[Where do you work]],tblCountries[[Actual]:[Mapping]],2,FALSE)","v":"USA"},"4 to 6 hours a day",20,{"$f":"VLOOKUP(K1579,tblCountries[],3,0)","v":"North Amer."},{"$f":"VLOOKUP(tblSalaries[[#This Row],[How many hours of a day you work on Excel]],tblHours,2,0)","v":4},{"$f":"VLOOKUP(tblSalaries[[#This Row],[clean Country]],tblCountries[],5,0)","v":1},{"$f":"IF($Q$1,tblSalaries[[#This Row],[PPP Factor]]*tblSalaries[[#This Row],[Salary in USD]],tblSalaries[[#This Row],[Salary in USD]])","v":35500}]
[null,"ID1614","2012-06-02T03:23:09",62000,62000,"USD",{"$f":"tblSalaries[[#This Row],[clean Salary (in local currency)]]*VLOOKUP(tblSalaries[[#This Row],[Currency]],tblXrate[],2,FALSE)","v":62000},"Financial Analyst","Analyst","USA",{"$f":"VLOOKUP(tblSalaries[[#This Row],[Where do you work]],tblCountries[[Actual]:[Mapping]],2,FALSE)","v":"USA"},"2 to 3 hours per day",5,{"$f":"VLOOKUP(K1580,tblCountries[],3,0)","v":"North Amer."},{"$f":"VLOOKUP(tblSalaries[[#This Row],[How many hours of a day you work on Excel]],tblHours,2,0)","v":3},{"$f":"VLOOKUP(tblSalaries[[#This Row],[clean Country]],tblCountries[],5,0)","v":1},{"$f":"IF($Q$1,tblSalaries[[#This Row],[PPP Factor]]*tblSalaries[[#This Row],[Salary in USD]],tblSalaries[[#This Row],[Salary in USD]])","v":62000}]
[null,"ID1615","2012-06-02T03:29:19","Â£21500Uk",21500,"GBP",{"$f":"tblSalaries[[#This Row],[clean Salary (in local currency)]]*VLOOKUP(tblSalaries[[#This Row],[Currency]],tblXrate[],2,FALSE)","v":33887.832849446611},"Data Analyst","Analyst","UK",{"$f":"VLOOKUP(tblSalaries[[#This Row],[Where do you work]],tblCountries[[Actual]:[Mapping]],2,FALSE)","v":"UK"},"All the 8 hours baby, all the 8!",1,{"$f":"VLOOKUP(K1581,tblCountries[],3,0)","v":"Europe"},{"$f":"VLOOKUP(tblSalaries[[#This Row],[How many hours of a day you work on Excel]],tblHours,2,0)","v":5},{"$f":"VLOOKUP(tblSalaries[[#This Row],[clean Country]],tblCountries[],5,0)","v":1.3407315045719035},{"$f":"IF($Q$1,tblSalaries[[#This Row],[PPP Factor]]*tblSalaries[[#This Row],[Salary in USD]],tblSalaries[[#This Row],[Salary in USD]])","v":33887.832849446611}]
[null,"ID1616","2012-06-02T04:49:42",60000,60000,"USD",{"$f":"tblSalaries[[#This Row],[clean Salary (in local currency)]]*VLOOKUP(tblSalaries[[#This Row],[Currency]],tblXrate[],2,FALSE)","v":60000},"Data Analyst","Analyst","USA",{"$f":"VLOOKUP(tblSalaries[[#This Row],[Where do you work]],tblCountries[[Actual]:[Mapping]],2,FALSE)","v":"USA"},"2 to 3 hours per day",1,{"$f":"VLOOKUP(K1582,tblCountries[],3,0)","v":"North Amer."},{"$f":"VLOOKUP(tblSalaries[[#This Row],[How many hours of a day you work on Excel]],tblHours,2,0)","v":3},{"$f":"VLOOKUP(tblSalaries[[#This Row],[clean Country]],tblCountries[],5,0)","v":1},{"$f":"IF($Q$1,tblSalaries[[#This Row],[PPP Factor]]*tblSalaries[[#This Row],[Salary in USD]],tblSalaries[[#This Row],[Salary in USD]])","v":60000}]
[null,"ID1617","2012-06-02T06:21:45",32884.800000000003,32884,"USD",{"$f":"tblSalaries[[#This Row],[clean Salary (in local currency)]]*VLOOKUP(tblSalaries[[#This Row],[Currency]],tblXrate[],2,FALSE)","v":32884},"Administrative Assistant","Analyst","USA",{"$f":"VLOOKUP(tblSalaries[[#This Row],[Where do you work]],tblCountries[[Actual]:[Mapping]],2,FALSE)","v":"USA"},"All the 8 hours baby, all the 8!",10,{"$f":"VLOOKUP(K1583,tblCountries[],3,0)","v":"North Amer."},{"$f":"VLOOKUP(tblSalaries[[#This Row],[How many hours of a day you work on Excel]],tblHours,2,0)","v":5},{"$f":"VLOOKUP(tblSalaries[[#This Row],[clean Country]],tblCountries[],5,0)","v":1},{"$f":"IF($Q$1,tblSalaries[[#This Row],[PPP Factor]]*tblSalaries[[#This Row],[Salary in USD]],tblSalaries[[#This Row],[Salary in USD]])","v":32884}]
[null,"ID1618","2012-06-02T06:31:21","42000 US",42000,"USD",{"$f":"tblSalaries[[#This Row],[clean Salary (in local currency)]]*VLOOKUP(tblSalaries[[#This Row],[Currency]],tblXrate[],2,FALSE)","v":42000},"production clerk","Analyst","USA",{"$f":"VLOOKUP(tblSalaries[[#This Row],[Where do you work]],tblCountries[[Actual]:[Mapping]],2,FALSE)","v":"USA"},"4 to 6 hours a day",2,{"$f":"VLOOKUP(K1584,tblCountries[],3,0)","v":"North Amer."},{"$f":"VLOOKUP(tblSalaries[[#This Row],[How many hours of a day you work on Excel]],tblHours,2,0)","v":4},{"$f":"VLOOKUP(tblSalaries[[#This Row],[clean Country]],tblCountries[],5,0)","v":1},{"$f":"IF($Q$1,tblSalaries[[#This Row],[PPP Factor]]*tblSalaries[[#This Row],[Salary in USD]],tblSalaries[[#This Row],[Salary in USD]])","v":42000}]
[null,"ID1619","2012-06-02T06:43:25",68000,68000,"USD",{"$f":"tblSalaries[[#This Row],[clean Salary (in local currency)]]*VLOOKUP(tblSalaries[[#This Row],[Currency]],tblXrate[],2,FALSE)","v":68000},"Supply Chain Analyst","Analyst","USA",{"$f":"VLOOKUP(tblSalaries[[#This Row],[Where do you work]],tblCountries[[Actual]:[Mapping]],2,FALSE)","v":"USA"},"4 to 6 hours a day",12,{"$f":"VLOOKUP(K1585,tblCountries[],3,0)","v":"North Amer."},{"$f":"VLOOKUP(tblSalaries[[#This Row],[How many hours of a day you work on Excel]],tblHours,2,0)","v":4},{"$f":"VLOOKUP(tblSalaries[[#This Row],[clean Country]],tblCountries[],5,0)","v":1},{"$f":"IF($Q$1,tblSalaries[[#This Row],[PPP Factor]]*tblSalaries[[#This Row],[Salary in USD]],tblSalaries[[#This Row],[Salary in USD]])","v":68000}]
[null,"ID1620","2012-06-02T07:42:02",85000,85000,"USD",{"$f":"tblSalaries[[#This Row],[clean Salary (in local currency)]]*VLOOKUP(tblSalaries[[#This Row],[Currency]],tblXrate[],2,FALSE)","v":85000},"Senior Accountant","Accountant","USA",{"$f":"VLOOKUP(tblSalaries[[#This Row],[Where do you work]],tblCountries[[Actual]:[Mapping]],2,FALSE)","v":"USA"},"2 to 3 hours per day",8,{"$f":"VLOOKUP(K1586,tblCountries[],3,0)","v":"North Amer."},{"$f":"VLOOKUP(tblSalaries[[#This Row],[How many hours of a day you work on Excel]],tblHours,2,0)","v":3},{"$f":"VLOOKUP(tblSalaries[[#This Row],[clean Country]],tblCountries[],5,0)","v":1},{"$f":"IF($Q$1,tblSalaries[[#This Row],[PPP Factor]]*tblSalaries[[#This Row],[Salary in USD]],tblSalaries[[#This Row],[Salary in USD]])","v":85000}]
[null,"ID1621","2012-06-02T11:11:18","U$13,000",13000,"USD",{"$f":"tblSalaries[[#This Row],[clean Salary (in local currency)]]*VLOOKUP(tblSalaries[[#This Row],[Currency]],tblXrate[],2,FALSE)","v":13000},"Dss Analyst","Analyst","Brazil",{"$f":"VLOOKUP(tblSalaries[[#This Row],[Where do you work]],tblCountries[[Actual]:[Mapping]],2,FALSE)","v":"Brazil"},"All the 8 hours baby, all the 8!",4,{"$f":"VLOOKUP(K1587,tblCountries[],3,0)","v":"South Amer."},{"$f":"VLOOKUP(tblSalaries[[#This Row],[How many hours of a day you work on Excel]],tblHours,2,0)","v":5},{"$f":"VLOOKUP(tblSalaries[[#This Row],[clean Country]],tblCountries[],5,0)","v":4.1113943410655107},{"$f":"IF($Q$1,tblSalaries[[#This Row],[PPP Factor]]*tblSalaries[[#This Row],[Salary in USD]],tblSalaries[[#This Row],[Salary in USD]])","v":13000}]
[null,"ID1623","2012-06-02T13:58:46",15000,15000,"USD",{"$f":"tblSalaries[[#This Row],[clean Salary (in local currency)]]*VLOOKUP(tblSalaries[[#This Row],[Currency]],tblXrate[],2,FALSE)","v":15000},"Business Analysis & MIS ","Analyst","India",{"$f":"VLOOKUP(tblSalaries[[#This Row],[Where do you work]],tblCountries[[Actual]:[Mapping]],2,FALSE)","v":"India"},"4 to 6 hours a day",5,{"$f":"VLOOKUP(K1588,tblCountries[],3,0)","v":"Asia"},{"$f":"VLOOKUP(tblSalaries[[#This Row],[How many hours of a day you work on Excel]],tblHours,2,0)","v":4},{"$f":"VLOOKUP(tblSalaries[[#This Row],[clean Country]],tblCountries[],5,0)","v":13.098808879263672},{"$f":"IF($Q$1,tblSalaries[[#This Row],[PPP Factor]]*tblSalaries[[#This Row],[Salary in USD]],tblSalaries[[#This Row],[Salary in USD]])","v":15000}]
[null,"ID1624","2012-06-02T17:34:20","50000USD",50000,"USD",{"$f":"tblSalaries[[#This Row],[clean Salary (in local currency)]]*VLOOKUP(tblSalaries[[#This Row],[Currency]],tblXrate[],2,FALSE)","v":50000},"Associate Vice President","CXO or Top Mgmt.","India",{"$f":"VLOOKUP(tblSalaries[[#This Row],[Where do you work]],tblCountries[[Actual]:[Mapping]],2,FALSE)","v":"India"},"1 or 2 hours a day",8,{"$f":"VLOOKUP(K1589,tblCountries[],3,0)","v":"Asia"},{"$f":"VLOOKUP(tblSalaries[[#This Row],[How many hours of a day you work on Excel]],tblHours,2,0)","v":2},{"$f":"VLOOKUP(tblSalaries[[#This Row],[clean Country]],tblCountries[],5,0)","v":13.098808879263672},{"$f":"IF($Q$1,tblSalaries[[#This Row],[PPP Factor]]*tblSalaries[[#This Row],[Salary in USD]],tblSalaries[[#This Row],[Salary in USD]])","v":50000}]
[null,"ID1625","2012-06-02T18:47:32",7000,7000,"USD",{"$f":"tblSalaries[[#This Row],[clean Salary (in local currency)]]*VLOOKUP(tblSalaries[[#This Row],[Currency]],tblXrate[],2,FALSE)","v":7000},"M.I.S","Reporting","India",{"$f":"VLOOKUP(tblSalaries[[#This Row],[Where do you work]],tblCountries[[Actual]:[Mapping]],2,FALSE)","v":"India"},"4 to 6 hours a day",1,{"$f":"VLOOKUP(K1590,tblCountries[],3,0)","v":"Asia"},{"$f":"VLOOKUP(tblSalaries[[#This Row],[How many hours of a day you work on Excel]],tblHours,2,0)","v":4},{"$f":"VLOOKUP(tblSalaries[[#This Row],[clean Country]],tblCountries[],5,0)","v":13.098808879263672},{"$f":"IF($Q$1,tblSalaries[[#This Row],[PPP Factor]]*tblSalaries[[#This Row],[Salary in USD]],tblSalaries[[#This Row],[Salary in USD]])","v":7000}]
[null,"ID1626","2012-06-02T19:14:35",140000,140000,"USD",{"$f":"tblSalaries[[#This Row],[clean Salary (in local currency)]]*VLOOKUP(tblSalaries[[#This Row],[Currency]],tblXrate[],2,FALSE)","v":140000},"sr manager","Manager","USA",{"$f":"VLOOKUP(tblSalaries[[#This Row],[Where do you work]],tblCountries[[Actual]:[Mapping]],2,FALSE)","v":"USA"},"4 to 6 hours a day",12,{"$f":"VLOOKUP(K1591,tblCountries[],3,0)","v":"North Amer."},{"$f":"VLOOKUP(tblSalaries[[#This Row],[How many hours of a day you work on Excel]],tblHours,2,0)","v":4},{"$f":"VLOOKUP(tblSalaries[[#This Row],[clean Country]],tblCountries[],5,0)","v":1},{"$f":"IF($Q$1,tblSalaries[[#This Row],[PPP Factor]]*tblSalaries[[#This Row],[Salary in USD]],tblSalaries[[#This Row],[Salary in USD]])","v":140000}]
[null,"ID1627","2012-06-02T20:50:40",400000,400000,"INR",{"$f":"tblSalaries[[#This Row],[clean Salary (in local currency)]]*VLOOKUP(tblSalaries[[#This Row],[Currency]],tblXrate[],2,FALSE)","v":7123.1666749770275},"application dev","Analyst","India",{"$f":"VLOOKUP(tblSalaries[[#This Row],[Where do you work]],tblCountries[[Actual]:[Mapping]],2,FALSE)","v":"India"},"1 or 2 hours a day",2.5,{"$f":"VLOOKUP(K1592,tblCountries[],3,0)","v":"Asia"},{"$f":"VLOOKUP(tblSalaries[[#This Row],[How many hours of a day you work on Excel]],tblHours,2,0)","v":2},{"$f":"VLOOKUP(tblSalaries[[#This Row],[clean Country]],tblCountries[],5,0)","v":13.098808879263672},{"$f":"IF($Q$1,tblSalaries[[#This Row],[PPP Factor]]*tblSalaries[[#This Row],[Salary in USD]],tblSalaries[[#This Row],[Salary in USD]])","v":7123.1666749770275}]
[null,"ID1628","2012-06-02T20:52:59","37000GBP",37000,"GBP",{"$f":"tblSalaries[[#This Row],[clean Salary (in local currency)]]*VLOOKUP(tblSalaries[[#This Row],[Currency]],tblXrate[],2,FALSE)","v":58318.59606648951},"Technical Web Analyst","Analyst","UK",{"$f":"VLOOKUP(tblSalaries[[#This Row],[Where do you work]],tblCountries[[Actual]:[Mapping]],2,FALSE)","v":"UK"},"4 to 6 hours a day",9,{"$f":"VLOOKUP(K1593,tblCountries[],3,0)","v":"Europe"},{"$f":"VLOOKUP(tblSalaries[[#This Row],[How many hours of a day you work on Excel]],tblHours,2,0)","v":4},{"$f":"VLOOKUP(tblSalaries[[#This Row],[clean Country]],tblCountries[],5,0)","v":1.3407315045719035},{"$f":"IF($Q$1,tblSalaries[[#This Row],[PPP Factor]]*tblSalaries[[#This Row],[Salary in USD]],tblSalaries[[#This Row],[Salary in USD]])","v":58318.59606648951}]
[null,"ID1629","2012-06-02T21:42:42","6.8 Lac INR",680000,"INR",{"$f":"tblSalaries[[#This Row],[clean Salary (in local currency)]]*VLOOKUP(tblSalaries[[#This Row],[Currency]],tblXrate[],2,FALSE)","v":12109.383347460946},"Deputy Manager","Manager","India",{"$f":"VLOOKUP(tblSalaries[[#This Row],[Where do you work]],tblCountries[[Actual]:[Mapping]],2,FALSE)","v":"India"},"1 or 2 hours a day",2,{"$f":"VLOOKUP(K1594,tblCountries[],3,0)","v":"Asia"},{"$f":"VLOOKUP(tblSalaries[[#This Row],[How many hours of a day you work on Excel]],tblHours,2,0)","v":2},{"$f":"VLOOKUP(tblSalaries[[#This Row],[clean Country]],tblCountries[],5,0)","v":13.098808879263672},{"$f":"IF($Q$1,tblSalaries[[#This Row],[PPP Factor]]*tblSalaries[[#This Row],[Salary in USD]],tblSalaries[[#This Row],[Salary in USD]])","v":12109.383347460946}]
[null,"ID1630","2012-06-02T22:33:32",55000,55000,"USD",{"$f":"tblSalaries[[#This Row],[clean Salary (in local currency)]]*VLOOKUP(tblSalaries[[#This Row],[Currency]],tblXrate[],2,FALSE)","v":55000},"Supply Chain Analyst","Analyst","USA",{"$f":"VLOOKUP(tblSalaries[[#This Row],[Where do you work]],tblCountries[[Actual]:[Mapping]],2,FALSE)","v":"USA"},"4 to 6 hours a day",1,{"$f":"VLOOKUP(K1595,tblCountries[],3,0)","v":"North Amer."},{"$f":"VLOOKUP(tblSalaries[[#This Row],[How many hours of a day you work on Excel]],tblHours,2,0)","v":4},{"$f":"VLOOKUP(tblSalaries[[#This Row],[clean Country]],tblCountries[],5,0)","v":1},{"$f":"IF($Q$1,tblSalaries[[#This Row],[PPP Factor]]*tblSalaries[[#This Row],[Salary in USD]],tblSalaries[[#This Row],[Salary in USD]])","v":55000}]
[null,"ID1631","2012-06-02T22:38:56",60000,60000,"USD",{"$f":"tblSalaries[[#This Row],[clean Salary (in local currency)]]*VLOOKUP(tblSalaries[[#This Row],[Currency]],tblXrate[],2,FALSE)","v":60000},"Head of Business","Manager","Indonesia",{"$f":"VLOOKUP(tblSalaries[[#This Row],[Where do you work]],tblCountries[[Actual]:[Mapping]],2,FALSE)","v":"Indonesia"},"2 to 3 hours per day",16,{"$f":"VLOOKUP(K1596,tblCountries[],3,0)","v":"Asia"},{"$f":"VLOOKUP(tblSalaries[[#This Row],[How many hours of a day you work on Excel]],tblHours,2,0)","v":3},{"$f":"VLOOKUP(tblSalaries[[#This Row],[clean Country]],tblCountries[],5,0)","v":10.370124303471924},{"$f":"IF($Q$1,tblSalaries[[#This Row],[PPP Factor]]*tblSalaries[[#This Row],[Salary in USD]],tblSalaries[[#This Row],[Salary in USD]])","v":60000}]
[null,"ID1632","2012-06-03T01:33:57",320000,320000,"INR",{"$f":"tblSalaries[[#This Row],[clean Salary (in local currency)]]*VLOOKUP(tblSalaries[[#This Row],[Currency]],tblXrate[],2,FALSE)","v":5698.5333399816218},"senior executive","Manager","India",{"$f":"VLOOKUP(tblSalaries[[#This Row],[Where do you work]],tblCountries[[Actual]:[Mapping]],2,FALSE)","v":"India"},"4 to 6 hours a day",5,{"$f":"VLOOKUP(K1597,tblCountries[],3,0)","v":"Asia"},{"$f":"VLOOKUP(tblSalaries[[#This Row],[How many hours of a day you work on Excel]],tblHours,2,0)","v":4},{"$f":"VLOOKUP(tblSalaries[[#This Row],[clean Country]],tblCountries[],5,0)","v":13.098808879263672},{"$f":"IF($Q$1,tblSalaries[[#This Row],[PPP Factor]]*tblSalaries[[#This Row],[Salary in USD]],tblSalaries[[#This Row],[Salary in USD]])","v":5698.5333399816218}]
[null,"ID1633","2012-06-03T01:36:43","24 K mauritian Rupees",288000,"MUR",{"$f":"tblSalaries[[#This Row],[clean Salary (in local currency)]]*VLOOKUP(tblSalaries[[#This Row],[Currency]],tblXrate[],2,FALSE)","v":9376.2513877177607},"IT Support Engineer","Engineer","Mauritius",{"$f":"VLOOKUP(tblSalaries[[#This Row],[Where do you work]],tblCountries[[Actual]:[Mapping]],2,FALSE)","v":"Mauritius"},"4 to 6 hours a day",7,{"$f":"VLOOKUP(K1598,tblCountries[],3,0)","v":"Africa"},{"$f":"VLOOKUP(tblSalaries[[#This Row],[How many hours of a day you work on Excel]],tblHours,2,0)","v":4},{"$f":"VLOOKUP(tblSalaries[[#This Row],[clean Country]],tblCountries[],5,0)","v":3.2357228835094287},{"$f":"IF($Q$1,tblSalaries[[#This Row],[PPP Factor]]*tblSalaries[[#This Row],[Salary in USD]],tblSalaries[[#This Row],[Salary in USD]])","v":9376.2513877177607}]
[null,"ID1634","2012-06-03T02:06:44","Â£60000",60000,"GBP",{"$f":"tblSalaries[[#This Row],[clean Salary (in local currency)]]*VLOOKUP(tblSalaries[[#This Row],[Currency]],tblXrate[],2,FALSE)","v":94570.696324037053},"Data Analyst","Analyst","UK",{"$f":"VLOOKUP(tblSalaries[[#This Row],[Where do you work]],tblCountries[[Actual]:[Mapping]],2,FALSE)","v":"UK"},"4 to 6 hours a day",5,{"$f":"VLOOKUP(K1599,tblCountries[],3,0)","v":"Europe"},{"$f":"VLOOKUP(tblSalaries[[#This Row],[How many hours of a day you work on Excel]],tblHours,2,0)","v":4},{"$f":"VLOOKUP(tblSalaries[[#This Row],[clean Country]],tblCountries[],5,0)","v":1.3407315045719035},{"$f":"IF($Q$1,tblSalaries[[#This Row],[PPP Factor]]*tblSalaries[[#This Row],[Salary in USD]],tblSalaries[[#This Row],[Salary in USD]])","v":94570.696324037053}]
[null,"ID1635","2012-06-03T02:54:32",36000,36000,"USD",{"$f":"tblSalaries[[#This Row],[clean Salary (in local currency)]]*VLOOKUP(tblSalaries[[#This Row],[Currency]],tblXrate[],2,FALSE)","v":36000},"Environmental Adviser","Consultant","Azerbaijan",{"$f":"VLOOKUP(tblSalaries[[#This Row],[Where do you work]],tblCountries[[Actual]:[Mapping]],2,FALSE)","v":"Azerbaijan"},"4 to 6 hours a day",5,{"$f":"VLOOKUP(K1600,tblCountries[],3,0)","v":"Europe"},{"$f":"VLOOKUP(tblSalaries[[#This Row],[How many hours of a day you work on Excel]],tblHours,2,0)","v":4},{"$f":"VLOOKUP(tblSalaries[[#This Row],[clean Country]],tblCountries[],5,0)","v":4.7428935502842577},{"$f":"IF($Q$1,tblSalaries[[#This Row],[PPP Factor]]*tblSalaries[[#This Row],[Salary in USD]],tblSalaries[[#This Row],[Salary in USD]])","v":36000}]
[null,"ID1636","2012-06-03T04:14:45","Rs. 3.70 lacs",3700000,"INR",{"$f":"tblSalaries[[#This Row],[clean Salary (in local currency)]]*VLOOKUP(tblSalaries[[#This Row],[Currency]],tblXrate[],2,FALSE)","v":65889.291743537498},"Senior Officer","Manager","India",{"$f":"VLOOKUP(tblSalaries[[#This Row],[Where do you work]],tblCountries[[Actual]:[Mapping]],2,FALSE)","v":"India"},"All the 8 hours baby, all the 8!",4,{"$f":"VLOOKUP(K1601,tblCountries[],3,0)","v":"Asia"},{"$f":"VLOOKUP(tblSalaries[[#This Row],[How many hours of a day you work on Excel]],tblHours,2,0)","v":5},{"$f":"VLOOKUP(tblSalaries[[#This Row],[clean Country]],tblCountries[],5,0)","v":13.098808879263672},{"$f":"IF($Q$1,tblSalaries[[#This Row],[PPP Factor]]*tblSalaries[[#This Row],[Salary in USD]],tblSalaries[[#This Row],[Salary in USD]])","v":65889.291743537498}]
[null,"ID1637","2012-06-03T04:42:54",106000,106000,"USD",{"$f":"tblSalaries[[#This Row],[clean Salary (in local currency)]]*VLOOKUP(tblSalaries[[#This Row],[Currency]],tblXrate[],2,FALSE)","v":106000},"IT Developer","Analyst","Denmark",{"$f":"VLOOKUP(tblSalaries[[#This Row],[Where do you work]],tblCountries[[Actual]:[Mapping]],2,FALSE)","v":"Denmark"},"1 or 2 hours a day",7,{"$f":"VLOOKUP(K1602,tblCountries[],3,0)","v":"Europe"},{"$f":"VLOOKUP(tblSalaries[[#This Row],[How many hours of a day you work on Excel]],tblHours,2,0)","v":2},{"$f":"VLOOKUP(tblSalaries[[#This Row],[clean Country]],tblCountries[],5,0)","v":1.3024063307493541},{"$f":"IF($Q$1,tblSalaries[[#This Row],[PPP Factor]]*tblSalaries[[#This Row],[Salary in USD]],tblSalaries[[#This Row],[Salary in USD]])","v":106000}]
[null,"ID1638","2012-06-03T07:16:47","485000 DKK",485000,"DKK",{"$f":"tblSalaries[[#This Row],[clean Salary (in local currency)]]*VLOOKUP(tblSalaries[[#This Row],[Currency]],tblXrate[],2,FALSE)","v":82888.5550559455},"Controller","Controller","Denmark",{"$f":"VLOOKUP(tblSalaries[[#This Row],[Where do you work]],tblCountries[[Actual]:[Mapping]],2,FALSE)","v":"Denmark"},"4 to 6 hours a day",18,{"$f":"VLOOKUP(K1603,tblCountries[],3,0)","v":"Europe"},{"$f":"VLOOKUP(tblSalaries[[#This Row],[How many hours of a day you work on Excel]],tblHours,2,0)","v":4},{"$f":"VLOOKUP(tblSalaries[[#This Row],[clean Country]],tblCountries[],5,0)","v":1.3024063307493541},{"$f":"IF($Q$1,tblSalaries[[#This Row],[PPP Factor]]*tblSalaries[[#This Row],[Salary in USD]],tblSalaries[[#This Row],[Salary in USD]])","v":82888.5550559455}]
[null,"ID1639","2012-06-03T09:42:40",75000,75000,"NZD",{"$f":"tblSalaries[[#This Row],[clean Salary (in local currency)]]*VLOOKUP(tblSalaries[[#This Row],[Currency]],tblXrate[],2,FALSE)","v":59819.107020370408},"business support analyst","Analyst","New zealand",{"$f":"VLOOKUP(tblSalaries[[#This Row],[Where do you work]],tblCountries[[Actual]:[Mapping]],2,FALSE)","v":"New Zealand"},"2 to 3 hours per day",10,{"$f":"VLOOKUP(K1604,tblCountries[],3,0)","v":"Oceania"},{"$f":"VLOOKUP(tblSalaries[[#This Row],[How many hours of a day you work on Excel]],tblHours,2,0)","v":3},{"$f":"VLOOKUP(tblSalaries[[#This Row],[clean Country]],tblCountries[],5,0)","v":1.7488434292323261},{"$f":"IF($Q$1,tblSalaries[[#This Row],[PPP Factor]]*tblSalaries[[#This Row],[Salary in USD]],tblSalaries[[#This Row],[Salary in USD]])","v":59819.107020370408}]
[null,"ID1640","2012-06-03T10:10:43",6545,6545,"USD",{"$f":"tblSalaries[[#This Row],[clean Salary (in local currency)]]*VLOOKUP(tblSalaries[[#This Row],[Currency]],tblXrate[],2,FALSE)","v":6545},"Operations","Manager","India",{"$f":"VLOOKUP(tblSalaries[[#This Row],[Where do you work]],tblCountries[[Actual]:[Mapping]],2,FALSE)","v":"India"},"All the 8 hours baby, all the 8!",9,{"$f":"VLOOKUP(K1605,tblCountries[],3,0)","v":"Asia"},{"$f":"VLOOKUP(tblSalaries[[#This Row],[How many hours of a day you work on Excel]],tblHours,2,0)","v":5},{"$f":"VLOOKUP(tblSalaries[[#This Row],[clean Country]],tblCountries[],5,0)","v":13.098808879263672},{"$f":"IF($Q$1,tblSalaries[[#This Row],[PPP Factor]]*tblSalaries[[#This Row],[Salary in USD]],tblSalaries[[#This Row],[Salary in USD]])","v":6545}]
[null,"ID1641","2012-06-03T12:09:27","10 lacs INR",1000000,"INR",{"$f":"tblSalaries[[#This Row],[clean Salary (in local currency)]]*VLOOKUP(tblSalaries[[#This Row],[Currency]],tblXrate[],2,FALSE)","v":17807.916687442568},"Category Manager","Manager","India",{"$f":"VLOOKUP(tblSalaries[[#This Row],[Where do you work]],tblCountries[[Actual]:[Mapping]],2,FALSE)","v":"India"},"2 to 3 hours per day",13,{"$f":"VLOOKUP(K1606,tblCountries[],3,0)","v":"Asia"},{"$f":"VLOOKUP(tblSalaries[[#This Row],[How many hours of a day you work on Excel]],tblHours,2,0)","v":3},{"$f":"VLOOKUP(tblSalaries[[#This Row],[clean Country]],tblCountries[],5,0)","v":13.098808879263672},{"$f":"IF($Q$1,tblSalaries[[#This Row],[PPP Factor]]*tblSalaries[[#This Row],[Salary in USD]],tblSalaries[[#This Row],[Salary in USD]])","v":17807.916687442568}]
[null,"ID1642","2012-06-03T12:16:15",54000,54000,"USD",{"$f":"tblSalaries[[#This Row],[clean Salary (in local currency)]]*VLOOKUP(tblSalaries[[#This Row],[Currency]],tblXrate[],2,FALSE)","v":54000},"assistant director of finance","CXO or Top Mgmt.","USA",{"$f":"VLOOKUP(tblSalaries[[#This Row],[Where do you work]],tblCountries[[Actual]:[Mapping]],2,FALSE)","v":"USA"},"4 to 6 hours a day",10,{"$f":"VLOOKUP(K1607,tblCountries[],3,0)","v":"North Amer."},{"$f":"VLOOKUP(tblSalaries[[#This Row],[How many hours of a day you work on Excel]],tblHours,2,0)","v":4},{"$f":"VLOOKUP(tblSalaries[[#This Row],[clean Country]],tblCountries[],5,0)","v":1},{"$f":"IF($Q$1,tblSalaries[[#This Row],[PPP Factor]]*tblSalaries[[#This Row],[Salary in USD]],tblSalaries[[#This Row],[Salary in USD]])","v":54000}]
[null,"ID1643","2012-06-03T12:27:07",100000,100000,"USD",{"$f":"tblSalaries[[#This Row],[clean Salary (in local currency)]]*VLOOKUP(tblSalaries[[#This Row],[Currency]],tblXrate[],2,FALSE)","v":100000},"Consultant","Consultant","USA",{"$f":"VLOOKUP(tblSalaries[[#This Row],[Where do you work]],tblCountries[[Actual]:[Mapping]],2,FALSE)","v":"USA"},"2 to 3 hours per day",4,{"$f":"VLOOKUP(K1608,tblCountries[],3,0)","v":"North Amer."},{"$f":"VLOOKUP(tblSalaries[[#This Row],[How many hours of a day you work on Excel]],tblHours,2,0)","v":3},{"$f":"VLOOKUP(tblSalaries[[#This Row],[clean Country]],tblCountries[],5,0)","v":1},{"$f":"IF($Q$1,tblSalaries[[#This Row],[PPP Factor]]*tblSalaries[[#This Row],[Salary in USD]],tblSalaries[[#This Row],[Salary in USD]])","v":100000}]
[null,"ID1644","2012-06-03T13:30:47",50000,50000,"CAD",{"$f":"tblSalaries[[#This Row],[clean Salary (in local currency)]]*VLOOKUP(tblSalaries[[#This Row],[Currency]],tblXrate[],2,FALSE)","v":49168.076151516347},"Application Developer","Analyst","Canada",{"$f":"VLOOKUP(tblSalaries[[#This Row],[Where do you work]],tblCountries[[Actual]:[Mapping]],2,FALSE)","v":"Canada"},"4 to 6 hours a day",5,{"$f":"VLOOKUP(K1609,tblCountries[],3,0)","v":"North Amer."},{"$f":"VLOOKUP(tblSalaries[[#This Row],[How many hours of a day you work on Excel]],tblHours,2,0)","v":4},{"$f":"VLOOKUP(tblSalaries[[#This Row],[clean Country]],tblCountries[],5,0)","v":1.1935324732986359},{"$f":"IF($Q$1,tblSalaries[[#This Row],[PPP Factor]]*tblSalaries[[#This Row],[Salary in USD]],tblSalaries[[#This Row],[Salary in USD]])","v":49168.076151516347}]
[null,"ID1645","2012-06-03T14:27:29",4019,4019,"USD",{"$f":"tblSalaries[[#This Row],[clean Salary (in local currency)]]*VLOOKUP(tblSalaries[[#This Row],[Currency]],tblXrate[],2,FALSE)","v":4019},"Clinical Intake Specialist","Specialist","Philippines",{"$f":"VLOOKUP(tblSalaries[[#This Row],[Where do you work]],tblCountries[[Actual]:[Mapping]],2,FALSE)","v":"Philippines"},"2 to 3 hours per day",3,{"$f":"VLOOKUP(K1610,tblCountries[],3,0)","v":"Asia"},{"$f":"VLOOKUP(tblSalaries[[#This Row],[How many hours of a day you work on Excel]],tblHours,2,0)","v":3},{"$f":"VLOOKUP(tblSalaries[[#This Row],[clean Country]],tblCountries[],5,0)","v":11.879941075374417},{"$f":"IF($Q$1,tblSalaries[[#This Row],[PPP Factor]]*tblSalaries[[#This Row],[Salary in USD]],tblSalaries[[#This Row],[Salary in USD]])","v":4019}]
[null,"ID1646","2012-06-03T14:34:56",15000,15000,"USD",{"$f":"tblSalaries[[#This Row],[clean Salary (in local currency)]]*VLOOKUP(tblSalaries[[#This Row],[Currency]],tblXrate[],2,FALSE)","v":15000},"Marketing services","Analyst","Pakistan",{"$f":"VLOOKUP(tblSalaries[[#This Row],[Where do you work]],tblCountries[[Actual]:[Mapping]],2,FALSE)","v":"Pakistan"},"4 to 6 hours a day",5,{"$f":"VLOOKUP(K1611,tblCountries[],3,0)","v":"Asia"},{"$f":"VLOOKUP(tblSalaries[[#This Row],[How many hours of a day you work on Excel]],tblHours,2,0)","v":4},{"$f":"VLOOKUP(tblSalaries[[#This Row],[clean Country]],tblCountries[],5,0)","v":17.361679224973088},{"$f":"IF($Q$1,tblSalaries[[#This Row],[PPP Factor]]*tblSalaries[[#This Row],[Salary in USD]],tblSalaries[[#This Row],[Salary in USD]])","v":15000}]
[null,"ID1647","2012-06-03T14:52:21","INR 1000000",1000000,"INR",{"$f":"tblSalaries[[#This Row],[clean Salary (in local currency)]]*VLOOKUP(tblSalaries[[#This Row],[Currency]],tblXrate[],2,FALSE)","v":17807.916687442568},"Senior Associate, Finance","Analyst","India",{"$f":"VLOOKUP(tblSalaries[[#This Row],[Where do you work]],tblCountries[[Actual]:[Mapping]],2,FALSE)","v":"India"},"All the 8 hours baby, all the 8!",4,{"$f":"VLOOKUP(K1612,tblCountries[],3,0)","v":"Asia"},{"$f":"VLOOKUP(tblSalaries[[#This Row],[How many hours of a day you work on Excel]],tblHours,2,0)","v":5},{"$f":"VLOOKUP(tblSalaries[[#This Row],[clean Country]],tblCountries[],5,0)","v":13.098808879263672},{"$f":"IF($Q$1,tblSalaries[[#This Row],[PPP Factor]]*tblSalaries[[#This Row],[Salary in USD]],tblSalaries[[#This Row],[Salary in USD]])","v":17807.916687442568}]
[null,"ID1648","2012-06-03T16:48:54",12000,12000,"USD",{"$f":"tblSalaries[[#This Row],[clean Salary (in local currency)]]*VLOOKUP(tblSalaries[[#This Row],[Currency]],tblXrate[],2,FALSE)","v":12000},"MIS ","Reporting","India",{"$f":"VLOOKUP(tblSalaries[[#This Row],[Where do you work]],tblCountries[[Actual]:[Mapping]],2,FALSE)","v":"India"},"All the 8 hours baby, all the 8!",3,{"$f":"VLOOKUP(K1613,tblCountries[],3,0)","v":"Asia"},{"$f":"VLOOKUP(tblSalaries[[#This Row],[How many hours of a day you work on Excel]],tblHours,2,0)","v":5},{"$f":"VLOOKUP(tblSalaries[[#This Row],[clean Country]],tblCountries[],5,0)","v":13.098808879263672},{"$f":"IF($Q$1,tblSalaries[[#This Row],[PPP Factor]]*tblSalaries[[#This Row],[Salary in USD]],tblSalaries[[#This Row],[Salary in USD]])","v":12000}]
[null,"ID1649","2012-06-03T17:39:14","Rs. 125000",125000,"INR",{"$f":"tblSalaries[[#This Row],[clean Salary (in local currency)]]*VLOOKUP(tblSalaries[[#This Row],[Currency]],tblXrate[],2,FALSE)","v":2225.989585930321},"No","Analyst","India",{"$f":"VLOOKUP(tblSalaries[[#This Row],[Where do you work]],tblCountries[[Actual]:[Mapping]],2,FALSE)","v":"India"},"2 to 3 hours per day",4,{"$f":"VLOOKUP(K1614,tblCountries[],3,0)","v":"Asia"},{"$f":"VLOOKUP(tblSalaries[[#This Row],[How many hours of a day you work on Excel]],tblHours,2,0)","v":3},{"$f":"VLOOKUP(tblSalaries[[#This Row],[clean Country]],tblCountries[],5,0)","v":13.098808879263672},{"$f":"IF($Q$1,tblSalaries[[#This Row],[PPP Factor]]*tblSalaries[[#This Row],[Salary in USD]],tblSalaries[[#This Row],[Salary in USD]])","v":2225.989585930321}]
[null,"ID1650","2012-06-03T19:40:18",86000,86000,"USD",{"$f":"tblSalaries[[#This Row],[clean Salary (in local currency)]]*VLOOKUP(tblSalaries[[#This Row],[Currency]],tblXrate[],2,FALSE)","v":86000},"Analyst","Analyst","Philippines",{"$f":"VLOOKUP(tblSalaries[[#This Row],[Where do you work]],tblCountries[[Actual]:[Mapping]],2,FALSE)","v":"Philippines"},"All the 8 hours baby, all the 8!",3,{"$f":"VLOOKUP(K1615,tblCountries[],3,0)","v":"Asia"},{"$f":"VLOOKUP(tblSalaries[[#This Row],[How many hours of a day you work on Excel]],tblHours,2,0)","v":5},{"$f":"VLOOKUP(tblSalaries[[#This Row],[clean Country]],tblCountries[],5,0)","v":11.879941075374417},{"$f":"IF($Q$1,tblSalaries[[#This Row],[PPP Factor]]*tblSalaries[[#This Row],[Salary in USD]],tblSalaries[[#This Row],[Salary in USD]])","v":86000}]
[null,"ID1651","2012-06-04T01:45:03",340000,340000,"INR",{"$f":"tblSalaries[[#This Row],[clean Salary (in local currency)]]*VLOOKUP(tblSalaries[[#This Row],[Currency]],tblXrate[],2,FALSE)","v":6054.6916737304728},"Assistant Manager","Manager","India",{"$f":"VLOOKUP(tblSalaries[[#This Row],[Where do you work]],tblCountries[[Actual]:[Mapping]],2,FALSE)","v":"India"},"4 to 6 hours a day",5,{"$f":"VLOOKUP(K1616,tblCountries[],3,0)","v":"Asia"},{"$f":"VLOOKUP(tblSalaries[[#This Row],[How many hours of a day you work on Excel]],tblHours,2,0)","v":4},{"$f":"VLOOKUP(tblSalaries[[#This Row],[clean Country]],tblCountries[],5,0)","v":13.098808879263672},{"$f":"IF($Q$1,tblSalaries[[#This Row],[PPP Factor]]*tblSalaries[[#This Row],[Salary in USD]],tblSalaries[[#This Row],[Salary in USD]])","v":6054.6916737304728}]
[null,"ID1652","2012-06-04T02:03:53","280$/ month",3360,"USD",{"$f":"tblSalaries[[#This Row],[clean Salary (in local currency)]]*VLOOKUP(tblSalaries[[#This Row],[Currency]],tblXrate[],2,FALSE)","v":3360},"service executive","Analyst","India",{"$f":"VLOOKUP(tblSalaries[[#This Row],[Where do you work]],tblCountries[[Actual]:[Mapping]],2,FALSE)","v":"India"},"1 or 2 hours a day",3,{"$f":"VLOOKUP(K1617,tblCountries[],3,0)","v":"Asia"},{"$f":"VLOOKUP(tblSalaries[[#This Row],[How many hours of a day you work on Excel]],tblHours,2,0)","v":2},{"$f":"VLOOKUP(tblSalaries[[#This Row],[clean Country]],tblCountries[],5,0)","v":13.098808879263672},{"$f":"IF($Q$1,tblSalaries[[#This Row],[PPP Factor]]*tblSalaries[[#This Row],[Salary in USD]],tblSalaries[[#This Row],[Salary in USD]])","v":3360}]
[null,"ID1653","2012-06-04T02:30:11",10000,10000,"USD",{"$f":"tblSalaries[[#This Row],[clean Salary (in local currency)]]*VLOOKUP(tblSalaries[[#This Row],[Currency]],tblXrate[],2,FALSE)","v":10000},"ceo","CXO or Top Mgmt.","India",{"$f":"VLOOKUP(tblSalaries[[#This Row],[Where do you work]],tblCountries[[Actual]:[Mapping]],2,FALSE)","v":"India"},"All the 8 hours baby, all the 8!",1,{"$f":"VLOOKUP(K1618,tblCountries[],3,0)","v":"Asia"},{"$f":"VLOOKUP(tblSalaries[[#This Row],[How many hours of a day you work on Excel]],tblHours,2,0)","v":5},{"$f":"VLOOKUP(tblSalaries[[#This Row],[clean Country]],tblCountries[],5,0)","v":13.098808879263672},{"$f":"IF($Q$1,tblSalaries[[#This Row],[PPP Factor]]*tblSalaries[[#This Row],[Salary in USD]],tblSalaries[[#This Row],[Salary in USD]])","v":10000}]
[null,"ID1654","2012-06-04T04:31:53",70000,70000,"USD",{"$f":"tblSalaries[[#This Row],[clean Salary (in local currency)]]*VLOOKUP(tblSalaries[[#This Row],[Currency]],tblXrate[],2,FALSE)","v":70000},"Sr financial analyst","Analyst","USA",{"$f":"VLOOKUP(tblSalaries[[#This Row],[Where do you work]],tblCountries[[Actual]:[Mapping]],2,FALSE)","v":"USA"},"4 to 6 hours a day",9,{"$f":"VLOOKUP(K1619,tblCountries[],3,0)","v":"North Amer."},{"$f":"VLOOKUP(tblSalaries[[#This Row],[How many hours of a day you work on Excel]],tblHours,2,0)","v":4},{"$f":"VLOOKUP(tblSalaries[[#This Row],[clean Country]],tblCountries[],5,0)","v":1},{"$f":"IF($Q$1,tblSalaries[[#This Row],[PPP Factor]]*tblSalaries[[#This Row],[Salary in USD]],tblSalaries[[#This Row],[Salary in USD]])","v":70000}]
[null,"ID1655","2012-06-04T09:49:44",155000,155000,"USD",{"$f":"tblSalaries[[#This Row],[clean Salary (in local currency)]]*VLOOKUP(tblSalaries[[#This Row],[Currency]],tblXrate[],2,FALSE)","v":155000},"Consulting Practice Manager","Manager","USA",{"$f":"VLOOKUP(tblSalaries[[#This Row],[Where do you work]],tblCountries[[Actual]:[Mapping]],2,FALSE)","v":"USA"},"1 or 2 hours a day",14,{"$f":"VLOOKUP(K1620,tblCountries[],3,0)","v":"North Amer."},{"$f":"VLOOKUP(tblSalaries[[#This Row],[How many hours of a day you work on Excel]],tblHours,2,0)","v":2},{"$f":"VLOOKUP(tblSalaries[[#This Row],[clean Country]],tblCountries[],5,0)","v":1},{"$f":"IF($Q$1,tblSalaries[[#This Row],[PPP Factor]]*tblSalaries[[#This Row],[Salary in USD]],tblSalaries[[#This Row],[Salary in USD]])","v":155000}]
[null,"ID1656","2012-06-04T10:23:27",225000,225000,"USD",{"$f":"tblSalaries[[#This Row],[clean Salary (in local currency)]]*VLOOKUP(tblSalaries[[#This Row],[Currency]],tblXrate[],2,FALSE)","v":225000},"SVP of Acquisitions","CXO or Top Mgmt.","USA",{"$f":"VLOOKUP(tblSalaries[[#This Row],[Where do you work]],tblCountries[[Actual]:[Mapping]],2,FALSE)","v":"USA"},"4 to 6 hours a day",15,{"$f":"VLOOKUP(K1621,tblCountries[],3,0)","v":"North Amer."},{"$f":"VLOOKUP(tblSalaries[[#This Row],[How many hours of a day you work on Excel]],tblHours,2,0)","v":4},{"$f":"VLOOKUP(tblSalaries[[#This Row],[clean Country]],tblCountries[],5,0)","v":1},{"$f":"IF($Q$1,tblSalaries[[#This Row],[PPP Factor]]*tblSalaries[[#This Row],[Salary in USD]],tblSalaries[[#This Row],[Salary in USD]])","v":225000}]
[null,"ID1657","2012-06-04T12:22:05",10000,10000,"USD",{"$f":"tblSalaries[[#This Row],[clean Salary (in local currency)]]*VLOOKUP(tblSalaries[[#This Row],[Currency]],tblXrate[],2,FALSE)","v":10000},"MIS Executive","Reporting","India",{"$f":"VLOOKUP(tblSalaries[[#This Row],[Where do you work]],tblCountries[[Actual]:[Mapping]],2,FALSE)","v":"India"},"All the 8 hours baby, all the 8!",2,{"$f":"VLOOKUP(K1622,tblCountries[],3,0)","v":"Asia"},{"$f":"VLOOKUP(tblSalaries[[#This Row],[How many hours of a day you work on Excel]],tblHours,2,0)","v":5},{"$f":"VLOOKUP(tblSalaries[[#This Row],[clean Country]],tblCountries[],5,0)","v":13.098808879263672},{"$f":"IF($Q$1,tblSalaries[[#This Row],[PPP Factor]]*tblSalaries[[#This Row],[Salary in USD]],tblSalaries[[#This Row],[Salary in USD]])","v":10000}]
[null,"ID1658","2012-06-04T12:58:06",300000,300000,"INR",{"$f":"tblSalaries[[#This Row],[clean Salary (in local currency)]]*VLOOKUP(tblSalaries[[#This Row],[Currency]],tblXrate[],2,FALSE)","v":5342.3750062327708},"Store Inventory","Analyst","India",{"$f":"VLOOKUP(tblSalaries[[#This Row],[Where do you work]],tblCountries[[Actual]:[Mapping]],2,FALSE)","v":"India"},"4 to 6 hours a day",8,{"$f":"VLOOKUP(K1623,tblCountries[],3,0)","v":"Asia"},{"$f":"VLOOKUP(tblSalaries[[#This Row],[How many hours of a day you work on Excel]],tblHours,2,0)","v":4},{"$f":"VLOOKUP(tblSalaries[[#This Row],[clean Country]],tblCountries[],5,0)","v":13.098808879263672},{"$f":"IF($Q$1,tblSalaries[[#This Row],[PPP Factor]]*tblSalaries[[#This Row],[Salary in USD]],tblSalaries[[#This Row],[Salary in USD]])","v":5342.3750062327708}]
[null,"ID1659","2012-06-04T13:30:51",84000,84000,"AUD",{"$f":"tblSalaries[[#This Row],[clean Salary (in local currency)]]*VLOOKUP(tblSalaries[[#This Row],[Currency]],tblXrate[],2,FALSE)","v":85672.4111378214},"consultant","Consultant","Australia",{"$f":"VLOOKUP(tblSalaries[[#This Row],[Where do you work]],tblCountries[[Actual]:[Mapping]],2,FALSE)","v":"Australia"},"4 to 6 hours a day",6,{"$f":"VLOOKUP(K1624,tblCountries[],3,0)","v":"Oceania"},{"$f":"VLOOKUP(tblSalaries[[#This Row],[How many hours of a day you work on Excel]],tblHours,2,0)","v":4},{"$f":"VLOOKUP(tblSalaries[[#This Row],[clean Country]],tblCountries[],5,0)","v":1.2026395585822935},{"$f":"IF($Q$1,tblSalaries[[#This Row],[PPP Factor]]*tblSalaries[[#This Row],[Salary in USD]],tblSalaries[[#This Row],[Salary in USD]])","v":85672.4111378214}]
[null,"ID1660","2012-06-04T14:25:45","240000 INR",240000,"INR",{"$f":"tblSalaries[[#This Row],[clean Salary (in local currency)]]*VLOOKUP(tblSalaries[[#This Row],[Currency]],tblXrate[],2,FALSE)","v":4273.9000049862161},"Exicutive TQM","Controller","India",{"$f":"VLOOKUP(tblSalaries[[#This Row],[Where do you work]],tblCountries[[Actual]:[Mapping]],2,FALSE)","v":"India"},"2 to 3 hours per day",15,{"$f":"VLOOKUP(K1625,tblCountries[],3,0)","v":"Asia"},{"$f":"VLOOKUP(tblSalaries[[#This Row],[How many hours of a day you work on Excel]],tblHours,2,0)","v":3},{"$f":"VLOOKUP(tblSalaries[[#This Row],[clean Country]],tblCountries[],5,0)","v":13.098808879263672},{"$f":"IF($Q$1,tblSalaries[[#This Row],[PPP Factor]]*tblSalaries[[#This Row],[Salary in USD]],tblSalaries[[#This Row],[Salary in USD]])","v":4273.9000049862161}]
[null,"ID1661","2012-06-04T16:31:09","Rs. 5 lacs",500000,"INR",{"$f":"tblSalaries[[#This Row],[clean Salary (in local currency)]]*VLOOKUP(tblSalaries[[#This Row],[Currency]],tblXrate[],2,FALSE)","v":8903.9583437212841},"Team Leader","Manager","India",{"$f":"VLOOKUP(tblSalaries[[#This Row],[Where do you work]],tblCountries[[Actual]:[Mapping]],2,FALSE)","v":"India"},"All the 8 hours baby, all the 8!",20,{"$f":"VLOOKUP(K1626,tblCountries[],3,0)","v":"Asia"},{"$f":"VLOOKUP(tblSalaries[[#This Row],[How many hours of a day you work on Excel]],tblHours,2,0)","v":5},{"$f":"VLOOKUP(tblSalaries[[#This Row],[clean Country]],tblCountries[],5,0)","v":13.098808879263672},{"$f":"IF($Q$1,tblSalaries[[#This Row],[PPP Factor]]*tblSalaries[[#This Row],[Salary in USD]],tblSalaries[[#This Row],[Salary in USD]])","v":8903.9583437212841}]
[null,"ID1662","2012-06-04T18:03:21",42000,42000,"GBP",{"$f":"tblSalaries[[#This Row],[clean Salary (in local currency)]]*VLOOKUP(tblSalaries[[#This Row],[Currency]],tblXrate[],2,FALSE)","v":66199.48742682593},"Management Accountant","Manager","UK",{"$f":"VLOOKUP(tblSalaries[[#This Row],[Where do you work]],tblCountries[[Actual]:[Mapping]],2,FALSE)","v":"UK"},"4 to 6 hours a day",23,{"$f":"VLOOKUP(K1627,tblCountries[],3,0)","v":"Europe"},{"$f":"VLOOKUP(tblSalaries[[#This Row],[How many hours of a day you work on Excel]],tblHours,2,0)","v":4},{"$f":"VLOOKUP(tblSalaries[[#This Row],[clean Country]],tblCountries[],5,0)","v":1.3407315045719035},{"$f":"IF($Q$1,tblSalaries[[#This Row],[PPP Factor]]*tblSalaries[[#This Row],[Salary in USD]],tblSalaries[[#This Row],[Salary in USD]])","v":66199.48742682593}]
[null,"ID1663","2012-06-04T18:55:54","INR 3.2 lpa",320000,"INR",{"$f":"tblSalaries[[#This Row],[clean Salary (in local currency)]]*VLOOKUP(tblSalaries[[#This Row],[Currency]],tblXrate[],2,FALSE)","v":5698.5333399816218},"Research Associate","Analyst","India",{"$f":"VLOOKUP(tblSalaries[[#This Row],[Where do you work]],tblCountries[[Actual]:[Mapping]],2,FALSE)","v":"India"},"4 to 6 hours a day",2.5,{"$f":"VLOOKUP(K1628,tblCountries[],3,0)","v":"Asia"},{"$f":"VLOOKUP(tblSalaries[[#This Row],[How many hours of a day you work on Excel]],tblHours,2,0)","v":4},{"$f":"VLOOKUP(tblSalaries[[#This Row],[clean Country]],tblCountries[],5,0)","v":13.098808879263672},{"$f":"IF($Q$1,tblSalaries[[#This Row],[PPP Factor]]*tblSalaries[[#This Row],[Salary in USD]],tblSalaries[[#This Row],[Salary in USD]])","v":5698.5333399816218}]
[null,"ID1664","2012-06-04T19:11:18","Â£22k",22000,"GBP",{"$f":"tblSalaries[[#This Row],[clean Salary (in local currency)]]*VLOOKUP(tblSalaries[[#This Row],[Currency]],tblXrate[],2,FALSE)","v":34675.92198548025},"Supply/Demand Planner","Manager","UK",{"$f":"VLOOKUP(tblSalaries[[#This Row],[Where do you work]],tblCountries[[Actual]:[Mapping]],2,FALSE)","v":"UK"},"4 to 6 hours a day",17,{"$f":"VLOOKUP(K1629,tblCountries[],3,0)","v":"Europe"},{"$f":"VLOOKUP(tblSalaries[[#This Row],[How many hours of a day you work on Excel]],tblHours,2,0)","v":4},{"$f":"VLOOKUP(tblSalaries[[#This Row],[clean Country]],tblCountries[],5,0)","v":1.3407315045719035},{"$f":"IF($Q$1,tblSalaries[[#This Row],[PPP Factor]]*tblSalaries[[#This Row],[Salary in USD]],tblSalaries[[#This Row],[Salary in USD]])","v":34675.92198548025}]
[null,"ID1665","2012-06-04T19:46:09","2600 $",31200,"USD",{"$f":"tblSalaries[[#This Row],[clean Salary (in local currency)]]*VLOOKUP(tblSalaries[[#This Row],[Currency]],tblXrate[],2,FALSE)","v":31200},"Economist","Reporting","ISRAEL",{"$f":"VLOOKUP(tblSalaries[[#This Row],[Where do you work]],tblCountries[[Actual]:[Mapping]],2,FALSE)","v":"Israel"},"All the 8 hours baby, all the 8!",11,{"$f":"VLOOKUP(K1630,tblCountries[],3,0)","v":"Asia"},{"$f":"VLOOKUP(tblSalaries[[#This Row],[How many hours of a day you work on Excel]],tblHours,2,0)","v":5},{"$f":"VLOOKUP(tblSalaries[[#This Row],[clean Country]],tblCountries[],5,0)","v":1.5621307506053268},{"$f":"IF($Q$1,tblSalaries[[#This Row],[PPP Factor]]*tblSalaries[[#This Row],[Salary in USD]],tblSalaries[[#This Row],[Salary in USD]])","v":31200}]
[null,"ID1666","2012-06-04T21:43:15",56000,56000,"CAD",{"$f":"tblSalaries[[#This Row],[clean Salary (in local currency)]]*VLOOKUP(tblSalaries[[#This Row],[Currency]],tblXrate[],2,FALSE)","v":55068.245289698301},"consultant","Consultant","Canada",{"$f":"VLOOKUP(tblSalaries[[#This Row],[Where do you work]],tblCountries[[Actual]:[Mapping]],2,FALSE)","v":"Canada"},"All the 8 hours baby, all the 8!",1,{"$f":"VLOOKUP(K1631,tblCountries[],3,0)","v":"North Amer."},{"$f":"VLOOKUP(tblSalaries[[#This Row],[How many hours of a day you work on Excel]],tblHours,2,0)","v":5},{"$f":"VLOOKUP(tblSalaries[[#This Row],[clean Country]],tblCountries[],5,0)","v":1.1935324732986359},{"$f":"IF($Q$1,tblSalaries[[#This Row],[PPP Factor]]*tblSalaries[[#This Row],[Salary in USD]],tblSalaries[[#This Row],[Salary in USD]])","v":55068.245289698301}]
[null,"ID1667","2012-06-04T22:16:00",13000,13000,"USD",{"$f":"tblSalaries[[#This Row],[clean Salary (in local currency)]]*VLOOKUP(tblSalaries[[#This Row],[Currency]],tblXrate[],2,FALSE)","v":13000},"logistics analyst","Analyst","Slovakia",{"$f":"VLOOKUP(tblSalaries[[#This Row],[Where do you work]],tblCountries[[Actual]:[Mapping]],2,FALSE)","v":"Slovakia"},"All the 8 hours baby, all the 8!",6,{"$f":"VLOOKUP(K1632,tblCountries[],3,0)","v":"Europe"},{"$f":"VLOOKUP(tblSalaries[[#This Row],[How many hours of a day you work on Excel]],tblHours,2,0)","v":5},{"$f":"VLOOKUP(tblSalaries[[#This Row],[clean Country]],tblCountries[],5,0)","v":2.0763388259526261},{"$f":"IF($Q$1,tblSalaries[[#This Row],[PPP Factor]]*tblSalaries[[#This Row],[Salary in USD]],tblSalaries[[#This Row],[Salary in USD]])","v":13000}]
[null,"ID1668","2012-06-04T23:00:10",92000,92000,"USD",{"$f":"tblSalaries[[#This Row],[clean Salary (in local currency)]]*VLOOKUP(tblSalaries[[#This Row],[Currency]],tblXrate[],2,FALSE)","v":92000},"BI director","Reporting","USA",{"$f":"VLOOKUP(tblSalaries[[#This Row],[Where do you work]],tblCountries[[Actual]:[Mapping]],2,FALSE)","v":"USA"},"2 to 3 hours per day",12,{"$f":"VLOOKUP(K1633,tblCountries[],3,0)","v":"North Amer."},{"$f":"VLOOKUP(tblSalaries[[#This Row],[How many hours of a day you work on Excel]],tblHours,2,0)","v":3},{"$f":"VLOOKUP(tblSalaries[[#This Row],[clean Country]],tblCountries[],5,0)","v":1},{"$f":"IF($Q$1,tblSalaries[[#This Row],[PPP Factor]]*tblSalaries[[#This Row],[Salary in USD]],tblSalaries[[#This Row],[Salary in USD]])","v":92000}]
[null,"ID1669","2012-06-04T23:18:41",85000,85000,"USD",{"$f":"tblSalaries[[#This Row],[clean Salary (in local currency)]]*VLOOKUP(tblSalaries[[#This Row],[Currency]],tblXrate[],2,FALSE)","v":85000},"Sr Manager","Manager","USA",{"$f":"VLOOKUP(tblSalaries[[#This Row],[Where do you work]],tblCountries[[Actual]:[Mapping]],2,FALSE)","v":"USA"},"All the 8 hours baby, all the 8!",10,{"$f":"VLOOKUP(K1634,tblCountries[],3,0)","v":"North Amer."},{"$f":"VLOOKUP(tblSalaries[[#This Row],[How many hours of a day you work on Excel]],tblHours,2,0)","v":5},{"$f":"VLOOKUP(tblSalaries[[#This Row],[clean Country]],tblCountries[],5,0)","v":1},{"$f":"IF($Q$1,tblSalaries[[#This Row],[PPP Factor]]*tblSalaries[[#This Row],[Salary in USD]],tblSalaries[[#This Row],[Salary in USD]])","v":85000}]
[null,"ID1670","2012-06-04T23:38:42","11000 USD",11000,"USD",{"$f":"tblSalaries[[#This Row],[clean Salary (in local currency)]]*VLOOKUP(tblSalaries[[#This Row],[Currency]],tblXrate[],2,FALSE)","v":11000},"Dataminer","Analyst","Tunisia",{"$f":"VLOOKUP(tblSalaries[[#This Row],[Where do you work]],tblCountries[[Actual]:[Mapping]],2,FALSE)","v":"Tunisia"},"4 to 6 hours a day",8,{"$f":"VLOOKUP(K1635,tblCountries[],3,0)","v":"Africa"},{"$f":"VLOOKUP(tblSalaries[[#This Row],[How many hours of a day you work on Excel]],tblHours,2,0)","v":4},{"$f":"VLOOKUP(tblSalaries[[#This Row],[clean Country]],tblCountries[],5,0)","v":5.1051909685587678},{"$f":"IF($Q$1,tblSalaries[[#This Row],[PPP Factor]]*tblSalaries[[#This Row],[Salary in USD]],tblSalaries[[#This Row],[Salary in USD]])","v":11000}]
[null,"ID1671","2012-06-04T23:38:47","30000 â‚¬",30000,"EUR",{"$f":"tblSalaries[[#This Row],[clean Salary (in local currency)]]*VLOOKUP(tblSalaries[[#This Row],[Currency]],tblXrate[],2,FALSE)","v":38111.983169748237},"Safety technician","Analyst","Spain",{"$f":"VLOOKUP(tblSalaries[[#This Row],[Where do you work]],tblCountries[[Actual]:[Mapping]],2,FALSE)","v":"Spain"},"1 or 2 hours a day",12,{"$f":"VLOOKUP(K1636,tblCountries[],3,0)","v":"Europe"},{"$f":"VLOOKUP(tblSalaries[[#This Row],[How many hours of a day you work on Excel]],tblHours,2,0)","v":2},{"$f":"VLOOKUP(tblSalaries[[#This Row],[clean Country]],tblCountries[],5,0)","v":1.5799320838503232},{"$f":"IF($Q$1,tblSalaries[[#This Row],[PPP Factor]]*tblSalaries[[#This Row],[Salary in USD]],tblSalaries[[#This Row],[Salary in USD]])","v":38111.983169748237}]
[null,"ID1672","2012-06-04T23:41:47",49000,49000,"USD",{"$f":"tblSalaries[[#This Row],[clean Salary (in local currency)]]*VLOOKUP(tblSalaries[[#This Row],[Currency]],tblXrate[],2,FALSE)","v":49000},"Marketing Data Analyst","Analyst","USA",{"$f":"VLOOKUP(tblSalaries[[#This Row],[Where do you work]],tblCountries[[Actual]:[Mapping]],2,FALSE)","v":"USA"},"2 to 3 hours per day",3,{"$f":"VLOOKUP(K1637,tblCountries[],3,0)","v":"North Amer."},{"$f":"VLOOKUP(tblSalaries[[#This Row],[How many hours of a day you work on Excel]],tblHours,2,0)","v":3},{"$f":"VLOOKUP(tblSalaries[[#This Row],[clean Country]],tblCountries[],5,0)","v":1},{"$f":"IF($Q$1,tblSalaries[[#This Row],[PPP Factor]]*tblSalaries[[#This Row],[Salary in USD]],tblSalaries[[#This Row],[Salary in USD]])","v":49000}]
[null,"ID1673","2012-06-05T00:22:14",59000,59000,"USD",{"$f":"tblSalaries[[#This Row],[clean Salary (in local currency)]]*VLOOKUP(tblSalaries[[#This Row],[Currency]],tblXrate[],2,FALSE)","v":59000},"Category Leader","Manager","USA",{"$f":"VLOOKUP(tblSalaries[[#This Row],[Where do you work]],tblCountries[[Actual]:[Mapping]],2,FALSE)","v":"USA"},"1 or 2 hours a day",3,{"$f":"VLOOKUP(K1638,tblCountries[],3,0)","v":"North Amer."},{"$f":"VLOOKUP(tblSalaries[[#This Row],[How many hours of a day you work on Excel]],tblHours,2,0)","v":2},{"$f":"VLOOKUP(tblSalaries[[#This Row],[clean Country]],tblCountries[],5,0)","v":1},{"$f":"IF($Q$1,tblSalaries[[#This Row],[PPP Factor]]*tblSalaries[[#This Row],[Salary in USD]],tblSalaries[[#This Row],[Salary in USD]])","v":59000}]
[null,"ID1674","2012-06-05T02:03:48",55000,55000,"USD",{"$f":"tblSalaries[[#This Row],[clean Salary (in local currency)]]*VLOOKUP(tblSalaries[[#This Row],[Currency]],tblXrate[],2,FALSE)","v":55000},"Customer Sales Analyst","Analyst","USA",{"$f":"VLOOKUP(tblSalaries[[#This Row],[Where do you work]],tblCountries[[Actual]:[Mapping]],2,FALSE)","v":"USA"},"4 to 6 hours a day",15,{"$f":"VLOOKUP(K1639,tblCountries[],3,0)","v":"North Amer."},{"$f":"VLOOKUP(tblSalaries[[#This Row],[How many hours of a day you work on Excel]],tblHours,2,0)","v":4},{"$f":"VLOOKUP(tblSalaries[[#This Row],[clean Country]],tblCountries[],5,0)","v":1},{"$f":"IF($Q$1,tblSalaries[[#This Row],[PPP Factor]]*tblSalaries[[#This Row],[Salary in USD]],tblSalaries[[#This Row],[Salary in USD]])","v":55000}]
[null,"ID1675","2012-06-05T02:21:01",75000,75000,"USD",{"$f":"tblSalaries[[#This Row],[clean Salary (in local currency)]]*VLOOKUP(tblSalaries[[#This Row],[Currency]],tblXrate[],2,FALSE)","v":75000},"Accountant","Accountant","USA",{"$f":"VLOOKUP(tblSalaries[[#This Row],[Where do you work]],tblCountries[[Actual]:[Mapping]],2,FALSE)","v":"USA"},"4 to 6 hours a day",10,{"$f":"VLOOKUP(K1640,tblCountries[],3,0)","v":"North Amer."},{"$f":"VLOOKUP(tblSalaries[[#This Row],[How many hours of a day you work on Excel]],tblHours,2,0)","v":4},{"$f":"VLOOKUP(tblSalaries[[#This Row],[clean Country]],tblCountries[],5,0)","v":1},{"$f":"IF($Q$1,tblSalaries[[#This Row],[PPP Factor]]*tblSalaries[[#This Row],[Salary in USD]],tblSalaries[[#This Row],[Salary in USD]])","v":75000}]
[null,"ID1677","2012-06-05T03:50:02",3300,39600,"EUR",{"$f":"tblSalaries[[#This Row],[clean Salary (in local currency)]]*VLOOKUP(tblSalaries[[#This Row],[Currency]],tblXrate[],2,FALSE)","v":50307.817784067665},"Maintenance Manager","Manager","Europe",{"$f":"VLOOKUP(tblSalaries[[#This Row],[Where do you work]],tblCountries[[Actual]:[Mapping]],2,FALSE)","v":"Europe"},"1 or 2 hours a day",5,{"$f":"VLOOKUP(K1641,tblCountries[],3,0)","v":"Europe"},{"$f":"VLOOKUP(tblSalaries[[#This Row],[How many hours of a day you work on Excel]],tblHours,2,0)","v":2},{"$f":"VLOOKUP(tblSalaries[[#This Row],[clean Country]],tblCountries[],5,0)","v":1},{"$f":"IF($Q$1,tblSalaries[[#This Row],[PPP Factor]]*tblSalaries[[#This Row],[Salary in USD]],tblSalaries[[#This Row],[Salary in USD]])","v":50307.817784067665}]
[null,"ID1678","2012-06-05T03:55:36","US$ 30500",30500,"USD",{"$f":"tblSalaries[[#This Row],[clean Salary (in local currency)]]*VLOOKUP(tblSalaries[[#This Row],[Currency]],tblXrate[],2,FALSE)","v":30500},"Financial Analyst","Analyst","Brazil",{"$f":"VLOOKUP(tblSalaries[[#This Row],[Where do you work]],tblCountries[[Actual]:[Mapping]],2,FALSE)","v":"Brazil"},"All the 8 hours baby, all the 8!",8,{"$f":"VLOOKUP(K1642,tblCountries[],3,0)","v":"South Amer."},{"$f":"VLOOKUP(tblSalaries[[#This Row],[How many hours of a day you work on Excel]],tblHours,2,0)","v":5},{"$f":"VLOOKUP(tblSalaries[[#This Row],[clean Country]],tblCountries[],5,0)","v":4.1113943410655107},{"$f":"IF($Q$1,tblSalaries[[#This Row],[PPP Factor]]*tblSalaries[[#This Row],[Salary in USD]],tblSalaries[[#This Row],[Salary in USD]])","v":30500}]
[null,"ID1679","2012-06-05T04:06:09",80000,80000,"USD",{"$f":"tblSalaries[[#This Row],[clean Salary (in local currency)]]*VLOOKUP(tblSalaries[[#This Row],[Currency]],tblXrate[],2,FALSE)","v":80000},"Data Resource Specialist","Specialist","USA",{"$f":"VLOOKUP(tblSalaries[[#This Row],[Where do you work]],tblCountries[[Actual]:[Mapping]],2,FALSE)","v":"USA"},"2 to 3 hours per day",2,{"$f":"VLOOKUP(K1643,tblCountries[],3,0)","v":"North Amer."},{"$f":"VLOOKUP(tblSalaries[[#This Row],[How many hours of a day you work on Excel]],tblHours,2,0)","v":3},{"$f":"VLOOKUP(tblSalaries[[#This Row],[clean Country]],tblCountries[],5,0)","v":1},{"$f":"IF($Q$1,tblSalaries[[#This Row],[PPP Factor]]*tblSalaries[[#This Row],[Salary in USD]],tblSalaries[[#This Row],[Salary in USD]])","v":80000}]
[null,"ID1680","2012-06-05T05:03:04",1000,12000,"USD",{"$f":"tblSalaries[[#This Row],[clean Salary (in local currency)]]*VLOOKUP(tblSalaries[[#This Row],[Currency]],tblXrate[],2,FALSE)","v":12000},"Waiter","Analyst","USA",{"$f":"VLOOKUP(tblSalaries[[#This Row],[Where do you work]],tblCountries[[Actual]:[Mapping]],2,FALSE)","v":"USA"},"2 to 3 hours per day",1,{"$f":"VLOOKUP(K1644,tblCountries[],3,0)","v":"North Amer."},{"$f":"VLOOKUP(tblSalaries[[#This Row],[How many hours of a day you work on Excel]],tblHours,2,0)","v":3},{"$f":"VLOOKUP(tblSalaries[[#This Row],[clean Country]],tblCountries[],5,0)","v":1},{"$f":"IF($Q$1,tblSalaries[[#This Row],[PPP Factor]]*tblSalaries[[#This Row],[Salary in USD]],tblSalaries[[#This Row],[Salary in USD]])","v":12000}]
[null,"ID1681","2012-06-05T05:03:20",48500,48500,"USD",{"$f":"tblSalaries[[#This Row],[clean Salary (in local currency)]]*VLOOKUP(tblSalaries[[#This Row],[Currency]],tblXrate[],2,FALSE)","v":48500},"Business Systems Analyst I","Analyst","USA",{"$f":"VLOOKUP(tblSalaries[[#This Row],[Where do you work]],tblCountries[[Actual]:[Mapping]],2,FALSE)","v":"USA"},"4 to 6 hours a day",6,{"$f":"VLOOKUP(K1645,tblCountries[],3,0)","v":"North Amer."},{"$f":"VLOOKUP(tblSalaries[[#This Row],[How many hours of a day you work on Excel]],tblHours,2,0)","v":4},{"$f":"VLOOKUP(tblSalaries[[#This Row],[clean Country]],tblCountries[],5,0)","v":1},{"$f":"IF($Q$1,tblSalaries[[#This Row],[PPP Factor]]*tblSalaries[[#This Row],[Salary in USD]],tblSalaries[[#This Row],[Salary in USD]])","v":48500}]
[null,"ID1682","2012-06-05T06:51:36","Â£40000",40000,"GBP",{"$f":"tblSalaries[[#This Row],[clean Salary (in local currency)]]*VLOOKUP(tblSalaries[[#This Row],[Currency]],tblXrate[],2,FALSE)","v":63047.130882691366},"Technical Specialist","Specialist","UK",{"$f":"VLOOKUP(tblSalaries[[#This Row],[Where do you work]],tblCountries[[Actual]:[Mapping]],2,FALSE)","v":"UK"},"2 to 3 hours per day",25,{"$f":"VLOOKUP(K1646,tblCountries[],3,0)","v":"Europe"},{"$f":"VLOOKUP(tblSalaries[[#This Row],[How many hours of a day you work on Excel]],tblHours,2,0)","v":3},{"$f":"VLOOKUP(tblSalaries[[#This Row],[clean Country]],tblCountries[],5,0)","v":1.3407315045719035},{"$f":"IF($Q$1,tblSalaries[[#This Row],[PPP Factor]]*tblSalaries[[#This Row],[Salary in USD]],tblSalaries[[#This Row],[Salary in USD]])","v":63047.130882691366}]
[null,"ID1683","2012-06-05T07:05:12","Rs 16000",192000,"INR",{"$f":"tblSalaries[[#This Row],[clean Salary (in local currency)]]*VLOOKUP(tblSalaries[[#This Row],[Currency]],tblXrate[],2,FALSE)","v":3419.1200039889732},"Sr Associate","Analyst","India",{"$f":"VLOOKUP(tblSalaries[[#This Row],[Where do you work]],tblCountries[[Actual]:[Mapping]],2,FALSE)","v":"India"},"4 to 6 hours a day",5,{"$f":"VLOOKUP(K1647,tblCountries[],3,0)","v":"Asia"},{"$f":"VLOOKUP(tblSalaries[[#This Row],[How many hours of a day you work on Excel]],tblHours,2,0)","v":4},{"$f":"VLOOKUP(tblSalaries[[#This Row],[clean Country]],tblCountries[],5,0)","v":13.098808879263672},{"$f":"IF($Q$1,tblSalaries[[#This Row],[PPP Factor]]*tblSalaries[[#This Row],[Salary in USD]],tblSalaries[[#This Row],[Salary in USD]])","v":3419.1200039889732}]
[null,"ID1684","2012-06-05T10:43:34",110000,110000,"NZD",{"$f":"tblSalaries[[#This Row],[clean Salary (in local currency)]]*VLOOKUP(tblSalaries[[#This Row],[Currency]],tblXrate[],2,FALSE)","v":87734.690296543267},"Enterprise Portfolio Manager","Manager","New Zealand",{"$f":"VLOOKUP(tblSalaries[[#This Row],[Where do you work]],tblCountries[[Actual]:[Mapping]],2,FALSE)","v":"New Zealand"},"4 to 6 hours a day",6,{"$f":"VLOOKUP(K1648,tblCountries[],3,0)","v":"Oceania"},{"$f":"VLOOKUP(tblSalaries[[#This Row],[How many hours of a day you work on Excel]],tblHours,2,0)","v":4},{"$f":"VLOOKUP(tblSalaries[[#This Row],[clean Country]],tblCountries[],5,0)","v":1.7488434292323261},{"$f":"IF($Q$1,tblSalaries[[#This Row],[PPP Factor]]*tblSalaries[[#This Row],[Salary in USD]],tblSalaries[[#This Row],[Salary in USD]])","v":87734.690296543267}]
[null,"ID1685","2012-06-05T12:42:38","NZD$71000",71000,"NZD",{"$f":"tblSalaries[[#This Row],[clean Salary (in local currency)]]*VLOOKUP(tblSalaries[[#This Row],[Currency]],tblXrate[],2,FALSE)","v":56628.754645950656},"Business Analyst","Analyst","NZ",{"$f":"VLOOKUP(tblSalaries[[#This Row],[Where do you work]],tblCountries[[Actual]:[Mapping]],2,FALSE)","v":"New Zealand"},"All the 8 hours baby, all the 8!",6,{"$f":"VLOOKUP(K1649,tblCountries[],3,0)","v":"Oceania"},{"$f":"VLOOKUP(tblSalaries[[#This Row],[How many hours of a day you work on Excel]],tblHours,2,0)","v":5},{"$f":"VLOOKUP(tblSalaries[[#This Row],[clean Country]],tblCountries[],5,0)","v":1.7488434292323261},{"$f":"IF($Q$1,tblSalaries[[#This Row],[PPP Factor]]*tblSalaries[[#This Row],[Salary in USD]],tblSalaries[[#This Row],[Salary in USD]])","v":56628.754645950656}]
[null,"ID1686","2012-06-05T17:59:39","INR 450000",450000,"INR",{"$f":"tblSalaries[[#This Row],[clean Salary (in local currency)]]*VLOOKUP(tblSalaries[[#This Row],[Currency]],tblXrate[],2,FALSE)","v":8013.5625093491553},"Sr Executive - MIS","Reporting","India",{"$f":"VLOOKUP(tblSalaries[[#This Row],[Where do you work]],tblCountries[[Actual]:[Mapping]],2,FALSE)","v":"India"},"All the 8 hours baby, all the 8!",4,{"$f":"VLOOKUP(K1650,tblCountries[],3,0)","v":"Asia"},{"$f":"VLOOKUP(tblSalaries[[#This Row],[How many hours of a day you work on Excel]],tblHours,2,0)","v":5},{"$f":"VLOOKUP(tblSalaries[[#This Row],[clean Country]],tblCountries[],5,0)","v":13.098808879263672},{"$f":"IF($Q$1,tblSalaries[[#This Row],[PPP Factor]]*tblSalaries[[#This Row],[Salary in USD]],tblSalaries[[#This Row],[Salary in USD]])","v":8013.5625093491553}]
[null,"ID1687","2012-06-05T18:31:59","200000 INR",200000,"INR",{"$f":"tblSalaries[[#This Row],[clean Salary (in local currency)]]*VLOOKUP(tblSalaries[[#This Row],[Currency]],tblXrate[],2,FALSE)","v":3561.5833374885137},"Executive","Analyst","India",{"$f":"VLOOKUP(tblSalaries[[#This Row],[Where do you work]],tblCountries[[Actual]:[Mapping]],2,FALSE)","v":"India"},"1 or 2 hours a day",16,{"$f":"VLOOKUP(K1651,tblCountries[],3,0)","v":"Asia"},{"$f":"VLOOKUP(tblSalaries[[#This Row],[How many hours of a day you work on Excel]],tblHours,2,0)","v":2},{"$f":"VLOOKUP(tblSalaries[[#This Row],[clean Country]],tblCountries[],5,0)","v":13.098808879263672},{"$f":"IF($Q$1,tblSalaries[[#This Row],[PPP Factor]]*tblSalaries[[#This Row],[Salary in USD]],tblSalaries[[#This Row],[Salary in USD]])","v":3561.5833374885137}]
[null,"ID1688","2012-06-05T19:14:04",62000,62000,"USD",{"$f":"tblSalaries[[#This Row],[clean Salary (in local currency)]]*VLOOKUP(tblSalaries[[#This Row],[Currency]],tblXrate[],2,FALSE)","v":62000},"Quality Engineer","Engineer","USA",{"$f":"VLOOKUP(tblSalaries[[#This Row],[Where do you work]],tblCountries[[Actual]:[Mapping]],2,FALSE)","v":"USA"},"2 to 3 hours per day",12,{"$f":"VLOOKUP(K1652,tblCountries[],3,0)","v":"North Amer."},{"$f":"VLOOKUP(tblSalaries[[#This Row],[How many hours of a day you work on Excel]],tblHours,2,0)","v":3},{"$f":"VLOOKUP(tblSalaries[[#This Row],[clean Country]],tblCountries[],5,0)","v":1},{"$f":"IF($Q$1,tblSalaries[[#This Row],[PPP Factor]]*tblSalaries[[#This Row],[Salary in USD]],tblSalaries[[#This Row],[Salary in USD]])","v":62000}]
[null,"ID1689","2012-06-05T19:16:03",21000,21000,"EUR",{"$f":"tblSalaries[[#This Row],[clean Salary (in local currency)]]*VLOOKUP(tblSalaries[[#This Row],[Currency]],tblXrate[],2,FALSE)","v":26678.388218823762},"Sales Planning","Analyst","Portugal",{"$f":"VLOOKUP(tblSalaries[[#This Row],[Where do you work]],tblCountries[[Actual]:[Mapping]],2,FALSE)","v":"Portugal"},"4 to 6 hours a day",5,{"$f":"VLOOKUP(K1653,tblCountries[],3,0)","v":"Europe"},{"$f":"VLOOKUP(tblSalaries[[#This Row],[How many hours of a day you work on Excel]],tblHours,2,0)","v":4},{"$f":"VLOOKUP(tblSalaries[[#This Row],[clean Country]],tblCountries[],5,0)","v":2.0712726338769745},{"$f":"IF($Q$1,tblSalaries[[#This Row],[PPP Factor]]*tblSalaries[[#This Row],[Salary in USD]],tblSalaries[[#This Row],[Salary in USD]])","v":26678.388218823762}]
[null,"ID1690","2012-06-05T19:37:13","Â£45000",45000,"GBP",{"$f":"tblSalaries[[#This Row],[clean Salary (in local currency)]]*VLOOKUP(tblSalaries[[#This Row],[Currency]],tblXrate[],2,FALSE)","v":70928.022243027779},"Data Analyst","Analyst","UK",{"$f":"VLOOKUP(tblSalaries[[#This Row],[Where do you work]],tblCountries[[Actual]:[Mapping]],2,FALSE)","v":"UK"},"All the 8 hours baby, all the 8!",5,{"$f":"VLOOKUP(K1654,tblCountries[],3,0)","v":"Europe"},{"$f":"VLOOKUP(tblSalaries[[#This Row],[How many hours of a day you work on Excel]],tblHours,2,0)","v":5},{"$f":"VLOOKUP(tblSalaries[[#This Row],[clean Country]],tblCountries[],5,0)","v":1.3407315045719035},{"$f":"IF($Q$1,tblSalaries[[#This Row],[PPP Factor]]*tblSalaries[[#This Row],[Salary in USD]],tblSalaries[[#This Row],[Salary in USD]])","v":70928.022243027779}]
[null,"ID1691","2012-06-05T19:59:35",33000,33000,"EUR",{"$f":"tblSalaries[[#This Row],[clean Salary (in local currency)]]*VLOOKUP(tblSalaries[[#This Row],[Currency]],tblXrate[],2,FALSE)","v":41923.181486723057},"assistant","Analyst","france",{"$f":"VLOOKUP(tblSalaries[[#This Row],[Where do you work]],tblCountries[[Actual]:[Mapping]],2,FALSE)","v":"France"},"4 to 6 hours a day",6,{"$f":"VLOOKUP(K1655,tblCountries[],3,0)","v":"Europe"},{"$f":"VLOOKUP(tblSalaries[[#This Row],[How many hours of a day you work on Excel]],tblHours,2,0)","v":4},{"$f":"VLOOKUP(tblSalaries[[#This Row],[clean Country]],tblCountries[],5,0)","v":1.3763511207190806},{"$f":"IF($Q$1,tblSalaries[[#This Row],[PPP Factor]]*tblSalaries[[#This Row],[Salary in USD]],tblSalaries[[#This Row],[Salary in USD]])","v":41923.181486723057}]
[null,"ID1692","2012-06-05T20:43:21",90000,90000,"USD",{"$f":"tblSalaries[[#This Row],[clean Salary (in local currency)]]*VLOOKUP(tblSalaries[[#This Row],[Currency]],tblXrate[],2,FALSE)","v":90000},"Senior QA Tester","Analyst","USA",{"$f":"VLOOKUP(tblSalaries[[#This Row],[Where do you work]],tblCountries[[Actual]:[Mapping]],2,FALSE)","v":"USA"},"2 to 3 hours per day",8,{"$f":"VLOOKUP(K1656,tblCountries[],3,0)","v":"North Amer."},{"$f":"VLOOKUP(tblSalaries[[#This Row],[How many hours of a day you work on Excel]],tblHours,2,0)","v":3},{"$f":"VLOOKUP(tblSalaries[[#This Row],[clean Country]],tblCountries[],5,0)","v":1},{"$f":"IF($Q$1,tblSalaries[[#This Row],[PPP Factor]]*tblSalaries[[#This Row],[Salary in USD]],tblSalaries[[#This Row],[Salary in USD]])","v":90000}]
[null,"ID1693","2012-06-05T21:07:16","400 000 NOK",400000,"NOK",{"$f":"tblSalaries[[#This Row],[clean Salary (in local currency)]]*VLOOKUP(tblSalaries[[#This Row],[Currency]],tblXrate[],2,FALSE)","v":67700.452577525488},"Economic analyst","Analyst","Norway",{"$f":"VLOOKUP(tblSalaries[[#This Row],[Where do you work]],tblCountries[[Actual]:[Mapping]],2,FALSE)","v":"Norway"},"All the 8 hours baby, all the 8!",5,{"$f":"VLOOKUP(K1657,tblCountries[],3,0)","v":"Europe"},{"$f":"VLOOKUP(tblSalaries[[#This Row],[How many hours of a day you work on Excel]],tblHours,2,0)","v":5},{"$f":"VLOOKUP(tblSalaries[[#This Row],[clean Country]],tblCountries[],5,0)","v":0.90492042415514951},{"$f":"IF($Q$1,tblSalaries[[#This Row],[PPP Factor]]*tblSalaries[[#This Row],[Salary in USD]],tblSalaries[[#This Row],[Salary in USD]])","v":67700.452577525488}]
[null,"ID1694","2012-06-05T21:33:47",85000,85000,"USD",{"$f":"tblSalaries[[#This Row],[clean Salary (in local currency)]]*VLOOKUP(tblSalaries[[#This Row],[Currency]],tblXrate[],2,FALSE)","v":85000},"Financial Analyst","Analyst","USA",{"$f":"VLOOKUP(tblSalaries[[#This Row],[Where do you work]],tblCountries[[Actual]:[Mapping]],2,FALSE)","v":"USA"},"4 to 6 hours a day",12,{"$f":"VLOOKUP(K1658,tblCountries[],3,0)","v":"North Amer."},{"$f":"VLOOKUP(tblSalaries[[#This Row],[How many hours of a day you work on Excel]],tblHours,2,0)","v":4},{"$f":"VLOOKUP(tblSalaries[[#This Row],[clean Country]],tblCountries[],5,0)","v":1},{"$f":"IF($Q$1,tblSalaries[[#This Row],[PPP Factor]]*tblSalaries[[#This Row],[Salary in USD]],tblSalaries[[#This Row],[Salary in USD]])","v":85000}]
[null,"ID1695","2012-06-05T21:49:10",50000,50000,"GBP",{"$f":"tblSalaries[[#This Row],[clean Salary (in local currency)]]*VLOOKUP(tblSalaries[[#This Row],[Currency]],tblXrate[],2,FALSE)","v":78808.913603364199},"Commercial Director","CXO or Top Mgmt.","UK",{"$f":"VLOOKUP(tblSalaries[[#This Row],[Where do you work]],tblCountries[[Actual]:[Mapping]],2,FALSE)","v":"UK"},"4 to 6 hours a day",10,{"$f":"VLOOKUP(K1659,tblCountries[],3,0)","v":"Europe"},{"$f":"VLOOKUP(tblSalaries[[#This Row],[How many hours of a day you work on Excel]],tblHours,2,0)","v":4},{"$f":"VLOOKUP(tblSalaries[[#This Row],[clean Country]],tblCountries[],5,0)","v":1.3407315045719035},{"$f":"IF($Q$1,tblSalaries[[#This Row],[PPP Factor]]*tblSalaries[[#This Row],[Salary in USD]],tblSalaries[[#This Row],[Salary in USD]])","v":78808.913603364199}]
[null,"ID1696","2012-06-05T21:59:40",65000,65000,"USD",{"$f":"tblSalaries[[#This Row],[clean Salary (in local currency)]]*VLOOKUP(tblSalaries[[#This Row],[Currency]],tblXrate[],2,FALSE)","v":65000},"Business Analyst","Analyst","USA",{"$f":"VLOOKUP(tblSalaries[[#This Row],[Where do you work]],tblCountries[[Actual]:[Mapping]],2,FALSE)","v":"USA"},"4 to 6 hours a day",8,{"$f":"VLOOKUP(K1660,tblCountries[],3,0)","v":"North Amer."},{"$f":"VLOOKUP(tblSalaries[[#This Row],[How many hours of a day you work on Excel]],tblHours,2,0)","v":4},{"$f":"VLOOKUP(tblSalaries[[#This Row],[clean Country]],tblCountries[],5,0)","v":1},{"$f":"IF($Q$1,tblSalaries[[#This Row],[PPP Factor]]*tblSalaries[[#This Row],[Salary in USD]],tblSalaries[[#This Row],[Salary in USD]])","v":65000}]
[null,"ID1697","2012-06-05T22:05:10",75000,75000,"USD",{"$f":"tblSalaries[[#This Row],[clean Salary (in local currency)]]*VLOOKUP(tblSalaries[[#This Row],[Currency]],tblXrate[],2,FALSE)","v":75000},"Directer of Sales Support","CXO or Top Mgmt.","USA",{"$f":"VLOOKUP(tblSalaries[[#This Row],[Where do you work]],tblCountries[[Actual]:[Mapping]],2,FALSE)","v":"USA"},"2 to 3 hours per day",3,{"$f":"VLOOKUP(K1661,tblCountries[],3,0)","v":"North Amer."},{"$f":"VLOOKUP(tblSalaries[[#This Row],[How many hours of a day you work on Excel]],tblHours,2,0)","v":3},{"$f":"VLOOKUP(tblSalaries[[#This Row],[clean Country]],tblCountries[],5,0)","v":1},{"$f":"IF($Q$1,tblSalaries[[#This Row],[PPP Factor]]*tblSalaries[[#This Row],[Salary in USD]],tblSalaries[[#This Row],[Salary in USD]])","v":75000}]
[null,"ID1698","2012-06-05T22:44:27",92000,92000,"USD",{"$f":"tblSalaries[[#This Row],[clean Salary (in local currency)]]*VLOOKUP(tblSalaries[[#This Row],[Currency]],tblXrate[],2,FALSE)","v":92000},"Anallyst","Analyst","USA",{"$f":"VLOOKUP(tblSalaries[[#This Row],[Where do you work]],tblCountries[[Actual]:[Mapping]],2,FALSE)","v":"USA"},"4 to 6 hours a day",9,{"$f":"VLOOKUP(K1662,tblCountries[],3,0)","v":"North Amer."},{"$f":"VLOOKUP(tblSalaries[[#This Row],[How many hours of a day you work on Excel]],tblHours,2,0)","v":4},{"$f":"VLOOKUP(tblSalaries[[#This Row],[clean Country]],tblCountries[],5,0)","v":1},{"$f":"IF($Q$1,tblSalaries[[#This Row],[PPP Factor]]*tblSalaries[[#This Row],[Salary in USD]],tblSalaries[[#This Row],[Salary in USD]])","v":92000}]
[null,"ID1699","2012-06-05T22:50:20",40000,40000,"EUR",{"$f":"tblSalaries[[#This Row],[clean Salary (in local currency)]]*VLOOKUP(tblSalaries[[#This Row],[Currency]],tblXrate[],2,FALSE)","v":50815.977559664309},"Financial Analyst","Analyst","Germany",{"$f":"VLOOKUP(tblSalaries[[#This Row],[Where do you work]],tblCountries[[Actual]:[Mapping]],2,FALSE)","v":"Germany"},"2 to 3 hours per day",3,{"$f":"VLOOKUP(K1663,tblCountries[],3,0)","v":"Europe"},{"$f":"VLOOKUP(tblSalaries[[#This Row],[How many hours of a day you work on Excel]],tblHours,2,0)","v":3},{"$f":"VLOOKUP(tblSalaries[[#This Row],[clean Country]],tblCountries[],5,0)","v":1.276802913159353},{"$f":"IF($Q$1,tblSalaries[[#This Row],[PPP Factor]]*tblSalaries[[#This Row],[Salary in USD]],tblSalaries[[#This Row],[Salary in USD]])","v":50815.977559664309}]
[null,"ID1700","2012-06-05T23:09:44","Â£35500",35500,"GBP",{"$f":"tblSalaries[[#This Row],[clean Salary (in local currency)]]*VLOOKUP(tblSalaries[[#This Row],[Currency]],tblXrate[],2,FALSE)","v":55954.328658388586},"Assistant Accountant","Accountant","UK",{"$f":"VLOOKUP(tblSalaries[[#This Row],[Where do you work]],tblCountries[[Actual]:[Mapping]],2,FALSE)","v":"UK"},"4 to 6 hours a day",8,{"$f":"VLOOKUP(K1664,tblCountries[],3,0)","v":"Europe"},{"$f":"VLOOKUP(tblSalaries[[#This Row],[How many hours of a day you work on Excel]],tblHours,2,0)","v":4},{"$f":"VLOOKUP(tblSalaries[[#This Row],[clean Country]],tblCountries[],5,0)","v":1.3407315045719035},{"$f":"IF($Q$1,tblSalaries[[#This Row],[PPP Factor]]*tblSalaries[[#This Row],[Salary in USD]],tblSalaries[[#This Row],[Salary in USD]])","v":55954.328658388586}]
[null,"ID1701","2012-06-06T00:49:15",45000,45000,"USD",{"$f":"tblSalaries[[#This Row],[clean Salary (in local currency)]]*VLOOKUP(tblSalaries[[#This Row],[Currency]],tblXrate[],2,FALSE)","v":45000},"Bussiness Analyst","Analyst","USA",{"$f":"VLOOKUP(tblSalaries[[#This Row],[Where do you work]],tblCountries[[Actual]:[Mapping]],2,FALSE)","v":"USA"},"2 to 3 hours per day",4,{"$f":"VLOOKUP(K1665,tblCountries[],3,0)","v":"North Amer."},{"$f":"VLOOKUP(tblSalaries[[#This Row],[How many hours of a day you work on Excel]],tblHours,2,0)","v":3},{"$f":"VLOOKUP(tblSalaries[[#This Row],[clean Country]],tblCountries[],5,0)","v":1},{"$f":"IF($Q$1,tblSalaries[[#This Row],[PPP Factor]]*tblSalaries[[#This Row],[Salary in USD]],tblSalaries[[#This Row],[Salary in USD]])","v":45000}]
[null,"ID1702","2012-06-06T01:04:35","4 lacs INR",400000,"INR",{"$f":"tblSalaries[[#This Row],[clean Salary (in local currency)]]*VLOOKUP(tblSalaries[[#This Row],[Currency]],tblXrate[],2,FALSE)","v":7123.1666749770275},"Analyst","Analyst","India",{"$f":"VLOOKUP(tblSalaries[[#This Row],[Where do you work]],tblCountries[[Actual]:[Mapping]],2,FALSE)","v":"India"},"4 to 6 hours a day",4,{"$f":"VLOOKUP(K1666,tblCountries[],3,0)","v":"Asia"},{"$f":"VLOOKUP(tblSalaries[[#This Row],[How many hours of a day you work on Excel]],tblHours,2,0)","v":4},{"$f":"VLOOKUP(tblSalaries[[#This Row],[clean Country]],tblCountries[],5,0)","v":13.098808879263672},{"$f":"IF($Q$1,tblSalaries[[#This Row],[PPP Factor]]*tblSalaries[[#This Row],[Salary in USD]],tblSalaries[[#This Row],[Salary in USD]])","v":7123.1666749770275}]
[null,"ID1703","2012-06-06T01:26:56","38920EUR",38920,"EUR",{"$f":"tblSalaries[[#This Row],[clean Salary (in local currency)]]*VLOOKUP(tblSalaries[[#This Row],[Currency]],tblXrate[],2,FALSE)","v":49443.946165553374},"functional analyst","Analyst","Belgium",{"$f":"VLOOKUP(tblSalaries[[#This Row],[Where do you work]],tblCountries[[Actual]:[Mapping]],2,FALSE)","v":"Belgium"},"4 to 6 hours a day",1.5,{"$f":"VLOOKUP(K1667,tblCountries[],3,0)","v":"Europe"},{"$f":"VLOOKUP(tblSalaries[[#This Row],[How many hours of a day you work on Excel]],tblHours,2,0)","v":4},{"$f":"VLOOKUP(tblSalaries[[#This Row],[clean Country]],tblCountries[],5,0)","v":1.2822163924000318},{"$f":"IF($Q$1,tblSalaries[[#This Row],[PPP Factor]]*tblSalaries[[#This Row],[Salary in USD]],tblSalaries[[#This Row],[Salary in USD]])","v":49443.946165553374}]
[null,"ID1704","2012-06-06T01:41:40","US$45,000",45000,"USD",{"$f":"tblSalaries[[#This Row],[clean Salary (in local currency)]]*VLOOKUP(tblSalaries[[#This Row],[Currency]],tblXrate[],2,FALSE)","v":45000},"CFO","CXO or Top Mgmt.","Mexico",{"$f":"VLOOKUP(tblSalaries[[#This Row],[Where do you work]],tblCountries[[Actual]:[Mapping]],2,FALSE)","v":"Mexico"},"4 to 6 hours a day",5,{"$f":"VLOOKUP(K1668,tblCountries[],3,0)","v":"North Amer."},{"$f":"VLOOKUP(tblSalaries[[#This Row],[How many hours of a day you work on Excel]],tblHours,2,0)","v":4},{"$f":"VLOOKUP(tblSalaries[[#This Row],[clean Country]],tblCountries[],5,0)","v":3.3119096509240245},{"$f":"IF($Q$1,tblSalaries[[#This Row],[PPP Factor]]*tblSalaries[[#This Row],[Salary in USD]],tblSalaries[[#This Row],[Salary in USD]])","v":45000}]
[null,"ID1705","2012-06-06T02:11:58","US$60000",60000,"USD",{"$f":"tblSalaries[[#This Row],[clean Salary (in local currency)]]*VLOOKUP(tblSalaries[[#This Row],[Currency]],tblXrate[],2,FALSE)","v":60000},"Analyst","Analyst","USA",{"$f":"VLOOKUP(tblSalaries[[#This Row],[Where do you work]],tblCountries[[Actual]:[Mapping]],2,FALSE)","v":"USA"},"All the 8 hours baby, all the 8!",1,{"$f":"VLOOKUP(K1669,tblCountries[],3,0)","v":"North Amer."},{"$f":"VLOOKUP(tblSalaries[[#This Row],[How many hours of a day you work on Excel]],tblHours,2,0)","v":5},{"$f":"VLOOKUP(tblSalaries[[#This Row],[clean Country]],tblCountries[],5,0)","v":1},{"$f":"IF($Q$1,tblSalaries[[#This Row],[PPP Factor]]*tblSalaries[[#This Row],[Salary in USD]],tblSalaries[[#This Row],[Salary in USD]])","v":60000}]
[null,"ID1706","2012-06-06T02:17:14",65000,65000,"USD",{"$f":"tblSalaries[[#This Row],[clean Salary (in local currency)]]*VLOOKUP(tblSalaries[[#This Row],[Currency]],tblXrate[],2,FALSE)","v":65000},"Actuarial Analyst","Analyst","USA",{"$f":"VLOOKUP(tblSalaries[[#This Row],[Where do you work]],tblCountries[[Actual]:[Mapping]],2,FALSE)","v":"USA"},"All the 8 hours baby, all the 8!",4,{"$f":"VLOOKUP(K1670,tblCountries[],3,0)","v":"North Amer."},{"$f":"VLOOKUP(tblSalaries[[#This Row],[How many hours of a day you work on Excel]],tblHours,2,0)","v":5},{"$f":"VLOOKUP(tblSalaries[[#This Row],[clean Country]],tblCountries[],5,0)","v":1},{"$f":"IF($Q$1,tblSalaries[[#This Row],[PPP Factor]]*tblSalaries[[#This Row],[Salary in USD]],tblSalaries[[#This Row],[Salary in USD]])","v":65000}]
[null,"ID1707","2012-06-06T03:14:56",73000,73000,"USD",{"$f":"tblSalaries[[#This Row],[clean Salary (in local currency)]]*VLOOKUP(tblSalaries[[#This Row],[Currency]],tblXrate[],2,FALSE)","v":73000},"process coordinator","Manager","USA",{"$f":"VLOOKUP(tblSalaries[[#This Row],[Where do you work]],tblCountries[[Actual]:[Mapping]],2,FALSE)","v":"USA"},"2 to 3 hours per day",6,{"$f":"VLOOKUP(K1671,tblCountries[],3,0)","v":"North Amer."},{"$f":"VLOOKUP(tblSalaries[[#This Row],[How many hours of a day you work on Excel]],tblHours,2,0)","v":3},{"$f":"VLOOKUP(tblSalaries[[#This Row],[clean Country]],tblCountries[],5,0)","v":1},{"$f":"IF($Q$1,tblSalaries[[#This Row],[PPP Factor]]*tblSalaries[[#This Row],[Salary in USD]],tblSalaries[[#This Row],[Salary in USD]])","v":73000}]
[null,"ID1708","2012-06-06T04:00:52",54000,54000,"USD",{"$f":"tblSalaries[[#This Row],[clean Salary (in local currency)]]*VLOOKUP(tblSalaries[[#This Row],[Currency]],tblXrate[],2,FALSE)","v":54000},"Energy Analyst","Analyst","USA",{"$f":"VLOOKUP(tblSalaries[[#This Row],[Where do you work]],tblCountries[[Actual]:[Mapping]],2,FALSE)","v":"USA"},"All the 8 hours baby, all the 8!",6,{"$f":"VLOOKUP(K1672,tblCountries[],3,0)","v":"North Amer."},{"$f":"VLOOKUP(tblSalaries[[#This Row],[How many hours of a day you work on Excel]],tblHours,2,0)","v":5},{"$f":"VLOOKUP(tblSalaries[[#This Row],[clean Country]],tblCountries[],5,0)","v":1},{"$f":"IF($Q$1,tblSalaries[[#This Row],[PPP Factor]]*tblSalaries[[#This Row],[Salary in USD]],tblSalaries[[#This Row],[Salary in USD]])","v":54000}]
[null,"ID1710","2012-06-06T05:52:59",81000,81000,"USD",{"$f":"tblSalaries[[#This Row],[clean Salary (in local currency)]]*VLOOKUP(tblSalaries[[#This Row],[Currency]],tblXrate[],2,FALSE)","v":81000},"Contact Operations Analyst","Analyst","USA",{"$f":"VLOOKUP(tblSalaries[[#This Row],[Where do you work]],tblCountries[[Actual]:[Mapping]],2,FALSE)","v":"USA"},"4 to 6 hours a day",6,{"$f":"VLOOKUP(K1673,tblCountries[],3,0)","v":"North Amer."},{"$f":"VLOOKUP(tblSalaries[[#This Row],[How many hours of a day you work on Excel]],tblHours,2,0)","v":4},{"$f":"VLOOKUP(tblSalaries[[#This Row],[clean Country]],tblCountries[],5,0)","v":1},{"$f":"IF($Q$1,tblSalaries[[#This Row],[PPP Factor]]*tblSalaries[[#This Row],[Salary in USD]],tblSalaries[[#This Row],[Salary in USD]])","v":81000}]
[null,"ID1711","2012-06-06T07:28:48",10000,10000,"USD",{"$f":"tblSalaries[[#This Row],[clean Salary (in local currency)]]*VLOOKUP(tblSalaries[[#This Row],[Currency]],tblXrate[],2,FALSE)","v":10000},"Student assistant","Analyst","USA",{"$f":"VLOOKUP(tblSalaries[[#This Row],[Where do you work]],tblCountries[[Actual]:[Mapping]],2,FALSE)","v":"USA"},"4 to 6 hours a day",2,{"$f":"VLOOKUP(K1674,tblCountries[],3,0)","v":"North Amer."},{"$f":"VLOOKUP(tblSalaries[[#This Row],[How many hours of a day you work on Excel]],tblHours,2,0)","v":4},{"$f":"VLOOKUP(tblSalaries[[#This Row],[clean Country]],tblCountries[],5,0)","v":1},{"$f":"IF($Q$1,tblSalaries[[#This Row],[PPP Factor]]*tblSalaries[[#This Row],[Salary in USD]],tblSalaries[[#This Row],[Salary in USD]])","v":10000}]
[null,"ID1712","2012-06-06T08:25:56",42000,42000,"USD",{"$f":"tblSalaries[[#This Row],[clean Salary (in local currency)]]*VLOOKUP(tblSalaries[[#This Row],[Currency]],tblXrate[],2,FALSE)","v":42000},"Staff Accountant","Accountant","USA",{"$f":"VLOOKUP(tblSalaries[[#This Row],[Where do you work]],tblCountries[[Actual]:[Mapping]],2,FALSE)","v":"USA"},"4 to 6 hours a day",1,{"$f":"VLOOKUP(K1675,tblCountries[],3,0)","v":"North Amer."},{"$f":"VLOOKUP(tblSalaries[[#This Row],[How many hours of a day you work on Excel]],tblHours,2,0)","v":4},{"$f":"VLOOKUP(tblSalaries[[#This Row],[clean Country]],tblCountries[],5,0)","v":1},{"$f":"IF($Q$1,tblSalaries[[#This Row],[PPP Factor]]*tblSalaries[[#This Row],[Salary in USD]],tblSalaries[[#This Row],[Salary in USD]])","v":42000}]
[null,"ID1713","2012-06-06T09:31:47",80000,80000,"AUD",{"$f":"tblSalaries[[#This Row],[clean Salary (in local currency)]]*VLOOKUP(tblSalaries[[#This Row],[Currency]],tblXrate[],2,FALSE)","v":81592.772512210868},"PPC Search Specialist","Specialist","Australia",{"$f":"VLOOKUP(tblSalaries[[#This Row],[Where do you work]],tblCountries[[Actual]:[Mapping]],2,FALSE)","v":"Australia"},"4 to 6 hours a day",5,{"$f":"VLOOKUP(K1676,tblCountries[],3,0)","v":"Oceania"},{"$f":"VLOOKUP(tblSalaries[[#This Row],[How many hours of a day you work on Excel]],tblHours,2,0)","v":4},{"$f":"VLOOKUP(tblSalaries[[#This Row],[clean Country]],tblCountries[],5,0)","v":1.2026395585822935},{"$f":"IF($Q$1,tblSalaries[[#This Row],[PPP Factor]]*tblSalaries[[#This Row],[Salary in USD]],tblSalaries[[#This Row],[Salary in USD]])","v":81592.772512210868}]
[null,"ID1714","2012-06-06T11:21:08",36000,36000,"CAD",{"$f":"tblSalaries[[#This Row],[clean Salary (in local currency)]]*VLOOKUP(tblSalaries[[#This Row],[Currency]],tblXrate[],2,FALSE)","v":35401.014829091764},"data organizer","Analyst","Canada",{"$f":"VLOOKUP(tblSalaries[[#This Row],[Where do you work]],tblCountries[[Actual]:[Mapping]],2,FALSE)","v":"Canada"},"All the 8 hours baby, all the 8!",2,{"$f":"VLOOKUP(K1677,tblCountries[],3,0)","v":"North Amer."},{"$f":"VLOOKUP(tblSalaries[[#This Row],[How many hours of a day you work on Excel]],tblHours,2,0)","v":5},{"$f":"VLOOKUP(tblSalaries[[#This Row],[clean Country]],tblCountries[],5,0)","v":1.1935324732986359},{"$f":"IF($Q$1,tblSalaries[[#This Row],[PPP Factor]]*tblSalaries[[#This Row],[Salary in USD]],tblSalaries[[#This Row],[Salary in USD]])","v":35401.014829091764}]
[null,"ID1716","2012-06-06T16:03:39",500000,500000,"INR",{"$f":"tblSalaries[[#This Row],[clean Salary (in local currency)]]*VLOOKUP(tblSalaries[[#This Row],[Currency]],tblXrate[],2,FALSE)","v":8903.9583437212841},"Sr. Associate","Analyst","India",{"$f":"VLOOKUP(tblSalaries[[#This Row],[Where do you work]],tblCountries[[Actual]:[Mapping]],2,FALSE)","v":"India"},"4 to 6 hours a day",4,{"$f":"VLOOKUP(K1678,tblCountries[],3,0)","v":"Asia"},{"$f":"VLOOKUP(tblSalaries[[#This Row],[How many hours of a day you work on Excel]],tblHours,2,0)","v":4},{"$f":"VLOOKUP(tblSalaries[[#This Row],[clean Country]],tblCountries[],5,0)","v":13.098808879263672},{"$f":"IF($Q$1,tblSalaries[[#This Row],[PPP Factor]]*tblSalaries[[#This Row],[Salary in USD]],tblSalaries[[#This Row],[Salary in USD]])","v":8903.9583437212841}]
[null,"ID1717","2012-06-06T17:41:41",600000,600000,"INR",{"$f":"tblSalaries[[#This Row],[clean Salary (in local currency)]]*VLOOKUP(tblSalaries[[#This Row],[Currency]],tblXrate[],2,FALSE)","v":10684.750012465542},"admin","Analyst","India",{"$f":"VLOOKUP(tblSalaries[[#This Row],[Where do you work]],tblCountries[[Actual]:[Mapping]],2,FALSE)","v":"India"},"All the 8 hours baby, all the 8!",5,{"$f":"VLOOKUP(K1679,tblCountries[],3,0)","v":"Asia"},{"$f":"VLOOKUP(tblSalaries[[#This Row],[How many hours of a day you work on Excel]],tblHours,2,0)","v":5},{"$f":"VLOOKUP(tblSalaries[[#This Row],[clean Country]],tblCountries[],5,0)","v":13.098808879263672},{"$f":"IF($Q$1,tblSalaries[[#This Row],[PPP Factor]]*tblSalaries[[#This Row],[Salary in USD]],tblSalaries[[#This Row],[Salary in USD]])","v":10684.750012465542}]
[null,"ID1718","2012-06-06T18:52:03",700,8400,"USD",{"$f":"tblSalaries[[#This Row],[clean Salary (in local currency)]]*VLOOKUP(tblSalaries[[#This Row],[Currency]],tblXrate[],2,FALSE)","v":8400},"gov employee","Analyst","indonesia",{"$f":"VLOOKUP(tblSalaries[[#This Row],[Where do you work]],tblCountries[[Actual]:[Mapping]],2,FALSE)","v":"Indonesia"},"4 to 6 hours a day",14,{"$f":"VLOOKUP(K1680,tblCountries[],3,0)","v":"Asia"},{"$f":"VLOOKUP(tblSalaries[[#This Row],[How many hours of a day you work on Excel]],tblHours,2,0)","v":4},{"$f":"VLOOKUP(tblSalaries[[#This Row],[clean Country]],tblCountries[],5,0)","v":10.370124303471924},{"$f":"IF($Q$1,tblSalaries[[#This Row],[PPP Factor]]*tblSalaries[[#This Row],[Salary in USD]],tblSalaries[[#This Row],[Salary in USD]])","v":8400}]
[null,"ID1719","2012-06-06T19:39:06",550000,550000,"INR",{"$f":"tblSalaries[[#This Row],[clean Salary (in local currency)]]*VLOOKUP(tblSalaries[[#This Row],[Currency]],tblXrate[],2,FALSE)","v":9794.354178093412},"Accounts manager","Manager","India",{"$f":"VLOOKUP(tblSalaries[[#This Row],[Where do you work]],tblCountries[[Actual]:[Mapping]],2,FALSE)","v":"India"},"4 to 6 hours a day",13,{"$f":"VLOOKUP(K1681,tblCountries[],3,0)","v":"Asia"},{"$f":"VLOOKUP(tblSalaries[[#This Row],[How many hours of a day you work on Excel]],tblHours,2,0)","v":4},{"$f":"VLOOKUP(tblSalaries[[#This Row],[clean Country]],tblCountries[],5,0)","v":13.098808879263672},{"$f":"IF($Q$1,tblSalaries[[#This Row],[PPP Factor]]*tblSalaries[[#This Row],[Salary in USD]],tblSalaries[[#This Row],[Salary in USD]])","v":9794.354178093412}]
[null,"ID1720","2012-06-06T19:54:49",1200,14400,"USD",{"$f":"tblSalaries[[#This Row],[clean Salary (in local currency)]]*VLOOKUP(tblSalaries[[#This Row],[Currency]],tblXrate[],2,FALSE)","v":14400},"Engineer","Engineer","India",{"$f":"VLOOKUP(tblSalaries[[#This Row],[Where do you work]],tblCountries[[Actual]:[Mapping]],2,FALSE)","v":"India"},"1 or 2 hours a day",8,{"$f":"VLOOKUP(K1682,tblCountries[],3,0)","v":"Asia"},{"$f":"VLOOKUP(tblSalaries[[#This Row],[How many hours of a day you work on Excel]],tblHours,2,0)","v":2},{"$f":"VLOOKUP(tblSalaries[[#This Row],[clean Country]],tblCountries[],5,0)","v":13.098808879263672},{"$f":"IF($Q$1,tblSalaries[[#This Row],[PPP Factor]]*tblSalaries[[#This Row],[Salary in USD]],tblSalaries[[#This Row],[Salary in USD]])","v":14400}]
[null,"ID1721","2012-06-06T20:07:43","1.5 LINR",150000,"INR",{"$f":"tblSalaries[[#This Row],[clean Salary (in local currency)]]*VLOOKUP(tblSalaries[[#This Row],[Currency]],tblXrate[],2,FALSE)","v":2671.1875031163854},"MIS Executive","Reporting","India",{"$f":"VLOOKUP(tblSalaries[[#This Row],[Where do you work]],tblCountries[[Actual]:[Mapping]],2,FALSE)","v":"India"},"All the 8 hours baby, all the 8!",3,{"$f":"VLOOKUP(K1683,tblCountries[],3,0)","v":"Asia"},{"$f":"VLOOKUP(tblSalaries[[#This Row],[How many hours of a day you work on Excel]],tblHours,2,0)","v":5},{"$f":"VLOOKUP(tblSalaries[[#This Row],[clean Country]],tblCountries[],5,0)","v":13.098808879263672},{"$f":"IF($Q$1,tblSalaries[[#This Row],[PPP Factor]]*tblSalaries[[#This Row],[Salary in USD]],tblSalaries[[#This Row],[Salary in USD]])","v":2671.1875031163854}]
[null,"ID1722","2012-06-06T20:41:35",22000,22000,"USD",{"$f":"tblSalaries[[#This Row],[clean Salary (in local currency)]]*VLOOKUP(tblSalaries[[#This Row],[Currency]],tblXrate[],2,FALSE)","v":22000},"Manager (MIS)","Manager","India",{"$f":"VLOOKUP(tblSalaries[[#This Row],[Where do you work]],tblCountries[[Actual]:[Mapping]],2,FALSE)","v":"India"},"All the 8 hours baby, all the 8!",6,{"$f":"VLOOKUP(K1684,tblCountries[],3,0)","v":"Asia"},{"$f":"VLOOKUP(tblSalaries[[#This Row],[How many hours of a day you work on Excel]],tblHours,2,0)","v":5},{"$f":"VLOOKUP(tblSalaries[[#This Row],[clean Country]],tblCountries[],5,0)","v":13.098808879263672},{"$f":"IF($Q$1,tblSalaries[[#This Row],[PPP Factor]]*tblSalaries[[#This Row],[Salary in USD]],tblSalaries[[#This Row],[Salary in USD]])","v":22000}]
[null,"ID1723","2012-06-06T21:18:51",100000,100000,"USD",{"$f":"tblSalaries[[#This Row],[clean Salary (in local currency)]]*VLOOKUP(tblSalaries[[#This Row],[Currency]],tblXrate[],2,FALSE)","v":100000},"financial analyst (real estate)","Analyst","Russia",{"$f":"VLOOKUP(tblSalaries[[#This Row],[Where do you work]],tblCountries[[Actual]:[Mapping]],2,FALSE)","v":"Russia"},"All the 8 hours baby, all the 8!",6,{"$f":"VLOOKUP(K1685,tblCountries[],3,0)","v":"Asia"},{"$f":"VLOOKUP(tblSalaries[[#This Row],[How many hours of a day you work on Excel]],tblHours,2,0)","v":5},{"$f":"VLOOKUP(tblSalaries[[#This Row],[clean Country]],tblCountries[],5,0)","v":2.8911926386233269},{"$f":"IF($Q$1,tblSalaries[[#This Row],[PPP Factor]]*tblSalaries[[#This Row],[Salary in USD]],tblSalaries[[#This Row],[Salary in USD]])","v":100000}]
[null,"ID1724","2012-06-06T21:20:38",40000,40000,"GBP",{"$f":"tblSalaries[[#This Row],[clean Salary (in local currency)]]*VLOOKUP(tblSalaries[[#This Row],[Currency]],tblXrate[],2,FALSE)","v":63047.130882691366},"project manager","Manager","UK",{"$f":"VLOOKUP(tblSalaries[[#This Row],[Where do you work]],tblCountries[[Actual]:[Mapping]],2,FALSE)","v":"UK"},"4 to 6 hours a day",15,{"$f":"VLOOKUP(K1686,tblCountries[],3,0)","v":"Europe"},{"$f":"VLOOKUP(tblSalaries[[#This Row],[How many hours of a day you work on Excel]],tblHours,2,0)","v":4},{"$f":"VLOOKUP(tblSalaries[[#This Row],[clean Country]],tblCountries[],5,0)","v":1.3407315045719035},{"$f":"IF($Q$1,tblSalaries[[#This Row],[PPP Factor]]*tblSalaries[[#This Row],[Salary in USD]],tblSalaries[[#This Row],[Salary in USD]])","v":63047.130882691366}]
[null,"ID1725","2012-06-06T22:14:27","36000stg",36000,"GBP",{"$f":"tblSalaries[[#This Row],[clean Salary (in local currency)]]*VLOOKUP(tblSalaries[[#This Row],[Currency]],tblXrate[],2,FALSE)","v":56742.417794422225},"contracts officer","Manager","UK",{"$f":"VLOOKUP(tblSalaries[[#This Row],[Where do you work]],tblCountries[[Actual]:[Mapping]],2,FALSE)","v":"UK"},"1 or 2 hours a day",25,{"$f":"VLOOKUP(K1687,tblCountries[],3,0)","v":"Europe"},{"$f":"VLOOKUP(tblSalaries[[#This Row],[How many hours of a day you work on Excel]],tblHours,2,0)","v":2},{"$f":"VLOOKUP(tblSalaries[[#This Row],[clean Country]],tblCountries[],5,0)","v":1.3407315045719035},{"$f":"IF($Q$1,tblSalaries[[#This Row],[PPP Factor]]*tblSalaries[[#This Row],[Salary in USD]],tblSalaries[[#This Row],[Salary in USD]])","v":56742.417794422225}]
[null,"ID1726","2012-06-06T22:42:16",25000,25000,"USD",{"$f":"tblSalaries[[#This Row],[clean Salary (in local currency)]]*VLOOKUP(tblSalaries[[#This Row],[Currency]],tblXrate[],2,FALSE)","v":25000},"exe","Analyst","India",{"$f":"VLOOKUP(tblSalaries[[#This Row],[Where do you work]],tblCountries[[Actual]:[Mapping]],2,FALSE)","v":"India"},"All the 8 hours baby, all the 8!",8,{"$f":"VLOOKUP(K1688,tblCountries[],3,0)","v":"Asia"},{"$f":"VLOOKUP(tblSalaries[[#This Row],[How many hours of a day you work on Excel]],tblHours,2,0)","v":5},{"$f":"VLOOKUP(tblSalaries[[#This Row],[clean Country]],tblCountries[],5,0)","v":13.098808879263672},{"$f":"IF($Q$1,tblSalaries[[#This Row],[PPP Factor]]*tblSalaries[[#This Row],[Salary in USD]],tblSalaries[[#This Row],[Salary in USD]])","v":25000}]
[null,"ID1727","2012-06-07T00:32:24","500000vINR",500000,"INR",{"$f":"tblSalaries[[#This Row],[clean Salary (in local currency)]]*VLOOKUP(tblSalaries[[#This Row],[Currency]],tblXrate[],2,FALSE)","v":8903.9583437212841},"Business Analyst","Analyst","India",{"$f":"VLOOKUP(tblSalaries[[#This Row],[Where do you work]],tblCountries[[Actual]:[Mapping]],2,FALSE)","v":"India"},"4 to 6 hours a day",2,{"$f":"VLOOKUP(K1689,tblCountries[],3,0)","v":"Asia"},{"$f":"VLOOKUP(tblSalaries[[#This Row],[How many hours of a day you work on Excel]],tblHours,2,0)","v":4},{"$f":"VLOOKUP(tblSalaries[[#This Row],[clean Country]],tblCountries[],5,0)","v":13.098808879263672},{"$f":"IF($Q$1,tblSalaries[[#This Row],[PPP Factor]]*tblSalaries[[#This Row],[Salary in USD]],tblSalaries[[#This Row],[Salary in USD]])","v":8903.9583437212841}]
[null,"ID1729","2012-06-07T06:22:17","Â£27000",27000,"GBP",{"$f":"tblSalaries[[#This Row],[clean Salary (in local currency)]]*VLOOKUP(tblSalaries[[#This Row],[Currency]],tblXrate[],2,FALSE)","v":42556.81334581667},"Network Designer","Analyst","UK",{"$f":"VLOOKUP(tblSalaries[[#This Row],[Where do you work]],tblCountries[[Actual]:[Mapping]],2,FALSE)","v":"UK"},"4 to 6 hours a day",2,{"$f":"VLOOKUP(K1690,tblCountries[],3,0)","v":"Europe"},{"$f":"VLOOKUP(tblSalaries[[#This Row],[How many hours of a day you work on Excel]],tblHours,2,0)","v":4},{"$f":"VLOOKUP(tblSalaries[[#This Row],[clean Country]],tblCountries[],5,0)","v":1.3407315045719035},{"$f":"IF($Q$1,tblSalaries[[#This Row],[PPP Factor]]*tblSalaries[[#This Row],[Salary in USD]],tblSalaries[[#This Row],[Salary in USD]])","v":42556.81334581667}]
[null,"ID1730","2012-06-07T08:36:51",134000,134000,"CAD",{"$f":"tblSalaries[[#This Row],[clean Salary (in local currency)]]*VLOOKUP(tblSalaries[[#This Row],[Currency]],tblXrate[],2,FALSE)","v":131770.4440860638},"Senior Production Accountant","Accountant","Canada",{"$f":"VLOOKUP(tblSalaries[[#This Row],[Where do you work]],tblCountries[[Actual]:[Mapping]],2,FALSE)","v":"Canada"},"All the 8 hours baby, all the 8!",20,{"$f":"VLOOKUP(K1691,tblCountries[],3,0)","v":"North Amer."},{"$f":"VLOOKUP(tblSalaries[[#This Row],[How many hours of a day you work on Excel]],tblHours,2,0)","v":5},{"$f":"VLOOKUP(tblSalaries[[#This Row],[clean Country]],tblCountries[],5,0)","v":1.1935324732986359},{"$f":"IF($Q$1,tblSalaries[[#This Row],[PPP Factor]]*tblSalaries[[#This Row],[Salary in USD]],tblSalaries[[#This Row],[Salary in USD]])","v":131770.4440860638}]
[null,"ID1731","2012-06-07T09:25:45",70000,70000,"CAD",{"$f":"tblSalaries[[#This Row],[clean Salary (in local currency)]]*VLOOKUP(tblSalaries[[#This Row],[Currency]],tblXrate[],2,FALSE)","v":68835.306612122877},"Financial Analyst","Analyst","Canada",{"$f":"VLOOKUP(tblSalaries[[#This Row],[Where do you work]],tblCountries[[Actual]:[Mapping]],2,FALSE)","v":"Canada"},"All the 8 hours baby, all the 8!",2,{"$f":"VLOOKUP(K1692,tblCountries[],3,0)","v":"North Amer."},{"$f":"VLOOKUP(tblSalaries[[#This Row],[How many hours of a day you work on Excel]],tblHours,2,0)","v":5},{"$f":"VLOOKUP(tblSalaries[[#This Row],[clean Country]],tblCountries[],5,0)","v":1.1935324732986359},{"$f":"IF($Q$1,tblSalaries[[#This Row],[PPP Factor]]*tblSalaries[[#This Row],[Salary in USD]],tblSalaries[[#This Row],[Salary in USD]])","v":68835.306612122877}]
[null,"ID1732","2012-06-07T14:06:38","6000 US",6000,"USD",{"$f":"tblSalaries[[#This Row],[clean Salary (in local currency)]]*VLOOKUP(tblSalaries[[#This Row],[Currency]],tblXrate[],2,FALSE)","v":6000},"Reporting Coordinator","Reporting","Armenia",{"$f":"VLOOKUP(tblSalaries[[#This Row],[Where do you work]],tblCountries[[Actual]:[Mapping]],2,FALSE)","v":"Armenia"},"All the 8 hours baby, all the 8!",5,{"$f":"VLOOKUP(K1693,tblCountries[],3,0)","v":"Europe"},{"$f":"VLOOKUP(tblSalaries[[#This Row],[How many hours of a day you work on Excel]],tblHours,2,0)","v":5},{"$f":"VLOOKUP(tblSalaries[[#This Row],[clean Country]],tblCountries[],5,0)","v":8.9871842496285286},{"$f":"IF($Q$1,tblSalaries[[#This Row],[PPP Factor]]*tblSalaries[[#This Row],[Salary in USD]],tblSalaries[[#This Row],[Salary in USD]])","v":6000}]
[null,"ID1733","2012-06-07T15:19:53",50000,50000,"GBP",{"$f":"tblSalaries[[#This Row],[clean Salary (in local currency)]]*VLOOKUP(tblSalaries[[#This Row],[Currency]],tblXrate[],2,FALSE)","v":78808.913603364199},"Research Analyst","Analyst","UK",{"$f":"VLOOKUP(tblSalaries[[#This Row],[Where do you work]],tblCountries[[Actual]:[Mapping]],2,FALSE)","v":"UK"},"2 to 3 hours per day",2,{"$f":"VLOOKUP(K1694,tblCountries[],3,0)","v":"Europe"},{"$f":"VLOOKUP(tblSalaries[[#This Row],[How many hours of a day you work on Excel]],tblHours,2,0)","v":3},{"$f":"VLOOKUP(tblSalaries[[#This Row],[clean Country]],tblCountries[],5,0)","v":1.3407315045719035},{"$f":"IF($Q$1,tblSalaries[[#This Row],[PPP Factor]]*tblSalaries[[#This Row],[Salary in USD]],tblSalaries[[#This Row],[Salary in USD]])","v":78808.913603364199}]
[null,"ID1734","2012-06-07T16:45:01",421000,421000,"INR",{"$f":"tblSalaries[[#This Row],[clean Salary (in local currency)]]*VLOOKUP(tblSalaries[[#This Row],[Currency]],tblXrate[],2,FALSE)","v":7497.1329254133216},"PMO Analyst","Analyst","India",{"$f":"VLOOKUP(tblSalaries[[#This Row],[Where do you work]],tblCountries[[Actual]:[Mapping]],2,FALSE)","v":"India"},"4 to 6 hours a day",4,{"$f":"VLOOKUP(K1695,tblCountries[],3,0)","v":"Asia"},{"$f":"VLOOKUP(tblSalaries[[#This Row],[How many hours of a day you work on Excel]],tblHours,2,0)","v":4},{"$f":"VLOOKUP(tblSalaries[[#This Row],[clean Country]],tblCountries[],5,0)","v":13.098808879263672},{"$f":"IF($Q$1,tblSalaries[[#This Row],[PPP Factor]]*tblSalaries[[#This Row],[Salary in USD]],tblSalaries[[#This Row],[Salary in USD]])","v":7497.1329254133216}]
[null,"ID1735","2012-06-07T16:53:54",10000,10000,"USD",{"$f":"tblSalaries[[#This Row],[clean Salary (in local currency)]]*VLOOKUP(tblSalaries[[#This Row],[Currency]],tblXrate[],2,FALSE)","v":10000},"AGM - Operations & Customer Support","Manager","India",{"$f":"VLOOKUP(tblSalaries[[#This Row],[Where do you work]],tblCountries[[Actual]:[Mapping]],2,FALSE)","v":"India"},"4 to 6 hours a day",11,{"$f":"VLOOKUP(K1696,tblCountries[],3,0)","v":"Asia"},{"$f":"VLOOKUP(tblSalaries[[#This Row],[How many hours of a day you work on Excel]],tblHours,2,0)","v":4},{"$f":"VLOOKUP(tblSalaries[[#This Row],[clean Country]],tblCountries[],5,0)","v":13.098808879263672},{"$f":"IF($Q$1,tblSalaries[[#This Row],[PPP Factor]]*tblSalaries[[#This Row],[Salary in USD]],tblSalaries[[#This Row],[Salary in USD]])","v":10000}]
[null,"ID1736","2012-06-07T17:09:18",360000,360000,"INR",{"$f":"tblSalaries[[#This Row],[clean Salary (in local currency)]]*VLOOKUP(tblSalaries[[#This Row],[Currency]],tblXrate[],2,FALSE)","v":6410.8500074793246},"Baan ERP Functional Consultant","Consultant","India",{"$f":"VLOOKUP(tblSalaries[[#This Row],[Where do you work]],tblCountries[[Actual]:[Mapping]],2,FALSE)","v":"India"},"1 or 2 hours a day",2,{"$f":"VLOOKUP(K1697,tblCountries[],3,0)","v":"Asia"},{"$f":"VLOOKUP(tblSalaries[[#This Row],[How many hours of a day you work on Excel]],tblHours,2,0)","v":2},{"$f":"VLOOKUP(tblSalaries[[#This Row],[clean Country]],tblCountries[],5,0)","v":13.098808879263672},{"$f":"IF($Q$1,tblSalaries[[#This Row],[PPP Factor]]*tblSalaries[[#This Row],[Salary in USD]],tblSalaries[[#This Row],[Salary in USD]])","v":6410.8500074793246}]
[null,"ID1737","2012-06-07T17:13:42",40000,40000,"GBP",{"$f":"tblSalaries[[#This Row],[clean Salary (in local currency)]]*VLOOKUP(tblSalaries[[#This Row],[Currency]],tblXrate[],2,FALSE)","v":63047.130882691366},"Analyst","Analyst","UK",{"$f":"VLOOKUP(tblSalaries[[#This Row],[Where do you work]],tblCountries[[Actual]:[Mapping]],2,FALSE)","v":"UK"},"4 to 6 hours a day",5,{"$f":"VLOOKUP(K1698,tblCountries[],3,0)","v":"Europe"},{"$f":"VLOOKUP(tblSalaries[[#This Row],[How many hours of a day you work on Excel]],tblHours,2,0)","v":4},{"$f":"VLOOKUP(tblSalaries[[#This Row],[clean Country]],tblCountries[],5,0)","v":1.3407315045719035},{"$f":"IF($Q$1,tblSalaries[[#This Row],[PPP Factor]]*tblSalaries[[#This Row],[Salary in USD]],tblSalaries[[#This Row],[Salary in USD]])","v":63047.130882691366}]
[null,"ID1738","2012-06-07T20:10:41",60000,60000,"AUD",{"$f":"tblSalaries[[#This Row],[clean Salary (in local currency)]]*VLOOKUP(tblSalaries[[#This Row],[Currency]],tblXrate[],2,FALSE)","v":61194.579384158147},"business analyst","Analyst","Australia",{"$f":"VLOOKUP(tblSalaries[[#This Row],[Where do you work]],tblCountries[[Actual]:[Mapping]],2,FALSE)","v":"Australia"},"2 to 3 hours per day",3,{"$f":"VLOOKUP(K1699,tblCountries[],3,0)","v":"Oceania"},{"$f":"VLOOKUP(tblSalaries[[#This Row],[How many hours of a day you work on Excel]],tblHours,2,0)","v":3},{"$f":"VLOOKUP(tblSalaries[[#This Row],[clean Country]],tblCountries[],5,0)","v":1.2026395585822935},{"$f":"IF($Q$1,tblSalaries[[#This Row],[PPP Factor]]*tblSalaries[[#This Row],[Salary in USD]],tblSalaries[[#This Row],[Salary in USD]])","v":61194.579384158147}]
[null,"ID1739","2012-06-07T20:48:04","Â£73000",73000,"GBP",{"$f":"tblSalaries[[#This Row],[clean Salary (in local currency)]]*VLOOKUP(tblSalaries[[#This Row],[Currency]],tblXrate[],2,FALSE)","v":115061.01386091174},"Financial Controller","Controller","UK",{"$f":"VLOOKUP(tblSalaries[[#This Row],[Where do you work]],tblCountries[[Actual]:[Mapping]],2,FALSE)","v":"UK"},"4 to 6 hours a day",8,{"$f":"VLOOKUP(K1700,tblCountries[],3,0)","v":"Europe"},{"$f":"VLOOKUP(tblSalaries[[#This Row],[How many hours of a day you work on Excel]],tblHours,2,0)","v":4},{"$f":"VLOOKUP(tblSalaries[[#This Row],[clean Country]],tblCountries[],5,0)","v":1.3407315045719035},{"$f":"IF($Q$1,tblSalaries[[#This Row],[PPP Factor]]*tblSalaries[[#This Row],[Salary in USD]],tblSalaries[[#This Row],[Salary in USD]])","v":115061.01386091174}]
[null,"ID1740","2012-06-07T23:33:23",45000,45000,"USD",{"$f":"tblSalaries[[#This Row],[clean Salary (in local currency)]]*VLOOKUP(tblSalaries[[#This Row],[Currency]],tblXrate[],2,FALSE)","v":45000},"Sourcing Analyst","Analyst","USA",{"$f":"VLOOKUP(tblSalaries[[#This Row],[Where do you work]],tblCountries[[Actual]:[Mapping]],2,FALSE)","v":"USA"},"All the 8 hours baby, all the 8!",2,{"$f":"VLOOKUP(K1701,tblCountries[],3,0)","v":"North Amer."},{"$f":"VLOOKUP(tblSalaries[[#This Row],[How many hours of a day you work on Excel]],tblHours,2,0)","v":5},{"$f":"VLOOKUP(tblSalaries[[#This Row],[clean Country]],tblCountries[],5,0)","v":1},{"$f":"IF($Q$1,tblSalaries[[#This Row],[PPP Factor]]*tblSalaries[[#This Row],[Salary in USD]],tblSalaries[[#This Row],[Salary in USD]])","v":45000}]
[null,"ID1741","2012-06-07T23:48:29",36000,36000,"USD",{"$f":"tblSalaries[[#This Row],[clean Salary (in local currency)]]*VLOOKUP(tblSalaries[[#This Row],[Currency]],tblXrate[],2,FALSE)","v":36000},"clerk","Analyst","USA",{"$f":"VLOOKUP(tblSalaries[[#This Row],[Where do you work]],tblCountries[[Actual]:[Mapping]],2,FALSE)","v":"USA"},"4 to 6 hours a day",4,{"$f":"VLOOKUP(K1702,tblCountries[],3,0)","v":"North Amer."},{"$f":"VLOOKUP(tblSalaries[[#This Row],[How many hours of a day you work on Excel]],tblHours,2,0)","v":4},{"$f":"VLOOKUP(tblSalaries[[#This Row],[clean Country]],tblCountries[],5,0)","v":1},{"$f":"IF($Q$1,tblSalaries[[#This Row],[PPP Factor]]*tblSalaries[[#This Row],[Salary in USD]],tblSalaries[[#This Row],[Salary in USD]])","v":36000}]
[null,"ID1742","2012-06-08T00:01:49",68000,68000,"USD",{"$f":"tblSalaries[[#This Row],[clean Salary (in local currency)]]*VLOOKUP(tblSalaries[[#This Row],[Currency]],tblXrate[],2,FALSE)","v":68000},"Tax Associate","Analyst","USA",{"$f":"VLOOKUP(tblSalaries[[#This Row],[Where do you work]],tblCountries[[Actual]:[Mapping]],2,FALSE)","v":"USA"},"4 to 6 hours a day",2.5,{"$f":"VLOOKUP(K1703,tblCountries[],3,0)","v":"North Amer."},{"$f":"VLOOKUP(tblSalaries[[#This Row],[How many hours of a day you work on Excel]],tblHours,2,0)","v":4},{"$f":"VLOOKUP(tblSalaries[[#This Row],[clean Country]],tblCountries[],5,0)","v":1},{"$f":"IF($Q$1,tblSalaries[[#This Row],[PPP Factor]]*tblSalaries[[#This Row],[Salary in USD]],tblSalaries[[#This Row],[Salary in USD]])","v":68000}]
[null,"ID1743","2012-06-08T00:21:23",75000,75000,"USD",{"$f":"tblSalaries[[#This Row],[clean Salary (in local currency)]]*VLOOKUP(tblSalaries[[#This Row],[Currency]],tblXrate[],2,FALSE)","v":75000},"Senior Financial Analyst","Analyst","USA",{"$f":"VLOOKUP(tblSalaries[[#This Row],[Where do you work]],tblCountries[[Actual]:[Mapping]],2,FALSE)","v":"USA"},"All the 8 hours baby, all the 8!",5,{"$f":"VLOOKUP(K1704,tblCountries[],3,0)","v":"North Amer."},{"$f":"VLOOKUP(tblSalaries[[#This Row],[How many hours of a day you work on Excel]],tblHours,2,0)","v":5},{"$f":"VLOOKUP(tblSalaries[[#This Row],[clean Country]],tblCountries[],5,0)","v":1},{"$f":"IF($Q$1,tblSalaries[[#This Row],[PPP Factor]]*tblSalaries[[#This Row],[Salary in USD]],tblSalaries[[#This Row],[Salary in USD]])","v":75000}]
[null,"ID1744","2012-06-08T02:27:13",88000,88000,"USD",{"$f":"tblSalaries[[#This Row],[clean Salary (in local currency)]]*VLOOKUP(tblSalaries[[#This Row],[Currency]],tblXrate[],2,FALSE)","v":88000},"Senior Fiancial Analyst","Analyst","USA",{"$f":"VLOOKUP(tblSalaries[[#This Row],[Where do you work]],tblCountries[[Actual]:[Mapping]],2,FALSE)","v":"USA"},"All the 8 hours baby, all the 8!",10,{"$f":"VLOOKUP(K1705,tblCountries[],3,0)","v":"North Amer."},{"$f":"VLOOKUP(tblSalaries[[#This Row],[How many hours of a day you work on Excel]],tblHours,2,0)","v":5},{"$f":"VLOOKUP(tblSalaries[[#This Row],[clean Country]],tblCountries[],5,0)","v":1},{"$f":"IF($Q$1,tblSalaries[[#This Row],[PPP Factor]]*tblSalaries[[#This Row],[Salary in USD]],tblSalaries[[#This Row],[Salary in USD]])","v":88000}]
[null,"ID1745","2012-06-08T02:28:45","Rs. 21500",258000,"INR",{"$f":"tblSalaries[[#This Row],[clean Salary (in local currency)]]*VLOOKUP(tblSalaries[[#This Row],[Currency]],tblXrate[],2,FALSE)","v":4594.4425053601826},"Senior Data Associate","Analyst","India",{"$f":"VLOOKUP(tblSalaries[[#This Row],[Where do you work]],tblCountries[[Actual]:[Mapping]],2,FALSE)","v":"India"},"4 to 6 hours a day",4,{"$f":"VLOOKUP(K1706,tblCountries[],3,0)","v":"Asia"},{"$f":"VLOOKUP(tblSalaries[[#This Row],[How many hours of a day you work on Excel]],tblHours,2,0)","v":4},{"$f":"VLOOKUP(tblSalaries[[#This Row],[clean Country]],tblCountries[],5,0)","v":13.098808879263672},{"$f":"IF($Q$1,tblSalaries[[#This Row],[PPP Factor]]*tblSalaries[[#This Row],[Salary in USD]],tblSalaries[[#This Row],[Salary in USD]])","v":4594.4425053601826}]
[null,"ID1746","2012-06-08T03:23:20",69000,69000,"USD",{"$f":"tblSalaries[[#This Row],[clean Salary (in local currency)]]*VLOOKUP(tblSalaries[[#This Row],[Currency]],tblXrate[],2,FALSE)","v":69000},"Business Analyst II","Analyst","USA",{"$f":"VLOOKUP(tblSalaries[[#This Row],[Where do you work]],tblCountries[[Actual]:[Mapping]],2,FALSE)","v":"USA"},"All the 8 hours baby, all the 8!",15,{"$f":"VLOOKUP(K1707,tblCountries[],3,0)","v":"North Amer."},{"$f":"VLOOKUP(tblSalaries[[#This Row],[How many hours of a day you work on Excel]],tblHours,2,0)","v":5},{"$f":"VLOOKUP(tblSalaries[[#This Row],[clean Country]],tblCountries[],5,0)","v":1},{"$f":"IF($Q$1,tblSalaries[[#This Row],[PPP Factor]]*tblSalaries[[#This Row],[Salary in USD]],tblSalaries[[#This Row],[Salary in USD]])","v":69000}]
[null,"ID1747","2012-06-08T03:34:51",30000,30000,"USD",{"$f":"tblSalaries[[#This Row],[clean Salary (in local currency)]]*VLOOKUP(tblSalaries[[#This Row],[Currency]],tblXrate[],2,FALSE)","v":30000},"Inventory Manager","Manager","USA",{"$f":"VLOOKUP(tblSalaries[[#This Row],[Where do you work]],tblCountries[[Actual]:[Mapping]],2,FALSE)","v":"USA"},"4 to 6 hours a day",1,{"$f":"VLOOKUP(K1708,tblCountries[],3,0)","v":"North Amer."},{"$f":"VLOOKUP(tblSalaries[[#This Row],[How many hours of a day you work on Excel]],tblHours,2,0)","v":4},{"$f":"VLOOKUP(tblSalaries[[#This Row],[clean Country]],tblCountries[],5,0)","v":1},{"$f":"IF($Q$1,tblSalaries[[#This Row],[PPP Factor]]*tblSalaries[[#This Row],[Salary in USD]],tblSalaries[[#This Row],[Salary in USD]])","v":30000}]
[null,"ID1748","2012-06-08T04:51:45",80000,80000,"USD",{"$f":"tblSalaries[[#This Row],[clean Salary (in local currency)]]*VLOOKUP(tblSalaries[[#This Row],[Currency]],tblXrate[],2,FALSE)","v":80000},"Sales / Finance Manager","Manager","USA",{"$f":"VLOOKUP(tblSalaries[[#This Row],[Where do you work]],tblCountries[[Actual]:[Mapping]],2,FALSE)","v":"USA"},"4 to 6 hours a day",7,{"$f":"VLOOKUP(K1709,tblCountries[],3,0)","v":"North Amer."},{"$f":"VLOOKUP(tblSalaries[[#This Row],[How many hours of a day you work on Excel]],tblHours,2,0)","v":4},{"$f":"VLOOKUP(tblSalaries[[#This Row],[clean Country]],tblCountries[],5,0)","v":1},{"$f":"IF($Q$1,tblSalaries[[#This Row],[PPP Factor]]*tblSalaries[[#This Row],[Salary in USD]],tblSalaries[[#This Row],[Salary in USD]])","v":80000}]
[null,"ID1749","2012-06-08T06:42:32",75000,75000,"USD",{"$f":"tblSalaries[[#This Row],[clean Salary (in local currency)]]*VLOOKUP(tblSalaries[[#This Row],[Currency]],tblXrate[],2,FALSE)","v":75000},"actuary","Accountant","USA",{"$f":"VLOOKUP(tblSalaries[[#This Row],[Where do you work]],tblCountries[[Actual]:[Mapping]],2,FALSE)","v":"USA"},"All the 8 hours baby, all the 8!",1,{"$f":"VLOOKUP(K1710,tblCountries[],3,0)","v":"North Amer."},{"$f":"VLOOKUP(tblSalaries[[#This Row],[How many hours of a day you work on Excel]],tblHours,2,0)","v":5},{"$f":"VLOOKUP(tblSalaries[[#This Row],[clean Country]],tblCountries[],5,0)","v":1},{"$f":"IF($Q$1,tblSalaries[[#This Row],[PPP Factor]]*tblSalaries[[#This Row],[Salary in USD]],tblSalaries[[#This Row],[Salary in USD]])","v":75000}]
[null,"ID1750","2012-06-08T08:15:54",31200,31200,"USD",{"$f":"tblSalaries[[#This Row],[clean Salary (in local currency)]]*VLOOKUP(tblSalaries[[#This Row],[Currency]],tblXrate[],2,FALSE)","v":31200},"Risk analyst","Analyst","Brazil",{"$f":"VLOOKUP(tblSalaries[[#This Row],[Where do you work]],tblCountries[[Actual]:[Mapping]],2,FALSE)","v":"Brazil"},"4 to 6 hours a day",4,{"$f":"VLOOKUP(K1711,tblCountries[],3,0)","v":"South Amer."},{"$f":"VLOOKUP(tblSalaries[[#This Row],[How many hours of a day you work on Excel]],tblHours,2,0)","v":4},{"$f":"VLOOKUP(tblSalaries[[#This Row],[clean Country]],tblCountries[],5,0)","v":4.1113943410655107},{"$f":"IF($Q$1,tblSalaries[[#This Row],[PPP Factor]]*tblSalaries[[#This Row],[Salary in USD]],tblSalaries[[#This Row],[Salary in USD]])","v":31200}]
[null,"ID1751","2012-06-08T09:46:59",85000,85000,"USD",{"$f":"tblSalaries[[#This Row],[clean Salary (in local currency)]]*VLOOKUP(tblSalaries[[#This Row],[Currency]],tblXrate[],2,FALSE)","v":85000},"Actuary","Accountant","USA",{"$f":"VLOOKUP(tblSalaries[[#This Row],[Where do you work]],tblCountries[[Actual]:[Mapping]],2,FALSE)","v":"USA"},"4 to 6 hours a day",20,{"$f":"VLOOKUP(K1712,tblCountries[],3,0)","v":"North Amer."},{"$f":"VLOOKUP(tblSalaries[[#This Row],[How many hours of a day you work on Excel]],tblHours,2,0)","v":4},{"$f":"VLOOKUP(tblSalaries[[#This Row],[clean Country]],tblCountries[],5,0)","v":1},{"$f":"IF($Q$1,tblSalaries[[#This Row],[PPP Factor]]*tblSalaries[[#This Row],[Salary in USD]],tblSalaries[[#This Row],[Salary in USD]])","v":85000}]
[null,"ID1752","2012-06-08T13:38:45","9,50,000",950000,"INR",{"$f":"tblSalaries[[#This Row],[clean Salary (in local currency)]]*VLOOKUP(tblSalaries[[#This Row],[Currency]],tblXrate[],2,FALSE)","v":16917.52085307044},"Associate Manager, Drug Safety Operations","Manager","India",{"$f":"VLOOKUP(tblSalaries[[#This Row],[Where do you work]],tblCountries[[Actual]:[Mapping]],2,FALSE)","v":"India"},"2 to 3 hours per day",9,{"$f":"VLOOKUP(K1713,tblCountries[],3,0)","v":"Asia"},{"$f":"VLOOKUP(tblSalaries[[#This Row],[How many hours of a day you work on Excel]],tblHours,2,0)","v":3},{"$f":"VLOOKUP(tblSalaries[[#This Row],[clean Country]],tblCountries[],5,0)","v":13.098808879263672},{"$f":"IF($Q$1,tblSalaries[[#This Row],[PPP Factor]]*tblSalaries[[#This Row],[Salary in USD]],tblSalaries[[#This Row],[Salary in USD]])","v":16917.52085307044}]
[null,"ID1753","2012-06-08T13:55:44","15000inr",180000,"INR",{"$f":"tblSalaries[[#This Row],[clean Salary (in local currency)]]*VLOOKUP(tblSalaries[[#This Row],[Currency]],tblXrate[],2,FALSE)","v":3205.4250037396623},"mis","Reporting","India",{"$f":"VLOOKUP(tblSalaries[[#This Row],[Where do you work]],tblCountries[[Actual]:[Mapping]],2,FALSE)","v":"India"},"4 to 6 hours a day",2,{"$f":"VLOOKUP(K1714,tblCountries[],3,0)","v":"Asia"},{"$f":"VLOOKUP(tblSalaries[[#This Row],[How many hours of a day you work on Excel]],tblHours,2,0)","v":4},{"$f":"VLOOKUP(tblSalaries[[#This Row],[clean Country]],tblCountries[],5,0)","v":13.098808879263672},{"$f":"IF($Q$1,tblSalaries[[#This Row],[PPP Factor]]*tblSalaries[[#This Row],[Salary in USD]],tblSalaries[[#This Row],[Salary in USD]])","v":3205.4250037396623}]
[null,"ID1754","2012-06-08T14:43:05",60000,60000,"USD",{"$f":"tblSalaries[[#This Row],[clean Salary (in local currency)]]*VLOOKUP(tblSalaries[[#This Row],[Currency]],tblXrate[],2,FALSE)","v":60000},"Project Lead ","Manager","USA",{"$f":"VLOOKUP(tblSalaries[[#This Row],[Where do you work]],tblCountries[[Actual]:[Mapping]],2,FALSE)","v":"USA"},"All the 8 hours baby, all the 8!",2,{"$f":"VLOOKUP(K1715,tblCountries[],3,0)","v":"North Amer."},{"$f":"VLOOKUP(tblSalaries[[#This Row],[How many hours of a day you work on Excel]],tblHours,2,0)","v":5},{"$f":"VLOOKUP(tblSalaries[[#This Row],[clean Country]],tblCountries[],5,0)","v":1},{"$f":"IF($Q$1,tblSalaries[[#This Row],[PPP Factor]]*tblSalaries[[#This Row],[Salary in USD]],tblSalaries[[#This Row],[Salary in USD]])","v":60000}]
[null,"ID1755","2012-06-08T14:43:40",60000,60000,"USD",{"$f":"tblSalaries[[#This Row],[clean Salary (in local currency)]]*VLOOKUP(tblSalaries[[#This Row],[Currency]],tblXrate[],2,FALSE)","v":60000},"Project Lead ","Manager","USA",{"$f":"VLOOKUP(tblSalaries[[#This Row],[Where do you work]],tblCountries[[Actual]:[Mapping]],2,FALSE)","v":"USA"},"All the 8 hours baby, all the 8!",2,{"$f":"VLOOKUP(K1716,tblCountries[],3,0)","v":"North Amer."},{"$f":"VLOOKUP(tblSalaries[[#This Row],[How many hours of a day you work on Excel]],tblHours,2,0)","v":5},{"$f":"VLOOKUP(tblSalaries[[#This Row],[clean Country]],tblCountries[],5,0)","v":1},{"$f":"IF($Q$1,tblSalaries[[#This Row],[PPP Factor]]*tblSalaries[[#This Row],[Salary in USD]],tblSalaries[[#This Row],[Salary in USD]])","v":60000}]
[null,"ID1756","2012-06-08T15:43:16","INR800000",800000,"INR",{"$f":"tblSalaries[[#This Row],[clean Salary (in local currency)]]*VLOOKUP(tblSalaries[[#This Row],[Currency]],tblXrate[],2,FALSE)","v":14246.333349954055},"MANAGER","Manager","India",{"$f":"VLOOKUP(tblSalaries[[#This Row],[Where do you work]],tblCountries[[Actual]:[Mapping]],2,FALSE)","v":"India"},"2 to 3 hours per day",0,{"$f":"VLOOKUP(K1717,tblCountries[],3,0)","v":"Asia"},{"$f":"VLOOKUP(tblSalaries[[#This Row],[How many hours of a day you work on Excel]],tblHours,2,0)","v":3},{"$f":"VLOOKUP(tblSalaries[[#This Row],[clean Country]],tblCountries[],5,0)","v":13.098808879263672},{"$f":"IF($Q$1,tblSalaries[[#This Row],[PPP Factor]]*tblSalaries[[#This Row],[Salary in USD]],tblSalaries[[#This Row],[Salary in USD]])","v":14246.333349954055}]
[null,"ID1757","2012-06-08T15:45:14",800000,800000,"INR",{"$f":"tblSalaries[[#This Row],[clean Salary (in local currency)]]*VLOOKUP(tblSalaries[[#This Row],[Currency]],tblXrate[],2,FALSE)","v":14246.333349954055},"MANAGER","Manager","India",{"$f":"VLOOKUP(tblSalaries[[#This Row],[Where do you work]],tblCountries[[Actual]:[Mapping]],2,FALSE)","v":"India"},"2 to 3 hours per day",0,{"$f":"VLOOKUP(K1718,tblCountries[],3,0)","v":"Asia"},{"$f":"VLOOKUP(tblSalaries[[#This Row],[How many hours of a day you work on Excel]],tblHours,2,0)","v":3},{"$f":"VLOOKUP(tblSalaries[[#This Row],[clean Country]],tblCountries[],5,0)","v":13.098808879263672},{"$f":"IF($Q$1,tblSalaries[[#This Row],[PPP Factor]]*tblSalaries[[#This Row],[Salary in USD]],tblSalaries[[#This Row],[Salary in USD]])","v":14246.333349954055}]
[null,"ID1758","2012-06-08T18:48:12",28995,28995,"USD",{"$f":"tblSalaries[[#This Row],[clean Salary (in local currency)]]*VLOOKUP(tblSalaries[[#This Row],[Currency]],tblXrate[],2,FALSE)","v":28995},"Senior Executive","Manager","India",{"$f":"VLOOKUP(tblSalaries[[#This Row],[Where do you work]],tblCountries[[Actual]:[Mapping]],2,FALSE)","v":"India"},"4 to 6 hours a day",6,{"$f":"VLOOKUP(K1719,tblCountries[],3,0)","v":"Asia"},{"$f":"VLOOKUP(tblSalaries[[#This Row],[How many hours of a day you work on Excel]],tblHours,2,0)","v":4},{"$f":"VLOOKUP(tblSalaries[[#This Row],[clean Country]],tblCountries[],5,0)","v":13.098808879263672},{"$f":"IF($Q$1,tblSalaries[[#This Row],[PPP Factor]]*tblSalaries[[#This Row],[Salary in USD]],tblSalaries[[#This Row],[Salary in USD]])","v":28995}]
[null,"ID1759","2012-06-08T18:52:06",1230000,1230000,"INR",{"$f":"tblSalaries[[#This Row],[clean Salary (in local currency)]]*VLOOKUP(tblSalaries[[#This Row],[Currency]],tblXrate[],2,FALSE)","v":21903.737525554359},"Financial Analyst ","Analyst","India",{"$f":"VLOOKUP(tblSalaries[[#This Row],[Where do you work]],tblCountries[[Actual]:[Mapping]],2,FALSE)","v":"India"},"All the 8 hours baby, all the 8!",3,{"$f":"VLOOKUP(K1720,tblCountries[],3,0)","v":"Asia"},{"$f":"VLOOKUP(tblSalaries[[#This Row],[How many hours of a day you work on Excel]],tblHours,2,0)","v":5},{"$f":"VLOOKUP(tblSalaries[[#This Row],[clean Country]],tblCountries[],5,0)","v":13.098808879263672},{"$f":"IF($Q$1,tblSalaries[[#This Row],[PPP Factor]]*tblSalaries[[#This Row],[Salary in USD]],tblSalaries[[#This Row],[Salary in USD]])","v":21903.737525554359}]
[null,"ID1760","2012-06-08T18:52:44",1130000,1130000,"INR",{"$f":"tblSalaries[[#This Row],[clean Salary (in local currency)]]*VLOOKUP(tblSalaries[[#This Row],[Currency]],tblXrate[],2,FALSE)","v":20122.945856810104},"Financial Analyst ","Analyst","India",{"$f":"VLOOKUP(tblSalaries[[#This Row],[Where do you work]],tblCountries[[Actual]:[Mapping]],2,FALSE)","v":"India"},"All the 8 hours baby, all the 8!",3,{"$f":"VLOOKUP(K1721,tblCountries[],3,0)","v":"Asia"},{"$f":"VLOOKUP(tblSalaries[[#This Row],[How many hours of a day you work on Excel]],tblHours,2,0)","v":5},{"$f":"VLOOKUP(tblSalaries[[#This Row],[clean Country]],tblCountries[],5,0)","v":13.098808879263672},{"$f":"IF($Q$1,tblSalaries[[#This Row],[PPP Factor]]*tblSalaries[[#This Row],[Salary in USD]],tblSalaries[[#This Row],[Salary in USD]])","v":20122.945856810104}]
[null,"ID1761","2012-06-08T20:47:58",45000,45000,"GBP",{"$f":"tblSalaries[[#This Row],[clean Salary (in local currency)]]*VLOOKUP(tblSalaries[[#This Row],[Currency]],tblXrate[],2,FALSE)","v":70928.022243027779},"bUSINESS aNALYST","Analyst","UK",{"$f":"VLOOKUP(tblSalaries[[#This Row],[Where do you work]],tblCountries[[Actual]:[Mapping]],2,FALSE)","v":"UK"},"All the 8 hours baby, all the 8!",20,{"$f":"VLOOKUP(K1722,tblCountries[],3,0)","v":"Europe"},{"$f":"VLOOKUP(tblSalaries[[#This Row],[How many hours of a day you work on Excel]],tblHours,2,0)","v":5},{"$f":"VLOOKUP(tblSalaries[[#This Row],[clean Country]],tblCountries[],5,0)","v":1.3407315045719035},{"$f":"IF($Q$1,tblSalaries[[#This Row],[PPP Factor]]*tblSalaries[[#This Row],[Salary in USD]],tblSalaries[[#This Row],[Salary in USD]])","v":70928.022243027779}]
[null,"ID1762","2012-06-08T21:00:25",67000,67000,"USD",{"$f":"tblSalaries[[#This Row],[clean Salary (in local currency)]]*VLOOKUP(tblSalaries[[#This Row],[Currency]],tblXrate[],2,FALSE)","v":67000},"Manager","Manager","USA",{"$f":"VLOOKUP(tblSalaries[[#This Row],[Where do you work]],tblCountries[[Actual]:[Mapping]],2,FALSE)","v":"USA"},"4 to 6 hours a day",16,{"$f":"VLOOKUP(K1723,tblCountries[],3,0)","v":"North Amer."},{"$f":"VLOOKUP(tblSalaries[[#This Row],[How many hours of a day you work on Excel]],tblHours,2,0)","v":4},{"$f":"VLOOKUP(tblSalaries[[#This Row],[clean Country]],tblCountries[],5,0)","v":1},{"$f":"IF($Q$1,tblSalaries[[#This Row],[PPP Factor]]*tblSalaries[[#This Row],[Salary in USD]],tblSalaries[[#This Row],[Salary in USD]])","v":67000}]
[null,"ID1763","2012-06-08T21:02:48",30000,30000,"USD",{"$f":"tblSalaries[[#This Row],[clean Salary (in local currency)]]*VLOOKUP(tblSalaries[[#This Row],[Currency]],tblXrate[],2,FALSE)","v":30000},"Customer Service","Analyst","USA",{"$f":"VLOOKUP(tblSalaries[[#This Row],[Where do you work]],tblCountries[[Actual]:[Mapping]],2,FALSE)","v":"USA"},"2 to 3 hours per day",4,{"$f":"VLOOKUP(K1724,tblCountries[],3,0)","v":"North Amer."},{"$f":"VLOOKUP(tblSalaries[[#This Row],[How many hours of a day you work on Excel]],tblHours,2,0)","v":3},{"$f":"VLOOKUP(tblSalaries[[#This Row],[clean Country]],tblCountries[],5,0)","v":1},{"$f":"IF($Q$1,tblSalaries[[#This Row],[PPP Factor]]*tblSalaries[[#This Row],[Salary in USD]],tblSalaries[[#This Row],[Salary in USD]])","v":30000}]
[null,"ID1764","2012-06-08T22:48:39","CHF140000",140000,"CHF",{"$f":"tblSalaries[[#This Row],[clean Salary (in local currency)]]*VLOOKUP(tblSalaries[[#This Row],[Currency]],tblXrate[],2,FALSE)","v":148102.22862117883},"Projektleiter","Manager","Switzerland",{"$f":"VLOOKUP(tblSalaries[[#This Row],[Where do you work]],tblCountries[[Actual]:[Mapping]],2,FALSE)","v":"Switzerland"},"2 to 3 hours per day",6,{"$f":"VLOOKUP(K1725,tblCountries[],3,0)","v":"Europe"},{"$f":"VLOOKUP(tblSalaries[[#This Row],[How many hours of a day you work on Excel]],tblHours,2,0)","v":3},{"$f":"VLOOKUP(tblSalaries[[#This Row],[clean Country]],tblCountries[],5,0)","v":1.1156790408116208},{"$f":"IF($Q$1,tblSalaries[[#This Row],[PPP Factor]]*tblSalaries[[#This Row],[Salary in USD]],tblSalaries[[#This Row],[Salary in USD]])","v":148102.22862117883}]
[null,"ID1765","2012-06-08T23:20:36",71500,71500,"USD",{"$f":"tblSalaries[[#This Row],[clean Salary (in local currency)]]*VLOOKUP(tblSalaries[[#This Row],[Currency]],tblXrate[],2,FALSE)","v":71500},"Pricing Manager","Manager","USA",{"$f":"VLOOKUP(tblSalaries[[#This Row],[Where do you work]],tblCountries[[Actual]:[Mapping]],2,FALSE)","v":"USA"},"All the 8 hours baby, all the 8!",11,{"$f":"VLOOKUP(K1726,tblCountries[],3,0)","v":"North Amer."},{"$f":"VLOOKUP(tblSalaries[[#This Row],[How many hours of a day you work on Excel]],tblHours,2,0)","v":5},{"$f":"VLOOKUP(tblSalaries[[#This Row],[clean Country]],tblCountries[],5,0)","v":1},{"$f":"IF($Q$1,tblSalaries[[#This Row],[PPP Factor]]*tblSalaries[[#This Row],[Salary in USD]],tblSalaries[[#This Row],[Salary in USD]])","v":71500}]
[null,"ID1766","2012-06-08T23:46:11",67000,67000,"USD",{"$f":"tblSalaries[[#This Row],[clean Salary (in local currency)]]*VLOOKUP(tblSalaries[[#This Row],[Currency]],tblXrate[],2,FALSE)","v":67000},"Manager","Manager","USA",{"$f":"VLOOKUP(tblSalaries[[#This Row],[Where do you work]],tblCountries[[Actual]:[Mapping]],2,FALSE)","v":"USA"},"Excel ?!? What Excel?",6,{"$f":"VLOOKUP(K1727,tblCountries[],3,0)","v":"North Amer."},{"$f":"VLOOKUP(tblSalaries[[#This Row],[How many hours of a day you work on Excel]],tblHours,2,0)","v":1},{"$f":"VLOOKUP(tblSalaries[[#This Row],[clean Country]],tblCountries[],5,0)","v":1},{"$f":"IF($Q$1,tblSalaries[[#This Row],[PPP Factor]]*tblSalaries[[#This Row],[Salary in USD]],tblSalaries[[#This Row],[Salary in USD]])","v":67000}]
[null,"ID1767","2012-06-09T00:49:07",40000,40000,"USD",{"$f":"tblSalaries[[#This Row],[clean Salary (in local currency)]]*VLOOKUP(tblSalaries[[#This Row],[Currency]],tblXrate[],2,FALSE)","v":40000},"Market Research Analyst","Analyst","USA",{"$f":"VLOOKUP(tblSalaries[[#This Row],[Where do you work]],tblCountries[[Actual]:[Mapping]],2,FALSE)","v":"USA"},"4 to 6 hours a day",5,{"$f":"VLOOKUP(K1728,tblCountries[],3,0)","v":"North Amer."},{"$f":"VLOOKUP(tblSalaries[[#This Row],[How many hours of a day you work on Excel]],tblHours,2,0)","v":4},{"$f":"VLOOKUP(tblSalaries[[#This Row],[clean Country]],tblCountries[],5,0)","v":1},{"$f":"IF($Q$1,tblSalaries[[#This Row],[PPP Factor]]*tblSalaries[[#This Row],[Salary in USD]],tblSalaries[[#This Row],[Salary in USD]])","v":40000}]
[null,"ID1768","2012-06-09T01:15:44",65000,65000,"USD",{"$f":"tblSalaries[[#This Row],[clean Salary (in local currency)]]*VLOOKUP(tblSalaries[[#This Row],[Currency]],tblXrate[],2,FALSE)","v":65000},"Compliance Officer","Manager","USA",{"$f":"VLOOKUP(tblSalaries[[#This Row],[Where do you work]],tblCountries[[Actual]:[Mapping]],2,FALSE)","v":"USA"},"4 to 6 hours a day",2,{"$f":"VLOOKUP(K1729,tblCountries[],3,0)","v":"North Amer."},{"$f":"VLOOKUP(tblSalaries[[#This Row],[How many hours of a day you work on Excel]],tblHours,2,0)","v":4},{"$f":"VLOOKUP(tblSalaries[[#This Row],[clean Country]],tblCountries[],5,0)","v":1},{"$f":"IF($Q$1,tblSalaries[[#This Row],[PPP Factor]]*tblSalaries[[#This Row],[Salary in USD]],tblSalaries[[#This Row],[Salary in USD]])","v":65000}]
[null,"ID1769","2012-06-09T01:47:30",72000,72000,"USD",{"$f":"tblSalaries[[#This Row],[clean Salary (in local currency)]]*VLOOKUP(tblSalaries[[#This Row],[Currency]],tblXrate[],2,FALSE)","v":72000},"Consultant","Consultant","USA",{"$f":"VLOOKUP(tblSalaries[[#This Row],[Where do you work]],tblCountries[[Actual]:[Mapping]],2,FALSE)","v":"USA"},"2 to 3 hours per day",13,{"$f":"VLOOKUP(K1730,tblCountries[],3,0)","v":"North Amer."},{"$f":"VLOOKUP(tblSalaries[[#This Row],[How many hours of a day you work on Excel]],tblHours,2,0)","v":3},{"$f":"VLOOKUP(tblSalaries[[#This Row],[clean Country]],tblCountries[],5,0)","v":1},{"$f":"IF($Q$1,tblSalaries[[#This Row],[PPP Factor]]*tblSalaries[[#This Row],[Salary in USD]],tblSalaries[[#This Row],[Salary in USD]])","v":72000}]
[null,"ID1770","2012-06-09T03:20:15",52500,52500,"USD",{"$f":"tblSalaries[[#This Row],[clean Salary (in local currency)]]*VLOOKUP(tblSalaries[[#This Row],[Currency]],tblXrate[],2,FALSE)","v":52500},"Data Management Solutions Supervisor","Manager","USA",{"$f":"VLOOKUP(tblSalaries[[#This Row],[Where do you work]],tblCountries[[Actual]:[Mapping]],2,FALSE)","v":"USA"},"All the 8 hours baby, all the 8!",3,{"$f":"VLOOKUP(K1731,tblCountries[],3,0)","v":"North Amer."},{"$f":"VLOOKUP(tblSalaries[[#This Row],[How many hours of a day you work on Excel]],tblHours,2,0)","v":5},{"$f":"VLOOKUP(tblSalaries[[#This Row],[clean Country]],tblCountries[],5,0)","v":1},{"$f":"IF($Q$1,tblSalaries[[#This Row],[PPP Factor]]*tblSalaries[[#This Row],[Salary in USD]],tblSalaries[[#This Row],[Salary in USD]])","v":52500}]
[null,"ID1771","2012-06-09T12:01:19",444,5320,"USD",{"$f":"tblSalaries[[#This Row],[clean Salary (in local currency)]]*VLOOKUP(tblSalaries[[#This Row],[Currency]],tblXrate[],2,FALSE)","v":5320},"Officer","Manager","India",{"$f":"VLOOKUP(tblSalaries[[#This Row],[Where do you work]],tblCountries[[Actual]:[Mapping]],2,FALSE)","v":"India"},"2 to 3 hours per day",5,{"$f":"VLOOKUP(K1732,tblCountries[],3,0)","v":"Asia"},{"$f":"VLOOKUP(tblSalaries[[#This Row],[How many hours of a day you work on Excel]],tblHours,2,0)","v":3},{"$f":"VLOOKUP(tblSalaries[[#This Row],[clean Country]],tblCountries[],5,0)","v":13.098808879263672},{"$f":"IF($Q$1,tblSalaries[[#This Row],[PPP Factor]]*tblSalaries[[#This Row],[Salary in USD]],tblSalaries[[#This Row],[Salary in USD]])","v":5320}]
[null,"ID1772","2012-06-09T20:38:03",1500,18000,"USD",{"$f":"tblSalaries[[#This Row],[clean Salary (in local currency)]]*VLOOKUP(tblSalaries[[#This Row],[Currency]],tblXrate[],2,FALSE)","v":18000},"accountant","Accountant","uae",{"$f":"VLOOKUP(tblSalaries[[#This Row],[Where do you work]],tblCountries[[Actual]:[Mapping]],2,FALSE)","v":"UAE"},"All the 8 hours baby, all the 8!",3,{"$f":"VLOOKUP(K1733,tblCountries[],3,0)","v":"Asia"},{"$f":"VLOOKUP(tblSalaries[[#This Row],[How many hours of a day you work on Excel]],tblHours,2,0)","v":5},{"$f":"VLOOKUP(tblSalaries[[#This Row],[clean Country]],tblCountries[],5,0)","v":1.0047551808629926},{"$f":"IF($Q$1,tblSalaries[[#This Row],[PPP Factor]]*tblSalaries[[#This Row],[Salary in USD]],tblSalaries[[#This Row],[Salary in USD]])","v":18000}]
[null,"ID1773","2012-06-10T00:50:26","1.40 lac",140000,"INR",{"$f":"tblSalaries[[#This Row],[clean Salary (in local currency)]]*VLOOKUP(tblSalaries[[#This Row],[Currency]],tblXrate[],2,FALSE)","v":2493.1083362419595},"magic","Misc.","India",{"$f":"VLOOKUP(tblSalaries[[#This Row],[Where do you work]],tblCountries[[Actual]:[Mapping]],2,FALSE)","v":"India"},"4 to 6 hours a day",5,{"$f":"VLOOKUP(K1734,tblCountries[],3,0)","v":"Asia"},{"$f":"VLOOKUP(tblSalaries[[#This Row],[How many hours of a day you work on Excel]],tblHours,2,0)","v":4},{"$f":"VLOOKUP(tblSalaries[[#This Row],[clean Country]],tblCountries[],5,0)","v":13.098808879263672},{"$f":"IF($Q$1,tblSalaries[[#This Row],[PPP Factor]]*tblSalaries[[#This Row],[Salary in USD]],tblSalaries[[#This Row],[Salary in USD]])","v":2493.1083362419595}]
[null,"ID1774","2012-06-10T01:48:44",1400,16800,"EUR",{"$f":"tblSalaries[[#This Row],[clean Salary (in local currency)]]*VLOOKUP(tblSalaries[[#This Row],[Currency]],tblXrate[],2,FALSE)","v":21342.710575059013},"account","Accountant","portugal",{"$f":"VLOOKUP(tblSalaries[[#This Row],[Where do you work]],tblCountries[[Actual]:[Mapping]],2,FALSE)","v":"Portugal"},"4 to 6 hours a day",15,{"$f":"VLOOKUP(K1735,tblCountries[],3,0)","v":"Europe"},{"$f":"VLOOKUP(tblSalaries[[#This Row],[How many hours of a day you work on Excel]],tblHours,2,0)","v":4},{"$f":"VLOOKUP(tblSalaries[[#This Row],[clean Country]],tblCountries[],5,0)","v":2.0712726338769745},{"$f":"IF($Q$1,tblSalaries[[#This Row],[PPP Factor]]*tblSalaries[[#This Row],[Salary in USD]],tblSalaries[[#This Row],[Salary in USD]])","v":21342.710575059013}]
[null,"ID1775","2012-06-10T02:20:05",85000,85000,"USD",{"$f":"tblSalaries[[#This Row],[clean Salary (in local currency)]]*VLOOKUP(tblSalaries[[#This Row],[Currency]],tblXrate[],2,FALSE)","v":85000},"purchasing manager","Manager","USA",{"$f":"VLOOKUP(tblSalaries[[#This Row],[Where do you work]],tblCountries[[Actual]:[Mapping]],2,FALSE)","v":"USA"},"2 to 3 hours per day",15,{"$f":"VLOOKUP(K1736,tblCountries[],3,0)","v":"North Amer."},{"$f":"VLOOKUP(tblSalaries[[#This Row],[How many hours of a day you work on Excel]],tblHours,2,0)","v":3},{"$f":"VLOOKUP(tblSalaries[[#This Row],[clean Country]],tblCountries[],5,0)","v":1},{"$f":"IF($Q$1,tblSalaries[[#This Row],[PPP Factor]]*tblSalaries[[#This Row],[Salary in USD]],tblSalaries[[#This Row],[Salary in USD]])","v":85000}]
[null,"ID1776","2012-06-10T02:29:57",80000,80000,"USD",{"$f":"tblSalaries[[#This Row],[clean Salary (in local currency)]]*VLOOKUP(tblSalaries[[#This Row],[Currency]],tblXrate[],2,FALSE)","v":80000},"Engineer","Engineer","Brazil",{"$f":"VLOOKUP(tblSalaries[[#This Row],[Where do you work]],tblCountries[[Actual]:[Mapping]],2,FALSE)","v":"Brazil"},"1 or 2 hours a day",9,{"$f":"VLOOKUP(K1737,tblCountries[],3,0)","v":"South Amer."},{"$f":"VLOOKUP(tblSalaries[[#This Row],[How many hours of a day you work on Excel]],tblHours,2,0)","v":2},{"$f":"VLOOKUP(tblSalaries[[#This Row],[clean Country]],tblCountries[],5,0)","v":4.1113943410655107},{"$f":"IF($Q$1,tblSalaries[[#This Row],[PPP Factor]]*tblSalaries[[#This Row],[Salary in USD]],tblSalaries[[#This Row],[Salary in USD]])","v":80000}]
[null,"ID1777","2012-06-10T04:16:05",500000,500000,"INR",{"$f":"tblSalaries[[#This Row],[clean Salary (in local currency)]]*VLOOKUP(tblSalaries[[#This Row],[Currency]],tblXrate[],2,FALSE)","v":8903.9583437212841},"equity research trainee","Analyst","India",{"$f":"VLOOKUP(tblSalaries[[#This Row],[Where do you work]],tblCountries[[Actual]:[Mapping]],2,FALSE)","v":"India"},"All the 8 hours baby, all the 8!",0,{"$f":"VLOOKUP(K1738,tblCountries[],3,0)","v":"Asia"},{"$f":"VLOOKUP(tblSalaries[[#This Row],[How many hours of a day you work on Excel]],tblHours,2,0)","v":5},{"$f":"VLOOKUP(tblSalaries[[#This Row],[clean Country]],tblCountries[],5,0)","v":13.098808879263672},{"$f":"IF($Q$1,tblSalaries[[#This Row],[PPP Factor]]*tblSalaries[[#This Row],[Salary in USD]],tblSalaries[[#This Row],[Salary in USD]])","v":8903.9583437212841}]
[null,"ID1778","2012-06-10T12:31:48",125000,125000,"USD",{"$f":"tblSalaries[[#This Row],[clean Salary (in local currency)]]*VLOOKUP(tblSalaries[[#This Row],[Currency]],tblXrate[],2,FALSE)","v":125000},"project manager","Manager","USA",{"$f":"VLOOKUP(tblSalaries[[#This Row],[Where do you work]],tblCountries[[Actual]:[Mapping]],2,FALSE)","v":"USA"},"All the 8 hours baby, all the 8!",10,{"$f":"VLOOKUP(K1739,tblCountries[],3,0)","v":"North Amer."},{"$f":"VLOOKUP(tblSalaries[[#This Row],[How many hours of a day you work on Excel]],tblHours,2,0)","v":5},{"$f":"VLOOKUP(tblSalaries[[#This Row],[clean Country]],tblCountries[],5,0)","v":1},{"$f":"IF($Q$1,tblSalaries[[#This Row],[PPP Factor]]*tblSalaries[[#This Row],[Salary in USD]],tblSalaries[[#This Row],[Salary in USD]])","v":125000}]
[null,"ID1779","2012-06-10T14:58:39",1300000,1300000,"INR",{"$f":"tblSalaries[[#This Row],[clean Salary (in local currency)]]*VLOOKUP(tblSalaries[[#This Row],[Currency]],tblXrate[],2,FALSE)","v":23150.291693675339},"Manager","Manager","India",{"$f":"VLOOKUP(tblSalaries[[#This Row],[Where do you work]],tblCountries[[Actual]:[Mapping]],2,FALSE)","v":"India"},"All the 8 hours baby, all the 8!",9,{"$f":"VLOOKUP(K1740,tblCountries[],3,0)","v":"Asia"},{"$f":"VLOOKUP(tblSalaries[[#This Row],[How many hours of a day you work on Excel]],tblHours,2,0)","v":5},{"$f":"VLOOKUP(tblSalaries[[#This Row],[clean Country]],tblCountries[],5,0)","v":13.098808879263672},{"$f":"IF($Q$1,tblSalaries[[#This Row],[PPP Factor]]*tblSalaries[[#This Row],[Salary in USD]],tblSalaries[[#This Row],[Salary in USD]])","v":23150.291693675339}]
[null,"ID1780","2012-06-10T15:20:01",1000,12000,"USD",{"$f":"tblSalaries[[#This Row],[clean Salary (in local currency)]]*VLOOKUP(tblSalaries[[#This Row],[Currency]],tblXrate[],2,FALSE)","v":12000},"project engineer ","Engineer","India",{"$f":"VLOOKUP(tblSalaries[[#This Row],[Where do you work]],tblCountries[[Actual]:[Mapping]],2,FALSE)","v":"India"},"2 to 3 hours per day",7,{"$f":"VLOOKUP(K1741,tblCountries[],3,0)","v":"Asia"},{"$f":"VLOOKUP(tblSalaries[[#This Row],[How many hours of a day you work on Excel]],tblHours,2,0)","v":3},{"$f":"VLOOKUP(tblSalaries[[#This Row],[clean Country]],tblCountries[],5,0)","v":13.098808879263672},{"$f":"IF($Q$1,tblSalaries[[#This Row],[PPP Factor]]*tblSalaries[[#This Row],[Salary in USD]],tblSalaries[[#This Row],[Salary in USD]])","v":12000}]
[null,"ID1781","2012-06-10T15:59:17",30000,30000,"USD",{"$f":"tblSalaries[[#This Row],[clean Salary (in local currency)]]*VLOOKUP(tblSalaries[[#This Row],[Currency]],tblXrate[],2,FALSE)","v":30000},"Teacher","Analyst","Malaysia",{"$f":"VLOOKUP(tblSalaries[[#This Row],[Where do you work]],tblCountries[[Actual]:[Mapping]],2,FALSE)","v":"Malaysia"},"1 or 2 hours a day",12,{"$f":"VLOOKUP(K1742,tblCountries[],3,0)","v":"Asia"},{"$f":"VLOOKUP(tblSalaries[[#This Row],[How many hours of a day you work on Excel]],tblHours,2,0)","v":2},{"$f":"VLOOKUP(tblSalaries[[#This Row],[clean Country]],tblCountries[],5,0)","v":3.1081063720452211},{"$f":"IF($Q$1,tblSalaries[[#This Row],[PPP Factor]]*tblSalaries[[#This Row],[Salary in USD]],tblSalaries[[#This Row],[Salary in USD]])","v":30000}]
[null,"ID1782","2012-06-10T17:21:08",72000,72000,"EUR",{"$f":"tblSalaries[[#This Row],[clean Salary (in local currency)]]*VLOOKUP(tblSalaries[[#This Row],[Currency]],tblXrate[],2,FALSE)","v":91468.759607395754},"regional sales manager","Manager","croatia",{"$f":"VLOOKUP(tblSalaries[[#This Row],[Where do you work]],tblCountries[[Actual]:[Mapping]],2,FALSE)","v":"Croatia"},"1 or 2 hours a day",3,{"$f":"VLOOKUP(K1743,tblCountries[],3,0)","v":"Europe"},{"$f":"VLOOKUP(tblSalaries[[#This Row],[How many hours of a day you work on Excel]],tblHours,2,0)","v":2},{"$f":"VLOOKUP(tblSalaries[[#This Row],[clean Country]],tblCountries[],5,0)","v":2.6597955145118735},{"$f":"IF($Q$1,tblSalaries[[#This Row],[PPP Factor]]*tblSalaries[[#This Row],[Salary in USD]],tblSalaries[[#This Row],[Salary in USD]])","v":91468.759607395754}]
[null,"ID1783","2012-06-10T20:30:23","Â£22300",22300,"GBP",{"$f":"tblSalaries[[#This Row],[clean Salary (in local currency)]]*VLOOKUP(tblSalaries[[#This Row],[Currency]],tblXrate[],2,FALSE)","v":35148.775467100437},"Analysis & insight consultant","Analyst","UK",{"$f":"VLOOKUP(tblSalaries[[#This Row],[Where do you work]],tblCountries[[Actual]:[Mapping]],2,FALSE)","v":"UK"},"All the 8 hours baby, all the 8!",4,{"$f":"VLOOKUP(K1744,tblCountries[],3,0)","v":"Europe"},{"$f":"VLOOKUP(tblSalaries[[#This Row],[How many hours of a day you work on Excel]],tblHours,2,0)","v":5},{"$f":"VLOOKUP(tblSalaries[[#This Row],[clean Country]],tblCountries[],5,0)","v":1.3407315045719035},{"$f":"IF($Q$1,tblSalaries[[#This Row],[PPP Factor]]*tblSalaries[[#This Row],[Salary in USD]],tblSalaries[[#This Row],[Salary in USD]])","v":35148.775467100437}]
[null,"ID1784","2012-06-10T21:52:30","Â£31185",31185,"GBP",{"$f":"tblSalaries[[#This Row],[clean Salary (in local currency)]]*VLOOKUP(tblSalaries[[#This Row],[Currency]],tblXrate[],2,FALSE)","v":49153.119414418252},"Data Team Leader","Manager","UK",{"$f":"VLOOKUP(tblSalaries[[#This Row],[Where do you work]],tblCountries[[Actual]:[Mapping]],2,FALSE)","v":"UK"},"4 to 6 hours a day",7,{"$f":"VLOOKUP(K1745,tblCountries[],3,0)","v":"Europe"},{"$f":"VLOOKUP(tblSalaries[[#This Row],[How many hours of a day you work on Excel]],tblHours,2,0)","v":4},{"$f":"VLOOKUP(tblSalaries[[#This Row],[clean Country]],tblCountries[],5,0)","v":1.3407315045719035},{"$f":"IF($Q$1,tblSalaries[[#This Row],[PPP Factor]]*tblSalaries[[#This Row],[Salary in USD]],tblSalaries[[#This Row],[Salary in USD]])","v":49153.119414418252}]
[null,"ID1785","2012-06-11T03:11:39",150000,150000,"INR",{"$f":"tblSalaries[[#This Row],[clean Salary (in local currency)]]*VLOOKUP(tblSalaries[[#This Row],[Currency]],tblXrate[],2,FALSE)","v":2671.1875031163854},"ENGINEER","Engineer","India",{"$f":"VLOOKUP(tblSalaries[[#This Row],[Where do you work]],tblCountries[[Actual]:[Mapping]],2,FALSE)","v":"India"},"2 to 3 hours per day",1,{"$f":"VLOOKUP(K1746,tblCountries[],3,0)","v":"Asia"},{"$f":"VLOOKUP(tblSalaries[[#This Row],[How many hours of a day you work on Excel]],tblHours,2,0)","v":3},{"$f":"VLOOKUP(tblSalaries[[#This Row],[clean Country]],tblCountries[],5,0)","v":13.098808879263672},{"$f":"IF($Q$1,tblSalaries[[#This Row],[PPP Factor]]*tblSalaries[[#This Row],[Salary in USD]],tblSalaries[[#This Row],[Salary in USD]])","v":2671.1875031163854}]
[null,"ID1786","2012-06-11T05:59:09",27000,27000,"GBP",{"$f":"tblSalaries[[#This Row],[clean Salary (in local currency)]]*VLOOKUP(tblSalaries[[#This Row],[Currency]],tblXrate[],2,FALSE)","v":42556.81334581667},"assistant account manager","Manager","UK",{"$f":"VLOOKUP(tblSalaries[[#This Row],[Where do you work]],tblCountries[[Actual]:[Mapping]],2,FALSE)","v":"UK"},"4 to 6 hours a day",3,{"$f":"VLOOKUP(K1747,tblCountries[],3,0)","v":"Europe"},{"$f":"VLOOKUP(tblSalaries[[#This Row],[How many hours of a day you work on Excel]],tblHours,2,0)","v":4},{"$f":"VLOOKUP(tblSalaries[[#This Row],[clean Country]],tblCountries[],5,0)","v":1.3407315045719035},{"$f":"IF($Q$1,tblSalaries[[#This Row],[PPP Factor]]*tblSalaries[[#This Row],[Salary in USD]],tblSalaries[[#This Row],[Salary in USD]])","v":42556.81334581667}]
[null,"ID1787","2012-06-11T05:59:55",27000,27000,"GBP",{"$f":"tblSalaries[[#This Row],[clean Salary (in local currency)]]*VLOOKUP(tblSalaries[[#This Row],[Currency]],tblXrate[],2,FALSE)","v":42556.81334581667},"assistant account manager","Manager","UK",{"$f":"VLOOKUP(tblSalaries[[#This Row],[Where do you work]],tblCountries[[Actual]:[Mapping]],2,FALSE)","v":"UK"},"4 to 6 hours a day",3,{"$f":"VLOOKUP(K1748,tblCountries[],3,0)","v":"Europe"},{"$f":"VLOOKUP(tblSalaries[[#This Row],[How many hours of a day you work on Excel]],tblHours,2,0)","v":4},{"$f":"VLOOKUP(tblSalaries[[#This Row],[clean Country]],tblCountries[],5,0)","v":1.3407315045719035},{"$f":"IF($Q$1,tblSalaries[[#This Row],[PPP Factor]]*tblSalaries[[#This Row],[Salary in USD]],tblSalaries[[#This Row],[Salary in USD]])","v":42556.81334581667}]
[null,"ID1788","2012-06-11T10:04:43",74461,74461,"USD",{"$f":"tblSalaries[[#This Row],[clean Salary (in local currency)]]*VLOOKUP(tblSalaries[[#This Row],[Currency]],tblXrate[],2,FALSE)","v":74461},"Scientist III","Misc.","USA",{"$f":"VLOOKUP(tblSalaries[[#This Row],[Where do you work]],tblCountries[[Actual]:[Mapping]],2,FALSE)","v":"USA"},"1 or 2 hours a day",9,{"$f":"VLOOKUP(K1749,tblCountries[],3,0)","v":"North Amer."},{"$f":"VLOOKUP(tblSalaries[[#This Row],[How many hours of a day you work on Excel]],tblHours,2,0)","v":2},{"$f":"VLOOKUP(tblSalaries[[#This Row],[clean Country]],tblCountries[],5,0)","v":1},{"$f":"IF($Q$1,tblSalaries[[#This Row],[PPP Factor]]*tblSalaries[[#This Row],[Salary in USD]],tblSalaries[[#This Row],[Salary in USD]])","v":74461}]
[null,"ID1789","2012-06-11T16:55:40","Â£26500",26500,"GBP",{"$f":"tblSalaries[[#This Row],[clean Salary (in local currency)]]*VLOOKUP(tblSalaries[[#This Row],[Currency]],tblXrate[],2,FALSE)","v":41768.724209783031},"Compliance Manager","Manager","UK",{"$f":"VLOOKUP(tblSalaries[[#This Row],[Where do you work]],tblCountries[[Actual]:[Mapping]],2,FALSE)","v":"UK"},"4 to 6 hours a day",16,{"$f":"VLOOKUP(K1750,tblCountries[],3,0)","v":"Europe"},{"$f":"VLOOKUP(tblSalaries[[#This Row],[How many hours of a day you work on Excel]],tblHours,2,0)","v":4},{"$f":"VLOOKUP(tblSalaries[[#This Row],[clean Country]],tblCountries[],5,0)","v":1.3407315045719035},{"$f":"IF($Q$1,tblSalaries[[#This Row],[PPP Factor]]*tblSalaries[[#This Row],[Salary in USD]],tblSalaries[[#This Row],[Salary in USD]])","v":41768.724209783031}]
[null,"ID1790","2012-06-11T17:01:58","Rs 480000",480000,"INR",{"$f":"tblSalaries[[#This Row],[clean Salary (in local currency)]]*VLOOKUP(tblSalaries[[#This Row],[Currency]],tblXrate[],2,FALSE)","v":8547.8000099724322},"Development Analyst","Analyst","India",{"$f":"VLOOKUP(tblSalaries[[#This Row],[Where do you work]],tblCountries[[Actual]:[Mapping]],2,FALSE)","v":"India"},"4 to 6 hours a day",1,{"$f":"VLOOKUP(K1751,tblCountries[],3,0)","v":"Asia"},{"$f":"VLOOKUP(tblSalaries[[#This Row],[How many hours of a day you work on Excel]],tblHours,2,0)","v":4},{"$f":"VLOOKUP(tblSalaries[[#This Row],[clean Country]],tblCountries[],5,0)","v":13.098808879263672},{"$f":"IF($Q$1,tblSalaries[[#This Row],[PPP Factor]]*tblSalaries[[#This Row],[Salary in USD]],tblSalaries[[#This Row],[Salary in USD]])","v":8547.8000099724322}]
[null,"ID1791","2012-06-11T17:54:22",200,2400,"USD",{"$f":"tblSalaries[[#This Row],[clean Salary (in local currency)]]*VLOOKUP(tblSalaries[[#This Row],[Currency]],tblXrate[],2,FALSE)","v":2400},"computer operator","Analyst","India",{"$f":"VLOOKUP(tblSalaries[[#This Row],[Where do you work]],tblCountries[[Actual]:[Mapping]],2,FALSE)","v":"India"},"2 to 3 hours per day",3,{"$f":"VLOOKUP(K1752,tblCountries[],3,0)","v":"Asia"},{"$f":"VLOOKUP(tblSalaries[[#This Row],[How many hours of a day you work on Excel]],tblHours,2,0)","v":3},{"$f":"VLOOKUP(tblSalaries[[#This Row],[clean Country]],tblCountries[],5,0)","v":13.098808879263672},{"$f":"IF($Q$1,tblSalaries[[#This Row],[PPP Factor]]*tblSalaries[[#This Row],[Salary in USD]],tblSalaries[[#This Row],[Salary in USD]])","v":2400}]
[null,"ID1792","2012-06-11T19:40:47","3000 $",3000,"USD",{"$f":"tblSalaries[[#This Row],[clean Salary (in local currency)]]*VLOOKUP(tblSalaries[[#This Row],[Currency]],tblXrate[],2,FALSE)","v":3000},"executive","Analyst","Bangladesh",{"$f":"VLOOKUP(tblSalaries[[#This Row],[Where do you work]],tblCountries[[Actual]:[Mapping]],2,FALSE)","v":"Bangladesh"},"1 or 2 hours a day",12,{"$f":"VLOOKUP(K1753,tblCountries[],3,0)","v":"Asia"},{"$f":"VLOOKUP(tblSalaries[[#This Row],[How many hours of a day you work on Excel]],tblHours,2,0)","v":2},{"$f":"VLOOKUP(tblSalaries[[#This Row],[clean Country]],tblCountries[],5,0)","v":28.580626107501477},{"$f":"IF($Q$1,tblSalaries[[#This Row],[PPP Factor]]*tblSalaries[[#This Row],[Salary in USD]],tblSalaries[[#This Row],[Salary in USD]])","v":3000}]
[null,"ID1793","2012-06-11T19:56:36",11000,11000,"USD",{"$f":"tblSalaries[[#This Row],[clean Salary (in local currency)]]*VLOOKUP(tblSalaries[[#This Row],[Currency]],tblXrate[],2,FALSE)","v":11000},"Web Analyst","Analyst","India",{"$f":"VLOOKUP(tblSalaries[[#This Row],[Where do you work]],tblCountries[[Actual]:[Mapping]],2,FALSE)","v":"India"},"4 to 6 hours a day",2,{"$f":"VLOOKUP(K1754,tblCountries[],3,0)","v":"Asia"},{"$f":"VLOOKUP(tblSalaries[[#This Row],[How many hours of a day you work on Excel]],tblHours,2,0)","v":4},{"$f":"VLOOKUP(tblSalaries[[#This Row],[clean Country]],tblCountries[],5,0)","v":13.098808879263672},{"$f":"IF($Q$1,tblSalaries[[#This Row],[PPP Factor]]*tblSalaries[[#This Row],[Salary in USD]],tblSalaries[[#This Row],[Salary in USD]])","v":11000}]
[null,"ID1794","2012-06-11T21:03:36",40000,40000,"USD",{"$f":"tblSalaries[[#This Row],[clean Salary (in local currency)]]*VLOOKUP(tblSalaries[[#This Row],[Currency]],tblXrate[],2,FALSE)","v":40000},"Intern","Analyst","USA",{"$f":"VLOOKUP(tblSalaries[[#This Row],[Where do you work]],tblCountries[[Actual]:[Mapping]],2,FALSE)","v":"USA"},"2 to 3 hours per day",2,{"$f":"VLOOKUP(K1755,tblCountries[],3,0)","v":"North Amer."},{"$f":"VLOOKUP(tblSalaries[[#This Row],[How many hours of a day you work on Excel]],tblHours,2,0)","v":3},{"$f":"VLOOKUP(tblSalaries[[#This Row],[clean Country]],tblCountries[],5,0)","v":1},{"$f":"IF($Q$1,tblSalaries[[#This Row],[PPP Factor]]*tblSalaries[[#This Row],[Salary in USD]],tblSalaries[[#This Row],[Salary in USD]])","v":40000}]
[null,"ID1795","2012-06-11T21:29:29",300,3600,"USD",{"$f":"tblSalaries[[#This Row],[clean Salary (in local currency)]]*VLOOKUP(tblSalaries[[#This Row],[Currency]],tblXrate[],2,FALSE)","v":3600},"Analyst","Analyst","India",{"$f":"VLOOKUP(tblSalaries[[#This Row],[Where do you work]],tblCountries[[Actual]:[Mapping]],2,FALSE)","v":"India"},"4 to 6 hours a day",1,{"$f":"VLOOKUP(K1756,tblCountries[],3,0)","v":"Asia"},{"$f":"VLOOKUP(tblSalaries[[#This Row],[How many hours of a day you work on Excel]],tblHours,2,0)","v":4},{"$f":"VLOOKUP(tblSalaries[[#This Row],[clean Country]],tblCountries[],5,0)","v":13.098808879263672},{"$f":"IF($Q$1,tblSalaries[[#This Row],[PPP Factor]]*tblSalaries[[#This Row],[Salary in USD]],tblSalaries[[#This Row],[Salary in USD]])","v":3600}]
[null,"ID1796","2012-06-11T21:52:14",56600,56600,"USD",{"$f":"tblSalaries[[#This Row],[clean Salary (in local currency)]]*VLOOKUP(tblSalaries[[#This Row],[Currency]],tblXrate[],2,FALSE)","v":56600},"ECommerce Manager","Manager","USA",{"$f":"VLOOKUP(tblSalaries[[#This Row],[Where do you work]],tblCountries[[Actual]:[Mapping]],2,FALSE)","v":"USA"},"4 to 6 hours a day",12,{"$f":"VLOOKUP(K1757,tblCountries[],3,0)","v":"North Amer."},{"$f":"VLOOKUP(tblSalaries[[#This Row],[How many hours of a day you work on Excel]],tblHours,2,0)","v":4},{"$f":"VLOOKUP(tblSalaries[[#This Row],[clean Country]],tblCountries[],5,0)","v":1},{"$f":"IF($Q$1,tblSalaries[[#This Row],[PPP Factor]]*tblSalaries[[#This Row],[Salary in USD]],tblSalaries[[#This Row],[Salary in USD]])","v":56600}]
[null,"ID1797","2012-06-11T22:21:25",33600,33600,"USD",{"$f":"tblSalaries[[#This Row],[clean Salary (in local currency)]]*VLOOKUP(tblSalaries[[#This Row],[Currency]],tblXrate[],2,FALSE)","v":33600},"Executive","Analyst","Singapore",{"$f":"VLOOKUP(tblSalaries[[#This Row],[Where do you work]],tblCountries[[Actual]:[Mapping]],2,FALSE)","v":"Singapore"},"All the 8 hours baby, all the 8!",2,{"$f":"VLOOKUP(K1758,tblCountries[],3,0)","v":"Asia"},{"$f":"VLOOKUP(tblSalaries[[#This Row],[How many hours of a day you work on Excel]],tblHours,2,0)","v":5},{"$f":"VLOOKUP(tblSalaries[[#This Row],[clean Country]],tblCountries[],5,0)","v":0.81035320125270049},{"$f":"IF($Q$1,tblSalaries[[#This Row],[PPP Factor]]*tblSalaries[[#This Row],[Salary in USD]],tblSalaries[[#This Row],[Salary in USD]])","v":33600}]
[null,"ID1798","2012-06-11T22:22:00",33600,33600,"USD",{"$f":"tblSalaries[[#This Row],[clean Salary (in local currency)]]*VLOOKUP(tblSalaries[[#This Row],[Currency]],tblXrate[],2,FALSE)","v":33600},"Executive","Analyst","Singapore",{"$f":"VLOOKUP(tblSalaries[[#This Row],[Where do you work]],tblCountries[[Actual]:[Mapping]],2,FALSE)","v":"Singapore"},"All the 8 hours baby, all the 8!",2,{"$f":"VLOOKUP(K1759,tblCountries[],3,0)","v":"Asia"},{"$f":"VLOOKUP(tblSalaries[[#This Row],[How many hours of a day you work on Excel]],tblHours,2,0)","v":5},{"$f":"VLOOKUP(tblSalaries[[#This Row],[clean Country]],tblCountries[],5,0)","v":0.81035320125270049},{"$f":"IF($Q$1,tblSalaries[[#This Row],[PPP Factor]]*tblSalaries[[#This Row],[Salary in USD]],tblSalaries[[#This Row],[Salary in USD]])","v":33600}]
[null,"ID1799","2012-06-12T00:26:07",100000,100000,"USD",{"$f":"tblSalaries[[#This Row],[clean Salary (in local currency)]]*VLOOKUP(tblSalaries[[#This Row],[Currency]],tblXrate[],2,FALSE)","v":100000},"analyst","Analyst","USA",{"$f":"VLOOKUP(tblSalaries[[#This Row],[Where do you work]],tblCountries[[Actual]:[Mapping]],2,FALSE)","v":"USA"},"All the 8 hours baby, all the 8!",12,{"$f":"VLOOKUP(K1760,tblCountries[],3,0)","v":"North Amer."},{"$f":"VLOOKUP(tblSalaries[[#This Row],[How many hours of a day you work on Excel]],tblHours,2,0)","v":5},{"$f":"VLOOKUP(tblSalaries[[#This Row],[clean Country]],tblCountries[],5,0)","v":1},{"$f":"IF($Q$1,tblSalaries[[#This Row],[PPP Factor]]*tblSalaries[[#This Row],[Salary in USD]],tblSalaries[[#This Row],[Salary in USD]])","v":100000}]
[null,"ID1800","2012-06-12T01:55:12",40000,40000,"CAD",{"$f":"tblSalaries[[#This Row],[clean Salary (in local currency)]]*VLOOKUP(tblSalaries[[#This Row],[Currency]],tblXrate[],2,FALSE)","v":39334.460921213074},"Machine Scheduler","Analyst","Canada",{"$f":"VLOOKUP(tblSalaries[[#This Row],[Where do you work]],tblCountries[[Actual]:[Mapping]],2,FALSE)","v":"Canada"},"1 or 2 hours a day",1,{"$f":"VLOOKUP(K1761,tblCountries[],3,0)","v":"North Amer."},{"$f":"VLOOKUP(tblSalaries[[#This Row],[How many hours of a day you work on Excel]],tblHours,2,0)","v":2},{"$f":"VLOOKUP(tblSalaries[[#This Row],[clean Country]],tblCountries[],5,0)","v":1.1935324732986359},{"$f":"IF($Q$1,tblSalaries[[#This Row],[PPP Factor]]*tblSalaries[[#This Row],[Salary in USD]],tblSalaries[[#This Row],[Salary in USD]])","v":39334.460921213074}]
[null,"ID1801","2012-06-12T01:58:00",400000,400000,"INR",{"$f":"tblSalaries[[#This Row],[clean Salary (in local currency)]]*VLOOKUP(tblSalaries[[#This Row],[Currency]],tblXrate[],2,FALSE)","v":7123.1666749770275},"business analyst","Analyst","India",{"$f":"VLOOKUP(tblSalaries[[#This Row],[Where do you work]],tblCountries[[Actual]:[Mapping]],2,FALSE)","v":"India"},"2 to 3 hours per day",3,{"$f":"VLOOKUP(K1762,tblCountries[],3,0)","v":"Asia"},{"$f":"VLOOKUP(tblSalaries[[#This Row],[How many hours of a day you work on Excel]],tblHours,2,0)","v":3},{"$f":"VLOOKUP(tblSalaries[[#This Row],[clean Country]],tblCountries[],5,0)","v":13.098808879263672},{"$f":"IF($Q$1,tblSalaries[[#This Row],[PPP Factor]]*tblSalaries[[#This Row],[Salary in USD]],tblSalaries[[#This Row],[Salary in USD]])","v":7123.1666749770275}]
[null,"ID1802","2012-06-12T02:43:17","$65,000 US",65000,"USD",{"$f":"tblSalaries[[#This Row],[clean Salary (in local currency)]]*VLOOKUP(tblSalaries[[#This Row],[Currency]],tblXrate[],2,FALSE)","v":65000},"Sr Financial Systems Analyst","Analyst","USA",{"$f":"VLOOKUP(tblSalaries[[#This Row],[Where do you work]],tblCountries[[Actual]:[Mapping]],2,FALSE)","v":"USA"},"4 to 6 hours a day",14,{"$f":"VLOOKUP(K1763,tblCountries[],3,0)","v":"North Amer."},{"$f":"VLOOKUP(tblSalaries[[#This Row],[How many hours of a day you work on Excel]],tblHours,2,0)","v":4},{"$f":"VLOOKUP(tblSalaries[[#This Row],[clean Country]],tblCountries[],5,0)","v":1},{"$f":"IF($Q$1,tblSalaries[[#This Row],[PPP Factor]]*tblSalaries[[#This Row],[Salary in USD]],tblSalaries[[#This Row],[Salary in USD]])","v":65000}]
[null,"ID1803","2012-06-12T02:59:16",65000,65000,"USD",{"$f":"tblSalaries[[#This Row],[clean Salary (in local currency)]]*VLOOKUP(tblSalaries[[#This Row],[Currency]],tblXrate[],2,FALSE)","v":65000},"Data Analyst","Analyst","USA",{"$f":"VLOOKUP(tblSalaries[[#This Row],[Where do you work]],tblCountries[[Actual]:[Mapping]],2,FALSE)","v":"USA"},"2 to 3 hours per day",10,{"$f":"VLOOKUP(K1764,tblCountries[],3,0)","v":"North Amer."},{"$f":"VLOOKUP(tblSalaries[[#This Row],[How many hours of a day you work on Excel]],tblHours,2,0)","v":3},{"$f":"VLOOKUP(tblSalaries[[#This Row],[clean Country]],tblCountries[],5,0)","v":1},{"$f":"IF($Q$1,tblSalaries[[#This Row],[PPP Factor]]*tblSalaries[[#This Row],[Salary in USD]],tblSalaries[[#This Row],[Salary in USD]])","v":65000}]
[null,"ID1804","2012-06-12T03:32:27",65000,65000,"USD",{"$f":"tblSalaries[[#This Row],[clean Salary (in local currency)]]*VLOOKUP(tblSalaries[[#This Row],[Currency]],tblXrate[],2,FALSE)","v":65000},"Assistant Controller","Controller","USA",{"$f":"VLOOKUP(tblSalaries[[#This Row],[Where do you work]],tblCountries[[Actual]:[Mapping]],2,FALSE)","v":"USA"},"2 to 3 hours per day",13,{"$f":"VLOOKUP(K1765,tblCountries[],3,0)","v":"North Amer."},{"$f":"VLOOKUP(tblSalaries[[#This Row],[How many hours of a day you work on Excel]],tblHours,2,0)","v":3},{"$f":"VLOOKUP(tblSalaries[[#This Row],[clean Country]],tblCountries[],5,0)","v":1},{"$f":"IF($Q$1,tblSalaries[[#This Row],[PPP Factor]]*tblSalaries[[#This Row],[Salary in USD]],tblSalaries[[#This Row],[Salary in USD]])","v":65000}]
[null,"ID1805","2012-06-12T03:45:25",78000,78000,"CAD",{"$f":"tblSalaries[[#This Row],[clean Salary (in local currency)]]*VLOOKUP(tblSalaries[[#This Row],[Currency]],tblXrate[],2,FALSE)","v":76702.198796365497},"SFA","Analyst","Canada",{"$f":"VLOOKUP(tblSalaries[[#This Row],[Where do you work]],tblCountries[[Actual]:[Mapping]],2,FALSE)","v":"Canada"},"All the 8 hours baby, all the 8!",4,{"$f":"VLOOKUP(K1766,tblCountries[],3,0)","v":"North Amer."},{"$f":"VLOOKUP(tblSalaries[[#This Row],[How many hours of a day you work on Excel]],tblHours,2,0)","v":5},{"$f":"VLOOKUP(tblSalaries[[#This Row],[clean Country]],tblCountries[],5,0)","v":1.1935324732986359},{"$f":"IF($Q$1,tblSalaries[[#This Row],[PPP Factor]]*tblSalaries[[#This Row],[Salary in USD]],tblSalaries[[#This Row],[Salary in USD]])","v":76702.198796365497}]
[null,"ID1806","2012-06-12T06:36:12",63000,63000,"USD",{"$f":"tblSalaries[[#This Row],[clean Salary (in local currency)]]*VLOOKUP(tblSalaries[[#This Row],[Currency]],tblXrate[],2,FALSE)","v":63000},"Sales Analyst","Analyst","USA",{"$f":"VLOOKUP(tblSalaries[[#This Row],[Where do you work]],tblCountries[[Actual]:[Mapping]],2,FALSE)","v":"USA"},"All the 8 hours baby, all the 8!",10,{"$f":"VLOOKUP(K1767,tblCountries[],3,0)","v":"North Amer."},{"$f":"VLOOKUP(tblSalaries[[#This Row],[How many hours of a day you work on Excel]],tblHours,2,0)","v":5},{"$f":"VLOOKUP(tblSalaries[[#This Row],[clean Country]],tblCountries[],5,0)","v":1},{"$f":"IF($Q$1,tblSalaries[[#This Row],[PPP Factor]]*tblSalaries[[#This Row],[Salary in USD]],tblSalaries[[#This Row],[Salary in USD]])","v":63000}]
[null,"ID1807","2012-06-12T08:36:15",87000,87000,"USD",{"$f":"tblSalaries[[#This Row],[clean Salary (in local currency)]]*VLOOKUP(tblSalaries[[#This Row],[Currency]],tblXrate[],2,FALSE)","v":87000},"Ð˜Ð¨ Ð¤Ñ‚Ñ„Ð´Ð½Ñ‹Ðµ","Misc.","USA",{"$f":"VLOOKUP(tblSalaries[[#This Row],[Where do you work]],tblCountries[[Actual]:[Mapping]],2,FALSE)","v":"USA"},"4 to 6 hours a day",3,{"$f":"VLOOKUP(K1768,tblCountries[],3,0)","v":"North Amer."},{"$f":"VLOOKUP(tblSalaries[[#This Row],[How many hours of a day you work on Excel]],tblHours,2,0)","v":4},{"$f":"VLOOKUP(tblSalaries[[#This Row],[clean Country]],tblCountries[],5,0)","v":1},{"$f":"IF($Q$1,tblSalaries[[#This Row],[PPP Factor]]*tblSalaries[[#This Row],[Salary in USD]],tblSalaries[[#This Row],[Salary in USD]])","v":87000}]
[null,"ID1808","2012-06-12T08:46:15",45000,45000,"USD",{"$f":"tblSalaries[[#This Row],[clean Salary (in local currency)]]*VLOOKUP(tblSalaries[[#This Row],[Currency]],tblXrate[],2,FALSE)","v":45000},"ba","Analyst","USA",{"$f":"VLOOKUP(tblSalaries[[#This Row],[Where do you work]],tblCountries[[Actual]:[Mapping]],2,FALSE)","v":"USA"},"4 to 6 hours a day",4,{"$f":"VLOOKUP(K1769,tblCountries[],3,0)","v":"North Amer."},{"$f":"VLOOKUP(tblSalaries[[#This Row],[How many hours of a day you work on Excel]],tblHours,2,0)","v":4},{"$f":"VLOOKUP(tblSalaries[[#This Row],[clean Country]],tblCountries[],5,0)","v":1},{"$f":"IF($Q$1,tblSalaries[[#This Row],[PPP Factor]]*tblSalaries[[#This Row],[Salary in USD]],tblSalaries[[#This Row],[Salary in USD]])","v":45000}]
[null,"ID1809","2012-06-12T12:15:46",85000,85000,"USD",{"$f":"tblSalaries[[#This Row],[clean Salary (in local currency)]]*VLOOKUP(tblSalaries[[#This Row],[Currency]],tblXrate[],2,FALSE)","v":85000},"Lead Financial Analyst","Analyst","USA",{"$f":"VLOOKUP(tblSalaries[[#This Row],[Where do you work]],tblCountries[[Actual]:[Mapping]],2,FALSE)","v":"USA"},"All the 8 hours baby, all the 8!",3,{"$f":"VLOOKUP(K1770,tblCountries[],3,0)","v":"North Amer."},{"$f":"VLOOKUP(tblSalaries[[#This Row],[How many hours of a day you work on Excel]],tblHours,2,0)","v":5},{"$f":"VLOOKUP(tblSalaries[[#This Row],[clean Country]],tblCountries[],5,0)","v":1},{"$f":"IF($Q$1,tblSalaries[[#This Row],[PPP Factor]]*tblSalaries[[#This Row],[Salary in USD]],tblSalaries[[#This Row],[Salary in USD]])","v":85000}]
[null,"ID1810","2012-06-12T15:09:22",156000,156000,"AUD",{"$f":"tblSalaries[[#This Row],[clean Salary (in local currency)]]*VLOOKUP(tblSalaries[[#This Row],[Currency]],tblXrate[],2,FALSE)","v":159105.90639881117},"Senior Associate Engineer","Engineer","Australia",{"$f":"VLOOKUP(tblSalaries[[#This Row],[Where do you work]],tblCountries[[Actual]:[Mapping]],2,FALSE)","v":"Australia"},"2 to 3 hours per day",12,{"$f":"VLOOKUP(K1771,tblCountries[],3,0)","v":"Oceania"},{"$f":"VLOOKUP(tblSalaries[[#This Row],[How many hours of a day you work on Excel]],tblHours,2,0)","v":3},{"$f":"VLOOKUP(tblSalaries[[#This Row],[clean Country]],tblCountries[],5,0)","v":1.2026395585822935},{"$f":"IF($Q$1,tblSalaries[[#This Row],[PPP Factor]]*tblSalaries[[#This Row],[Salary in USD]],tblSalaries[[#This Row],[Salary in USD]])","v":159105.90639881117}]
[null,"ID1811","2012-06-12T15:58:36",560000,560000,"INR",{"$f":"tblSalaries[[#This Row],[clean Salary (in local currency)]]*VLOOKUP(tblSalaries[[#This Row],[Currency]],tblXrate[],2,FALSE)","v":9972.4333449678379},"Associate Manager","Manager","India",{"$f":"VLOOKUP(tblSalaries[[#This Row],[Where do you work]],tblCountries[[Actual]:[Mapping]],2,FALSE)","v":"India"},"2 to 3 hours per day",4,{"$f":"VLOOKUP(K1772,tblCountries[],3,0)","v":"Asia"},{"$f":"VLOOKUP(tblSalaries[[#This Row],[How many hours of a day you work on Excel]],tblHours,2,0)","v":3},{"$f":"VLOOKUP(tblSalaries[[#This Row],[clean Country]],tblCountries[],5,0)","v":13.098808879263672},{"$f":"IF($Q$1,tblSalaries[[#This Row],[PPP Factor]]*tblSalaries[[#This Row],[Salary in USD]],tblSalaries[[#This Row],[Salary in USD]])","v":9972.4333449678379}]
[null,"ID1812","2012-06-12T16:16:25",14000,14000,"USD",{"$f":"tblSalaries[[#This Row],[clean Salary (in local currency)]]*VLOOKUP(tblSalaries[[#This Row],[Currency]],tblXrate[],2,FALSE)","v":14000},"Manager","Manager","India",{"$f":"VLOOKUP(tblSalaries[[#This Row],[Where do you work]],tblCountries[[Actual]:[Mapping]],2,FALSE)","v":"India"},"4 to 6 hours a day",5,{"$f":"VLOOKUP(K1773,tblCountries[],3,0)","v":"Asia"},{"$f":"VLOOKUP(tblSalaries[[#This Row],[How many hours of a day you work on Excel]],tblHours,2,0)","v":4},{"$f":"VLOOKUP(tblSalaries[[#This Row],[clean Country]],tblCountries[],5,0)","v":13.098808879263672},{"$f":"IF($Q$1,tblSalaries[[#This Row],[PPP Factor]]*tblSalaries[[#This Row],[Salary in USD]],tblSalaries[[#This Row],[Salary in USD]])","v":14000}]
[null,"ID1813","2012-06-12T18:09:58","Â£32000",32000,"GBP",{"$f":"tblSalaries[[#This Row],[clean Salary (in local currency)]]*VLOOKUP(tblSalaries[[#This Row],[Currency]],tblXrate[],2,FALSE)","v":50437.70470615309},"Business Analyst","Analyst","UK",{"$f":"VLOOKUP(tblSalaries[[#This Row],[Where do you work]],tblCountries[[Actual]:[Mapping]],2,FALSE)","v":"UK"},"4 to 6 hours a day",20,{"$f":"VLOOKUP(K1774,tblCountries[],3,0)","v":"Europe"},{"$f":"VLOOKUP(tblSalaries[[#This Row],[How many hours of a day you work on Excel]],tblHours,2,0)","v":4},{"$f":"VLOOKUP(tblSalaries[[#This Row],[clean Country]],tblCountries[],5,0)","v":1.3407315045719035},{"$f":"IF($Q$1,tblSalaries[[#This Row],[PPP Factor]]*tblSalaries[[#This Row],[Salary in USD]],tblSalaries[[#This Row],[Salary in USD]])","v":50437.70470615309}]
[null,"ID1814","2012-06-12T18:28:39",32000,32000,"GBP",{"$f":"tblSalaries[[#This Row],[clean Salary (in local currency)]]*VLOOKUP(tblSalaries[[#This Row],[Currency]],tblXrate[],2,FALSE)","v":50437.70470615309},"Financial Analyst","Analyst","UK",{"$f":"VLOOKUP(tblSalaries[[#This Row],[Where do you work]],tblCountries[[Actual]:[Mapping]],2,FALSE)","v":"UK"},"All the 8 hours baby, all the 8!",1,{"$f":"VLOOKUP(K1775,tblCountries[],3,0)","v":"Europe"},{"$f":"VLOOKUP(tblSalaries[[#This Row],[How many hours of a day you work on Excel]],tblHours,2,0)","v":5},{"$f":"VLOOKUP(tblSalaries[[#This Row],[clean Country]],tblCountries[],5,0)","v":1.3407315045719035},{"$f":"IF($Q$1,tblSalaries[[#This Row],[PPP Factor]]*tblSalaries[[#This Row],[Salary in USD]],tblSalaries[[#This Row],[Salary in USD]])","v":50437.70470615309}]
[null,"ID1815","2012-06-12T20:11:24",8900,1281600,"PKR",{"$f":"tblSalaries[[#This Row],[clean Salary (in local currency)]]*VLOOKUP(tblSalaries[[#This Row],[Currency]],tblXrate[],2,FALSE)","v":13603.016099449767},"Manager MIS & Analytics","Manager","pakistan",{"$f":"VLOOKUP(tblSalaries[[#This Row],[Where do you work]],tblCountries[[Actual]:[Mapping]],2,FALSE)","v":"Pakistan"},"All the 8 hours baby, all the 8!",8,{"$f":"VLOOKUP(K1776,tblCountries[],3,0)","v":"Asia"},{"$f":"VLOOKUP(tblSalaries[[#This Row],[How many hours of a day you work on Excel]],tblHours,2,0)","v":5},{"$f":"VLOOKUP(tblSalaries[[#This Row],[clean Country]],tblCountries[],5,0)","v":17.361679224973088},{"$f":"IF($Q$1,tblSalaries[[#This Row],[PPP Factor]]*tblSalaries[[#This Row],[Salary in USD]],tblSalaries[[#This Row],[Salary in USD]])","v":13603.016099449767}]
[null,"ID1816","2012-06-12T20:47:33","aud145000",145000,"AUD",{"$f":"tblSalaries[[#This Row],[clean Salary (in local currency)]]*VLOOKUP(tblSalaries[[#This Row],[Currency]],tblXrate[],2,FALSE)","v":147886.90017838217},"Financial controller","Controller","Australia",{"$f":"VLOOKUP(tblSalaries[[#This Row],[Where do you work]],tblCountries[[Actual]:[Mapping]],2,FALSE)","v":"Australia"},"2 to 3 hours per day",15,{"$f":"VLOOKUP(K1777,tblCountries[],3,0)","v":"Oceania"},{"$f":"VLOOKUP(tblSalaries[[#This Row],[How many hours of a day you work on Excel]],tblHours,2,0)","v":3},{"$f":"VLOOKUP(tblSalaries[[#This Row],[clean Country]],tblCountries[],5,0)","v":1.2026395585822935},{"$f":"IF($Q$1,tblSalaries[[#This Row],[PPP Factor]]*tblSalaries[[#This Row],[Salary in USD]],tblSalaries[[#This Row],[Salary in USD]])","v":147886.90017838217}]
[null,"ID1818","2012-06-12T21:47:54",280000,280000,"INR",{"$f":"tblSalaries[[#This Row],[clean Salary (in local currency)]]*VLOOKUP(tblSalaries[[#This Row],[Currency]],tblXrate[],2,FALSE)","v":4986.216672483919},"Sales Cordinator","Analyst","India",{"$f":"VLOOKUP(tblSalaries[[#This Row],[Where do you work]],tblCountries[[Actual]:[Mapping]],2,FALSE)","v":"India"},"All the 8 hours baby, all the 8!",8,{"$f":"VLOOKUP(K1778,tblCountries[],3,0)","v":"Asia"},{"$f":"VLOOKUP(tblSalaries[[#This Row],[How many hours of a day you work on Excel]],tblHours,2,0)","v":5},{"$f":"VLOOKUP(tblSalaries[[#This Row],[clean Country]],tblCountries[],5,0)","v":13.098808879263672},{"$f":"IF($Q$1,tblSalaries[[#This Row],[PPP Factor]]*tblSalaries[[#This Row],[Salary in USD]],tblSalaries[[#This Row],[Salary in USD]])","v":4986.216672483919}]
[null,"ID1819","2012-06-12T21:58:21",4800,4800,"USD",{"$f":"tblSalaries[[#This Row],[clean Salary (in local currency)]]*VLOOKUP(tblSalaries[[#This Row],[Currency]],tblXrate[],2,FALSE)","v":4800},"Sr Executive","Manager","India",{"$f":"VLOOKUP(tblSalaries[[#This Row],[Where do you work]],tblCountries[[Actual]:[Mapping]],2,FALSE)","v":"India"},"All the 8 hours baby, all the 8!",3,{"$f":"VLOOKUP(K1779,tblCountries[],3,0)","v":"Asia"},{"$f":"VLOOKUP(tblSalaries[[#This Row],[How many hours of a day you work on Excel]],tblHours,2,0)","v":5},{"$f":"VLOOKUP(tblSalaries[[#This Row],[clean Country]],tblCountries[],5,0)","v":13.098808879263672},{"$f":"IF($Q$1,tblSalaries[[#This Row],[PPP Factor]]*tblSalaries[[#This Row],[Salary in USD]],tblSalaries[[#This Row],[Salary in USD]])","v":4800}]
[null,"ID1820","2012-06-13T00:20:14","4.5 Laks",450000,"INR",{"$f":"tblSalaries[[#This Row],[clean Salary (in local currency)]]*VLOOKUP(tblSalaries[[#This Row],[Currency]],tblXrate[],2,FALSE)","v":8013.5625093491553},"MIS Executive","Reporting","India",{"$f":"VLOOKUP(tblSalaries[[#This Row],[Where do you work]],tblCountries[[Actual]:[Mapping]],2,FALSE)","v":"India"},"4 to 6 hours a day",4,{"$f":"VLOOKUP(K1780,tblCountries[],3,0)","v":"Asia"},{"$f":"VLOOKUP(tblSalaries[[#This Row],[How many hours of a day you work on Excel]],tblHours,2,0)","v":4},{"$f":"VLOOKUP(tblSalaries[[#This Row],[clean Country]],tblCountries[],5,0)","v":13.098808879263672},{"$f":"IF($Q$1,tblSalaries[[#This Row],[PPP Factor]]*tblSalaries[[#This Row],[Salary in USD]],tblSalaries[[#This Row],[Salary in USD]])","v":8013.5625093491553}]
[null,"ID1821","2012-06-13T00:23:31",80000,80000,"USD",{"$f":"tblSalaries[[#This Row],[clean Salary (in local currency)]]*VLOOKUP(tblSalaries[[#This Row],[Currency]],tblXrate[],2,FALSE)","v":80000},"Manager, Operations","Manager","USA",{"$f":"VLOOKUP(tblSalaries[[#This Row],[Where do you work]],tblCountries[[Actual]:[Mapping]],2,FALSE)","v":"USA"},"4 to 6 hours a day",2,{"$f":"VLOOKUP(K1781,tblCountries[],3,0)","v":"North Amer."},{"$f":"VLOOKUP(tblSalaries[[#This Row],[How many hours of a day you work on Excel]],tblHours,2,0)","v":4},{"$f":"VLOOKUP(tblSalaries[[#This Row],[clean Country]],tblCountries[],5,0)","v":1},{"$f":"IF($Q$1,tblSalaries[[#This Row],[PPP Factor]]*tblSalaries[[#This Row],[Salary in USD]],tblSalaries[[#This Row],[Salary in USD]])","v":80000}]
[null,"ID1822","2012-06-13T00:37:24","â‚¬ 45000",45000,"EUR",{"$f":"tblSalaries[[#This Row],[clean Salary (in local currency)]]*VLOOKUP(tblSalaries[[#This Row],[Currency]],tblXrate[],2,FALSE)","v":57167.974754622352},"IT Trainer","Analyst","Netherlands",{"$f":"VLOOKUP(tblSalaries[[#This Row],[Where do you work]],tblCountries[[Actual]:[Mapping]],2,FALSE)","v":"Netherlands"},"2 to 3 hours per day",14,{"$f":"VLOOKUP(K1782,tblCountries[],3,0)","v":"Europe"},{"$f":"VLOOKUP(tblSalaries[[#This Row],[How many hours of a day you work on Excel]],tblHours,2,0)","v":3},{"$f":"VLOOKUP(tblSalaries[[#This Row],[clean Country]],tblCountries[],5,0)","v":1.1470734656141099},{"$f":"IF($Q$1,tblSalaries[[#This Row],[PPP Factor]]*tblSalaries[[#This Row],[Salary in USD]],tblSalaries[[#This Row],[Salary in USD]])","v":57167.974754622352}]
[null,"ID1823","2012-06-13T00:50:20",20000,20000,"USD",{"$f":"tblSalaries[[#This Row],[clean Salary (in local currency)]]*VLOOKUP(tblSalaries[[#This Row],[Currency]],tblXrate[],2,FALSE)","v":20000},"administrator","Analyst","Canada",{"$f":"VLOOKUP(tblSalaries[[#This Row],[Where do you work]],tblCountries[[Actual]:[Mapping]],2,FALSE)","v":"Canada"},"2 to 3 hours per day",2,{"$f":"VLOOKUP(K1783,tblCountries[],3,0)","v":"North Amer."},{"$f":"VLOOKUP(tblSalaries[[#This Row],[How many hours of a day you work on Excel]],tblHours,2,0)","v":3},{"$f":"VLOOKUP(tblSalaries[[#This Row],[clean Country]],tblCountries[],5,0)","v":1.1935324732986359},{"$f":"IF($Q$1,tblSalaries[[#This Row],[PPP Factor]]*tblSalaries[[#This Row],[Salary in USD]],tblSalaries[[#This Row],[Salary in USD]])","v":20000}]
[null,"ID1824","2012-06-13T01:56:23",70000,70000,"USD",{"$f":"tblSalaries[[#This Row],[clean Salary (in local currency)]]*VLOOKUP(tblSalaries[[#This Row],[Currency]],tblXrate[],2,FALSE)","v":70000},"business analyst","Analyst","USA",{"$f":"VLOOKUP(tblSalaries[[#This Row],[Where do you work]],tblCountries[[Actual]:[Mapping]],2,FALSE)","v":"USA"},"2 to 3 hours per day",5,{"$f":"VLOOKUP(K1784,tblCountries[],3,0)","v":"North Amer."},{"$f":"VLOOKUP(tblSalaries[[#This Row],[How many hours of a day you work on Excel]],tblHours,2,0)","v":3},{"$f":"VLOOKUP(tblSalaries[[#This Row],[clean Country]],tblCountries[],5,0)","v":1},{"$f":"IF($Q$1,tblSalaries[[#This Row],[PPP Factor]]*tblSalaries[[#This Row],[Salary in USD]],tblSalaries[[#This Row],[Salary in USD]])","v":70000}]
[null,"ID1825","2012-06-13T03:23:05","$214,000  USD",214000,"USD",{"$f":"tblSalaries[[#This Row],[clean Salary (in local currency)]]*VLOOKUP(tblSalaries[[#This Row],[Currency]],tblXrate[],2,FALSE)","v":214000},"Assistant Corporate Controller","Controller","USA",{"$f":"VLOOKUP(tblSalaries[[#This Row],[Where do you work]],tblCountries[[Actual]:[Mapping]],2,FALSE)","v":"USA"},"All the 8 hours baby, all the 8!",20,{"$f":"VLOOKUP(K1785,tblCountries[],3,0)","v":"North Amer."},{"$f":"VLOOKUP(tblSalaries[[#This Row],[How many hours of a day you work on Excel]],tblHours,2,0)","v":5},{"$f":"VLOOKUP(tblSalaries[[#This Row],[clean Country]],tblCountries[],5,0)","v":1},{"$f":"IF($Q$1,tblSalaries[[#This Row],[PPP Factor]]*tblSalaries[[#This Row],[Salary in USD]],tblSalaries[[#This Row],[Salary in USD]])","v":214000}]
[null,"ID1826","2012-06-13T03:48:39",78000,78000,"USD",{"$f":"tblSalaries[[#This Row],[clean Salary (in local currency)]]*VLOOKUP(tblSalaries[[#This Row],[Currency]],tblXrate[],2,FALSE)","v":78000},"Data Integration Engenieer","Engineer","USA",{"$f":"VLOOKUP(tblSalaries[[#This Row],[Where do you work]],tblCountries[[Actual]:[Mapping]],2,FALSE)","v":"USA"},"All the 8 hours baby, all the 8!",5,{"$f":"VLOOKUP(K1786,tblCountries[],3,0)","v":"North Amer."},{"$f":"VLOOKUP(tblSalaries[[#This Row],[How many hours of a day you work on Excel]],tblHours,2,0)","v":5},{"$f":"VLOOKUP(tblSalaries[[#This Row],[clean Country]],tblCountries[],5,0)","v":1},{"$f":"IF($Q$1,tblSalaries[[#This Row],[PPP Factor]]*tblSalaries[[#This Row],[Salary in USD]],tblSalaries[[#This Row],[Salary in USD]])","v":78000}]
[null,"ID1827","2012-06-13T04:39:37",42307.199999999997,42307,"USD",{"$f":"tblSalaries[[#This Row],[clean Salary (in local currency)]]*VLOOKUP(tblSalaries[[#This Row],[Currency]],tblXrate[],2,FALSE)","v":42307},"purchasing operations administrator","Analyst","USA",{"$f":"VLOOKUP(tblSalaries[[#This Row],[Where do you work]],tblCountries[[Actual]:[Mapping]],2,FALSE)","v":"USA"},"2 to 3 hours per day",25,{"$f":"VLOOKUP(K1787,tblCountries[],3,0)","v":"North Amer."},{"$f":"VLOOKUP(tblSalaries[[#This Row],[How many hours of a day you work on Excel]],tblHours,2,0)","v":3},{"$f":"VLOOKUP(tblSalaries[[#This Row],[clean Country]],tblCountries[],5,0)","v":1},{"$f":"IF($Q$1,tblSalaries[[#This Row],[PPP Factor]]*tblSalaries[[#This Row],[Salary in USD]],tblSalaries[[#This Row],[Salary in USD]])","v":42307}]
[null,"ID1828","2012-06-13T04:40:03",33250,33250,"USD",{"$f":"tblSalaries[[#This Row],[clean Salary (in local currency)]]*VLOOKUP(tblSalaries[[#This Row],[Currency]],tblXrate[],2,FALSE)","v":33250},"Planning and Logistics Coordinator","Manager","USA",{"$f":"VLOOKUP(tblSalaries[[#This Row],[Where do you work]],tblCountries[[Actual]:[Mapping]],2,FALSE)","v":"USA"},"All the 8 hours baby, all the 8!",20,{"$f":"VLOOKUP(K1788,tblCountries[],3,0)","v":"North Amer."},{"$f":"VLOOKUP(tblSalaries[[#This Row],[How many hours of a day you work on Excel]],tblHours,2,0)","v":5},{"$f":"VLOOKUP(tblSalaries[[#This Row],[clean Country]],tblCountries[],5,0)","v":1},{"$f":"IF($Q$1,tblSalaries[[#This Row],[PPP Factor]]*tblSalaries[[#This Row],[Salary in USD]],tblSalaries[[#This Row],[Salary in USD]])","v":33250}]
[null,"ID1829","2012-06-13T05:20:32","1600â‚¬ net monthly",19200,"EUR",{"$f":"tblSalaries[[#This Row],[clean Salary (in local currency)]]*VLOOKUP(tblSalaries[[#This Row],[Currency]],tblXrate[],2,FALSE)","v":24391.669228638868},"bank clerk","Analyst","italy",{"$f":"VLOOKUP(tblSalaries[[#This Row],[Where do you work]],tblCountries[[Actual]:[Mapping]],2,FALSE)","v":"italy"},"4 to 6 hours a day",10,{"$f":"VLOOKUP(K1789,tblCountries[],3,0)","v":"Europe"},{"$f":"VLOOKUP(tblSalaries[[#This Row],[How many hours of a day you work on Excel]],tblHours,2,0)","v":4},{"$f":"VLOOKUP(tblSalaries[[#This Row],[clean Country]],tblCountries[],5,0)","v":1.5883337710084033},{"$f":"IF($Q$1,tblSalaries[[#This Row],[PPP Factor]]*tblSalaries[[#This Row],[Salary in USD]],tblSalaries[[#This Row],[Salary in USD]])","v":24391.669228638868}]
[null,"ID1830","2012-06-13T06:19:24",120000,120000,"USD",{"$f":"tblSalaries[[#This Row],[clean Salary (in local currency)]]*VLOOKUP(tblSalaries[[#This Row],[Currency]],tblXrate[],2,FALSE)","v":120000},"Financial Modeler","Accountant","USA",{"$f":"VLOOKUP(tblSalaries[[#This Row],[Where do you work]],tblCountries[[Actual]:[Mapping]],2,FALSE)","v":"USA"},"4 to 6 hours a day",20,{"$f":"VLOOKUP(K1790,tblCountries[],3,0)","v":"North Amer."},{"$f":"VLOOKUP(tblSalaries[[#This Row],[How many hours of a day you work on Excel]],tblHours,2,0)","v":4},{"$f":"VLOOKUP(tblSalaries[[#This Row],[clean Country]],tblCountries[],5,0)","v":1},{"$f":"IF($Q$1,tblSalaries[[#This Row],[PPP Factor]]*tblSalaries[[#This Row],[Salary in USD]],tblSalaries[[#This Row],[Salary in USD]])","v":120000}]
[null,"ID1831","2012-06-13T11:58:30",20000,20000,"USD",{"$f":"tblSalaries[[#This Row],[clean Salary (in local currency)]]*VLOOKUP(tblSalaries[[#This Row],[Currency]],tblXrate[],2,FALSE)","v":20000},"Personal Assistant","Analyst","Hong Kong",{"$f":"VLOOKUP(tblSalaries[[#This Row],[Where do you work]],tblCountries[[Actual]:[Mapping]],2,FALSE)","v":"Hong Kong"},"1 or 2 hours a day",1,{"$f":"VLOOKUP(K1791,tblCountries[],3,0)","v":"Asia"},{"$f":"VLOOKUP(tblSalaries[[#This Row],[How many hours of a day you work on Excel]],tblHours,2,0)","v":2},{"$f":"VLOOKUP(tblSalaries[[#This Row],[clean Country]],tblCountries[],5,0)","v":0.98473655290310769},{"$f":"IF($Q$1,tblSalaries[[#This Row],[PPP Factor]]*tblSalaries[[#This Row],[Salary in USD]],tblSalaries[[#This Row],[Salary in USD]])","v":20000}]
[null,"ID1832","2012-06-13T17:22:47",15000,15000,"USD",{"$f":"tblSalaries[[#This Row],[clean Salary (in local currency)]]*VLOOKUP(tblSalaries[[#This Row],[Currency]],tblXrate[],2,FALSE)","v":15000},"senior associate","Analyst","India",{"$f":"VLOOKUP(tblSalaries[[#This Row],[Where do you work]],tblCountries[[Actual]:[Mapping]],2,FALSE)","v":"India"},"2 to 3 hours per day",0.3,{"$f":"VLOOKUP(K1792,tblCountries[],3,0)","v":"Asia"},{"$f":"VLOOKUP(tblSalaries[[#This Row],[How many hours of a day you work on Excel]],tblHours,2,0)","v":3},{"$f":"VLOOKUP(tblSalaries[[#This Row],[clean Country]],tblCountries[],5,0)","v":13.098808879263672},{"$f":"IF($Q$1,tblSalaries[[#This Row],[PPP Factor]]*tblSalaries[[#This Row],[Salary in USD]],tblSalaries[[#This Row],[Salary in USD]])","v":15000}]
[null,"ID1833","2012-06-13T18:25:00","INR 10 lacs p.a.",1000000,"INR",{"$f":"tblSalaries[[#This Row],[clean Salary (in local currency)]]*VLOOKUP(tblSalaries[[#This Row],[Currency]],tblXrate[],2,FALSE)","v":17807.916687442568},"Mnanager- Customer Project finance & recovery","Manager","India",{"$f":"VLOOKUP(tblSalaries[[#This Row],[Where do you work]],tblCountries[[Actual]:[Mapping]],2,FALSE)","v":"India"},"2 to 3 hours per day",10,{"$f":"VLOOKUP(K1793,tblCountries[],3,0)","v":"Asia"},{"$f":"VLOOKUP(tblSalaries[[#This Row],[How many hours of a day you work on Excel]],tblHours,2,0)","v":3},{"$f":"VLOOKUP(tblSalaries[[#This Row],[clean Country]],tblCountries[],5,0)","v":13.098808879263672},{"$f":"IF($Q$1,tblSalaries[[#This Row],[PPP Factor]]*tblSalaries[[#This Row],[Salary in USD]],tblSalaries[[#This Row],[Salary in USD]])","v":17807.916687442568}]
[null,"ID1834","2012-06-13T19:20:25",900000,900000,"INR",{"$f":"tblSalaries[[#This Row],[clean Salary (in local currency)]]*VLOOKUP(tblSalaries[[#This Row],[Currency]],tblXrate[],2,FALSE)","v":16027.125018698311},"Lead ","Manager","India",{"$f":"VLOOKUP(tblSalaries[[#This Row],[Where do you work]],tblCountries[[Actual]:[Mapping]],2,FALSE)","v":"India"},"2 to 3 hours per day",6,{"$f":"VLOOKUP(K1794,tblCountries[],3,0)","v":"Asia"},{"$f":"VLOOKUP(tblSalaries[[#This Row],[How many hours of a day you work on Excel]],tblHours,2,0)","v":3},{"$f":"VLOOKUP(tblSalaries[[#This Row],[clean Country]],tblCountries[],5,0)","v":13.098808879263672},{"$f":"IF($Q$1,tblSalaries[[#This Row],[PPP Factor]]*tblSalaries[[#This Row],[Salary in USD]],tblSalaries[[#This Row],[Salary in USD]])","v":16027.125018698311}]
[null,"ID1835","2012-06-13T19:33:58","36000 British pounds",36000,"GBP",{"$f":"tblSalaries[[#This Row],[clean Salary (in local currency)]]*VLOOKUP(tblSalaries[[#This Row],[Currency]],tblXrate[],2,FALSE)","v":56742.417794422225},"Senior officer data reporting","Manager","UK",{"$f":"VLOOKUP(tblSalaries[[#This Row],[Where do you work]],tblCountries[[Actual]:[Mapping]],2,FALSE)","v":"UK"},"All the 8 hours baby, all the 8!",7,{"$f":"VLOOKUP(K1795,tblCountries[],3,0)","v":"Europe"},{"$f":"VLOOKUP(tblSalaries[[#This Row],[How many hours of a day you work on Excel]],tblHours,2,0)","v":5},{"$f":"VLOOKUP(tblSalaries[[#This Row],[clean Country]],tblCountries[],5,0)","v":1.3407315045719035},{"$f":"IF($Q$1,tblSalaries[[#This Row],[PPP Factor]]*tblSalaries[[#This Row],[Salary in USD]],tblSalaries[[#This Row],[Salary in USD]])","v":56742.417794422225}]
[null,"ID1836","2012-06-13T19:40:16",1200000,1200000,"INR",{"$f":"tblSalaries[[#This Row],[clean Salary (in local currency)]]*VLOOKUP(tblSalaries[[#This Row],[Currency]],tblXrate[],2,FALSE)","v":21369.500024931083},"AM","Manager","India",{"$f":"VLOOKUP(tblSalaries[[#This Row],[Where do you work]],tblCountries[[Actual]:[Mapping]],2,FALSE)","v":"India"},"4 to 6 hours a day",7,{"$f":"VLOOKUP(K1796,tblCountries[],3,0)","v":"Asia"},{"$f":"VLOOKUP(tblSalaries[[#This Row],[How many hours of a day you work on Excel]],tblHours,2,0)","v":4},{"$f":"VLOOKUP(tblSalaries[[#This Row],[clean Country]],tblCountries[],5,0)","v":13.098808879263672},{"$f":"IF($Q$1,tblSalaries[[#This Row],[PPP Factor]]*tblSalaries[[#This Row],[Salary in USD]],tblSalaries[[#This Row],[Salary in USD]])","v":21369.500024931083}]
[null,"ID1837","2012-06-13T20:39:18",425000,425000,"INR",{"$f":"tblSalaries[[#This Row],[clean Salary (in local currency)]]*VLOOKUP(tblSalaries[[#This Row],[Currency]],tblXrate[],2,FALSE)","v":7568.3645921630914},"accountant","Accountant","India",{"$f":"VLOOKUP(tblSalaries[[#This Row],[Where do you work]],tblCountries[[Actual]:[Mapping]],2,FALSE)","v":"India"},"2 to 3 hours per day",6,{"$f":"VLOOKUP(K1797,tblCountries[],3,0)","v":"Asia"},{"$f":"VLOOKUP(tblSalaries[[#This Row],[How many hours of a day you work on Excel]],tblHours,2,0)","v":3},{"$f":"VLOOKUP(tblSalaries[[#This Row],[clean Country]],tblCountries[],5,0)","v":13.098808879263672},{"$f":"IF($Q$1,tblSalaries[[#This Row],[PPP Factor]]*tblSalaries[[#This Row],[Salary in USD]],tblSalaries[[#This Row],[Salary in USD]])","v":7568.3645921630914}]
[null,"ID1838","2012-06-13T23:32:36",50000,50000,"GBP",{"$f":"tblSalaries[[#This Row],[clean Salary (in local currency)]]*VLOOKUP(tblSalaries[[#This Row],[Currency]],tblXrate[],2,FALSE)","v":78808.913603364199},"Assistant Financial Accountant","Accountant","UK",{"$f":"VLOOKUP(tblSalaries[[#This Row],[Where do you work]],tblCountries[[Actual]:[Mapping]],2,FALSE)","v":"UK"},"2 to 3 hours per day",10,{"$f":"VLOOKUP(K1798,tblCountries[],3,0)","v":"Europe"},{"$f":"VLOOKUP(tblSalaries[[#This Row],[How many hours of a day you work on Excel]],tblHours,2,0)","v":3},{"$f":"VLOOKUP(tblSalaries[[#This Row],[clean Country]],tblCountries[],5,0)","v":1.3407315045719035},{"$f":"IF($Q$1,tblSalaries[[#This Row],[PPP Factor]]*tblSalaries[[#This Row],[Salary in USD]],tblSalaries[[#This Row],[Salary in USD]])","v":78808.913603364199}]
[null,"ID1839","2012-06-14T01:55:13",60000,60000,"USD",{"$f":"tblSalaries[[#This Row],[clean Salary (in local currency)]]*VLOOKUP(tblSalaries[[#This Row],[Currency]],tblXrate[],2,FALSE)","v":60000},"Business Analyst","Analyst","USA",{"$f":"VLOOKUP(tblSalaries[[#This Row],[Where do you work]],tblCountries[[Actual]:[Mapping]],2,FALSE)","v":"USA"},"4 to 6 hours a day",15,{"$f":"VLOOKUP(K1799,tblCountries[],3,0)","v":"North Amer."},{"$f":"VLOOKUP(tblSalaries[[#This Row],[How many hours of a day you work on Excel]],tblHours,2,0)","v":4},{"$f":"VLOOKUP(tblSalaries[[#This Row],[clean Country]],tblCountries[],5,0)","v":1},{"$f":"IF($Q$1,tblSalaries[[#This Row],[PPP Factor]]*tblSalaries[[#This Row],[Salary in USD]],tblSalaries[[#This Row],[Salary in USD]])","v":60000}]
[null,"ID1840","2012-06-14T02:44:43",57000,57000,"USD",{"$f":"tblSalaries[[#This Row],[clean Salary (in local currency)]]*VLOOKUP(tblSalaries[[#This Row],[Currency]],tblXrate[],2,FALSE)","v":57000},"Staff Accountant","Accountant","USA",{"$f":"VLOOKUP(tblSalaries[[#This Row],[Where do you work]],tblCountries[[Actual]:[Mapping]],2,FALSE)","v":"USA"},"4 to 6 hours a day",9,{"$f":"VLOOKUP(K1800,tblCountries[],3,0)","v":"North Amer."},{"$f":"VLOOKUP(tblSalaries[[#This Row],[How many hours of a day you work on Excel]],tblHours,2,0)","v":4},{"$f":"VLOOKUP(tblSalaries[[#This Row],[clean Country]],tblCountries[],5,0)","v":1},{"$f":"IF($Q$1,tblSalaries[[#This Row],[PPP Factor]]*tblSalaries[[#This Row],[Salary in USD]],tblSalaries[[#This Row],[Salary in USD]])","v":57000}]
[null,"ID1841","2012-06-14T04:22:36",40000,40000,"USD",{"$f":"tblSalaries[[#This Row],[clean Salary (in local currency)]]*VLOOKUP(tblSalaries[[#This Row],[Currency]],tblXrate[],2,FALSE)","v":40000},"Rates Analyst","Analyst","USA",{"$f":"VLOOKUP(tblSalaries[[#This Row],[Where do you work]],tblCountries[[Actual]:[Mapping]],2,FALSE)","v":"USA"},"2 to 3 hours per day",0,{"$f":"VLOOKUP(K1801,tblCountries[],3,0)","v":"North Amer."},{"$f":"VLOOKUP(tblSalaries[[#This Row],[How many hours of a day you work on Excel]],tblHours,2,0)","v":3},{"$f":"VLOOKUP(tblSalaries[[#This Row],[clean Country]],tblCountries[],5,0)","v":1},{"$f":"IF($Q$1,tblSalaries[[#This Row],[PPP Factor]]*tblSalaries[[#This Row],[Salary in USD]],tblSalaries[[#This Row],[Salary in USD]])","v":40000}]
[null,"ID1842","2012-06-14T07:16:41",80000,80000,"USD",{"$f":"tblSalaries[[#This Row],[clean Salary (in local currency)]]*VLOOKUP(tblSalaries[[#This Row],[Currency]],tblXrate[],2,FALSE)","v":80000},"Project Controller","Controller","USA",{"$f":"VLOOKUP(tblSalaries[[#This Row],[Where do you work]],tblCountries[[Actual]:[Mapping]],2,FALSE)","v":"USA"},"4 to 6 hours a day",9,{"$f":"VLOOKUP(K1802,tblCountries[],3,0)","v":"North Amer."},{"$f":"VLOOKUP(tblSalaries[[#This Row],[How many hours of a day you work on Excel]],tblHours,2,0)","v":4},{"$f":"VLOOKUP(tblSalaries[[#This Row],[clean Country]],tblCountries[],5,0)","v":1},{"$f":"IF($Q$1,tblSalaries[[#This Row],[PPP Factor]]*tblSalaries[[#This Row],[Salary in USD]],tblSalaries[[#This Row],[Salary in USD]])","v":80000}]
[null,"ID1843","2012-06-14T12:27:30",118000,118000,"USD",{"$f":"tblSalaries[[#This Row],[clean Salary (in local currency)]]*VLOOKUP(tblSalaries[[#This Row],[Currency]],tblXrate[],2,FALSE)","v":118000},"AVP","CXO or Top Mgmt.","USA",{"$f":"VLOOKUP(tblSalaries[[#This Row],[Where do you work]],tblCountries[[Actual]:[Mapping]],2,FALSE)","v":"USA"},"4 to 6 hours a day",6,{"$f":"VLOOKUP(K1803,tblCountries[],3,0)","v":"North Amer."},{"$f":"VLOOKUP(tblSalaries[[#This Row],[How many hours of a day you work on Excel]],tblHours,2,0)","v":4},{"$f":"VLOOKUP(tblSalaries[[#This Row],[clean Country]],tblCountries[],5,0)","v":1},{"$f":"IF($Q$1,tblSalaries[[#This Row],[PPP Factor]]*tblSalaries[[#This Row],[Salary in USD]],tblSalaries[[#This Row],[Salary in USD]])","v":118000}]
[null,"ID1844","2012-06-14T14:08:58",5000,60000,"USD",{"$f":"tblSalaries[[#This Row],[clean Salary (in local currency)]]*VLOOKUP(tblSalaries[[#This Row],[Currency]],tblXrate[],2,FALSE)","v":60000},"Analyst","Analyst","UAE",{"$f":"VLOOKUP(tblSalaries[[#This Row],[Where do you work]],tblCountries[[Actual]:[Mapping]],2,FALSE)","v":"UAE"},"4 to 6 hours a day",5,{"$f":"VLOOKUP(K1804,tblCountries[],3,0)","v":"Asia"},{"$f":"VLOOKUP(tblSalaries[[#This Row],[How many hours of a day you work on Excel]],tblHours,2,0)","v":4},{"$f":"VLOOKUP(tblSalaries[[#This Row],[clean Country]],tblCountries[],5,0)","v":1.0047551808629926},{"$f":"IF($Q$1,tblSalaries[[#This Row],[PPP Factor]]*tblSalaries[[#This Row],[Salary in USD]],tblSalaries[[#This Row],[Salary in USD]])","v":60000}]
[null,"ID1845","2012-06-14T18:27:04",560,6720,"USD",{"$f":"tblSalaries[[#This Row],[clean Salary (in local currency)]]*VLOOKUP(tblSalaries[[#This Row],[Currency]],tblXrate[],2,FALSE)","v":6720},"accoutant","Accountant","India",{"$f":"VLOOKUP(tblSalaries[[#This Row],[Where do you work]],tblCountries[[Actual]:[Mapping]],2,FALSE)","v":"India"},"4 to 6 hours a day",5,{"$f":"VLOOKUP(K1805,tblCountries[],3,0)","v":"Asia"},{"$f":"VLOOKUP(tblSalaries[[#This Row],[How many hours of a day you work on Excel]],tblHours,2,0)","v":4},{"$f":"VLOOKUP(tblSalaries[[#This Row],[clean Country]],tblCountries[],5,0)","v":13.098808879263672},{"$f":"IF($Q$1,tblSalaries[[#This Row],[PPP Factor]]*tblSalaries[[#This Row],[Salary in USD]],tblSalaries[[#This Row],[Salary in USD]])","v":6720}]
[null,"ID1846","2012-06-14T22:03:05",1720,20640,"USD",{"$f":"tblSalaries[[#This Row],[clean Salary (in local currency)]]*VLOOKUP(tblSalaries[[#This Row],[Currency]],tblXrate[],2,FALSE)","v":20640},"Programme Officer","Manager","Singapore",{"$f":"VLOOKUP(tblSalaries[[#This Row],[Where do you work]],tblCountries[[Actual]:[Mapping]],2,FALSE)","v":"Singapore"},"4 to 6 hours a day",3,{"$f":"VLOOKUP(K1806,tblCountries[],3,0)","v":"Asia"},{"$f":"VLOOKUP(tblSalaries[[#This Row],[How many hours of a day you work on Excel]],tblHours,2,0)","v":4},{"$f":"VLOOKUP(tblSalaries[[#This Row],[clean Country]],tblCountries[],5,0)","v":0.81035320125270049},{"$f":"IF($Q$1,tblSalaries[[#This Row],[PPP Factor]]*tblSalaries[[#This Row],[Salary in USD]],tblSalaries[[#This Row],[Salary in USD]])","v":20640}]
[null,"ID1847","2012-06-15T00:35:45",50000,50000,"USD",{"$f":"tblSalaries[[#This Row],[clean Salary (in local currency)]]*VLOOKUP(tblSalaries[[#This Row],[Currency]],tblXrate[],2,FALSE)","v":50000},"Digital Media Analyst","Analyst","USA",{"$f":"VLOOKUP(tblSalaries[[#This Row],[Where do you work]],tblCountries[[Actual]:[Mapping]],2,FALSE)","v":"USA"},"All the 8 hours baby, all the 8!",15,{"$f":"VLOOKUP(K1807,tblCountries[],3,0)","v":"North Amer."},{"$f":"VLOOKUP(tblSalaries[[#This Row],[How many hours of a day you work on Excel]],tblHours,2,0)","v":5},{"$f":"VLOOKUP(tblSalaries[[#This Row],[clean Country]],tblCountries[],5,0)","v":1},{"$f":"IF($Q$1,tblSalaries[[#This Row],[PPP Factor]]*tblSalaries[[#This Row],[Salary in USD]],tblSalaries[[#This Row],[Salary in USD]])","v":50000}]
[null,"ID1848","2012-06-15T00:52:38",2000,24000,"USD",{"$f":"tblSalaries[[#This Row],[clean Salary (in local currency)]]*VLOOKUP(tblSalaries[[#This Row],[Currency]],tblXrate[],2,FALSE)","v":24000},"Plant Controller","Controller","Russia",{"$f":"VLOOKUP(tblSalaries[[#This Row],[Where do you work]],tblCountries[[Actual]:[Mapping]],2,FALSE)","v":"Russia"},"All the 8 hours baby, all the 8!",23,{"$f":"VLOOKUP(K1808,tblCountries[],3,0)","v":"Asia"},{"$f":"VLOOKUP(tblSalaries[[#This Row],[How many hours of a day you work on Excel]],tblHours,2,0)","v":5},{"$f":"VLOOKUP(tblSalaries[[#This Row],[clean Country]],tblCountries[],5,0)","v":2.8911926386233269},{"$f":"IF($Q$1,tblSalaries[[#This Row],[PPP Factor]]*tblSalaries[[#This Row],[Salary in USD]],tblSalaries[[#This Row],[Salary in USD]])","v":24000}]
[null,"ID1849","2012-06-15T01:02:48",60000,60000,"USD",{"$f":"tblSalaries[[#This Row],[clean Salary (in local currency)]]*VLOOKUP(tblSalaries[[#This Row],[Currency]],tblXrate[],2,FALSE)","v":60000},"Business Analyst","Analyst","USA",{"$f":"VLOOKUP(tblSalaries[[#This Row],[Where do you work]],tblCountries[[Actual]:[Mapping]],2,FALSE)","v":"USA"},"2 to 3 hours per day",3,{"$f":"VLOOKUP(K1809,tblCountries[],3,0)","v":"North Amer."},{"$f":"VLOOKUP(tblSalaries[[#This Row],[How many hours of a day you work on Excel]],tblHours,2,0)","v":3},{"$f":"VLOOKUP(tblSalaries[[#This Row],[clean Country]],tblCountries[],5,0)","v":1},{"$f":"IF($Q$1,tblSalaries[[#This Row],[PPP Factor]]*tblSalaries[[#This Row],[Salary in USD]],tblSalaries[[#This Row],[Salary in USD]])","v":60000}]
[null,"ID1850","2012-06-15T01:10:09",37500,37500,"USD",{"$f":"tblSalaries[[#This Row],[clean Salary (in local currency)]]*VLOOKUP(tblSalaries[[#This Row],[Currency]],tblXrate[],2,FALSE)","v":37500},"consultant","Consultant","India",{"$f":"VLOOKUP(tblSalaries[[#This Row],[Where do you work]],tblCountries[[Actual]:[Mapping]],2,FALSE)","v":"India"},"All the 8 hours baby, all the 8!",0,{"$f":"VLOOKUP(K1810,tblCountries[],3,0)","v":"Asia"},{"$f":"VLOOKUP(tblSalaries[[#This Row],[How many hours of a day you work on Excel]],tblHours,2,0)","v":5},{"$f":"VLOOKUP(tblSalaries[[#This Row],[clean Country]],tblCountries[],5,0)","v":13.098808879263672},{"$f":"IF($Q$1,tblSalaries[[#This Row],[PPP Factor]]*tblSalaries[[#This Row],[Salary in USD]],tblSalaries[[#This Row],[Salary in USD]])","v":37500}]
[null,"ID1851","2012-06-15T02:24:44",40000,40000,"USD",{"$f":"tblSalaries[[#This Row],[clean Salary (in local currency)]]*VLOOKUP(tblSalaries[[#This Row],[Currency]],tblXrate[],2,FALSE)","v":40000},"Research Support Specialist","Specialist","USA",{"$f":"VLOOKUP(tblSalaries[[#This Row],[Where do you work]],tblCountries[[Actual]:[Mapping]],2,FALSE)","v":"USA"},"4 to 6 hours a day",1,{"$f":"VLOOKUP(K1811,tblCountries[],3,0)","v":"North Amer."},{"$f":"VLOOKUP(tblSalaries[[#This Row],[How many hours of a day you work on Excel]],tblHours,2,0)","v":4},{"$f":"VLOOKUP(tblSalaries[[#This Row],[clean Country]],tblCountries[],5,0)","v":1},{"$f":"IF($Q$1,tblSalaries[[#This Row],[PPP Factor]]*tblSalaries[[#This Row],[Salary in USD]],tblSalaries[[#This Row],[Salary in USD]])","v":40000}]
[null,"ID1852","2012-06-15T02:30:11","US$ 85000",85000,"USD",{"$f":"tblSalaries[[#This Row],[clean Salary (in local currency)]]*VLOOKUP(tblSalaries[[#This Row],[Currency]],tblXrate[],2,FALSE)","v":85000},"Chief Financial Officer","CXO or Top Mgmt.","USA",{"$f":"VLOOKUP(tblSalaries[[#This Row],[Where do you work]],tblCountries[[Actual]:[Mapping]],2,FALSE)","v":"USA"},"2 to 3 hours per day",15,{"$f":"VLOOKUP(K1812,tblCountries[],3,0)","v":"North Amer."},{"$f":"VLOOKUP(tblSalaries[[#This Row],[How many hours of a day you work on Excel]],tblHours,2,0)","v":3},{"$f":"VLOOKUP(tblSalaries[[#This Row],[clean Country]],tblCountries[],5,0)","v":1},{"$f":"IF($Q$1,tblSalaries[[#This Row],[PPP Factor]]*tblSalaries[[#This Row],[Salary in USD]],tblSalaries[[#This Row],[Salary in USD]])","v":85000}]
[null,"ID1853","2012-06-15T03:00:04",30000,30000,"USD",{"$f":"tblSalaries[[#This Row],[clean Salary (in local currency)]]*VLOOKUP(tblSalaries[[#This Row],[Currency]],tblXrate[],2,FALSE)","v":30000},"Trainee","Analyst","Brazil",{"$f":"VLOOKUP(tblSalaries[[#This Row],[Where do you work]],tblCountries[[Actual]:[Mapping]],2,FALSE)","v":"Brazil"},"2 to 3 hours per day",1,{"$f":"VLOOKUP(K1813,tblCountries[],3,0)","v":"South Amer."},{"$f":"VLOOKUP(tblSalaries[[#This Row],[How many hours of a day you work on Excel]],tblHours,2,0)","v":3},{"$f":"VLOOKUP(tblSalaries[[#This Row],[clean Country]],tblCountries[],5,0)","v":4.1113943410655107},{"$f":"IF($Q$1,tblSalaries[[#This Row],[PPP Factor]]*tblSalaries[[#This Row],[Salary in USD]],tblSalaries[[#This Row],[Salary in USD]])","v":30000}]
[null,"ID1854","2012-06-15T03:51:50","Â£33500",33500,"GBP",{"$f":"tblSalaries[[#This Row],[clean Salary (in local currency)]]*VLOOKUP(tblSalaries[[#This Row],[Currency]],tblXrate[],2,FALSE)","v":52801.972114254015},"Senior Manufacturing Engineer","Engineer","UK",{"$f":"VLOOKUP(tblSalaries[[#This Row],[Where do you work]],tblCountries[[Actual]:[Mapping]],2,FALSE)","v":"UK"},"2 to 3 hours per day",7,{"$f":"VLOOKUP(K1814,tblCountries[],3,0)","v":"Europe"},{"$f":"VLOOKUP(tblSalaries[[#This Row],[How many hours of a day you work on Excel]],tblHours,2,0)","v":3},{"$f":"VLOOKUP(tblSalaries[[#This Row],[clean Country]],tblCountries[],5,0)","v":1.3407315045719035},{"$f":"IF($Q$1,tblSalaries[[#This Row],[PPP Factor]]*tblSalaries[[#This Row],[Salary in USD]],tblSalaries[[#This Row],[Salary in USD]])","v":52801.972114254015}]
[null,"ID1855","2012-06-15T05:44:30",29000,29000,"USD",{"$f":"tblSalaries[[#This Row],[clean Salary (in local currency)]]*VLOOKUP(tblSalaries[[#This Row],[Currency]],tblXrate[],2,FALSE)","v":29000},"Customer Experence Engineer","Engineer","USA",{"$f":"VLOOKUP(tblSalaries[[#This Row],[Where do you work]],tblCountries[[Actual]:[Mapping]],2,FALSE)","v":"USA"},"All the 8 hours baby, all the 8!",1,{"$f":"VLOOKUP(K1815,tblCountries[],3,0)","v":"North Amer."},{"$f":"VLOOKUP(tblSalaries[[#This Row],[How many hours of a day you work on Excel]],tblHours,2,0)","v":5},{"$f":"VLOOKUP(tblSalaries[[#This Row],[clean Country]],tblCountries[],5,0)","v":1},{"$f":"IF($Q$1,tblSalaries[[#This Row],[PPP Factor]]*tblSalaries[[#This Row],[Salary in USD]],tblSalaries[[#This Row],[Salary in USD]])","v":29000}]
[null,"ID1857","2012-06-15T09:00:08",48000,48000,"USD",{"$f":"tblSalaries[[#This Row],[clean Salary (in local currency)]]*VLOOKUP(tblSalaries[[#This Row],[Currency]],tblXrate[],2,FALSE)","v":48000},"Accountant","Accountant","USA",{"$f":"VLOOKUP(tblSalaries[[#This Row],[Where do you work]],tblCountries[[Actual]:[Mapping]],2,FALSE)","v":"USA"},"4 to 6 hours a day",1,{"$f":"VLOOKUP(K1816,tblCountries[],3,0)","v":"North Amer."},{"$f":"VLOOKUP(tblSalaries[[#This Row],[How many hours of a day you work on Excel]],tblHours,2,0)","v":4},{"$f":"VLOOKUP(tblSalaries[[#This Row],[clean Country]],tblCountries[],5,0)","v":1},{"$f":"IF($Q$1,tblSalaries[[#This Row],[PPP Factor]]*tblSalaries[[#This Row],[Salary in USD]],tblSalaries[[#This Row],[Salary in USD]])","v":48000}]
[null,"ID1858","2012-06-15T09:01:23",48000,48000,"USD",{"$f":"tblSalaries[[#This Row],[clean Salary (in local currency)]]*VLOOKUP(tblSalaries[[#This Row],[Currency]],tblXrate[],2,FALSE)","v":48000},"Accountant","Accountant","USA",{"$f":"VLOOKUP(tblSalaries[[#This Row],[Where do you work]],tblCountries[[Actual]:[Mapping]],2,FALSE)","v":"USA"},"4 to 6 hours a day",1,{"$f":"VLOOKUP(K1817,tblCountries[],3,0)","v":"North Amer."},{"$f":"VLOOKUP(tblSalaries[[#This Row],[How many hours of a day you work on Excel]],tblHours,2,0)","v":4},{"$f":"VLOOKUP(tblSalaries[[#This Row],[clean Country]],tblCountries[],5,0)","v":1},{"$f":"IF($Q$1,tblSalaries[[#This Row],[PPP Factor]]*tblSalaries[[#This Row],[Salary in USD]],tblSalaries[[#This Row],[Salary in USD]])","v":48000}]
[null,"ID1859","2012-06-15T15:07:11",700,8400,"USD",{"$f":"tblSalaries[[#This Row],[clean Salary (in local currency)]]*VLOOKUP(tblSalaries[[#This Row],[Currency]],tblXrate[],2,FALSE)","v":8400},"Analyst","Analyst","Baltic",{"$f":"VLOOKUP(tblSalaries[[#This Row],[Where do you work]],tblCountries[[Actual]:[Mapping]],2,FALSE)","v":"Baltic"},"All the 8 hours baby, all the 8!",0.3,{"$f":"VLOOKUP(K1818,tblCountries[],3,0)","v":"Europe"},{"$f":"VLOOKUP(tblSalaries[[#This Row],[How many hours of a day you work on Excel]],tblHours,2,0)","v":5},{"$f":"VLOOKUP(tblSalaries[[#This Row],[clean Country]],tblCountries[],5,0)","v":1},{"$f":"IF($Q$1,tblSalaries[[#This Row],[PPP Factor]]*tblSalaries[[#This Row],[Salary in USD]],tblSalaries[[#This Row],[Salary in USD]])","v":8400}]
[null,"ID1860","2012-06-15T15:43:42",270000,270000,"INR",{"$f":"tblSalaries[[#This Row],[clean Salary (in local currency)]]*VLOOKUP(tblSalaries[[#This Row],[Currency]],tblXrate[],2,FALSE)","v":4808.137505609493},"Team Lead","Manager","India",{"$f":"VLOOKUP(tblSalaries[[#This Row],[Where do you work]],tblCountries[[Actual]:[Mapping]],2,FALSE)","v":"India"},"2 to 3 hours per day",5,{"$f":"VLOOKUP(K1819,tblCountries[],3,0)","v":"Asia"},{"$f":"VLOOKUP(tblSalaries[[#This Row],[How many hours of a day you work on Excel]],tblHours,2,0)","v":3},{"$f":"VLOOKUP(tblSalaries[[#This Row],[clean Country]],tblCountries[],5,0)","v":13.098808879263672},{"$f":"IF($Q$1,tblSalaries[[#This Row],[PPP Factor]]*tblSalaries[[#This Row],[Salary in USD]],tblSalaries[[#This Row],[Salary in USD]])","v":4808.137505609493}]
[null,"ID1861","2012-06-15T16:36:47",1400000,1400000,"INR",{"$f":"tblSalaries[[#This Row],[clean Salary (in local currency)]]*VLOOKUP(tblSalaries[[#This Row],[Currency]],tblXrate[],2,FALSE)","v":24931.083362419595},"Manager - Controlling","Manager","India",{"$f":"VLOOKUP(tblSalaries[[#This Row],[Where do you work]],tblCountries[[Actual]:[Mapping]],2,FALSE)","v":"India"},"4 to 6 hours a day",10,{"$f":"VLOOKUP(K1820,tblCountries[],3,0)","v":"Asia"},{"$f":"VLOOKUP(tblSalaries[[#This Row],[How many hours of a day you work on Excel]],tblHours,2,0)","v":4},{"$f":"VLOOKUP(tblSalaries[[#This Row],[clean Country]],tblCountries[],5,0)","v":13.098808879263672},{"$f":"IF($Q$1,tblSalaries[[#This Row],[PPP Factor]]*tblSalaries[[#This Row],[Salary in USD]],tblSalaries[[#This Row],[Salary in USD]])","v":24931.083362419595}]
[null,"ID1862","2012-06-15T17:16:19","INR 700000",700000,"INR",{"$f":"tblSalaries[[#This Row],[clean Salary (in local currency)]]*VLOOKUP(tblSalaries[[#This Row],[Currency]],tblXrate[],2,FALSE)","v":12465.541681209797},"Sr. System Analyst","Analyst","India",{"$f":"VLOOKUP(tblSalaries[[#This Row],[Where do you work]],tblCountries[[Actual]:[Mapping]],2,FALSE)","v":"India"},"2 to 3 hours per day",4,{"$f":"VLOOKUP(K1821,tblCountries[],3,0)","v":"Asia"},{"$f":"VLOOKUP(tblSalaries[[#This Row],[How many hours of a day you work on Excel]],tblHours,2,0)","v":3},{"$f":"VLOOKUP(tblSalaries[[#This Row],[clean Country]],tblCountries[],5,0)","v":13.098808879263672},{"$f":"IF($Q$1,tblSalaries[[#This Row],[PPP Factor]]*tblSalaries[[#This Row],[Salary in USD]],tblSalaries[[#This Row],[Salary in USD]])","v":12465.541681209797}]
[null,"ID1863","2012-06-15T17:35:32",20000,20000,"GBP",{"$f":"tblSalaries[[#This Row],[clean Salary (in local currency)]]*VLOOKUP(tblSalaries[[#This Row],[Currency]],tblXrate[],2,FALSE)","v":31523.565441345683},"Accountant","Accountant","UK",{"$f":"VLOOKUP(tblSalaries[[#This Row],[Where do you work]],tblCountries[[Actual]:[Mapping]],2,FALSE)","v":"UK"},"2 to 3 hours per day",10,{"$f":"VLOOKUP(K1822,tblCountries[],3,0)","v":"Europe"},{"$f":"VLOOKUP(tblSalaries[[#This Row],[How many hours of a day you work on Excel]],tblHours,2,0)","v":3},{"$f":"VLOOKUP(tblSalaries[[#This Row],[clean Country]],tblCountries[],5,0)","v":1.3407315045719035},{"$f":"IF($Q$1,tblSalaries[[#This Row],[PPP Factor]]*tblSalaries[[#This Row],[Salary in USD]],tblSalaries[[#This Row],[Salary in USD]])","v":31523.565441345683}]
[null,"ID1864","2012-06-15T17:36:10","INR 1000000",1000000,"INR",{"$f":"tblSalaries[[#This Row],[clean Salary (in local currency)]]*VLOOKUP(tblSalaries[[#This Row],[Currency]],tblXrate[],2,FALSE)","v":17807.916687442568},"Sr.Manager","Manager","India",{"$f":"VLOOKUP(tblSalaries[[#This Row],[Where do you work]],tblCountries[[Actual]:[Mapping]],2,FALSE)","v":"India"},"All the 8 hours baby, all the 8!",10,{"$f":"VLOOKUP(K1823,tblCountries[],3,0)","v":"Asia"},{"$f":"VLOOKUP(tblSalaries[[#This Row],[How many hours of a day you work on Excel]],tblHours,2,0)","v":5},{"$f":"VLOOKUP(tblSalaries[[#This Row],[clean Country]],tblCountries[],5,0)","v":13.098808879263672},{"$f":"IF($Q$1,tblSalaries[[#This Row],[PPP Factor]]*tblSalaries[[#This Row],[Salary in USD]],tblSalaries[[#This Row],[Salary in USD]])","v":17807.916687442568}]
[null,"ID1865","2012-06-15T18:13:12",112000,112000,"USD",{"$f":"tblSalaries[[#This Row],[clean Salary (in local currency)]]*VLOOKUP(tblSalaries[[#This Row],[Currency]],tblXrate[],2,FALSE)","v":112000},"manager","Manager","USA",{"$f":"VLOOKUP(tblSalaries[[#This Row],[Where do you work]],tblCountries[[Actual]:[Mapping]],2,FALSE)","v":"USA"},"2 to 3 hours per day",8,{"$f":"VLOOKUP(K1824,tblCountries[],3,0)","v":"North Amer."},{"$f":"VLOOKUP(tblSalaries[[#This Row],[How many hours of a day you work on Excel]],tblHours,2,0)","v":3},{"$f":"VLOOKUP(tblSalaries[[#This Row],[clean Country]],tblCountries[],5,0)","v":1},{"$f":"IF($Q$1,tblSalaries[[#This Row],[PPP Factor]]*tblSalaries[[#This Row],[Salary in USD]],tblSalaries[[#This Row],[Salary in USD]])","v":112000}]
[null,"ID1866","2012-06-15T20:00:26",11000,11000,"USD",{"$f":"tblSalaries[[#This Row],[clean Salary (in local currency)]]*VLOOKUP(tblSalaries[[#This Row],[Currency]],tblXrate[],2,FALSE)","v":11000},"AM","Manager","India",{"$f":"VLOOKUP(tblSalaries[[#This Row],[Where do you work]],tblCountries[[Actual]:[Mapping]],2,FALSE)","v":"India"},"All the 8 hours baby, all the 8!",8,{"$f":"VLOOKUP(K1825,tblCountries[],3,0)","v":"Asia"},{"$f":"VLOOKUP(tblSalaries[[#This Row],[How many hours of a day you work on Excel]],tblHours,2,0)","v":5},{"$f":"VLOOKUP(tblSalaries[[#This Row],[clean Country]],tblCountries[],5,0)","v":13.098808879263672},{"$f":"IF($Q$1,tblSalaries[[#This Row],[PPP Factor]]*tblSalaries[[#This Row],[Salary in USD]],tblSalaries[[#This Row],[Salary in USD]])","v":11000}]
[null,"ID1867","2012-06-15T20:50:49","EUR 90000",90000,"EUR",{"$f":"tblSalaries[[#This Row],[clean Salary (in local currency)]]*VLOOKUP(tblSalaries[[#This Row],[Currency]],tblXrate[],2,FALSE)","v":114335.9495092447},"Controller","Controller","mainland Europe (Euro zone)",{"$f":"VLOOKUP(tblSalaries[[#This Row],[Where do you work]],tblCountries[[Actual]:[Mapping]],2,FALSE)","v":"Europe"},"2 to 3 hours per day",20,{"$f":"VLOOKUP(K1826,tblCountries[],3,0)","v":"Europe"},{"$f":"VLOOKUP(tblSalaries[[#This Row],[How many hours of a day you work on Excel]],tblHours,2,0)","v":3},{"$f":"VLOOKUP(tblSalaries[[#This Row],[clean Country]],tblCountries[],5,0)","v":1},{"$f":"IF($Q$1,tblSalaries[[#This Row],[PPP Factor]]*tblSalaries[[#This Row],[Salary in USD]],tblSalaries[[#This Row],[Salary in USD]])","v":114335.9495092447}]
[null,"ID1868","2012-06-15T21:32:16","$US16.110,72",16110,"USD",{"$f":"tblSalaries[[#This Row],[clean Salary (in local currency)]]*VLOOKUP(tblSalaries[[#This Row],[Currency]],tblXrate[],2,FALSE)","v":16110},"INFORMATION ANALIST","Analyst","COLOMBIA",{"$f":"VLOOKUP(tblSalaries[[#This Row],[Where do you work]],tblCountries[[Actual]:[Mapping]],2,FALSE)","v":"Colombia"},"All the 8 hours baby, all the 8!",10,{"$f":"VLOOKUP(K1827,tblCountries[],3,0)","v":"South Amer."},{"$f":"VLOOKUP(tblSalaries[[#This Row],[How many hours of a day you work on Excel]],tblHours,2,0)","v":5},{"$f":"VLOOKUP(tblSalaries[[#This Row],[clean Country]],tblCountries[],5,0)","v":4.721143526197678},{"$f":"IF($Q$1,tblSalaries[[#This Row],[PPP Factor]]*tblSalaries[[#This Row],[Salary in USD]],tblSalaries[[#This Row],[Salary in USD]])","v":16110}]
[null,"ID1869","2012-06-15T22:36:45",72000,72000,"USD",{"$f":"tblSalaries[[#This Row],[clean Salary (in local currency)]]*VLOOKUP(tblSalaries[[#This Row],[Currency]],tblXrate[],2,FALSE)","v":72000},"HR Supervisor","Manager","USA",{"$f":"VLOOKUP(tblSalaries[[#This Row],[Where do you work]],tblCountries[[Actual]:[Mapping]],2,FALSE)","v":"USA"},"4 to 6 hours a day",10,{"$f":"VLOOKUP(K1828,tblCountries[],3,0)","v":"North Amer."},{"$f":"VLOOKUP(tblSalaries[[#This Row],[How many hours of a day you work on Excel]],tblHours,2,0)","v":4},{"$f":"VLOOKUP(tblSalaries[[#This Row],[clean Country]],tblCountries[],5,0)","v":1},{"$f":"IF($Q$1,tblSalaries[[#This Row],[PPP Factor]]*tblSalaries[[#This Row],[Salary in USD]],tblSalaries[[#This Row],[Salary in USD]])","v":72000}]
[null,"ID1870","2012-06-15T23:21:00",60000,60000,"USD",{"$f":"tblSalaries[[#This Row],[clean Salary (in local currency)]]*VLOOKUP(tblSalaries[[#This Row],[Currency]],tblXrate[],2,FALSE)","v":60000},"Marketing Initatities Analyst","Analyst","USA",{"$f":"VLOOKUP(tblSalaries[[#This Row],[Where do you work]],tblCountries[[Actual]:[Mapping]],2,FALSE)","v":"USA"},"All the 8 hours baby, all the 8!",10,{"$f":"VLOOKUP(K1829,tblCountries[],3,0)","v":"North Amer."},{"$f":"VLOOKUP(tblSalaries[[#This Row],[How many hours of a day you work on Excel]],tblHours,2,0)","v":5},{"$f":"VLOOKUP(tblSalaries[[#This Row],[clean Country]],tblCountries[],5,0)","v":1},{"$f":"IF($Q$1,tblSalaries[[#This Row],[PPP Factor]]*tblSalaries[[#This Row],[Salary in USD]],tblSalaries[[#This Row],[Salary in USD]])","v":60000}]
[null,"ID1871","2012-06-15T23:50:11",67000,67000,"USD",{"$f":"tblSalaries[[#This Row],[clean Salary (in local currency)]]*VLOOKUP(tblSalaries[[#This Row],[Currency]],tblXrate[],2,FALSE)","v":67000},"Sales Compensation Analyst","Analyst","USA",{"$f":"VLOOKUP(tblSalaries[[#This Row],[Where do you work]],tblCountries[[Actual]:[Mapping]],2,FALSE)","v":"USA"},"4 to 6 hours a day",6,{"$f":"VLOOKUP(K1830,tblCountries[],3,0)","v":"North Amer."},{"$f":"VLOOKUP(tblSalaries[[#This Row],[How many hours of a day you work on Excel]],tblHours,2,0)","v":4},{"$f":"VLOOKUP(tblSalaries[[#This Row],[clean Country]],tblCountries[],5,0)","v":1},{"$f":"IF($Q$1,tblSalaries[[#This Row],[PPP Factor]]*tblSalaries[[#This Row],[Salary in USD]],tblSalaries[[#This Row],[Salary in USD]])","v":67000}]
[null,"ID1872","2012-06-16T02:50:49",54000,54000,"USD",{"$f":"tblSalaries[[#This Row],[clean Salary (in local currency)]]*VLOOKUP(tblSalaries[[#This Row],[Currency]],tblXrate[],2,FALSE)","v":54000},"materials","Analyst","USA",{"$f":"VLOOKUP(tblSalaries[[#This Row],[Where do you work]],tblCountries[[Actual]:[Mapping]],2,FALSE)","v":"USA"},"4 to 6 hours a day",18,{"$f":"VLOOKUP(K1831,tblCountries[],3,0)","v":"North Amer."},{"$f":"VLOOKUP(tblSalaries[[#This Row],[How many hours of a day you work on Excel]],tblHours,2,0)","v":4},{"$f":"VLOOKUP(tblSalaries[[#This Row],[clean Country]],tblCountries[],5,0)","v":1},{"$f":"IF($Q$1,tblSalaries[[#This Row],[PPP Factor]]*tblSalaries[[#This Row],[Salary in USD]],tblSalaries[[#This Row],[Salary in USD]])","v":54000}]
[null,"ID1873","2012-06-16T05:23:03",38666,38666,"USD",{"$f":"tblSalaries[[#This Row],[clean Salary (in local currency)]]*VLOOKUP(tblSalaries[[#This Row],[Currency]],tblXrate[],2,FALSE)","v":38666},"Actuarial Specialist","Specialist","South Africa",{"$f":"VLOOKUP(tblSalaries[[#This Row],[Where do you work]],tblCountries[[Actual]:[Mapping]],2,FALSE)","v":"South Africa"},"All the 8 hours baby, all the 8!",10,{"$f":"VLOOKUP(K1832,tblCountries[],3,0)","v":"Africa"},{"$f":"VLOOKUP(tblSalaries[[#This Row],[How many hours of a day you work on Excel]],tblHours,2,0)","v":5},{"$f":"VLOOKUP(tblSalaries[[#This Row],[clean Country]],tblCountries[],5,0)","v":4.4096418481727877},{"$f":"IF($Q$1,tblSalaries[[#This Row],[PPP Factor]]*tblSalaries[[#This Row],[Salary in USD]],tblSalaries[[#This Row],[Salary in USD]])","v":38666}]
[null,"ID1874","2012-06-16T06:17:53",63000,63000,"USD",{"$f":"tblSalaries[[#This Row],[clean Salary (in local currency)]]*VLOOKUP(tblSalaries[[#This Row],[Currency]],tblXrate[],2,FALSE)","v":63000},"Marketing Database Analyst","Analyst","USA",{"$f":"VLOOKUP(tblSalaries[[#This Row],[Where do you work]],tblCountries[[Actual]:[Mapping]],2,FALSE)","v":"USA"},"4 to 6 hours a day",6,{"$f":"VLOOKUP(K1833,tblCountries[],3,0)","v":"North Amer."},{"$f":"VLOOKUP(tblSalaries[[#This Row],[How many hours of a day you work on Excel]],tblHours,2,0)","v":4},{"$f":"VLOOKUP(tblSalaries[[#This Row],[clean Country]],tblCountries[],5,0)","v":1},{"$f":"IF($Q$1,tblSalaries[[#This Row],[PPP Factor]]*tblSalaries[[#This Row],[Salary in USD]],tblSalaries[[#This Row],[Salary in USD]])","v":63000}]
[null,"ID1875","2012-06-16T08:10:59","63000 USD",63000,"USD",{"$f":"tblSalaries[[#This Row],[clean Salary (in local currency)]]*VLOOKUP(tblSalaries[[#This Row],[Currency]],tblXrate[],2,FALSE)","v":63000},"Financial Analyst","Analyst","USA",{"$f":"VLOOKUP(tblSalaries[[#This Row],[Where do you work]],tblCountries[[Actual]:[Mapping]],2,FALSE)","v":"USA"},"All the 8 hours baby, all the 8!",1,{"$f":"VLOOKUP(K1834,tblCountries[],3,0)","v":"North Amer."},{"$f":"VLOOKUP(tblSalaries[[#This Row],[How many hours of a day you work on Excel]],tblHours,2,0)","v":5},{"$f":"VLOOKUP(tblSalaries[[#This Row],[clean Country]],tblCountries[],5,0)","v":1},{"$f":"IF($Q$1,tblSalaries[[#This Row],[PPP Factor]]*tblSalaries[[#This Row],[Salary in USD]],tblSalaries[[#This Row],[Salary in USD]])","v":63000}]
[null,"ID1876","2012-06-16T14:10:51","INR 360000",360000,"INR",{"$f":"tblSalaries[[#This Row],[clean Salary (in local currency)]]*VLOOKUP(tblSalaries[[#This Row],[Currency]],tblXrate[],2,FALSE)","v":6410.8500074793246},"Analyst","Analyst","India",{"$f":"VLOOKUP(tblSalaries[[#This Row],[Where do you work]],tblCountries[[Actual]:[Mapping]],2,FALSE)","v":"India"},"All the 8 hours baby, all the 8!",2,{"$f":"VLOOKUP(K1835,tblCountries[],3,0)","v":"Asia"},{"$f":"VLOOKUP(tblSalaries[[#This Row],[How many hours of a day you work on Excel]],tblHours,2,0)","v":5},{"$f":"VLOOKUP(tblSalaries[[#This Row],[clean Country]],tblCountries[],5,0)","v":13.098808879263672},{"$f":"IF($Q$1,tblSalaries[[#This Row],[PPP Factor]]*tblSalaries[[#This Row],[Salary in USD]],tblSalaries[[#This Row],[Salary in USD]])","v":6410.8500074793246}]
[null,"ID1877","2012-06-16T17:07:45","INR 50000",600000,"INR",{"$f":"tblSalaries[[#This Row],[clean Salary (in local currency)]]*VLOOKUP(tblSalaries[[#This Row],[Currency]],tblXrate[],2,FALSE)","v":10684.750012465542},"Manager- Customer Support","Manager","India",{"$f":"VLOOKUP(tblSalaries[[#This Row],[Where do you work]],tblCountries[[Actual]:[Mapping]],2,FALSE)","v":"India"},"4 to 6 hours a day",12,{"$f":"VLOOKUP(K1836,tblCountries[],3,0)","v":"Asia"},{"$f":"VLOOKUP(tblSalaries[[#This Row],[How many hours of a day you work on Excel]],tblHours,2,0)","v":4},{"$f":"VLOOKUP(tblSalaries[[#This Row],[clean Country]],tblCountries[],5,0)","v":13.098808879263672},{"$f":"IF($Q$1,tblSalaries[[#This Row],[PPP Factor]]*tblSalaries[[#This Row],[Salary in USD]],tblSalaries[[#This Row],[Salary in USD]])","v":10684.750012465542}]
[null,"ID1878","2012-06-16T17:14:03",40000,40000,"USD",{"$f":"tblSalaries[[#This Row],[clean Salary (in local currency)]]*VLOOKUP(tblSalaries[[#This Row],[Currency]],tblXrate[],2,FALSE)","v":40000},"Assistant Manager","Manager","India",{"$f":"VLOOKUP(tblSalaries[[#This Row],[Where do you work]],tblCountries[[Actual]:[Mapping]],2,FALSE)","v":"India"},"4 to 6 hours a day",5,{"$f":"VLOOKUP(K1837,tblCountries[],3,0)","v":"Asia"},{"$f":"VLOOKUP(tblSalaries[[#This Row],[How many hours of a day you work on Excel]],tblHours,2,0)","v":4},{"$f":"VLOOKUP(tblSalaries[[#This Row],[clean Country]],tblCountries[],5,0)","v":13.098808879263672},{"$f":"IF($Q$1,tblSalaries[[#This Row],[PPP Factor]]*tblSalaries[[#This Row],[Salary in USD]],tblSalaries[[#This Row],[Salary in USD]])","v":40000}]
[null,"ID1879","2012-06-16T17:49:27","3.5 lac",350000,"INR",{"$f":"tblSalaries[[#This Row],[clean Salary (in local currency)]]*VLOOKUP(tblSalaries[[#This Row],[Currency]],tblXrate[],2,FALSE)","v":6232.7708406048987},"Analyst","Analyst","India",{"$f":"VLOOKUP(tblSalaries[[#This Row],[Where do you work]],tblCountries[[Actual]:[Mapping]],2,FALSE)","v":"India"},"4 to 6 hours a day",6,{"$f":"VLOOKUP(K1838,tblCountries[],3,0)","v":"Asia"},{"$f":"VLOOKUP(tblSalaries[[#This Row],[How many hours of a day you work on Excel]],tblHours,2,0)","v":4},{"$f":"VLOOKUP(tblSalaries[[#This Row],[clean Country]],tblCountries[],5,0)","v":13.098808879263672},{"$f":"IF($Q$1,tblSalaries[[#This Row],[PPP Factor]]*tblSalaries[[#This Row],[Salary in USD]],tblSalaries[[#This Row],[Salary in USD]])","v":6232.7708406048987}]
[null,"ID1880","2012-06-16T18:31:59",2342342,2342342,"INR",{"$f":"tblSalaries[[#This Row],[clean Salary (in local currency)]]*VLOOKUP(tblSalaries[[#This Row],[Currency]],tblXrate[],2,FALSE)","v":41712.231189497601},"3r23regedf","Misc.","India",{"$f":"VLOOKUP(tblSalaries[[#This Row],[Where do you work]],tblCountries[[Actual]:[Mapping]],2,FALSE)","v":"India"},"2 to 3 hours per day",12,{"$f":"VLOOKUP(K1839,tblCountries[],3,0)","v":"Asia"},{"$f":"VLOOKUP(tblSalaries[[#This Row],[How many hours of a day you work on Excel]],tblHours,2,0)","v":3},{"$f":"VLOOKUP(tblSalaries[[#This Row],[clean Country]],tblCountries[],5,0)","v":13.098808879263672},{"$f":"IF($Q$1,tblSalaries[[#This Row],[PPP Factor]]*tblSalaries[[#This Row],[Salary in USD]],tblSalaries[[#This Row],[Salary in USD]])","v":41712.231189497601}]
[null,"ID1881","2012-06-16T18:33:25","Rs. 700000",700000,"INR",{"$f":"tblSalaries[[#This Row],[clean Salary (in local currency)]]*VLOOKUP(tblSalaries[[#This Row],[Currency]],tblXrate[],2,FALSE)","v":12465.541681209797},"Revenue Focus Manager","Manager","India",{"$f":"VLOOKUP(tblSalaries[[#This Row],[Where do you work]],tblCountries[[Actual]:[Mapping]],2,FALSE)","v":"India"},"2 to 3 hours per day",9,{"$f":"VLOOKUP(K1840,tblCountries[],3,0)","v":"Asia"},{"$f":"VLOOKUP(tblSalaries[[#This Row],[How many hours of a day you work on Excel]],tblHours,2,0)","v":3},{"$f":"VLOOKUP(tblSalaries[[#This Row],[clean Country]],tblCountries[],5,0)","v":13.098808879263672},{"$f":"IF($Q$1,tblSalaries[[#This Row],[PPP Factor]]*tblSalaries[[#This Row],[Salary in USD]],tblSalaries[[#This Row],[Salary in USD]])","v":12465.541681209797}]
[null,"ID1882","2012-06-16T22:24:30",20500,20500,"GBP",{"$f":"tblSalaries[[#This Row],[clean Salary (in local currency)]]*VLOOKUP(tblSalaries[[#This Row],[Currency]],tblXrate[],2,FALSE)","v":32311.654577379326},"analyst","Analyst","UK",{"$f":"VLOOKUP(tblSalaries[[#This Row],[Where do you work]],tblCountries[[Actual]:[Mapping]],2,FALSE)","v":"UK"},"4 to 6 hours a day",20,{"$f":"VLOOKUP(K1841,tblCountries[],3,0)","v":"Europe"},{"$f":"VLOOKUP(tblSalaries[[#This Row],[How many hours of a day you work on Excel]],tblHours,2,0)","v":4},{"$f":"VLOOKUP(tblSalaries[[#This Row],[clean Country]],tblCountries[],5,0)","v":1.3407315045719035},{"$f":"IF($Q$1,tblSalaries[[#This Row],[PPP Factor]]*tblSalaries[[#This Row],[Salary in USD]],tblSalaries[[#This Row],[Salary in USD]])","v":32311.654577379326}]
[null,"ID1883","2012-06-17T01:34:46","4,00,000",400000,"INR",{"$f":"tblSalaries[[#This Row],[clean Salary (in local currency)]]*VLOOKUP(tblSalaries[[#This Row],[Currency]],tblXrate[],2,FALSE)","v":7123.1666749770275},"technical analyst","Analyst","India",{"$f":"VLOOKUP(tblSalaries[[#This Row],[Where do you work]],tblCountries[[Actual]:[Mapping]],2,FALSE)","v":"India"},"1 or 2 hours a day",2,{"$f":"VLOOKUP(K1842,tblCountries[],3,0)","v":"Asia"},{"$f":"VLOOKUP(tblSalaries[[#This Row],[How many hours of a day you work on Excel]],tblHours,2,0)","v":2},{"$f":"VLOOKUP(tblSalaries[[#This Row],[clean Country]],tblCountries[],5,0)","v":13.098808879263672},{"$f":"IF($Q$1,tblSalaries[[#This Row],[PPP Factor]]*tblSalaries[[#This Row],[Salary in USD]],tblSalaries[[#This Row],[Salary in USD]])","v":7123.1666749770275}]
[null,"ID1884","2012-06-17T04:02:00","US$100,000",100000,"USD",{"$f":"tblSalaries[[#This Row],[clean Salary (in local currency)]]*VLOOKUP(tblSalaries[[#This Row],[Currency]],tblXrate[],2,FALSE)","v":100000},"Senior Manager MIS","Manager","UAE",{"$f":"VLOOKUP(tblSalaries[[#This Row],[Where do you work]],tblCountries[[Actual]:[Mapping]],2,FALSE)","v":"UAE"},"All the 8 hours baby, all the 8!",15,{"$f":"VLOOKUP(K1843,tblCountries[],3,0)","v":"Asia"},{"$f":"VLOOKUP(tblSalaries[[#This Row],[How many hours of a day you work on Excel]],tblHours,2,0)","v":5},{"$f":"VLOOKUP(tblSalaries[[#This Row],[clean Country]],tblCountries[],5,0)","v":1.0047551808629926},{"$f":"IF($Q$1,tblSalaries[[#This Row],[PPP Factor]]*tblSalaries[[#This Row],[Salary in USD]],tblSalaries[[#This Row],[Salary in USD]])","v":100000}]
[null,"ID1885","2012-06-17T11:38:53",75000,75000,"NZD",{"$f":"tblSalaries[[#This Row],[clean Salary (in local currency)]]*VLOOKUP(tblSalaries[[#This Row],[Currency]],tblXrate[],2,FALSE)","v":59819.107020370408},"Commercial Accountant","Accountant","New Zealand",{"$f":"VLOOKUP(tblSalaries[[#This Row],[Where do you work]],tblCountries[[Actual]:[Mapping]],2,FALSE)","v":"New Zealand"},"4 to 6 hours a day",4,{"$f":"VLOOKUP(K1844,tblCountries[],3,0)","v":"Oceania"},{"$f":"VLOOKUP(tblSalaries[[#This Row],[How many hours of a day you work on Excel]],tblHours,2,0)","v":4},{"$f":"VLOOKUP(tblSalaries[[#This Row],[clean Country]],tblCountries[],5,0)","v":1.7488434292323261},{"$f":"IF($Q$1,tblSalaries[[#This Row],[PPP Factor]]*tblSalaries[[#This Row],[Salary in USD]],tblSalaries[[#This Row],[Salary in USD]])","v":59819.107020370408}]
[null,"ID1886","2012-06-17T12:00:57",25000,25000,"USD",{"$f":"tblSalaries[[#This Row],[clean Salary (in local currency)]]*VLOOKUP(tblSalaries[[#This Row],[Currency]],tblXrate[],2,FALSE)","v":25000},"Data Analyst","Analyst","India",{"$f":"VLOOKUP(tblSalaries[[#This Row],[Where do you work]],tblCountries[[Actual]:[Mapping]],2,FALSE)","v":"India"},"All the 8 hours baby, all the 8!",1.5,{"$f":"VLOOKUP(K1845,tblCountries[],3,0)","v":"Asia"},{"$f":"VLOOKUP(tblSalaries[[#This Row],[How many hours of a day you work on Excel]],tblHours,2,0)","v":5},{"$f":"VLOOKUP(tblSalaries[[#This Row],[clean Country]],tblCountries[],5,0)","v":13.098808879263672},{"$f":"IF($Q$1,tblSalaries[[#This Row],[PPP Factor]]*tblSalaries[[#This Row],[Salary in USD]],tblSalaries[[#This Row],[Salary in USD]])","v":25000}]
[null,"ID1887","2012-06-17T12:48:52",5000,5000,"USD",{"$f":"tblSalaries[[#This Row],[clean Salary (in local currency)]]*VLOOKUP(tblSalaries[[#This Row],[Currency]],tblXrate[],2,FALSE)","v":5000},"admin","Analyst","India",{"$f":"VLOOKUP(tblSalaries[[#This Row],[Where do you work]],tblCountries[[Actual]:[Mapping]],2,FALSE)","v":"India"},"2 to 3 hours per day",10,{"$f":"VLOOKUP(K1846,tblCountries[],3,0)","v":"Asia"},{"$f":"VLOOKUP(tblSalaries[[#This Row],[How many hours of a day you work on Excel]],tblHours,2,0)","v":3},{"$f":"VLOOKUP(tblSalaries[[#This Row],[clean Country]],tblCountries[],5,0)","v":13.098808879263672},{"$f":"IF($Q$1,tblSalaries[[#This Row],[PPP Factor]]*tblSalaries[[#This Row],[Salary in USD]],tblSalaries[[#This Row],[Salary in USD]])","v":5000}]
[null,"ID1888","2012-06-17T13:26:38","AUD63000",63000,"AUD",{"$f":"tblSalaries[[#This Row],[clean Salary (in local currency)]]*VLOOKUP(tblSalaries[[#This Row],[Currency]],tblXrate[],2,FALSE)","v":64254.308353366054},"Financial Modelling adviser","Accountant","Australia",{"$f":"VLOOKUP(tblSalaries[[#This Row],[Where do you work]],tblCountries[[Actual]:[Mapping]],2,FALSE)","v":"Australia"},"All the 8 hours baby, all the 8!",3,{"$f":"VLOOKUP(K1847,tblCountries[],3,0)","v":"Oceania"},{"$f":"VLOOKUP(tblSalaries[[#This Row],[How many hours of a day you work on Excel]],tblHours,2,0)","v":5},{"$f":"VLOOKUP(tblSalaries[[#This Row],[clean Country]],tblCountries[],5,0)","v":1.2026395585822935},{"$f":"IF($Q$1,tblSalaries[[#This Row],[PPP Factor]]*tblSalaries[[#This Row],[Salary in USD]],tblSalaries[[#This Row],[Salary in USD]])","v":64254.308353366054}]
[null,"ID1889","2012-06-17T16:01:50",60000,60000,"EUR",{"$f":"tblSalaries[[#This Row],[clean Salary (in local currency)]]*VLOOKUP(tblSalaries[[#This Row],[Currency]],tblXrate[],2,FALSE)","v":76223.966339496474},"pm","Manager","Germany",{"$f":"VLOOKUP(tblSalaries[[#This Row],[Where do you work]],tblCountries[[Actual]:[Mapping]],2,FALSE)","v":"Germany"},"4 to 6 hours a day",6,{"$f":"VLOOKUP(K1848,tblCountries[],3,0)","v":"Europe"},{"$f":"VLOOKUP(tblSalaries[[#This Row],[How many hours of a day you work on Excel]],tblHours,2,0)","v":4},{"$f":"VLOOKUP(tblSalaries[[#This Row],[clean Country]],tblCountries[],5,0)","v":1.276802913159353},{"$f":"IF($Q$1,tblSalaries[[#This Row],[PPP Factor]]*tblSalaries[[#This Row],[Salary in USD]],tblSalaries[[#This Row],[Salary in USD]])","v":76223.966339496474}]
[null,"ID1890","2012-06-18T05:42:18",600000,600000,"DKK",{"$f":"tblSalaries[[#This Row],[clean Salary (in local currency)]]*VLOOKUP(tblSalaries[[#This Row],[Currency]],tblXrate[],2,FALSE)","v":102542.54233725216},"Engineer","Engineer","DK",{"$f":"VLOOKUP(tblSalaries[[#This Row],[Where do you work]],tblCountries[[Actual]:[Mapping]],2,FALSE)","v":"Denmark"},"2 to 3 hours per day",20,{"$f":"VLOOKUP(K1849,tblCountries[],3,0)","v":"Europe"},{"$f":"VLOOKUP(tblSalaries[[#This Row],[How many hours of a day you work on Excel]],tblHours,2,0)","v":3},{"$f":"VLOOKUP(tblSalaries[[#This Row],[clean Country]],tblCountries[],5,0)","v":1.3024063307493541},{"$f":"IF($Q$1,tblSalaries[[#This Row],[PPP Factor]]*tblSalaries[[#This Row],[Salary in USD]],tblSalaries[[#This Row],[Salary in USD]])","v":102542.54233725216}]
[null,"ID1891","2012-06-18T06:14:35",46000,46000,"USD",{"$f":"tblSalaries[[#This Row],[clean Salary (in local currency)]]*VLOOKUP(tblSalaries[[#This Row],[Currency]],tblXrate[],2,FALSE)","v":46000},"AML Analyst","Analyst","USA",{"$f":"VLOOKUP(tblSalaries[[#This Row],[Where do you work]],tblCountries[[Actual]:[Mapping]],2,FALSE)","v":"USA"},"All the 8 hours baby, all the 8!",1,{"$f":"VLOOKUP(K1850,tblCountries[],3,0)","v":"North Amer."},{"$f":"VLOOKUP(tblSalaries[[#This Row],[How many hours of a day you work on Excel]],tblHours,2,0)","v":5},{"$f":"VLOOKUP(tblSalaries[[#This Row],[clean Country]],tblCountries[],5,0)","v":1},{"$f":"IF($Q$1,tblSalaries[[#This Row],[PPP Factor]]*tblSalaries[[#This Row],[Salary in USD]],tblSalaries[[#This Row],[Salary in USD]])","v":46000}]
[null,"ID1892","2012-06-18T08:19:01",5000,5000,"USD",{"$f":"tblSalaries[[#This Row],[clean Salary (in local currency)]]*VLOOKUP(tblSalaries[[#This Row],[Currency]],tblXrate[],2,FALSE)","v":5000},"analyst ","Analyst","India",{"$f":"VLOOKUP(tblSalaries[[#This Row],[Where do you work]],tblCountries[[Actual]:[Mapping]],2,FALSE)","v":"India"},"All the 8 hours baby, all the 8!",2,{"$f":"VLOOKUP(K1851,tblCountries[],3,0)","v":"Asia"},{"$f":"VLOOKUP(tblSalaries[[#This Row],[How many hours of a day you work on Excel]],tblHours,2,0)","v":5},{"$f":"VLOOKUP(tblSalaries[[#This Row],[clean Country]],tblCountries[],5,0)","v":13.098808879263672},{"$f":"IF($Q$1,tblSalaries[[#This Row],[PPP Factor]]*tblSalaries[[#This Row],[Salary in USD]],tblSalaries[[#This Row],[Salary in USD]])","v":5000}]
[null,"ID1893","2012-06-18T14:27:59","$AUD 76300",76300,"AUD",{"$f":"tblSalaries[[#This Row],[clean Salary (in local currency)]]*VLOOKUP(tblSalaries[[#This Row],[Currency]],tblXrate[],2,FALSE)","v":77819.106783521114},"Operations Analyst","Analyst","Australia",{"$f":"VLOOKUP(tblSalaries[[#This Row],[Where do you work]],tblCountries[[Actual]:[Mapping]],2,FALSE)","v":"Australia"},"All the 8 hours baby, all the 8!",3,{"$f":"VLOOKUP(K1852,tblCountries[],3,0)","v":"Oceania"},{"$f":"VLOOKUP(tblSalaries[[#This Row],[How many hours of a day you work on Excel]],tblHours,2,0)","v":5},{"$f":"VLOOKUP(tblSalaries[[#This Row],[clean Country]],tblCountries[],5,0)","v":1.2026395585822935},{"$f":"IF($Q$1,tblSalaries[[#This Row],[PPP Factor]]*tblSalaries[[#This Row],[Salary in USD]],tblSalaries[[#This Row],[Salary in USD]])","v":77819.106783521114}]
[null,"ID1894","2012-06-18T17:51:52","Rs. 350000",350000,"INR",{"$f":"tblSalaries[[#This Row],[clean Salary (in local currency)]]*VLOOKUP(tblSalaries[[#This Row],[Currency]],tblXrate[],2,FALSE)","v":6232.7708406048987},"manager purchase","Manager","India",{"$f":"VLOOKUP(tblSalaries[[#This Row],[Where do you work]],tblCountries[[Actual]:[Mapping]],2,FALSE)","v":"India"},"2 to 3 hours per day",27,{"$f":"VLOOKUP(K1853,tblCountries[],3,0)","v":"Asia"},{"$f":"VLOOKUP(tblSalaries[[#This Row],[How many hours of a day you work on Excel]],tblHours,2,0)","v":3},{"$f":"VLOOKUP(tblSalaries[[#This Row],[clean Country]],tblCountries[],5,0)","v":13.098808879263672},{"$f":"IF($Q$1,tblSalaries[[#This Row],[PPP Factor]]*tblSalaries[[#This Row],[Salary in USD]],tblSalaries[[#This Row],[Salary in USD]])","v":6232.7708406048987}]
[null,"ID1895","2012-06-18T18:26:47","Â£35000",35000,"GBP",{"$f":"tblSalaries[[#This Row],[clean Salary (in local currency)]]*VLOOKUP(tblSalaries[[#This Row],[Currency]],tblXrate[],2,FALSE)","v":55166.239522354947},"Process Analyst","Analyst","UK",{"$f":"VLOOKUP(tblSalaries[[#This Row],[Where do you work]],tblCountries[[Actual]:[Mapping]],2,FALSE)","v":"UK"},"All the 8 hours baby, all the 8!",34,{"$f":"VLOOKUP(K1854,tblCountries[],3,0)","v":"Europe"},{"$f":"VLOOKUP(tblSalaries[[#This Row],[How many hours of a day you work on Excel]],tblHours,2,0)","v":5},{"$f":"VLOOKUP(tblSalaries[[#This Row],[clean Country]],tblCountries[],5,0)","v":1.3407315045719035},{"$f":"IF($Q$1,tblSalaries[[#This Row],[PPP Factor]]*tblSalaries[[#This Row],[Salary in USD]],tblSalaries[[#This Row],[Salary in USD]])","v":55166.239522354947}]
[null,"ID1896","2012-06-19T00:23:24",45000,45000,"USD",{"$f":"tblSalaries[[#This Row],[clean Salary (in local currency)]]*VLOOKUP(tblSalaries[[#This Row],[Currency]],tblXrate[],2,FALSE)","v":45000},"Senior Accountant","Accountant","USA",{"$f":"VLOOKUP(tblSalaries[[#This Row],[Where do you work]],tblCountries[[Actual]:[Mapping]],2,FALSE)","v":"USA"},"2 to 3 hours per day",5,{"$f":"VLOOKUP(K1855,tblCountries[],3,0)","v":"North Amer."},{"$f":"VLOOKUP(tblSalaries[[#This Row],[How many hours of a day you work on Excel]],tblHours,2,0)","v":3},{"$f":"VLOOKUP(tblSalaries[[#This Row],[clean Country]],tblCountries[],5,0)","v":1},{"$f":"IF($Q$1,tblSalaries[[#This Row],[PPP Factor]]*tblSalaries[[#This Row],[Salary in USD]],tblSalaries[[#This Row],[Salary in USD]])","v":45000}]
[null,"ID1897","2012-06-19T01:49:49","60k usd",60000,"USD",{"$f":"tblSalaries[[#This Row],[clean Salary (in local currency)]]*VLOOKUP(tblSalaries[[#This Row],[Currency]],tblXrate[],2,FALSE)","v":60000},"buyer","Manager","Canada",{"$f":"VLOOKUP(tblSalaries[[#This Row],[Where do you work]],tblCountries[[Actual]:[Mapping]],2,FALSE)","v":"Canada"},"2 to 3 hours per day",10,{"$f":"VLOOKUP(K1856,tblCountries[],3,0)","v":"North Amer."},{"$f":"VLOOKUP(tblSalaries[[#This Row],[How many hours of a day you work on Excel]],tblHours,2,0)","v":3},{"$f":"VLOOKUP(tblSalaries[[#This Row],[clean Country]],tblCountries[],5,0)","v":1.1935324732986359},{"$f":"IF($Q$1,tblSalaries[[#This Row],[PPP Factor]]*tblSalaries[[#This Row],[Salary in USD]],tblSalaries[[#This Row],[Salary in USD]])","v":60000}]
[null,"ID1898","2012-06-19T03:25:34",43000,43000,"USD",{"$f":"tblSalaries[[#This Row],[clean Salary (in local currency)]]*VLOOKUP(tblSalaries[[#This Row],[Currency]],tblXrate[],2,FALSE)","v":43000},"Performance Improvement Analyst","Analyst","USA",{"$f":"VLOOKUP(tblSalaries[[#This Row],[Where do you work]],tblCountries[[Actual]:[Mapping]],2,FALSE)","v":"USA"},"4 to 6 hours a day",5,{"$f":"VLOOKUP(K1857,tblCountries[],3,0)","v":"North Amer."},{"$f":"VLOOKUP(tblSalaries[[#This Row],[How many hours of a day you work on Excel]],tblHours,2,0)","v":4},{"$f":"VLOOKUP(tblSalaries[[#This Row],[clean Country]],tblCountries[],5,0)","v":1},{"$f":"IF($Q$1,tblSalaries[[#This Row],[PPP Factor]]*tblSalaries[[#This Row],[Salary in USD]],tblSalaries[[#This Row],[Salary in USD]])","v":43000}]
[null,"ID1899","2012-06-19T04:55:06",28000,28000,"EUR",{"$f":"tblSalaries[[#This Row],[clean Salary (in local currency)]]*VLOOKUP(tblSalaries[[#This Row],[Currency]],tblXrate[],2,FALSE)","v":35571.184291765021},"controller","Controller","Spain",{"$f":"VLOOKUP(tblSalaries[[#This Row],[Where do you work]],tblCountries[[Actual]:[Mapping]],2,FALSE)","v":"Spain"},"4 to 6 hours a day",8,{"$f":"VLOOKUP(K1858,tblCountries[],3,0)","v":"Europe"},{"$f":"VLOOKUP(tblSalaries[[#This Row],[How many hours of a day you work on Excel]],tblHours,2,0)","v":4},{"$f":"VLOOKUP(tblSalaries[[#This Row],[clean Country]],tblCountries[],5,0)","v":1.5799320838503232},{"$f":"IF($Q$1,tblSalaries[[#This Row],[PPP Factor]]*tblSalaries[[#This Row],[Salary in USD]],tblSalaries[[#This Row],[Salary in USD]])","v":35571.184291765021}]
[null,"ID1900","2012-06-19T06:50:47",48000,48000,"USD",{"$f":"tblSalaries[[#This Row],[clean Salary (in local currency)]]*VLOOKUP(tblSalaries[[#This Row],[Currency]],tblXrate[],2,FALSE)","v":48000},"Inventory Analyst","Analyst","USA",{"$f":"VLOOKUP(tblSalaries[[#This Row],[Where do you work]],tblCountries[[Actual]:[Mapping]],2,FALSE)","v":"USA"},"4 to 6 hours a day",12,{"$f":"VLOOKUP(K1859,tblCountries[],3,0)","v":"North Amer."},{"$f":"VLOOKUP(tblSalaries[[#This Row],[How many hours of a day you work on Excel]],tblHours,2,0)","v":4},{"$f":"VLOOKUP(tblSalaries[[#This Row],[clean Country]],tblCountries[],5,0)","v":1},{"$f":"IF($Q$1,tblSalaries[[#This Row],[PPP Factor]]*tblSalaries[[#This Row],[Salary in USD]],tblSalaries[[#This Row],[Salary in USD]])","v":48000}]
[null,"ID1901","2012-06-19T07:59:00",120000,120000,"AUD",{"$f":"tblSalaries[[#This Row],[clean Salary (in local currency)]]*VLOOKUP(tblSalaries[[#This Row],[Currency]],tblXrate[],2,FALSE)","v":122389.15876831629},"Manager","Manager","Australia",{"$f":"VLOOKUP(tblSalaries[[#This Row],[Where do you work]],tblCountries[[Actual]:[Mapping]],2,FALSE)","v":"Australia"},"1 or 2 hours a day",8,{"$f":"VLOOKUP(K1860,tblCountries[],3,0)","v":"Oceania"},{"$f":"VLOOKUP(tblSalaries[[#This Row],[How many hours of a day you work on Excel]],tblHours,2,0)","v":2},{"$f":"VLOOKUP(tblSalaries[[#This Row],[clean Country]],tblCountries[],5,0)","v":1.2026395585822935},{"$f":"IF($Q$1,tblSalaries[[#This Row],[PPP Factor]]*tblSalaries[[#This Row],[Salary in USD]],tblSalaries[[#This Row],[Salary in USD]])","v":122389.15876831629}]
[null,"ID1902","2012-06-19T12:39:16",4000,4000,"USD",{"$f":"tblSalaries[[#This Row],[clean Salary (in local currency)]]*VLOOKUP(tblSalaries[[#This Row],[Currency]],tblXrate[],2,FALSE)","v":4000},"operator","Analyst","India",{"$f":"VLOOKUP(tblSalaries[[#This Row],[Where do you work]],tblCountries[[Actual]:[Mapping]],2,FALSE)","v":"India"},"2 to 3 hours per day",4,{"$f":"VLOOKUP(K1861,tblCountries[],3,0)","v":"Asia"},{"$f":"VLOOKUP(tblSalaries[[#This Row],[How many hours of a day you work on Excel]],tblHours,2,0)","v":3},{"$f":"VLOOKUP(tblSalaries[[#This Row],[clean Country]],tblCountries[],5,0)","v":13.098808879263672},{"$f":"IF($Q$1,tblSalaries[[#This Row],[PPP Factor]]*tblSalaries[[#This Row],[Salary in USD]],tblSalaries[[#This Row],[Salary in USD]])","v":4000}]
[null,"ID1903","2012-06-19T15:15:38",250000,250000,"INR",{"$f":"tblSalaries[[#This Row],[clean Salary (in local currency)]]*VLOOKUP(tblSalaries[[#This Row],[Currency]],tblXrate[],2,FALSE)","v":4451.9791718606421},"MIS EXECUTIVE","Reporting","India",{"$f":"VLOOKUP(tblSalaries[[#This Row],[Where do you work]],tblCountries[[Actual]:[Mapping]],2,FALSE)","v":"India"},"4 to 6 hours a day",3,{"$f":"VLOOKUP(K1862,tblCountries[],3,0)","v":"Asia"},{"$f":"VLOOKUP(tblSalaries[[#This Row],[How many hours of a day you work on Excel]],tblHours,2,0)","v":4},{"$f":"VLOOKUP(tblSalaries[[#This Row],[clean Country]],tblCountries[],5,0)","v":13.098808879263672},{"$f":"IF($Q$1,tblSalaries[[#This Row],[PPP Factor]]*tblSalaries[[#This Row],[Salary in USD]],tblSalaries[[#This Row],[Salary in USD]])","v":4451.9791718606421}]
[null,"ID1904","2012-06-19T17:01:38","52,224.00ETB",52224,"ETB",{"$f":"tblSalaries[[#This Row],[clean Salary (in local currency)]]*VLOOKUP(tblSalaries[[#This Row],[Currency]],tblXrate[],2,FALSE)","v":2953.8461538461538},"Project Costing &Dashboard reporting","Reporting","Ethiopia",{"$f":"VLOOKUP(tblSalaries[[#This Row],[Where do you work]],tblCountries[[Actual]:[Mapping]],2,FALSE)","v":"Ethiopia"},"4 to 6 hours a day",3,{"$f":"VLOOKUP(K1863,tblCountries[],3,0)","v":"Africa"},{"$f":"VLOOKUP(tblSalaries[[#This Row],[How many hours of a day you work on Excel]],tblHours,2,0)","v":4},{"$f":"VLOOKUP(tblSalaries[[#This Row],[clean Country]],tblCountries[],5,0)","v":44.269899359560839},{"$f":"IF($Q$1,tblSalaries[[#This Row],[PPP Factor]]*tblSalaries[[#This Row],[Salary in USD]],tblSalaries[[#This Row],[Salary in USD]])","v":2953.8461538461538}]
[null,"ID1905","2012-06-19T18:17:42",25000,25000,"GBP",{"$f":"tblSalaries[[#This Row],[clean Salary (in local currency)]]*VLOOKUP(tblSalaries[[#This Row],[Currency]],tblXrate[],2,FALSE)","v":39404.456801682099},"Data Analyst","Analyst","UK",{"$f":"VLOOKUP(tblSalaries[[#This Row],[Where do you work]],tblCountries[[Actual]:[Mapping]],2,FALSE)","v":"UK"},"4 to 6 hours a day",3,{"$f":"VLOOKUP(K1864,tblCountries[],3,0)","v":"Europe"},{"$f":"VLOOKUP(tblSalaries[[#This Row],[How many hours of a day you work on Excel]],tblHours,2,0)","v":4},{"$f":"VLOOKUP(tblSalaries[[#This Row],[clean Country]],tblCountries[],5,0)","v":1.3407315045719035},{"$f":"IF($Q$1,tblSalaries[[#This Row],[PPP Factor]]*tblSalaries[[#This Row],[Salary in USD]],tblSalaries[[#This Row],[Salary in USD]])","v":39404.456801682099}]
[null,"ID1906","2012-06-19T19:33:25",74000,74000,"AUD",{"$f":"tblSalaries[[#This Row],[clean Salary (in local currency)]]*VLOOKUP(tblSalaries[[#This Row],[Currency]],tblXrate[],2,FALSE)","v":75473.31457379504},"Systems Analyst","Analyst","Australia",{"$f":"VLOOKUP(tblSalaries[[#This Row],[Where do you work]],tblCountries[[Actual]:[Mapping]],2,FALSE)","v":"Australia"},"4 to 6 hours a day",8,{"$f":"VLOOKUP(K1865,tblCountries[],3,0)","v":"Oceania"},{"$f":"VLOOKUP(tblSalaries[[#This Row],[How many hours of a day you work on Excel]],tblHours,2,0)","v":4},{"$f":"VLOOKUP(tblSalaries[[#This Row],[clean Country]],tblCountries[],5,0)","v":1.2026395585822935},{"$f":"IF($Q$1,tblSalaries[[#This Row],[PPP Factor]]*tblSalaries[[#This Row],[Salary in USD]],tblSalaries[[#This Row],[Salary in USD]])","v":75473.31457379504}]
[null,"ID1907","2012-06-19T20:16:30",750000,750000,"INR",{"$f":"tblSalaries[[#This Row],[clean Salary (in local currency)]]*VLOOKUP(tblSalaries[[#This Row],[Currency]],tblXrate[],2,FALSE)","v":13355.937515581925},"Analyst","Analyst","India",{"$f":"VLOOKUP(tblSalaries[[#This Row],[Where do you work]],tblCountries[[Actual]:[Mapping]],2,FALSE)","v":"India"},"4 to 6 hours a day",5,{"$f":"VLOOKUP(K1866,tblCountries[],3,0)","v":"Asia"},{"$f":"VLOOKUP(tblSalaries[[#This Row],[How many hours of a day you work on Excel]],tblHours,2,0)","v":4},{"$f":"VLOOKUP(tblSalaries[[#This Row],[clean Country]],tblCountries[],5,0)","v":13.098808879263672},{"$f":"IF($Q$1,tblSalaries[[#This Row],[PPP Factor]]*tblSalaries[[#This Row],[Salary in USD]],tblSalaries[[#This Row],[Salary in USD]])","v":13355.937515581925}]
[null,"ID1908","2012-06-19T20:35:35",25000,25000,"USD",{"$f":"tblSalaries[[#This Row],[clean Salary (in local currency)]]*VLOOKUP(tblSalaries[[#This Row],[Currency]],tblXrate[],2,FALSE)","v":25000},"Team Lead","Manager","India",{"$f":"VLOOKUP(tblSalaries[[#This Row],[Where do you work]],tblCountries[[Actual]:[Mapping]],2,FALSE)","v":"India"},"4 to 6 hours a day",10,{"$f":"VLOOKUP(K1867,tblCountries[],3,0)","v":"Asia"},{"$f":"VLOOKUP(tblSalaries[[#This Row],[How many hours of a day you work on Excel]],tblHours,2,0)","v":4},{"$f":"VLOOKUP(tblSalaries[[#This Row],[clean Country]],tblCountries[],5,0)","v":13.098808879263672},{"$f":"IF($Q$1,tblSalaries[[#This Row],[PPP Factor]]*tblSalaries[[#This Row],[Salary in USD]],tblSalaries[[#This Row],[Salary in USD]])","v":25000}]
[null,"ID1909","2012-06-19T21:01:21",420000,420000,"INR",{"$f":"tblSalaries[[#This Row],[clean Salary (in local currency)]]*VLOOKUP(tblSalaries[[#This Row],[Currency]],tblXrate[],2,FALSE)","v":7479.3250087258784},"Analyst","Analyst","India",{"$f":"VLOOKUP(tblSalaries[[#This Row],[Where do you work]],tblCountries[[Actual]:[Mapping]],2,FALSE)","v":"India"},"4 to 6 hours a day",2,{"$f":"VLOOKUP(K1868,tblCountries[],3,0)","v":"Asia"},{"$f":"VLOOKUP(tblSalaries[[#This Row],[How many hours of a day you work on Excel]],tblHours,2,0)","v":4},{"$f":"VLOOKUP(tblSalaries[[#This Row],[clean Country]],tblCountries[],5,0)","v":13.098808879263672},{"$f":"IF($Q$1,tblSalaries[[#This Row],[PPP Factor]]*tblSalaries[[#This Row],[Salary in USD]],tblSalaries[[#This Row],[Salary in USD]])","v":7479.3250087258784}]
[null,"ID1910","2012-06-19T21:06:16",62000,62000,"USD",{"$f":"tblSalaries[[#This Row],[clean Salary (in local currency)]]*VLOOKUP(tblSalaries[[#This Row],[Currency]],tblXrate[],2,FALSE)","v":62000},"Analyst","Analyst","USA",{"$f":"VLOOKUP(tblSalaries[[#This Row],[Where do you work]],tblCountries[[Actual]:[Mapping]],2,FALSE)","v":"USA"},"4 to 6 hours a day",4,{"$f":"VLOOKUP(K1869,tblCountries[],3,0)","v":"North Amer."},{"$f":"VLOOKUP(tblSalaries[[#This Row],[How many hours of a day you work on Excel]],tblHours,2,0)","v":4},{"$f":"VLOOKUP(tblSalaries[[#This Row],[clean Country]],tblCountries[],5,0)","v":1},{"$f":"IF($Q$1,tblSalaries[[#This Row],[PPP Factor]]*tblSalaries[[#This Row],[Salary in USD]],tblSalaries[[#This Row],[Salary in USD]])","v":62000}]
[null,"ID1911","2012-06-19T21:32:36",48000,48000,"USD",{"$f":"tblSalaries[[#This Row],[clean Salary (in local currency)]]*VLOOKUP(tblSalaries[[#This Row],[Currency]],tblXrate[],2,FALSE)","v":48000},"Marketing Analyst Co-op","Analyst","USA",{"$f":"VLOOKUP(tblSalaries[[#This Row],[Where do you work]],tblCountries[[Actual]:[Mapping]],2,FALSE)","v":"USA"},"4 to 6 hours a day",1,{"$f":"VLOOKUP(K1870,tblCountries[],3,0)","v":"North Amer."},{"$f":"VLOOKUP(tblSalaries[[#This Row],[How many hours of a day you work on Excel]],tblHours,2,0)","v":4},{"$f":"VLOOKUP(tblSalaries[[#This Row],[clean Country]],tblCountries[],5,0)","v":1},{"$f":"IF($Q$1,tblSalaries[[#This Row],[PPP Factor]]*tblSalaries[[#This Row],[Salary in USD]],tblSalaries[[#This Row],[Salary in USD]])","v":48000}]
[null,"ID1912","2012-06-19T22:42:55",5000,5000,"USD",{"$f":"tblSalaries[[#This Row],[clean Salary (in local currency)]]*VLOOKUP(tblSalaries[[#This Row],[Currency]],tblXrate[],2,FALSE)","v":5000},"abc","Misc.","India",{"$f":"VLOOKUP(tblSalaries[[#This Row],[Where do you work]],tblCountries[[Actual]:[Mapping]],2,FALSE)","v":"India"},"4 to 6 hours a day",3,{"$f":"VLOOKUP(K1871,tblCountries[],3,0)","v":"Asia"},{"$f":"VLOOKUP(tblSalaries[[#This Row],[How many hours of a day you work on Excel]],tblHours,2,0)","v":4},{"$f":"VLOOKUP(tblSalaries[[#This Row],[clean Country]],tblCountries[],5,0)","v":13.098808879263672},{"$f":"IF($Q$1,tblSalaries[[#This Row],[PPP Factor]]*tblSalaries[[#This Row],[Salary in USD]],tblSalaries[[#This Row],[Salary in USD]])","v":5000}]
[null,"ID1914","2012-06-20T00:27:54","Rs23000/month",276000,"INR",{"$f":"tblSalaries[[#This Row],[clean Salary (in local currency)]]*VLOOKUP(tblSalaries[[#This Row],[Currency]],tblXrate[],2,FALSE)","v":4914.9850057341491},"MIS specialist","Reporting","India",{"$f":"VLOOKUP(tblSalaries[[#This Row],[Where do you work]],tblCountries[[Actual]:[Mapping]],2,FALSE)","v":"India"},"All the 8 hours baby, all the 8!",6,{"$f":"VLOOKUP(K1872,tblCountries[],3,0)","v":"Asia"},{"$f":"VLOOKUP(tblSalaries[[#This Row],[How many hours of a day you work on Excel]],tblHours,2,0)","v":5},{"$f":"VLOOKUP(tblSalaries[[#This Row],[clean Country]],tblCountries[],5,0)","v":13.098808879263672},{"$f":"IF($Q$1,tblSalaries[[#This Row],[PPP Factor]]*tblSalaries[[#This Row],[Salary in USD]],tblSalaries[[#This Row],[Salary in USD]])","v":4914.9850057341491}]
[null,"ID1915","2012-06-20T00:55:28",75000,75000,"USD",{"$f":"tblSalaries[[#This Row],[clean Salary (in local currency)]]*VLOOKUP(tblSalaries[[#This Row],[Currency]],tblXrate[],2,FALSE)","v":75000},"Data Analyst","Analyst","USA",{"$f":"VLOOKUP(tblSalaries[[#This Row],[Where do you work]],tblCountries[[Actual]:[Mapping]],2,FALSE)","v":"USA"},"1 or 2 hours a day",3,{"$f":"VLOOKUP(K1873,tblCountries[],3,0)","v":"North Amer."},{"$f":"VLOOKUP(tblSalaries[[#This Row],[How many hours of a day you work on Excel]],tblHours,2,0)","v":2},{"$f":"VLOOKUP(tblSalaries[[#This Row],[clean Country]],tblCountries[],5,0)","v":1},{"$f":"IF($Q$1,tblSalaries[[#This Row],[PPP Factor]]*tblSalaries[[#This Row],[Salary in USD]],tblSalaries[[#This Row],[Salary in USD]])","v":75000}]
[null,"ID1916","2012-06-20T01:20:49",250000,250000,"INR",{"$f":"tblSalaries[[#This Row],[clean Salary (in local currency)]]*VLOOKUP(tblSalaries[[#This Row],[Currency]],tblXrate[],2,FALSE)","v":4451.9791718606421},"research associate","Analyst","India",{"$f":"VLOOKUP(tblSalaries[[#This Row],[Where do you work]],tblCountries[[Actual]:[Mapping]],2,FALSE)","v":"India"},"Excel ?!? What Excel?",1.6,{"$f":"VLOOKUP(K1874,tblCountries[],3,0)","v":"Asia"},{"$f":"VLOOKUP(tblSalaries[[#This Row],[How many hours of a day you work on Excel]],tblHours,2,0)","v":1},{"$f":"VLOOKUP(tblSalaries[[#This Row],[clean Country]],tblCountries[],5,0)","v":13.098808879263672},{"$f":"IF($Q$1,tblSalaries[[#This Row],[PPP Factor]]*tblSalaries[[#This Row],[Salary in USD]],tblSalaries[[#This Row],[Salary in USD]])","v":4451.9791718606421}]
[null,"ID1917","2012-06-20T01:43:12",700,8400,"USD",{"$f":"tblSalaries[[#This Row],[clean Salary (in local currency)]]*VLOOKUP(tblSalaries[[#This Row],[Currency]],tblXrate[],2,FALSE)","v":8400},"Sr. Executive MIS","Reporting","India",{"$f":"VLOOKUP(tblSalaries[[#This Row],[Where do you work]],tblCountries[[Actual]:[Mapping]],2,FALSE)","v":"India"},"All the 8 hours baby, all the 8!",6,{"$f":"VLOOKUP(K1875,tblCountries[],3,0)","v":"Asia"},{"$f":"VLOOKUP(tblSalaries[[#This Row],[How many hours of a day you work on Excel]],tblHours,2,0)","v":5},{"$f":"VLOOKUP(tblSalaries[[#This Row],[clean Country]],tblCountries[],5,0)","v":13.098808879263672},{"$f":"IF($Q$1,tblSalaries[[#This Row],[PPP Factor]]*tblSalaries[[#This Row],[Salary in USD]],tblSalaries[[#This Row],[Salary in USD]])","v":8400}]
[null,"ID1918","2012-06-20T01:54:10",20000,20000,"USD",{"$f":"tblSalaries[[#This Row],[clean Salary (in local currency)]]*VLOOKUP(tblSalaries[[#This Row],[Currency]],tblXrate[],2,FALSE)","v":20000},"Monitoring and Evaluation Officer","Manager","India",{"$f":"VLOOKUP(tblSalaries[[#This Row],[Where do you work]],tblCountries[[Actual]:[Mapping]],2,FALSE)","v":"India"},"2 to 3 hours per day",5,{"$f":"VLOOKUP(K1876,tblCountries[],3,0)","v":"Asia"},{"$f":"VLOOKUP(tblSalaries[[#This Row],[How many hours of a day you work on Excel]],tblHours,2,0)","v":3},{"$f":"VLOOKUP(tblSalaries[[#This Row],[clean Country]],tblCountries[],5,0)","v":13.098808879263672},{"$f":"IF($Q$1,tblSalaries[[#This Row],[PPP Factor]]*tblSalaries[[#This Row],[Salary in USD]],tblSalaries[[#This Row],[Salary in USD]])","v":20000}]
[null,"ID1919","2012-06-20T02:31:52",110000,110000,"USD",{"$f":"tblSalaries[[#This Row],[clean Salary (in local currency)]]*VLOOKUP(tblSalaries[[#This Row],[Currency]],tblXrate[],2,FALSE)","v":110000},"Vice President - Finance","CXO or Top Mgmt.","USA",{"$f":"VLOOKUP(tblSalaries[[#This Row],[Where do you work]],tblCountries[[Actual]:[Mapping]],2,FALSE)","v":"USA"},"4 to 6 hours a day",10,{"$f":"VLOOKUP(K1877,tblCountries[],3,0)","v":"North Amer."},{"$f":"VLOOKUP(tblSalaries[[#This Row],[How many hours of a day you work on Excel]],tblHours,2,0)","v":4},{"$f":"VLOOKUP(tblSalaries[[#This Row],[clean Country]],tblCountries[],5,0)","v":1},{"$f":"IF($Q$1,tblSalaries[[#This Row],[PPP Factor]]*tblSalaries[[#This Row],[Salary in USD]],tblSalaries[[#This Row],[Salary in USD]])","v":110000}]
[null,"ID1920","2012-06-20T03:52:40",50000,50000,"USD",{"$f":"tblSalaries[[#This Row],[clean Salary (in local currency)]]*VLOOKUP(tblSalaries[[#This Row],[Currency]],tblXrate[],2,FALSE)","v":50000},"Operations Analyst ","Analyst","USA",{"$f":"VLOOKUP(tblSalaries[[#This Row],[Where do you work]],tblCountries[[Actual]:[Mapping]],2,FALSE)","v":"USA"},"All the 8 hours baby, all the 8!",3.5,{"$f":"VLOOKUP(K1878,tblCountries[],3,0)","v":"North Amer."},{"$f":"VLOOKUP(tblSalaries[[#This Row],[How many hours of a day you work on Excel]],tblHours,2,0)","v":5},{"$f":"VLOOKUP(tblSalaries[[#This Row],[clean Country]],tblCountries[],5,0)","v":1},{"$f":"IF($Q$1,tblSalaries[[#This Row],[PPP Factor]]*tblSalaries[[#This Row],[Salary in USD]],tblSalaries[[#This Row],[Salary in USD]])","v":50000}]
[null,"ID1921","2012-06-20T03:55:55",46000,46000,"USD",{"$f":"tblSalaries[[#This Row],[clean Salary (in local currency)]]*VLOOKUP(tblSalaries[[#This Row],[Currency]],tblXrate[],2,FALSE)","v":46000},"Poultry Analyst","Analyst","USA",{"$f":"VLOOKUP(tblSalaries[[#This Row],[Where do you work]],tblCountries[[Actual]:[Mapping]],2,FALSE)","v":"USA"},"4 to 6 hours a day",8,{"$f":"VLOOKUP(K1879,tblCountries[],3,0)","v":"North Amer."},{"$f":"VLOOKUP(tblSalaries[[#This Row],[How many hours of a day you work on Excel]],tblHours,2,0)","v":4},{"$f":"VLOOKUP(tblSalaries[[#This Row],[clean Country]],tblCountries[],5,0)","v":1},{"$f":"IF($Q$1,tblSalaries[[#This Row],[PPP Factor]]*tblSalaries[[#This Row],[Salary in USD]],tblSalaries[[#This Row],[Salary in USD]])","v":46000}]
[null,"ID1922","2012-06-20T05:03:44",115000,115000,"USD",{"$f":"tblSalaries[[#This Row],[clean Salary (in local currency)]]*VLOOKUP(tblSalaries[[#This Row],[Currency]],tblXrate[],2,FALSE)","v":115000},"Business Analyst","Analyst","USA",{"$f":"VLOOKUP(tblSalaries[[#This Row],[Where do you work]],tblCountries[[Actual]:[Mapping]],2,FALSE)","v":"USA"},"All the 8 hours baby, all the 8!",15,{"$f":"VLOOKUP(K1880,tblCountries[],3,0)","v":"North Amer."},{"$f":"VLOOKUP(tblSalaries[[#This Row],[How many hours of a day you work on Excel]],tblHours,2,0)","v":5},{"$f":"VLOOKUP(tblSalaries[[#This Row],[clean Country]],tblCountries[],5,0)","v":1},{"$f":"IF($Q$1,tblSalaries[[#This Row],[PPP Factor]]*tblSalaries[[#This Row],[Salary in USD]],tblSalaries[[#This Row],[Salary in USD]])","v":115000}]
[null,"ID1924","2012-06-20T12:53:56",180000,180000,"INR",{"$f":"tblSalaries[[#This Row],[clean Salary (in local currency)]]*VLOOKUP(tblSalaries[[#This Row],[Currency]],tblXrate[],2,FALSE)","v":3205.4250037396623},"Customer Resolution","Analyst","India",{"$f":"VLOOKUP(tblSalaries[[#This Row],[Where do you work]],tblCountries[[Actual]:[Mapping]],2,FALSE)","v":"India"},"4 to 6 hours a day",3,{"$f":"VLOOKUP(K1881,tblCountries[],3,0)","v":"Asia"},{"$f":"VLOOKUP(tblSalaries[[#This Row],[How many hours of a day you work on Excel]],tblHours,2,0)","v":4},{"$f":"VLOOKUP(tblSalaries[[#This Row],[clean Country]],tblCountries[],5,0)","v":13.098808879263672},{"$f":"IF($Q$1,tblSalaries[[#This Row],[PPP Factor]]*tblSalaries[[#This Row],[Salary in USD]],tblSalaries[[#This Row],[Salary in USD]])","v":3205.4250037396623}]
[null,"ID1925","2012-06-20T13:05:17","60000 EUR",60000,"EUR",{"$f":"tblSalaries[[#This Row],[clean Salary (in local currency)]]*VLOOKUP(tblSalaries[[#This Row],[Currency]],tblXrate[],2,FALSE)","v":76223.966339496474},"Project Manager","Manager","Europe",{"$f":"VLOOKUP(tblSalaries[[#This Row],[Where do you work]],tblCountries[[Actual]:[Mapping]],2,FALSE)","v":"Europe"},"2 to 3 hours per day",20,{"$f":"VLOOKUP(K1882,tblCountries[],3,0)","v":"Europe"},{"$f":"VLOOKUP(tblSalaries[[#This Row],[How many hours of a day you work on Excel]],tblHours,2,0)","v":3},{"$f":"VLOOKUP(tblSalaries[[#This Row],[clean Country]],tblCountries[],5,0)","v":1},{"$f":"IF($Q$1,tblSalaries[[#This Row],[PPP Factor]]*tblSalaries[[#This Row],[Salary in USD]],tblSalaries[[#This Row],[Salary in USD]])","v":76223.966339496474}]
[null,"ID1927","2012-06-20T14:08:51",52500,52500,"USD",{"$f":"tblSalaries[[#This Row],[clean Salary (in local currency)]]*VLOOKUP(tblSalaries[[#This Row],[Currency]],tblXrate[],2,FALSE)","v":52500},"Business Analist","Analyst","south africa",{"$f":"VLOOKUP(tblSalaries[[#This Row],[Where do you work]],tblCountries[[Actual]:[Mapping]],2,FALSE)","v":"South Africa"},"4 to 6 hours a day",21,{"$f":"VLOOKUP(K1883,tblCountries[],3,0)","v":"Africa"},{"$f":"VLOOKUP(tblSalaries[[#This Row],[How many hours of a day you work on Excel]],tblHours,2,0)","v":4},{"$f":"VLOOKUP(tblSalaries[[#This Row],[clean Country]],tblCountries[],5,0)","v":4.4096418481727877},{"$f":"IF($Q$1,tblSalaries[[#This Row],[PPP Factor]]*tblSalaries[[#This Row],[Salary in USD]],tblSalaries[[#This Row],[Salary in USD]])","v":52500}]
[null,"ID1928","2012-06-20T20:58:23",8400,100800,"USD",{"$f":"tblSalaries[[#This Row],[clean Salary (in local currency)]]*VLOOKUP(tblSalaries[[#This Row],[Currency]],tblXrate[],2,FALSE)","v":100800},"AVP","CXO or Top Mgmt.","Oman",{"$f":"VLOOKUP(tblSalaries[[#This Row],[Where do you work]],tblCountries[[Actual]:[Mapping]],2,FALSE)","v":"Oman"},"4 to 6 hours a day",4,{"$f":"VLOOKUP(K1884,tblCountries[],3,0)","v":"Asia"},{"$f":"VLOOKUP(tblSalaries[[#This Row],[How many hours of a day you work on Excel]],tblHours,2,0)","v":4},{"$f":"VLOOKUP(tblSalaries[[#This Row],[clean Country]],tblCountries[],5,0)","v":1.824616312832309},{"$f":"IF($Q$1,tblSalaries[[#This Row],[PPP Factor]]*tblSalaries[[#This Row],[Salary in USD]],tblSalaries[[#This Row],[Salary in USD]])","v":100800}]
[null,"ID1929","2012-06-21T03:46:23",21000,21000,"USD",{"$f":"tblSalaries[[#This Row],[clean Salary (in local currency)]]*VLOOKUP(tblSalaries[[#This Row],[Currency]],tblXrate[],2,FALSE)","v":21000},"eorl","Misc.","India",{"$f":"VLOOKUP(tblSalaries[[#This Row],[Where do you work]],tblCountries[[Actual]:[Mapping]],2,FALSE)","v":"India"},"All the 8 hours baby, all the 8!",5,{"$f":"VLOOKUP(K1885,tblCountries[],3,0)","v":"Asia"},{"$f":"VLOOKUP(tblSalaries[[#This Row],[How many hours of a day you work on Excel]],tblHours,2,0)","v":5},{"$f":"VLOOKUP(tblSalaries[[#This Row],[clean Country]],tblCountries[],5,0)","v":13.098808879263672},{"$f":"IF($Q$1,tblSalaries[[#This Row],[PPP Factor]]*tblSalaries[[#This Row],[Salary in USD]],tblSalaries[[#This Row],[Salary in USD]])","v":21000}]
[null,"ID1930","2012-06-21T04:06:15",40000,40000,"USD",{"$f":"tblSalaries[[#This Row],[clean Salary (in local currency)]]*VLOOKUP(tblSalaries[[#This Row],[Currency]],tblXrate[],2,FALSE)","v":40000},"Corporate Trainer","Analyst","USA",{"$f":"VLOOKUP(tblSalaries[[#This Row],[Where do you work]],tblCountries[[Actual]:[Mapping]],2,FALSE)","v":"USA"},"1 or 2 hours a day",3,{"$f":"VLOOKUP(K1886,tblCountries[],3,0)","v":"North Amer."},{"$f":"VLOOKUP(tblSalaries[[#This Row],[How many hours of a day you work on Excel]],tblHours,2,0)","v":2},{"$f":"VLOOKUP(tblSalaries[[#This Row],[clean Country]],tblCountries[],5,0)","v":1},{"$f":"IF($Q$1,tblSalaries[[#This Row],[PPP Factor]]*tblSalaries[[#This Row],[Salary in USD]],tblSalaries[[#This Row],[Salary in USD]])","v":40000}]
[null,"ID1931","2012-06-21T04:44:20",46359,46359,"USD",{"$f":"tblSalaries[[#This Row],[clean Salary (in local currency)]]*VLOOKUP(tblSalaries[[#This Row],[Currency]],tblXrate[],2,FALSE)","v":46359},"Data Analyst","Analyst","USA",{"$f":"VLOOKUP(tblSalaries[[#This Row],[Where do you work]],tblCountries[[Actual]:[Mapping]],2,FALSE)","v":"USA"},"All the 8 hours baby, all the 8!",5,{"$f":"VLOOKUP(K1887,tblCountries[],3,0)","v":"North Amer."},{"$f":"VLOOKUP(tblSalaries[[#This Row],[How many hours of a day you work on Excel]],tblHours,2,0)","v":5},{"$f":"VLOOKUP(tblSalaries[[#This Row],[clean Country]],tblCountries[],5,0)","v":1},{"$f":"IF($Q$1,tblSalaries[[#This Row],[PPP Factor]]*tblSalaries[[#This Row],[Salary in USD]],tblSalaries[[#This Row],[Salary in USD]])","v":46359}]
[null,"ID1932","2012-06-21T04:46:24",70000,70000,"USD",{"$f":"tblSalaries[[#This Row],[clean Salary (in local currency)]]*VLOOKUP(tblSalaries[[#This Row],[Currency]],tblXrate[],2,FALSE)","v":70000},"Administrative Coordinator","Analyst","USA",{"$f":"VLOOKUP(tblSalaries[[#This Row],[Where do you work]],tblCountries[[Actual]:[Mapping]],2,FALSE)","v":"USA"},"4 to 6 hours a day",10,{"$f":"VLOOKUP(K1888,tblCountries[],3,0)","v":"North Amer."},{"$f":"VLOOKUP(tblSalaries[[#This Row],[How many hours of a day you work on Excel]],tblHours,2,0)","v":4},{"$f":"VLOOKUP(tblSalaries[[#This Row],[clean Country]],tblCountries[],5,0)","v":1},{"$f":"IF($Q$1,tblSalaries[[#This Row],[PPP Factor]]*tblSalaries[[#This Row],[Salary in USD]],tblSalaries[[#This Row],[Salary in USD]])","v":70000}]

{"sheet":"Calculations","index":3,"n_rows":120,"n_cols":100,"rows_kept":120,"cut":false,"hidden":false,"merged":[[16,99,16,100]]}
[null,"Average salary by Continent by Job Type, Experience, Daily usage of Excel",null,null,null,null,null,null,null,null,null,null,null,"Salary boxplot",null,null,null,null,null,null,null,null,null,null,null,null,null,null,null,null,null,null,"Proportion of participants by…",null,null,null,null,null,null,null,null,null,null,null,null,null,null,null,"Average salary by…",null,null,null,null,null,null,null,null,null,null,null,null,null,null,"Top 5 countries by…",null,null,null,null,null,null,null,null,null,null,null,null,null,null,null,"Random facts from the study"]
[null,null,null,null,null,null,null,null,null,null,null,null,null,"Continent #1",null,null,null,null,null,null,null,null,"Continent #2",null,null,null,null,null,null,null,null,null,{"$f":"+Dashboard!M32","v":"Daily usage of Excel in hours"},null,null,null,null,null,null,null,null,null,null,null,null,null,null,null,{"$f":"+Dashboard!M20","v":"Years of experience with Excel"},null,null,null,null,null,null,null,null,null,null,null,null,null,null,null,null,null,null,null,null,null,null,null,null,null,null,null,null,null,null,null,null,null,null,null,null,null,null,null,null,null,null,null,null,null,null,null,null,"No","Message"]
[null,null,null,"min","max",null,null,null,null,null,null,null,null,null,null,null,null,null,null,null,null,null,null,null,null,null,null,null,null,null,null,null,"Selection : ",{"$f":"MATCH(AG2,lstGraph2,0)","v":2},null,null,null,null,null,null,null,null,null,null,null,null,null,null,"Selection : ",{"$f":"MATCH(AW2,lstGraph2,0)","v":1},null,null,null,null,null,null,null,null,null,null,null,null,null,"Selected Metrics : ",null,4,{"$f":"+CHOOSE($BN$3,BM6,BN6,BO6,BP6)","v":"Nb responses"},null,null,null,null,null,null,null,null,null,null,null,null,null,null,null,null,null,null,null,null,null,null,null,null,null,null,null,null,null,null,1,{"$f":"+INDEX($CU$18:$CU$33,MATCH(CT3,$CT$18:$CT$33,0))","v":651},{"$f":"+INDEX($CV$18:$CV$33,MATCH(CT3,$CT$18:$CT$33,0))","v":"Participants in the world with less then 2 years of experience."}]
[null,"Experience",null,{"$f":"+Dashboard!AA6","v":0},{"$f":"+Dashboard!AE6","v":99},null,null,null,null,null,null,null,null,null,"Min","1st Quartile","Median","3rd Quartile","Max",null,null,null,null,"Min","1st Quartile","Median","3rd Quartile","Max",null,null,null,null,null,null,null,null,null,null,null,null,null,null,null,null,null,null,null,null,null,null,null,null,null,null,null,null,null,null,null,null,null,null,null,null,null,null,null,null,null,null,null,null,null,null,null,null,null,null,null,null,null,null,null,null,null,null,null,null,null,null,null,null,null,null,null,null,null,2,{"$f":"+INDEX($CU$18:$CU$33,MATCH(CT4,$CT$18:$CT$33,0))","v":"11.8%"},{"$f":"+INDEX($CV$18:$CV$33,MATCH(CT4,$CT$18:$CT$33,0))","v":"Participants working as Consultant have more then 24 years of experience."}]
[null,"# hours per day",{"$f":"+Dashboard!AA7","v":"1 or 2 hours a day"},{"$f":"+VLOOKUP(C5,tblHours,2)-0.1","v":1.9},{"$f":"+VLOOKUP(C5,tblHours,3)+0.1","v":2.1},null,null,null,null,null,null,null,null,null,0,1,2,3,4,null,null,null,null,0,1,2,3,4,null,null,null,null,"Experience",null,null,null,null,null,null,null,"# hours / day",null,null,null,null,null,null,null,"Experience",null,null,null,null,null,null,null,"# hours / day",null,null,null,null,null,null,"5 Countries from the scroll bar position",null,null,0,null,null,null,null,null,null,null,null,null,null,null,null,null,null,null,null,null,null,null,null,null,null,null,null,null,null,null,null,null,null,3,{"$f":"+INDEX($CU$18:$CU$33,MATCH(CT5,$CT$18:$CT$33,0))","v":"55353 $"},{"$f":"+INDEX($CV$18:$CV$33,MATCH(CT5,$CT$18:$CT$33,0))","v":"Average salary of participants with more then 5 years of experience."}]
[null,"Selected cont",{"$f":"Dashboard!AA5","v":"North America"},{"$f":"INDEX(lstContinents,MATCH(C6,lstContinents2,0))","v":"North Amer."},null,null,null,null,null,null,null,null,null,"Selection",{"$f":"+Dashboard!AA26","v":"Asia"},null,null,null,null,null,null,null,"Selection",{"$f":"+Dashboard!AA27","v":"North America"},null,null,null,null,null,null,null,null,"Min",0,2,5,10,15,null,null,"Code Hours",1,2,3,4,5,null,null,"Min",0,2,5,10,15,null,null,"Code",1,2,3,4,5,null,"Index","Country","Salary","Experience","Nb responses",null,null,null,null,null,null,null,null,null,null,null,null,null,null,null,null,null,null,null,null,null,null,null,null,null,null,null,null,null,4,"68.5%","Participants working as Specialist have less then 10 years of experience."]
[null,"Total Salaries",null,null,null,null,null,null,null,null,null,null,null,null,{"$f":"INDEX(lstContinents,MATCH(O6,lstContinents2,0))","v":"Asia"},{"$f":"+O7","v":"Asia"},{"$f":"+P7","v":"Asia"},"Asia","Asia",null,null,null,null,{"$f":"INDEX(lstContinents,MATCH(X6,lstContinents2,0))","v":"North Amer."},{"$f":"+X7","v":"North Amer."},{"$f":"+Y7","v":"North Amer."},"North Amer.","North Amer.",null,null,null,null,"Max",2,5,10,15,99,null,null,null,null,null,null,null,null,null,null,"Max",2,5,10,15,99,null,null,null,null,null,null,null,null,null,"Max",null,{"$f":"MAX(BN18:BN120)","v":177600},{"$f":"MAX(BO18:BO120)","v":21},617,null,null,null,null,null,null,null,null,null,null,null,null,null,null,null,null,null,null,null,null,null,null,null,null,null,null,null,null,null,5,"43571 $","Average salary of participants using Excel more then 8 hours a day."]
[null,null,"Asia","Europe","Africa","North Amer.","South Amer.","Oceania","Worldwide","Selected Continent",null,null,null,null,"Min","1st Quartile","Median","3rd Quartile","Max",null,null,null,null,"Min","1st Quartile","Median","3rd Quartile","Max",null,null,null,null,null,null,null,null,null,null,null,null,null,null,null,null,null,null,null,null,null,null,null,null,null,null,null,null,null,null,null,null,null,null,null,{"$f":"1+BO5","v":1},{"$f":"INDEX($BU$18:$BY$120,$BL8,COLUMNS($BL$8:BM8))","v":"USA"},{"$f":"INDEX($BU$18:$BY$120,$BL8,COLUMNS($BL$8:BN8))","v":72738.12965964344},{"$f":"INDEX($BU$18:$BY$120,$BL8,COLUMNS($BL$8:BO8))","v":10.292035398230089},{"$f":"INDEX($BU$18:$BY$120,$BL8,COLUMNS($BL$8:BP8))","v":617}]
[null,"Accountant",{"$f":"SUM((Continent=C$8)*(JobType=$B9)*(YearsExp>$D$4)*(YearsExp<$E$4)*(CodeHours>$D$5)*(CodeHours<$E$5)*Salaries)","v":87201.973098284434},{"$f":"SUM((Continent=D$8)*(JobType=$B9)*(YearsExp>$D$4)*(YearsExp<$E$4)*(CodeHours>$D$5)*(CodeHours<$E$5)*Salaries)","v":0},{"$f":"SUM((Continent=E$8)*(JobType=$B9)*(YearsExp>$D$4)*(YearsExp<$E$4)*(CodeHours>$D$5)*(CodeHours<$E$5)*Salaries)","v":0},{"$f":"SUM((Continent=F$8)*(JobType=$B9)*(YearsExp>$D$4)*(YearsExp<$E$4)*(CodeHours>$D$5)*(CodeHours<$E$5)*Salaries)","v":0},{"$f":"SUM((Continent=G$8)*(JobType=$B9)*(YearsExp>$D$4)*(YearsExp<$E$4)*(CodeHours>$D$5)*(CodeHours<$E$5)*Salaries)","v":0},{"$f":"SUM((Continent=H$8)*(JobType=$B9)*(YearsExp>$D$4)*(YearsExp<$E$4)*(CodeHours>$D$5)*(CodeHours<$E$5)*Salaries)","v":0},{"$f":"SUM(C9:H9)","v":87201.973098284434},{"$f":"INDEX(C9:H9,,MATCH($D$6,$C$8:$H$8,0))","v":0},null,null,null,"Accountant",{"$f":"QUARTILE(IF((Continent=O$7)*(JobType=$B9)*1,Salaries),O$5)","v":1783.166904422254},{"$f":"QUARTILE(IF((Continent=P$7)*(JobType=$B9),Salaries),P$5)","v":4284.1573649981829},{"$f":"QUARTILE(IF((Continent=Q$7)*(JobType=$B9),Salaries),Q$5)","v":9573.2827731515645},{"$f":"QUARTILE(IF((Continent=R$7)*(JobType=$B9),Salaries),R$5)","v":23750},{"$f":"QUARTILE(IF((Continent=S$7)*(JobType=$B9),Salaries),S$5)","v":71231.666749770273},null,null,null,"Accountant",{"$f":"QUARTILE(IF((Continent=X$7)*(JobType=$B9),Salaries),X$5)","v":15500},{"$f":"QUARTILE(IF((Continent=Y$7)*(JobType=$B9),Salaries),Y$5)","v":45000},{"$f":"QUARTILE(IF((Continent=Z$7)*(JobType=$B9),Salaries),Z$5)","v":60000},{"$f":"QUARTILE(IF((Continent=AA$7)*(JobType=$B9),Salaries),AA$5)","v":77000},{"$f":"QUARTILE(IF((Continent=AB$7)*(JobType=$B9),Salaries),AB$5)","v":1229201.9037879086},null,null,null,null,null,"0 - 2 yrs","2 - 5 yrs","5 - 10 yrs","10 - 15 yrs","15+ yrs","Total",null,null,"0 hrs","1 - 2 hrs","2 - 3  hrs","4 - 6 hrs","8+ hrs","Total",null,null,"0 - 2 yrs","2 - 5 yrs","5 - 10 yrs","10 - 15 yrs","15+ yrs",null,null,null,"0 hrs","1 - 2 hrs","2 - 3  hrs","4 - 6 hrs","8+ hrs",null,{"$f":"+BL8+1","v":2},{"$f":"INDEX($BU$18:$BY$120,$BL9,COLUMNS($BL$8:BM9))","v":"India"},{"$f":"INDEX($BU$18:$BY$120,$BL9,COLUMNS($BL$8:BN9))","v":13529.430894182482},{"$f":"INDEX($BU$18:$BY$120,$BL9,COLUMNS($BL$8:BO9))","v":6.4691823899371066},{"$f":"INDEX($BU$18:$BY$120,$BL9,COLUMNS($BL$8:BP9))","v":565}]
[null,"Analyst",{"$f":"SUM((Continent=C$8)*(JobType=$B10)*(YearsExp>$D$4)*(YearsExp<$E$4)*(CodeHours>$D$5)*(CodeHours<$E$5)*Salaries)","v":271872.34242298052},{"$f":"SUM((Continent=D$8)*(JobType=$B10)*(YearsExp>$D$4)*(YearsExp<$E$4)*(CodeHours>$D$5)*(CodeHours<$E$5)*Salaries)","v":368430.35035075725},{"$f":"SUM((Continent=E$8)*(JobType=$B10)*(YearsExp>$D$4)*(YearsExp<$E$4)*(CodeHours>$D$5)*(CodeHours<$E$5)*Salaries)","v":0},{"$f":"SUM((Continent=F$8)*(JobType=$B10)*(YearsExp>$D$4)*(YearsExp<$E$4)*(CodeHours>$D$5)*(CodeHours<$E$5)*Salaries)","v":649334.46092121303},{"$f":"SUM((Continent=G$8)*(JobType=$B10)*(YearsExp>$D$4)*(YearsExp<$E$4)*(CodeHours>$D$5)*(CodeHours<$E$5)*Salaries)","v":56700},{"$f":"SUM((Continent=H$8)*(JobType=$B10)*(YearsExp>$D$4)*(YearsExp<$E$4)*(CodeHours>$D$5)*(CodeHours<$E$5)*Salaries)","v":385525.85012019635},{"$f":"SUM(C10:H10)","v":1731863.0038151471},649334.46092121303,null,null,null,"Analyst",{"$f":"QUARTILE(IF((Continent=O$7)*(JobType=$B10)*1,Salaries),O$5)","v":2136.9500024931081},{"$f":"QUARTILE(IF((Continent=P$7)*(JobType=$B10),Salaries),P$5)","v":5342.3750062327708},{"$f":"QUARTILE(IF((Continent=Q$7)*(JobType=$B10),Salaries),Q$5)","v":8903.9583437212841},{"$f":"QUARTILE(IF((Continent=R$7)*(JobType=$B10),Salaries),R$5)","v":15136.729184326183},{"$f":"QUARTILE(IF((Continent=S$7)*(JobType=$B10),Salaries),S$5)","v":160271.25018698312},null,null,null,"Analyst",{"$f":"QUARTILE(IF((Continent=X$7)*(JobType=$B10),Salaries),X$5)","v":10000},{"$f":"QUARTILE(IF((Continent=Y$7)*(JobType=$B10),Salaries),Y$5)","v":45000},{"$f":"QUARTILE(IF((Continent=Z$7)*(JobType=$B10),Salaries),Z$5)","v":60000},{"$f":"QUARTILE(IF((Continent=AA$7)*(JobType=$B10),Salaries),AA$5)","v":75000},{"$f":"QUARTILE(IF((Continent=AB$7)*(JobType=$B10),Salaries),AB$5)","v":245840.3807575817},null,null,null,null,"Asia",{"$f":"SUM((Continent=$AG10)*(YearsExp>AH$6)*(YearsExp<=AH$7))","v":103},{"$f":"SUM((Continent=$AG10)*(YearsExp>AI$6)*(YearsExp<=AI$7))","v":202},{"$f":"SUM((Continent=$AG10)*(YearsExp>AJ$6)*(YearsExp<=AJ$7))","v":185},{"$f":"SUM((Continent=$AG10)*(YearsExp>AK$6)*(YearsExp<=AK$7))","v":60},{"$f":"SUM((Continent=$AG10)*(YearsExp>AL$6)*(YearsExp<=AL$7))","v":42},{"$f":"SUM(AH10:AL10)","v":592},null,"Asia",{"$f":"SUMPRODUCT((Continent=$AO10)*(CodeHours=AP$6))","v":2},{"$f":"SUMPRODUCT((Continent=$AO10)*(CodeHours=AQ$6))","v":76},{"$f":"SUMPRODUCT((Continent=$AO10)*(CodeHours=AR$6))","v":170},{"$f":"SUMPRODUCT((Continent=$AO10)*(CodeHours=AS$6))","v":268},{"$f":"SUMPRODUCT((Continent=$AO10)*(CodeHours=AT$6))","v":204},{"$f":"SUM(AP10:AT10)","v":720},null,"Asia",{"$f":"SUM((Continent=$AG10)*(YearsExp>AX$6)*(YearsExp<=AX$7)*Salaries)/AH10","v":11347.621297343105},{"$f":"SUM((Continent=$AG10)*(YearsExp>AY$6)*(YearsExp<=AY$7)*Salaries)/AI10","v":13520.132611305962},{"$f":"SUM((Continent=$AG10)*(YearsExp>AZ$6)*(YearsExp<=AZ$7)*Salaries)/AJ10","v":19556.298279560633},{"$f":"SUM((Continent=$AG10)*(YearsExp>BA$6)*(YearsExp<=BA$7)*Salaries)/AK10","v":24530.635374159621},{"$f":"SUM((Continent=$AG10)*(YearsExp>BB$6)*(YearsExp<=BB$7)*Salaries)/AL10","v":20119.738696336226},null,null,"Asia",{"$f":"IFERROR(SUM((Continent=$AO10)*(CodeHours=BF$6)*Salaries)/AP10,\"\")","v":12225.989585930321},{"$f":"IFERROR(SUM((Continent=$AO10)*(CodeHours=BG$6)*Salaries)/AQ10,\"\")","v":19353.196505401022},{"$f":"IFERROR(SUM((Continent=$AO10)*(CodeHours=BH$6)*Salaries)/AR10,\"\")","v":18265.619968336196},{"$f":"IFERROR(SUM((Continent=$AO10)*(CodeHours=BI$6)*Salaries)/AS10,\"\")","v":16809.764170074057},{"$f":"IFERROR(SUM((Continent=$AO10)*(CodeHours=BJ$6)*Salaries)/AT10,\"\")","v":17396.99662774062},null,{"$f":"+BL9+1","v":3},{"$f":"INDEX($BU$18:$BY$120,$BL10,COLUMNS($BL$8:BM10))","v":"UK"},{"$f":"INDEX($BU$18:$BY$120,$BL10,COLUMNS($BL$8:BN10))","v":67240.730112795849},{"$f":"INDEX($BU$18:$BY$120,$BL10,COLUMNS($BL$8:BO10))","v":10.382882882882884},{"$f":"INDEX($BU$18:$BY$120,$BL10,COLUMNS($BL$8:BP10))","v":154}]
[null,"Consultant",{"$f":"SUM((Continent=C$8)*(JobType=$B11)*(YearsExp>$D$4)*(YearsExp<$E$4)*(CodeHours>$D$5)*(CodeHours<$E$5)*Salaries)","v":126410.85000747933},{"$f":"SUM((Continent=D$8)*(JobType=$B11)*(YearsExp>$D$4)*(YearsExp<$E$4)*(CodeHours>$D$5)*(CodeHours<$E$5)*Salaries)","v":128310.34333815239},{"$f":"SUM((Continent=E$8)*(JobType=$B11)*(YearsExp>$D$4)*(YearsExp<$E$4)*(CodeHours>$D$5)*(CodeHours<$E$5)*Salaries)","v":0},{"$f":"SUM((Continent=F$8)*(JobType=$B11)*(YearsExp>$D$4)*(YearsExp<$E$4)*(CodeHours>$D$5)*(CodeHours<$E$5)*Salaries)","v":0},{"$f":"SUM((Continent=G$8)*(JobType=$B11)*(YearsExp>$D$4)*(YearsExp<$E$4)*(CodeHours>$D$5)*(CodeHours<$E$5)*Salaries)","v":5000},{"$f":"SUM((Continent=H$8)*(JobType=$B11)*(YearsExp>$D$4)*(YearsExp<$E$4)*(CodeHours>$D$5)*(CodeHours<$E$5)*Salaries)","v":188683.28643448761},448404.47978011932,0,null,null,null,"Consultant",{"$f":"QUARTILE(IF((Continent=O$7)*(JobType=$B11)*1,Salaries),O$5)","v":2564.3400029917298},{"$f":"QUARTILE(IF((Continent=P$7)*(JobType=$B11),Salaries),P$5)","v":8414.2406348166132},{"$f":"QUARTILE(IF((Continent=Q$7)*(JobType=$B11),Salaries),Q$5)","v":12000},{"$f":"QUARTILE(IF((Continent=R$7)*(JobType=$B11),Salaries),R$5)","v":25376.281279605661},{"$f":"QUARTILE(IF((Continent=S$7)*(JobType=$B11),Salaries),S$5)","v":120000},null,null,null,"Consultant",{"$f":"QUARTILE(IF((Continent=X$7)*(JobType=$B11),Salaries),X$5)","v":12000},{"$f":"QUARTILE(IF((Continent=Y$7)*(JobType=$B11),Salaries),Y$5)","v":69000},{"$f":"QUARTILE(IF((Continent=Z$7)*(JobType=$B11),Salaries),Z$5)","v":90469.260118790073},{"$f":"QUARTILE(IF((Continent=AA$7)*(JobType=$B11),Salaries),AA$5)","v":115000},{"$f":"QUARTILE(IF((Continent=AB$7)*(JobType=$B11),Salaries),AB$5)","v":250000},null,null,null,null,"Europe",{"$f":"SUM((Continent=$AG11)*(YearsExp>AH$6)*(YearsExp<=AH$7))","v":19},{"$f":"SUM((Continent=$AG11)*(YearsExp>AI$6)*(YearsExp<=AI$7))","v":52},{"$f":"SUM((Continent=$AG11)*(YearsExp>AJ$6)*(YearsExp<=AJ$7))","v":67},{"$f":"SUM((Continent=$AG11)*(YearsExp>AK$6)*(YearsExp<=AK$7))","v":43},{"$f":"SUM((Continent=$AG11)*(YearsExp>AL$6)*(YearsExp<=AL$7))","v":40},{"$f":"SUM(AH11:AL11)","v":221},null,"Europe",{"$f":"SUMPRODUCT((Continent=$AO11)*(CodeHours=AP$6))","v":1},{"$f":"SUMPRODUCT((Continent=$AO11)*(CodeHours=AQ$6))","v":30},{"$f":"SUMPRODUCT((Continent=$AO11)*(CodeHours=AR$6))","v":76},{"$f":"SUMPRODUCT((Continent=$AO11)*(CodeHours=AS$6))","v":124},{"$f":"SUMPRODUCT((Continent=$AO11)*(CodeHours=AT$6))","v":73},{"$f":"SUM(AP11:AT11)","v":304},null,"Europe",{"$f":"SUM((Continent=$AG11)*(YearsExp>AX$6)*(YearsExp<=AX$7)*Salaries)/AH11","v":42463.780970676162},{"$f":"SUM((Continent=$AG11)*(YearsExp>AY$6)*(YearsExp<=AY$7)*Salaries)/AI11","v":52552.923998043538},{"$f":"SUM((Continent=$AG11)*(YearsExp>AZ$6)*(YearsExp<=AZ$7)*Salaries)/AJ11","v":61206.886589279784},{"$f":"SUM((Continent=$AG11)*(YearsExp>BA$6)*(YearsExp<=BA$7)*Salaries)/AK11","v":64911.975393829824},{"$f":"SUM((Continent=$AG11)*(YearsExp>BB$6)*(YearsExp<=BB$7)*Salaries)/AL11","v":77703.711042188574},null,null,"Europe",{"$f":"IFERROR(SUM((Continent=$AO11)*(CodeHours=BF$6)*Salaries)/AP11,\"\")","v":170000},{"$f":"IFERROR(SUM((Continent=$AO11)*(CodeHours=BG$6)*Salaries)/AQ11,\"\")","v":73735.055672218805},{"$f":"IFERROR(SUM((Continent=$AO11)*(CodeHours=BH$6)*Salaries)/AR11,\"\")","v":66586.810024323859},{"$f":"IFERROR(SUM((Continent=$AO11)*(CodeHours=BI$6)*Salaries)/AS11,\"\")","v":61660.82083096727},{"$f":"IFERROR(SUM((Continent=$AO11)*(CodeHours=BJ$6)*Salaries)/AT11,\"\")","v":56161.845208131745},null,4,{"$f":"INDEX($BU$18:$BY$120,$BL11,COLUMNS($BL$8:BM11))","v":"Australia"},{"$f":"INDEX($BU$18:$BY$120,$BL11,COLUMNS($BL$8:BN11))","v":92857.629854916348},{"$f":"INDEX($BU$18:$BY$120,$BL11,COLUMNS($BL$8:BO11))","v":10.26},{"$f":"INDEX($BU$18:$BY$120,$BL11,COLUMNS($BL$8:BP11))","v":81}]
[null,"Controller",{"$f":"SUM((Continent=C$8)*(JobType=$B12)*(YearsExp>$D$4)*(YearsExp<$E$4)*(CodeHours>$D$5)*(CodeHours<$E$5)*Salaries)","v":0},{"$f":"SUM((Continent=D$8)*(JobType=$B12)*(YearsExp>$D$4)*(YearsExp<$E$4)*(CodeHours>$D$5)*(CodeHours<$E$5)*Salaries)","v":0},{"$f":"SUM((Continent=E$8)*(JobType=$B12)*(YearsExp>$D$4)*(YearsExp<$E$4)*(CodeHours>$D$5)*(CodeHours<$E$5)*Salaries)","v":0},{"$f":"SUM((Continent=F$8)*(JobType=$B12)*(YearsExp>$D$4)*(YearsExp<$E$4)*(CodeHours>$D$5)*(CodeHours<$E$5)*Salaries)","v":24000},{"$f":"SUM((Continent=G$8)*(JobType=$B12)*(YearsExp>$D$4)*(YearsExp<$E$4)*(CodeHours>$D$5)*(CodeHours<$E$5)*Salaries)","v":0},{"$f":"SUM((Continent=H$8)*(JobType=$B12)*(YearsExp>$D$4)*(YearsExp<$E$4)*(CodeHours>$D$5)*(CodeHours<$E$5)*Salaries)","v":50995.482820131787},74995.482820131787,24000,null,null,null,"Controller",{"$f":"QUARTILE(IF((Continent=O$7)*(JobType=$B12)*1,Salaries),O$5)","v":2564.3400029917298},{"$f":"QUARTILE(IF((Continent=P$7)*(JobType=$B12),Salaries),P$5)","v":12450},{"$f":"QUARTILE(IF((Continent=Q$7)*(JobType=$B12),Salaries),Q$5)","v":15813.562509349154},{"$f":"QUARTILE(IF((Continent=R$7)*(JobType=$B12),Salaries),R$5)","v":39000},{"$f":"QUARTILE(IF((Continent=S$7)*(JobType=$B12),Salaries),S$5)","v":85000},null,null,null,"Controller",{"$f":"QUARTILE(IF((Continent=X$7)*(JobType=$B12),Salaries),X$5)","v":24000},{"$f":"QUARTILE(IF((Continent=Y$7)*(JobType=$B12),Salaries),Y$5)","v":67000},{"$f":"QUARTILE(IF((Continent=Z$7)*(JobType=$B12),Salaries),Z$5)","v":80000},{"$f":"QUARTILE(IF((Continent=AA$7)*(JobType=$B12),Salaries),AA$5)","v":101000},{"$f":"QUARTILE(IF((Continent=AB$7)*(JobType=$B12),Salaries),AB$5)","v":214000},null,null,null,null,"Africa",{"$f":"SUM((Continent=$AG12)*(YearsExp>AH$6)*(YearsExp<=AH$7))","v":5},{"$f":"SUM((Continent=$AG12)*(YearsExp>AI$6)*(YearsExp<=AI$7))","v":6},{"$f":"SUM((Continent=$AG12)*(YearsExp>AJ$6)*(YearsExp<=AJ$7))","v":11},{"$f":"SUM((Continent=$AG12)*(YearsExp>AK$6)*(YearsExp<=AK$7))","v":3},{"$f":"SUM((Continent=$AG12)*(YearsExp>AL$6)*(YearsExp<=AL$7))","v":6},31,null,"Africa",{"$f":"SUMPRODUCT((Continent=$AO12)*(CodeHours=AP$6))","v":0},{"$f":"SUMPRODUCT((Continent=$AO12)*(CodeHours=AQ$6))","v":0},{"$f":"SUMPRODUCT((Continent=$AO12)*(CodeHours=AR$6))","v":4},{"$f":"SUMPRODUCT((Continent=$AO12)*(CodeHours=AS$6))","v":19},{"$f":"SUMPRODUCT((Continent=$AO12)*(CodeHours=AT$6))","v":14},37,null,"Africa",{"$f":"SUM((Continent=$AG12)*(YearsExp>AX$6)*(YearsExp<=AX$7)*Salaries)/AH12","v":17526.95344294914},{"$f":"SUM((Continent=$AG12)*(YearsExp>AY$6)*(YearsExp<=AY$7)*Salaries)/AI12","v":14649.306135750267},{"$f":"SUM((Continent=$AG12)*(YearsExp>AZ$6)*(YearsExp<=AZ$7)*Salaries)/AJ12","v":43760.597766058636},{"$f":"SUM((Continent=$AG12)*(YearsExp>BA$6)*(YearsExp<=BA$7)*Salaries)/AK12","v":24948.757901547349},{"$f":"SUM((Continent=$AG12)*(YearsExp>BB$6)*(YearsExp<=BB$7)*Salaries)/AL12","v":75481.804840619778},null,null,"Africa",{"$f":"IFERROR(SUM((Continent=$AO12)*(CodeHours=BF$6)*Salaries)/AP12,\"\")","v":""},{"$f":"IFERROR(SUM((Continent=$AO12)*(CodeHours=BG$6)*Salaries)/AQ12,\"\")","v":""},{"$f":"IFERROR(SUM((Continent=$AO12)*(CodeHours=BH$6)*Salaries)/AR12,\"\")","v":48526.945444128934},{"$f":"IFERROR(SUM((Continent=$AO12)*(CodeHours=BI$6)*Salaries)/AS12,\"\")","v":48354.304780975122},{"$f":"IFERROR(SUM((Continent=$AO12)*(CodeHours=BJ$6)*Salaries)/AT12,\"\")","v":33033.587988653853},null,5,{"$f":"INDEX($BU$18:$BY$120,$BL12,COLUMNS($BL$8:BM12))","v":"Canada"},{"$f":"INDEX($BU$18:$BY$120,$BL12,COLUMNS($BL$8:BN12))","v":89799.526836779929},{"$f":"INDEX($BU$18:$BY$120,$BL12,COLUMNS($BL$8:BO12))","v":8.75},{"$f":"INDEX($BU$18:$BY$120,$BL12,COLUMNS($BL$8:BP12))","v":58}]
[null,"CXO or Top Mgmt.",{"$f":"SUM((Continent=C$8)*(JobType=$B13)*(YearsExp>$D$4)*(YearsExp<$E$4)*(CodeHours>$D$5)*(CodeHours<$E$5)*Salaries)","v":193491.56260907347},{"$f":"SUM((Continent=D$8)*(JobType=$B13)*(YearsExp>$D$4)*(YearsExp<$E$4)*(CodeHours>$D$5)*(CodeHours<$E$5)*Salaries)","v":127039.94389916077},{"$f":"SUM((Continent=E$8)*(JobType=$B13)*(YearsExp>$D$4)*(YearsExp<$E$4)*(CodeHours>$D$5)*(CodeHours<$E$5)*Salaries)","v":0},{"$f":"SUM((Continent=F$8)*(JobType=$B13)*(YearsExp>$D$4)*(YearsExp<$E$4)*(CodeHours>$D$5)*(CodeHours<$E$5)*Salaries)","v":293000},{"$f":"SUM((Continent=G$8)*(JobType=$B13)*(YearsExp>$D$4)*(YearsExp<$E$4)*(CodeHours>$D$5)*(CodeHours<$E$5)*Salaries)","v":0},{"$f":"SUM((Continent=H$8)*(JobType=$B13)*(YearsExp>$D$4)*(YearsExp<$E$4)*(CodeHours>$D$5)*(CodeHours<$E$5)*Salaries)","v":0},613531.50650823419,293000,null,null,null,"CXO or Top Mgmt.",{"$f":"QUARTILE(IF((Continent=O$7)*(JobType=$B13)*1,Salaries),O$5)","v":2671.1875031163854},{"$f":"QUARTILE(IF((Continent=P$7)*(JobType=$B13),Salaries),P$5)","v":13801.135432767991},{"$f":"QUARTILE(IF((Continent=Q$7)*(JobType=$B13),Salaries),Q$5)","v":30000},{"$f":"QUARTILE(IF((Continent=R$7)*(JobType=$B13),Salaries),R$5)","v":47259.895859303215},{"$f":"QUARTILE(IF((Continent=S$7)*(JobType=$B13),Salaries),S$5)","v":100800},null,null,null,"CXO or Top Mgmt.",{"$f":"QUARTILE(IF((Continent=X$7)*(JobType=$B13),Salaries),X$5)","v":16000},{"$f":"QUARTILE(IF((Continent=Y$7)*(JobType=$B13),Salaries),Y$5)","v":87500},{"$f":"QUARTILE(IF((Continent=Z$7)*(JobType=$B13),Salaries),Z$5)","v":107500},{"$f":"QUARTILE(IF((Continent=AA$7)*(JobType=$B13),Salaries),AA$5)","v":150000},{"$f":"QUARTILE(IF((Continent=AB$7)*(JobType=$B13),Salaries),AB$5)","v":300000},null,null,null,null,"North Amer.",{"$f":"SUM((Continent=$AG13)*(YearsExp>AH$6)*(YearsExp<=AH$7))","v":55},{"$f":"SUM((Continent=$AG13)*(YearsExp>AI$6)*(YearsExp<=AI$7))","v":69},{"$f":"SUM((Continent=$AG13)*(YearsExp>AJ$6)*(YearsExp<=AJ$7))","v":106},{"$f":"SUM((Continent=$AG13)*(YearsExp>AK$6)*(YearsExp<=AK$7))","v":69},{"$f":"SUM((Continent=$AG13)*(YearsExp>AL$6)*(YearsExp<=AL$7))","v":69},368,null,"North Amer.",{"$f":"SUMPRODUCT((Continent=$AO13)*(CodeHours=AP$6))","v":4},{"$f":"SUMPRODUCT((Continent=$AO13)*(CodeHours=AQ$6))","v":50},{"$f":"SUMPRODUCT((Continent=$AO13)*(CodeHours=AR$6))","v":169},{"$f":"SUMPRODUCT((Continent=$AO13)*(CodeHours=AS$6))","v":312},{"$f":"SUMPRODUCT((Continent=$AO13)*(CodeHours=AT$6))","v":155},690,null,"North Amer.",{"$f":"SUM((Continent=$AG13)*(YearsExp>AX$6)*(YearsExp<=AX$7)*Salaries)/AH13","v":51417.855048220466},{"$f":"SUM((Continent=$AG13)*(YearsExp>AY$6)*(YearsExp<=AY$7)*Salaries)/AI13","v":58797.107319494513},{"$f":"SUM((Continent=$AG13)*(YearsExp>AZ$6)*(YearsExp<=AZ$7)*Salaries)/AJ13","v":74894.327285627005},{"$f":"SUM((Continent=$AG13)*(YearsExp>BA$6)*(YearsExp<=BA$7)*Salaries)/AK13","v":78838.123173869142},{"$f":"SUM((Continent=$AG13)*(YearsExp>BB$6)*(YearsExp<=BB$7)*Salaries)/AL13","v":92970.089628414746},null,null,"North Amer.",{"$f":"IFERROR(SUM((Continent=$AO13)*(CodeHours=BF$6)*Salaries)/AP13,\"\")","v":52000.422845454901},{"$f":"IFERROR(SUM((Continent=$AO13)*(CodeHours=BG$6)*Salaries)/AQ13,\"\")","v":76379.760721394006},{"$f":"IFERROR(SUM((Continent=$AO13)*(CodeHours=BH$6)*Salaries)/AR13,\"\")","v":76483.57302765589},{"$f":"IFERROR(SUM((Continent=$AO13)*(CodeHours=BI$6)*Salaries)/AS13,\"\")","v":72974.603343195253},{"$f":"IFERROR(SUM((Continent=$AO13)*(CodeHours=BJ$6)*Salaries)/AT13,\"\")","v":69858.430266342722}]
[null,"Engineer",{"$f":"SUM((Continent=C$8)*(JobType=$B14)*(YearsExp>$D$4)*(YearsExp<$E$4)*(CodeHours>$D$5)*(CodeHours<$E$5)*Salaries)","v":101036.72918432618},{"$f":"SUM((Continent=D$8)*(JobType=$B14)*(YearsExp>$D$4)*(YearsExp<$E$4)*(CodeHours>$D$5)*(CodeHours<$E$5)*Salaries)","v":0},{"$f":"SUM((Continent=E$8)*(JobType=$B14)*(YearsExp>$D$4)*(YearsExp<$E$4)*(CodeHours>$D$5)*(CodeHours<$E$5)*Salaries)","v":0},{"$f":"SUM((Continent=F$8)*(JobType=$B14)*(YearsExp>$D$4)*(YearsExp<$E$4)*(CodeHours>$D$5)*(CodeHours<$E$5)*Salaries)","v":60000},{"$f":"SUM((Continent=G$8)*(JobType=$B14)*(YearsExp>$D$4)*(YearsExp<$E$4)*(CodeHours>$D$5)*(CodeHours<$E$5)*Salaries)","v":80000},{"$f":"SUM((Continent=H$8)*(JobType=$B14)*(YearsExp>$D$4)*(YearsExp<$E$4)*(CodeHours>$D$5)*(CodeHours<$E$5)*Salaries)","v":0},241036.72918432619,60000,null,null,null,"Engineer",{"$f":"QUARTILE(IF((Continent=O$7)*(JobType=$B14)*1,Salaries),O$5)","v":2671.1875031163854},{"$f":"QUARTILE(IF((Continent=P$7)*(JobType=$B14),Salaries),P$5)","v":7229.5416687442566},{"$f":"QUARTILE(IF((Continent=Q$7)*(JobType=$B14),Salaries),Q$5)","v":11702.410218719113},{"$f":"QUARTILE(IF((Continent=R$7)*(JobType=$B14),Salaries),R$5)","v":24000},{"$f":"QUARTILE(IF((Continent=S$7)*(JobType=$B14),Salaries),S$5)","v":138000},null,null,null,"Engineer",{"$f":"QUARTILE(IF((Continent=X$7)*(JobType=$B14),Salaries),X$5)","v":6629},{"$f":"QUARTILE(IF((Continent=Y$7)*(JobType=$B14),Salaries),Y$5)","v":57000},{"$f":"QUARTILE(IF((Continent=Z$7)*(JobType=$B14),Salaries),Z$5)","v":71250},{"$f":"QUARTILE(IF((Continent=AA$7)*(JobType=$B14),Salaries),AA$5)","v":85000},{"$f":"QUARTILE(IF((Continent=AB$7)*(JobType=$B14),Salaries),AB$5)","v":130000},null,null,null,null,"South Amer.",{"$f":"SUM((Continent=$AG14)*(YearsExp>AH$6)*(YearsExp<=AH$7))","v":3},{"$f":"SUM((Continent=$AG14)*(YearsExp>AI$6)*(YearsExp<=AI$7))","v":4},{"$f":"SUM((Continent=$AG14)*(YearsExp>AJ$6)*(YearsExp<=AJ$7))","v":10},{"$f":"SUM((Continent=$AG14)*(YearsExp>AK$6)*(YearsExp<=AK$7))","v":2},{"$f":"SUM((Continent=$AG14)*(YearsExp>AL$6)*(YearsExp<=AL$7))","v":3},22,null,"South Amer.",{"$f":"SUMPRODUCT((Continent=$AO14)*(CodeHours=AP$6))","v":0},{"$f":"SUMPRODUCT((Continent=$AO14)*(CodeHours=AQ$6))","v":8},{"$f":"SUMPRODUCT((Continent=$AO14)*(CodeHours=AR$6))","v":3},{"$f":"SUMPRODUCT((Continent=$AO14)*(CodeHours=AS$6))","v":8},{"$f":"SUMPRODUCT((Continent=$AO14)*(CodeHours=AT$6))","v":16},35,null,"South Amer.",{"$f":"SUM((Continent=$AG14)*(YearsExp>AX$6)*(YearsExp<=AX$7)*Salaries)/AH14","v":16533.333333333332},{"$f":"SUM((Continent=$AG14)*(YearsExp>AY$6)*(YearsExp<=AY$7)*Salaries)/AI14","v":49221.08751742341},{"$f":"SUM((Continent=$AG14)*(YearsExp>AZ$6)*(YearsExp<=AZ$7)*Salaries)/AJ14","v":24683.138141700525},{"$f":"SUM((Continent=$AG14)*(YearsExp>BA$6)*(YearsExp<=BA$7)*Salaries)/AK14","v":27850},{"$f":"SUM((Continent=$AG14)*(YearsExp>BB$6)*(YearsExp<=BB$7)*Salaries)/AL14","v":15200},null,null,"South Amer.",{"$f":"IFERROR(SUM((Continent=$AO14)*(CodeHours=BF$6)*Salaries)/AP14,\"\")","v":""},{"$f":"IFERROR(SUM((Continent=$AO14)*(CodeHours=BG$6)*Salaries)/AQ14,\"\")","v":24611.397876568106},{"$f":"IFERROR(SUM((Continent=$AO14)*(CodeHours=BH$6)*Salaries)/AR14,\"\")","v":43133.333333333336},{"$f":"IFERROR(SUM((Continent=$AO14)*(CodeHours=BI$6)*Salaries)/AS14,\"\")","v":24425},{"$f":"IFERROR(SUM((Continent=$AO14)*(CodeHours=BJ$6)*Salaries)/AT14,\"\")","v":42899.97177963463},null,null,null,null,null,null,null,null,null,null,null,null,null,null,null,null,null,null,null,"between 2 and 25"]
[null,"Manager",{"$f":"SUM((Continent=C$8)*(JobType=$B15)*(YearsExp>$D$4)*(YearsExp<$E$4)*(CodeHours>$D$5)*(CodeHours<$E$5)*Salaries)","v":372953.42018847895},{"$f":"SUM((Continent=D$8)*(JobType=$B15)*(YearsExp>$D$4)*(YearsExp<$E$4)*(CodeHours>$D$5)*(CodeHours<$E$5)*Salaries)","v":829441.00881309027},{"$f":"SUM((Continent=E$8)*(JobType=$B15)*(YearsExp>$D$4)*(YearsExp<$E$4)*(CodeHours>$D$5)*(CodeHours<$E$5)*Salaries)","v":0},{"$f":"SUM((Continent=F$8)*(JobType=$B15)*(YearsExp>$D$4)*(YearsExp<$E$4)*(CodeHours>$D$5)*(CodeHours<$E$5)*Salaries)","v":942000},{"$f":"SUM((Continent=G$8)*(JobType=$B15)*(YearsExp>$D$4)*(YearsExp<$E$4)*(CodeHours>$D$5)*(CodeHours<$E$5)*Salaries)","v":32691.183012544854},{"$f":"SUM((Continent=H$8)*(JobType=$B15)*(YearsExp>$D$4)*(YearsExp<$E$4)*(CodeHours>$D$5)*(CodeHours<$E$5)*Salaries)","v":328410.90936164872},2505496.5213757628,942000,null,null,null,"Manager",{"$f":"QUARTILE(IF((Continent=O$7)*(JobType=$B15)*1,Salaries),O$5)","v":1805.7739622442759},{"$f":"QUARTILE(IF((Continent=P$7)*(JobType=$B15),Salaries),P$5)","v":7693.0200089751897},{"$f":"QUARTILE(IF((Continent=Q$7)*(JobType=$B15),Salaries),Q$5)","v":11575.14584683767},{"$f":"QUARTILE(IF((Continent=R$7)*(JobType=$B15),Salaries),R$5)","v":21369.500024931083},{"$f":"QUARTILE(IF((Continent=S$7)*(JobType=$B15),Salaries),S$5)","v":186983.12521814698},null,null,null,"Manager",{"$f":"QUARTILE(IF((Continent=X$7)*(JobType=$B15),Salaries),X$5)","v":11000},{"$f":"QUARTILE(IF((Continent=Y$7)*(JobType=$B15),Salaries),Y$5)","v":52000},{"$f":"QUARTILE(IF((Continent=Z$7)*(JobType=$B15),Salaries),Z$5)","v":68835.306612122877},{"$f":"QUARTILE(IF((Continent=AA$7)*(JobType=$B15),Salaries),AA$5)","v":90000},{"$f":"QUARTILE(IF((Continent=AB$7)*(JobType=$B15),Salaries),AB$5)","v":400000},null,null,null,null,"Oceania",{"$f":"SUM((Continent=$AG15)*(YearsExp>AH$6)*(YearsExp<=AH$7))","v":8},{"$f":"SUM((Continent=$AG15)*(YearsExp>AI$6)*(YearsExp<=AI$7))","v":23},{"$f":"SUM((Continent=$AG15)*(YearsExp>AJ$6)*(YearsExp<=AJ$7))","v":26},{"$f":"SUM((Continent=$AG15)*(YearsExp>AK$6)*(YearsExp<=AK$7))","v":13},{"$f":"SUM((Continent=$AG15)*(YearsExp>AL$6)*(YearsExp<=AL$7))","v":19},89,null,"Oceania",{"$f":"SUMPRODUCT((Continent=$AO15)*(CodeHours=AP$6))","v":0},{"$f":"SUMPRODUCT((Continent=$AO15)*(CodeHours=AQ$6))","v":10},{"$f":"SUMPRODUCT((Continent=$AO15)*(CodeHours=AR$6))","v":29},{"$f":"SUMPRODUCT((Continent=$AO15)*(CodeHours=AS$6))","v":43},{"$f":"SUMPRODUCT((Continent=$AO15)*(CodeHours=AT$6))","v":14},96,null,"Oceania",{"$f":"SUM((Continent=$AG15)*(YearsExp>AX$6)*(YearsExp<=AX$7)*Salaries)/AH15","v":63991.058205224173},{"$f":"SUM((Continent=$AG15)*(YearsExp>AY$6)*(YearsExp<=AY$7)*Salaries)/AI15","v":73916.59205674447},{"$f":"SUM((Continent=$AG15)*(YearsExp>AZ$6)*(YearsExp<=AZ$7)*Salaries)/AJ15","v":94882.756140380036},{"$f":"SUM((Continent=$AG15)*(YearsExp>BA$6)*(YearsExp<=BA$7)*Salaries)/AK15","v":103362.02086396991},{"$f":"SUM((Continent=$AG15)*(YearsExp>BB$6)*(YearsExp<=BB$7)*Salaries)/AL15","v":102453.49593802381},null,null,"Oceania",{"$f":"IFERROR(SUM((Continent=$AO15)*(CodeHours=BF$6)*Salaries)/AP15,\"\")","v":""},{"$f":"IFERROR(SUM((Continent=$AO15)*(CodeHours=BG$6)*Salaries)/AQ15,\"\")","v":95361.552873646448},{"$f":"IFERROR(SUM((Continent=$AO15)*(CodeHours=BH$6)*Salaries)/AR15,\"\")","v":94419.587956928779},{"$f":"IFERROR(SUM((Continent=$AO15)*(CodeHours=BI$6)*Salaries)/AS15,\"\")","v":87670.994255281956},{"$f":"IFERROR(SUM((Continent=$AO15)*(CodeHours=BJ$6)*Salaries)/AT15,\"\")","v":79581.786449313731}]
[null,"Misc.",{"$f":"SUM((Continent=C$8)*(JobType=$B16)*(YearsExp>$D$4)*(YearsExp<$E$4)*(CodeHours>$D$5)*(CodeHours<$E$5)*Salaries)","v":0},{"$f":"SUM((Continent=D$8)*(JobType=$B16)*(YearsExp>$D$4)*(YearsExp<$E$4)*(CodeHours>$D$5)*(CodeHours<$E$5)*Salaries)","v":0},{"$f":"SUM((Continent=E$8)*(JobType=$B16)*(YearsExp>$D$4)*(YearsExp<$E$4)*(CodeHours>$D$5)*(CodeHours<$E$5)*Salaries)","v":0},{"$f":"SUM((Continent=F$8)*(JobType=$B16)*(YearsExp>$D$4)*(YearsExp<$E$4)*(CodeHours>$D$5)*(CodeHours<$E$5)*Salaries)","v":74461},{"$f":"SUM((Continent=G$8)*(JobType=$B16)*(YearsExp>$D$4)*(YearsExp<$E$4)*(CodeHours>$D$5)*(CodeHours<$E$5)*Salaries)","v":0},{"$f":"SUM((Continent=H$8)*(JobType=$B16)*(YearsExp>$D$4)*(YearsExp<$E$4)*(CodeHours>$D$5)*(CodeHours<$E$5)*Salaries)","v":0},74461,74461,null,null,null,"Misc.",{"$f":"QUARTILE(IF((Continent=O$7)*(JobType=$B16)*1,Salaries),O$5)","v":2493.1083362419595},{"$f":"QUARTILE(IF((Continent=P$7)*(JobType=$B16),Salaries),P$5)","v":4373.2770840604899},{"$f":"QUARTILE(IF((Continent=Q$7)*(JobType=$B16),Salaries),Q$5)","v":13000},{"$f":"QUARTILE(IF((Continent=R$7)*(JobType=$B16),Salaries),R$5)","v":26178.0577973744},{"$f":"QUARTILE(IF((Continent=S$7)*(JobType=$B16),Salaries),S$5)","v":41712.231189497601},null,null,null,"Misc.",{"$f":"QUARTILE(IF((Continent=X$7)*(JobType=$B16),Salaries),X$5)","v":74461},{"$f":"QUARTILE(IF((Continent=Y$7)*(JobType=$B16),Salaries),Y$5)","v":80730.5},{"$f":"QUARTILE(IF((Continent=Z$7)*(JobType=$B16),Salaries),Z$5)","v":87000},{"$f":"QUARTILE(IF((Continent=AA$7)*(JobType=$B16),Salaries),AA$5)","v":88500},{"$f":"QUARTILE(IF((Continent=AB$7)*(JobType=$B16),Salaries),AB$5)","v":90000},null,null,null,null,"Worldwide",{"$f":"SUM(AH10:AH15)","v":193},{"$f":"SUM(AI10:AI15)","v":356},405,190,179,1323,null,"Worldwide",{"$f":"SUM(AP10:AP15)","v":7},{"$f":"SUM(AQ10:AQ15)","v":174},{"$f":"SUM(AR10:AR15)","v":451},{"$f":"SUM(AS10:AS15)","v":774},{"$f":"SUM(AT10:AT15)","v":476},1882,null,"Worldwide",{"$f":"AVERAGE(AX10:AX15)","v":33880.100382957731},{"$f":"AVERAGE(AY10:AY15)","v":43776.19160646035},53164.000700434437,54073.585451229308,63988.140024263856,null,null,"Worldwide",{"$f":"AVERAGE(BF10:BF15)","v":78075.470810461731},{"$f":"AVERAGE(BG10:BG15)","v":57888.192729845679},57902.644959117832,51982.58123008228,49822.103053302882,null,"Original Data",null,null,null,null,null,"Sorted data",null,null,null,null,null,null,null,null,null,"Random ",null,null,null,null,"Conversion",null,null,null,null,"Text"]
[null,"Reporting",{"$f":"SUM((Continent=C$8)*(JobType=$B17)*(YearsExp>$D$4)*(YearsExp<$E$4)*(CodeHours>$D$5)*(CodeHours<$E$5)*Salaries)","v":22287.46251433537},{"$f":"SUM((Continent=D$8)*(JobType=$B17)*(YearsExp>$D$4)*(YearsExp<$E$4)*(CodeHours>$D$5)*(CodeHours<$E$5)*Salaries)","v":0},{"$f":"SUM((Continent=E$8)*(JobType=$B17)*(YearsExp>$D$4)*(YearsExp<$E$4)*(CodeHours>$D$5)*(CodeHours<$E$5)*Salaries)","v":0},{"$f":"SUM((Continent=F$8)*(JobType=$B17)*(YearsExp>$D$4)*(YearsExp<$E$4)*(CodeHours>$D$5)*(CodeHours<$E$5)*Salaries)","v":0},{"$f":"SUM((Continent=G$8)*(JobType=$B17)*(YearsExp>$D$4)*(YearsExp<$E$4)*(CodeHours>$D$5)*(CodeHours<$E$5)*Salaries)","v":0},{"$f":"SUM((Continent=H$8)*(JobType=$B17)*(YearsExp>$D$4)*(YearsExp<$E$4)*(CodeHours>$D$5)*(CodeHours<$E$5)*Salaries)","v":0},22287.46251433537,0,null,null,null,"Reporting",{"$f":"QUARTILE(IF((Continent=O$7)*(JobType=$B17)*1,Salaries),O$5)","v":1910.5359690238436},{"$f":"QUARTILE(IF((Continent=P$7)*(JobType=$B17),Salaries),P$5)","v":4000},{"$f":"QUARTILE(IF((Continent=Q$7)*(JobType=$B17),Salaries),Q$5)","v":5983.4600069807029},{"$f":"QUARTILE(IF((Continent=R$7)*(JobType=$B17),Salaries),R$5)","v":10000},{"$f":"QUARTILE(IF((Continent=S$7)*(JobType=$B17),Salaries),S$5)","v":100614.72928405051},null,null,null,"Reporting",{"$f":"QUARTILE(IF((Continent=X$7)*(JobType=$B17),Salaries),X$5)","v":32000},{"$f":"QUARTILE(IF((Continent=Y$7)*(JobType=$B17),Salaries),Y$5)","v":37000},{"$f":"QUARTILE(IF((Continent=Z$7)*(JobType=$B17),Salaries),Z$5)","v":45000},{"$f":"QUARTILE(IF((Continent=AA$7)*(JobType=$B17),Salaries),AA$5)","v":85000},{"$f":"QUARTILE(IF((Continent=AB$7)*(JobType=$B17),Salaries),AB$5)","v":92000},null,null,null,null,null,null,null,null,null,null,null,null,null,null,null,null,null,null,null,null,null,null,null,null,null,null,null,null,null,null,null,null,null,null,null,"No","Country","Salary","Experience","Nb responses",null,{"$f":"+BO3","v":"Nb responses"},"Sort order","Order","No.","Country","Salary","Experience","Nb responses",null,null,"Continent","Job Type","Experience","Hours / Day",null,"Continent","Job Type","Experience","Hours / Day",null,"Continent","Job Type","Experience","Hours / Day",null,"Calculations",null,"Random","Rank","Value","Random message"]
[null,"Specialist",{"$f":"SUM((Continent=C$8)*(JobType=$B18)*(YearsExp>$D$4)*(YearsExp<$E$4)*(CodeHours>$D$5)*(CodeHours<$E$5)*Salaries)","v":0},{"$f":"SUM((Continent=D$8)*(JobType=$B18)*(YearsExp>$D$4)*(YearsExp<$E$4)*(CodeHours>$D$5)*(CodeHours<$E$5)*Salaries)","v":88927.960729412545},{"$f":"SUM((Continent=E$8)*(JobType=$B18)*(YearsExp>$D$4)*(YearsExp<$E$4)*(CodeHours>$D$5)*(CodeHours<$E$5)*Salaries)","v":0},{"$f":"SUM((Continent=F$8)*(JobType=$B18)*(YearsExp>$D$4)*(YearsExp<$E$4)*(CodeHours>$D$5)*(CodeHours<$E$5)*Salaries)","v":0},{"$f":"SUM((Continent=G$8)*(JobType=$B18)*(YearsExp>$D$4)*(YearsExp<$E$4)*(CodeHours>$D$5)*(CodeHours<$E$5)*Salaries)","v":0},{"$f":"SUM((Continent=H$8)*(JobType=$B18)*(YearsExp>$D$4)*(YearsExp<$E$4)*(CodeHours>$D$5)*(CodeHours<$E$5)*Salaries)","v":0},88927.960729412545,0,null,null,null,"Specialist",{"$f":"QUARTILE(IF((Continent=O$7)*(JobType=$B18)*1,Salaries),O$5)","v":4019},{"$f":"QUARTILE(IF((Continent=P$7)*(JobType=$B18),Salaries),P$5)","v":9455.4250037396632},{"$f":"QUARTILE(IF((Continent=Q$7)*(JobType=$B18),Salaries),Q$5)","v":18000},{"$f":"QUARTILE(IF((Continent=R$7)*(JobType=$B18),Salaries),R$5)","v":28000},{"$f":"QUARTILE(IF((Continent=S$7)*(JobType=$B18),Salaries),S$5)","v":99147},null,null,null,"Specialist",{"$f":"QUARTILE(IF((Continent=X$7)*(JobType=$B18),Salaries),X$5)","v":31000},{"$f":"QUARTILE(IF((Continent=Y$7)*(JobType=$B18),Salaries),Y$5)","v":45000},{"$f":"QUARTILE(IF((Continent=Z$7)*(JobType=$B18),Salaries),Z$5)","v":50000},{"$f":"QUARTILE(IF((Continent=AA$7)*(JobType=$B18),Salaries),AA$5)","v":69000},{"$f":"QUARTILE(IF((Continent=AB$7)*(JobType=$B18),Salaries),AB$5)","v":400000},null,null,null,null,null,null,null,null,null,null,null,null,null,null,null,null,null,null,null,null,null,null,null,null,null,null,null,null,null,null,null,null,null,null,null,1,"Albania",{"$f":"SUM((Country=BM18)*Salaries)/SUM((Country=BM18)*1)","v":20571},{"$f":"IFERROR(SUM((Country=BM18)*(YearsExp<>\"\")*YearsExp)/SUM((Country=BM18)*(YearsExp<>\"\")*1),0)","v":8},{"$f":"SUM((Country=BM18)*1)","v":1},null,{"$f":"CHOOSE($BN$3,104-BL18,BN18,BO18,BP18)+0.00001*ROWS($BM$18:BM18)","v":1.0000100000000001},{"$f":"RANK(BR18,$BR$18:$BR$120)","v":103},1,{"$f":"INDEX($BL$18:$BL$120,MATCH($BT$18:$BT$120,$BS$18:$BS$120,0))","v":100},{"$f":"INDEX($BM$18:$BM$120,MATCH($BT$18:$BT$120,$BS$18:$BS$120,0))","v":"USA"},{"$f":"INDEX($BN$18:$BN$120,MATCH($BT$18:$BT$120,$BS$18:$BS$120,0))","v":72738.12965964344},{"$f":"INDEX($BO$18:$BO$120,MATCH($BT$18:$BT$120,$BS$18:$BS$120,0))","v":10.292035398230089},{"$f":"INDEX($BP$18:$BP$120,MATCH($BT$18:$BT$120,$BS$18:$BS$120,0))","v":617},null,null,{"$f":"RANDBETWEEN(1,6)","v":4},{"$f":"RANDBETWEEN(1,9)","v":1},{"$f":"RANDBETWEEN(2,25)","v":20},{"$f":"RANDBETWEEN(1,5)","v":2},null,{"$f":"VLOOKUP(CB18,$CB$52:$CD$57,2,0)","v":"North Amer."},{"$f":"VLOOKUP(CC18,$CB$41:$CD$49,2)","v":"Accountant"},{"$f":"+CD18","v":20},{"$f":"VLOOKUP(CE18,$CB$60:$CD$64,2)","v":2},null,{"$f":"VLOOKUP(CB18,$CB$52:$CD$57,3,0)","v":"in North America"},{"$f":"VLOOKUP(CC18,$CB$41:$CD$49,3)","v":"working as Accountant"},{"$f":"CD18","v":20},{"$f":"VLOOKUP(CE18,$CB$60:$CD$64,3)","v":"1 or 2 hours a day"},null,{"$f":"AVERAGE(Salaries)","v":49814.598255586949},null,{"$f":"RAND()","v":0.34613975063740465},{"$f":"RANK(CS18,$CS$18:$CS$33)","v":10},{"$f":"TEXT(CQ18,\"# $\")","v":"49815 $"},"Average salary of all participants in the world."]
[null,null,null,null,null,null,null,null,null,null,null,null,null,null,null,null,null,null,null,null,null,null,null,null,null,null,null,null,null,null,null,null,null,null,null,null,null,null,null,null,null,null,null,null,null,null,null,null,null,null,null,null,null,null,null,null,null,null,null,null,null,null,null,2,"Arabian Gulf",{"$f":"SUM((Country=BM19)*Salaries)/SUM((Country=BM19)*1)","v":21000},{"$f":"IFERROR(SUM((Country=BM19)*(YearsExp<>\"\")*YearsExp)/SUM((Country=BM19)*(YearsExp<>\"\")*1),0)","v":0},{"$f":"SUM((Country=BM19)*1)","v":1},null,{"$f":"CHOOSE($BN$3,104-BL19,BN19,BO19,BP19)+0.00001*ROWS($BM$18:BM19)","v":1.0000199999999999},{"$f":"RANK(BR19,$BR$18:$BR$120)","v":102},2,43,"India",13529.430894182482,6.4691823899371066,565,null,null,{"$f":"RANDBETWEEN(1,6)","v":1},{"$f":"RANDBETWEEN(1,9)","v":4},{"$f":"RANDBETWEEN(2,25)","v":23},{"$f":"RANDBETWEEN(1,5)","v":3},null,"Asia","Controller",{"$f":"+CD19","v":23},{"$f":"VLOOKUP(CE19,$CB$60:$CD$64,2)","v":3},null,"in Asia","working as Controller",{"$f":"CD19","v":23},{"$f":"VLOOKUP(CE19,$CB$60:$CD$64,3)","v":"2 to 3 hours per day"},null,{"$f":"SUM((Continent=CG19)*Salaries)/SUM((Continent=CG19)*1)","v":17575.631135886717},null,0.31903912614681884,{"$f":"RANK(CS19,$CS$18:$CS$33)","v":11},{"$f":"TEXT(CQ19,\"# $\")","v":"17576 $"},{"$f":"\"Average salary of participants living \" & CL19 & \".\"","v":"Average salary of participants living in Asia."}]
[null,null,null,null,null,null,null,null,null,null,null,null,null,null,null,null,null,null,null,null,null,null,null,null,null,null,null,null,null,null,null,null,null,null,null,null,null,null,null,null,null,null,null,null,null,null,null,null,"For the graph",null,null,null,null,null,null,null,null,null,null,null,null,null,null,3,"Argentina",{"$f":"SUM((Country=BM20)*Salaries)/SUM((Country=BM20)*1)","v":24000},{"$f":"IFERROR(SUM((Country=BM20)*(YearsExp<>\"\")*YearsExp)/SUM((Country=BM20)*(YearsExp<>\"\")*1),0)","v":21},{"$f":"SUM((Country=BM20)*1)","v":1},null,{"$f":"CHOOSE($BN$3,104-BL20,BN20,BO20,BP20)+0.00001*ROWS($BM$18:BM20)","v":1.00003},101,3,97,"UK",67240.730112795849,10.382882882882884,154,null,null,5,9,20,{"$f":"RANDBETWEEN(1,5)","v":2},null,"South Amer.","Specialist",20,2,null,"in South America","working as Specialist",20,"1 or 2 hours a day",null,{"$f":"SUM((Continent=CG20)*1)","v":35},null,0.66614938161175263,8,{"$f":"+CQ20","v":35},{"$f":"\"Participants living \" & CL20 & \".\"","v":"Participants living in South America."}]
[null,"Nb of persons",null,null,null,null,null,null,null,null,null,null,null,null,"Min","1st Quartile","Median","3rd quartile","Max",null,null,null,null,"Min","1st Quartile","Median","3rd quartile","Max",null,null,null,null,"Percentage",null,null,null,null,null,null,null,"Percentage",null,null,null,null,null,null,null,null,null,null,null,null,null,null,null,null,null,null,null,null,null,null,4,"Armenia",{"$f":"SUM((Country=BM21)*Salaries)/SUM((Country=BM21)*1)","v":6000},{"$f":"IFERROR(SUM((Country=BM21)*(YearsExp<>\"\")*YearsExp)/SUM((Country=BM21)*(YearsExp<>\"\")*1),0)","v":5},{"$f":"SUM((Country=BM21)*1)","v":1},null,{"$f":"CHOOSE($BN$3,104-BL21,BN21,BO21,BP21)+0.00001*ROWS($BM$18:BM21)","v":1.00004},100,4,7,"Australia",92857.629854916348,10.26,81,null,null,4,6,8,4,null,"North Amer.","Engineer",8,4,null,"in North America","working as Engineer",8,"4 to 6 hours a day",null,{"$f":"SUM((JobType=CH21)*1)","v":74},null,2.648543478029497E-2,16,{"$f":"+CQ21","v":74},{"$f":"\"Participants \" & CM21 & \".\"","v":"Participants working as Engineer."}]
[null,null,"Asia","Europe","Africa","North Amer.","South Amer.","Oceania","Worldwide",{"$f":"INDEX(C22:H22,,MATCH($D$6,$C$8:$H$8,0))","v":"North Amer."},null,null,null,"Accountant",{"$f":"+P9-O9","v":2500.9904605759289},{"$f":"+P9","v":4284.1573649981829},{"$f":"+Q9-P9","v":5289.1254081533816},{"$f":"+R9-Q9","v":14176.717226848436},{"$f":"+S9-R9","v":47481.666749770273},null,null,null,"Accountant",{"$f":"+Y9-X9","v":29500},{"$f":"+Y9","v":45000},{"$f":"+Z9-Y9","v":15000},{"$f":"+AA9-Z9","v":17000},{"$f":"+AB9-AA9","v":1152201.9037879086},null,null,null,null,null,"0 - 2 yrs","2 - 5 yrs","5 - 10 yrs","10 - 15 yrs","15+ yrs",null,null,null,"0 hrs","1 - 2 hrs","2 - 3  hrs","4 - 6 hrs","8+ hrs",null,null,{"$f":"Graph3_Data","v":0},"0 - 2 yrs","2 - 5 yrs","5 - 10 yrs","10 - 15 yrs","15+ yrs",null,null,null,null,null,null,null,null,null,5,"Aruba",{"$f":"SUM((Country=BM22)*Salaries)/SUM((Country=BM22)*1)","v":5000},{"$f":"IFERROR(SUM((Country=BM22)*(YearsExp<>\"\")*YearsExp)/SUM((Country=BM22)*(YearsExp<>\"\")*1),0)","v":13},{"$f":"SUM((Country=BM22)*1)","v":1},null,{"$f":"CHOOSE($BN$3,104-BL22,BN22,BO22,BP22)+0.00001*ROWS($BM$18:BM22)","v":1.0000500000000001},99,5,19,"Canada",89799.526836779929,8.75,58,null,null,6,6,6,2,null,"Oceania","Engineer",6,2,null,"in Oceania","working as Engineer",6,"1 or 2 hours a day",null,{"$f":"SUM((JobType=CH22)*(Continent=CG22)*1)","v":3},null,0.54854089461031053,9,{"$f":"+CQ22","v":3},{"$f":"\"Participants \" & CM22 & \" living \" & CL22 & \".\"","v":"Participants working as Engineer living in Oceania."}]
[null,"Accountant",{"$f":"SUM((Continent=C$8)*(JobType=$B23)*(YearsExp>$D$4)*(YearsExp<$E$4)*(CodeHours>$D$5)*(CodeHours<$E$5))","v":4},{"$f":"SUM((Continent=D$8)*(JobType=$B23)*(YearsExp>$D$4)*(YearsExp<$E$4)*(CodeHours>$D$5)*(CodeHours<$E$5))","v":0},{"$f":"SUM((Continent=E$8)*(JobType=$B23)*(YearsExp>$D$4)*(YearsExp<$E$4)*(CodeHours>$D$5)*(CodeHours<$E$5))","v":0},{"$f":"SUM((Continent=F$8)*(JobType=$B23)*(YearsExp>$D$4)*(YearsExp<$E$4)*(CodeHours>$D$5)*(CodeHours<$E$5))","v":0},{"$f":"SUM((Continent=G$8)*(JobType=$B23)*(YearsExp>$D$4)*(YearsExp<$E$4)*(CodeHours>$D$5)*(CodeHours<$E$5))","v":0},{"$f":"SUM((Continent=H$8)*(JobType=$B23)*(YearsExp>$D$4)*(YearsExp<$E$4)*(CodeHours>$D$5)*(CodeHours<$E$5))","v":0},{"$f":"SUM(C23:H23)","v":4},0,null,null,null,"Analyst",{"$f":"+P10-O10","v":3205.4250037396628},{"$f":"+P10","v":5342.3750062327708},{"$f":"+Q10-P10","v":3561.5833374885133},6232.7708406048987,145134.52100265693,null,null,null,"Analyst",{"$f":"+Y10-X10","v":35000},{"$f":"+Y10","v":45000},{"$f":"+Z10-Y10","v":15000},15000,170840.3807575817,null,null,null,null,"Asia",{"$f":"+AH10/$AM10","v":0.17398648648648649},{"$f":"+AI10/$AM10","v":0.34121621621621623},0.3125,0.10135135135135136,7.0945945945945943E-2,null,null,"Asia",{"$f":"IF(AP10/$AU10<0.03,NA(),AP10/$AU10)","v":{"$error":"#N/A"}},{"$f":"IF(AQ10/$AU10<0.03,NA(),AQ10/$AU10)","v":0.10555555555555556},0.2361111111111111,0.37222222222222223,0.28333333333333333,null,null,"Asia",11347.621297343105,13520.132611305962,19556.298279560633,24530.635374159621,20119.738696336226,null,null,null,null,null,null,null,null,null,6,"Asia",{"$f":"SUM((Country=BM23)*Salaries)/SUM((Country=BM23)*1)","v":12000},{"$f":"IFERROR(SUM((Country=BM23)*(YearsExp<>\"\")*YearsExp)/SUM((Country=BM23)*(YearsExp<>\"\")*1),0)","v":3},{"$f":"SUM((Country=BM23)*1)","v":1},null,{"$f":"CHOOSE($BN$3,104-BL23,BN23,BO23,BP23)+0.00001*ROWS($BM$18:BM23)","v":1.0000599999999999},98,6,70,"Pakistan",11873.552586779413,6.88,29,null,null,5,4,13,1,null,"South Amer.","Controller",13,1,null,"in South America","working as Controller",13,"0 hours a day",null,null,null,0.70736058176265304,7,"100%","Participants love Chandoo.org !"]
[null,"Analyst",{"$f":"SUM((Continent=C$8)*(JobType=$B24)*(YearsExp>$D$4)*(YearsExp<$E$4)*(CodeHours>$D$5)*(CodeHours<$E$5))","v":18},{"$f":"SUM((Continent=D$8)*(JobType=$B24)*(YearsExp>$D$4)*(YearsExp<$E$4)*(CodeHours>$D$5)*(CodeHours<$E$5))","v":5},{"$f":"SUM((Continent=E$8)*(JobType=$B24)*(YearsExp>$D$4)*(YearsExp<$E$4)*(CodeHours>$D$5)*(CodeHours<$E$5))","v":0},{"$f":"SUM((Continent=F$8)*(JobType=$B24)*(YearsExp>$D$4)*(YearsExp<$E$4)*(CodeHours>$D$5)*(CodeHours<$E$5))","v":11},{"$f":"SUM((Continent=G$8)*(JobType=$B24)*(YearsExp>$D$4)*(YearsExp<$E$4)*(CodeHours>$D$5)*(CodeHours<$E$5))","v":2},{"$f":"SUM((Continent=H$8)*(JobType=$B24)*(YearsExp>$D$4)*(YearsExp<$E$4)*(CodeHours>$D$5)*(CodeHours<$E$5))","v":4},{"$f":"SUM(C24:H24)","v":40},11,null,null,null,"Consultant",5849.900631824883,8414.2406348166132,{"$f":"+Q11-P11","v":3585.7593651833868},13376.281279605661,94623.718720394332,null,null,null,"Consultant",57000,69000,{"$f":"+Z11-Y11","v":21469.260118790073},24530.739881209927,135000,null,null,null,null,"Europe",{"$f":"+AH11/$AM11","v":8.5972850678733032E-2},0.23529411764705882,0.30316742081447962,0.19457013574660634,0.18099547511312217,null,null,"Europe",{"$f":"IF(AP11/$AU11<0.03,NA(),AP11/$AU11)","v":{"$error":"#N/A"}},9.8684210526315791E-2,0.25,0.40789473684210525,0.24013157894736842,null,null,"Europe",42463.780970676162,52552.923998043538,61206.886589279784,64911.975393829824,77703.711042188574,null,null,null,null,null,null,null,null,null,7,"Australia",{"$f":"SUM((Country=BM24)*Salaries)/SUM((Country=BM24)*1)","v":92857.629854916348},{"$f":"IFERROR(SUM((Country=BM24)*(YearsExp<>\"\")*YearsExp)/SUM((Country=BM24)*(YearsExp<>\"\")*1),0)","v":10.26},{"$f":"SUM((Country=BM24)*1)","v":81},null,{"$f":"CHOOSE($BN$3,104-BL24,BN24,BO24,BP24)+0.00001*ROWS($BM$18:BM24)","v":81.000069999999994},4,7,65,"Netherlands",73006.431203838249,9.8421052631578956,23,null,null,1,1,7,3,null,"Asia","Accountant",7,3,null,"in Asia","working as Accountant",7,"2 to 3 hours per day",null,{"$f":"SUM((Continent=CG24)*(JobType=CH24)*1)/SUM((Continent=CG24)*1)","v":6.9444444444444448E-2},null,0.24084519936543058,13,{"$f":"TEXT(CQ24,\"0.0%\")","v":"6.9%"},{"$f":"\"of Participants living \" & CL24 & \" \" & CM24 & \".\"","v":"of Participants living in Asia working as Accountant."}]
[null,"Consultant",{"$f":"SUM((Continent=C$8)*(JobType=$B25)*(YearsExp>$D$4)*(YearsExp<$E$4)*(CodeHours>$D$5)*(CodeHours<$E$5))","v":2},{"$f":"SUM((Continent=D$8)*(JobType=$B25)*(YearsExp>$D$4)*(YearsExp<$E$4)*(CodeHours>$D$5)*(CodeHours<$E$5))","v":2},{"$f":"SUM((Continent=E$8)*(JobType=$B25)*(YearsExp>$D$4)*(YearsExp<$E$4)*(CodeHours>$D$5)*(CodeHours<$E$5))","v":0},{"$f":"SUM((Continent=F$8)*(JobType=$B25)*(YearsExp>$D$4)*(YearsExp<$E$4)*(CodeHours>$D$5)*(CodeHours<$E$5))","v":0},{"$f":"SUM((Continent=G$8)*(JobType=$B25)*(YearsExp>$D$4)*(YearsExp<$E$4)*(CodeHours>$D$5)*(CodeHours<$E$5))","v":1},{"$f":"SUM((Continent=H$8)*(JobType=$B25)*(YearsExp>$D$4)*(YearsExp<$E$4)*(CodeHours>$D$5)*(CodeHours<$E$5))","v":2},7,0,null,null,null,"Controller",9885.6599970082698,12450,{"$f":"+Q12-P12","v":3363.5625093491544},23186.437490650846,46000,null,null,null,"Controller",43000,67000,{"$f":"+Z12-Y12","v":13000},21000,113000,null,null,null,null,"Africa",0.16129032258064516,0.19354838709677419,0.35483870967741937,9.6774193548387094E-2,0.19354838709677419,null,null,"Africa",{"$error":"#N/A"},{"$error":"#N/A"},0.10810810810810811,0.51351351351351349,0.3783783783783784,null,null,"Africa",17526.95344294914,14649.306135750267,43760.597766058636,24948.757901547349,75481.804840619778,null,null,null,null,null,null,null,null,null,8,"Austria",{"$f":"SUM((Country=BM25)*Salaries)/SUM((Country=BM25)*1)","v":50815.977559664309},{"$f":"IFERROR(SUM((Country=BM25)*(YearsExp<>\"\")*YearsExp)/SUM((Country=BM25)*(YearsExp<>\"\")*1),0)","v":20},{"$f":"SUM((Country=BM25)*1)","v":1},null,{"$f":"CHOOSE($BN$3,104-BL25,BN25,BO25,BP25)+0.00001*ROWS($BM$18:BM25)","v":1.0000800000000001},97,8,16,"Brazil",42672.036574334947,7.2727272727272725,20,null,null,2,8,2,2,null,"Europe","Reporting",2,2,null,"in Europe","working in Reporting",2,"1 or 2 hours a day",null,{"$f":"SUM((YearsExp<CI25)*1)","v":651},null,0.92154920207873225,1,{"$f":"+CQ25","v":651},{"$f":"\"Participants in the world with less then \" & CI25 & \" years of experience.\"","v":"Participants in the world with less then 2 years of experience."}]
[null,"Controller",{"$f":"SUM((Continent=C$8)*(JobType=$B26)*(YearsExp>$D$4)*(YearsExp<$E$4)*(CodeHours>$D$5)*(CodeHours<$E$5))","v":0},{"$f":"SUM((Continent=D$8)*(JobType=$B26)*(YearsExp>$D$4)*(YearsExp<$E$4)*(CodeHours>$D$5)*(CodeHours<$E$5))","v":0},{"$f":"SUM((Continent=E$8)*(JobType=$B26)*(YearsExp>$D$4)*(YearsExp<$E$4)*(CodeHours>$D$5)*(CodeHours<$E$5))","v":0},{"$f":"SUM((Continent=F$8)*(JobType=$B26)*(YearsExp>$D$4)*(YearsExp<$E$4)*(CodeHours>$D$5)*(CodeHours<$E$5))","v":1},{"$f":"SUM((Continent=G$8)*(JobType=$B26)*(YearsExp>$D$4)*(YearsExp<$E$4)*(CodeHours>$D$5)*(CodeHours<$E$5))","v":0},{"$f":"SUM((Continent=H$8)*(JobType=$B26)*(YearsExp>$D$4)*(YearsExp<$E$4)*(CodeHours>$D$5)*(CodeHours<$E$5))","v":1},2,1,null,null,null,"CXO or Top Mgmt.",11129.947929651606,13801.135432767991,{"$f":"+Q13-P13","v":16198.864567232009},17259.895859303215,53540.104140696785,null,null,null,"CXO or Top Mgmt.",71500,87500,{"$f":"+Z13-Y13","v":20000},42500,150000,null,null,null,null,"North Amer.",0.14945652173913043,0.1875,0.28804347826086957,0.1875,0.1875,null,null,"North Amer.",{"$error":"#N/A"},7.2463768115942032E-2,0.24492753623188407,0.45217391304347826,0.22463768115942029,null,null,"North Amer.",51417.855048220466,58797.107319494513,74894.327285627005,78838.123173869142,92970.089628414746,null,null,null,null,null,null,null,null,null,9,"Azerbaijan",{"$f":"SUM((Country=BM26)*Salaries)/SUM((Country=BM26)*1)","v":36000},{"$f":"IFERROR(SUM((Country=BM26)*(YearsExp<>\"\")*YearsExp)/SUM((Country=BM26)*(YearsExp<>\"\")*1),0)","v":5},{"$f":"SUM((Country=BM26)*1)","v":1},null,{"$f":"CHOOSE($BN$3,104-BL26,BN26,BO26,BP26)+0.00001*ROWS($BM$18:BM26)","v":1.0000899999999999},96,9,95,"UAE",43014.900191685309,9.8214285714285712,19,null,null,2,7,10,5,null,"Europe","Manager",10,5,null,"in Europe","working as Manager",10,"8 hours a day",null,{"$f":"SUM((YearsExp>CI26)*1)","v":369},null,0.74224431242645006,6,{"$f":"+CQ26","v":369},{"$f":"\"Participants in the world with more then \" & CI26 & \" years of experience.\"","v":"Participants in the world with more then 10 years of experience."}]
[null,"CXO or Top Mgmt.",{"$f":"SUM((Continent=C$8)*(JobType=$B27)*(YearsExp>$D$4)*(YearsExp<$E$4)*(CodeHours>$D$5)*(CodeHours<$E$5))","v":4},{"$f":"SUM((Continent=D$8)*(JobType=$B27)*(YearsExp>$D$4)*(YearsExp<$E$4)*(CodeHours>$D$5)*(CodeHours<$E$5))","v":1},{"$f":"SUM((Continent=E$8)*(JobType=$B27)*(YearsExp>$D$4)*(YearsExp<$E$4)*(CodeHours>$D$5)*(CodeHours<$E$5))","v":0},{"$f":"SUM((Continent=F$8)*(JobType=$B27)*(YearsExp>$D$4)*(YearsExp<$E$4)*(CodeHours>$D$5)*(CodeHours<$E$5))","v":2},{"$f":"SUM((Continent=G$8)*(JobType=$B27)*(YearsExp>$D$4)*(YearsExp<$E$4)*(CodeHours>$D$5)*(CodeHours<$E$5))","v":0},{"$f":"SUM((Continent=H$8)*(JobType=$B27)*(YearsExp>$D$4)*(YearsExp<$E$4)*(CodeHours>$D$5)*(CodeHours<$E$5))","v":0},7,2,null,null,null,"Engineer",4558.3541656278712,7229.5416687442566,{"$f":"+Q14-P14","v":4472.8685499748563},12297.589781280887,114000,null,null,null,"Engineer",50371,57000,{"$f":"+Z14-Y14","v":14250},13750,45000,null,null,null,null,"South Amer.",0.13636363636363635,0.18181818181818182,0.45454545454545453,9.0909090909090912E-2,0.13636363636363635,null,null,"South Amer.",{"$error":"#N/A"},0.22857142857142856,8.5714285714285715E-2,0.22857142857142856,0.45714285714285713,null,null,"South Amer.",16533.333333333332,49221.08751742341,24683.138141700525,27850,15200,null,null,null,null,null,null,null,null,null,10,"Baltic",{"$f":"SUM((Country=BM27)*Salaries)/SUM((Country=BM27)*1)","v":8400},{"$f":"IFERROR(SUM((Country=BM27)*(YearsExp<>\"\")*YearsExp)/SUM((Country=BM27)*(YearsExp<>\"\")*1),0)","v":0.3},{"$f":"SUM((Country=BM27)*1)","v":1},null,{"$f":"CHOOSE($BN$3,104-BL27,BN27,BO27,BP27)+0.00001*ROWS($BM$18:BM27)","v":1.0001},95,10,87,"South Africa",49555.624994016209,11.866666666666667,19,null,null,1,9,10,1,null,"Asia","Specialist",10,1,null,"in Asia","working as Specialist",10,"0 hours a day",null,{"$f":"SUM((YearsExp<CI26)*(JobType=CH26))/SUM((JobType=CH26)*1)","v":0.68458781362007171},null,0.82074772402627316,4,{"$f":"TEXT(CQ27,\"0.0%\")","v":"68.5%"},{"$f":"\"Participants \" & CM27 & \" have less then \" & CI27 & \" years of experience.\"","v":"Participants working as Specialist have less then 10 years of experience."}]
[null,"Engineer",{"$f":"SUM((Continent=C$8)*(JobType=$B28)*(YearsExp>$D$4)*(YearsExp<$E$4)*(CodeHours>$D$5)*(CodeHours<$E$5))","v":6},{"$f":"SUM((Continent=D$8)*(JobType=$B28)*(YearsExp>$D$4)*(YearsExp<$E$4)*(CodeHours>$D$5)*(CodeHours<$E$5))","v":0},{"$f":"SUM((Continent=E$8)*(JobType=$B28)*(YearsExp>$D$4)*(YearsExp<$E$4)*(CodeHours>$D$5)*(CodeHours<$E$5))","v":0},{"$f":"SUM((Continent=F$8)*(JobType=$B28)*(YearsExp>$D$4)*(YearsExp<$E$4)*(CodeHours>$D$5)*(CodeHours<$E$5))","v":1},{"$f":"SUM((Continent=G$8)*(JobType=$B28)*(YearsExp>$D$4)*(YearsExp<$E$4)*(CodeHours>$D$5)*(CodeHours<$E$5))","v":1},{"$f":"SUM((Continent=H$8)*(JobType=$B28)*(YearsExp>$D$4)*(YearsExp<$E$4)*(CodeHours>$D$5)*(CodeHours<$E$5))","v":0},8,1,null,null,null,"Manager",5887.2460467309138,7693.0200089751897,{"$f":"+Q15-P15","v":3882.1258378624798},9794.3541780934138,165613.62519321591,null,null,null,"Manager",41000,52000,{"$f":"+Z15-Y15","v":16835.306612122877},21164.693387877123,310000,null,null,null,null,"Oceania",8.98876404494382E-2,0.25842696629213485,0.29213483146067415,0.14606741573033707,0.21348314606741572,null,null,"Oceania",{"$error":"#N/A"},0.10416666666666667,0.30208333333333331,0.44791666666666669,0.14583333333333334,null,null,"Oceania",63991.058205224173,73916.59205674447,94882.756140380036,103362.02086396991,102453.49593802381,null,null,null,null,null,null,null,null,null,11,"Bangladesh",{"$f":"SUM((Country=BM28)*Salaries)/SUM((Country=BM28)*1)","v":10299.008645025993},{"$f":"IFERROR(SUM((Country=BM28)*(YearsExp<>\"\")*YearsExp)/SUM((Country=BM28)*(YearsExp<>\"\")*1),0)","v":12},{"$f":"SUM((Country=BM28)*1)","v":2},null,{"$f":"CHOOSE($BN$3,104-BL28,BN28,BO28,BP28)+0.00001*ROWS($BM$18:BM28)","v":2.0001099999999998},57,11,36,"Germany",79637.147017647629,7.4615384615384617,17,null,null,6,3,24,3,null,"Oceania","Consultant",24,3,null,"in Oceania","working as Consultant",24,"2 to 3 hours per day",null,{"$f":"SUM((YearsExp>CI27)*(JobType=CH27))/SUM((JobType=CH27)*1)","v":0.11764705882352941},null,0.87880389486487132,2,{"$f":"TEXT(CQ28,\"0.0%\")","v":"11.8%"},{"$f":"\"Participants \" & CM28 & \" have more then \" & CI28 & \" years of experience.\"","v":"Participants working as Consultant have more then 24 years of experience."}]
[null,"Manager",{"$f":"SUM((Continent=C$8)*(JobType=$B29)*(YearsExp>$D$4)*(YearsExp<$E$4)*(CodeHours>$D$5)*(CodeHours<$E$5))","v":21},{"$f":"SUM((Continent=D$8)*(JobType=$B29)*(YearsExp>$D$4)*(YearsExp<$E$4)*(CodeHours>$D$5)*(CodeHours<$E$5))","v":11},{"$f":"SUM((Continent=E$8)*(JobType=$B29)*(YearsExp>$D$4)*(YearsExp<$E$4)*(CodeHours>$D$5)*(CodeHours<$E$5))","v":0},{"$f":"SUM((Continent=F$8)*(JobType=$B29)*(YearsExp>$D$4)*(YearsExp<$E$4)*(CodeHours>$D$5)*(CodeHours<$E$5))","v":11},{"$f":"SUM((Continent=G$8)*(JobType=$B29)*(YearsExp>$D$4)*(YearsExp<$E$4)*(CodeHours>$D$5)*(CodeHours<$E$5))","v":2},{"$f":"SUM((Continent=H$8)*(JobType=$B29)*(YearsExp>$D$4)*(YearsExp<$E$4)*(CodeHours>$D$5)*(CodeHours<$E$5))","v":3},48,11,null,null,null,"Misc.",1880.1687478185304,4373.2770840604899,{"$f":"+Q16-P16","v":8626.7229159395101},13178.0577973744,15534.173392123201,null,null,null,"Misc.",6269.5,80730.5,{"$f":"+Z16-Y16","v":6269.5},1500,1500,null,null,null,null,"Worldwide",0.14588057445200303,0.26908541194255481,0.30612244897959184,0.14361300075585789,0.13529856386999245,null,null,"Worldwide",{"$error":"#N/A"},9.24548352816153E-2,0.23963868225292242,0.4112646121147715,0.25292242295430395,null,null,"Worldwide",33880.100382957731,43776.19160646035,53164.000700434437,54073.585451229308,63988.140024263856,null,null,null,null,null,null,null,null,null,12,"Belgium",{"$f":"SUM((Country=BM29)*Salaries)/SUM((Country=BM29)*1)","v":41707.21358209449},{"$f":"IFERROR(SUM((Country=BM29)*(YearsExp<>\"\")*YearsExp)/SUM((Country=BM29)*(YearsExp<>\"\")*1),0)","v":10.5},{"$f":"SUM((Country=BM29)*1)","v":4},null,{"$f":"CHOOSE($BN$3,104-BL29,BN29,BO29,BP29)+0.00001*ROWS($BM$18:BM29)","v":4.0001199999999999},39,12,66,"New Zealand",70287.554967112796,11.714285714285714,15,null,null,6,3,21,1,null,"Oceania","Consultant",21,1,null,"in Oceania","working as Consultant",21,"0 hours a day",null,{"$f":"SUM((YearsExp<CI29)*Salaries)/SUM((YearsExp<CI29)*1)","v":48801.436330273049},null,0.22719262740750956,14,{"$f":"TEXT(CQ29,\"# $\")","v":"48801 $"},{"$f":"\"Average salary of participants with less then \" & CN29 & \" years of experience.\"","v":"Average salary of participants with less then 21 years of experience."}]
[null,"Misc.",{"$f":"SUM((Continent=C$8)*(JobType=$B30)*(YearsExp>$D$4)*(YearsExp<$E$4)*(CodeHours>$D$5)*(CodeHours<$E$5))","v":0},{"$f":"SUM((Continent=D$8)*(JobType=$B30)*(YearsExp>$D$4)*(YearsExp<$E$4)*(CodeHours>$D$5)*(CodeHours<$E$5))","v":0},{"$f":"SUM((Continent=E$8)*(JobType=$B30)*(YearsExp>$D$4)*(YearsExp<$E$4)*(CodeHours>$D$5)*(CodeHours<$E$5))","v":0},{"$f":"SUM((Continent=F$8)*(JobType=$B30)*(YearsExp>$D$4)*(YearsExp<$E$4)*(CodeHours>$D$5)*(CodeHours<$E$5))","v":1},{"$f":"SUM((Continent=G$8)*(JobType=$B30)*(YearsExp>$D$4)*(YearsExp<$E$4)*(CodeHours>$D$5)*(CodeHours<$E$5))","v":0},{"$f":"SUM((Continent=H$8)*(JobType=$B30)*(YearsExp>$D$4)*(YearsExp<$E$4)*(CodeHours>$D$5)*(CodeHours<$E$5))","v":0},1,1,null,null,null,"Reporting",2089.4640309761562,4000,{"$f":"+Q17-P17","v":1983.4600069807029},4016.5399930192971,90614.729284050511,null,null,null,"Reporting",5000,37000,{"$f":"+Z17-Y17","v":8000},40000,7000,null,null,null,null,null,null,null,null,null,null,null,null,null,null,null,null,null,null,null,null,null,null,null,null,null,null,null,null,null,null,null,null,null,null,null,13,"Bermuda",{"$f":"SUM((Country=BM30)*Salaries)/SUM((Country=BM30)*1)","v":78000},{"$f":"IFERROR(SUM((Country=BM30)*(YearsExp<>\"\")*YearsExp)/SUM((Country=BM30)*(YearsExp<>\"\")*1),0)","v":0},{"$f":"SUM((Country=BM30)*1)","v":1},null,{"$f":"CHOOSE($BN$3,104-BL30,BN30,BO30,BP30)+0.00001*ROWS($BM$18:BM30)","v":1.00013},94,13,83,"Singapore",52154.754053796576,7.2727272727272725,13,null,null,5,3,5,1,null,"South Amer.","Consultant",5,1,null,"in South America","working as Consultant",5,"0 hours a day",null,{"$f":"SUM((YearsExp>CI30)*Salaries)/SUM((YearsExp>CI30)*1)","v":55352.818996703383},null,0.8269688509646993,3,{"$f":"TEXT(CQ30,\"# $\")","v":"55353 $"},{"$f":"\"Average salary of participants with more then \" & CN30 & \" years of experience.\"","v":"Average salary of participants with more then 5 years of experience."}]
[null,"Reporting",{"$f":"SUM((Continent=C$8)*(JobType=$B31)*(YearsExp>$D$4)*(YearsExp<$E$4)*(CodeHours>$D$5)*(CodeHours<$E$5))","v":3},{"$f":"SUM((Continent=D$8)*(JobType=$B31)*(YearsExp>$D$4)*(YearsExp<$E$4)*(CodeHours>$D$5)*(CodeHours<$E$5))","v":0},{"$f":"SUM((Continent=E$8)*(JobType=$B31)*(YearsExp>$D$4)*(YearsExp<$E$4)*(CodeHours>$D$5)*(CodeHours<$E$5))","v":0},{"$f":"SUM((Continent=F$8)*(JobType=$B31)*(YearsExp>$D$4)*(YearsExp<$E$4)*(CodeHours>$D$5)*(CodeHours<$E$5))","v":0},{"$f":"SUM((Continent=G$8)*(JobType=$B31)*(YearsExp>$D$4)*(YearsExp<$E$4)*(CodeHours>$D$5)*(CodeHours<$E$5))","v":0},{"$f":"SUM((Continent=H$8)*(JobType=$B31)*(YearsExp>$D$4)*(YearsExp<$E$4)*(CodeHours>$D$5)*(CodeHours<$E$5))","v":0},3,0,null,null,null,"Specialist",5436.4250037396632,9455.4250037396632,{"$f":"+Q18-P18","v":8544.5749962603368},10000,71147,null,null,null,"Specialist",14000,45000,{"$f":"+Z18-Y18","v":5000},19000,331000,null,null,null,null,null,null,null,null,null,null,null,null,null,null,null,null,null,null,null,null,null,null,null,null,null,null,null,null,null,null,null,null,null,null,null,14,"Bhutan",{"$f":"SUM((Country=BM31)*Salaries)/SUM((Country=BM31)*1)","v":4800},{"$f":"IFERROR(SUM((Country=BM31)*(YearsExp<>\"\")*YearsExp)/SUM((Country=BM31)*(YearsExp<>\"\")*1),0)","v":2},{"$f":"SUM((Country=BM31)*1)","v":1},null,{"$f":"CHOOSE($BN$3,104-BL31,BN31,BO31,BP31)+0.00001*ROWS($BM$18:BM31)","v":1.00014},93,14,81,"Saudi Arabia",35832.121212121208,11.222222222222221,11,null,null,2,8,19,5,null,"Europe","Reporting",19,5,null,"in Europe","working in Reporting",19,"8 hours a day",null,{"$f":"SUM((CodeHours>=CJ31)*Salaries)/SUM((CodeHours>=CJ31)*1)","v":43571.162802818289},null,0.7895095460543734,5,"43571 $",{"$f":"\"Average salary of participants using Excel more then \" & CO31 & \".\"","v":"Average salary of participants using Excel more then 8 hours a day."}]
[null,"Specialist",{"$f":"SUM((Continent=C$8)*(JobType=$B32)*(YearsExp>$D$4)*(YearsExp<$E$4)*(CodeHours>$D$5)*(CodeHours<$E$5))","v":0},{"$f":"SUM((Continent=D$8)*(JobType=$B32)*(YearsExp>$D$4)*(YearsExp<$E$4)*(CodeHours>$D$5)*(CodeHours<$E$5))","v":1},{"$f":"SUM((Continent=E$8)*(JobType=$B32)*(YearsExp>$D$4)*(YearsExp<$E$4)*(CodeHours>$D$5)*(CodeHours<$E$5))","v":0},{"$f":"SUM((Continent=F$8)*(JobType=$B32)*(YearsExp>$D$4)*(YearsExp<$E$4)*(CodeHours>$D$5)*(CodeHours<$E$5))","v":0},{"$f":"SUM((Continent=G$8)*(JobType=$B32)*(YearsExp>$D$4)*(YearsExp<$E$4)*(CodeHours>$D$5)*(CodeHours<$E$5))","v":0},{"$f":"SUM((Continent=H$8)*(JobType=$B32)*(YearsExp>$D$4)*(YearsExp<$E$4)*(CodeHours>$D$5)*(CodeHours<$E$5))","v":0},1,0,null,null,null,null,null,null,null,null,null,null,null,null,null,null,null,null,null,null,null,null,null,null,"For the graph",null,null,null,null,null,null,null,null,null,null,null,null,null,null,null,null,null,null,null,null,null,null,null,null,null,null,null,null,null,null,15,"Bolivia",{"$f":"SUM((Country=BM32)*Salaries)/SUM((Country=BM32)*1)","v":9600},{"$f":"IFERROR(SUM((Country=BM32)*(YearsExp<>\"\")*YearsExp)/SUM((Country=BM32)*(YearsExp<>\"\")*1),0)","v":2},{"$f":"SUM((Country=BM32)*1)","v":1},null,{"$f":"CHOOSE($BN$3,104-BL32,BN32,BO32,BP32)+0.00001*ROWS($BM$18:BM32)","v":1.0001500000000001},92,15,74,"Philippines",17479.292364753517,9,11,null,null,1,8,10,1,null,"Asia","Reporting",10,1,null,"in Asia","working in Reporting",10,"0 hours a day",null,{"$f":"SUM((CodeHours<=CJ32)*Salaries)/SUM((CodeHours<=CJ32)*1)","v":57493.381507668601},null,0.30355173269833058,{"$f":"RANK(CS32,$CS$18:$CS$33)","v":12},"57493 $",{"$f":"\"Average salary of participants using Excel less then \" & CO32 & \".\"","v":"Average salary of participants using Excel less then 0 hours a day."}]
[null,null,null,null,null,null,null,null,null,null,null,null,null,null,null,null,null,null,null,null,null,null,null,null,null,null,null,null,null,null,null,null,null,null,null,null,null,null,null,null,null,null,null,null,null,null,null,null,null,null,null,null,null,null,null,null,null,null,null,null,null,null,null,16,"Brazil",{"$f":"SUM((Country=BM33)*Salaries)/SUM((Country=BM33)*1)","v":42672.036574334947},{"$f":"IFERROR(SUM((Country=BM33)*(YearsExp<>\"\")*YearsExp)/SUM((Country=BM33)*(YearsExp<>\"\")*1),0)","v":7.2727272727272725},{"$f":"SUM((Country=BM33)*1)","v":20},null,{"$f":"CHOOSE($BN$3,104-BL33,BN33,BO33,BP33)+0.00001*ROWS($BM$18:BM33)","v":20.000160000000001},8,16,88,"Spain",46235.660112252495,12.444444444444445,10,null,null,2,7,15,5,null,"Europe","Manager",15,5,null,"in Europe","working as Manager",15,"8 hours a day",null,{"$f":"SUM((CodeHours=CJ33)*1)/SUM((CodeHours<=99)*1)","v":0.25278810408921931},null,3.54990365693032E-2,{"$f":"RANK(CS33,$CS$18:$CS$33)","v":15},{"$f":"TEXT(CQ33,\"0.0%\")","v":"25.3%"},{"$f":"\"Participants are using Excel \" &CO33 & \".\"","v":"Participants are using Excel 8 hours a day."}]
[null,null,null,null,null,null,null,null,null,null,null,null,null,null,null,null,null,null,null,null,null,null,null,null,null,null,null,null,null,null,null,null,{"$f":"Graph2_Data","v":0},"0 hrs","1 - 2 hrs","2 - 3  hrs","4 - 6 hrs","8+ hrs",null,null,null,null,null,null,null,null,null,null,null,null,null,null,null,null,null,null,null,null,null,null,null,null,null,17,"Bulgaria",{"$f":"SUM((Country=BM34)*Salaries)/SUM((Country=BM34)*1)","v":14400},{"$f":"IFERROR(SUM((Country=BM34)*(YearsExp<>\"\")*YearsExp)/SUM((Country=BM34)*(YearsExp<>\"\")*1),0)","v":15},{"$f":"SUM((Country=BM34)*1)","v":1},null,{"$f":"CHOOSE($BN$3,104-BL34,BN34,BO34,BP34)+0.00001*ROWS($BM$18:BM34)","v":1.00017},91,17,76,"Portugal",32907.763410971675,9.5714285714285712,10]
[null,"Average salary",null,null,null,null,null,null,null,null,null,null,null,null,null,null,null,null,null,null,null,null,null,null,null,null,null,null,null,null,null,null,"Asia",{"$error":"#N/A"},0.10555555555555556,0.2361111111111111,0.37222222222222223,0.28333333333333333,null,null,null,null,null,null,null,null,null,null,null,null,null,null,null,null,null,null,null,null,null,null,null,null,null,18,"Cambodia",{"$f":"SUM((Country=BM35)*Salaries)/SUM((Country=BM35)*1)","v":3000},{"$f":"IFERROR(SUM((Country=BM35)*(YearsExp<>\"\")*YearsExp)/SUM((Country=BM35)*(YearsExp<>\"\")*1),0)","v":2},{"$f":"SUM((Country=BM35)*1)","v":1},null,{"$f":"CHOOSE($BN$3,104-BL35,BN35,BO35,BP35)+0.00001*ROWS($BM$18:BM35)","v":1.0001800000000001},90,18,59,"Mexico",32138.498288519273,7.4,10]
[null,null,"Asia","Europe","Africa","North Amer.","South Amer.","Oceania","Worldwide","Selected",null,null,null,null,null,null,null,null,null,null,null,null,null,null,null,null,null,null,null,null,null,null,"Europe",{"$error":"#N/A"},9.8684210526315791E-2,0.25,0.40789473684210525,0.24013157894736842,null,null,null,null,null,null,null,null,null,null,null,null,null,null,null,null,null,null,null,null,null,null,null,null,null,19,"Canada",{"$f":"SUM((Country=BM36)*Salaries)/SUM((Country=BM36)*1)","v":89799.526836779929},{"$f":"IFERROR(SUM((Country=BM36)*(YearsExp<>\"\")*YearsExp)/SUM((Country=BM36)*(YearsExp<>\"\")*1),0)","v":8.75},{"$f":"SUM((Country=BM36)*1)","v":58},null,{"$f":"CHOOSE($BN$3,104-BL36,BN36,BO36,BP36)+0.00001*ROWS($BM$18:BM36)","v":58.000190000000003},5,19,80,"Russia",55905.222222222219,12.25,9]
[null,"Accountant",{"$f":"IFERROR(C9/C23,NA())","v":21800.493274571108},{"$f":"IFERROR(D9/D23,NA())","v":{"$error":"#N/A"}},{"$error":"#N/A"},{"$error":"#N/A"},{"$error":"#N/A"},{"$error":"#N/A"},21800.493274571108,{"$f":"IFERROR(J9/J23,NA())","v":{"$error":"#N/A"}},null,null,null,null,null,null,null,null,null,null,null,null,null,null,null,null,null,null,null,null,null,null,"Africa",{"$error":"#N/A"},{"$error":"#N/A"},0.10810810810810811,0.51351351351351349,0.3783783783783784,null,null,null,null,null,null,null,null,null,null,null,null,null,null,null,null,null,null,null,null,null,null,null,null,null,20,"CEE",{"$f":"SUM((Country=BM37)*Salaries)/SUM((Country=BM37)*1)","v":87167.974754622352},{"$f":"IFERROR(SUM((Country=BM37)*(YearsExp<>\"\")*YearsExp)/SUM((Country=BM37)*(YearsExp<>\"\")*1),0)","v":20},{"$f":"SUM((Country=BM37)*1)","v":2},null,{"$f":"CHOOSE($BN$3,104-BL37,BN37,BO37,BP37)+0.00001*ROWS($BM$18:BM37)","v":2.0002},56,20,57,"Malaysia",23371.616569936894,6.75,8]
[null,"Analyst",{"$f":"IFERROR(C10/C24,NA())","v":15104.019023498919},73686.070070151443,{"$error":"#N/A"},59030.405538292092,28350,96381.462530049088,43296.575095378677,59030.405538292092,null,null,null,null,null,null,null,null,null,null,null,null,null,null,null,null,null,null,null,null,null,null,"North Amer.",{"$error":"#N/A"},7.2463768115942032E-2,0.24492753623188407,0.45217391304347826,0.22463768115942029,null,null,null,null,null,null,null,null,null,null,null,null,null,null,null,null,null,null,null,null,null,null,null,null,null,21,"Central America",{"$f":"SUM((Country=BM38)*Salaries)/SUM((Country=BM38)*1)","v":95000},{"$f":"IFERROR(SUM((Country=BM38)*(YearsExp<>\"\")*YearsExp)/SUM((Country=BM38)*(YearsExp<>\"\")*1),0)","v":0},{"$f":"SUM((Country=BM38)*1)","v":1},null,{"$f":"CHOOSE($BN$3,104-BL38,BN38,BO38,BP38)+0.00001*ROWS($BM$18:BM38)","v":1.00021},89,21,44,"Indonesia",28872.83679733074,7.875,8]
[null,"Consultant",{"$f":"IFERROR(C11/C25,NA())","v":63205.425003739663},64155.171669076197,{"$error":"#N/A"},{"$error":"#N/A"},5000,94341.643217243807,64057.78282573133,{"$error":"#N/A"},null,null,null,null,null,null,null,null,null,null,null,null,null,null,null,null,null,null,null,null,null,null,"South Amer.",{"$error":"#N/A"},0.22857142857142856,8.5714285714285715E-2,0.22857142857142856,0.45714285714285713,null,null,null,null,null,null,null,null,null,null,null,null,null,null,null,null,null,null,null,null,null,null,null,null,null,22,"China",{"$f":"SUM((Country=BM39)*Salaries)/SUM((Country=BM39)*1)","v":17046.090103460039},{"$f":"IFERROR(SUM((Country=BM39)*(YearsExp<>\"\")*YearsExp)/SUM((Country=BM39)*(YearsExp<>\"\")*1),0)","v":8},{"$f":"SUM((Country=BM39)*1)","v":2},null,{"$f":"CHOOSE($BN$3,104-BL39,BN39,BO39,BP39)+0.00001*ROWS($BM$18:BM39)","v":2.0002200000000001},55,22,68,"Norway",99016.174371435307,8.6,7]
[null,"Controller",{"$f":"IFERROR(C12/C26,NA())","v":{"$error":"#N/A"}},{"$error":"#N/A"},{"$error":"#N/A"},24000,{"$error":"#N/A"},50995.482820131787,37497.741410065893,24000,null,null,null,null,null,null,null,null,null,null,null,null,null,null,null,null,null,null,null,null,null,null,"Oceania",{"$error":"#N/A"},0.10416666666666667,0.30208333333333331,0.44791666666666669,0.14583333333333334,null,null,null,null,null,null,null,null,null,null,null,null,null,null,null,null,null,null,null,null,null,null,null,null,null,23,"Colombia",{"$f":"SUM((Country=BM40)*Salaries)/SUM((Country=BM40)*1)","v":12362},{"$f":"IFERROR(SUM((Country=BM40)*(YearsExp<>\"\")*YearsExp)/SUM((Country=BM40)*(YearsExp<>\"\")*1),0)","v":9.3333333333333339},{"$f":"SUM((Country=BM40)*1)","v":5},null,{"$f":"CHOOSE($BN$3,104-BL40,BN40,BO40,BP40)+0.00001*ROWS($BM$18:BM40)","v":5.0002300000000002},33,23,79,"Romania",16449.976756585475,5.5,6,null,null,"No","List Job Types","Text"]
[null,"CXO or Top Mgmt.",{"$f":"IFERROR(C13/C27,NA())","v":48372.890652268368},127039.94389916077,{"$error":"#N/A"},146500,{"$error":"#N/A"},{"$error":"#N/A"},87647.358072604882,146500,null,null,null,null,null,null,null,null,null,null,null,null,null,null,null,null,null,null,null,null,null,null,"Worldwide",{"$error":"#N/A"},9.24548352816153E-2,0.23963868225292242,0.4112646121147715,0.25292242295430395,null,null,null,null,null,null,null,null,null,null,null,null,null,null,null,null,null,null,null,null,null,null,null,null,null,24,"Costa Rica",{"$f":"SUM((Country=BM41)*Salaries)/SUM((Country=BM41)*1)","v":28109.627547434993},{"$f":"IFERROR(SUM((Country=BM41)*(YearsExp<>\"\")*YearsExp)/SUM((Country=BM41)*(YearsExp<>\"\")*1),0)","v":0},{"$f":"SUM((Country=BM41)*1)","v":1},null,{"$f":"CHOOSE($BN$3,104-BL41,BN41,BO41,BP41)+0.00001*ROWS($BM$18:BM41)","v":1.00024},88,24,75,"Poland",34210.345381590014,7.5,6,null,null,1,"Accountant","working as Accountant"]
[null,"Engineer",{"$f":"IFERROR(C14/C28,NA())","v":16839.454864054362},{"$error":"#N/A"},{"$error":"#N/A"},60000,80000,{"$error":"#N/A"},30129.591148040774,60000,null,null,null,null,null,null,null,null,null,null,null,null,null,null,null,null,null,null,null,null,null,null,null,null,null,null,null,null,null,null,null,null,null,null,null,null,null,null,null,null,null,null,null,null,null,null,null,null,null,null,null,null,null,25,"Croatia",{"$f":"SUM((Country=BM42)*Salaries)/SUM((Country=BM42)*1)","v":43489.586535798582},{"$f":"IFERROR(SUM((Country=BM42)*(YearsExp<>\"\")*YearsExp)/SUM((Country=BM42)*(YearsExp<>\"\")*1),0)","v":4},{"$f":"SUM((Country=BM42)*1)","v":3},null,{"$f":"CHOOSE($BN$3,104-BL42,BN42,BO42,BP42)+0.00001*ROWS($BM$18:BM42)","v":3.0002499999999999},46,25,48,"Italy",47258.859130487806,11.666666666666666,6,null,null,2,"Analyst","working as Analyst"]
[null,"Manager",{"$f":"IFERROR(C15/C29,NA())","v":17759.686675641853},75403.7280739173,{"$error":"#N/A"},85636.363636363632,16345.591506272427,109470.30312054958,52197.844195328391,85636.363636363632,null,null,null,null,null,null,null,null,null,null,null,null,null,null,null,null,null,null,null,null,null,null,null,null,null,null,null,null,null,null,null,null,null,null,null,null,null,null,null,null,null,null,null,null,null,null,null,null,null,null,null,null,null,26,"Czech Republic",{"$f":"SUM((Country=BM43)*Salaries)/SUM((Country=BM43)*1)","v":36000},{"$f":"IFERROR(SUM((Country=BM43)*(YearsExp<>\"\")*YearsExp)/SUM((Country=BM43)*(YearsExp<>\"\")*1),0)","v":9},{"$f":"SUM((Country=BM43)*1)","v":1},null,{"$f":"CHOOSE($BN$3,104-BL43,BN43,BO43,BP43)+0.00001*ROWS($BM$18:BM43)","v":1.0002599999999999},87,26,35,"France",56952.725049143286,5.25,6,null,null,3,"Consultant","working as Consultant"]
[null,"Misc.",{"$f":"IFERROR(C16/C30,NA())","v":{"$error":"#N/A"}},{"$error":"#N/A"},{"$error":"#N/A"},74461,{"$error":"#N/A"},{"$error":"#N/A"},74461,74461,null,"Offset",null,"For the graph",null,null,null,null,null,null,null,null,null,null,null,null,null,null,null,null,null,null,null,null,null,null,null,null,null,null,null,null,null,null,null,null,null,null,null,null,null,null,null,null,null,null,null,null,null,null,null,null,null,27,"Denmark",{"$f":"SUM((Country=BM44)*Salaries)/SUM((Country=BM44)*1)","v":82525.525402351297},{"$f":"IFERROR(SUM((Country=BM44)*(YearsExp<>\"\")*YearsExp)/SUM((Country=BM44)*(YearsExp<>\"\")*1),0)","v":17},{"$f":"SUM((Country=BM44)*1)","v":6},null,{"$f":"CHOOSE($BN$3,104-BL44,BN44,BO44,BP44)+0.00001*ROWS($BM$18:BM44)","v":6.0002700000000004},27,27,27,"Denmark",82525.525402351297,17,6,null,null,4,"Controller","working as Controller"]
[null,"Reporting",{"$f":"IFERROR(C17/C31,NA())","v":7429.1541714451232},{"$error":"#N/A"},{"$error":"#N/A"},{"$error":"#N/A"},{"$error":"#N/A"},{"$error":"#N/A"},7429.1541714451232,{"$error":"#N/A"},null,null,null,null,0,1,2,3,4,null,null,null,null,null,null,null,null,null,null,null,null,null,null,null,null,null,null,null,null,null,null,null,null,null,null,null,null,null,null,null,null,null,null,null,null,null,null,null,null,null,null,null,null,28,"Dominican Republic",{"$f":"SUM((Country=BM45)*Salaries)/SUM((Country=BM45)*1)","v":11016.682284980743},{"$f":"IFERROR(SUM((Country=BM45)*(YearsExp<>\"\")*YearsExp)/SUM((Country=BM45)*(YearsExp<>\"\")*1),0)","v":3},{"$f":"SUM((Country=BM45)*1)","v":2},null,{"$f":"CHOOSE($BN$3,104-BL45,BN45,BO45,BP45)+0.00001*ROWS($BM$18:BM45)","v":2.0002800000000001},54,28,89,"Sri Lanka",22921.154792448855,7.9,5,null,null,5,"CXO or Top Mgmt.","working as CXO"]
[null,"Specialist",{"$f":"IFERROR(C18/C32,NA())","v":{"$error":"#N/A"}},88927.960729412545,{"$error":"#N/A"},{"$error":"#N/A"},{"$error":"#N/A"},{"$error":"#N/A"},88927.960729412545,{"$error":"#N/A"},null,null,null,null,"Min","1st Quartile","Median","3rd quartile","Max",null,null,null,null,null,null,null,null,null,null,null,null,null,null,null,null,null,null,null,null,null,null,null,null,null,null,null,null,null,null,null,null,null,null,null,null,null,null,null,null,null,null,null,null,29,"Dubai",{"$f":"SUM((Country=BM46)*Salaries)/SUM((Country=BM46)*1)","v":32166.959188895635},{"$f":"IFERROR(SUM((Country=BM46)*(YearsExp<>\"\")*YearsExp)/SUM((Country=BM46)*(YearsExp<>\"\")*1),0)","v":6.333333333333333},{"$f":"SUM((Country=BM46)*1)","v":4},null,{"$f":"CHOOSE($BN$3,104-BL46,BN46,BO46,BP46)+0.00001*ROWS($BM$18:BM46)","v":4.0002899999999997},38,29,47,"Israel",66840,7,5,null,null,6,"Engineer","working as Engineer"]
[null,"Average",{"$f":"AVERAGE(IF(ISERROR(C37:C46),\"\",C37:C46))","v":27215.874809317058},{"$f":"AVERAGE(IF(ISERROR(D37:D46),\"\",D37:D46))","v":85842.574888343661},{"$f":"AVERAGE(IF(ISERROR(E37:E46),\"\",E37:E46))","v":{"$error":"#DIV/0!"}},{"$f":"AVERAGE(IF(ISERROR(F37:F46),\"\",F37:F46))","v":74937.961529109292},{"$f":"AVERAGE(IF(ISERROR(G37:G46),\"\",G37:G46))","v":32423.897876568106},{"$f":"AVERAGE(IF(ISERROR(H37:H46),\"\",H37:H46))","v":87797.222921993569},{"$f":"AVERAGE(IF(ISERROR(I37:I46),\"\",I37:I46))","v":50744.550092257872},{"$f":"AVERAGE(IF(ISERROR(J37:J46),\"\",J37:J46))","v":74937.961529109292},null,1,1,null,{"$f":"OFFSET($N$21,$L47,$M47+O$45)","v":2500.9904605759289},4284.1573649981829,5289.1254081533816,14176.717226848436,47481.666749770273,null,null,null,null,null,null,null,null,null,null,null,null,null,null,null,null,null,null,null,null,null,null,null,null,null,null,null,null,null,null,null,null,null,null,null,null,null,null,null,null,null,null,null,null,30,"Egypt",{"$f":"SUM((Country=BM47)*Salaries)/SUM((Country=BM47)*1)","v":19831.432821021317},{"$f":"IFERROR(SUM((Country=BM47)*(YearsExp<>\"\")*YearsExp)/SUM((Country=BM47)*(YearsExp<>\"\")*1),0)","v":5},{"$f":"SUM((Country=BM47)*1)","v":1},null,{"$f":"CHOOSE($BN$3,104-BL47,BN47,BO47,BP47)+0.00001*ROWS($BM$18:BM47)","v":1.0003},86,30,46,"Ireland",61652.484774262724,12,5,null,null,7,"Manager","working as Manager"]
[null,null,null,null,null,null,null,null,null,null,null,1,10,"Accountant",29500,45000,15000,17000,1152201.9037879086,null,null,null,null,null,null,null,null,null,null,null,null,null,null,null,null,null,null,null,null,null,null,null,null,null,null,null,null,null,null,null,null,null,null,null,null,null,null,null,null,null,null,null,null,31,"Estonia",{"$f":"SUM((Country=BM48)*Salaries)/SUM((Country=BM48)*1)","v":12000},{"$f":"IFERROR(SUM((Country=BM48)*(YearsExp<>\"\")*YearsExp)/SUM((Country=BM48)*(YearsExp<>\"\")*1),0)","v":0},{"$f":"SUM((Country=BM48)*1)","v":1},null,{"$f":"CHOOSE($BN$3,104-BL48,BN48,BO48,BP48)+0.00001*ROWS($BM$18:BM48)","v":1.00031},85,31,41,"Hungary",24716.347245901055,9,5,null,null,8,"Reporting","working in Reporting"]
[null,null,null,null,null,null,null,null,null,null,null,null,null,null,null,null,null,null,null,null,null,null,null,null,null,null,null,null,null,null,null,null,null,null,null,null,null,null,null,null,null,null,null,null,null,null,null,null,null,null,null,null,null,null,null,null,null,null,null,null,null,null,null,32,"Ethiopia",{"$f":"SUM((Country=BM49)*Salaries)/SUM((Country=BM49)*1)","v":2953.8461538461538},{"$f":"IFERROR(SUM((Country=BM49)*(YearsExp<>\"\")*YearsExp)/SUM((Country=BM49)*(YearsExp<>\"\")*1),0)","v":3},{"$f":"SUM((Country=BM49)*1)","v":1},null,{"$f":"CHOOSE($BN$3,104-BL49,BN49,BO49,BP49)+0.00001*ROWS($BM$18:BM49)","v":1.0003200000000001},84,32,33,"Europe",123889.35329046159,13.4,5,null,null,9,"Specialist","working as Specialist"]
[null,null,null,null,null,null,null,null,null,null,null,2,1,null,3205.4250037396628,5342.3750062327708,3561.5833374885133,6232.7708406048987,145134.52100265693,null,null,null,null,null,null,null,null,null,null,null,null,null,null,null,null,null,null,null,null,null,null,null,null,null,null,null,null,null,null,null,null,null,null,null,null,null,null,null,null,null,null,null,null,33,"Europe",{"$f":"SUM((Country=BM50)*Salaries)/SUM((Country=BM50)*1)","v":123889.35329046159},{"$f":"IFERROR(SUM((Country=BM50)*(YearsExp<>\"\")*YearsExp)/SUM((Country=BM50)*(YearsExp<>\"\")*1),0)","v":13.4},{"$f":"SUM((Country=BM50)*1)","v":5},null,{"$f":"CHOOSE($BN$3,104-BL50,BN50,BO50,BP50)+0.00001*ROWS($BM$18:BM50)","v":5.0003299999999999},32,33,23,"Colombia",12362,9.3333333333333339,5]
[null,null,null,null,null,null,null,null,null,null,null,2,10,"Analyst",{"$f":"OFFSET($N$21,$L51,$M51+O$45)","v":35000},45000,15000,15000,170840.3807575817,null,null,null,null,null,null,null,null,null,null,null,null,null,null,null,null,null,null,null,null,null,null,null,null,null,null,null,null,null,null,null,null,null,null,null,null,null,null,null,null,null,null,null,null,34,"Finland",{"$f":"SUM((Country=BM51)*Salaries)/SUM((Country=BM51)*1)","v":75389.415540034111},{"$f":"IFERROR(SUM((Country=BM51)*(YearsExp<>\"\")*YearsExp)/SUM((Country=BM51)*(YearsExp<>\"\")*1),0)","v":4.5},{"$f":"SUM((Country=BM51)*1)","v":3},null,{"$f":"CHOOSE($BN$3,104-BL51,BN51,BO51,BP51)+0.00001*ROWS($BM$18:BM51)","v":3.00034},45,34,98,"Ukraine",11650,5,4,null,null,"No","Continent","Text"]
[null,null,null,null,null,null,null,null,null,null,null,null,null,null,null,null,null,null,null,null,null,null,null,null,null,null,null,null,null,null,null,null,null,null,null,null,null,null,null,null,null,null,null,null,null,null,null,null,null,null,null,null,null,null,null,null,null,null,null,null,null,null,null,35,"France",{"$f":"SUM((Country=BM52)*Salaries)/SUM((Country=BM52)*1)","v":56952.725049143286},{"$f":"IFERROR(SUM((Country=BM52)*(YearsExp<>\"\")*YearsExp)/SUM((Country=BM52)*(YearsExp<>\"\")*1),0)","v":5.25},{"$f":"SUM((Country=BM52)*1)","v":6},null,{"$f":"CHOOSE($BN$3,104-BL52,BN52,BO52,BP52)+0.00001*ROWS($BM$18:BM52)","v":6.0003500000000001},26,35,91,"Switzerland",137525.55715529469,13,4,null,null,1,"Asia","in Asia"]
[null,null,null,null,null,null,null,null,null,null,null,3,1,null,{"$f":"OFFSET($N$21,$L53,$M53+O$45)","v":5849.900631824883},8414.2406348166132,3585.7593651833868,13376.281279605661,94623.718720394332,null,null,null,null,null,null,null,null,null,null,null,null,null,null,null,null,null,null,null,null,null,null,null,null,null,null,null,null,null,null,null,null,null,null,null,null,null,null,null,null,null,null,null,null,36,"Germany",{"$f":"SUM((Country=BM53)*Salaries)/SUM((Country=BM53)*1)","v":79637.147017647629},{"$f":"IFERROR(SUM((Country=BM53)*(YearsExp<>\"\")*YearsExp)/SUM((Country=BM53)*(YearsExp<>\"\")*1),0)","v":7.4615384615384617},{"$f":"SUM((Country=BM53)*1)","v":17},null,{"$f":"CHOOSE($BN$3,104-BL53,BN53,BO53,BP53)+0.00001*ROWS($BM$18:BM53)","v":17.000360000000001},11,36,52,"Kuwait",35900,10.25,4,null,null,2,"Europe","in Europe"]
[null,null,null,null,null,null,null,null,null,null,null,3,10,"Consultant",{"$f":"OFFSET($N$21,$L54,$M54+O$45)","v":57000},69000,21469.260118790073,24530.739881209927,135000,null,null,null,null,null,null,null,null,null,null,null,null,null,null,null,null,null,null,null,null,null,null,null,null,null,null,null,null,null,null,null,null,null,null,null,null,null,null,null,null,null,null,null,null,37,"Ghana",{"$f":"SUM((Country=BM54)*Salaries)/SUM((Country=BM54)*1)","v":18000},{"$f":"IFERROR(SUM((Country=BM54)*(YearsExp<>\"\")*YearsExp)/SUM((Country=BM54)*(YearsExp<>\"\")*1),0)","v":12},{"$f":"SUM((Country=BM54)*1)","v":1},null,{"$f":"CHOOSE($BN$3,104-BL54,BN54,BO54,BP54)+0.00001*ROWS($BM$18:BM54)","v":1.00037},83,37,51,"Kuwait",35900,10.25,4,null,null,3,"Africa","in Africa"]
[null,null,null,null,null,null,null,null,null,null,null,null,null,null,null,null,null,null,null,null,null,null,null,null,null,null,null,null,null,null,null,null,null,null,null,null,null,null,null,null,null,null,null,null,null,null,null,null,null,null,null,null,null,null,null,null,null,null,null,null,null,null,null,38,"Greece",{"$f":"SUM((Country=BM55)*Salaries)/SUM((Country=BM55)*1)","v":30066.120056134718},{"$f":"IFERROR(SUM((Country=BM55)*(YearsExp<>\"\")*YearsExp)/SUM((Country=BM55)*(YearsExp<>\"\")*1),0)","v":14},{"$f":"SUM((Country=BM55)*1)","v":3},null,{"$f":"CHOOSE($BN$3,104-BL55,BN55,BO55,BP55)+0.00001*ROWS($BM$18:BM55)","v":3.0003799999999998},44,38,29,"Dubai",32166.959188895635,6.333333333333333,4,null,null,4,"North Amer.","in North America"]
[null,null,null,null,null,null,null,null,null,null,null,4,1,null,{"$f":"OFFSET($N$21,$L56,$M56+O$45)","v":9885.6599970082698},12450,3363.5625093491544,23186.437490650846,46000,null,null,null,null,null,null,null,null,null,null,null,null,null,null,null,null,null,null,null,null,null,null,null,null,null,null,null,null,null,null,null,null,null,null,null,null,null,null,null,null,null,null,null,null,39,"Guyana",{"$f":"SUM((Country=BM56)*Salaries)/SUM((Country=BM56)*1)","v":6000},{"$f":"IFERROR(SUM((Country=BM56)*(YearsExp<>\"\")*YearsExp)/SUM((Country=BM56)*(YearsExp<>\"\")*1),0)","v":20},{"$f":"SUM((Country=BM56)*1)","v":1},null,{"$f":"CHOOSE($BN$3,104-BL56,BN56,BO56,BP56)+0.00001*ROWS($BM$18:BM56)","v":1.0003899999999999},82,39,12,"Belgium",41707.21358209449,10.5,4,null,null,5,"South Amer.","in South America"]
[null,null,null,null,null,null,null,null,null,null,null,4,10,"Controller",43000,67000,13000,21000,113000,null,null,null,null,null,null,null,null,null,null,null,null,null,null,null,null,null,null,null,null,null,null,null,null,null,null,null,null,null,null,null,null,null,null,null,null,null,null,null,null,null,null,null,null,40,"Hong Kong",{"$f":"SUM((Country=BM57)*Salaries)/SUM((Country=BM57)*1)","v":20000},{"$f":"IFERROR(SUM((Country=BM57)*(YearsExp<>\"\")*YearsExp)/SUM((Country=BM57)*(YearsExp<>\"\")*1),0)","v":1},{"$f":"SUM((Country=BM57)*1)","v":1},null,{"$f":"CHOOSE($BN$3,104-BL57,BN57,BO57,BP57)+0.00001*ROWS($BM$18:BM57)","v":1.0004},81,40,77,"Qatar",53066.666666666664,15.333333333333334,3,null,null,6,"Oceania","in Oceania"]
[null,null,null,null,null,null,null,null,null,null,null,null,null,null,null,null,null,null,null,null,null,null,null,null,null,null,null,null,null,null,null,null,null,null,null,null,null,null,null,null,null,null,null,null,null,null,null,null,null,null,null,null,null,null,null,null,null,null,null,null,null,null,null,41,"Hungary",{"$f":"SUM((Country=BM58)*Salaries)/SUM((Country=BM58)*1)","v":24716.347245901055},{"$f":"IFERROR(SUM((Country=BM58)*(YearsExp<>\"\")*YearsExp)/SUM((Country=BM58)*(YearsExp<>\"\")*1),0)","v":9},{"$f":"SUM((Country=BM58)*1)","v":5},null,{"$f":"CHOOSE($BN$3,104-BL58,BN58,BO58,BP58)+0.00001*ROWS($BM$18:BM58)","v":5.0004099999999996},31,41,67,"Nigeria",13494.896250642014,5.666666666666667,3]
[null,null,null,null,null,null,null,null,null,null,null,5,1,null,{"$f":"OFFSET($N$21,$L59,$M59+O$45)","v":11129.947929651606},13801.135432767991,16198.864567232009,17259.895859303215,53540.104140696785,null,null,null,null,null,null,null,null,null,null,null,null,null,null,null,null,null,null,null,null,null,null,null,null,null,null,null,null,null,null,null,null,null,null,null,null,null,null,null,null,null,null,null,null,42,"Iceland",{"$f":"SUM((Country=BM59)*Salaries)/SUM((Country=BM59)*1)","v":41731},{"$f":"IFERROR(SUM((Country=BM59)*(YearsExp<>\"\")*YearsExp)/SUM((Country=BM59)*(YearsExp<>\"\")*1),0)","v":0},{"$f":"SUM((Country=BM59)*1)","v":1},null,{"$f":"CHOOSE($BN$3,104-BL59,BN59,BO59,BP59)+0.00001*ROWS($BM$18:BM59)","v":1.0004200000000001},80,42,49,"Japan",67564.774036395989,5,3,null,null,"No","Daily usage","Text"]
[null,null,null,null,null,null,null,null,null,null,null,5,10,"CXO or \nTop Mgmt.",71500,87500,20000,42500,150000,null,null,null,null,null,null,null,null,null,null,null,null,null,null,null,null,null,null,null,null,null,null,null,null,null,null,null,null,null,null,null,null,null,null,null,null,null,null,null,null,null,null,null,null,43,"India",{"$f":"SUM((Country=BM60)*Salaries)/SUM((Country=BM60)*1)","v":13529.430894182482},{"$f":"IFERROR(SUM((Country=BM60)*(YearsExp<>\"\")*YearsExp)/SUM((Country=BM60)*(YearsExp<>\"\")*1),0)","v":6.4691823899371066},{"$f":"SUM((Country=BM60)*1)","v":565},null,{"$f":"CHOOSE($BN$3,104-BL60,BN60,BO60,BP60)+0.00001*ROWS($BM$18:BM60)","v":565.00043000000005},2,43,45,"Iran",18000,16.5,3,null,null,1,1,"0 hours a day",null,"Excel ?!? What Excel?"]
[null,null,null,null,null,null,null,null,null,null,null,null,null,null,null,null,null,null,null,null,null,null,null,null,null,null,null,null,null,null,null,null,null,null,null,null,null,null,null,null,null,null,null,null,null,null,null,null,null,null,null,null,null,null,null,null,null,null,null,null,null,null,null,44,"Indonesia",{"$f":"SUM((Country=BM61)*Salaries)/SUM((Country=BM61)*1)","v":28872.83679733074},{"$f":"IFERROR(SUM((Country=BM61)*(YearsExp<>\"\")*YearsExp)/SUM((Country=BM61)*(YearsExp<>\"\")*1),0)","v":7.875},{"$f":"SUM((Country=BM61)*1)","v":8},null,{"$f":"CHOOSE($BN$3,104-BL61,BN61,BO61,BP61)+0.00001*ROWS($BM$18:BM61)","v":8.0004399999999993},21,44,38,"Greece",30066.120056134718,14,3,null,null,2,2,"1 or 2 hours a day",null,"1 or 2 hours a day"]
[null,null,null,null,null,null,null,null,null,null,null,6,1,null,{"$f":"OFFSET($N$21,$L62,$M62+O$45)","v":4558.3541656278712},7229.5416687442566,4472.8685499748563,12297.589781280887,114000,null,null,null,null,null,null,null,null,null,null,null,null,null,null,null,null,null,null,null,null,null,null,null,null,null,null,null,null,null,null,null,null,null,null,null,null,null,null,null,null,null,null,null,null,45,"Iran",{"$f":"SUM((Country=BM62)*Salaries)/SUM((Country=BM62)*1)","v":18000},{"$f":"IFERROR(SUM((Country=BM62)*(YearsExp<>\"\")*YearsExp)/SUM((Country=BM62)*(YearsExp<>\"\")*1),0)","v":16.5},{"$f":"SUM((Country=BM62)*1)","v":3},null,{"$f":"CHOOSE($BN$3,104-BL62,BN62,BO62,BP62)+0.00001*ROWS($BM$18:BM62)","v":3.0004499999999998},43,45,34,"Finland",75389.415540034111,4.5,3,null,null,3,3,"2 to 3 hours per day",null,"2 to 3 hours per day"]
[null,null,null,null,null,null,null,null,null,null,null,6,10,"Engineer",50371,57000,14250,13750,45000,null,null,null,null,null,null,null,null,null,null,null,null,null,null,null,null,null,null,null,null,null,null,null,null,null,null,null,null,null,null,null,null,null,null,null,null,null,null,null,null,null,null,null,null,46,"Ireland",{"$f":"SUM((Country=BM63)*Salaries)/SUM((Country=BM63)*1)","v":61652.484774262724},{"$f":"IFERROR(SUM((Country=BM63)*(YearsExp<>\"\")*YearsExp)/SUM((Country=BM63)*(YearsExp<>\"\")*1),0)","v":12},{"$f":"SUM((Country=BM63)*1)","v":5},null,{"$f":"CHOOSE($BN$3,104-BL63,BN63,BO63,BP63)+0.00001*ROWS($BM$18:BM63)","v":5.0004600000000003},30,46,25,"Croatia",43489.586535798582,4,3,null,null,4,4,"4 to 6 hours a day",null,"4 to 6 hours a day"]
[null,null,null,null,null,null,null,null,null,null,null,null,null,null,null,null,null,null,null,null,null,null,null,null,null,null,null,null,null,null,null,null,null,null,null,null,null,null,null,null,null,null,null,null,null,null,null,null,null,null,null,null,null,null,null,null,null,null,null,null,null,null,null,47,"Israel",{"$f":"SUM((Country=BM64)*Salaries)/SUM((Country=BM64)*1)","v":66840},{"$f":"IFERROR(SUM((Country=BM64)*(YearsExp<>\"\")*YearsExp)/SUM((Country=BM64)*(YearsExp<>\"\")*1),0)","v":7},{"$f":"SUM((Country=BM64)*1)","v":5},null,{"$f":"CHOOSE($BN$3,104-BL64,BN64,BO64,BP64)+0.00001*ROWS($BM$18:BM64)","v":5.00047},29,47,102,"Zambia",13000,3.5,2,null,null,5,5,"8 hours a day",null,"All the 8 hours baby, all the 8!"]
[null,null,null,null,null,null,null,null,null,null,null,7,1,null,{"$f":"OFFSET($N$21,$L65,$M65+O$45)","v":5887.2460467309138},7693.0200089751897,3882.1258378624798,9794.3541780934138,165613.62519321591,null,null,null,null,null,null,null,null,null,null,null,null,null,null,null,null,null,null,null,null,null,null,null,null,null,null,null,null,null,null,null,null,null,null,null,null,null,null,null,null,null,null,null,null,48,"Italy",{"$f":"SUM((Country=BM65)*Salaries)/SUM((Country=BM65)*1)","v":47258.859130487806},{"$f":"IFERROR(SUM((Country=BM65)*(YearsExp<>\"\")*YearsExp)/SUM((Country=BM65)*(YearsExp<>\"\")*1),0)","v":11.666666666666666},{"$f":"SUM((Country=BM65)*1)","v":6},null,{"$f":"CHOOSE($BN$3,104-BL65,BN65,BO65,BP65)+0.00001*ROWS($BM$18:BM65)","v":6.0004799999999996},25,48,101,"Vietnam",10000,6,2]
[null,null,null,null,null,null,null,null,null,null,null,7,10,"Manager",41000,52000,16835.306612122877,21164.693387877123,310000,null,null,null,null,null,null,null,null,null,null,null,null,null,null,null,null,null,null,null,null,null,null,null,null,null,null,null,null,null,null,null,null,null,null,null,null,null,null,null,null,null,null,null,null,49,"Japan",{"$f":"SUM((Country=BM66)*Salaries)/SUM((Country=BM66)*1)","v":67564.774036395989},{"$f":"IFERROR(SUM((Country=BM66)*(YearsExp<>\"\")*YearsExp)/SUM((Country=BM66)*(YearsExp<>\"\")*1),0)","v":5},{"$f":"SUM((Country=BM66)*1)","v":3},null,{"$f":"CHOOSE($BN$3,104-BL66,BN66,BO66,BP66)+0.00001*ROWS($BM$18:BM66)","v":3.0004900000000001},42,49,94,"Turkey",48000,10,2]
[null,null,null,null,null,null,null,null,null,null,null,null,null,null,null,null,null,null,null,null,null,null,null,null,null,null,null,null,null,null,null,null,null,null,null,null,null,null,null,null,null,null,null,null,null,null,null,null,null,null,null,null,null,null,null,null,null,null,null,null,null,null,null,50,"Kenya",{"$f":"SUM((Country=BM67)*Salaries)/SUM((Country=BM67)*1)","v":51497.005988023957},{"$f":"IFERROR(SUM((Country=BM67)*(YearsExp<>\"\")*YearsExp)/SUM((Country=BM67)*(YearsExp<>\"\")*1),0)","v":9},{"$f":"SUM((Country=BM67)*1)","v":1},null,{"$f":"CHOOSE($BN$3,104-BL67,BN67,BO67,BP67)+0.00001*ROWS($BM$18:BM67)","v":1.0004999999999999},79,50,92,"Thailand",73000,1,2]
[null,null,null,null,null,null,null,null,null,null,null,8,1,null,{"$f":"OFFSET($N$21,$L68,$M68+O$45)","v":1880.1687478185304},4373.2770840604899,8626.7229159395101,13178.0577973744,15534.173392123201,null,null,null,null,null,null,null,null,null,null,null,null,null,null,null,null,null,null,null,null,null,null,null,null,null,null,null,null,null,null,null,null,null,null,null,null,null,null,null,null,null,null,null,null,51,"Kuwait",{"$f":"SUM((Country=BM68)*Salaries)/SUM((Country=BM68)*1)","v":35900},{"$f":"IFERROR(SUM((Country=BM68)*(YearsExp<>\"\")*YearsExp)/SUM((Country=BM68)*(YearsExp<>\"\")*1),0)","v":10.25},{"$f":"SUM((Country=BM68)*1)","v":4},null,{"$f":"CHOOSE($BN$3,104-BL68,BN68,BO68,BP68)+0.00001*ROWS($BM$18:BM68)","v":4.0005100000000002},37,51,90,"Sweden",84477.260092140481,20,2]
[null,null,null,null,null,null,null,null,null,null,null,8,10,"Misc.",6269.5,80730.5,6269.5,1500,1500,null,null,null,null,null,null,null,null,null,null,null,null,null,null,null,null,null,null,null,null,null,null,null,null,null,null,null,null,null,null,null,null,null,null,null,null,null,null,null,null,null,null,null,null,52,"Kuwait",{"$f":"SUM((Country=BM69)*Salaries)/SUM((Country=BM69)*1)","v":35900},{"$f":"IFERROR(SUM((Country=BM69)*(YearsExp<>\"\")*YearsExp)/SUM((Country=BM69)*(YearsExp<>\"\")*1),0)","v":10.25},{"$f":"SUM((Country=BM69)*1)","v":4},null,{"$f":"CHOOSE($BN$3,104-BL69,BN69,BO69,BP69)+0.00001*ROWS($BM$18:BM69)","v":4.0005199999999999},36,52,71,"Panama",44759.985974790194,0,2]
[null,null,null,null,null,null,null,null,null,null,null,null,null,null,null,null,null,null,null,null,null,null,null,null,null,null,null,null,null,null,null,null,null,null,null,null,null,null,null,null,null,null,null,null,null,null,null,null,null,null,null,null,null,null,null,null,null,null,null,null,null,null,null,53,"Latin America",{"$f":"SUM((Country=BM70)*Salaries)/SUM((Country=BM70)*1)","v":4400},{"$f":"IFERROR(SUM((Country=BM70)*(YearsExp<>\"\")*YearsExp)/SUM((Country=BM70)*(YearsExp<>\"\")*1),0)","v":5},{"$f":"SUM((Country=BM70)*1)","v":1},null,{"$f":"CHOOSE($BN$3,104-BL70,BN70,BO70,BP70)+0.00001*ROWS($BM$18:BM70)","v":1.0005299999999999},78,53,64,"Myanmar",17700,10,2]
[null,null,null,null,null,null,null,null,null,null,null,9,1,null,{"$f":"OFFSET($N$21,$L71,$M71+O$45)","v":2089.4640309761562},4000,1983.4600069807029,4016.5399930192971,90614.729284050511,null,null,null,null,null,null,null,null,null,null,null,null,null,null,null,null,null,null,null,null,null,null,null,null,null,null,null,null,null,null,null,null,null,null,null,null,null,null,null,null,null,null,null,null,54,"Lesotho",{"$f":"SUM((Country=BM71)*Salaries)/SUM((Country=BM71)*1)","v":177600},{"$f":"IFERROR(SUM((Country=BM71)*(YearsExp<>\"\")*YearsExp)/SUM((Country=BM71)*(YearsExp<>\"\")*1),0)","v":6},{"$f":"SUM((Country=BM71)*1)","v":1},null,{"$f":"CHOOSE($BN$3,104-BL71,BN71,BO71,BP71)+0.00001*ROWS($BM$18:BM71)","v":1.00054},77,54,28,"Dominican Republic",11016.682284980743,3,2]
[null,null,null,null,null,null,null,null,null,null,null,9,10,"Reporting",5000,37000,8000,40000,7000,null,null,null,null,null,null,null,null,null,null,null,null,null,null,null,null,null,null,null,null,null,null,null,null,null,null,null,null,null,null,null,null,null,null,null,null,null,null,null,null,null,null,null,null,55,"Libya",{"$f":"SUM((Country=BM72)*Salaries)/SUM((Country=BM72)*1)","v":24864},{"$f":"IFERROR(SUM((Country=BM72)*(YearsExp<>\"\")*YearsExp)/SUM((Country=BM72)*(YearsExp<>\"\")*1),0)","v":8},{"$f":"SUM((Country=BM72)*1)","v":1},null,{"$f":"CHOOSE($BN$3,104-BL72,BN72,BO72,BP72)+0.00001*ROWS($BM$18:BM72)","v":1.0005500000000001},76,55,22,"China",17046.090103460039,8,2]
[null,null,null,null,null,null,null,null,null,null,null,null,null,null,null,null,null,null,null,null,null,null,null,null,null,null,null,null,null,null,null,null,null,null,null,null,null,null,null,null,null,null,null,null,null,null,null,null,null,null,null,null,null,null,null,null,null,null,null,null,null,null,null,56,"Lithuania",{"$f":"SUM((Country=BM73)*Salaries)/SUM((Country=BM73)*1)","v":15000},{"$f":"IFERROR(SUM((Country=BM73)*(YearsExp<>\"\")*YearsExp)/SUM((Country=BM73)*(YearsExp<>\"\")*1),0)","v":2},{"$f":"SUM((Country=BM73)*1)","v":1},null,{"$f":"CHOOSE($BN$3,104-BL73,BN73,BO73,BP73)+0.00001*ROWS($BM$18:BM73)","v":1.0005599999999999},75,56,20,"CEE",87167.974754622352,20,2]
[null,null,null,null,null,null,null,null,null,null,null,10,1,null,{"$f":"OFFSET($N$21,$L74,$M74+O$45)","v":5436.4250037396632},9455.4250037396632,8544.5749962603368,10000,71147,null,null,null,null,null,null,null,null,null,null,null,null,null,null,null,null,null,null,null,null,null,null,null,null,null,null,null,null,null,null,null,null,null,null,null,null,null,null,null,null,null,null,null,null,57,"Malaysia",{"$f":"SUM((Country=BM74)*Salaries)/SUM((Country=BM74)*1)","v":23371.616569936894},{"$f":"IFERROR(SUM((Country=BM74)*(YearsExp<>\"\")*YearsExp)/SUM((Country=BM74)*(YearsExp<>\"\")*1),0)","v":6.75},{"$f":"SUM((Country=BM74)*1)","v":8},null,{"$f":"CHOOSE($BN$3,104-BL74,BN74,BO74,BP74)+0.00001*ROWS($BM$18:BM74)","v":8.0005699999999997},20,57,11,"Bangladesh",10299.008645025993,12,2]
[null,null,null,null,null,null,null,null,null,null,null,10,10,"Specialist",14000,45000,5000,19000,331000,null,null,null,null,null,null,null,null,null,null,null,null,null,null,null,null,null,null,null,null,null,null,null,null,null,null,null,null,null,null,null,null,null,null,null,null,null,null,null,null,null,null,null,null,58,"Mauritius",{"$f":"SUM((Country=BM75)*Salaries)/SUM((Country=BM75)*1)","v":9376.2513877177607},{"$f":"IFERROR(SUM((Country=BM75)*(YearsExp<>\"\")*YearsExp)/SUM((Country=BM75)*(YearsExp<>\"\")*1),0)","v":7},{"$f":"SUM((Country=BM75)*1)","v":1},null,{"$f":"CHOOSE($BN$3,104-BL75,BN75,BO75,BP75)+0.00001*ROWS($BM$18:BM75)","v":1.00058},74,58,103,"Zimbabwe",36400,20,1]
[null,null,null,null,null,null,null,null,null,null,null,null,null,null,null,null,null,null,null,null,null,null,null,null,null,null,null,null,null,null,null,null,null,null,null,null,null,null,null,null,null,null,null,null,null,null,null,null,null,null,null,null,null,null,null,null,null,null,null,null,null,null,null,59,"Mexico",{"$f":"SUM((Country=BM76)*Salaries)/SUM((Country=BM76)*1)","v":32138.498288519273},{"$f":"IFERROR(SUM((Country=BM76)*(YearsExp<>\"\")*YearsExp)/SUM((Country=BM76)*(YearsExp<>\"\")*1),0)","v":7.4},{"$f":"SUM((Country=BM76)*1)","v":10},null,{"$f":"CHOOSE($BN$3,104-BL76,BN76,BO76,BP76)+0.00001*ROWS($BM$18:BM76)","v":10.000590000000001},18,59,99,"Uruguay",35000,10,1]
[null,null,null,null,null,null,null,null,null,null,null,null,null,null,null,null,null,null,null,null,null,null,null,null,null,null,null,null,null,null,null,null,null,null,null,null,null,null,null,null,null,null,null,null,null,null,null,null,null,null,null,null,null,null,null,null,null,null,null,null,null,null,null,60,"Mongolia",{"$f":"SUM((Country=BM77)*Salaries)/SUM((Country=BM77)*1)","v":7261.724659606657},{"$f":"IFERROR(SUM((Country=BM77)*(YearsExp<>\"\")*YearsExp)/SUM((Country=BM77)*(YearsExp<>\"\")*1),0)","v":2},{"$f":"SUM((Country=BM77)*1)","v":1},null,{"$f":"CHOOSE($BN$3,104-BL77,BN77,BO77,BP77)+0.00001*ROWS($BM$18:BM77)","v":1.0005999999999999},73,60,96,"Uganda",100000,17,1]
[null,null,null,null,null,null,null,null,null,null,null,null,null,null,null,null,null,null,null,null,null,null,null,null,null,null,null,null,null,null,null,null,null,null,null,null,null,null,null,null,null,null,null,null,null,null,null,null,null,null,null,null,null,null,null,null,null,null,null,null,null,null,null,61,"Montenegro",{"$f":"SUM((Country=BM78)*Salaries)/SUM((Country=BM78)*1)","v":13500},{"$f":"IFERROR(SUM((Country=BM78)*(YearsExp<>\"\")*YearsExp)/SUM((Country=BM78)*(YearsExp<>\"\")*1),0)","v":13},{"$f":"SUM((Country=BM78)*1)","v":1},null,{"$f":"CHOOSE($BN$3,104-BL78,BN78,BO78,BP78)+0.00001*ROWS($BM$18:BM78)","v":1.00061},72,61,93,"Tunisia",11000,8,1]
[null,null,null,null,null,null,null,null,null,null,null,null,null,null,null,null,null,null,null,null,null,null,null,null,null,null,null,null,null,null,null,null,null,null,null,null,null,null,null,null,null,null,null,null,null,null,null,null,null,null,null,null,null,null,null,null,null,null,null,null,null,null,null,62,"Morocco",{"$f":"SUM((Country=BM79)*Salaries)/SUM((Country=BM79)*1)","v":13745.704467353951},{"$f":"IFERROR(SUM((Country=BM79)*(YearsExp<>\"\")*YearsExp)/SUM((Country=BM79)*(YearsExp<>\"\")*1),0)","v":8},{"$f":"SUM((Country=BM79)*1)","v":1},null,{"$f":"CHOOSE($BN$3,104-BL79,BN79,BO79,BP79)+0.00001*ROWS($BM$18:BM79)","v":1.0006200000000001},71,62,86,"Somalia",78000,0,1]
[null,null,null,null,null,null,null,null,null,null,null,null,null,null,null,null,null,null,null,null,null,null,null,null,null,null,null,null,null,null,null,null,null,null,null,null,null,null,null,null,null,null,null,null,null,null,null,null,null,null,null,null,null,null,null,null,null,null,null,null,null,null,null,63,"mozambique",{"$f":"SUM((Country=BM80)*Salaries)/SUM((Country=BM80)*1)","v":24000},{"$f":"IFERROR(SUM((Country=BM80)*(YearsExp<>\"\")*YearsExp)/SUM((Country=BM80)*(YearsExp<>\"\")*1),0)","v":0},{"$f":"SUM((Country=BM80)*1)","v":1},null,{"$f":"CHOOSE($BN$3,104-BL80,BN80,BO80,BP80)+0.00001*ROWS($BM$18:BM80)","v":1.0006299999999999},70,63,85,"Slovenia",19055.991584874118,4,1]
[null,null,null,null,null,null,null,null,null,null,null,null,null,null,null,null,null,null,null,null,null,null,null,null,null,null,null,null,null,null,null,null,null,null,null,null,null,null,null,null,null,null,null,null,null,null,null,null,null,null,null,null,null,null,null,null,null,null,null,null,null,null,null,64,"Myanmar",{"$f":"SUM((Country=BM81)*Salaries)/SUM((Country=BM81)*1)","v":17700},{"$f":"IFERROR(SUM((Country=BM81)*(YearsExp<>\"\")*YearsExp)/SUM((Country=BM81)*(YearsExp<>\"\")*1),0)","v":10},{"$f":"SUM((Country=BM81)*1)","v":2},null,{"$f":"CHOOSE($BN$3,104-BL81,BN81,BO81,BP81)+0.00001*ROWS($BM$18:BM81)","v":2.0006400000000002},53,64,84,"Slovakia",13000,6,1]
[null,null,null,null,null,null,null,null,null,null,null,null,null,null,null,null,null,null,null,null,null,null,null,null,null,null,null,null,null,null,null,null,null,null,null,null,null,null,null,null,null,null,null,null,null,null,null,null,null,null,null,null,null,null,null,null,null,null,null,null,null,null,null,65,"Netherlands",{"$f":"SUM((Country=BM82)*Salaries)/SUM((Country=BM82)*1)","v":73006.431203838249},{"$f":"IFERROR(SUM((Country=BM82)*(YearsExp<>\"\")*YearsExp)/SUM((Country=BM82)*(YearsExp<>\"\")*1),0)","v":9.8421052631578956},{"$f":"SUM((Country=BM82)*1)","v":23},null,{"$f":"CHOOSE($BN$3,104-BL82,BN82,BO82,BP82)+0.00001*ROWS($BM$18:BM82)","v":23.00065},7,65,82,"self-employed",50000,0,1]
[null,null,null,null,null,null,null,null,null,null,null,null,null,null,null,null,null,null,null,null,null,null,null,null,null,null,null,null,null,null,null,null,null,null,null,null,null,null,null,null,null,null,null,null,null,null,null,null,null,null,null,null,null,null,null,null,null,null,null,null,null,null,null,66,"New Zealand",{"$f":"SUM((Country=BM83)*Salaries)/SUM((Country=BM83)*1)","v":70287.554967112796},{"$f":"IFERROR(SUM((Country=BM83)*(YearsExp<>\"\")*YearsExp)/SUM((Country=BM83)*(YearsExp<>\"\")*1),0)","v":11.714285714285714},{"$f":"SUM((Country=BM83)*1)","v":15},null,{"$f":"CHOOSE($BN$3,104-BL83,BN83,BO83,BP83)+0.00001*ROWS($BM$18:BM83)","v":15.00066},{"$f":"RANK(BR83,$BR$18:$BR$120)","v":12},66,78,"Republic of Georgia",5250,0,1]
[null,null,null,null,null,null,null,null,null,null,null,null,null,null,null,null,null,null,null,null,null,null,null,null,null,null,null,null,null,null,null,null,null,null,null,null,null,null,null,null,null,null,null,null,null,null,null,null,null,null,null,null,null,null,null,null,null,null,null,null,null,null,null,67,"Nigeria",{"$f":"SUM((Country=BM84)*Salaries)/SUM((Country=BM84)*1)","v":13494.896250642014},{"$f":"IFERROR(SUM((Country=BM84)*(YearsExp<>\"\")*YearsExp)/SUM((Country=BM84)*(YearsExp<>\"\")*1),0)","v":5.666666666666667},{"$f":"SUM((Country=BM84)*1)","v":3},null,{"$f":"CHOOSE($BN$3,104-BL84,BN84,BO84,BP84)+0.00001*ROWS($BM$18:BM84)","v":3.0006699999999999},41,67,73,"Peru",15840,8,1]
[null,null,null,null,null,null,null,null,null,null,null,null,null,null,null,null,null,null,null,null,null,null,null,null,null,null,null,null,null,null,null,null,null,null,null,null,null,null,null,null,null,null,null,null,null,null,null,null,null,null,null,null,null,null,null,null,null,null,null,null,null,null,null,68,"Norway",{"$f":"SUM((Country=BM85)*Salaries)/SUM((Country=BM85)*1)","v":99016.174371435307},{"$f":"IFERROR(SUM((Country=BM85)*(YearsExp<>\"\")*YearsExp)/SUM((Country=BM85)*(YearsExp<>\"\")*1),0)","v":8.6},{"$f":"SUM((Country=BM85)*1)","v":7},null,{"$f":"CHOOSE($BN$3,104-BL85,BN85,BO85,BP85)+0.00001*ROWS($BM$18:BM85)","v":7.00068},22,68,72,"Paraguay",20000,6,1]
[null,null,null,null,null,null,null,null,null,null,null,null,null,null,null,null,null,null,null,null,null,null,null,null,null,null,null,null,null,null,null,null,null,null,null,null,null,null,null,null,null,null,null,null,null,null,null,null,null,null,null,null,null,null,null,null,null,null,null,null,null,null,null,69,"Oman",{"$f":"SUM((Country=BM86)*Salaries)/SUM((Country=BM86)*1)","v":100800},{"$f":"IFERROR(SUM((Country=BM86)*(YearsExp<>\"\")*YearsExp)/SUM((Country=BM86)*(YearsExp<>\"\")*1),0)","v":4},{"$f":"SUM((Country=BM86)*1)","v":1},null,{"$f":"CHOOSE($BN$3,104-BL86,BN86,BO86,BP86)+0.00001*ROWS($BM$18:BM86)","v":1.0006900000000001},69,69,69,"Oman",100800,4,1]
[null,null,null,null,null,null,null,null,null,null,null,null,null,null,null,null,null,null,null,null,null,null,null,null,null,null,null,null,null,null,null,null,null,null,null,null,null,null,null,null,null,null,null,null,null,null,null,null,null,null,null,null,null,null,null,null,null,null,null,null,null,null,null,70,"Pakistan",{"$f":"SUM((Country=BM87)*Salaries)/SUM((Country=BM87)*1)","v":11873.552586779413},{"$f":"IFERROR(SUM((Country=BM87)*(YearsExp<>\"\")*YearsExp)/SUM((Country=BM87)*(YearsExp<>\"\")*1),0)","v":6.88},{"$f":"SUM((Country=BM87)*1)","v":29},null,{"$f":"CHOOSE($BN$3,104-BL87,BN87,BO87,BP87)+0.00001*ROWS($BM$18:BM87)","v":29.000699999999998},6,70,63,"mozambique",24000,0,1]
[null,null,null,null,null,null,null,null,null,null,null,null,null,null,null,null,null,null,null,null,null,null,null,null,null,null,null,null,null,null,null,null,null,null,null,null,null,null,null,null,null,null,null,null,null,null,null,null,null,null,null,null,null,null,null,null,null,null,null,null,null,null,null,71,"Panama",{"$f":"SUM((Country=BM88)*Salaries)/SUM((Country=BM88)*1)","v":44759.985974790194},{"$f":"IFERROR(SUM((Country=BM88)*(YearsExp<>\"\")*YearsExp)/SUM((Country=BM88)*(YearsExp<>\"\")*1),0)","v":0},{"$f":"SUM((Country=BM88)*1)","v":2},null,{"$f":"CHOOSE($BN$3,104-BL88,BN88,BO88,BP88)+0.00001*ROWS($BM$18:BM88)","v":2.0007100000000002},52,71,62,"Morocco",13745.704467353951,8,1]
[null,null,null,null,null,null,null,null,null,null,null,null,null,null,null,null,null,null,null,null,null,null,null,null,null,null,null,null,null,null,null,null,null,null,null,null,null,null,null,null,null,null,null,null,null,null,null,null,null,null,null,null,null,null,null,null,null,null,null,null,null,null,null,72,"Paraguay",{"$f":"SUM((Country=BM89)*Salaries)/SUM((Country=BM89)*1)","v":20000},{"$f":"IFERROR(SUM((Country=BM89)*(YearsExp<>\"\")*YearsExp)/SUM((Country=BM89)*(YearsExp<>\"\")*1),0)","v":6},{"$f":"SUM((Country=BM89)*1)","v":1},null,{"$f":"CHOOSE($BN$3,104-BL89,BN89,BO89,BP89)+0.00001*ROWS($BM$18:BM89)","v":1.0007200000000001},68,72,61,"Montenegro",13500,13,1]
[null,null,null,null,null,null,null,null,null,null,null,null,null,null,null,null,null,null,null,null,null,null,null,null,null,null,null,null,null,null,null,null,null,null,null,null,null,null,null,null,null,null,null,null,null,null,null,null,null,null,null,null,null,null,null,null,null,null,null,null,null,null,null,73,"Peru",{"$f":"SUM((Country=BM90)*Salaries)/SUM((Country=BM90)*1)","v":15840},{"$f":"IFERROR(SUM((Country=BM90)*(YearsExp<>\"\")*YearsExp)/SUM((Country=BM90)*(YearsExp<>\"\")*1),0)","v":8},{"$f":"SUM((Country=BM90)*1)","v":1},null,{"$f":"CHOOSE($BN$3,104-BL90,BN90,BO90,BP90)+0.00001*ROWS($BM$18:BM90)","v":1.0007299999999999},67,73,60,"Mongolia",7261.724659606657,2,1]
[null,null,null,null,null,null,null,null,null,null,null,null,null,null,null,null,null,null,null,null,null,null,null,null,null,null,null,null,null,null,null,null,null,null,null,null,null,null,null,null,null,null,null,null,null,null,null,null,null,null,null,null,null,null,null,null,null,null,null,null,null,null,null,74,"Philippines",{"$f":"SUM((Country=BM91)*Salaries)/SUM((Country=BM91)*1)","v":17479.292364753517},{"$f":"IFERROR(SUM((Country=BM91)*(YearsExp<>\"\")*YearsExp)/SUM((Country=BM91)*(YearsExp<>\"\")*1),0)","v":9},{"$f":"SUM((Country=BM91)*1)","v":11},null,{"$f":"CHOOSE($BN$3,104-BL91,BN91,BO91,BP91)+0.00001*ROWS($BM$18:BM91)","v":11.00074},15,74,58,"Mauritius",9376.2513877177607,7,1]
[null,null,null,null,null,null,null,null,null,null,null,null,null,null,null,null,null,null,null,null,null,null,null,null,null,null,null,null,null,null,null,null,null,null,null,null,null,null,null,null,null,null,null,null,null,null,null,null,null,null,null,null,null,null,null,null,null,null,null,null,null,null,null,75,"Poland",{"$f":"SUM((Country=BM92)*Salaries)/SUM((Country=BM92)*1)","v":34210.345381590014},{"$f":"IFERROR(SUM((Country=BM92)*(YearsExp<>\"\")*YearsExp)/SUM((Country=BM92)*(YearsExp<>\"\")*1),0)","v":7.5},{"$f":"SUM((Country=BM92)*1)","v":6},null,{"$f":"CHOOSE($BN$3,104-BL92,BN92,BO92,BP92)+0.00001*ROWS($BM$18:BM92)","v":6.00075},24,75,56,"Lithuania",15000,2,1]
[null,null,null,null,null,null,null,null,null,null,null,null,null,null,null,null,null,null,null,null,null,null,null,null,null,null,null,null,null,null,null,null,null,null,null,null,null,null,null,null,null,null,null,null,null,null,null,null,null,null,null,null,null,null,null,null,null,null,null,null,null,null,null,76,"Portugal",{"$f":"SUM((Country=BM93)*Salaries)/SUM((Country=BM93)*1)","v":32907.763410971675},{"$f":"IFERROR(SUM((Country=BM93)*(YearsExp<>\"\")*YearsExp)/SUM((Country=BM93)*(YearsExp<>\"\")*1),0)","v":9.5714285714285712},{"$f":"SUM((Country=BM93)*1)","v":10},null,{"$f":"CHOOSE($BN$3,104-BL93,BN93,BO93,BP93)+0.00001*ROWS($BM$18:BM93)","v":10.00076},17,76,55,"Libya",24864,8,1]
[null,null,null,null,null,null,null,null,null,null,null,null,null,null,null,null,null,null,null,null,null,null,null,null,null,null,null,null,null,null,null,null,null,null,null,null,null,null,null,null,null,null,null,null,null,null,null,null,null,null,null,null,null,null,null,null,null,null,null,null,null,null,null,77,"Qatar",{"$f":"SUM((Country=BM94)*Salaries)/SUM((Country=BM94)*1)","v":53066.666666666664},{"$f":"IFERROR(SUM((Country=BM94)*(YearsExp<>\"\")*YearsExp)/SUM((Country=BM94)*(YearsExp<>\"\")*1),0)","v":15.333333333333334},{"$f":"SUM((Country=BM94)*1)","v":3},null,{"$f":"CHOOSE($BN$3,104-BL94,BN94,BO94,BP94)+0.00001*ROWS($BM$18:BM94)","v":3.0007700000000002},40,77,54,"Lesotho",177600,6,1]
[null,null,null,null,null,null,null,null,null,null,null,null,null,null,null,null,null,null,null,null,null,null,null,null,null,null,null,null,null,null,null,null,null,null,null,null,null,null,null,null,null,null,null,null,null,null,null,null,null,null,null,null,null,null,null,null,null,null,null,null,null,null,null,78,"Republic of Georgia",{"$f":"SUM((Country=BM95)*Salaries)/SUM((Country=BM95)*1)","v":5250},{"$f":"IFERROR(SUM((Country=BM95)*(YearsExp<>\"\")*YearsExp)/SUM((Country=BM95)*(YearsExp<>\"\")*1),0)","v":0},{"$f":"SUM((Country=BM95)*1)","v":1},null,{"$f":"CHOOSE($BN$3,104-BL95,BN95,BO95,BP95)+0.00001*ROWS($BM$18:BM95)","v":1.00078},66,78,53,"Latin America",4400,5,1]
[null,null,null,null,null,null,null,null,null,null,null,null,null,null,null,null,null,null,null,null,null,null,null,null,null,null,null,null,null,null,null,null,null,null,null,null,null,null,null,null,null,null,null,null,null,null,null,null,null,null,null,null,null,null,null,null,null,null,null,null,null,null,null,79,"Romania",{"$f":"SUM((Country=BM96)*Salaries)/SUM((Country=BM96)*1)","v":16449.976756585475},{"$f":"IFERROR(SUM((Country=BM96)*(YearsExp<>\"\")*YearsExp)/SUM((Country=BM96)*(YearsExp<>\"\")*1),0)","v":5.5},{"$f":"SUM((Country=BM96)*1)","v":6},null,{"$f":"CHOOSE($BN$3,104-BL96,BN96,BO96,BP96)+0.00001*ROWS($BM$18:BM96)","v":6.0007900000000003},23,79,50,"Kenya",51497.005988023957,9,1]
[null,null,null,null,null,null,null,null,null,null,null,null,null,null,null,null,null,null,null,null,null,null,null,null,null,null,null,null,null,null,null,null,null,null,null,null,null,null,null,null,null,null,null,null,null,null,null,null,null,null,null,null,null,null,null,null,null,null,null,null,null,null,null,80,"Russia",{"$f":"SUM((Country=BM97)*Salaries)/SUM((Country=BM97)*1)","v":55905.222222222219},{"$f":"IFERROR(SUM((Country=BM97)*(YearsExp<>\"\")*YearsExp)/SUM((Country=BM97)*(YearsExp<>\"\")*1),0)","v":12.25},{"$f":"SUM((Country=BM97)*1)","v":9},null,{"$f":"CHOOSE($BN$3,104-BL97,BN97,BO97,BP97)+0.00001*ROWS($BM$18:BM97)","v":9.0007999999999999},19,80,42,"Iceland",41731,0,1]
[null,null,null,null,null,null,null,null,null,null,null,null,null,null,null,null,null,null,null,null,null,null,null,null,null,null,null,null,null,null,null,null,null,null,null,null,null,null,null,null,null,null,null,null,null,null,null,null,null,null,null,null,null,null,null,null,null,null,null,null,null,null,null,81,"Saudi Arabia",{"$f":"SUM((Country=BM98)*Salaries)/SUM((Country=BM98)*1)","v":35832.121212121208},{"$f":"IFERROR(SUM((Country=BM98)*(YearsExp<>\"\")*YearsExp)/SUM((Country=BM98)*(YearsExp<>\"\")*1),0)","v":11.222222222222221},{"$f":"SUM((Country=BM98)*1)","v":11},null,{"$f":"CHOOSE($BN$3,104-BL98,BN98,BO98,BP98)+0.00001*ROWS($BM$18:BM98)","v":11.00081},14,81,40,"Hong Kong",20000,1,1]
[null,null,null,null,null,null,null,null,null,null,null,null,null,null,null,null,null,null,null,null,null,null,null,null,null,null,null,null,null,null,null,null,null,null,null,null,null,null,null,null,null,null,null,null,null,null,null,null,null,null,null,null,null,null,null,null,null,null,null,null,null,null,null,82,"self-employed",{"$f":"SUM((Country=BM99)*Salaries)/SUM((Country=BM99)*1)","v":50000},{"$f":"IFERROR(SUM((Country=BM99)*(YearsExp<>\"\")*YearsExp)/SUM((Country=BM99)*(YearsExp<>\"\")*1),0)","v":0},{"$f":"SUM((Country=BM99)*1)","v":1},null,{"$f":"CHOOSE($BN$3,104-BL99,BN99,BO99,BP99)+0.00001*ROWS($BM$18:BM99)","v":1.00082},65,82,39,"Guyana",6000,20,1]
[null,null,null,null,null,null,null,null,null,null,null,null,null,null,null,null,null,null,null,null,null,null,null,null,null,null,null,null,null,null,null,null,null,null,null,null,null,null,null,null,null,null,null,null,null,null,null,null,null,null,null,null,null,null,null,null,null,null,null,null,null,null,null,83,"Singapore",{"$f":"SUM((Country=BM100)*Salaries)/SUM((Country=BM100)*1)","v":52154.754053796576},{"$f":"IFERROR(SUM((Country=BM100)*(YearsExp<>\"\")*YearsExp)/SUM((Country=BM100)*(YearsExp<>\"\")*1),0)","v":7.2727272727272725},{"$f":"SUM((Country=BM100)*1)","v":13},null,{"$f":"CHOOSE($BN$3,104-BL100,BN100,BO100,BP100)+0.00001*ROWS($BM$18:BM100)","v":13.000830000000001},13,83,37,"Ghana",18000,12,1]
[null,null,null,null,null,null,null,null,null,null,null,null,null,null,null,null,null,null,null,null,null,null,null,null,null,null,null,null,null,null,null,null,null,null,null,null,null,null,null,null,null,null,null,null,null,null,null,null,null,null,null,null,null,null,null,null,null,null,null,null,null,null,null,84,"Slovakia",{"$f":"SUM((Country=BM101)*Salaries)/SUM((Country=BM101)*1)","v":13000},{"$f":"IFERROR(SUM((Country=BM101)*(YearsExp<>\"\")*YearsExp)/SUM((Country=BM101)*(YearsExp<>\"\")*1),0)","v":6},{"$f":"SUM((Country=BM101)*1)","v":1},null,{"$f":"CHOOSE($BN$3,104-BL101,BN101,BO101,BP101)+0.00001*ROWS($BM$18:BM101)","v":1.00084},64,84,32,"Ethiopia",2953.8461538461538,3,1]
[null,null,null,null,null,null,null,null,null,null,null,null,null,null,null,null,null,null,null,null,null,null,null,null,null,null,null,null,null,null,null,null,null,null,null,null,null,null,null,null,null,null,null,null,null,null,null,null,null,null,null,null,null,null,null,null,null,null,null,null,null,null,null,85,"Slovenia",{"$f":"SUM((Country=BM102)*Salaries)/SUM((Country=BM102)*1)","v":19055.991584874118},{"$f":"IFERROR(SUM((Country=BM102)*(YearsExp<>\"\")*YearsExp)/SUM((Country=BM102)*(YearsExp<>\"\")*1),0)","v":4},{"$f":"SUM((Country=BM102)*1)","v":1},null,{"$f":"CHOOSE($BN$3,104-BL102,BN102,BO102,BP102)+0.00001*ROWS($BM$18:BM102)","v":1.00085},63,85,31,"Estonia",12000,0,1]
[null,null,null,null,null,null,null,null,null,null,null,null,null,null,null,null,null,null,null,null,null,null,null,null,null,null,null,null,null,null,null,null,null,null,null,null,null,null,null,null,null,null,null,null,null,null,null,null,null,null,null,null,null,null,null,null,null,null,null,null,null,null,null,86,"Somalia",{"$f":"SUM((Country=BM103)*Salaries)/SUM((Country=BM103)*1)","v":78000},{"$f":"IFERROR(SUM((Country=BM103)*(YearsExp<>\"\")*YearsExp)/SUM((Country=BM103)*(YearsExp<>\"\")*1),0)","v":0},{"$f":"SUM((Country=BM103)*1)","v":1},null,{"$f":"CHOOSE($BN$3,104-BL103,BN103,BO103,BP103)+0.00001*ROWS($BM$18:BM103)","v":1.0008600000000001},62,86,30,"Egypt",19831.432821021317,5,1]
[null,null,null,null,null,null,null,null,null,null,null,null,null,null,null,null,null,null,null,null,null,null,null,null,null,null,null,null,null,null,null,null,null,null,null,null,null,null,null,null,null,null,null,null,null,null,null,null,null,null,null,null,null,null,null,null,null,null,null,null,null,null,null,87,"South Africa",{"$f":"SUM((Country=BM104)*Salaries)/SUM((Country=BM104)*1)","v":49555.624994016209},{"$f":"IFERROR(SUM((Country=BM104)*(YearsExp<>\"\")*YearsExp)/SUM((Country=BM104)*(YearsExp<>\"\")*1),0)","v":11.866666666666667},{"$f":"SUM((Country=BM104)*1)","v":19},null,{"$f":"CHOOSE($BN$3,104-BL104,BN104,BO104,BP104)+0.00001*ROWS($BM$18:BM104)","v":19.000869999999999},10,87,26,"Czech Republic",36000,9,1]
[null,null,null,null,null,null,null,null,null,null,null,null,null,null,null,null,null,null,null,null,null,null,null,null,null,null,null,null,null,null,null,null,null,null,null,null,null,null,null,null,null,null,null,null,null,null,null,null,null,null,null,null,null,null,null,null,null,null,null,null,null,null,null,88,"Spain",{"$f":"SUM((Country=BM105)*Salaries)/SUM((Country=BM105)*1)","v":46235.660112252495},{"$f":"IFERROR(SUM((Country=BM105)*(YearsExp<>\"\")*YearsExp)/SUM((Country=BM105)*(YearsExp<>\"\")*1),0)","v":12.444444444444445},{"$f":"SUM((Country=BM105)*1)","v":10},null,{"$f":"CHOOSE($BN$3,104-BL105,BN105,BO105,BP105)+0.00001*ROWS($BM$18:BM105)","v":10.00088},16,88,24,"Costa Rica",28109.627547434993,0,1]
[null,null,null,null,null,null,null,null,null,null,null,null,null,null,null,null,null,null,null,null,null,null,null,null,null,null,null,null,null,null,null,null,null,null,null,null,null,null,null,null,null,null,null,null,null,null,null,null,null,null,null,null,null,null,null,null,null,null,null,null,null,null,null,89,"Sri Lanka",{"$f":"SUM((Country=BM106)*Salaries)/SUM((Country=BM106)*1)","v":22921.154792448855},{"$f":"IFERROR(SUM((Country=BM106)*(YearsExp<>\"\")*YearsExp)/SUM((Country=BM106)*(YearsExp<>\"\")*1),0)","v":7.9},{"$f":"SUM((Country=BM106)*1)","v":5},null,{"$f":"CHOOSE($BN$3,104-BL106,BN106,BO106,BP106)+0.00001*ROWS($BM$18:BM106)","v":5.0008900000000001},28,89,21,"Central America",95000,0,1]
[null,null,null,null,null,null,null,null,null,null,null,null,null,null,null,null,null,null,null,null,null,null,null,null,null,null,null,null,null,null,null,null,null,null,null,null,null,null,null,null,null,null,null,null,null,null,null,null,null,null,null,null,null,null,null,null,null,null,null,null,null,null,null,90,"Sweden",{"$f":"SUM((Country=BM107)*Salaries)/SUM((Country=BM107)*1)","v":84477.260092140481},{"$f":"IFERROR(SUM((Country=BM107)*(YearsExp<>\"\")*YearsExp)/SUM((Country=BM107)*(YearsExp<>\"\")*1),0)","v":20},{"$f":"SUM((Country=BM107)*1)","v":2},null,{"$f":"CHOOSE($BN$3,104-BL107,BN107,BO107,BP107)+0.00001*ROWS($BM$18:BM107)","v":2.0009000000000001},51,90,18,"Cambodia",3000,2,1]
[null,null,null,null,null,null,null,null,null,null,null,null,null,null,null,null,null,null,null,null,null,null,null,null,null,null,null,null,null,null,null,null,null,null,null,null,null,null,null,null,null,null,null,null,null,null,null,null,null,null,null,null,null,null,null,null,null,null,null,null,null,null,null,91,"Switzerland",{"$f":"SUM((Country=BM108)*Salaries)/SUM((Country=BM108)*1)","v":137525.55715529469},{"$f":"IFERROR(SUM((Country=BM108)*(YearsExp<>\"\")*YearsExp)/SUM((Country=BM108)*(YearsExp<>\"\")*1),0)","v":13},{"$f":"SUM((Country=BM108)*1)","v":4},null,{"$f":"CHOOSE($BN$3,104-BL108,BN108,BO108,BP108)+0.00001*ROWS($BM$18:BM108)","v":4.0009100000000002},35,91,17,"Bulgaria",14400,15,1]
[null,null,null,null,null,null,null,null,null,null,null,null,null,null,null,null,null,null,null,null,null,null,null,null,null,null,null,null,null,null,null,null,null,null,null,null,null,null,null,null,null,null,null,null,null,null,null,null,null,null,null,null,null,null,null,null,null,null,null,null,null,null,null,92,"Thailand",{"$f":"SUM((Country=BM109)*Salaries)/SUM((Country=BM109)*1)","v":73000},{"$f":"IFERROR(SUM((Country=BM109)*(YearsExp<>\"\")*YearsExp)/SUM((Country=BM109)*(YearsExp<>\"\")*1),0)","v":1},{"$f":"SUM((Country=BM109)*1)","v":2},null,{"$f":"CHOOSE($BN$3,104-BL109,BN109,BO109,BP109)+0.00001*ROWS($BM$18:BM109)","v":2.0009199999999998},50,92,15,"Bolivia",9600,2,1]
[null,null,null,null,null,null,null,null,null,null,null,null,null,null,null,null,null,null,null,null,null,null,null,null,null,null,null,null,null,null,null,null,null,null,null,null,null,null,null,null,null,null,null,null,null,null,null,null,null,null,null,null,null,null,null,null,null,null,null,null,null,null,null,93,"Tunisia",{"$f":"SUM((Country=BM110)*Salaries)/SUM((Country=BM110)*1)","v":11000},{"$f":"IFERROR(SUM((Country=BM110)*(YearsExp<>\"\")*YearsExp)/SUM((Country=BM110)*(YearsExp<>\"\")*1),0)","v":8},{"$f":"SUM((Country=BM110)*1)","v":1},null,{"$f":"CHOOSE($BN$3,104-BL110,BN110,BO110,BP110)+0.00001*ROWS($BM$18:BM110)","v":1.0009300000000001},61,93,14,"Bhutan",4800,2,1]
[null,null,null,null,null,null,null,null,null,null,null,null,null,null,null,null,null,null,null,null,null,null,null,null,null,null,null,null,null,null,null,null,null,null,null,null,null,null,null,null,null,null,null,null,null,null,null,null,null,null,null,null,null,null,null,null,null,null,null,null,null,null,null,94,"Turkey",{"$f":"SUM((Country=BM111)*Salaries)/SUM((Country=BM111)*1)","v":48000},{"$f":"IFERROR(SUM((Country=BM111)*(YearsExp<>\"\")*YearsExp)/SUM((Country=BM111)*(YearsExp<>\"\")*1),0)","v":10},{"$f":"SUM((Country=BM111)*1)","v":2},null,{"$f":"CHOOSE($BN$3,104-BL111,BN111,BO111,BP111)+0.00001*ROWS($BM$18:BM111)","v":2.0009399999999999},49,94,13,"Bermuda",78000,0,1]
[null,null,null,null,null,null,null,null,null,null,null,null,null,null,null,null,null,null,null,null,null,null,null,null,null,null,null,null,null,null,null,null,null,null,null,null,null,null,null,null,null,null,null,null,null,null,null,null,null,null,null,null,null,null,null,null,null,null,null,null,null,null,null,95,"UAE",{"$f":"SUM((Country=BM112)*Salaries)/SUM((Country=BM112)*1)","v":43014.900191685309},{"$f":"IFERROR(SUM((Country=BM112)*(YearsExp<>\"\")*YearsExp)/SUM((Country=BM112)*(YearsExp<>\"\")*1),0)","v":9.8214285714285712},{"$f":"SUM((Country=BM112)*1)","v":19},null,{"$f":"CHOOSE($BN$3,104-BL112,BN112,BO112,BP112)+0.00001*ROWS($BM$18:BM112)","v":19.00095},9,95,10,"Baltic",8400,0.3,1]
[null,null,null,null,null,null,null,null,null,null,null,null,null,null,null,null,null,null,null,null,null,null,null,null,null,null,null,null,null,null,null,null,null,null,null,null,null,null,null,null,null,null,null,null,null,null,null,null,null,null,null,null,null,null,null,null,null,null,null,null,null,null,null,96,"Uganda",{"$f":"SUM((Country=BM113)*Salaries)/SUM((Country=BM113)*1)","v":100000},{"$f":"IFERROR(SUM((Country=BM113)*(YearsExp<>\"\")*YearsExp)/SUM((Country=BM113)*(YearsExp<>\"\")*1),0)","v":17},{"$f":"SUM((Country=BM113)*1)","v":1},null,{"$f":"CHOOSE($BN$3,104-BL113,BN113,BO113,BP113)+0.00001*ROWS($BM$18:BM113)","v":1.0009600000000001},60,96,9,"Azerbaijan",36000,5,1]
[null,null,null,null,null,null,null,null,null,null,null,null,null,null,null,null,null,null,null,null,null,null,null,null,null,null,null,null,null,null,null,null,null,null,null,null,null,null,null,null,null,null,null,null,null,null,null,null,null,null,null,null,null,null,null,null,null,null,null,null,null,null,null,97,"UK",{"$f":"SUM((Country=BM114)*Salaries)/SUM((Country=BM114)*1)","v":67240.730112795849},{"$f":"IFERROR(SUM((Country=BM114)*(YearsExp<>\"\")*YearsExp)/SUM((Country=BM114)*(YearsExp<>\"\")*1),0)","v":10.382882882882884},{"$f":"SUM((Country=BM114)*1)","v":154},null,{"$f":"CHOOSE($BN$3,104-BL114,BN114,BO114,BP114)+0.00001*ROWS($BM$18:BM114)","v":154.00097},3,97,8,"Austria",50815.977559664309,20,1]
[null,null,null,null,null,null,null,null,null,null,null,null,null,null,null,null,null,null,null,null,null,null,null,null,null,null,null,null,null,null,null,null,null,null,null,null,null,null,null,null,null,null,null,null,null,null,null,null,null,null,null,null,null,null,null,null,null,null,null,null,null,null,null,98,"Ukraine",{"$f":"SUM((Country=BM115)*Salaries)/SUM((Country=BM115)*1)","v":11650},{"$f":"IFERROR(SUM((Country=BM115)*(YearsExp<>\"\")*YearsExp)/SUM((Country=BM115)*(YearsExp<>\"\")*1),0)","v":5},{"$f":"SUM((Country=BM115)*1)","v":4},null,{"$f":"CHOOSE($BN$3,104-BL115,BN115,BO115,BP115)+0.00001*ROWS($BM$18:BM115)","v":4.0009800000000002},34,98,6,"Asia",12000,3,1]
[null,null,null,null,null,null,null,null,null,null,null,null,null,null,null,null,null,null,null,null,null,null,null,null,null,null,null,null,null,null,null,null,null,null,null,null,null,null,null,null,null,null,null,null,null,null,null,null,null,null,null,null,null,null,null,null,null,null,null,null,null,null,null,99,"Uruguay",{"$f":"SUM((Country=BM116)*Salaries)/SUM((Country=BM116)*1)","v":35000},{"$f":"IFERROR(SUM((Country=BM116)*(YearsExp<>\"\")*YearsExp)/SUM((Country=BM116)*(YearsExp<>\"\")*1),0)","v":10},{"$f":"SUM((Country=BM116)*1)","v":1},null,{"$f":"CHOOSE($BN$3,104-BL116,BN116,BO116,BP116)+0.00001*ROWS($BM$18:BM116)","v":1.00099},59,99,5,"Aruba",5000,13,1]
[null,null,null,null,null,null,null,null,null,null,null,null,null,null,null,null,null,null,null,null,null,null,null,null,null,null,null,null,null,null,null,null,null,null,null,null,null,null,null,null,null,null,null,null,null,null,null,null,null,null,null,null,null,null,null,null,null,null,null,null,null,null,null,100,"USA",{"$f":"SUM((Country=BM117)*Salaries)/SUM((Country=BM117)*1)","v":72738.12965964344},{"$f":"IFERROR(SUM((Country=BM117)*(YearsExp<>\"\")*YearsExp)/SUM((Country=BM117)*(YearsExp<>\"\")*1),0)","v":10.292035398230089},{"$f":"SUM((Country=BM117)*1)","v":617},null,{"$f":"CHOOSE($BN$3,104-BL117,BN117,BO117,BP117)+0.00001*ROWS($BM$18:BM117)","v":617.00099999999998},1,100,4,"Armenia",6000,5,1]
[null,null,null,null,null,null,null,null,null,null,null,null,null,null,null,null,null,null,null,null,null,null,null,null,null,null,null,null,null,null,null,null,null,null,null,null,null,null,null,null,null,null,null,null,null,null,null,null,null,null,null,null,null,null,null,null,null,null,null,null,null,null,null,101,"Vietnam",{"$f":"SUM((Country=BM118)*Salaries)/SUM((Country=BM118)*1)","v":10000},{"$f":"IFERROR(SUM((Country=BM118)*(YearsExp<>\"\")*YearsExp)/SUM((Country=BM118)*(YearsExp<>\"\")*1),0)","v":6},{"$f":"SUM((Country=BM118)*1)","v":2},null,{"$f":"CHOOSE($BN$3,104-BL118,BN118,BO118,BP118)+0.00001*ROWS($BM$18:BM118)","v":2.00101},48,101,3,"Argentina",24000,21,1]
[null,null,null,null,null,null,null,null,null,null,null,null,null,null,null,null,null,null,null,null,null,null,null,null,null,null,null,null,null,null,null,null,null,null,null,null,null,null,null,null,null,null,null,null,null,null,null,null,null,null,null,null,null,null,null,null,null,null,null,null,null,null,null,102,"Zambia",{"$f":"SUM((Country=BM119)*Salaries)/SUM((Country=BM119)*1)","v":13000},{"$f":"IFERROR(SUM((Country=BM119)*(YearsExp<>\"\")*YearsExp)/SUM((Country=BM119)*(YearsExp<>\"\")*1),0)","v":3.5},{"$f":"SUM((Country=BM119)*1)","v":2},null,{"$f":"CHOOSE($BN$3,104-BL119,BN119,BO119,BP119)+0.00001*ROWS($BM$18:BM119)","v":2.00102},47,102,2,"Arabian Gulf",21000,0,1]
[null,null,null,null,null,null,null,null,null,null,null,null,null,null,null,null,null,null,null,null,null,null,null,null,null,null,null,null,null,null,null,null,null,null,null,null,null,null,null,null,null,null,null,null,null,null,null,null,null,null,null,null,null,null,null,null,null,null,null,null,null,null,null,103,"Zimbabwe",{"$f":"SUM((Country=BM120)*Salaries)/SUM((Country=BM120)*1)","v":36400},{"$f":"IFERROR(SUM((Country=BM120)*(YearsExp<>\"\")*YearsExp)/SUM((Country=BM120)*(YearsExp<>\"\")*1),0)","v":20},{"$f":"SUM((Country=BM120)*1)","v":1},null,{"$f":"CHOOSE($BN$3,104-BL120,BN120,BO120,BP120)+0.00001*ROWS($BM$18:BM120)","v":1.0010300000000001},58,103,1,"Albania",20571,8,1]