{"text_format":"1","workbook":"xlsx","n_sheets":4,"sheets":["Dashboard","Data","calcs","named ranges"],"not_rendered":{"charts":5,"images":2,"macros":1,"external_links":0,"defined_names":18,"comments":0,"pivot_tables":0},"unopened":[],"bounds":{"document_bytes":16777216,"sheet_cells":100000,"rows_first":2000,"rows_last":500,"rows_between":2000,"halvings":0,"cell_chars":16384,"cell_head_chars":4096},"cells_cut":0,"cells_raw":0,"read":"whole","date_system":"1900"}

{"sheet":"Dashboard","index":0,"n_rows":23,"n_cols":18,"rows_kept":23,"cut":false,"hidden":false,"merged":[[15,16,15,17],[15,1,15,3],[5,13,5,14],[5,10,5,11],[5,7,5,8],[15,5,15,14]]}
[]
[null,null,null,null,null,null,null,null,null,null,null,null,null,null,null,null,"4 week period starting","2012-01-10"]
[]
[]
[]
[null,null,null,"Total Calls",null,"Trend",null,"Call Duration",null,null,"Resolution Rate",null,null,"Satisfaction Rating",null,null,"Upsell $","Conv %"]
[]
[null,"All",null,{"$f":"calcs!C40","v":8202},null,null,null,{"$f":"calcs!F39","v":75},"secs",null,{"$f":"L8","v":0.94854913435747379},{"$f":"calcs!I40","v":0.94854913435747379},null,{"$f":"calcs!L40","v":2.9944159960985131},null,null,{"$f":"calcs!O42","v":"$989.0 k"},{"$f":"calcs!$O$44","v":0.60180443794196536}]
[]
[null,{"$f":"calcs!E4","v":"South"},null,{"$f":"calcs!D38","v":1565},null,null,null,{"$f":"calcs!G39","v":75},"secs",null,{"$f":"L10","v":0.9476038338658147},{"$f":"calcs!J40","v":0.9476038338658147},null,{"$f":"calcs!M40","v":2.9918849840255586},null,null,{"$f":"calcs!P42","v":"$190.5 k"},{"$f":"calcs!P44","v":0.61022364217252401}]
[]
[null,{"$f":"calcs!G4","v":"Mid-west"},null,{"$f":"calcs!E38","v":1681},null,null,null,{"$f":"calcs!H39","v":75},"secs",null,{"$f":"L12","v":0.94705532421177874},{"$f":"calcs!K40","v":0.94705532421177874},null,{"$f":"calcs!N40","v":3.0151100535395607},null,null,{"$f":"calcs!Q42","v":"$202.3 k"},{"$f":"calcs!Q44","v":0.59666864961332544}]
[null,null,null,null,null,null,null,null,null,null,null,null,null,null,"1 2 3 4 5"]
[]
[]
[]
[]
[null,{"$f":"calcs!B65","v":"North"},null,{"$f":"calcs!D65","v":"1,659 calls"},null,null,null,null,null,null,null,null,null,null,null,null,{"$f":"B18","v":"North"},{"$f":"D18","v":"1,659 calls"}]
[null,{"$f":"calcs!B66","v":"South"},null,{"$f":"calcs!D66","v":"1,565"},null,null,null,null,null,null,null,null,null,null,null,null,"South","1,565"]
[null,{"$f":"calcs!B67","v":"East"},null,{"$f":"calcs!D67","v":"1,651"},null,null,null,null,null,null,null,null,null,null,null,null,"East","1,651"]
[null,{"$f":"calcs!B68","v":"Mid-west"},null,{"$f":"calcs!D68","v":"1,681"},null,null,null,null,null,null,null,null,null,null,null,null,"Mid-west","1,681"]
[null,{"$f":"calcs!B69","v":"West"},null,{"$f":"calcs!D69","v":"1,646"},null,null,null,null,null,null,null,null,null,null,null,null,"West","1,646"]
[null,{"$f":"calcs!B70","v":0},null,{"$f":"calcs!D70","v":""},null,null,null,null,null,null,null,null,null,null,null,null,0,""]

{"sheet":"Data","index":1,"n_rows":14837,"n_cols":16,"rows_kept":4500,"cut":true,"hidden":false,"merged":[],"bounds":{"rows_first":2000,"rows_last":500,"rows_between":2000,"halvings":0}}
[null,"Data"]
[]
[]
[null,null,null,null,null,null,"seconds","Yes/ No",null,"Amount ($0 for no up-sell)",null,null,"Meta Data"]
[null,"Call ID","Date Time","Product","Region","Customer Type","Call Duration","Resolved","Satisfaction Ratio","Up-sell","Agent ID",null,"Products","Regions","Customer Types","Agents"]
[null,"CL00001","2012-01-01T09:01:23.047","Desktop","Mid-west","Individual",94,"Yes",3.2,170,"Agent Bond",null,"Monitor","North","Large Corporate","Agent Bond"]
[null,"CL00002","2012-01-01T09:01:59.806","Laptop","West","SME",83,"Yes",2.4,250,"Agent Mary",null,"Desktop","South","SME","Agent Harry"]
[null,"CL00003","2012-01-01T09:04:33.505","Misc.","North","Individual",76,"Yes",2.7,160,"Agent Neo",null,"Laptop","East","Individual","Agent Smith"]
[null,"CL00004","2012-01-01T09:09:29.428","Misc.","West","Large Corporate",76,"No",2.7,170,"Agent Vinod",null,"Accessories","Mid-west","Non-profit","Agent Mary"]
[null,"CL00005","2012-01-01T09:12:48.293","Laptop","East","SME",67,"Yes",2.7,0,"Agent Neo",null,"Software","West",null,"Agent Vinod"]
[null,"CL00006","2012-01-01T09:17:48.923","Monitor","East","SME",62,"Yes",2.9,240,"Agent Neo",null,"Misc.",null,null,"Agent Neo"]
[null,"CL00007","2012-01-01T09:21:22.993","Misc.","West","SME",84,"Yes",3.2,0,"Agent Mary"]
[null,"CL00008","2012-01-01T09:23:46.368","Laptop","Mid-west","SME",63,"Yes",2.2000000000000002,120,"Agent Neo"]
[null,"CL00009","2012-01-01T09:24:41.998","Monitor","North","SME",81,"Yes",3.2,160,"Agent Mary",null,"Footer Statement"]
[null,"CL00010","2012-01-01T09:29:22.992","Desktop","North","Non-profit",79,"Yes",3.5,290,"Agent Neo",null,"Dashboard prepared by Chandoo.org on"]
[null,"CL00011","2012-01-01T09:34:45.825","Laptop","Mid-west","Large Corporate",63,"Yes",3.4,0,"Agent Smith"]
[null,"CL00012","2012-01-01T09:34:46.251","Desktop","South","Large Corporate",75,"Yes",3.3,230,"Agent Smith"]
[null,"CL00013","2012-01-01T09:39:01.107","Software","Mid-west","SME",67,"Yes",4,200,"Agent Vinod"]
[null,"CL00014","2012-01-01T09:39:31.335","Software","South","Individual",86,"Yes",3.4,250,"Agent Vinod"]
[null,"CL00015","2012-01-01T09:41:24.766","Monitor","Mid-west","Non-profit",90,"Yes",3.4,0,"Agent Smith"]
[null,"CL00016","2012-01-01T09:44:55.464","Accessories","East","Non-profit",77,"Yes",2.2999999999999998,190,"Agent Harry"]
[null,"CL00017","2012-01-01T09:46:03.784","Laptop","West","Non-profit",87,"No",2.4,200,"Agent Harry"]
[null,"CL00018","2012-01-01T09:51:06.743","Software","East","Individual",69,"Yes",3.2,240,"Agent Mary"]
[null,"CL00019","2012-01-01T09:54:37.798","Misc.","North","Individual",76,"Yes",2.4,200,"Agent Neo"]
[null,"CL00020","2012-01-01T09:57:39.830","Software","East","Non-profit",87,"Yes",3.3,170,"Agent Harry"]
[null,"CL00021","2012-01-01T09:58:33.159","Laptop","Mid-west","Individual",86,"Yes",3.1,150,"Agent Mary"]
[null,"CL00022","2012-01-01T10:02:51.245","Software","East","Large Corporate",79,"Yes",2.5,170,"Agent Neo"]
[null,"CL00023","2012-01-01T10:05:54.040","Misc.","North","Non-profit",65,"Yes",2.4,210,"Agent Harry"]
[null,"CL00024","2012-01-01T10:09:30.895","Laptop","East","SME",77,"Yes",2.8,200,"Agent Vinod"]
[null,"CL00025","2012-01-01T10:14:09.833","Software","South","Non-profit",82,"Yes",3.9,240,"Agent Vinod"]
[null,"CL00026","2012-01-01T10:15:54.571","Software","South","SME",76,"Yes",3.4,150,"Agent Smith"]
[null,"CL00027","2012-01-01T10:20:40.022","Desktop","North","SME",76,"Yes",2.8,0,"Agent Harry"]
[null,"CL00028","2012-01-01T10:21:00.415","Software","East","Large Corporate",83,"Yes",2.6,200,"Agent Vinod"]
[null,"CL00029","2012-01-01T10:26:12.901","Laptop","North","Non-profit",78,"Yes",3.8,280,"Agent Neo"]
[null,"CL00030","2012-01-01T10:27:28","Desktop","Mid-west","Large Corporate",75,"Yes",3.8,250,"Agent Mary"]
[null,"CL00031","2012-01-01T10:28:32.710","Laptop","East","Individual",69,"Yes",2.8,140,"Agent Smith"]
[null,"CL00032","2012-01-01T10:32:34.270","Laptop","North","Individual",82,"Yes",3.6,0,"Agent Bond"]
[null,"CL00033","2012-01-01T10:32:51.428","Accessories","North","Large Corporate",66,"Yes",4,0,"Agent Neo"]
[null,"CL00034","2012-01-01T10:36:33.024","Misc.","East","SME",77,"Yes",2.9,0,"Agent Smith"]
[null,"CL00035","2012-01-01T10:41:03.994","Monitor","North","Large Corporate",69,"Yes",3.6,220,"Agent Harry"]
[null,"CL00036","2012-01-01T10:41:06.347","Monitor","Mid-west","Individual",75,"Yes",2.9,180,"Agent Harry"]
[null,"CL00037","2012-01-01T10:44:24.884","Monitor","Mid-west","Individual",77,"Yes",2.2999999999999998,0,"Agent Harry"]
[null,"CL00038","2012-01-01T10:45:27.803","Accessories","East","Non-profit",78,"Yes",3.2,0,"Agent Neo"]
[null,"CL00039","2012-01-01T10:46:22.383","Monitor","West","Large Corporate",82,"Yes",2.8,260,"Agent Smith"]
[null,"CL00040","2012-01-01T10:48:50.529","Desktop","West","Non-profit",56,"Yes",3,240,"Agent Mary"]
[null,"CL00041","2012-01-01T10:52:44.157","Accessories","South","Large Corporate",86,"Yes",4,190,"Agent Mary"]
[null,"CL00042","2012-01-01T10:55:29.119","Software","North","Individual",66,"Yes",2.8,0,"Agent Mary"]
[null,"CL00043","2012-01-01T11:00:23.095","Desktop","Mid-west","Large Corporate",96,"Yes",2.8,190,"Agent Harry"]
[null,"CL00044","2012-01-01T11:03:02.252","Misc.","Mid-west","SME",60,"Yes",2.7,0,"Agent Bond"]
[null,"CL00045","2012-01-01T11:06:11.481","Software","Mid-west","Non-profit",70,"Yes",3.8,180,"Agent Mary"]
[null,"CL00046","2012-01-01T11:07:28.767","Laptop","West","Non-profit",78,"Yes",2.1,280,"Agent Mary"]
[null,"CL00047","2012-01-01T11:10:19","Laptop","South","Individual",74,"Yes",3.5,190,"Agent Bond"]
[null,"CL00048","2012-01-01T11:14:47.903","Laptop","South","Large Corporate",79,"Yes",2.9,160,"Agent Vinod"]
[null,"CL00049","2012-01-01T11:17:49.645","Misc.","West","SME",76,"Yes",3,90,"Agent Mary"]
[null,"CL00050","2012-01-01T11:18:39.436","Desktop","Mid-west","Individual",72,"Yes",1.9,0,"Agent Smith"]
[null,"CL00051","2012-01-01T11:23:12.907","Laptop","West","Individual",65,"Yes",2.7,0,"Agent Harry"]
[null,"CL00052","2012-01-01T11:28:16.168","Desktop","North","Large Corporate",78,"Yes",3.4,170,"Agent Mary"]
[null,"CL00053","2012-01-01T11:30:52.407","Laptop","West","Non-profit",78,"Yes",2.6,270,"Agent Mary"]
[null,"CL00054","2012-01-01T11:34:46.791","Software","East","Individual",78,"Yes",2.5,180,"Agent Smith"]
[null,"CL00055","2012-01-01T11:35:25.036","Laptop","East","SME",65,"Yes",2.7,150,"Agent Bond"]
[null,"CL00056","2012-01-01T11:37:50.861","Monitor","Mid-west","Non-profit",58,"Yes",3.8,240,"Agent Bond"]
[null,"CL00057","2012-01-01T11:41:12.402","Desktop","South","Large Corporate",67,"Yes",3.1,0,"Agent Vinod"]
[null,"CL00058","2012-01-01T11:42:15.895","Misc.","Mid-west","Individual",75,"No",2.5,0,"Agent Vinod"]
[null,"CL00059","2012-01-01T11:47:31.474","Misc.","East","SME",83,"Yes",2.9,190,"Agent Mary"]
[null,"CL00060","2012-01-01T11:51:19.940","Laptop","South","Individual",67,"Yes",2.6,130,"Agent Vinod"]
[null,"CL00061","2012-01-01T11:55:00.304","Accessories","West","SME",60,"Yes",2.4,0,"Agent Smith"]
[null,"CL00062","2012-01-01T11:58:05.666","Desktop","North","Non-profit",76,"Yes",3.3,220,"Agent Smith"]
[null,"CL00063","2012-01-01T12:01:59.526","Laptop","Mid-west","Individual",73,"Yes",3.5,220,"Agent Harry"]
[null,"CL00064","2012-01-01T12:07:38.989","Laptop","East","SME",82,"Yes",3,140,"Agent Harry"]
[null,"CL00065","2012-01-01T12:09:46.285","Misc.","North","Large Corporate",72,"Yes",2.8,160,"Agent Smith"]
[null,"CL00066","2012-01-01T12:11:30.826","Software","East","SME",69,"Yes",2.6,330,"Agent Vinod"]
[null,"CL00067","2012-01-01T12:15:15.874","Laptop","East","Non-profit",76,"Yes",3.8,100,"Agent Bond"]
[null,"CL00068","2012-01-01T12:15:28.830","Misc.","Mid-west","Non-profit",64,"Yes",3.4,250,"Agent Bond"]
[null,"CL00069","2012-01-01T12:17:56.398","Desktop","West","Large Corporate",69,"Yes",3.6,180,"Agent Bond"]
[null,"CL00070","2012-01-01T12:21:31.874","Monitor","North","Individual",78,"Yes",3.3,200,"Agent Harry"]
[null,"CL00071","2012-01-01T12:23:37.432","Monitor","Mid-west","Individual",80,"Yes",2.9,110,"Agent Mary"]
[null,"CL00072","2012-01-01T12:28:02.221","Software","Mid-west","SME",84,"Yes",2.6,0,"Agent Bond"]
[null,"CL00073","2012-01-01T12:30:53.007","Monitor","Mid-west","Non-profit",80,"Yes",3,150,"Agent Harry"]
[null,"CL00074","2012-01-01T12:34:14.055","Laptop","East","Non-profit",77,"Yes",2.6,0,"Agent Mary"]
[null,"CL00075","2012-01-01T12:34:33.126","Laptop","South","Large Corporate",73,"Yes",2.7,0,"Agent Neo"]
[null,"CL00076","2012-01-01T12:35:06.854","Accessories","Mid-west","Large Corporate",78,"Yes",3.1,230,"Agent Neo"]
[null,"CL00077","2012-01-01T12:38:20.966","Software","South","Non-profit",79,"Yes",3.8,170,"Agent Bond"]
[null,"CL00078","2012-01-01T12:42:03.235","Desktop","Mid-west","Non-profit",81,"Yes",2.9,190,"Agent Smith"]
[null,"CL00079","2012-01-01T12:42:54.022","Software","Mid-west","Non-profit",69,"Yes",2.8,250,"Agent Bond"]
[null,"CL00080","2012-01-01T12:47:32.405","Misc.","West","Large Corporate",72,"Yes",3.1,0,"Agent Vinod"]
[null,"CL00081","2012-01-01T12:49:51.320","Misc.","Mid-west","Non-profit",70,"Yes",2.2000000000000002,270,"Agent Smith"]
[null,"CL00082","2012-01-01T12:54:20.255","Desktop","Mid-west","Non-profit",84,"Yes",3.7,140,"Agent Smith"]
[null,"CL00083","2012-01-01T12:56:44.317","Monitor","North","Large Corporate",78,"Yes",2.7,230,"Agent Neo"]
[null,"CL00084","2012-01-01T12:58:38.979","Desktop","East","Individual",79,"Yes",3.5,0,"Agent Bond"]
[null,"CL00085","2012-01-01T13:01:54.769","Software","Mid-west","Large Corporate",71,"Yes",2.8,230,"Agent Harry"]
[null,"CL00086","2012-01-01T13:05:04.625","Accessories","West","Non-profit",70,"Yes",3.3,0,"Agent Vinod"]
[null,"CL00087","2012-01-01T13:07:09.544","Accessories","East","Large Corporate",85,"Yes",2.8,0,"Agent Vinod"]
[null,"CL00088","2012-01-01T13:11:28.600","Accessories","West","Non-profit",67,"Yes",2,0,"Agent Bond"]
[null,"CL00089","2012-01-01T13:16:29.184","Monitor","Mid-west","SME",77,"No",2.2999999999999998,260,"Agent Smith"]
[null,"CL00090","2012-01-01T13:20:43.691","Misc.","East","SME",78,"Yes",3.7,320,"Agent Bond"]
[null,"CL00091","2012-01-01T13:25:57.021","Software","South","SME",64,"Yes",3.2,250,"Agent Harry"]
[null,"CL00092","2012-01-01T13:26:50.205","Desktop","South","Non-profit",67,"Yes",3.6,200,"Agent Harry"]
[null,"CL00093","2012-01-01T13:26:53.621","Accessories","East","Non-profit",62,"Yes",2.8,130,"Agent Bond"]
[null,"CL00094","2012-01-01T13:31:14.663","Software","Mid-west","Individual",73,"Yes",3.1,190,"Agent Mary"]
[null,"CL00095","2012-01-01T13:35:09.154","Misc.","East","Large Corporate",96,"Yes",2.2999999999999998,200,"Agent Bond"]
[null,"CL00096","2012-01-01T13:36:19.473","Software","West","Individual",69,"Yes",3.5,320,"Agent Smith"]
[null,"CL00097","2012-01-01T13:41:46.840","Software","North","Individual",82,"Yes",3,230,"Agent Smith"]
[null,"CL00098","2012-01-01T13:45:29.916","Laptop","West","Individual",76,"Yes",3.4,0,"Agent Neo"]
[null,"CL00099","2012-01-01T13:47:34.723","Accessories","Mid-west","Individual",73,"Yes",2.8,220,"Agent Smith"]
[null,"CL00100","2012-01-01T13:52:36.514","Misc.","North","Non-profit",78,"Yes",3.2,0,"Agent Neo"]
[null,"CL00101","2012-01-01T13:52:47.540","Misc.","West","Individual",63,"Yes",3,0,"Agent Bond"]
[null,"CL00102","2012-01-01T13:52:59.660","Accessories","East","Non-profit",73,"Yes",2.8,0,"Agent Smith"]
[null,"CL00103","2012-01-01T13:57:47.061","Monitor","West","Non-profit",66,"Yes",2.8,240,"Agent Harry"]
[null,"CL00104","2012-01-01T13:58:52.195","Laptop","Mid-west","Large Corporate",77,"Yes",2.8,230,"Agent Neo"]
[null,"CL00105","2012-01-01T14:02:21.032","Misc.","North","Individual",62,"Yes",3.3,0,"Agent Mary"]
[null,"CL00106","2012-01-01T14:06:23.634","Laptop","East","Individual",94,"Yes",2.2999999999999998,0,"Agent Neo"]
[null,"CL00107","2012-01-01T14:06:51.290","Desktop","South","Non-profit",69,"No",2.7,230,"Agent Neo"]
[null,"CL00108","2012-01-01T14:10:03.249","Accessories","North","Large Corporate",79,"Yes",3.2,0,"Agent Mary"]
[null,"CL00109","2012-01-01T14:12:09.559","Misc.","South","Large Corporate",74,"Yes",2.8,0,"Agent Smith"]
[null,"CL00110","2012-01-01T14:12:51.856","Laptop","Mid-west","Large Corporate",62,"Yes",3.9,170,"Agent Bond"]
[null,"CL00111","2012-01-01T14:16:31.523","Laptop","South","SME",81,"No",2.5,180,"Agent Smith"]
[null,"CL00112","2012-01-01T14:21:58.501","Misc.","South","Non-profit",72,"Yes",3,50,"Agent Bond"]
[null,"CL00113","2012-01-01T14:23:19.253","Laptop","South","Individual",76,"Yes",3.4,0,"Agent Bond"]
[null,"CL00114","2012-01-01T14:25:03.447","Desktop","East","Non-profit",84,"Yes",2.5,250,"Agent Harry"]
[null,"CL00115","2012-01-01T14:26:07.838","Desktop","North","Large Corporate",77,"Yes",3.3,180,"Agent Mary"]
[null,"CL00116","2012-01-01T14:28:40.107","Desktop","Mid-west","SME",77,"Yes",3.5,290,"Agent Neo"]
[null,"CL00117","2012-01-01T14:28:48.420","Desktop","South","Individual",73,"Yes",2,180,"Agent Mary"]
[null,"CL00118","2012-01-01T14:32:47.856","Accessories","West","SME",74,"Yes",3.1,0,"Agent Harry"]
[null,"CL00119","2012-01-01T14:36:14.421","Laptop","Mid-west","SME",80,"Yes",2.6,0,"Agent Neo"]
[null,"CL00120","2012-01-01T14:40:33.512","Software","West","Large Corporate",74,"Yes",2.5,0,"Agent Vinod"]
[null,"CL00121","2012-01-01T14:44:05.863","Misc.","East","Large Corporate",80,"Yes",3.6,240,"Agent Neo"]
[null,"CL00122","2012-01-01T14:45:49.876","Software","Mid-west","Individual",72,"Yes",3.3,270,"Agent Smith"]
[null,"CL00123","2012-01-01T14:49:06.750","Software","North","Non-profit",78,"Yes",3.1,330,"Agent Harry"]
[null,"CL00124","2012-01-01T14:50:46.947","Accessories","South","SME",83,"Yes",3.1,0,"Agent Smith"]
[null,"CL00125","2012-01-01T14:55:33.630","Software","West","SME",71,"Yes",2.2999999999999998,0,"Agent Neo"]
[null,"CL00126","2012-01-01T14:56:34.858","Software","West","Non-profit",81,"Yes",3.2,0,"Agent Mary"]
[null,"CL00127","2012-01-01T14:56:47.950","Accessories","Mid-west","Individual",84,"Yes",3.3,250,"Agent Harry"]
[null,"CL00128","2012-01-01T14:57:48.007","Misc.","South","SME",68,"Yes",2.2000000000000002,0,"Agent Harry"]
[null,"CL00129","2012-01-01T15:01:25.662","Accessories","Mid-west","Large Corporate",69,"Yes",2.4,0,"Agent Smith"]
[null,"CL00130","2012-01-01T15:06:14.068","Desktop","Mid-west","Individual",70,"Yes",3.5,180,"Agent Mary"]
[null,"CL00131","2012-01-01T15:06:30.295","Software","West","Large Corporate",73,"Yes",3.2,0,"Agent Mary"]
[null,"CL00132","2012-01-01T15:07:35.245","Monitor","South","Large Corporate",73,"Yes",2.9,0,"Agent Harry"]
[null,"CL00133","2012-01-01T15:10:15.574","Accessories","North","Individual",86,"Yes",3.1,0,"Agent Smith"]
[null,"CL00134","2012-01-01T15:12:37.543","Accessories","North","Non-profit",63,"Yes",4.5999999999999996,220,"Agent Neo"]
[null,"CL00135","2012-01-01T15:16:15.815","Laptop","North","Large Corporate",77,"Yes",3.8,270,"Agent Harry"]
[null,"CL00136","2012-01-01T15:21:48.809","Misc.","North","Large Corporate",73,"Yes",3.1,250,"Agent Mary"]
[null,"CL00137","2012-01-01T15:24:17.453","Misc.","South","Individual",76,"Yes",2.6,0,"Agent Smith"]
[null,"CL00138","2012-01-01T15:28:06.568","Misc.","South","Non-profit",61,"Yes",2.2999999999999998,190,"Agent Harry"]
[null,"CL00139","2012-01-01T15:33:18.306","Monitor","South","Individual",84,"Yes",3.1,0,"Agent Harry"]
[null,"CL00140","2012-01-01T15:33:58.936","Accessories","West","Individual",82,"Yes",2.9,150,"Agent Mary"]
[null,"CL00141","2012-01-01T15:34:32.564","Desktop","South","Non-profit",74,"Yes",3.1,260,"Agent Neo"]
[null,"CL00142","2012-01-01T15:35:45.093","Accessories","North","Large Corporate",71,"Yes",3,0,"Agent Bond"]
[null,"CL00143","2012-01-01T15:36:13.557","Monitor","South","Individual",77,"Yes",2.7,0,"Agent Vinod"]
[null,"CL00144","2012-01-01T15:37:05.321","Accessories","North","Individual",69,"Yes",2.8,210,"Agent Mary"]
[null,"CL00145","2012-01-01T15:40:07.929","Software","East","Individual",95,"Yes",3.6,280,"Agent Harry"]
[null,"CL00146","2012-01-01T15:41:23.901","Misc.","South","Large Corporate",76,"Yes",2.8,260,"Agent Smith"]
[null,"CL00147","2012-01-01T15:41:25.552","Misc.","South","Large Corporate",71,"Yes",3.3,170,"Agent Smith"]
[null,"CL00148","2012-01-01T15:41:45.721","Software","North","Non-profit",67,"Yes",3.2,130,"Agent Harry"]
[null,"CL00149","2012-01-01T15:45:17.846","Accessories","North","SME",77,"Yes",2.6,280,"Agent Vinod"]
[null,"CL00150","2012-01-01T15:48:42.171","Software","West","Large Corporate",76,"Yes",3,0,"Agent Bond"]
[null,"CL00151","2012-01-01T15:50:35.957","Misc.","North","Non-profit",88,"Yes",3,200,"Agent Bond"]
[null,"CL00152","2012-01-01T15:52:11.252","Laptop","North","Large Corporate",87,"Yes",2.9,0,"Agent Neo"]
[null,"CL00153","2012-01-01T15:55:49.490","Misc.","Mid-west","Individual",82,"Yes",4.0999999999999996,290,"Agent Smith"]
[null,"CL00154","2012-01-01T15:58:38.601","Desktop","Mid-west","Large Corporate",62,"Yes",2.6,190,"Agent Smith"]
[null,"CL00155","2012-01-01T16:02:36.093","Accessories","West","Individual",66,"Yes",1.9,0,"Agent Smith"]
[null,"CL00156","2012-01-01T16:03:17.922","Monitor","South","Non-profit",78,"Yes",3.3,170,"Agent Vinod"]
[null,"CL00157","2012-01-01T16:03:58.108","Laptop","East","Large Corporate",82,"Yes",1.7,0,"Agent Vinod"]
[null,"CL00158","2012-01-01T16:06:39.745","Software","East","SME",77,"Yes",2.2999999999999998,100,"Agent Smith"]
[null,"CL00159","2012-01-01T16:06:53.640","Laptop","North","Large Corporate",82,"Yes",2.7,0,"Agent Mary"]
[null,"CL00160","2012-01-01T16:11:24.198","Accessories","West","SME",72,"Yes",3.1,0,"Agent Bond"]
[null,"CL00161","2012-01-01T16:15:36.207","Software","Mid-west","SME",62,"No",2.7,210,"Agent Mary"]
[null,"CL00162","2012-01-01T16:17:10.269","Misc.","South","Individual",77,"Yes",2.2000000000000002,200,"Agent Bond"]
[null,"CL00163","2012-01-01T16:22:45.869","Misc.","North","Individual",84,"Yes",2.8,0,"Agent Vinod"]
[null,"CL00164","2012-01-01T16:28:23.515","Monitor","North","Non-profit",65,"Yes",2.2999999999999998,0,"Agent Smith"]
[null,"CL00165","2012-01-01T16:33:18.644","Monitor","North","SME",74,"Yes",3,0,"Agent Mary"]
[null,"CL00166","2012-01-01T16:38:18.281","Desktop","South","Non-profit",87,"Yes",4,0,"Agent Bond"]
[null,"CL00167","2012-01-01T16:41:14.234","Misc.","East","SME",69,"Yes",3,0,"Agent Vinod"]
[null,"CL00168","2012-01-01T16:42:38.262","Software","Mid-west","Non-profit",80,"Yes",2.9,220,"Agent Vinod"]
[null,"CL00169","2012-01-01T16:45:31.300","Accessories","South","SME",79,"Yes",3.3,0,"Agent Harry"]
[null,"CL00170","2012-01-01T16:49:03.869","Laptop","Mid-west","SME",54,"Yes",3.7,220,"Agent Vinod"]
[null,"CL00171","2012-01-01T16:49:05.464","Accessories","Mid-west","SME",61,"Yes",3.2,180,"Agent Bond"]
[null,"CL00172","2012-01-01T16:54:04.301","Monitor","East","SME",72,"Yes",2.4,0,"Agent Vinod"]
[null,"CL00173","2012-01-01T16:58:26.661","Laptop","East","Individual",68,"Yes",2.9,0,"Agent Bond"]
[null,"CL00174","2012-01-01T17:04:05.157","Monitor","Mid-west","Individual",74,"Yes",3,280,"Agent Mary"]
[null,"CL00175","2012-01-01T17:05:15.993","Misc.","East","Large Corporate",68,"Yes",2.9,0,"Agent Mary"]
[null,"CL00176","2012-01-01T17:10:17.804","Desktop","South","Large Corporate",76,"No",3.4,280,"Agent Harry"]
[null,"CL00177","2012-01-01T17:15:11.378","Accessories","South","SME",88,"Yes",3,210,"Agent Vinod"]
[null,"CL00178","2012-01-01T17:19:58.455","Misc.","East","Large Corporate",59,"Yes",3,290,"Agent Bond"]
[null,"CL00179","2012-01-01T17:20:57.766","Software","East","Individual",69,"Yes",3.1,0,"Agent Mary"]
[null,"CL00180","2012-01-01T17:21:40.324","Laptop","South","Non-profit",76,"Yes",3.3,130,"Agent Vinod"]
[null,"CL00181","2012-01-01T17:22:05.568","Accessories","Mid-west","Large Corporate",77,"Yes",3.2,70,"Agent Harry"]
[null,"CL00182","2012-01-01T17:23:15.999","Desktop","West","Non-profit",74,"Yes",2.6,0,"Agent Mary"]
[null,"CL00183","2012-01-01T17:26:33.168","Software","West","Individual",83,"Yes",3.4,230,"Agent Neo"]
[null,"CL00184","2012-01-01T17:26:37.431","Accessories","East","Large Corporate",67,"Yes",2.9,130,"Agent Harry"]
[null,"CL00185","2012-01-01T17:30:43.635","Software","South","Large Corporate",76,"Yes",3.1,240,"Agent Mary"]
[null,"CL00186","2012-01-01T17:33:20.072","Misc.","West","Individual",85,"Yes",4.2,180,"Agent Bond"]
[null,"CL00187","2012-01-01T17:33:32.374","Laptop","Mid-west","Individual",72,"Yes",3.4,0,"Agent Smith"]
[null,"CL00188","2012-01-01T17:34:07.247","Misc.","South","Non-profit",57,"Yes",2.2999999999999998,120,"Agent Harry"]
[null,"CL00189","2012-01-01T17:37:11.144","Laptop","West","Large Corporate",85,"Yes",3.1,0,"Agent Vinod"]
[null,"CL00190","2012-01-01T17:37:47.619","Misc.","South","SME",61,"Yes",2.4,170,"Agent Vinod"]
[null,"CL00191","2012-01-01T17:41:57.271","Monitor","West","Large Corporate",78,"Yes",2.8,0,"Agent Harry"]
[null,"CL00192","2012-01-01T17:46:21.975","Laptop","Mid-west","Individual",68,"Yes",2.6,250,"Agent Harry"]
[null,"CL00193","2012-01-01T17:50:19.995","Monitor","West","Large Corporate",68,"Yes",2.9,310,"Agent Bond"]
[null,"CL00194","2012-01-01T17:54:26.311","Laptop","East","Large Corporate",87,"Yes",3.4,0,"Agent Mary"]
[null,"CL00195","2012-01-01T17:59:17.836","Desktop","North","Large Corporate",60,"Yes",2.4,180,"Agent Harry"]
[null,"CL00196","2012-01-01T18:01:37.199","Accessories","Mid-west","Non-profit",66,"Yes",2.5,220,"Agent Vinod"]
[null,"CL00197","2012-01-01T18:02:22.372","Desktop","South","Large Corporate",63,"Yes",3.5,0,"Agent Neo"]
[null,"CL00198","2012-01-01T18:05:58.644","Desktop","East","Large Corporate",78,"Yes",2.8,200,"Agent Neo"]
[null,"CL00199","2012-01-01T18:06:32.571","Accessories","West","SME",62,"Yes",2.2999999999999998,0,"Agent Vinod"]
[null,"CL00200","2012-01-01T18:11:08.381","Desktop","East","SME",87,"Yes",2.7,240,"Agent Harry"]
[null,"CL00201","2012-01-01T18:16:25.250","Accessories","Mid-west","Individual",90,"Yes",2.9,280,"Agent Harry"]
[null,"CL00202","2012-01-01T18:17:12.920","Monitor","South","SME",78,"Yes",2.8,220,"Agent Vinod"]
[null,"CL00203","2012-01-01T18:21:19.494","Monitor","Mid-west","SME",72,"Yes",2.9,0,"Agent Smith"]
[null,"CL00204","2012-01-01T18:24:44.500","Misc.","East","Non-profit",72,"Yes",1.4,0,"Agent Mary"]
[null,"CL00205","2012-01-01T18:29:19.474","Laptop","East","Large Corporate",78,"Yes",2.2000000000000002,170,"Agent Vinod"]
[null,"CL00206","2012-01-01T18:34:04.590","Laptop","North","Individual",77,"Yes",2.8,200,"Agent Neo"]
[null,"CL00207","2012-01-01T18:35:02.696","Monitor","South","Individual",75,"Yes",3.4,0,"Agent Neo"]
[null,"CL00208","2012-01-01T18:36:17.879","Software","South","SME",83,"Yes",2.5,160,"Agent Smith"]
[null,"CL00209","2012-01-01T18:36:52.760","Software","East","SME",80,"Yes",3.2,0,"Agent Vinod"]
[null,"CL00210","2012-01-01T18:41:39.925","Accessories","East","Large Corporate",68,"Yes",2.9,190,"Agent Bond"]
[null,"CL00211","2012-01-01T18:42:22.393","Misc.","South","Non-profit",65,"No",2.7,270,"Agent Smith"]
[null,"CL00212","2012-01-01T18:46:44.944","Desktop","South","Non-profit",70,"Yes",2.8,220,"Agent Smith"]
[null,"CL00213","2012-01-01T18:49:58.701","Software","North","Individual",92,"Yes",3.6,240,"Agent Neo"]
[null,"CL00214","2012-01-01T18:51:37.702","Software","East","SME",77,"Yes",3.3,0,"Agent Neo"]
[null,"CL00215","2012-01-01T18:55:10.180","Accessories","South","Non-profit",68,"Yes",2.8,100,"Agent Bond"]
[null,"CL00216","2012-01-01T19:00:00.928","Software","East","SME",69,"Yes",2.4,0,"Agent Vinod"]
[null,"CL00217","2012-01-01T19:02:11.784","Accessories","North","Non-profit",72,"Yes",3.4,140,"Agent Mary"]
[null,"CL00218","2012-01-01T19:06:50.076","Software","Mid-west","Non-profit",77,"Yes",2.9,240,"Agent Vinod"]
[null,"CL00219","2012-01-01T19:09:40.528","Desktop","East","SME",71,"Yes",3,170,"Agent Neo"]
[null,"CL00220","2012-01-01T19:09:48.251","Monitor","North","Non-profit",77,"Yes",3.3,0,"Agent Mary"]
[null,"CL00221","2012-01-01T19:12:38.786","Desktop","Mid-west","Non-profit",87,"Yes",2.6,210,"Agent Neo"]
[null,"CL00222","2012-01-01T19:17:17.694","Monitor","North","Large Corporate",68,"Yes",3.4,230,"Agent Bond"]
[null,"CL00223","2012-01-01T19:19:26.423","Monitor","East","SME",78,"Yes",3.4,10,"Agent Mary"]
[null,"CL00224","2012-01-01T19:23:16.849","Desktop","North","Large Corporate",84,"Yes",3.2,280,"Agent Smith"]
[null,"CL00225","2012-01-01T19:26:28.368","Software","East","SME",76,"Yes",3.2,240,"Agent Bond"]
[null,"CL00226","2012-01-01T19:30:52.297","Laptop","South","Large Corporate",80,"Yes",2.4,0,"Agent Vinod"]
[null,"CL00227","2012-01-01T19:33:50.050","Accessories","West","Non-profit",85,"Yes",2.6,210,"Agent Harry"]
[null,"CL00228","2012-01-01T19:36:38.547","Monitor","Mid-west","Large Corporate",74,"Yes",2.9,240,"Agent Smith"]
[null,"CL00229","2012-01-01T19:40:52.626","Desktop","East","Large Corporate",87,"Yes",2.9,290,"Agent Smith"]
[null,"CL00230","2012-01-01T19:45:53.258","Accessories","South","Individual",75,"Yes",2.9,70,"Agent Smith"]
[null,"CL00231","2012-01-01T19:51:32.971","Accessories","North","SME",72,"Yes",2.8,280,"Agent Smith"]
[null,"CL00232","2012-01-01T19:51:42.679","Software","West","SME",61,"Yes",2.1,0,"Agent Vinod"]
[null,"CL00233","2012-01-01T19:56:37.787","Misc.","South","Individual",92,"Yes",2.9,210,"Agent Vinod"]
[null,"CL00234","2012-01-01T20:00:30.520","Misc.","North","SME",75,"Yes",3.5,240,"Agent Smith"]
[null,"CL00235","2012-01-01T20:05:43.204","Accessories","Mid-west","Non-profit",77,"Yes",3.1,0,"Agent Bond"]
[null,"CL00236","2012-01-01T20:08:42.479","Monitor","West","Individual",66,"Yes",3.1,190,"Agent Neo"]
[null,"CL00237","2012-01-01T20:11:43.870","Misc.","West","SME",48,"Yes",2.8,200,"Agent Mary"]
[null,"CL00238","2012-01-01T20:11:48.892","Desktop","South","Non-profit",75,"Yes",3.1,0,"Agent Bond"]
[null,"CL00239","2012-01-01T20:15:05.797","Misc.","North","Non-profit",77,"Yes",3.1,220,"Agent Bond"]
[null,"CL00240","2012-01-01T20:18:35.267","Monitor","East","Large Corporate",65,"Yes",2.9,60,"Agent Bond"]
[null,"CL00241","2012-01-01T20:21:52.167","Laptop","North","Large Corporate",74,"Yes",3.3,190,"Agent Neo"]
[null,"CL00242","2012-01-01T20:26:50.593","Software","Mid-west","SME",66,"Yes",2.1,0,"Agent Smith"]
[null,"CL00243","2012-01-01T20:31:18.288","Software","West","Individual",74,"Yes",3,0,"Agent Mary"]
[null,"CL00244","2012-01-01T20:34:47.445","Laptop","East","Individual",78,"Yes",2.9,200,"Agent Harry"]
[null,"CL00245","2012-01-01T20:35:00.204","Desktop","West","Large Corporate",70,"Yes",2.8,0,"Agent Bond"]
[null,"CL00246","2012-01-01T20:37:48.108","Software","West","Large Corporate",80,"Yes",2.5,0,"Agent Bond"]
[null,"CL00247","2012-01-01T20:42:03.519","Accessories","East","Non-profit",63,"No",2.7,0,"Agent Vinod"]
[null,"CL00248","2012-01-01T20:44:08.797","Accessories","North","SME",90,"Yes",2.4,0,"Agent Mary"]
[null,"CL00249","2012-01-01T20:44:34.498","Accessories","West","SME",71,"Yes",3.2,210,"Agent Mary"]
[null,"CL00250","2012-01-01T20:47:47.914","Software","West","Large Corporate",63,"Yes",2.9,230,"Agent Neo"]
[null,"CL00251","2012-01-01T20:48:34.863","Software","West","SME",77,"Yes",2.5,250,"Agent Bond"]
[null,"CL00252","2012-01-01T20:51:37.936","Monitor","North","Individual",81,"Yes",2.6,0,"Agent Neo"]
[null,"CL00253","2012-01-01T20:52:51.903","Desktop","South","Large Corporate",85,"No",3.5,200,"Agent Vinod"]
[null,"CL00254","2012-01-01T20:58:21.796","Laptop","North","Large Corporate",78,"Yes",2.7,140,"Agent Neo"]
[null,"CL00255","2012-01-01T21:03:32.123","Desktop","West","SME",88,"Yes",3.7,0,"Agent Neo"]
[null,"CL00256","2012-01-01T21:03:54.422","Misc.","West","Individual",69,"Yes",2.9,150,"Agent Bond"]
[null,"CL00257","2012-01-01T21:06:05.736","Monitor","North","Large Corporate",74,"Yes",3.1,0,"Agent Neo"]
[null,"CL00258","2012-01-01T21:09:38.355","Misc.","West","SME",85,"Yes",3.6,190,"Agent Vinod"]
[null,"CL00259","2012-01-01T21:09:43.651","Misc.","West","SME",67,"Yes",2.9,0,"Agent Mary"]
[null,"CL00260","2012-01-01T21:14:57.993","Misc.","East","SME",73,"Yes",3,140,"Agent Mary"]
[null,"CL00261","2012-01-01T21:15:29.576","Software","South","Non-profit",62,"No",3.3,0,"Agent Bond"]
[null,"CL00262","2012-01-01T21:16:08.872","Laptop","East","Individual",57,"Yes",3.5,0,"Agent Smith"]
[null,"CL00263","2012-01-01T21:18:56.774","Monitor","South","Non-profit",80,"Yes",2.2000000000000002,190,"Agent Bond"]
[null,"CL00264","2012-01-01T21:19:02.448","Laptop","West","Individual",80,"Yes",2.1,110,"Agent Smith"]
[null,"CL00265","2012-01-01T21:20:19.180","Software","East","Non-profit",76,"Yes",3,0,"Agent Bond"]
[null,"CL00266","2012-01-01T21:20:45.817","Monitor","East","SME",72,"Yes",2.5,210,"Agent Harry"]
[null,"CL00267","2012-01-01T21:24:42.193","Laptop","West","Large Corporate",74,"Yes",2.1,260,"Agent Harry"]
[null,"CL00268","2012-01-01T21:29:50.712","Misc.","South","Non-profit",64,"Yes",3.2,0,"Agent Harry"]
[null,"CL00269","2012-01-01T21:32:27.369","Laptop","Mid-west","SME",69,"Yes",2.9,0,"Agent Harry"]
[null,"CL00270","2012-01-01T21:36:43.695","Accessories","North","Large Corporate",68,"Yes",2.8,160,"Agent Neo"]
[null,"CL00271","2012-01-01T21:39:09.835","Accessories","North","Large Corporate",78,"Yes",2.6,0,"Agent Neo"]
[null,"CL00272","2012-01-01T21:39:11.418","Misc.","West","SME",67,"Yes",4.0999999999999996,120,"Agent Harry"]
[null,"CL00273","2012-01-01T21:41:29.352","Software","East","Large Corporate",81,"Yes",2.6,0,"Agent Harry"]
[null,"CL00274","2012-01-01T21:44:48.360","Accessories","West","Non-profit",80,"Yes",3.2,140,"Agent Harry"]
[null,"CL00275","2012-01-01T21:45:36.780","Misc.","East","Non-profit",81,"Yes",2.8,120,"Agent Vinod"]
[null,"CL00276","2012-01-01T21:46:30.713","Laptop","East","Large Corporate",90,"Yes",2.6,0,"Agent Smith"]
[null,"CL00277","2012-01-01T21:51:08.655","Accessories","North","SME",83,"Yes",3,170,"Agent Mary"]
[null,"CL00278","2012-01-01T21:51:44.651","Software","South","Large Corporate",83,"Yes",2.9,220,"Agent Vinod"]
[null,"CL00279","2012-01-01T21:53:46.308","Laptop","North","Non-profit",90,"Yes",3.4,220,"Agent Neo"]
[null,"CL00280","2012-01-01T21:56:01.510","Monitor","West","SME",91,"Yes",3.3,0,"Agent Mary"]
[null,"CL00281","2012-01-01T22:00:48.187","Accessories","South","Individual",69,"Yes",2.8,220,"Agent Vinod"]
[null,"CL00282","2012-01-02T08:01:02.396","Monitor","South","SME",75,"Yes",3.2,210,"Agent Harry"]
[null,"CL00283","2012-01-02T08:06:07.443","Misc.","South","Non-profit",81,"Yes",3.8,0,"Agent Bond"]
[null,"CL00284","2012-01-02T08:07:50.977","Desktop","North","SME",68,"Yes",3,0,"Agent Vinod"]
[null,"CL00285","2012-01-02T08:10:16.741","Software","East","Individual",75,"Yes",3.2,240,"Agent Harry"]
[null,"CL00286","2012-01-02T08:12:38.648","Laptop","East","Non-profit",82,"Yes",3.3,230,"Agent Mary"]
[null,"CL00287","2012-01-02T08:14:50.430","Accessories","West","SME",80,"Yes",3.2,0,"Agent Neo"]
[null,"CL00288","2012-01-02T08:14:55.609","Monitor","West","SME",69,"Yes",3,300,"Agent Smith"]
[null,"CL00289","2012-01-02T08:19:23.509","Laptop","East","Individual",75,"Yes",2.8,190,"Agent Neo"]
[null,"CL00290","2012-01-02T08:23:53.483","Software","South","SME",82,"Yes",3.4,0,"Agent Harry"]
[null,"CL00291","2012-01-02T08:28:32.866","Accessories","West","SME",82,"Yes",3.1,180,"Agent Neo"]
[null,"CL00292","2012-01-02T08:31:02.427","Accessories","West","Large Corporate",67,"Yes",3.8,0,"Agent Smith"]
[null,"CL00293","2012-01-02T08:33:09.675","Misc.","North","SME",75,"No",2.9,220,"Agent Vinod"]
[null,"CL00294","2012-01-02T08:36:49.318","Laptop","Mid-west","SME",81,"Yes",3.5,100,"Agent Mary"]
[null,"CL00295","2012-01-02T08:40:50.948","Monitor","North","Individual",76,"Yes",2.5,0,"Agent Bond"]
[null,"CL00296","2012-01-02T08:41:43.584","Desktop","North","Non-profit",71,"Yes",2.2999999999999998,230,"Agent Mary"]
[null,"CL00297","2012-01-02T08:43:47.288","Desktop","North","Large Corporate",77,"No",2.7,270,"Agent Smith"]
[null,"CL00298","2012-01-02T08:48:16.868","Laptop","West","Non-profit",71,"No",2.2000000000000002,140,"Agent Vinod"]
[null,"CL00299","2012-01-02T08:49:20.163","Laptop","North","SME",66,"Yes",3.4,0,"Agent Smith"]
[null,"CL00300","2012-01-02T08:50:53.755","Accessories","East","Large Corporate",73,"Yes",2.5,220,"Agent Vinod"]
[null,"CL00301","2012-01-02T08:56:23.551","Accessories","East","Non-profit",76,"Yes",2.8,120,"Agent Mary"]
[null,"CL00302","2012-01-02T09:01:55.426","Software","East","Individual",80,"Yes",3.5,230,"Agent Harry"]
[null,"CL00303","2012-01-02T09:07:11.695","Accessories","East","Large Corporate",82,"Yes",4,190,"Agent Bond"]
[null,"CL00304","2012-01-02T09:12:42.040","Laptop","East","Large Corporate",60,"Yes",3.5,0,"Agent Mary"]
[null,"CL00305","2012-01-02T09:12:44.030","Misc.","North","SME",77,"Yes",2.9,250,"Agent Neo"]
[null,"CL00306","2012-01-02T09:13:17.042","Misc.","West","SME",64,"Yes",2.5,0,"Agent Bond"]
[null,"CL00307","2012-01-02T09:15:04.696","Desktop","South","Large Corporate",78,"Yes",2.6,0,"Agent Smith"]
[null,"CL00308","2012-01-02T09:15:20.803","Monitor","South","SME",85,"Yes",2.8,220,"Agent Bond"]
[null,"CL00309","2012-01-02T09:19:23.869","Laptop","West","Large Corporate",81,"Yes",4.2,290,"Agent Mary"]
[null,"CL00310","2012-01-02T09:19:27.110","Monitor","East","Large Corporate",82,"Yes",2.8,240,"Agent Harry"]
[null,"CL00311","2012-01-02T09:24:10.489","Accessories","Mid-west","SME",66,"Yes",3.5,160,"Agent Mary"]
[null,"CL00312","2012-01-02T09:26:26.466","Monitor","East","Individual",75,"Yes",3.3,160,"Agent Mary"]
[null,"CL00313","2012-01-02T09:30:23.521","Laptop","Mid-west","Non-profit",63,"Yes",3.4,0,"Agent Bond"]
[null,"CL00314","2012-01-02T09:31:08.463","Desktop","West","Individual",80,"Yes",3.1,310,"Agent Harry"]
[null,"CL00315","2012-01-02T09:33:08.722","Accessories","North","Large Corporate",73,"Yes",3,0,"Agent Smith"]
[null,"CL00316","2012-01-02T09:36:49.295","Accessories","East","SME",82,"Yes",2.4,0,"Agent Vinod"]
[null,"CL00317","2012-01-02T09:41:55.429","Misc.","South","Individual",74,"Yes",2.7,0,"Agent Neo"]
[null,"CL00318","2012-01-02T09:47:19.249","Laptop","East","Non-profit",68,"Yes",3.3,0,"Agent Vinod"]
[null,"CL00319","2012-01-02T09:50:34.394","Monitor","West","Large Corporate",70,"Yes",3,0,"Agent Harry"]
[null,"CL00320","2012-01-02T09:50:40.275","Software","Mid-west","SME",70,"Yes",2.6,0,"Agent Neo"]
[null,"CL00321","2012-01-02T09:52:48.238","Monitor","Mid-west","Large Corporate",67,"Yes",3.2,140,"Agent Harry"]
[null,"CL00322","2012-01-02T09:57:22.131","Desktop","South","Non-profit",72,"Yes",2.4,230,"Agent Neo"]
[null,"CL00323","2012-01-02T09:58:05.676","Misc.","East","Large Corporate",71,"Yes",1.9,210,"Agent Mary"]
[null,"CL00324","2012-01-02T10:00:48.758","Monitor","West","Individual",79,"Yes",2.7,0,"Agent Vinod"]
[null,"CL00325","2012-01-02T10:02:48.043","Monitor","North","Large Corporate",61,"Yes",3,0,"Agent Neo"]
[null,"CL00326","2012-01-02T10:04:58.409","Desktop","South","Non-profit",71,"Yes",3.2,220,"Agent Vinod"]
[null,"CL00327","2012-01-02T10:07:55.720","Misc.","West","Individual",73,"Yes",2.8,270,"Agent Vinod"]
[null,"CL00328","2012-01-02T10:10:55.791","Software","West","Large Corporate",94,"Yes",2.8,190,"Agent Mary"]
[null,"CL00329","2012-01-02T10:13:14.961","Software","South","Non-profit",71,"Yes",3.1,180,"Agent Neo"]
[null,"CL00330","2012-01-02T10:14:01.920","Desktop","North","Non-profit",64,"No",2.9,100,"Agent Harry"]
[null,"CL00331","2012-01-02T10:17:04.457","Software","East","SME",81,"Yes",3.1,190,"Agent Smith"]
[null,"CL00332","2012-01-02T10:20:36.685","Desktop","Mid-west","Individual",74,"Yes",2.6,0,"Agent Bond"]
[null,"CL00333","2012-01-02T10:25:15.564","Software","Mid-west","Large Corporate",82,"Yes",2.9,0,"Agent Mary"]
[null,"CL00334","2012-01-02T10:26:58.527","Monitor","West","SME",86,"No",3.8,0,"Agent Harry"]
[null,"CL00335","2012-01-02T10:27:07.492","Software","East","SME",77,"Yes",2.4,0,"Agent Smith"]
[null,"CL00336","2012-01-02T10:32:10.502","Software","East","Individual",80,"Yes",2.9,210,"Agent Vinod"]
[null,"CL00337","2012-01-02T10:33:11.687","Misc.","East","Individual",72,"Yes",3.4,0,"Agent Smith"]
[null,"CL00338","2012-01-02T10:35:47.495","Software","South","Individual",73,"Yes",2.4,200,"Agent Mary"]
[null,"CL00339","2012-01-02T10:38:14.938","Accessories","East","Individual",72,"Yes",2.9,0,"Agent Smith"]
[null,"CL00340","2012-01-02T10:39:46.634","Accessories","South","Large Corporate",66,"Yes",2.9,0,"Agent Neo"]
[null,"CL00341","2012-01-02T10:41:10.492","Desktop","East","Large Corporate",87,"Yes",2.9,260,"Agent Vinod"]
[null,"CL00342","2012-01-02T10:44:57.644","Software","West","Large Corporate",65,"Yes",2.6,200,"Agent Neo"]
[null,"CL00343","2012-01-02T10:45:02.489","Software","South","Individual",75,"Yes",2.9,170,"Agent Neo"]
[null,"CL00344","2012-01-02T10:45:32.183","Software","South","SME",69,"Yes",2.4,260,"Agent Bond"]
[null,"CL00345","2012-01-02T10:49:44.627","Accessories","South","SME",85,"Yes",3.3,150,"Agent Bond"]
[null,"CL00346","2012-01-02T10:50:22.953","Monitor","East","SME",86,"Yes",3.2,0,"Agent Mary"]
[null,"CL00347","2012-01-02T10:55:08.988","Laptop","South","Non-profit",70,"Yes",3.1,0,"Agent Mary"]
[null,"CL00348","2012-01-02T10:57:50.541","Accessories","East","Large Corporate",77,"Yes",2.4,220,"Agent Harry"]
[null,"CL00349","2012-01-02T10:58:34.619","Laptop","North","Large Corporate",80,"Yes",3.3,0,"Agent Smith"]
[null,"CL00350","2012-01-02T11:00:27.386","Laptop","South","Large Corporate",87,"Yes",3.8,190,"Agent Vinod"]
[null,"CL00351","2012-01-02T11:02:45.926","Desktop","North","Non-profit",74,"Yes",2.2999999999999998,150,"Agent Neo"]
[null,"CL00352","2012-01-02T11:03:55.688","Desktop","Mid-west","SME",84,"Yes",2.8,0,"Agent Mary"]
[null,"CL00353","2012-01-02T11:07:02.764","Software","South","Individual",80,"Yes",2.7,0,"Agent Harry"]
[null,"CL00354","2012-01-02T11:11:35.946","Misc.","East","Non-profit",61,"Yes",2.5,0,"Agent Vinod"]
[null,"CL00355","2012-01-02T11:17:18.777","Software","South","Individual",62,"Yes",2.7,140,"Agent Mary"]
[null,"CL00356","2012-01-02T11:18:01.146","Laptop","East","Large Corporate",80,"Yes",4.0999999999999996,0,"Agent Vinod"]
[null,"CL00357","2012-01-02T11:21:13.401","Software","South","Non-profit",62,"Yes",3,270,"Agent Mary"]
[null,"CL00358","2012-01-02T11:24:44.873","Misc.","East","SME",84,"Yes",3.1,0,"Agent Vinod"]
[null,"CL00359","2012-01-02T11:29:50.522","Desktop","East","Non-profit",78,"Yes",3,0,"Agent Bond"]
[null,"CL00360","2012-01-02T11:34:57.534","Laptop","North","Individual",83,"Yes",3.4,0,"Agent Mary"]
[null,"CL00361","2012-01-02T11:37:46.150","Accessories","Mid-west","Non-profit",74,"Yes",3.5,240,"Agent Smith"]
[null,"CL00362","2012-01-02T11:41:10.908","Desktop","Mid-west","Non-profit",79,"Yes",3.3,0,"Agent Smith"]
[null,"CL00363","2012-01-02T11:46:06.069","Laptop","North","Large Corporate",81,"Yes",4,150,"Agent Smith"]
[null,"CL00364","2012-01-02T11:47:44.571","Misc.","North","Non-profit",66,"Yes",2.2999999999999998,0,"Agent Mary"]
[null,"CL00365","2012-01-02T11:49:30.379","Misc.","South","SME",78,"Yes",3,230,"Agent Mary"]
[null,"CL00366","2012-01-02T11:50:54.605","Software","East","SME",79,"Yes",2,220,"Agent Vinod"]
[null,"CL00367","2012-01-02T11:53:47.993","Laptop","Mid-west","SME",81,"Yes",3.7,160,"Agent Bond"]
[null,"CL00368","2012-01-02T11:55:23.032","Laptop","East","Individual",85,"Yes",2.5,210,"Agent Vinod"]
[null,"CL00369","2012-01-02T12:00:18.833","Accessories","North","Non-profit",65,"Yes",2.9,0,"Agent Harry"]
[null,"CL00370","2012-01-02T12:05:18.678","Software","West","SME",88,"Yes",2.6,220,"Agent Mary"]
[null,"CL00371","2012-01-02T12:08:23.314","Accessories","North","Large Corporate",66,"No",3.8,150,"Agent Harry"]
[null,"CL00372","2012-01-02T12:08:58.043","Desktop","North","SME",67,"Yes",3.8,210,"Agent Neo"]
[null,"CL00373","2012-01-02T12:13:46.624","Laptop","East","SME",70,"Yes",3.3,70,"Agent Vinod"]
[null,"CL00374","2012-01-02T12:18:55.406","Laptop","East","Individual",80,"Yes",3.4,290,"Agent Smith"]
[null,"CL00375","2012-01-02T12:22:36.459","Misc.","South","Non-profit",91,"Yes",2.2999999999999998,150,"Agent Vinod"]
[null,"CL00376","2012-01-02T12:23:19.597","Software","East","Large Corporate",66,"Yes",3.6,270,"Agent Smith"]
[null,"CL00377","2012-01-02T12:25:21.685","Software","North","Non-profit",76,"Yes",2.6,130,"Agent Smith"]
[null,"CL00378","2012-01-02T12:29:15.458","Misc.","Mid-west","Large Corporate",67,"Yes",3.1,0,"Agent Vinod"]
[null,"CL00379","2012-01-02T12:30:06.946","Laptop","Mid-west","Individual",80,"Yes",2.9,210,"Agent Smith"]
[null,"CL00380","2012-01-02T12:30:17.102","Desktop","North","SME",76,"Yes",4.0999999999999996,240,"Agent Neo"]
[null,"CL00381","2012-01-02T12:32:20.671","Laptop","East","Individual",68,"Yes",3.7,0,"Agent Bond"]
[null,"CL00382","2012-01-02T12:37:04.522","Software","North","Large Corporate",88,"Yes",2.2999999999999998,0,"Agent Mary"]
[null,"CL00383","2012-01-02T12:38:58.685","Accessories","North","Non-profit",74,"Yes",3.3,0,"Agent Smith"]
[null,"CL00384","2012-01-02T12:41:09.299","Accessories","East","Non-profit",72,"Yes",2.5,160,"Agent Harry"]
[null,"CL00385","2012-01-02T12:43:30.109","Monitor","West","Non-profit",79,"Yes",3.1,200,"Agent Bond"]
[null,"CL00386","2012-01-02T12:48:51.710","Desktop","Mid-west","Non-profit",70,"Yes",3.4,0,"Agent Mary"]
[null,"CL00387","2012-01-02T12:51:07.296","Misc.","North","Large Corporate",78,"Yes",1.8,0,"Agent Neo"]
[null,"CL00388","2012-01-02T12:52:22.504","Accessories","North","Non-profit",76,"Yes",2.2000000000000002,60,"Agent Mary"]
[null,"CL00389","2012-01-02T12:57:19.208","Misc.","East","Individual",63,"No",2.7,0,"Agent Mary"]
[null,"CL00390","2012-01-02T12:59:17.264","Desktop","West","Non-profit",71,"Yes",2.1,0,"Agent Neo"]
[null,"CL00391","2012-01-02T12:59:52.950","Misc.","South","Non-profit",77,"Yes",2.2999999999999998,190,"Agent Bond"]
[null,"CL00392","2012-01-02T13:01:09.377","Monitor","East","Large Corporate",64,"Yes",3.2,170,"Agent Neo"]
[null,"CL00393","2012-01-02T13:06:11.061","Misc.","South","Individual",70,"Yes",3.4,210,"Agent Vinod"]
[null,"CL00394","2012-01-02T13:08:44.530","Laptop","Mid-west","Individual",86,"Yes",2.8,170,"Agent Vinod"]
[null,"CL00395","2012-01-02T13:12:24.580","Software","South","Large Corporate",78,"Yes",3.7,160,"Agent Bond"]
[null,"CL00396","2012-01-02T13:18:05.573","Misc.","North","SME",74,"Yes",3.3,130,"Agent Vinod"]
[null,"CL00397","2012-01-02T13:18:42.542","Software","West","Non-profit",91,"No",3.5,0,"Agent Bond"]
[null,"CL00398","2012-01-02T13:21:06.435","Desktop","North","Individual",81,"Yes",3.9,0,"Agent Neo"]
[null,"CL00399","2012-01-02T13:22:21.394","Misc.","South","Non-profit",80,"Yes",3.6,310,"Agent Smith"]
[null,"CL00400","2012-01-02T13:25:03.479","Misc.","South","Non-profit",83,"Yes",3.3,190,"Agent Bond"]
[null,"CL00401","2012-01-02T13:25:53.766","Accessories","South","Non-profit",78,"Yes",1.7,270,"Agent Neo"]
[null,"CL00402","2012-01-02T13:31:31.198","Accessories","Mid-west","Individual",86,"Yes",2.9,0,"Agent Mary"]
[null,"CL00403","2012-01-02T13:36:06.717","Accessories","East","Large Corporate",78,"Yes",2.7,0,"Agent Vinod"]
[null,"CL00404","2012-01-02T13:41:11.253","Accessories","West","Individual",90,"Yes",3,0,"Agent Bond"]
[null,"CL00405","2012-01-02T13:43:17.132","Laptop","West","SME",79,"Yes",2.7,260,"Agent Vinod"]
[null,"CL00406","2012-01-02T13:43:33.260","Monitor","Mid-west","Large Corporate",69,"Yes",2.2000000000000002,160,"Agent Bond"]
[null,"CL00407","2012-01-02T13:47:05.968","Laptop","East","SME",70,"Yes",3.1,270,"Agent Vinod"]
[null,"CL00408","2012-01-02T13:52:29.783","Software","Mid-west","Large Corporate",65,"Yes",2.1,150,"Agent Mary"]
[null,"CL00409","2012-01-02T13:57:02.822","Software","East","Large Corporate",67,"Yes",2.8,210,"Agent Bond"]
[null,"CL00410","2012-01-02T13:58:27.909","Software","Mid-west","Individual",80,"Yes",2.7,150,"Agent Smith"]
[null,"CL00411","2012-01-02T14:03:46.916","Monitor","West","Individual",88,"Yes",2.5,220,"Agent Mary"]
[null,"CL00412","2012-01-02T14:06:38.294","Accessories","South","Individual",72,"Yes",3.7,160,"Agent Harry"]
[null,"CL00413","2012-01-02T14:08:48.836","Misc.","North","SME",73,"Yes",3.1,150,"Agent Smith"]
[null,"CL00414","2012-01-02T14:11:43.670","Accessories","North","Individual",68,"Yes",3.3,150,"Agent Mary"]
[null,"CL00415","2012-01-02T14:11:46.452","Laptop","North","Large Corporate",80,"Yes",1.9,0,"Agent Bond"]
[null,"CL00416","2012-01-02T14:15:22.873","Monitor","West","SME",76,"Yes",4.3,0,"Agent Mary"]
[null,"CL00417","2012-01-02T14:15:46.230","Misc.","Mid-west","Individual",94,"Yes",3.2,0,"Agent Bond"]
[null,"CL00418","2012-01-02T14:18:53.016","Accessories","East","Large Corporate",80,"Yes",2,190,"Agent Bond"]
[null,"CL00419","2012-01-02T14:20:59.345","Laptop","North","Large Corporate",86,"Yes",3.1,0,"Agent Smith"]
[null,"CL00420","2012-01-02T14:26:20.279","Desktop","Mid-west","Large Corporate",74,"Yes",3.7,240,"Agent Smith"]
[null,"CL00421","2012-01-02T14:26:40.303","Accessories","Mid-west","SME",75,"Yes",3.6,0,"Agent Neo"]
[null,"CL00422","2012-01-02T14:26:54.988","Accessories","North","SME",87,"No",3.1,160,"Agent Mary"]
[null,"CL00423","2012-01-02T14:31:29.888","Software","North","Non-profit",62,"Yes",2.9,0,"Agent Bond"]
[null,"CL00424","2012-01-02T14:36:38.730","Laptop","West","Large Corporate",78,"Yes",2.2000000000000002,180,"Agent Smith"]
[null,"CL00425","2012-01-02T14:41:23.178","Monitor","West","Individual",59,"Yes",3.3,200,"Agent Mary"]
[null,"CL00426","2012-01-02T14:42:56.388","Misc.","Mid-west","Large Corporate",74,"Yes",3.3,210,"Agent Bond"]
[null,"CL00427","2012-01-02T14:44:25.626","Laptop","North","Large Corporate",70,"Yes",2.9,210,"Agent Harry"]
[null,"CL00428","2012-01-02T14:46:48.368","Misc.","South","SME",64,"Yes",2.9,0,"Agent Vinod"]
[null,"CL00429","2012-01-02T14:49:49.162","Monitor","East","Large Corporate",75,"Yes",3.8,160,"Agent Smith"]
[null,"CL00430","2012-01-02T14:49:56.427","Misc.","East","SME",72,"Yes",2.4,0,"Agent Smith"]
[null,"CL00431","2012-01-02T14:52:10.483","Accessories","West","Large Corporate",94,"Yes",3.1,230,"Agent Bond"]
[null,"CL00432","2012-01-02T14:55:57.354","Monitor","East","Individual",82,"Yes",3.2,0,"Agent Mary"]
[null,"CL00433","2012-01-02T14:58:54.981","Misc.","East","Individual",77,"Yes",3,250,"Agent Harry"]
[null,"CL00434","2012-01-02T15:02:29.413","Accessories","Mid-west","Individual",78,"Yes",3.4,160,"Agent Vinod"]
[null,"CL00435","2012-01-02T15:04:10.406","Accessories","South","Non-profit",69,"Yes",3.3,240,"Agent Mary"]
[null,"CL00436","2012-01-02T15:08:28.230","Desktop","East","Non-profit",75,"Yes",3.1,230,"Agent Neo"]
[null,"CL00437","2012-01-02T15:14:07.660","Software","Mid-west","Large Corporate",76,"Yes",3.8,140,"Agent Neo"]
[null,"CL00438","2012-01-02T15:16:48.212","Accessories","West","Individual",65,"Yes",3.6,0,"Agent Neo"]
[null,"CL00439","2012-01-02T15:18:02.053","Desktop","East","Individual",70,"Yes",3.1,0,"Agent Bond"]
[null,"CL00440","2012-01-02T15:22:37.616","Monitor","North","Large Corporate",74,"Yes",3,0,"Agent Mary"]
[null,"CL00441","2012-01-02T15:26:15.246","Accessories","South","Individual",82,"No",3.5,200,"Agent Smith"]
[null,"CL00442","2012-01-02T15:28:55.900","Software","East","SME",81,"Yes",2.2000000000000002,0,"Agent Mary"]
[null,"CL00443","2012-01-02T15:33:54.480","Software","South","Non-profit",67,"Yes",4.2,170,"Agent Smith"]
[null,"CL00444","2012-01-02T15:35:55.517","Misc.","South","Large Corporate",73,"Yes",2.5,0,"Agent Bond"]
[null,"CL00445","2012-01-02T15:39:05.813","Desktop","Mid-west","SME",80,"Yes",3.2,220,"Agent Neo"]
[null,"CL00446","2012-01-02T15:40:57.426","Monitor","Mid-west","Large Corporate",61,"Yes",3.3,260,"Agent Neo"]
[null,"CL00447","2012-01-02T15:43:38.882","Laptop","East","Large Corporate",62,"Yes",3.2,220,"Agent Neo"]
[null,"CL00448","2012-01-02T15:46:42.955","Misc.","South","Large Corporate",83,"Yes",2.9,220,"Agent Vinod"]
[null,"CL00449","2012-01-02T15:50:51.166","Accessories","West","Individual",75,"Yes",2.5,260,"Agent Smith"]
[null,"CL00450","2012-01-02T15:55:33.413","Desktop","East","Non-profit",72,"Yes",3.4,120,"Agent Harry"]
[null,"CL00451","2012-01-02T15:59:46.533","Desktop","Mid-west","Non-profit",70,"Yes",2.9,180,"Agent Harry"]
[null,"CL00452","2012-01-02T16:02:52.609","Accessories","Mid-west","Non-profit",85,"No",3.4,190,"Agent Vinod"]
[null,"CL00453","2012-01-02T16:05:37.910","Monitor","East","Individual",76,"Yes",3.4,0,"Agent Bond"]
[null,"CL00454","2012-01-02T16:10:21.357","Laptop","West","Non-profit",85,"Yes",2.8,100,"Agent Smith"]
[null,"CL00455","2012-01-02T16:10:45.866","Misc.","West","Non-profit",91,"Yes",3.7,250,"Agent Mary"]
[null,"CL00456","2012-01-02T16:15:24.325","Laptop","West","Individual",83,"Yes",3,0,"Agent Neo"]
[null,"CL00457","2012-01-02T16:21:02.302","Software","East","Individual",75,"Yes",3.8,0,"Agent Neo"]
[null,"CL00458","2012-01-02T16:22:40.039","Software","East","Large Corporate",73,"Yes",3.3,0,"Agent Harry"]
[null,"CL00459","2012-01-02T16:27:21.344","Misc.","East","SME",71,"Yes",2.1,0,"Agent Mary"]
[null,"CL00460","2012-01-02T16:27:52.448","Monitor","North","Individual",86,"Yes",3.1,200,"Agent Mary"]
[null,"CL00461","2012-01-02T16:28:55.340","Monitor","Mid-west","Individual",71,"Yes",2.6,120,"Agent Vinod"]
[null,"CL00462","2012-01-02T16:33:48.059","Monitor","North","Individual",64,"Yes",3.9,220,"Agent Neo"]
[null,"CL00463","2012-01-02T16:38:08.447","Accessories","East","Large Corporate",73,"Yes",2.8,120,"Agent Mary"]
[null,"CL00464","2012-01-02T16:43:53.961","Software","West","Large Corporate",71,"Yes",2.8,270,"Agent Mary"]
[null,"CL00465","2012-01-02T16:47:00.418","Misc.","West","Large Corporate",78,"Yes",3,240,"Agent Bond"]
[null,"CL00466","2012-01-02T16:51:45.855","Software","East","SME",78,"Yes",3.6,170,"Agent Mary"]
[null,"CL00467","2012-01-02T16:57:24.282","Accessories","East","Large Corporate",67,"Yes",3.2,0,"Agent Smith"]
[null,"CL00468","2012-01-02T17:00:16.297","Monitor","North","Non-profit",78,"Yes",2.9,0,"Agent Mary"]
[null,"CL00469","2012-01-02T17:04:52.371","Monitor","Mid-west","Non-profit",81,"Yes",2,180,"Agent Harry"]
[null,"CL00470","2012-01-02T17:08:44.553","Laptop","Mid-west","SME",63,"Yes",3.3,200,"Agent Neo"]
[null,"CL00471","2012-01-02T17:09:57.152","Software","West","Large Corporate",87,"Yes",3.4,230,"Agent Harry"]
[null,"CL00472","2012-01-02T17:15:38.081","Laptop","South","Non-profit",55,"No",3,180,"Agent Mary"]
[null,"CL00473","2012-01-02T17:21:16.189","Misc.","West","Individual",57,"Yes",3.4,0,"Agent Vinod"]
[null,"CL00474","2012-01-02T17:26:08.847","Laptop","West","Non-profit",64,"Yes",2.8,0,"Agent Harry"]
[null,"CL00475","2012-01-02T17:29:14.435","Misc.","North","Individual",80,"Yes",3.6,110,"Agent Smith"]
[null,"CL00476","2012-01-02T17:29:27.412","Software","South","Large Corporate",69,"Yes",2.5,280,"Agent Neo"]
[null,"CL00477","2012-01-02T17:30:45.712","Desktop","North","Individual",76,"Yes",4.4000000000000004,0,"Agent Mary"]
[null,"CL00478","2012-01-02T17:32:52.880","Misc.","Mid-west","Individual",86,"Yes",3,0,"Agent Neo"]
[null,"CL00479","2012-01-02T17:34:49.926","Laptop","West","Non-profit",78,"Yes",3.2,0,"Agent Neo"]
[null,"CL00480","2012-01-02T17:39:40.164","Accessories","South","Large Corporate",73,"Yes",3.2,0,"Agent Smith"]
[null,"CL00481","2012-01-02T17:41:29.623","Accessories","South","Non-profit",86,"Yes",2.9,300,"Agent Neo"]
[null,"CL00482","2012-01-02T17:43:48.185","Laptop","North","Large Corporate",81,"Yes",3.4,110,"Agent Bond"]
[null,"CL00483","2012-01-02T17:47:39.969","Desktop","North","Large Corporate",76,"Yes",2.7,0,"Agent Mary"]
[null,"CL00484","2012-01-02T17:49:38.514","Laptop","North","Large Corporate",88,"Yes",3.1,180,"Agent Vinod"]
[null,"CL00485","2012-01-02T17:52:31.869","Laptop","East","Individual",79,"Yes",3.6,0,"Agent Neo"]
[null,"CL00486","2012-01-02T17:56:59.186","Laptop","North","Individual",88,"Yes",2.9,0,"Agent Harry"]
[null,"CL00487","2012-01-02T17:58:16.478","Misc.","North","Non-profit",85,"Yes",2.2999999999999998,160,"Agent Harry"]
[null,"CL00488","2012-01-02T18:01:00.170","Laptop","Mid-west","Individual",84,"Yes",3.3,0,"Agent Bond"]
[null,"CL00489","2012-01-02T18:05:42.520","Desktop","West","Large Corporate",69,"Yes",2.9,210,"Agent Mary"]
[null,"CL00490","2012-01-02T18:08:58.386","Software","Mid-west","Large Corporate",70,"Yes",2.1,180,"Agent Neo"]
[null,"CL00491","2012-01-02T18:10:00.610","Laptop","Mid-west","SME",74,"Yes",2.4,170,"Agent Mary"]
[null,"CL00492","2012-01-02T18:15:35.142","Desktop","Mid-west","Individual",87,"Yes",3.1,0,"Agent Vinod"]
[null,"CL00493","2012-01-02T18:19:08.728","Laptop","Mid-west","Non-profit",81,"Yes",3.1,170,"Agent Vinod"]
[null,"CL00494","2012-01-02T18:22:14.978","Monitor","West","Individual",76,"Yes",2.6,150,"Agent Harry"]
[null,"CL00495","2012-01-02T18:26:22.548","Misc.","East","SME",83,"Yes",3.5,140,"Agent Bond"]
[null,"CL00496","2012-01-02T18:31:41.007","Software","North","Large Corporate",91,"Yes",2.2999999999999998,0,"Agent Harry"]
[null,"CL00497","2012-01-02T18:33:49.026","Laptop","East","Individual",69,"Yes",3.5,0,"Agent Harry"]
[null,"CL00498","2012-01-02T18:38:34.398","Software","South","SME",61,"Yes",2.7,0,"Agent Vinod"]
[null,"CL00499","2012-01-02T18:41:57.350","Misc.","West","SME",76,"Yes",2.6,240,"Agent Neo"]
[null,"CL00500","2012-01-02T18:46:19.697","Monitor","North","Non-profit",73,"Yes",3.2,170,"Agent Vinod"]
[null,"CL00501","2012-01-02T18:50:35.595","Accessories","East","Individual",79,"Yes",3.1,230,"Agent Bond"]
[null,"CL00502","2012-01-02T18:54:11.214","Misc.","Mid-west","SME",78,"Yes",2.2000000000000002,0,"Agent Smith"]
[null,"CL00503","2012-01-02T18:54:50.266","Accessories","West","Individual",74,"Yes",2.6,0,"Agent Bond"]
[null,"CL00504","2012-01-02T18:56:35.930","Accessories","East","Non-profit",67,"Yes",2.5,160,"Agent Neo"]
[null,"CL00505","2012-01-02T18:59:13.891","Laptop","South","Non-profit",80,"Yes",3.2,0,"Agent Vinod"]
[null,"CL00506","2012-01-02T19:03:43.697","Accessories","South","Large Corporate",75,"Yes",3.3,240,"Agent Mary"]
[null,"CL00507","2012-01-02T19:07:33.986","Software","West","Non-profit",72,"Yes",3.2,110,"Agent Smith"]
[null,"CL00508","2012-01-02T19:11:28.680","Software","Mid-west","Large Corporate",84,"Yes",3.6,190,"Agent Harry"]
[null,"CL00509","2012-01-02T19:12:58.438","Misc.","Mid-west","Non-profit",75,"No",4,0,"Agent Smith"]
[null,"CL00510","2012-01-02T19:16:35.324","Software","North","Individual",87,"Yes",3.6,230,"Agent Neo"]
[null,"CL00511","2012-01-02T19:19:03.136","Monitor","East","SME",83,"Yes",3.2,0,"Agent Smith"]
[null,"CL00512","2012-01-02T19:19:53.341","Laptop","Mid-west","Non-profit",65,"Yes",3.5,250,"Agent Mary"]
[null,"CL00513","2012-01-02T19:22:36.397","Misc.","Mid-west","Large Corporate",82,"Yes",2.7,190,"Agent Neo"]
[null,"CL00514","2012-01-02T19:24:07.191","Accessories","North","Individual",70,"Yes",3.6,180,"Agent Smith"]
[null,"CL00515","2012-01-02T19:24:54.566","Monitor","North","Individual",67,"Yes",4,200,"Agent Smith"]
[null,"CL00516","2012-01-02T19:24:59.009","Monitor","East","Individual",76,"Yes",3.6,240,"Agent Mary"]
[null,"CL00517","2012-01-02T19:29:15.396","Accessories","East","Large Corporate",68,"Yes",3.4,250,"Agent Mary"]
[null,"CL00518","2012-01-02T19:31:35.646","Desktop","West","Large Corporate",81,"Yes",2.5,0,"Agent Vinod"]
[null,"CL00519","2012-01-02T19:36:41.150","Monitor","South","Individual",86,"Yes",3,170,"Agent Smith"]
[null,"CL00520","2012-01-02T19:38:01.010","Software","South","Non-profit",82,"Yes",3.9,0,"Agent Harry"]
[null,"CL00521","2012-01-02T19:38:31.112","Monitor","North","Large Corporate",62,"Yes",2.9,240,"Agent Neo"]
[null,"CL00522","2012-01-02T19:38:57.757","Software","West","SME",72,"Yes",2.7,0,"Agent Mary"]
[null,"CL00523","2012-01-02T19:43:35.895","Desktop","South","Non-profit",73,"Yes",3.3,150,"Agent Harry"]
[null,"CL00524","2012-01-02T19:43:59.811","Desktop","North","Large Corporate",82,"Yes",3.4,0,"Agent Mary"]
[null,"CL00525","2012-01-02T19:48:09.093","Software","Mid-west","Non-profit",76,"Yes",3.2,0,"Agent Mary"]
[null,"CL00526","2012-01-02T19:51:43.315","Desktop","West","SME",85,"Yes",3.4,210,"Agent Neo"]
[null,"CL00527","2012-01-02T19:53:12.187","Desktop","Mid-west","SME",93,"Yes",3.8,0,"Agent Harry"]
[null,"CL00528","2012-01-02T19:55:31.890","Monitor","North","SME",90,"Yes",3.9,120,"Agent Vinod"]
[null,"CL00529","2012-01-02T19:56:28.200","Misc.","West","Individual",69,"Yes",3.6,190,"Agent Neo"]
[null,"CL00530","2012-01-02T19:56:35.040","Laptop","East","Non-profit",65,"Yes",3.2,220,"Agent Bond"]
[null,"CL00531","2012-01-02T19:57:55.691","Desktop","North","SME",81,"Yes",3,0,"Agent Smith"]
[null,"CL00532","2012-01-02T19:58:32.604","Accessories","Mid-west","SME",82,"Yes",2.7,230,"Agent Smith"]
[null,"CL00533","2012-01-02T19:59:21.908","Laptop","North","Individual",81,"Yes",2.2000000000000002,210,"Agent Neo"]
[null,"CL00534","2012-01-02T20:01:57.309","Software","East","Individual",81,"Yes",2.8,0,"Agent Neo"]
[null,"CL00535","2012-01-02T20:01:57.491","Software","East","Large Corporate",72,"Yes",3.7,160,"Agent Mary"]
[null,"CL00536","2012-01-02T20:05:40.149","Monitor","South","SME",82,"Yes",3.3,200,"Agent Smith"]
[null,"CL00537","2012-01-02T20:07:21.492","Software","West","SME",65,"Yes",3.9,240,"Agent Mary"]
[null,"CL00538","2012-01-02T20:09:34.366","Laptop","Mid-west","Individual",75,"Yes",2.9,210,"Agent Mary"]
[null,"CL00539","2012-01-02T20:11:39.784","Desktop","East","Individual",83,"Yes",2.7,280,"Agent Vinod"]
[null,"CL00540","2012-01-02T20:16:24.627","Accessories","South","Non-profit",87,"No",3.1,250,"Agent Bond"]
[null,"CL00541","2012-01-02T20:19:05.656","Monitor","North","SME",78,"Yes",3.4,200,"Agent Smith"]
[null,"CL00542","2012-01-02T20:21:24.724","Software","West","Individual",77,"No",3,0,"Agent Mary"]
[null,"CL00543","2012-01-02T20:26:44.531","Desktop","West","Non-profit",78,"Yes",3.6,0,"Agent Mary"]
[null,"CL00544","2012-01-02T20:31:02.414","Monitor","Mid-west","Individual",75,"Yes",3.2,0,"Agent Vinod"]
[null,"CL00545","2012-01-02T20:33:03.774","Misc.","Mid-west","Non-profit",68,"Yes",3.1,170,"Agent Bond"]
[null,"CL00546","2012-01-02T20:33:20.730","Accessories","North","Non-profit",74,"Yes",3.7,230,"Agent Bond"]
[null,"CL00547","2012-01-02T20:38:48.982","Desktop","South","Large Corporate",70,"Yes",3.4,0,"Agent Vinod"]
[null,"CL00548","2012-01-02T20:42:13.954","Accessories","North","Large Corporate",61,"Yes",2.8,230,"Agent Smith"]
[null,"CL00549","2012-01-02T20:46:46.558","Laptop","North","Large Corporate",77,"Yes",3,160,"Agent Vinod"]
[null,"CL00550","2012-01-02T20:49:36.264","Misc.","South","SME",84,"Yes",3.1,140,"Agent Smith"]
[null,"CL00551","2012-01-02T20:54:10.797","Monitor","Mid-west","Individual",82,"Yes",3,0,"Agent Vinod"]
[null,"CL00552","2012-01-02T20:55:55.209","Misc.","East","Non-profit",80,"Yes",2.7,240,"Agent Bond"]
[null,"CL00553","2012-01-02T21:00:14.857","Software","South","Individual",71,"Yes",3.4,190,"Agent Harry"]
[null,"CL00554","2012-01-02T21:00:56.449","Monitor","East","Large Corporate",56,"Yes",2.9,170,"Agent Neo"]
[null,"CL00555","2012-01-02T21:03:06.878","Misc.","South","Large Corporate",80,"Yes",2.8,0,"Agent Smith"]
[null,"CL00556","2012-01-02T21:08:19.128","Laptop","South","Individual",76,"Yes",3.2,160,"Agent Smith"]
[null,"CL00557","2012-01-02T21:08:34.499","Desktop","Mid-west","Large Corporate",62,"Yes",2.7,200,"Agent Smith"]
[null,"CL00558","2012-01-02T21:13:44.287","Accessories","Mid-west","Non-profit",65,"Yes",2.7,200,"Agent Mary"]
[null,"CL00559","2012-01-02T21:17:46.695","Monitor","West","SME",97,"Yes",2.7,180,"Agent Bond"]
[null,"CL00560","2012-01-02T21:21:41.111","Software","West","Non-profit",93,"Yes",4.5,0,"Agent Smith"]
[null,"CL00561","2012-01-02T21:26:27.217","Desktop","South","Individual",80,"Yes",2.2999999999999998,300,"Agent Bond"]
[null,"CL00562","2012-01-02T21:28:44.660","Misc.","West","SME",64,"Yes",3.4,160,"Agent Vinod"]
[null,"CL00563","2012-01-02T21:28:58.913","Laptop","Mid-west","Individual",71,"Yes",3.1,0,"Agent Vinod"]
[null,"CL00564","2012-01-02T21:32:17.218","Accessories","South","Large Corporate",80,"Yes",2.7,210,"Agent Smith"]
[null,"CL00565","2012-01-02T21:36:16.638","Desktop","Mid-west","SME",72,"Yes",3.2,160,"Agent Bond"]
[null,"CL00566","2012-01-02T21:41:18.243","Desktop","East","Individual",66,"Yes",2.9,0,"Agent Neo"]
[null,"CL00567","2012-01-02T21:41:38.754","Laptop","East","Non-profit",78,"Yes",3.1,0,"Agent Vinod"]
[null,"CL00568","2012-01-02T21:46:15.985","Software","East","Individual",75,"Yes",3.4,0,"Agent Mary"]
[null,"CL00569","2012-01-02T21:50:48.892","Accessories","East","Large Corporate",70,"Yes",3.9,0,"Agent Harry"]
[null,"CL00570","2012-01-02T21:53:01.115","Accessories","East","Non-profit",78,"Yes",2.8,140,"Agent Bond"]
[null,"CL00571","2012-01-02T21:55:20.705","Misc.","North","Individual",67,"Yes",2.9,0,"Agent Bond"]
[null,"CL00572","2012-01-02T21:57:12.626","Monitor","North","SME",63,"Yes",3.7,240,"Agent Mary"]
[null,"CL00573","2012-01-02T21:57:27.676","Desktop","East","Non-profit",74,"Yes",3.9,0,"Agent Mary"]
[null,"CL00574","2012-01-02T21:58:13.154","Laptop","South","Large Corporate",91,"Yes",4,300,"Agent Smith"]
[null,"CL00575","2012-01-02T22:03:26.679","Misc.","West","SME",74,"Yes",2.7,0,"Agent Mary"]
[null,"CL00576","2012-01-03T08:07:17.746","Monitor","South","Non-profit",64,"Yes",3.3,0,"Agent Harry"]
[null,"CL00577","2012-01-03T08:12:39.856","Software","Mid-west","Large Corporate",73,"Yes",2.9,170,"Agent Bond"]
[null,"CL00578","2012-01-03T08:14:57.223","Misc.","South","Large Corporate",70,"Yes",2.4,230,"Agent Vinod"]
[null,"CL00579","2012-01-03T08:19:20.661","Software","North","SME",72,"Yes",3.1,0,"Agent Smith"]
[null,"CL00580","2012-01-03T08:19:45.550","Software","East","Individual",91,"Yes",3.3,110,"Agent Vinod"]
[null,"CL00581","2012-01-03T08:21:38.532","Desktop","West","SME",79,"No",2.6,0,"Agent Smith"]
[null,"CL00582","2012-01-03T08:25:55.758","Monitor","North","Non-profit",69,"Yes",3.9,210,"Agent Neo"]
[null,"CL00583","2012-01-03T08:27:58.296","Laptop","West","SME",76,"Yes",3.1,200,"Agent Mary"]
[null,"CL00584","2012-01-03T08:30:06.501","Monitor","East","Individual",67,"Yes",2.6,110,"Agent Smith"]
[null,"CL00585","2012-01-03T08:34:29.889","Misc.","West","SME",89,"Yes",3,150,"Agent Harry"]
[null,"CL00586","2012-01-03T08:35:06.438","Desktop","West","Individual",77,"Yes",3.1,0,"Agent Mary"]
[null,"CL00587","2012-01-03T08:35:42.402","Monitor","Mid-west","Non-profit",73,"Yes",3.5,150,"Agent Mary"]
[null,"CL00588","2012-01-03T08:36:00.373","Accessories","West","Non-profit",62,"Yes",2.6,220,"Agent Smith"]
[null,"CL00589","2012-01-03T08:41:24.547","Accessories","South","Individual",75,"Yes",3.4,230,"Agent Harry"]
[null,"CL00590","2012-01-03T08:46:13.483","Accessories","North","SME",74,"Yes",2.2000000000000002,200,"Agent Smith"]
[null,"CL00591","2012-01-03T08:46:36.781","Accessories","North","Non-profit",77,"Yes",3.2,0,"Agent Vinod"]
[null,"CL00592","2012-01-03T08:51:21.674","Desktop","South","SME",70,"Yes",3.6,260,"Agent Mary"]
[null,"CL00593","2012-01-03T08:52:17.515","Desktop","East","Large Corporate",70,"Yes",3,0,"Agent Smith"]
[null,"CL00594","2012-01-03T08:57:50.551","Misc.","East","Individual",78,"Yes",2.8,220,"Agent Neo"]
[null,"CL00595","2012-01-03T09:03:32.591","Monitor","South","Individual",78,"Yes",2.6,0,"Agent Mary"]
[null,"CL00596","2012-01-03T09:06:22.544","Accessories","South","Individual",79,"Yes",3.3,0,"Agent Neo"]
[null,"CL00597","2012-01-03T09:06:27.331","Monitor","West","Non-profit",75,"Yes",3.1,0,"Agent Smith"]
[null,"CL00598","2012-01-03T09:07:48.120","Desktop","East","Individual",78,"Yes",3.5,130,"Agent Bond"]
[null,"CL00599","2012-01-03T09:10:08.436","Accessories","South","Non-profit",80,"Yes",2.8,280,"Agent Bond"]
[null,"CL00600","2012-01-03T09:15:11.066","Misc.","South","Large Corporate",77,"Yes",3.4,210,"Agent Mary"]
[null,"CL00601","2012-01-03T09:18:41.368","Laptop","East","SME",81,"Yes",3.3,90,"Agent Neo"]
[null,"CL00602","2012-01-03T09:23:25.521","Laptop","East","SME",59,"Yes",3.1,0,"Agent Bond"]
[null,"CL00603","2012-01-03T09:26:29.435","Desktop","Mid-west","Large Corporate",82,"Yes",3.4,0,"Agent Neo"]
[null,"CL00604","2012-01-03T09:31:45.730","Laptop","West","SME",81,"Yes",2.9,130,"Agent Vinod"]
[null,"CL00605","2012-01-03T09:34:57.884","Desktop","East","SME",59,"No",3.3,270,"Agent Vinod"]
[null,"CL00606","2012-01-03T09:38:32.199","Monitor","West","Non-profit",79,"Yes",2.7,0,"Agent Bond"]
[null,"CL00607","2012-01-03T09:39:50.709","Laptop","North","Large Corporate",71,"Yes",3.3,230,"Agent Mary"]
[null,"CL00608","2012-01-03T09:44:59.105","Software","Mid-west","Individual",61,"Yes",2.8,0,"Agent Smith"]
[null,"CL00609","2012-01-03T09:47:38.260","Desktop","North","Non-profit",61,"Yes",3,160,"Agent Vinod"]
[null,"CL00610","2012-01-03T09:50:04.489","Laptop","South","Non-profit",76,"Yes",3.1,0,"Agent Neo"]
[null,"CL00611","2012-01-03T09:53:05.669","Monitor","South","Non-profit",73,"Yes",2.7,220,"Agent Harry"]
[null,"CL00612","2012-01-03T09:53:56.515","Monitor","Mid-west","Non-profit",82,"Yes",3.2,0,"Agent Harry"]
[null,"CL00613","2012-01-03T09:58:28.894","Laptop","East","Large Corporate",59,"Yes",2.9,0,"Agent Vinod"]
[null,"CL00614","2012-01-03T10:01:24.822","Misc.","Mid-west","SME",73,"Yes",3,0,"Agent Vinod"]
[null,"CL00615","2012-01-03T10:05:56.837","Accessories","Mid-west","Individual",65,"Yes",2.8,0,"Agent Harry"]
[null,"CL00616","2012-01-03T10:10:24.360","Accessories","East","Individual",72,"Yes",2.8,0,"Agent Mary"]
[null,"CL00617","2012-01-03T10:14:59.178","Software","West","SME",80,"Yes",2.4,0,"Agent Neo"]
[null,"CL00618","2012-01-03T10:20:05.645","Monitor","North","SME",65,"Yes",2.5,0,"Agent Smith"]
[null,"CL00619","2012-01-03T10:25:39.936","Laptop","South","SME",78,"Yes",2.5,150,"Agent Vinod"]
[null,"CL00620","2012-01-03T10:27:08.548","Desktop","North","Large Corporate",68,"Yes",2.4,190,"Agent Smith"]
[null,"CL00621","2012-01-03T10:32:35.530","Accessories","West","Individual",82,"Yes",2.9,170,"Agent Vinod"]
[null,"CL00622","2012-01-03T10:36:55.858","Misc.","West","Large Corporate",66,"Yes",2.9,200,"Agent Harry"]
[null,"CL00623","2012-01-03T10:40:59.430","Accessories","East","Individual",66,"Yes",3.5,0,"Agent Harry"]
[null,"CL00624","2012-01-03T10:43:51.641","Accessories","North","Non-profit",80,"Yes",3.7,0,"Agent Mary"]
[null,"CL00625","2012-01-03T10:45:23.776","Monitor","Mid-west","Large Corporate",78,"Yes",2.2999999999999998,0,"Agent Bond"]
[null,"CL00626","2012-01-03T10:47:53.406","Laptop","East","Non-profit",56,"Yes",3.1,0,"Agent Smith"]
[null,"CL00627","2012-01-03T10:47:54.100","Software","South","Individual",62,"Yes",3.2,170,"Agent Harry"]
[null,"CL00628","2012-01-03T10:51:02.145","Laptop","North","Non-profit",73,"Yes",2.8,0,"Agent Bond"]
[null,"CL00629","2012-01-03T10:53:29.154","Desktop","Mid-west","Non-profit",80,"Yes",3.3,230,"Agent Mary"]
[null,"CL00630","2012-01-03T10:58:56.050","Desktop","West","Individual",81,"Yes",2.9,250,"Agent Neo"]
[null,"CL00631","2012-01-03T11:01:01.465","Monitor","East","SME",74,"Yes",3.3,0,"Agent Neo"]
[null,"CL00632","2012-01-03T11:04:11.368","Desktop","Mid-west","SME",83,"Yes",2.4,120,"Agent Smith"]
[null,"CL00633","2012-01-03T11:06:21.537","Misc.","South","Large Corporate",76,"Yes",3.2,0,"Agent Neo"]
[null,"CL00634","2012-01-03T11:08:24.325","Misc.","East","SME",65,"Yes",2.9,230,"Agent Smith"]
[null,"CL00635","2012-01-03T11:13:13.058","Laptop","West","Non-profit",69,"Yes",2.7,0,"Agent Bond"]
[null,"CL00636","2012-01-03T11:14:12.663","Desktop","South","Non-profit",73,"Yes",2.1,0,"Agent Mary"]
[null,"CL00637","2012-01-03T11:16:55.356","Laptop","West","SME",81,"Yes",3.4,0,"Agent Vinod"]
[null,"CL00638","2012-01-03T11:17:20.486","Monitor","East","Large Corporate",70,"Yes",3.5,210,"Agent Bond"]
[null,"CL00639","2012-01-03T11:19:59.997","Software","Mid-west","Non-profit",84,"Yes",2.6,240,"Agent Vinod"]
[null,"CL00640","2012-01-03T11:22:50.103","Misc.","West","SME",82,"Yes",2.4,80,"Agent Harry"]
[null,"CL00641","2012-01-03T11:23:38.240","Laptop","East","Non-profit",88,"Yes",3.8,190,"Agent Smith"]
[null,"CL00642","2012-01-03T11:26:03.960","Accessories","West","Non-profit",84,"Yes",3,240,"Agent Vinod"]
[null,"CL00643","2012-01-03T11:31:40.803","Accessories","Mid-west","Individual",70,"Yes",3.7,170,"Agent Mary"]
[null,"CL00644","2012-01-03T11:36:29.924","Laptop","South","SME",65,"Yes",3,280,"Agent Smith"]
[null,"CL00645","2012-01-03T11:39:01.186","Accessories","West","SME",65,"Yes",3,120,"Agent Neo"]
[null,"CL00646","2012-01-03T11:40:45.684","Laptop","East","Non-profit",69,"Yes",2.6,0,"Agent Harry"]
[null,"CL00647","2012-01-03T11:41:28.357","Desktop","South","Non-profit",76,"Yes",2.8,260,"Agent Bond"]
[null,"CL00648","2012-01-03T11:46:19.698","Monitor","Mid-west","Large Corporate",88,"Yes",2.4,0,"Agent Vinod"]
[null,"CL00649","2012-01-03T11:48:53.278","Laptop","South","Non-profit",74,"Yes",2.8,190,"Agent Mary"]
[null,"CL00650","2012-01-03T11:52:24.066","Software","West","SME",69,"Yes",3,240,"Agent Bond"]
[null,"CL00651","2012-01-03T11:55:59.214","Accessories","West","Large Corporate",85,"Yes",2.7,220,"Agent Harry"]
[null,"CL00652","2012-01-03T12:01:02.951","Monitor","North","Individual",73,"Yes",3.3,0,"Agent Harry"]
[null,"CL00653","2012-01-03T12:01:28.598","Desktop","South","Non-profit",75,"Yes",2.5,0,"Agent Neo"]
[null,"CL00654","2012-01-03T12:02:05.819","Misc.","South","Large Corporate",84,"Yes",3.4,260,"Agent Mary"]
[null,"CL00655","2012-01-03T12:05:01.904","Monitor","North","Large Corporate",83,"Yes",3,220,"Agent Smith"]
[null,"CL00656","2012-01-03T12:08:13.572","Desktop","East","Non-profit",79,"Yes",3.5,210,"Agent Mary"]
[null,"CL00657","2012-01-03T12:12:21.882","Monitor","North","Individual",60,"Yes",2.2000000000000002,0,"Agent Vinod"]
[null,"CL00658","2012-01-03T12:16:11.555","Misc.","South","Individual",69,"Yes",2.8,210,"Agent Smith"]
[null,"CL00659","2012-01-03T12:19:20.691","Laptop","North","SME",64,"Yes",2.8,0,"Agent Vinod"]
[null,"CL00660","2012-01-03T12:24:35.219","Desktop","West","Individual",79,"No",2.6,230,"Agent Smith"]
[null,"CL00661","2012-01-03T12:25:32.704","Software","South","SME",89,"Yes",3.4,0,"Agent Mary"]
[null,"CL00662","2012-01-03T12:29:55.843","Monitor","South","Individual",72,"Yes",3.3,0,"Agent Bond"]
[null,"CL00663","2012-01-03T12:35:27.376","Accessories","East","Non-profit",81,"Yes",3.6,130,"Agent Neo"]
[null,"CL00664","2012-01-03T12:36:45.949","Monitor","East","SME",76,"Yes",3.2,0,"Agent Bond"]
[null,"CL00665","2012-01-03T12:41:07.701","Misc.","West","SME",77,"Yes",3.5,0,"Agent Bond"]
[null,"CL00666","2012-01-03T12:41:30.903","Software","South","Non-profit",77,"Yes",2.8,0,"Agent Mary"]
[null,"CL00667","2012-01-03T12:44:06.015","Software","North","Individual",70,"Yes",3.4,0,"Agent Bond"]
[null,"CL00668","2012-01-03T12:49:33.440","Monitor","East","Large Corporate",92,"Yes",3,210,"Agent Harry"]
[null,"CL00669","2012-01-03T12:53:53.043","Desktop","West","Individual",71,"Yes",3.7,0,"Agent Smith"]
[null,"CL00670","2012-01-03T12:55:35.237","Laptop","West","SME",79,"Yes",3.5,230,"Agent Smith"]
[null,"CL00671","2012-01-03T12:57:07.312","Monitor","South","Non-profit",68,"Yes",3.1,240,"Agent Bond"]
[null,"CL00672","2012-01-03T12:59:18.647","Monitor","North","SME",67,"Yes",3.8,0,"Agent Mary"]
[null,"CL00673","2012-01-03T13:01:38.249","Laptop","North","Non-profit",71,"Yes",2.2000000000000002,0,"Agent Harry"]
[null,"CL00674","2012-01-03T13:05:47.404","Laptop","East","Individual",63,"No",3.1,0,"Agent Harry"]
[null,"CL00675","2012-01-03T13:07:09.004","Monitor","East","Non-profit",73,"Yes",3,0,"Agent Bond"]
[null,"CL00676","2012-01-03T13:08:03.095","Software","West","Large Corporate",79,"Yes",3.8,260,"Agent Mary"]
[null,"CL00677","2012-01-03T13:12:27.595","Software","North","SME",77,"Yes",2.8,0,"Agent Bond"]
[null,"CL00678","2012-01-03T13:16:29.090","Desktop","South","Large Corporate",80,"Yes",3.5,200,"Agent Vinod"]
[null,"CL00679","2012-01-03T13:19:40.393","Misc.","North","Individual",70,"Yes",3.1,0,"Agent Smith"]
[null,"CL00680","2012-01-03T13:20:46.641","Laptop","East","Non-profit",71,"Yes",3.5,0,"Agent Harry"]
[null,"CL00681","2012-01-03T13:22:18.125","Desktop","East","Individual",68,"Yes",3.8,160,"Agent Mary"]
[null,"CL00682","2012-01-03T13:27:17.651","Monitor","East","Non-profit",68,"Yes",3.5,280,"Agent Mary"]
[null,"CL00683","2012-01-03T13:29:46.219","Misc.","Mid-west","Non-profit",72,"Yes",3.4,210,"Agent Smith"]
[null,"CL00684","2012-01-03T13:32:46.900","Misc.","South","Individual",75,"Yes",2.8,220,"Agent Vinod"]
[null,"CL00685","2012-01-03T13:33:01.591","Software","North","Individual",71,"Yes",2.6,0,"Agent Neo"]
[null,"CL00686","2012-01-03T13:37:06.664","Desktop","East","Large Corporate",71,"Yes",3,200,"Agent Neo"]
[null,"CL00687","2012-01-03T13:37:20.321","Accessories","North","Large Corporate",82,"Yes",3.7,180,"Agent Smith"]
[null,"CL00688","2012-01-03T13:39:04.300","Monitor","South","Non-profit",68,"Yes",2.4,200,"Agent Vinod"]
[null,"CL00689","2012-01-03T13:40:51.022","Software","North","Non-profit",85,"Yes",3.4,0,"Agent Smith"]
[null,"CL00690","2012-01-03T13:42:12.547","Monitor","East","Large Corporate",79,"Yes",2.8,110,"Agent Neo"]
[null,"CL00691","2012-01-03T13:43:33.040","Monitor","Mid-west","Large Corporate",73,"Yes",3.7,150,"Agent Neo"]
[null,"CL00692","2012-01-03T13:46:57.045","Misc.","Mid-west","Large Corporate",61,"No",2.4,280,"Agent Bond"]
[null,"CL00693","2012-01-03T13:48:39.053","Software","East","Non-profit",64,"Yes",3.2,250,"Agent Vinod"]
[null,"CL00694","2012-01-03T13:51:11.223","Desktop","South","Non-profit",74,"Yes",2.7,0,"Agent Vinod"]
[null,"CL00695","2012-01-03T13:53:06.863","Monitor","North","Large Corporate",78,"Yes",2.9,230,"Agent Harry"]
[null,"CL00696","2012-01-03T13:56:29.789","Accessories","South","Large Corporate",76,"Yes",2.9,220,"Agent Neo"]
[null,"CL00697","2012-01-03T13:59:35.985","Laptop","North","SME",75,"Yes",3.5,110,"Agent Bond"]
[null,"CL00698","2012-01-03T14:03:42.656","Monitor","West","SME",81,"Yes",3.7,200,"Agent Harry"]
[null,"CL00699","2012-01-03T14:08:12.603","Misc.","West","Individual",62,"Yes",3.4,140,"Agent Mary"]
[null,"CL00700","2012-01-03T14:13:55.590","Misc.","East","Non-profit",79,"Yes",2.7,0,"Agent Smith"]
[null,"CL00701","2012-01-03T14:16:52.172","Desktop","East","Large Corporate",77,"Yes",3.2,240,"Agent Neo"]
[null,"CL00702","2012-01-03T14:16:56.031","Laptop","North","Non-profit",76,"Yes",2.6,160,"Agent Mary"]
[null,"CL00703","2012-01-03T14:19:13.257","Accessories","West","Individual",75,"Yes",3.6,0,"Agent Vinod"]
[null,"CL00704","2012-01-03T14:21:38.364","Laptop","East","Large Corporate",77,"Yes",3.3,0,"Agent Bond"]
[null,"CL00705","2012-01-03T14:27:13.632","Misc.","South","Individual",67,"Yes",2.8,0,"Agent Vinod"]
[null,"CL00706","2012-01-03T14:32:38.556","Laptop","Mid-west","SME",71,"Yes",3.2,0,"Agent Mary"]
[null,"CL00707","2012-01-03T14:37:45.348","Misc.","North","Individual",75,"Yes",3.5,0,"Agent Vinod"]
[null,"CL00708","2012-01-03T14:38:55.940","Software","East","Individual",67,"Yes",2.5,160,"Agent Smith"]
[null,"CL00709","2012-01-03T14:39:27.262","Monitor","West","SME",73,"Yes",3,0,"Agent Mary"]
[null,"CL00710","2012-01-03T14:42:53.353","Desktop","South","Non-profit",73,"No",3,250,"Agent Bond"]
[null,"CL00711","2012-01-03T14:44:15.632","Monitor","West","Individual",68,"Yes",3.2,140,"Agent Neo"]
[null,"CL00712","2012-01-03T14:49:39.934","Software","West","SME",75,"Yes",2.2999999999999998,200,"Agent Harry"]
[null,"CL00713","2012-01-03T14:52:41.118","Misc.","North","Individual",66,"Yes",3.7,220,"Agent Mary"]
[null,"CL00714","2012-01-03T14:57:13.657","Misc.","Mid-west","SME",75,"Yes",2.7,0,"Agent Smith"]
[null,"CL00715","2012-01-03T14:57:19.579","Monitor","East","Large Corporate",81,"Yes",2.9,140,"Agent Bond"]
[null,"CL00716","2012-01-03T15:01:38.672","Misc.","East","SME",83,"Yes",3,0,"Agent Bond"]
[null,"CL00717","2012-01-03T15:06:16.978","Accessories","North","Individual",78,"Yes",3.6,180,"Agent Mary"]
[null,"CL00718","2012-01-03T15:06:50.983","Accessories","East","SME",77,"Yes",2.2999999999999998,0,"Agent Smith"]
[null,"CL00719","2012-01-03T15:10:43.054","Misc.","West","Individual",72,"No",3.6,260,"Agent Vinod"]
[null,"CL00720","2012-01-03T15:11:33.049","Monitor","South","Individual",54,"Yes",3.2,110,"Agent Smith"]
[null,"CL00721","2012-01-03T15:13:41.130","Desktop","North","SME",67,"Yes",3,170,"Agent Neo"]
[null,"CL00722","2012-01-03T15:15:03.996","Desktop","South","SME",82,"No",3.9,150,"Agent Smith"]
[null,"CL00723","2012-01-03T15:17:39.552","Laptop","Mid-west","Large Corporate",73,"Yes",2.6,220,"Agent Neo"]
[null,"CL00724","2012-01-03T15:20:26.517","Software","West","Non-profit",77,"Yes",2.6,120,"Agent Smith"]
[null,"CL00725","2012-01-03T15:25:38.974","Accessories","Mid-west","Individual",76,"Yes",2.7,130,"Agent Vinod"]
[null,"CL00726","2012-01-03T15:29:41.276","Accessories","North","SME",91,"Yes",2.7,160,"Agent Mary"]
[null,"CL00727","2012-01-03T15:29:42.527","Laptop","East","Individual",87,"Yes",3.1,160,"Agent Vinod"]
[null,"CL00728","2012-01-03T15:33:13.149","Software","Mid-west","SME",76,"Yes",3.1,0,"Agent Harry"]
[null,"CL00729","2012-01-03T15:35:27.175","Software","Mid-west","Large Corporate",85,"Yes",3.4,190,"Agent Neo"]
[null,"CL00730","2012-01-03T15:36:52.276","Software","Mid-west","Large Corporate",75,"No",3.1,150,"Agent Neo"]
[null,"CL00731","2012-01-03T15:42:24.189","Software","South","Non-profit",76,"Yes",3.1,160,"Agent Smith"]
[null,"CL00732","2012-01-03T15:46:35.282","Accessories","South","Large Corporate",66,"Yes",3.9,200,"Agent Neo"]
[null,"CL00733","2012-01-03T15:49:24.557","Accessories","East","Large Corporate",77,"Yes",3.6,120,"Agent Harry"]
[null,"CL00734","2012-01-03T15:54:16.543","Laptop","West","SME",94,"Yes",2.9,210,"Agent Bond"]
[null,"CL00735","2012-01-03T15:54:30.120","Misc.","West","Individual",78,"Yes",3.3,300,"Agent Mary"]
[null,"CL00736","2012-01-03T15:55:12.456","Monitor","Mid-west","Large Corporate",65,"Yes",3.4,240,"Agent Harry"]
[null,"CL00737","2012-01-03T16:00:44.687","Software","Mid-west","Large Corporate",85,"Yes",2.7,180,"Agent Mary"]
[null,"CL00738","2012-01-03T16:03:24.041","Desktop","West","SME",80,"No",2.8,140,"Agent Neo"]
[null,"CL00739","2012-01-03T16:08:54.934","Laptop","South","SME",64,"Yes",3,0,"Agent Bond"]
[null,"CL00740","2012-01-03T16:13:49.512","Laptop","West","SME",81,"Yes",3.6,180,"Agent Bond"]
[null,"CL00741","2012-01-03T16:17:54.888","Desktop","Mid-west","SME",81,"Yes",3,170,"Agent Vinod"]
[null,"CL00742","2012-01-03T16:20:52.204","Desktop","West","Individual",68,"Yes",4,0,"Agent Mary"]
[null,"CL00743","2012-01-03T16:24:38.423","Misc.","North","SME",84,"Yes",2.2000000000000002,0,"Agent Bond"]
[null,"CL00744","2012-01-03T16:25:34.977","Misc.","North","Large Corporate",72,"Yes",3.6,230,"Agent Bond"]
[null,"CL00745","2012-01-03T16:30:40.548","Monitor","West","Individual",77,"Yes",3.1,190,"Agent Smith"]
[null,"CL00746","2012-01-03T16:34:47.401","Laptop","West","SME",74,"Yes",3.2,0,"Agent Vinod"]
[null,"CL00747","2012-01-03T16:39:26.037","Accessories","Mid-west","Non-profit",92,"No",2.5,0,"Agent Bond"]
[null,"CL00748","2012-01-03T16:40:34.340","Misc.","West","SME",87,"Yes",2.4,250,"Agent Mary"]
[null,"CL00749","2012-01-03T16:43:20.275","Laptop","East","Non-profit",65,"Yes",3,150,"Agent Smith"]
[null,"CL00750","2012-01-03T16:48:37.444","Laptop","Mid-west","Individual",73,"Yes",2.7,0,"Agent Smith"]
[null,"CL00751","2012-01-03T16:51:42.589","Laptop","Mid-west","Large Corporate",76,"Yes",3.5,0,"Agent Smith"]
[null,"CL00752","2012-01-03T16:52:02.481","Software","North","Individual",89,"Yes",4.0999999999999996,0,"Agent Bond"]
[null,"CL00753","2012-01-03T16:54:15.232","Accessories","Mid-west","Individual",67,"Yes",3.2,300,"Agent Harry"]
[null,"CL00754","2012-01-03T16:58:54.340","Misc.","South","Large Corporate",90,"Yes",2,0,"Agent Harry"]
[null,"CL00755","2012-01-03T16:59:45.418","Misc.","East","SME",70,"Yes",3.4,0,"Agent Vinod"]
[null,"CL00756","2012-01-03T17:02:22.969","Accessories","North","Large Corporate",63,"Yes",3.6,0,"Agent Mary"]
[null,"CL00757","2012-01-03T17:06:49.716","Software","West","Large Corporate",85,"Yes",3.2,270,"Agent Mary"]
[null,"CL00758","2012-01-03T17:09:59.990","Desktop","South","Individual",85,"Yes",2.2000000000000002,260,"Agent Vinod"]
[null,"CL00759","2012-01-03T17:12:57.459","Laptop","West","SME",65,"Yes",3.1,230,"Agent Mary"]
[null,"CL00760","2012-01-03T17:14:12.344","Misc.","West","Individual",81,"Yes",4,220,"Agent Harry"]
[null,"CL00761","2012-01-03T17:18:48.615","Software","North","Large Corporate",70,"No",2.4,150,"Agent Bond"]
[null,"CL00762","2012-01-03T17:21:03.818","Software","Mid-west","SME",75,"Yes",2.2000000000000002,240,"Agent Neo"]
[null,"CL00763","2012-01-03T17:23:15.342","Desktop","South","Individual",68,"Yes",2.5,0,"Agent Mary"]
[null,"CL00764","2012-01-03T17:25:50.788","Laptop","North","Large Corporate",59,"Yes",2.8,0,"Agent Smith"]
[null,"CL00765","2012-01-03T17:27:06.012","Misc.","North","Large Corporate",71,"Yes",2.6,210,"Agent Vinod"]
[null,"CL00766","2012-01-03T17:27:20.478","Monitor","Mid-west","Individual",79,"Yes",4,160,"Agent Harry"]
[null,"CL00767","2012-01-03T17:28:54.786","Laptop","East","Individual",77,"Yes",2.1,0,"Agent Harry"]
[null,"CL00768","2012-01-03T17:32:53.359","Monitor","Mid-west","SME",83,"Yes",2.4,230,"Agent Neo"]
[null,"CL00769","2012-01-03T17:38:22.508","Software","North","SME",65,"Yes",3.8,130,"Agent Harry"]
[null,"CL00770","2012-01-03T17:41:53.067","Software","North","Non-profit",85,"Yes",2.4,230,"Agent Vinod"]
[null,"CL00771","2012-01-03T17:43:17.468","Software","South","Non-profit",78,"Yes",2.9,270,"Agent Smith"]
[null,"CL00772","2012-01-03T17:43:39.448","Accessories","South","Non-profit",73,"Yes",2.2000000000000002,200,"Agent Neo"]
[null,"CL00773","2012-01-03T17:44:28.832","Desktop","North","Individual",92,"Yes",2.9,0,"Agent Harry"]
[null,"CL00774","2012-01-03T17:45:38.182","Desktop","East","Individual",66,"Yes",2.9,170,"Agent Smith"]
[null,"CL00775","2012-01-03T17:49:13.055","Software","East","Large Corporate",94,"Yes",2.7,0,"Agent Harry"]
[null,"CL00776","2012-01-03T17:50:09.682","Accessories","East","Individual",88,"Yes",3.5,150,"Agent Smith"]
[null,"CL00777","2012-01-03T17:54:44.730","Misc.","Mid-west","SME",65,"Yes",2.8,0,"Agent Neo"]
[null,"CL00778","2012-01-03T17:58:05.171","Desktop","West","Large Corporate",71,"Yes",2.4,190,"Agent Bond"]
[null,"CL00779","2012-01-03T18:00:00.735","Accessories","North","Large Corporate",73,"Yes",2.9,200,"Agent Smith"]
[null,"CL00780","2012-01-03T18:05:07.103","Software","North","Large Corporate",78,"Yes",3,230,"Agent Mary"]
[null,"CL00781","2012-01-03T18:08:42.112","Accessories","North","Large Corporate",74,"Yes",2.6,30,"Agent Smith"]
[null,"CL00782","2012-01-03T18:11:20.669","Laptop","North","SME",59,"Yes",3.8,110,"Agent Bond"]
[null,"CL00783","2012-01-03T18:12:11.964","Desktop","West","Individual",70,"Yes",2.8,0,"Agent Bond"]
[null,"CL00784","2012-01-03T18:15:39.979","Laptop","South","Large Corporate",68,"Yes",2.2999999999999998,0,"Agent Smith"]
[null,"CL00785","2012-01-03T18:20:04.958","Monitor","North","Non-profit",71,"Yes",2.2999999999999998,0,"Agent Vinod"]
[null,"CL00786","2012-01-03T18:24:31.510","Desktop","West","Individual",89,"Yes",3.2,130,"Agent Vinod"]
[null,"CL00787","2012-01-03T18:26:01.546","Misc.","North","Large Corporate",89,"No",3.5,0,"Agent Neo"]
[null,"CL00788","2012-01-03T18:26:03.950","Accessories","North","Individual",77,"Yes",2.8,200,"Agent Harry"]
[null,"CL00789","2012-01-03T18:30:41.576","Accessories","West","SME",79,"No",3,220,"Agent Harry"]
[null,"CL00790","2012-01-03T18:31:50.665","Desktop","East","Non-profit",77,"Yes",3.1,190,"Agent Mary"]
[null,"CL00791","2012-01-03T18:32:44.134","Desktop","South","Large Corporate",67,"Yes",3.4,0,"Agent Vinod"]
[null,"CL00792","2012-01-03T18:32:53.458","Accessories","South","Individual",82,"Yes",4,0,"Agent Smith"]
[null,"CL00793","2012-01-03T18:35:26.448","Laptop","South","Non-profit",92,"No",3,170,"Agent Harry"]
[null,"CL00794","2012-01-03T18:38:07.819","Laptop","Mid-west","Individual",77,"Yes",3.4,150,"Agent Neo"]
[null,"CL00795","2012-01-03T18:43:23.312","Misc.","North","Non-profit",92,"Yes",3.8,0,"Agent Bond"]
[null,"CL00796","2012-01-03T18:48:05.525","Monitor","West","SME",63,"Yes",3.1,220,"Agent Vinod"]
[null,"CL00797","2012-01-03T18:52:02.373","Monitor","West","SME",76,"Yes",3.7,230,"Agent Harry"]
[null,"CL00798","2012-01-03T18:56:28.367","Accessories","West","Non-profit",69,"Yes",4.2,250,"Agent Neo"]
[null,"CL00799","2012-01-03T19:01:00.403","Accessories","North","Large Corporate",63,"Yes",2.7,140,"Agent Bond"]
[null,"CL00800","2012-01-03T19:06:33.129","Software","East","SME",76,"Yes",1.5,0,"Agent Harry"]
[null,"CL00801","2012-01-03T19:10:56.300","Laptop","West","Large Corporate",82,"Yes",3,110,"Agent Mary"]
[null,"CL00802","2012-01-03T19:15:03.556","Misc.","West","Non-profit",77,"Yes",3.3,250,"Agent Neo"]
[null,"CL00803","2012-01-03T19:17:19.559","Software","West","Individual",72,"Yes",3,230,"Agent Smith"]
[null,"CL00804","2012-01-03T19:22:09.964","Software","Mid-west","SME",85,"Yes",2.8,320,"Agent Harry"]
[null,"CL00805","2012-01-03T19:22:37.867","Misc.","East","Individual",62,"Yes",2.5,0,"Agent Neo"]
[null,"CL00806","2012-01-03T19:23:28.200","Laptop","East","Non-profit",75,"Yes",1.9,280,"Agent Harry"]
[null,"CL00807","2012-01-03T19:24:52.710","Desktop","South","Individual",68,"Yes",3.2,150,"Agent Neo"]
[null,"CL00808","2012-01-03T19:26:17.002","Misc.","North","Non-profit",80,"Yes",2.8,0,"Agent Harry"]
[null,"CL00809","2012-01-03T19:31:36.073","Monitor","East","SME",70,"Yes",3.8,0,"Agent Bond"]
[null,"CL00810","2012-01-03T19:32:49.606","Laptop","South","Non-profit",77,"Yes",2.7,170,"Agent Smith"]
[null,"CL00811","2012-01-03T19:37:15.187","Desktop","East","Non-profit",75,"Yes",2.9,240,"Agent Harry"]
[null,"CL00812","2012-01-03T19:42:12.809","Laptop","South","Large Corporate",85,"Yes",2.9,210,"Agent Smith"]
[null,"CL00813","2012-01-03T19:44:47.874","Laptop","East","Large Corporate",64,"Yes",3.2,0,"Agent Bond"]
[null,"CL00814","2012-01-03T19:50:32.525","Misc.","North","Large Corporate",60,"Yes",3.2,250,"Agent Vinod"]
[null,"CL00815","2012-01-03T19:51:27.640","Laptop","West","Individual",73,"Yes",3.2,0,"Agent Mary"]
[null,"CL00816","2012-01-03T19:53:03.755","Desktop","South","Individual",69,"Yes",3,260,"Agent Smith"]
[null,"CL00817","2012-01-03T19:55:35.943","Laptop","West","Individual",87,"Yes",3.5,0,"Agent Mary"]
[null,"CL00818","2012-01-03T20:00:32.786","Misc.","East","Large Corporate",77,"Yes",2.2999999999999998,140,"Agent Vinod"]
[null,"CL00819","2012-01-03T20:03:15.556","Accessories","Mid-west","Individual",62,"Yes",3,190,"Agent Bond"]
[null,"CL00820","2012-01-03T20:03:35.170","Monitor","West","Non-profit",65,"Yes",3.3,120,"Agent Mary"]
[null,"CL00821","2012-01-03T20:06:29.503","Software","East","Individual",76,"Yes",2.2999999999999998,120,"Agent Neo"]
[null,"CL00822","2012-01-03T20:08:17.589","Desktop","North","Large Corporate",80,"Yes",2.9,250,"Agent Harry"]
[null,"CL00823","2012-01-03T20:13:21.465","Accessories","West","SME",79,"Yes",3.1,0,"Agent Neo"]
[null,"CL00824","2012-01-03T20:16:29.149","Desktop","West","Individual",86,"Yes",2.8,200,"Agent Harry"]
[null,"CL00825","2012-01-03T20:20:19.252","Accessories","North","Large Corporate",72,"Yes",3.6,190,"Agent Harry"]
[null,"CL00826","2012-01-03T20:22:48.366","Laptop","West","Non-profit",80,"Yes",2.4,280,"Agent Harry"]
[null,"CL00827","2012-01-03T20:25:46.320","Software","Mid-west","Large Corporate",75,"Yes",2.8,200,"Agent Harry"]
[null,"CL00828","2012-01-03T20:29:00.664","Laptop","Mid-west","Large Corporate",86,"Yes",2.8,170,"Agent Neo"]
[null,"CL00829","2012-01-03T20:34:37.803","Desktop","West","SME",81,"Yes",3.8,180,"Agent Bond"]
[null,"CL00830","2012-01-03T20:35:39.545","Laptop","East","Large Corporate",73,"Yes",3,250,"Agent Vinod"]
[null,"CL00831","2012-01-03T20:38:58.582","Desktop","North","Large Corporate",78,"Yes",3.3,220,"Agent Mary"]
[null,"CL00832","2012-01-03T20:42:04.067","Desktop","Mid-west","Non-profit",79,"Yes",2.2000000000000002,0,"Agent Bond"]
[null,"CL00833","2012-01-03T20:45:18.668","Software","East","Individual",60,"Yes",3.1,150,"Agent Bond"]
[null,"CL00834","2012-01-03T20:50:54.236","Accessories","East","Non-profit",70,"Yes",3.4,0,"Agent Mary"]
[null,"CL00835","2012-01-03T20:52:02.222","Monitor","Mid-west","Large Corporate",70,"Yes",2.8,90,"Agent Neo"]
[null,"CL00836","2012-01-03T20:52:34.319","Accessories","East","Non-profit",92,"Yes",3,210,"Agent Neo"]
[null,"CL00837","2012-01-03T20:56:53.937","Monitor","West","Individual",88,"Yes",3.6,170,"Agent Harry"]
[null,"CL00838","2012-01-03T21:00:51.807","Accessories","Mid-west","Individual",75,"Yes",2.2999999999999998,140,"Agent Smith"]
[null,"CL00839","2012-01-03T21:04:09.741","Software","East","Large Corporate",70,"Yes",3,170,"Agent Neo"]
[null,"CL00840","2012-01-03T21:05:11.938","Monitor","Mid-west","Large Corporate",75,"Yes",3,140,"Agent Harry"]
[null,"CL00841","2012-01-03T21:05:31.370","Software","East","Large Corporate",79,"Yes",3.5,0,"Agent Mary"]
[null,"CL00842","2012-01-03T21:09:46.428","Desktop","Mid-west","SME",86,"Yes",3.5,190,"Agent Mary"]
[null,"CL00843","2012-01-03T21:11:38.521","Laptop","Mid-west","Large Corporate",74,"Yes",3.6,240,"Agent Harry"]
[null,"CL00844","2012-01-03T21:12:00.066","Software","North","Individual",64,"Yes",2.2999999999999998,0,"Agent Bond"]
[null,"CL00845","2012-01-03T21:16:48.711","Software","West","Individual",74,"Yes",3,0,"Agent Harry"]
[null,"CL00846","2012-01-03T21:20:07.705","Desktop","West","Individual",59,"Yes",2.9,0,"Agent Mary"]
[null,"CL00847","2012-01-03T21:24:58.156","Accessories","North","Large Corporate",86,"Yes",2.7,250,"Agent Mary"]
[null,"CL00848","2012-01-03T21:29:47.158","Misc.","Mid-west","Individual",68,"Yes",3.5,170,"Agent Smith"]
[null,"CL00849","2012-01-03T21:34:34.776","Software","South","Large Corporate",75,"Yes",2.9,210,"Agent Vinod"]
[null,"CL00850","2012-01-03T21:35:36.040","Desktop","North","Individual",75,"Yes",3.1,230,"Agent Harry"]
[null,"CL00851","2012-01-03T21:41:00.586","Monitor","East","Large Corporate",70,"Yes",3.6,190,"Agent Harry"]
[null,"CL00852","2012-01-03T21:45:05.760","Monitor","West","Individual",78,"Yes",4,0,"Agent Harry"]
[null,"CL00853","2012-01-03T21:45:22.591","Desktop","North","Large Corporate",76,"Yes",3.1,0,"Agent Neo"]
[null,"CL00854","2012-01-03T21:50:55.756","Accessories","East","SME",96,"Yes",2.9,210,"Agent Harry"]
[null,"CL00855","2012-01-03T21:56:11.016","Software","North","SME",73,"Yes",3.8,160,"Agent Smith"]
[null,"CL00856","2012-01-03T22:00:00.575","Misc.","South","Large Corporate",70,"Yes",2.5,0,"Agent Harry"]
[null,"CL00857","2012-01-04T08:04:25.398","Monitor","South","Large Corporate",78,"Yes",3.1,0,"Agent Vinod"]
[null,"CL00858","2012-01-04T08:05:11.895","Laptop","Mid-west","Non-profit",59,"Yes",2.6,260,"Agent Bond"]
[null,"CL00859","2012-01-04T08:08:48.220","Monitor","South","SME",79,"Yes",2.9,120,"Agent Bond"]
[null,"CL00860","2012-01-04T08:11:26.800","Laptop","West","SME",87,"Yes",3.1,190,"Agent Vinod"]
[null,"CL00861","2012-01-04T08:17:00.541","Laptop","Mid-west","Individual",74,"Yes",3.2,110,"Agent Mary"]
[null,"CL00862","2012-01-04T08:17:23.558","Misc.","North","Large Corporate",83,"Yes",2.5,240,"Agent Neo"]
[null,"CL00863","2012-01-04T08:20:37.643","Accessories","East","Individual",71,"Yes",2.5,0,"Agent Mary"]
[null,"CL00864","2012-01-04T08:26:13.662","Desktop","West","Large Corporate",76,"Yes",3.4,230,"Agent Bond"]
[null,"CL00865","2012-01-04T08:29:51.780","Misc.","North","SME",76,"Yes",3.4,230,"Agent Bond"]
[null,"CL00866","2012-01-04T08:33:47.264","Laptop","East","Non-profit",73,"Yes",2.6,0,"Agent Neo"]
[null,"CL00867","2012-01-04T08:37:27.124","Laptop","South","Large Corporate",65,"Yes",3.8,180,"Agent Bond"]
[null,"CL00868","2012-01-04T08:41:58.268","Laptop","Mid-west","Large Corporate",70,"Yes",3.4,0,"Agent Harry"]
[null,"CL00869","2012-01-04T08:42:45.152","Laptop","South","Non-profit",70,"Yes",3.3,210,"Agent Mary"]
[null,"CL00870","2012-01-04T08:45:35.188","Desktop","South","Non-profit",78,"Yes",3.4,260,"Agent Harry"]
[null,"CL00871","2012-01-04T08:49:54.705","Misc.","West","Individual",68,"Yes",3.4,0,"Agent Harry"]
[null,"CL00872","2012-01-04T08:53:36.116","Misc.","East","Non-profit",68,"Yes",2.2000000000000002,180,"Agent Mary"]
[null,"CL00873","2012-01-04T08:57:50.655","Misc.","North","Large Corporate",58,"Yes",2,0,"Agent Bond"]
[null,"CL00874","2012-01-04T09:03:09.932","Software","Mid-west","Individual",83,"Yes",3.5,160,"Agent Vinod"]
[null,"CL00875","2012-01-04T09:04:08.758","Laptop","Mid-west","Individual",76,"Yes",2.7,220,"Agent Harry"]
[null,"CL00876","2012-01-04T09:07:25.627","Accessories","West","SME",87,"No",2.5,0,"Agent Bond"]
[null,"CL00877","2012-01-04T09:10:00.684","Software","East","Large Corporate",86,"Yes",2.8,0,"Agent Smith"]
[null,"CL00878","2012-01-04T09:13:24.838","Software","East","Individual",66,"Yes",3.6,240,"Agent Mary"]
[null,"CL00879","2012-01-04T09:18:19.787","Software","Mid-west","Individual",79,"Yes",3.7,0,"Agent Neo"]
[null,"CL00880","2012-01-04T09:23:00.240","Laptop","South","Individual",66,"Yes",3.3,260,"Agent Bond"]
[null,"CL00881","2012-01-04T09:26:26.204","Desktop","South","SME",81,"Yes",2.2999999999999998,200,"Agent Vinod"]
[null,"CL00882","2012-01-04T09:27:17.904","Misc.","Mid-west","Large Corporate",81,"Yes",2.4,220,"Agent Neo"]
[null,"CL00883","2012-01-04T09:28:54.277","Laptop","West","Large Corporate",71,"Yes",3.9,0,"Agent Harry"]
[null,"CL00884","2012-01-04T09:29:22.727","Software","North","Individual",76,"Yes",3,0,"Agent Neo"]
[null,"CL00885","2012-01-04T09:34:24.836","Monitor","East","Non-profit",90,"Yes",3.5,0,"Agent Vinod"]
[null,"CL00886","2012-01-04T09:39:48.991","Misc.","South","Non-profit",73,"No",3.6,160,"Agent Neo"]
[null,"CL00887","2012-01-04T09:45:20.243","Laptop","East","SME",75,"Yes",3.9,0,"Agent Harry"]
[null,"CL00888","2012-01-04T09:45:51.439","Desktop","West","Non-profit",78,"Yes",3.1,130,"Agent Vinod"]
[null,"CL00889","2012-01-04T09:48:16.542","Software","East","Individual",81,"Yes",2.7,0,"Agent Mary"]
[null,"CL00890","2012-01-04T09:53:21.117","Misc.","West","SME",74,"Yes",3.2,210,"Agent Smith"]
[null,"CL00891","2012-01-04T09:58:05.985","Monitor","West","Large Corporate",76,"Yes",3.2,220,"Agent Bond"]
[null,"CL00892","2012-01-04T10:02:28.541","Monitor","South","Non-profit",67,"Yes",2.1,170,"Agent Harry"]
[null,"CL00893","2012-01-04T10:07:11.218","Desktop","South","Non-profit",73,"Yes",2.7,190,"Agent Neo"]
[null,"CL00894","2012-01-04T10:11:03.138","Laptop","Mid-west","Individual",76,"Yes",2.2000000000000002,180,"Agent Neo"]
[null,"CL00895","2012-01-04T10:11:48.067","Misc.","South","Individual",76,"Yes",3.2,200,"Agent Neo"]
[null,"CL00896","2012-01-04T10:15:18.430","Desktop","East","Large Corporate",74,"No",3.5,0,"Agent Smith"]
[null,"CL00897","2012-01-04T10:16:28.720","Accessories","West","SME",80,"Yes",2.2999999999999998,220,"Agent Mary"]
[null,"CL00898","2012-01-04T10:17:58.016","Monitor","Mid-west","SME",79,"Yes",2.4,0,"Agent Vinod"]
[null,"CL00899","2012-01-04T10:20:27.100","Desktop","North","Non-profit",84,"Yes",2.6,0,"Agent Neo"]
[null,"CL00900","2012-01-04T10:23:28.562","Software","South","SME",62,"Yes",3.5,0,"Agent Vinod"]
[null,"CL00901","2012-01-04T10:25:37.153","Monitor","South","Individual",77,"No",2.5,110,"Agent Vinod"]
[null,"CL00902","2012-01-04T10:29:41.476","Accessories","Mid-west","Individual",75,"Yes",2.8,0,"Agent Mary"]
[null,"CL00903","2012-01-04T10:30:05.527","Accessories","Mid-west","SME",92,"Yes",2.1,250,"Agent Neo"]
[null,"CL00904","2012-01-04T10:30:13.710","Desktop","East","Non-profit",78,"Yes",2.6,210,"Agent Mary"]
[null,"CL00905","2012-01-04T10:34:53.004","Desktop","North","Individual",66,"Yes",2.9,0,"Agent Mary"]
[null,"CL00906","2012-01-04T10:36:07.912","Laptop","West","Large Corporate",83,"Yes",2,240,"Agent Bond"]
[null,"CL00907","2012-01-04T10:40:16.689","Accessories","East","Non-profit",77,"Yes",3,0,"Agent Vinod"]
[null,"CL00908","2012-01-04T10:42:36.733","Software","Mid-west","Individual",72,"Yes",3.5,260,"Agent Smith"]
[null,"CL00909","2012-01-04T10:43:59.746","Desktop","South","Individual",71,"Yes",3.7,0,"Agent Bond"]
[null,"CL00910","2012-01-04T10:45:45.061","Laptop","West","Individual",68,"Yes",3.1,140,"Agent Neo"]
[null,"CL00911","2012-01-04T10:49:28.046","Accessories","South","Non-profit",73,"Yes",2.2000000000000002,110,"Agent Bond"]
[null,"CL00912","2012-01-04T10:54:30.665","Accessories","South","Non-profit",72,"Yes",3.7,0,"Agent Bond"]
[null,"CL00913","2012-01-04T10:56:57.381","Accessories","East","SME",73,"Yes",3,0,"Agent Bond"]
[null,"CL00914","2012-01-04T10:59:42.337","Monitor","South","Individual",82,"Yes",3.2,150,"Agent Vinod"]
[null,"CL00915","2012-01-04T11:04:16.396","Misc.","Mid-west","SME",80,"Yes",3,220,"Agent Smith"]
[null,"CL00916","2012-01-04T11:07:45.267","Monitor","North","Individual",67,"Yes",3.2,0,"Agent Harry"]
[null,"CL00917","2012-01-04T11:08:39.324","Desktop","East","Non-profit",77,"Yes",3.5,130,"Agent Smith"]
[null,"CL00918","2012-01-04T11:13:16.054","Monitor","North","SME",82,"Yes",3.2,180,"Agent Smith"]
[null,"CL00919","2012-01-04T11:17:05.846","Monitor","South","Large Corporate",72,"Yes",2.7,200,"Agent Bond"]
[null,"CL00920","2012-01-04T11:20:28.541","Laptop","South","Non-profit",98,"Yes",2.9,170,"Agent Neo"]
[null,"CL00921","2012-01-04T11:24:53.723","Software","South","Individual",74,"Yes",2.5,210,"Agent Harry"]
[null,"CL00922","2012-01-04T11:25:06.502","Software","West","Individual",76,"Yes",2.9,220,"Agent Bond"]
[null,"CL00923","2012-01-04T11:27:32.242","Monitor","East","SME",83,"Yes",2.2000000000000002,150,"Agent Bond"]
[null,"CL00924","2012-01-04T11:32:57.396","Desktop","South","SME",81,"Yes",2.7,0,"Agent Neo"]
[null,"CL00925","2012-01-04T11:36:55.992","Desktop","West","Individual",63,"Yes",3,260,"Agent Harry"]
[null,"CL00926","2012-01-04T11:38:06.419","Monitor","South","Non-profit",82,"Yes",3.1,200,"Agent Smith"]
[null,"CL00927","2012-01-04T11:39:06.067","Desktop","East","SME",55,"Yes",3.1,270,"Agent Mary"]
[null,"CL00928","2012-01-04T11:42:51.011","Software","East","SME",86,"Yes",2.5,0,"Agent Vinod"]
[null,"CL00929","2012-01-04T11:44:23.538","Monitor","Mid-west","SME",65,"Yes",3.3,0,"Agent Harry"]
[null,"CL00930","2012-01-04T11:44:25.811","Laptop","East","Large Corporate",88,"Yes",2.5,160,"Agent Bond"]
[null,"CL00931","2012-01-04T11:50:10.531","Monitor","Mid-west","Non-profit",83,"Yes",3.2,240,"Agent Smith"]
[null,"CL00932","2012-01-04T11:52:22.607","Misc.","Mid-west","Large Corporate",85,"Yes",3.2,170,"Agent Neo"]
[null,"CL00933","2012-01-04T11:56:45.575","Monitor","South","Non-profit",86,"Yes",2.8,170,"Agent Neo"]
[null,"CL00934","2012-01-04T11:59:22.080","Accessories","East","Non-profit",70,"Yes",2.9,200,"Agent Smith"]
[null,"CL00935","2012-01-04T11:59:58.787","Misc.","Mid-west","Non-profit",73,"Yes",3.8,0,"Agent Neo"]
[null,"CL00936","2012-01-04T12:05:41.216","Accessories","North","Non-profit",63,"Yes",3,160,"Agent Vinod"]
[null,"CL00937","2012-01-04T12:08:30.090","Monitor","North","SME",59,"Yes",3.3,0,"Agent Mary"]
[null,"CL00938","2012-01-04T12:10:36.436","Laptop","North","SME",78,"Yes",2.4,160,"Agent Harry"]
[null,"CL00939","2012-01-04T12:16:13.115","Software","Mid-west","Individual",74,"Yes",3.9,0,"Agent Smith"]
[null,"CL00940","2012-01-04T12:21:43.559","Laptop","South","Large Corporate",77,"Yes",2.6,0,"Agent Smith"]
[null,"CL00941","2012-01-04T12:26:30.193","Software","Mid-west","SME",80,"Yes",3.4,0,"Agent Vinod"]
[null,"CL00942","2012-01-04T12:27:56.102","Accessories","North","Non-profit",72,"Yes",2.8,170,"Agent Smith"]
[null,"CL00943","2012-01-04T12:29:18.186","Software","North","Large Corporate",48,"Yes",3,0,"Agent Mary"]
[null,"CL00944","2012-01-04T12:30:00.679","Software","South","Individual",51,"Yes",3.2,120,"Agent Smith"]
[null,"CL00945","2012-01-04T12:31:00.888","Misc.","Mid-west","Individual",76,"Yes",3.6,0,"Agent Mary"]
[null,"CL00946","2012-01-04T12:31:09.138","Laptop","South","Non-profit",74,"Yes",3.1,240,"Agent Smith"]
[null,"CL00947","2012-01-04T12:36:40.112","Misc.","East","Individual",72,"Yes",2.7,0,"Agent Bond"]
[null,"CL00948","2012-01-04T12:41:07.438","Laptop","North","SME",77,"Yes",3.3,0,"Agent Harry"]
[null,"CL00949","2012-01-04T12:43:45.080","Software","North","SME",61,"Yes",3.2,0,"Agent Mary"]
[null,"CL00950","2012-01-04T12:48:48.532","Misc.","West","Individual",64,"Yes",2.5,170,"Agent Bond"]
[null,"CL00951","2012-01-04T12:52:24.413","Desktop","Mid-west","Large Corporate",68,"Yes",2.2999999999999998,0,"Agent Bond"]
[null,"CL00952","2012-01-04T12:53:57.608","Misc.","South","SME",72,"Yes",2.8,0,"Agent Harry"]
[null,"CL00953","2012-01-04T12:56:58.054","Accessories","East","SME",76,"Yes",2.9,0,"Agent Vinod"]
[null,"CL00954","2012-01-04T12:58:41.388","Laptop","South","Non-profit",77,"Yes",2.1,0,"Agent Mary"]
[null,"CL00955","2012-01-04T13:02:19.872","Monitor","East","Non-profit",68,"Yes",2.9,0,"Agent Smith"]
[null,"CL00956","2012-01-04T13:04:15.451","Monitor","North","Individual",89,"Yes",2.4,150,"Agent Neo"]
[null,"CL00957","2012-01-04T13:04:31.135","Accessories","North","Individual",81,"Yes",2.9,190,"Agent Vinod"]
[null,"CL00958","2012-01-04T13:06:25.616","Software","East","SME",80,"Yes",3.1,220,"Agent Mary"]
[null,"CL00959","2012-01-04T13:11:55.191","Monitor","Mid-west","Non-profit",69,"No",2.2999999999999998,220,"Agent Vinod"]
[null,"CL00960","2012-01-04T13:17:19.606","Misc.","West","Individual",83,"Yes",2.2999999999999998,220,"Agent Smith"]
[null,"CL00961","2012-01-04T13:18:02.522","Accessories","Mid-west","Large Corporate",73,"Yes",1.9,160,"Agent Mary"]
[null,"CL00962","2012-01-04T13:20:19.040","Monitor","North","SME",79,"Yes",3,0,"Agent Bond"]
[null,"CL00963","2012-01-04T13:24:46.292","Desktop","Mid-west","SME",71,"Yes",2.7,190,"Agent Bond"]
[null,"CL00964","2012-01-04T13:26:52.114","Misc.","West","SME",75,"Yes",3.4,0,"Agent Vinod"]
[null,"CL00965","2012-01-04T13:30:37.612","Software","Mid-west","Large Corporate",78,"Yes",2.9,0,"Agent Mary"]
[null,"CL00966","2012-01-04T13:32:55.684","Accessories","West","Non-profit",94,"Yes",2.5,290,"Agent Harry"]
[null,"CL00967","2012-01-04T13:35:14.879","Laptop","South","SME",76,"No",3.1,0,"Agent Smith"]
[null,"CL00968","2012-01-04T13:38:25.465","Misc.","East","Individual",74,"Yes",2.7,270,"Agent Smith"]
[null,"CL00969","2012-01-04T13:43:21.261","Accessories","West","Large Corporate",74,"Yes",3.4,140,"Agent Vinod"]
[null,"CL00970","2012-01-04T13:48:09.214","Laptop","East","SME",75,"Yes",3.3,240,"Agent Mary"]
[null,"CL00971","2012-01-04T13:52:28.952","Misc.","North","Non-profit",71,"Yes",3.1,270,"Agent Neo"]
[null,"CL00972","2012-01-04T13:53:43.919","Desktop","East","SME",82,"Yes",2.9,210,"Agent Neo"]
[null,"CL00973","2012-01-04T13:58:23.075","Laptop","West","SME",73,"Yes",2.2000000000000002,270,"Agent Neo"]
[null,"CL00974","2012-01-04T13:58:30.369","Monitor","South","Large Corporate",73,"Yes",3,280,"Agent Smith"]
[null,"CL00975","2012-01-04T13:59:11.186","Monitor","East","Large Corporate",72,"Yes",3.4,210,"Agent Smith"]
[null,"CL00976","2012-01-04T13:59:33.249","Desktop","North","Large Corporate",79,"Yes",3.6,0,"Agent Neo"]
[null,"CL00977","2012-01-04T14:04:29.604","Monitor","East","SME",77,"Yes",3.4,0,"Agent Bond"]
[null,"CL00978","2012-01-04T14:05:48.201","Misc.","West","SME",83,"Yes",3.2,180,"Agent Smith"]
[null,"CL00979","2012-01-04T14:05:57.651","Desktop","North","Large Corporate",77,"Yes",2.5,0,"Agent Harry"]
[null,"CL00980","2012-01-04T14:09:40.142","Monitor","South","Large Corporate",79,"Yes",3.2,170,"Agent Vinod"]
[null,"CL00981","2012-01-04T14:10:52.261","Desktop","North","SME",77,"Yes",2.9,170,"Agent Smith"]
[null,"CL00982","2012-01-04T14:11:48.615","Desktop","East","Individual",74,"Yes",2.8,0,"Agent Bond"]
[null,"CL00983","2012-01-04T14:13:58.624","Laptop","Mid-west","SME",70,"Yes",3.1,220,"Agent Harry"]
[null,"CL00984","2012-01-04T14:19:22.672","Desktop","Mid-west","Individual",81,"Yes",2.2000000000000002,240,"Agent Mary"]
[null,"CL00985","2012-01-04T14:23:46.785","Monitor","West","Individual",71,"Yes",2.2999999999999998,140,"Agent Vinod"]
[null,"CL00986","2012-01-04T14:25:24.934","Accessories","North","Individual",69,"Yes",2.7,230,"Agent Smith"]
[null,"CL00987","2012-01-04T14:27:50.561","Desktop","East","Individual",65,"Yes",2.9,0,"Agent Mary"]
[null,"CL00988","2012-01-04T14:28:29.742","Accessories","South","Large Corporate",75,"Yes",3,270,"Agent Smith"]
[null,"CL00989","2012-01-04T14:31:27.806","Monitor","South","SME",87,"Yes",2.9,0,"Agent Bond"]
[null,"CL00990","2012-01-04T14:32:34.501","Laptop","North","Large Corporate",75,"Yes",2.9,170,"Agent Harry"]
[null,"CL00991","2012-01-04T14:33:33.205","Software","Mid-west","Non-profit",67,"Yes",2.4,0,"Agent Harry"]
[null,"CL00992","2012-01-04T14:38:52.744","Accessories","West","Non-profit",81,"Yes",2.4,120,"Agent Vinod"]
[null,"CL00993","2012-01-04T14:43:21.528","Laptop","North","Large Corporate",72,"Yes",2.4,200,"Agent Neo"]
[null,"CL00994","2012-01-04T14:47:15.777","Software","East","Non-profit",70,"Yes",3.3,250,"Agent Neo"]
[null,"CL00995","2012-01-04T14:48:42.348","Desktop","Mid-west","Non-profit",87,"Yes",3.7,180,"Agent Mary"]
[null,"CL00996","2012-01-04T14:51:43.826","Monitor","West","Individual",86,"Yes",2.7,0,"Agent Mary"]
[null,"CL00997","2012-01-04T14:52:15.812","Desktop","South","Non-profit",72,"Yes",2.8,0,"Agent Harry"]
[null,"CL00998","2012-01-04T14:53:26.563","Monitor","South","Large Corporate",80,"Yes",3,180,"Agent Harry"]
[null,"CL00999","2012-01-04T14:53:33.926","Desktop","South","Non-profit",92,"Yes",3,190,"Agent Bond"]
[null,"CL01000","2012-01-04T14:56:47.172","Monitor","Mid-west","Non-profit",79,"Yes",2.5,0,"Agent Bond"]
[null,"CL01001","2012-01-04T14:59:49.932","Accessories","Mid-west","SME",80,"Yes",2.9,200,"Agent Neo"]
[null,"CL01002","2012-01-04T15:00:53.892","Laptop","Mid-west","Large Corporate",82,"Yes",2.9,0,"Agent Neo"]
[null,"CL01003","2012-01-04T15:03:35.393","Monitor","West","SME",68,"Yes",3.2,0,"Agent Bond"]
[null,"CL01004","2012-01-04T15:04:13.274","Misc.","East","Non-profit",63,"Yes",2.9,260,"Agent Harry"]
[null,"CL01005","2012-01-04T15:09:40.575","Accessories","South","Individual",81,"Yes",3.4,240,"Agent Bond"]
[null,"CL01006","2012-01-04T15:11:40.673","Software","East","Individual",74,"Yes",3.4,120,"Agent Smith"]
[null,"CL01007","2012-01-04T15:12:56.774","Accessories","Mid-west","Large Corporate",64,"Yes",3.3,220,"Agent Neo"]
[null,"CL01008","2012-01-04T15:17:13.199","Misc.","Mid-west","SME",82,"Yes",2.9,240,"Agent Harry"]
[null,"CL01009","2012-01-04T15:22:12.096","Software","North","Non-profit",71,"Yes",2.8,0,"Agent Harry"]
[null,"CL01010","2012-01-04T15:27:33.367","Monitor","East","Large Corporate",67,"Yes",3.9,210,"Agent Vinod"]
[null,"CL01011","2012-01-04T15:29:43.454","Monitor","West","Large Corporate",65,"No",2.9,0,"Agent Mary"]
[null,"CL01012","2012-01-04T15:30:35.225","Monitor","Mid-west","Non-profit",51,"Yes",3.4,230,"Agent Smith"]
[null,"CL01013","2012-01-04T15:32:46.769","Monitor","South","SME",72,"Yes",3.5,0,"Agent Smith"]
[null,"CL01014","2012-01-04T15:38:26.004","Misc.","North","Non-profit",77,"Yes",3.5,170,"Agent Vinod"]
[null,"CL01015","2012-01-04T15:44:10.450","Monitor","South","Large Corporate",84,"Yes",3.5,0,"Agent Neo"]
[null,"CL01016","2012-01-04T15:47:02.233","Misc.","East","Non-profit",70,"Yes",2.7,180,"Agent Neo"]
[null,"CL01017","2012-01-04T15:52:09.825","Accessories","North","Non-profit",64,"Yes",3.1,0,"Agent Neo"]
[null,"CL01018","2012-01-04T15:57:04.288","Desktop","East","Individual",68,"Yes",2.9,230,"Agent Smith"]
[null,"CL01019","2012-01-04T16:02:49.851","Laptop","Mid-west","SME",78,"Yes",2.2000000000000002,110,"Agent Vinod"]
[null,"CL01020","2012-01-04T16:05:17.031","Laptop","East","Non-profit",63,"Yes",3.1,0,"Agent Vinod"]
[null,"CL01021","2012-01-04T16:09:13.723","Software","Mid-west","Large Corporate",68,"Yes",1.7,0,"Agent Harry"]
[null,"CL01022","2012-01-04T16:11:44.099","Misc.","West","Individual",83,"Yes",3.2,230,"Agent Harry"]
[null,"CL01023","2012-01-04T16:16:02.430","Accessories","North","Non-profit",69,"Yes",3,220,"Agent Harry"]
[null,"CL01024","2012-01-04T16:18:06.773","Misc.","West","Individual",74,"No",2.5,0,"Agent Smith"]
[null,"CL01025","2012-01-04T16:22:19.108","Laptop","North","Non-profit",83,"Yes",2.9,0,"Agent Harry"]
[null,"CL01026","2012-01-04T16:24:20.657","Laptop","Mid-west","Large Corporate",73,"Yes",2.6,0,"Agent Vinod"]
[null,"CL01027","2012-01-04T16:24:54.446","Accessories","East","Non-profit",78,"Yes",2,180,"Agent Smith"]
[null,"CL01028","2012-01-04T16:25:54.902","Monitor","North","Individual",80,"Yes",3.1,0,"Agent Neo"]
[null,"CL01029","2012-01-04T16:28:53.722","Misc.","South","SME",77,"Yes",3.2,190,"Agent Harry"]
[null,"CL01030","2012-01-04T16:34:06.906","Misc.","East","SME",74,"Yes",3.6,240,"Agent Bond"]
[null,"CL01031","2012-01-04T16:38:46.505","Desktop","East","Non-profit",93,"Yes",2.9,0,"Agent Smith"]
[null,"CL01032","2012-01-04T16:42:04.941","Desktop","Mid-west","Large Corporate",71,"Yes",2.7,140,"Agent Neo"]
[null,"CL01033","2012-01-04T16:42:47.807","Accessories","Mid-west","Non-profit",87,"Yes",2.6,210,"Agent Bond"]
[null,"CL01034","2012-01-04T16:43:12.139","Laptop","North","SME",72,"Yes",2.5,0,"Agent Vinod"]
[null,"CL01035","2012-01-04T16:43:52.775","Misc.","West","Large Corporate",80,"Yes",3.1,140,"Agent Harry"]
[null,"CL01036","2012-01-04T16:45:20.112","Software","East","Large Corporate",73,"Yes",3.8,0,"Agent Bond"]
[null,"CL01037","2012-01-04T16:47:45.513","Misc.","South","Non-profit",65,"Yes",3.2,0,"Agent Neo"]
[null,"CL01038","2012-01-04T16:51:07.572","Accessories","East","Individual",82,"Yes",3.6,270,"Agent Neo"]
[null,"CL01039","2012-01-04T16:54:25.277","Desktop","East","Non-profit",76,"Yes",3.4,200,"Agent Harry"]
[null,"CL01040","2012-01-04T16:55:48.683","Laptop","South","Non-profit",83,"Yes",2.5,0,"Agent Harry"]
[null,"CL01041","2012-01-04T17:00:20.900","Accessories","West","Individual",69,"Yes",3.4,0,"Agent Harry"]
[null,"CL01042","2012-01-04T17:00:54.168","Desktop","North","Large Corporate",83,"Yes",3.7,270,"Agent Vinod"]
[null,"CL01043","2012-01-04T17:04:32.688","Desktop","South","Individual",85,"Yes",2.9,220,"Agent Mary"]
[null,"CL01044","2012-01-04T17:05:42.152","Misc.","Mid-west","Non-profit",83,"Yes",2.7,160,"Agent Smith"]
[null,"CL01045","2012-01-04T17:10:20.426","Desktop","North","SME",84,"Yes",3.7,150,"Agent Harry"]
[null,"CL01046","2012-01-04T17:11:32.253","Misc.","Mid-west","Large Corporate",82,"Yes",3.6,0,"Agent Neo"]
[null,"CL01047","2012-01-04T17:12:48.962","Accessories","North","Individual",81,"Yes",2.9,240,"Agent Neo"]
[null,"CL01048","2012-01-04T17:15:46.117","Laptop","West","Large Corporate",77,"Yes",3.8,180,"Agent Harry"]
[null,"CL01049","2012-01-04T17:21:25.764","Desktop","South","SME",76,"No",2.4,0,"Agent Vinod"]
[null,"CL01050","2012-01-04T17:26:48.316","Accessories","West","Large Corporate",72,"Yes",3,260,"Agent Smith"]
[null,"CL01051","2012-01-04T17:27:38.529","Misc.","South","Non-profit",84,"Yes",2.8,190,"Agent Harry"]
[null,"CL01052","2012-01-04T17:27:57.527","Software","East","Non-profit",63,"No",2.7,180,"Agent Neo"]
[null,"CL01053","2012-01-04T17:33:24.102","Accessories","West","SME",75,"Yes",2.9,0,"Agent Harry"]
[null,"CL01054","2012-01-04T17:36:59.115","Accessories","South","Individual",69,"Yes",2.7,190,"Agent Vinod"]
[null,"CL01055","2012-01-04T17:40:07.217","Software","North","SME",81,"Yes",3.7,190,"Agent Smith"]
[null,"CL01056","2012-01-04T17:44:24.268","Desktop","East","Individual",72,"Yes",3.4,0,"Agent Neo"]
[null,"CL01057","2012-01-04T17:46:48.069","Laptop","Mid-west","Individual",71,"Yes",2.4,230,"Agent Harry"]
[null,"CL01058","2012-01-04T17:49:24.906","Monitor","North","SME",71,"Yes",3.3,0,"Agent Mary"]
[null,"CL01059","2012-01-04T17:51:28.980","Accessories","East","Individual",72,"No",2.5,170,"Agent Smith"]
[null,"CL01060","2012-01-04T17:53:24.214","Laptop","East","Individual",59,"Yes",2.8,0,"Agent Harry"]
[null,"CL01061","2012-01-04T17:57:00.168","Software","North","SME",73,"Yes",3.9,280,"Agent Neo"]
[null,"CL01062","2012-01-04T17:58:00.272","Accessories","South","SME",71,"Yes",2.7,0,"Agent Mary"]
[null,"CL01063","2012-01-04T17:58:43.089","Software","North","SME",77,"Yes",3.5,0,"Agent Harry"]
[null,"CL01064","2012-01-04T18:02:29.521","Laptop","East","Large Corporate",70,"Yes",3.1,200,"Agent Mary"]
[null,"CL01065","2012-01-04T18:06:59.634","Monitor","Mid-west","SME",77,"Yes",2.8,0,"Agent Mary"]
[null,"CL01066","2012-01-04T18:12:24.566","Desktop","North","Large Corporate",72,"Yes",2.7,0,"Agent Vinod"]
[null,"CL01067","2012-01-04T18:18:05.447","Monitor","North","SME",74,"Yes",3.6,0,"Agent Mary"]
[null,"CL01068","2012-01-04T18:19:58.686","Software","South","Non-profit",81,"Yes",2.9,0,"Agent Harry"]
[null,"CL01069","2012-01-04T18:21:59.384","Accessories","North","Non-profit",68,"Yes",3.2,0,"Agent Smith"]
[null,"CL01070","2012-01-04T18:25:50.641","Desktop","Mid-west","Large Corporate",77,"Yes",2.1,310,"Agent Neo"]
[null,"CL01071","2012-01-04T18:26:57.108","Monitor","North","Large Corporate",68,"Yes",3.1,260,"Agent Bond"]
[null,"CL01072","2012-01-04T18:30:45.775","Monitor","South","SME",87,"Yes",2.5,340,"Agent Mary"]
[null,"CL01073","2012-01-04T18:33:21.422","Misc.","South","Large Corporate",70,"Yes",2.7,0,"Agent Neo"]
[null,"CL01074","2012-01-04T18:38:39.013","Misc.","East","Large Corporate",78,"Yes",3.2,270,"Agent Mary"]
[null,"CL01075","2012-01-04T18:41:50.541","Accessories","East","Non-profit",71,"Yes",2.8,0,"Agent Harry"]
[null,"CL01076","2012-01-04T18:44:54.365","Desktop","South","Non-profit",68,"Yes",2.7,220,"Agent Harry"]
[null,"CL01077","2012-01-04T18:45:52.826","Misc.","East","SME",88,"Yes",2.9,0,"Agent Bond"]
[null,"CL01078","2012-01-04T18:51:08.899","Accessories","North","SME",61,"Yes",3.1,260,"Agent Harry"]
[null,"CL01079","2012-01-04T18:52:38.122","Misc.","North","SME",68,"Yes",3.3,180,"Agent Mary"]
[null,"CL01080","2012-01-04T18:54:06.883","Misc.","East","Non-profit",75,"Yes",3.9,180,"Agent Neo"]
[null,"CL01081","2012-01-04T18:59:04.208","Laptop","West","Non-profit",81,"Yes",1.9,0,"Agent Neo"]
[null,"CL01082","2012-01-04T19:00:48.045","Desktop","South","Non-profit",72,"Yes",3.3,180,"Agent Smith"]
[null,"CL01083","2012-01-04T19:02:57.330","Monitor","Mid-west","Individual",90,"Yes",2.7,210,"Agent Mary"]
[null,"CL01084","2012-01-04T19:06:56.942","Accessories","East","Large Corporate",77,"No",2.2000000000000002,170,"Agent Harry"]
[null,"CL01085","2012-01-04T19:08:01.414","Monitor","East","SME",73,"Yes",3.2,180,"Agent Smith"]
[null,"CL01086","2012-01-04T19:08:38.105","Monitor","North","SME",75,"Yes",2.6,200,"Agent Harry"]
[null,"CL01087","2012-01-04T19:11:12.224","Misc.","Mid-west","Individual",78,"Yes",3.3,230,"Agent Vinod"]
[null,"CL01088","2012-01-04T19:15:24.957","Misc.","Mid-west","SME",76,"Yes",2.7,270,"Agent Harry"]
[null,"CL01089","2012-01-04T19:17:37.239","Accessories","West","Non-profit",71,"Yes",4.0999999999999996,180,"Agent Neo"]
[null,"CL01090","2012-01-04T19:18:35.229","Accessories","Mid-west","Non-profit",63,"Yes",3.5,0,"Agent Vinod"]
[null,"CL01091","2012-01-04T19:19:54.602","Misc.","East","Non-profit",77,"Yes",2,200,"Agent Vinod"]
[null,"CL01092","2012-01-04T19:21:37.452","Desktop","South","Large Corporate",74,"Yes",3.8,0,"Agent Mary"]
[null,"CL01093","2012-01-04T19:22:11.385","Monitor","North","Non-profit",77,"Yes",2.9,0,"Agent Bond"]
[null,"CL01094","2012-01-04T19:26:32.972","Misc.","South","Large Corporate",67,"Yes",2.8,190,"Agent Bond"]
[null,"CL01095","2012-01-04T19:31:12.583","Desktop","East","SME",74,"Yes",3.9,150,"Agent Neo"]
[null,"CL01096","2012-01-04T19:32:33.946","Misc.","South","Individual",71,"Yes",3.3,220,"Agent Harry"]
[null,"CL01097","2012-01-04T19:36:09.203","Desktop","East","Large Corporate",66,"Yes",3,0,"Agent Smith"]
[null,"CL01098","2012-01-04T19:40:14.719","Misc.","South","Large Corporate",72,"Yes",2.7,0,"Agent Harry"]
[null,"CL01099","2012-01-04T19:43:59.079","Software","North","SME",74,"Yes",3,0,"Agent Harry"]
[null,"CL01100","2012-01-04T19:48:42.996","Desktop","East","Large Corporate",63,"Yes",2.7,160,"Agent Neo"]
[null,"CL01101","2012-01-04T19:51:29.660","Laptop","West","Large Corporate",83,"Yes",2.7,0,"Agent Vinod"]
[null,"CL01102","2012-01-04T19:55:36.355","Laptop","South","Large Corporate",80,"Yes",2.7,0,"Agent Vinod"]
[null,"CL01103","2012-01-04T19:59:34.732","Accessories","South","Non-profit",59,"No",2.8,170,"Agent Smith"]
[null,"CL01104","2012-01-04T20:01:38.380","Software","West","SME",78,"Yes",2.7,220,"Agent Bond"]
[null,"CL01105","2012-01-04T20:05:05.395","Monitor","Mid-west","Non-profit",82,"Yes",4.0999999999999996,0,"Agent Smith"]
[null,"CL01106","2012-01-04T20:05:44.220","Laptop","East","SME",72,"Yes",2.2999999999999998,230,"Agent Neo"]
[null,"CL01107","2012-01-04T20:06:51.354","Desktop","North","SME",67,"Yes",3.3,190,"Agent Neo"]
[null,"CL01108","2012-01-04T20:07:22.522","Software","South","Non-profit",73,"Yes",3.4,200,"Agent Bond"]
[null,"CL01109","2012-01-04T20:10:58.519","Accessories","North","Large Corporate",71,"Yes",3.8,0,"Agent Vinod"]
[null,"CL01110","2012-01-04T20:12:14.097","Accessories","West","SME",66,"Yes",3.1,150,"Agent Smith"]
[null,"CL01111","2012-01-04T20:12:14.452","Desktop","West","SME",73,"Yes",2.4,0,"Agent Harry"]
[null,"CL01112","2012-01-04T20:13:11.935","Software","East","Non-profit",77,"Yes",2.1,230,"Agent Vinod"]
[null,"CL01113","2012-01-04T20:17:14.606","Monitor","East","Large Corporate",91,"Yes",3.2,0,"Agent Bond"]
[null,"CL01114","2012-01-04T20:18:13.518","Monitor","West","SME",72,"Yes",3.4,0,"Agent Mary"]
[null,"CL01115","2012-01-04T20:23:17.374","Software","Mid-west","Individual",80,"No",3.6,280,"Agent Smith"]
[null,"CL01116","2012-01-04T20:27:47.727","Accessories","West","Large Corporate",79,"Yes",3.3,130,"Agent Vinod"]
[null,"CL01117","2012-01-04T20:28:24.886","Accessories","East","Individual",67,"Yes",3.8,0,"Agent Bond"]
[null,"CL01118","2012-01-04T20:33:48.299","Misc.","West","Non-profit",71,"Yes",2.4,0,"Agent Vinod"]
[null,"CL01119","2012-01-04T20:38:55.432","Desktop","South","Non-profit",74,"Yes",3.3,0,"Agent Smith"]
[null,"CL01120","2012-01-04T20:44:13.442","Software","South","SME",83,"Yes",3,160,"Agent Harry"]
[null,"CL01121","2012-01-04T20:46:50.796","Misc.","East","Individual",89,"Yes",3.2,0,"Agent Vinod"]
[null,"CL01122","2012-01-04T20:51:52.120","Accessories","Mid-west","Non-profit",90,"Yes",3.2,0,"Agent Neo"]
[null,"CL01123","2012-01-04T20:52:51.391","Accessories","South","Large Corporate",77,"Yes",2.9,140,"Agent Bond"]
[null,"CL01124","2012-01-04T20:54:27.500","Accessories","West","Large Corporate",67,"Yes",3.4,110,"Agent Harry"]
[null,"CL01125","2012-01-04T20:59:55.594","Laptop","Mid-west","SME",78,"Yes",3.1,0,"Agent Harry"]
[null,"CL01126","2012-01-04T21:05:29.790","Monitor","West","Non-profit",74,"Yes",2.5,220,"Agent Neo"]
[null,"CL01127","2012-01-04T21:05:40.679","Software","South","Large Corporate",79,"Yes",3,270,"Agent Neo"]
[null,"CL01128","2012-01-04T21:09:34.934","Desktop","Mid-west","Non-profit",68,"Yes",3.1,290,"Agent Smith"]
[null,"CL01129","2012-01-04T21:11:35.682","Monitor","West","Large Corporate",73,"Yes",3.1,0,"Agent Mary"]
[null,"CL01130","2012-01-04T21:11:59.764","Software","Mid-west","Individual",64,"Yes",3.3,190,"Agent Neo"]
[null,"CL01131","2012-01-04T21:14:40.462","Monitor","North","SME",67,"Yes",3,140,"Agent Harry"]
[null,"CL01132","2012-01-04T21:16:37.299","Laptop","North","SME",52,"Yes",2.8,190,"Agent Mary"]
[null,"CL01133","2012-01-04T21:16:41.225","Laptop","North","Large Corporate",78,"Yes",3.3,240,"Agent Mary"]
[null,"CL01134","2012-01-04T21:18:52.323","Misc.","West","SME",76,"Yes",3,0,"Agent Neo"]
[null,"CL01135","2012-01-04T21:21:13.243","Monitor","Mid-west","Individual",65,"Yes",3,0,"Agent Bond"]
[null,"CL01136","2012-01-04T21:23:57.006","Accessories","West","Non-profit",63,"Yes",3.2,170,"Agent Harry"]
[null,"CL01137","2012-01-04T21:27:25.598","Laptop","East","Individual",71,"Yes",3,220,"Agent Mary"]
[null,"CL01138","2012-01-04T21:29:25.643","Accessories","South","SME",79,"No",2.8,0,"Agent Bond"]
[null,"CL01139","2012-01-04T21:31:35.274","Laptop","East","Large Corporate",77,"Yes",2.7,0,"Agent Harry"]
[null,"CL01140","2012-01-04T21:36:57.266","Accessories","South","SME",74,"Yes",2.8,0,"Agent Smith"]
[null,"CL01141","2012-01-04T21:41:56.625","Laptop","South","Individual",80,"Yes",3,270,"Agent Vinod"]
[null,"CL01142","2012-01-04T21:43:58.223","Desktop","West","Large Corporate",77,"Yes",3.3,210,"Agent Smith"]
[null,"CL01143","2012-01-04T21:47:48.591","Misc.","Mid-west","SME",66,"Yes",3.8,240,"Agent Mary"]
[null,"CL01144","2012-01-04T21:50:06.113","Monitor","South","Non-profit",73,"Yes",2.4,120,"Agent Neo"]
[null,"CL01145","2012-01-04T21:52:25.727","Software","East","Non-profit",65,"Yes",2.5,0,"Agent Vinod"]
[null,"CL01146","2012-01-04T21:57:41.328","Laptop","Mid-west","SME",77,"Yes",3.8,0,"Agent Mary"]
[null,"CL01147","2012-01-04T22:00:11.244","Monitor","South","Non-profit",68,"Yes",3.7,150,"Agent Harry"]
[null,"CL01148","2012-01-05T08:01:20.100","Desktop","South","SME",76,"Yes",3.4,300,"Agent Vinod"]
[null,"CL01149","2012-01-05T08:07:01.299","Misc.","North","Large Corporate",66,"Yes",3.5,220,"Agent Neo"]
[null,"CL01150","2012-01-05T08:07:04.952","Laptop","Mid-west","Individual",81,"Yes",2.8,260,"Agent Harry"]
[null,"CL01151","2012-01-05T08:09:41.183","Accessories","North","Large Corporate",75,"Yes",2.4,180,"Agent Smith"]
[null,"CL01152","2012-01-05T08:10:20.146","Monitor","East","Individual",79,"Yes",3.5,300,"Agent Mary"]
[null,"CL01153","2012-01-05T08:13:28.031","Monitor","South","Large Corporate",84,"Yes",2.9,0,"Agent Harry"]
[null,"CL01154","2012-01-05T08:15:57.379","Accessories","Mid-west","Non-profit",70,"Yes",3.2,220,"Agent Smith"]
[null,"CL01155","2012-01-05T08:19:05.913","Desktop","Mid-west","Non-profit",79,"Yes",2.8,0,"Agent Harry"]
[null,"CL01156","2012-01-05T08:24:03.926","Software","North","SME",82,"Yes",3.2,0,"Agent Harry"]
[null,"CL01157","2012-01-05T08:25:55.676","Software","East","Non-profit",66,"Yes",3.7,230,"Agent Neo"]
[null,"CL01158","2012-01-05T08:28:29.949","Misc.","Mid-west","Individual",73,"Yes",2.7,0,"Agent Bond"]
[null,"CL01159","2012-01-05T08:34:00.530","Accessories","Mid-west","SME",90,"Yes",3.2,240,"Agent Harry"]
[null,"CL01160","2012-01-05T08:35:13.499","Monitor","Mid-west","Non-profit",73,"Yes",2,150,"Agent Vinod"]
[null,"CL01161","2012-01-05T08:36:37.756","Laptop","South","SME",84,"Yes",3.5,160,"Agent Harry"]
[null,"CL01162","2012-01-05T08:41:14.699","Desktop","South","Large Corporate",81,"Yes",2.9,210,"Agent Mary"]
[null,"CL01163","2012-01-05T08:42:11.354","Laptop","Mid-west","SME",68,"Yes",2.8,0,"Agent Mary"]
[null,"CL01164","2012-01-05T08:46:35.063","Desktop","South","Large Corporate",82,"Yes",3.5,0,"Agent Neo"]
[null,"CL01165","2012-01-05T08:51:22.083","Misc.","East","SME",73,"Yes",4.3,0,"Agent Neo"]
[null,"CL01166","2012-01-05T08:53:02.092","Software","South","Non-profit",88,"Yes",3.8,120,"Agent Harry"]
[null,"CL01167","2012-01-05T08:57:27.055","Monitor","West","Large Corporate",79,"Yes",2.9,0,"Agent Vinod"]
[null,"CL01168","2012-01-05T09:01:53.263","Software","North","Individual",77,"Yes",3.9,200,"Agent Harry"]
[null,"CL01169","2012-01-05T09:05:09.531","Laptop","East","Large Corporate",83,"Yes",2.6,190,"Agent Vinod"]
[null,"CL01170","2012-01-05T09:10:06.386","Misc.","Mid-west","SME",86,"Yes",3.2,120,"Agent Vinod"]
[null,"CL01171","2012-01-05T09:13:56.186","Laptop","North","SME",75,"Yes",2.5,0,"Agent Harry"]
[null,"CL01172","2012-01-05T09:19:24.964","Monitor","North","Individual",84,"Yes",2.6,240,"Agent Neo"]
[null,"CL01173","2012-01-05T09:23:10.124","Monitor","Mid-west","Individual",83,"Yes",3,200,"Agent Harry"]
[null,"CL01174","2012-01-05T09:24:42.473","Accessories","Mid-west","Non-profit",73,"Yes",3.6,0,"Agent Bond"]
[null,"CL01175","2012-01-05T09:26:32.766","Misc.","West","SME",72,"Yes",2.2999999999999998,0,"Agent Smith"]
[null,"CL01176","2012-01-05T09:31:02.514","Monitor","South","Large Corporate",94,"Yes",3.2,0,"Agent Neo"]
[null,"CL01177","2012-01-05T09:33:09.380","Laptop","South","Individual",77,"Yes",3,250,"Agent Vinod"]
[null,"CL01178","2012-01-05T09:38:19.593","Accessories","East","Non-profit",73,"Yes",3,0,"Agent Mary"]
[null,"CL01179","2012-01-05T09:42:09.376","Software","South","Individual",61,"Yes",2.2000000000000002,0,"Agent Vinod"]
[null,"CL01180","2012-01-05T09:45:48.836","Monitor","South","Individual",77,"Yes",2.5,180,"Agent Bond"]
[null,"CL01181","2012-01-05T09:51:16.657","Laptop","South","SME",69,"Yes",2.1,0,"Agent Vinod"]
[null,"CL01182","2012-01-05T09:55:58.997","Software","East","SME",66,"Yes",2.8,0,"Agent Vinod"]
[null,"CL01183","2012-01-05T09:59:38.639","Misc.","Mid-west","Individual",68,"Yes",2.2000000000000002,0,"Agent Bond"]
[null,"CL01184","2012-01-05T10:04:24.493","Accessories","North","SME",75,"Yes",3.3,0,"Agent Mary"]
[null,"CL01185","2012-01-05T10:08:21.589","Laptop","North","Non-profit",75,"Yes",3.6,0,"Agent Bond"]
[null,"CL01186","2012-01-05T10:09:15.798","Laptop","West","SME",79,"Yes",3.2,0,"Agent Bond"]
[null,"CL01187","2012-01-05T10:10:52.671","Misc.","East","Individual",55,"Yes",2.7,0,"Agent Mary"]
[null,"CL01188","2012-01-05T10:12:13.228","Software","Mid-west","SME",75,"Yes",3.9,150,"Agent Neo"]
[null,"CL01189","2012-01-05T10:13:09.349","Software","South","Non-profit",69,"No",2.7,0,"Agent Smith"]
[null,"CL01190","2012-01-05T10:14:11.846","Monitor","South","Large Corporate",77,"Yes",4,0,"Agent Harry"]
[null,"CL01191","2012-01-05T10:17:17.431","Misc.","Mid-west","Individual",78,"No",2.9,240,"Agent Bond"]
[null,"CL01192","2012-01-05T10:21:23.019","Misc.","Mid-west","SME",80,"No",2.8,0,"Agent Mary"]
[null,"CL01193","2012-01-05T10:21:38.021","Misc.","South","Individual",74,"Yes",3.1,180,"Agent Neo"]
[null,"CL01194","2012-01-05T10:23:53.722","Monitor","South","Non-profit",81,"Yes",3,0,"Agent Neo"]
[null,"CL01195","2012-01-05T10:26:54.896","Monitor","West","Non-profit",74,"Yes",3.6,170,"Agent Harry"]
[null,"CL01196","2012-01-05T10:29:18.619","Accessories","South","Large Corporate",92,"Yes",3.1,190,"Agent Smith"]
[null,"CL01197","2012-01-05T10:34:00.537","Monitor","North","SME",73,"Yes",2.4,0,"Agent Neo"]
[null,"CL01198","2012-01-05T10:34:49.971","Monitor","North","Large Corporate",77,"Yes",3.1,270,"Agent Neo"]
[null,"CL01199","2012-01-05T10:37:00.553","Misc.","East","Individual",72,"Yes",3.6,180,"Agent Neo"]
[null,"CL01200","2012-01-05T10:37:28.233","Monitor","South","SME",81,"Yes",3.3,160,"Agent Bond"]
[null,"CL01201","2012-01-05T10:41:57.202","Monitor","East","Non-profit",73,"Yes",3.1,0,"Agent Smith"]
[null,"CL01202","2012-01-05T10:45:01.017","Monitor","Mid-west","Large Corporate",68,"Yes",2.6,0,"Agent Harry"]
[null,"CL01203","2012-01-05T10:50:17.066","Monitor","South","Non-profit",75,"Yes",1.9,0,"Agent Mary"]
[null,"CL01204","2012-01-05T10:51:44.550","Software","West","SME",68,"Yes",3.1,120,"Agent Neo"]
[null,"CL01205","2012-01-05T10:53:57.348","Accessories","East","SME",74,"Yes",4,240,"Agent Harry"]
[null,"CL01206","2012-01-05T10:59:28.722","Misc.","Mid-west","Individual",74,"Yes",2,0,"Agent Neo"]
[null,"CL01207","2012-01-05T11:03:07.917","Misc.","East","SME",68,"Yes",3.1,180,"Agent Bond"]
[null,"CL01208","2012-01-05T11:07:08.403","Misc.","South","Individual",65,"Yes",3.4,90,"Agent Bond"]
[null,"CL01209","2012-01-05T11:10:55.167","Accessories","Mid-west","SME",68,"Yes",2.9,0,"Agent Smith"]
[null,"CL01210","2012-01-05T11:13:41.813","Laptop","North","Large Corporate",80,"Yes",1.4,190,"Agent Neo"]
[null,"CL01211","2012-01-05T11:15:30.436","Monitor","South","Individual",66,"Yes",3.4,200,"Agent Harry"]
[null,"CL01212","2012-01-05T11:18:50.825","Laptop","East","Large Corporate",67,"Yes",2.9,0,"Agent Mary"]
[null,"CL01213","2012-01-05T11:21:27.274","Misc.","West","Non-profit",84,"Yes",2.9,160,"Agent Harry"]
[null,"CL01214","2012-01-05T11:23:14.005","Desktop","West","Large Corporate",73,"Yes",3.5,210,"Agent Vinod"]
[null,"CL01215","2012-01-05T11:25:48.103","Monitor","West","Individual",67,"Yes",3.1,160,"Agent Neo"]
[null,"CL01216","2012-01-05T11:30:27.814","Laptop","East","SME",74,"Yes",2.1,290,"Agent Neo"]
[null,"CL01217","2012-01-05T11:32:17.584","Laptop","West","SME",69,"Yes",3.1,0,"Agent Neo"]
[null,"CL01218","2012-01-05T11:37:37.555","Software","West","Large Corporate",77,"Yes",3.4,160,"Agent Harry"]
[null,"CL01219","2012-01-05T11:40:51.188","Desktop","Mid-west","Large Corporate",78,"Yes",3.3,220,"Agent Vinod"]
[null,"CL01220","2012-01-05T11:43:37.529","Monitor","East","SME",73,"Yes",2.5,230,"Agent Bond"]
[null,"CL01221","2012-01-05T11:49:21.853","Misc.","East","SME",80,"Yes",2.6,0,"Agent Vinod"]
[null,"CL01222","2012-01-05T11:55:06.501","Laptop","West","Large Corporate",71,"Yes",2.2999999999999998,0,"Agent Mary"]
[null,"CL01223","2012-01-05T11:59:12.604","Monitor","West","SME",72,"Yes",3,0,"Agent Bond"]
[null,"CL01224","2012-01-05T12:01:06.842","Desktop","East","Large Corporate",76,"Yes",3.6,180,"Agent Harry"]
[null,"CL01225","2012-01-05T12:04:55.400","Software","East","SME",69,"Yes",3.2,170,"Agent Vinod"]
[null,"CL01226","2012-01-05T12:09:46.304","Monitor","North","SME",76,"Yes",3.6,0,"Agent Mary"]
[null,"CL01227","2012-01-05T12:15:02.680","Accessories","East","Large Corporate",77,"No",2.7,0,"Agent Vinod"]
[null,"CL01228","2012-01-05T12:15:27.629","Misc.","West","Individual",73,"Yes",2.5,210,"Agent Bond"]
[null,"CL01229","2012-01-05T12:20:03.124","Misc.","Mid-west","SME",83,"Yes",2.6,0,"Agent Bond"]
[null,"CL01230","2012-01-05T12:23:59.724","Desktop","East","Individual",59,"Yes",3.1,0,"Agent Vinod"]
[null,"CL01231","2012-01-05T12:25:38.060","Software","South","Non-profit",87,"Yes",2.9,250,"Agent Neo"]
[null,"CL01232","2012-01-05T12:29:31.598","Desktop","South","Individual",72,"Yes",3.3,0,"Agent Smith"]
[null,"CL01233","2012-01-05T12:33:05.715","Misc.","East","Large Corporate",76,"Yes",3.4,0,"Agent Vinod"]
[null,"CL01234","2012-01-05T12:36:25.274","Accessories","West","Non-profit",84,"Yes",2.2000000000000002,280,"Agent Vinod"]
[null,"CL01235","2012-01-05T12:37:34.598","Misc.","Mid-west","Non-profit",75,"Yes",3.6,0,"Agent Harry"]
[null,"CL01236","2012-01-05T12:40:41.711","Software","South","Individual",85,"No",3.2,230,"Agent Vinod"]
[null,"CL01237","2012-01-05T12:40:58.527","Accessories","West","Non-profit",79,"Yes",3.1,0,"Agent Mary"]
[null,"CL01238","2012-01-05T12:45:09.478","Misc.","East","Large Corporate",95,"Yes",3.1,130,"Agent Harry"]
[null,"CL01239","2012-01-05T12:50:12.387","Misc.","East","Individual",75,"Yes",3.6,0,"Agent Smith"]
[null,"CL01240","2012-01-05T12:54:41.288","Monitor","West","SME",80,"Yes",3.7,110,"Agent Vinod"]
[null,"CL01241","2012-01-05T12:57:44.377","Laptop","Mid-west","SME",84,"Yes",2.8,210,"Agent Vinod"]
[null,"CL01242","2012-01-05T13:00:00.917","Accessories","West","Non-profit",62,"Yes",3,0,"Agent Neo"]
[null,"CL01243","2012-01-05T13:03:58.153","Accessories","South","Non-profit",86,"Yes",3.2,260,"Agent Mary"]
[null,"CL01244","2012-01-05T13:09:28.788","Laptop","North","Non-profit",73,"Yes",3.3,130,"Agent Mary"]
[null,"CL01245","2012-01-05T13:13:55.246","Software","Mid-west","SME",86,"Yes",4.3,200,"Agent Smith"]
[null,"CL01246","2012-01-05T13:16:35.013","Laptop","East","SME",74,"Yes",2.8,270,"Agent Vinod"]
[null,"CL01247","2012-01-05T13:21:22.916","Desktop","East","Individual",60,"Yes",2.8,0,"Agent Harry"]
[null,"CL01248","2012-01-05T13:24:11.344","Accessories","North","Large Corporate",71,"Yes",3.1,180,"Agent Neo"]
[null,"CL01249","2012-01-05T13:25:47.479","Laptop","East","SME",75,"Yes",2.2000000000000002,260,"Agent Bond"]
[null,"CL01250","2012-01-05T13:27:23.047","Desktop","East","SME",58,"Yes",3.7,0,"Agent Mary"]
[null,"CL01251","2012-01-05T13:32:17.452","Software","East","Large Corporate",82,"Yes",3.6,0,"Agent Neo"]
[null,"CL01252","2012-01-05T13:35:15.079","Desktop","West","Non-profit",80,"Yes",2.7,200,"Agent Vinod"]
[null,"CL01253","2012-01-05T13:35:52.874","Software","South","Large Corporate",81,"Yes",2.9,0,"Agent Bond"]
[null,"CL01254","2012-01-05T13:40:54.695","Accessories","North","SME",81,"Yes",3.1,170,"Agent Bond"]
[null,"CL01255","2012-01-05T13:46:26.683","Monitor","West","Individual",65,"Yes",3.3,0,"Agent Mary"]
[null,"CL01256","2012-01-05T13:51:55.718","Accessories","South","Individual",76,"Yes",3.2,0,"Agent Bond"]
[null,"CL01257","2012-01-05T13:54:24.079","Accessories","West","Non-profit",82,"Yes",3.1,180,"Agent Smith"]
[null,"CL01258","2012-01-05T13:59:17.340","Monitor","North","SME",65,"Yes",2.2000000000000002,220,"Agent Harry"]
[null,"CL01259","2012-01-05T14:02:59.328","Misc.","Mid-west","Individual",66,"Yes",2.9,190,"Agent Bond"]
[null,"CL01260","2012-01-05T14:03:33.248","Desktop","North","SME",84,"Yes",3.7,0,"Agent Neo"]
[null,"CL01261","2012-01-05T14:06:53.751","Desktop","North","SME",88,"Yes",3.3,220,"Agent Vinod"]
[null,"CL01262","2012-01-05T14:11:07.603","Monitor","South","Large Corporate",73,"Yes",2.9,260,"Agent Mary"]
[null,"CL01263","2012-01-05T14:12:13.812","Misc.","North","SME",80,"Yes",3.2,210,"Agent Smith"]
[null,"CL01264","2012-01-05T14:17:37.460","Accessories","East","SME",75,"Yes",3.6,0,"Agent Harry"]
[null,"CL01265","2012-01-05T14:21:34.921","Monitor","North","Non-profit",55,"Yes",2.2999999999999998,210,"Agent Neo"]
[null,"CL01266","2012-01-05T14:25:30.113","Laptop","West","Individual",83,"Yes",2.8,220,"Agent Smith"]
[null,"CL01267","2012-01-05T14:30:39.011","Misc.","West","Large Corporate",75,"Yes",3.5,0,"Agent Mary"]
[null,"CL01268","2012-01-05T14:35:16.474","Desktop","North","SME",70,"Yes",2.5,0,"Agent Vinod"]
[null,"CL01269","2012-01-05T14:39:05.764","Software","Mid-west","Individual",80,"Yes",3.5,240,"Agent Harry"]
[null,"CL01270","2012-01-05T14:43:30.076","Desktop","Mid-west","Individual",77,"Yes",2.5,210,"Agent Smith"]
[null,"CL01271","2012-01-05T14:47:11.621","Monitor","North","Individual",87,"Yes",3.2,140,"Agent Vinod"]
[null,"CL01272","2012-01-05T14:47:37.482","Accessories","Mid-west","Non-profit",76,"Yes",1.8,0,"Agent Bond"]
[null,"CL01273","2012-01-05T14:53:16.640","Laptop","North","Non-profit",73,"Yes",3.4,0,"Agent Smith"]
[null,"CL01274","2012-01-05T14:54:41.622","Monitor","East","Large Corporate",65,"Yes",2.7,0,"Agent Mary"]
[null,"CL01275","2012-01-05T14:57:35.056","Misc.","Mid-west","Non-profit",87,"Yes",3.4,210,"Agent Harry"]
[null,"CL01276","2012-01-05T14:59:01.009","Laptop","East","SME",62,"Yes",3.5,0,"Agent Smith"]
[null,"CL01277","2012-01-05T15:03:53.197","Desktop","West","Individual",88,"No",3.5,0,"Agent Vinod"]
[null,"CL01278","2012-01-05T15:07:05.130","Desktop","Mid-west","Large Corporate",64,"Yes",3.4,280,"Agent Neo"]
[null,"CL01279","2012-01-05T15:09:58.155","Monitor","West","Individual",74,"Yes",3.2,180,"Agent Vinod"]
[null,"CL01280","2012-01-05T15:10:17.733","Laptop","West","SME",75,"Yes",2.2000000000000002,120,"Agent Bond"]
[null,"CL01281","2012-01-05T15:12:41.804","Monitor","North","Large Corporate",64,"Yes",3.1,0,"Agent Mary"]
[null,"CL01282","2012-01-05T15:17:24.760","Laptop","Mid-west","Non-profit",74,"Yes",3.1,170,"Agent Harry"]
[null,"CL01283","2012-01-05T15:22:34.285","Monitor","West","Non-profit",61,"Yes",2.7,0,"Agent Vinod"]
[null,"CL01284","2012-01-05T15:27:18.074","Accessories","North","SME",87,"Yes",2.8,180,"Agent Harry"]
[null,"CL01285","2012-01-05T15:30:34.762","Misc.","South","Large Corporate",78,"Yes",3,160,"Agent Smith"]
[null,"CL01286","2012-01-05T15:31:38.092","Laptop","East","SME",86,"Yes",3.1,0,"Agent Harry"]
[null,"CL01287","2012-01-05T15:34:37.276","Misc.","West","SME",82,"Yes",3.3,220,"Agent Neo"]
[null,"CL01288","2012-01-05T15:35:05.765","Monitor","West","Individual",76,"Yes",2.8,230,"Agent Mary"]
[null,"CL01289","2012-01-05T15:35:11.784","Laptop","East","Large Corporate",82,"Yes",3,0,"Agent Mary"]
[null,"CL01290","2012-01-05T15:37:46.841","Accessories","Mid-west","Large Corporate",69,"No",2.9,270,"Agent Neo"]
[null,"CL01291","2012-01-05T15:39:40.474","Misc.","Mid-west","Individual",71,"Yes",2.8,220,"Agent Harry"]
[null,"CL01292","2012-01-05T15:40:17.710","Desktop","South","Individual",69,"Yes",2.7,80,"Agent Mary"]
[null,"CL01293","2012-01-05T15:41:20.341","Monitor","Mid-west","Individual",76,"Yes",3.6,160,"Agent Vinod"]
[null,"CL01294","2012-01-05T15:44:57.651","Monitor","East","Large Corporate",74,"Yes",2.8,0,"Agent Smith"]
[null,"CL01295","2012-01-05T15:50:19.024","Laptop","North","Non-profit",84,"Yes",3.4,0,"Agent Harry"]
[null,"CL01296","2012-01-05T15:51:33.892","Misc.","North","Large Corporate",70,"Yes",2.6,0,"Agent Smith"]
[null,"CL01297","2012-01-05T15:55:27.945","Laptop","North","Non-profit",79,"Yes",2.2999999999999998,0,"Agent Mary"]
[null,"CL01298","2012-01-05T15:56:04.882","Software","North","Large Corporate",79,"Yes",3.4,0,"Agent Vinod"]
[null,"CL01299","2012-01-05T15:56:59.369","Accessories","Mid-west","Non-profit",83,"Yes",2.6,170,"Agent Neo"]
[null,"CL01300","2012-01-05T16:00:32.568","Misc.","South","Large Corporate",65,"Yes",2.7,0,"Agent Mary"]
[null,"CL01301","2012-01-05T16:02:29.809","Accessories","South","Individual",93,"Yes",3.1,70,"Agent Vinod"]
[null,"CL01302","2012-01-05T16:04:23.259","Accessories","Mid-west","Non-profit",69,"Yes",2.9,0,"Agent Smith"]
[null,"CL01303","2012-01-05T16:06:42.105","Accessories","Mid-west","Large Corporate",77,"Yes",2.7,190,"Agent Neo"]
[null,"CL01304","2012-01-05T16:07:49.101","Laptop","Mid-west","Large Corporate",80,"Yes",2.4,220,"Agent Harry"]
[null,"CL01305","2012-01-05T16:08:30.058","Monitor","Mid-west","Individual",71,"Yes",2.9,0,"Agent Bond"]
[null,"CL01306","2012-01-05T16:11:54.992","Misc.","East","Large Corporate",76,"Yes",2.9,0,"Agent Bond"]
[null,"CL01307","2012-01-05T16:12:06.912","Software","Mid-west","SME",72,"Yes",4.2,0,"Agent Harry"]
[null,"CL01308","2012-01-05T16:15:41.680","Laptop","Mid-west","Individual",76,"Yes",2.8,190,"Agent Mary"]
[null,"CL01309","2012-01-05T16:18:33.311","Misc.","South","SME",71,"Yes",3.9,160,"Agent Mary"]
[null,"CL01310","2012-01-05T16:22:18.334","Misc.","West","Individual",68,"Yes",2.1,0,"Agent Neo"]
[null,"CL01311","2012-01-05T16:26:11.320","Desktop","South","Non-profit",82,"Yes",3.6,0,"Agent Mary"]
[null,"CL01312","2012-01-05T16:28:42.303","Misc.","West","Individual",77,"Yes",2.2999999999999998,280,"Agent Neo"]
[null,"CL01313","2012-01-05T16:31:47.218","Software","North","SME",85,"Yes",2.7,200,"Agent Harry"]
[null,"CL01314","2012-01-05T16:34:31.348","Monitor","North","Individual",78,"Yes",2.6,0,"Agent Vinod"]
[null,"CL01315","2012-01-05T16:34:59.739","Monitor","South","Non-profit",81,"Yes",2.5,210,"Agent Bond"]
[null,"CL01316","2012-01-05T16:35:04.478","Laptop","Mid-west","Large Corporate",77,"Yes",3.2,250,"Agent Harry"]
[null,"CL01317","2012-01-05T16:37:32.593","Laptop","North","Non-profit",71,"Yes",3.3,0,"Agent Mary"]
[null,"CL01318","2012-01-05T16:42:15.376","Accessories","South","Non-profit",83,"Yes",2.8,0,"Agent Harry"]
[null,"CL01319","2012-01-05T16:43:48.747","Misc.","East","Non-profit",72,"Yes",3.2,190,"Agent Mary"]
[null,"CL01320","2012-01-05T16:46:00.282","Laptop","North","Individual",79,"Yes",3.1,0,"Agent Harry"]
[null,"CL01321","2012-01-05T16:50:58.231","Accessories","Mid-west","Non-profit",78,"Yes",3.4,190,"Agent Vinod"]
[null,"CL01322","2012-01-05T16:51:51.921","Desktop","Mid-west","SME",70,"Yes",3.3,130,"Agent Vinod"]
[null,"CL01323","2012-01-05T16:53:16.012","Desktop","West","Non-profit",69,"Yes",3.4,170,"Agent Harry"]
[null,"CL01324","2012-01-05T16:57:48.388","Laptop","West","Individual",73,"Yes",3.1,180,"Agent Mary"]
[null,"CL01325","2012-01-05T17:01:53.709","Monitor","South","SME",72,"Yes",2.5,0,"Agent Vinod"]
[null,"CL01326","2012-01-05T17:05:56.031","Desktop","South","Non-profit",74,"Yes",4.2,240,"Agent Mary"]
[null,"CL01327","2012-01-05T17:11:21.733","Software","Mid-west","SME",74,"Yes",3.2,110,"Agent Mary"]
[null,"CL01328","2012-01-05T17:14:33.824","Software","East","Non-profit",78,"Yes",4,170,"Agent Mary"]
[null,"CL01329","2012-01-05T17:19:21.617","Misc.","East","Non-profit",68,"Yes",3.2,0,"Agent Bond"]
[null,"CL01330","2012-01-05T17:24:59.831","Monitor","East","SME",71,"Yes",2.2000000000000002,310,"Agent Harry"]
[null,"CL01331","2012-01-05T17:30:22.421","Misc.","South","SME",81,"Yes",3.3,160,"Agent Smith"]
[null,"CL01332","2012-01-05T17:33:49.527","Monitor","East","Individual",70,"Yes",3.1,0,"Agent Mary"]
[null,"CL01333","2012-01-05T17:38:38.090","Desktop","North","Individual",85,"Yes",2.9,200,"Agent Bond"]
[null,"CL01334","2012-01-05T17:41:12.482","Desktop","Mid-west","Non-profit",75,"Yes",2.9,180,"Agent Bond"]
[null,"CL01335","2012-01-05T17:42:43.859","Accessories","South","SME",57,"Yes",2.2999999999999998,200,"Agent Bond"]
[null,"CL01336","2012-01-05T17:43:09.280","Laptop","West","Non-profit",77,"Yes",2.7,0,"Agent Neo"]
[null,"CL01337","2012-01-05T17:43:22.040","Misc.","Mid-west","Large Corporate",78,"Yes",2.6,220,"Agent Neo"]
[null,"CL01338","2012-01-05T17:44:42.107","Monitor","West","SME",67,"Yes",3.4,220,"Agent Bond"]
[null,"CL01339","2012-01-05T17:50:01.139","Accessories","South","Individual",76,"Yes",3.1,0,"Agent Neo"]
[null,"CL01340","2012-01-05T17:53:41.936","Software","East","Large Corporate",64,"Yes",2.5,0,"Agent Bond"]
[null,"CL01341","2012-01-05T17:58:29.276","Misc.","West","Non-profit",57,"Yes",2.8,180,"Agent Harry"]
[null,"CL01342","2012-01-05T17:58:58.462","Desktop","East","Large Corporate",81,"Yes",2.4,190,"Agent Harry"]
[null,"CL01343","2012-01-05T18:03:21.591","Accessories","West","Individual",81,"Yes",3.7,110,"Agent Harry"]
[null,"CL01344","2012-01-05T18:08:00.009","Accessories","East","Large Corporate",90,"Yes",2.9,200,"Agent Smith"]
[null,"CL01345","2012-01-05T18:10:49.448","Accessories","East","Individual",69,"Yes",2.9,130,"Agent Mary"]
[null,"CL01346","2012-01-05T18:14:57.760","Misc.","South","Non-profit",66,"Yes",2.5,0,"Agent Harry"]
[null,"CL01347","2012-01-05T18:18:35.895","Desktop","North","Individual",68,"No",2.8,0,"Agent Harry"]
[null,"CL01348","2012-01-05T18:20:51.258","Monitor","South","SME",78,"Yes",2.9,0,"Agent Smith"]
[null,"CL01349","2012-01-05T18:25:54.774","Monitor","South","Large Corporate",73,"Yes",2.9,120,"Agent Mary"]
[null,"CL01350","2012-01-05T18:29:57.898","Misc.","Mid-west","Non-profit",84,"Yes",2.4,300,"Agent Bond"]
[null,"CL01351","2012-01-05T18:34:21.778","Monitor","Mid-west","SME",83,"Yes",2.7,170,"Agent Mary"]
[null,"CL01352","2012-01-05T18:38:14.049","Accessories","South","Large Corporate",67,"Yes",2.9,210,"Agent Bond"]
[null,"CL01353","2012-01-05T18:39:07.341","Monitor","West","SME",88,"Yes",3.5,300,"Agent Harry"]
[null,"CL01354","2012-01-05T18:43:05.324","Software","North","Individual",90,"Yes",2.7,220,"Agent Harry"]
[null,"CL01355","2012-01-05T18:47:10.813","Laptop","North","Non-profit",77,"Yes",2.5,0,"Agent Neo"]
[null,"CL01356","2012-01-05T18:52:16.489","Accessories","North","SME",80,"Yes",2.2000000000000002,0,"Agent Mary"]
[null,"CL01357","2012-01-05T18:55:46.104","Laptop","Mid-west","Individual",65,"Yes",4,0,"Agent Neo"]
[null,"CL01358","2012-01-05T18:55:57.469","Laptop","South","SME",61,"Yes",3.5,210,"Agent Vinod"]
[null,"CL01359","2012-01-05T18:58:19.204","Monitor","North","Non-profit",71,"Yes",3.5,300,"Agent Bond"]
[null,"CL01360","2012-01-05T19:02:01.552","Desktop","North","Non-profit",72,"Yes",3.5,0,"Agent Mary"]
[null,"CL01361","2012-01-05T19:07:25.127","Desktop","South","SME",90,"Yes",2.8,190,"Agent Smith"]
[null,"CL01362","2012-01-05T19:09:42.475","Software","North","Individual",67,"Yes",2.8,140,"Agent Mary"]
[null,"CL01363","2012-01-05T19:13:07.199","Laptop","South","Large Corporate",79,"Yes",3.5,180,"Agent Vinod"]
[null,"CL01364","2012-01-05T19:14:19.570","Monitor","South","Non-profit",95,"Yes",2.9,160,"Agent Vinod"]
[null,"CL01365","2012-01-05T19:15:38.387","Misc.","Mid-west","SME",65,"Yes",2.7,230,"Agent Vinod"]
[null,"CL01366","2012-01-05T19:19:15.651","Software","West","SME",84,"Yes",2.8,240,"Agent Harry"]
[null,"CL01367","2012-01-05T19:24:26.089","Misc.","East","SME",78,"Yes",2.9,260,"Agent Bond"]
[null,"CL01368","2012-01-05T19:24:33.629","Laptop","West","Large Corporate",84,"Yes",3.1,270,"Agent Mary"]
[null,"CL01369","2012-01-05T19:24:49.467","Desktop","West","SME",68,"Yes",3.4,0,"Agent Neo"]
[null,"CL01370","2012-01-05T19:29:46.203","Monitor","West","Large Corporate",66,"Yes",2.9,200,"Agent Bond"]
[null,"CL01371","2012-01-05T19:31:47.528","Accessories","North","Large Corporate",73,"Yes",3.1,0,"Agent Mary"]
[null,"CL01372","2012-01-05T19:34:15.373","Desktop","West","Individual",74,"Yes",3.2,140,"Agent Bond"]
[null,"CL01373","2012-01-05T19:35:46.075","Accessories","East","Non-profit",90,"Yes",3,180,"Agent Neo"]
[null,"CL01374","2012-01-05T19:39:27.195","Accessories","East","Large Corporate",66,"Yes",1.8,0,"Agent Harry"]
[null,"CL01375","2012-01-05T19:43:39.879","Monitor","East","SME",79,"Yes",3.5,0,"Agent Mary"]
[null,"CL01376","2012-01-05T19:48:44.518","Misc.","North","Large Corporate",73,"Yes",2.4,0,"Agent Vinod"]
[null,"CL01377","2012-01-05T19:49:05.501","Monitor","North","Individual",72,"Yes",3.9,0,"Agent Mary"]
[null,"CL01378","2012-01-05T19:51:47.412","Monitor","South","Large Corporate",76,"Yes",2.5,0,"Agent Mary"]
[null,"CL01379","2012-01-05T19:56:22.989","Accessories","North","Large Corporate",59,"No",3.7,0,"Agent Harry"]
[null,"CL01380","2012-01-05T19:59:05.435","Laptop","North","Non-profit",78,"Yes",2.4,0,"Agent Harry"]
[null,"CL01381","2012-01-05T20:03:18.879","Misc.","West","Large Corporate",72,"Yes",3.1,190,"Agent Vinod"]
[null,"CL01382","2012-01-05T20:07:40.232","Desktop","West","Individual",60,"Yes",3.1,190,"Agent Vinod"]
[null,"CL01383","2012-01-05T20:07:48.402","Software","North","Non-profit",86,"Yes",2.9,180,"Agent Neo"]
[null,"CL01384","2012-01-05T20:11:52.111","Software","Mid-west","Individual",77,"Yes",2.7,240,"Agent Vinod"]
[null,"CL01385","2012-01-05T20:15:07.275","Monitor","North","Individual",73,"Yes",3.6,180,"Agent Harry"]
[null,"CL01386","2012-01-05T20:20:38.532","Monitor","East","Large Corporate",61,"Yes",3.5,170,"Agent Smith"]
[null,"CL01387","2012-01-05T20:22:56.016","Misc.","South","SME",73,"No",3.4,140,"Agent Neo"]
[null,"CL01388","2012-01-05T20:26:20.904","Laptop","West","Large Corporate",82,"Yes",3.7,130,"Agent Harry"]
[null,"CL01389","2012-01-05T20:27:03.514","Monitor","East","Large Corporate",79,"Yes",2.2000000000000002,0,"Agent Bond"]
[null,"CL01390","2012-01-05T20:27:24.255","Laptop","Mid-west","Individual",75,"Yes",3.7,270,"Agent Mary"]
[null,"CL01391","2012-01-05T20:27:38.622","Monitor","Mid-west","Individual",81,"Yes",3.4,230,"Agent Vinod"]
[null,"CL01392","2012-01-05T20:27:46.368","Laptop","East","Individual",71,"Yes",2.6,220,"Agent Harry"]
[null,"CL01393","2012-01-05T20:32:32.192","Software","West","Non-profit",86,"Yes",3.5,240,"Agent Mary"]
[null,"CL01394","2012-01-05T20:37:49.004","Misc.","Mid-west","SME",71,"No",3.4,0,"Agent Smith"]
[null,"CL01395","2012-01-05T20:39:13.101","Laptop","South","SME",78,"Yes",2.7,0,"Agent Smith"]
[null,"CL01396","2012-01-05T20:41:41.501","Monitor","East","Large Corporate",73,"Yes",3.4,0,"Agent Harry"]
[null,"CL01397","2012-01-05T20:45:33.513","Accessories","East","Individual",67,"No",3.4,170,"Agent Bond"]
[null,"CL01398","2012-01-05T20:45:48.812","Software","South","SME",70,"Yes",2.7,0,"Agent Harry"]
[null,"CL01399","2012-01-05T20:46:18.183","Software","Mid-west","Individual",82,"Yes",2.9,0,"Agent Bond"]
[null,"CL01400","2012-01-05T20:51:38.499","Monitor","South","Non-profit",66,"Yes",2.8,0,"Agent Mary"]
[null,"CL01401","2012-01-05T20:52:08.969","Laptop","Mid-west","Non-profit",89,"Yes",2.9,210,"Agent Smith"]
[null,"CL01402","2012-01-05T20:55:43.857","Accessories","East","Individual",77,"Yes",3.5,170,"Agent Mary"]
[null,"CL01403","2012-01-05T20:59:52.842","Software","North","Non-profit",98,"Yes",4.0999999999999996,0,"Agent Mary"]
[null,"CL01404","2012-01-05T21:02:12.019","Monitor","South","Non-profit",80,"Yes",3.3,150,"Agent Mary"]
[null,"CL01405","2012-01-05T21:07:03.084","Desktop","Mid-west","Non-profit",71,"Yes",3.6,240,"Agent Mary"]
[null,"CL01406","2012-01-05T21:10:48.730","Laptop","North","Large Corporate",88,"Yes",2.4,0,"Agent Harry"]
[null,"CL01407","2012-01-05T21:14:43.022","Software","South","Large Corporate",69,"Yes",2,0,"Agent Bond"]
[null,"CL01408","2012-01-05T21:17:21.834","Monitor","West","Individual",70,"Yes",3.4,0,"Agent Vinod"]
[null,"CL01409","2012-01-05T21:20:55.843","Monitor","West","SME",58,"Yes",3.2,180,"Agent Harry"]
[null,"CL01410","2012-01-05T21:25:21.911","Accessories","North","SME",71,"Yes",3.3,120,"Agent Bond"]
[null,"CL01411","2012-01-05T21:27:55.734","Misc.","East","Large Corporate",74,"No",2.8,130,"Agent Mary"]
[null,"CL01412","2012-01-05T21:27:58.805","Monitor","North","SME",62,"Yes",2.2999999999999998,170,"Agent Smith"]
[null,"CL01413","2012-01-05T21:31:16.952","Misc.","West","Large Corporate",70,"Yes",2.7,0,"Agent Vinod"]
[null,"CL01414","2012-01-05T21:34:19.069","Monitor","Mid-west","Large Corporate",81,"Yes",2.5,0,"Agent Smith"]
[null,"CL01415","2012-01-05T21:37:31.045","Misc.","West","Large Corporate",84,"Yes",2.7,0,"Agent Mary"]
[null,"CL01416","2012-01-05T21:37:48.474","Accessories","East","SME",87,"Yes",3,320,"Agent Vinod"]
[null,"CL01417","2012-01-05T21:39:57.875","Desktop","West","SME",76,"Yes",4,0,"Agent Smith"]
[null,"CL01418","2012-01-05T21:42:28.005","Software","East","Large Corporate",75,"Yes",3.2,200,"Agent Mary"]
[null,"CL01419","2012-01-05T21:44:50.372","Desktop","South","Large Corporate",81,"Yes",3.3,130,"Agent Vinod"]
[null,"CL01420","2012-01-05T21:49:35.536","Misc.","North","Individual",70,"Yes",3.3,150,"Agent Vinod"]
[null,"CL01421","2012-01-05T21:54:03.551","Software","East","Large Corporate",76,"Yes",3.8,150,"Agent Smith"]
[null,"CL01422","2012-01-05T21:54:24.619","Desktop","North","Individual",67,"Yes",3,190,"Agent Neo"]
[null,"CL01423","2012-01-05T21:59:12.874","Software","South","SME",70,"Yes",2.9,0,"Agent Vinod"]
[null,"CL01424","2012-01-05T22:01:55.139","Software","West","Large Corporate",76,"Yes",2.6,120,"Agent Smith"]
[null,"CL01425","2012-01-06T08:03:48.146","Misc.","West","SME",70,"Yes",2.1,0,"Agent Bond"]
[null,"CL01426","2012-01-06T08:07:12.179","Misc.","South","SME",70,"Yes",3,210,"Agent Neo"]
[null,"CL01427","2012-01-06T08:11:58.460","Software","North","SME",77,"Yes",2.4,0,"Agent Harry"]
[null,"CL01428","2012-01-06T08:17:05.951","Desktop","West","SME",89,"Yes",3,0,"Agent Harry"]
[null,"CL01429","2012-01-06T08:19:29.517","Laptop","Mid-west","Non-profit",74,"Yes",3,0,"Agent Bond"]
[null,"CL01430","2012-01-06T08:21:29.353","Misc.","Mid-west","Individual",69,"Yes",3,200,"Agent Mary"]
[null,"CL01431","2012-01-06T08:25:06.680","Desktop","North","Non-profit",64,"Yes",3.6,0,"Agent Harry"]
[null,"CL01432","2012-01-06T08:28:14.502","Laptop","Mid-west","Large Corporate",90,"Yes",3.5,0,"Agent Harry"]
[null,"CL01433","2012-01-06T08:29:52.733","Desktop","North","Non-profit",76,"Yes",4.2,220,"Agent Mary"]
[null,"CL01434","2012-01-06T08:31:13.065","Desktop","West","Non-profit",71,"Yes",3.3,260,"Agent Vinod"]
[null,"CL01435","2012-01-06T08:34:55.929","Laptop","North","SME",75,"Yes",2.7,0,"Agent Neo"]
[null,"CL01436","2012-01-06T08:38:02.984","Misc.","North","Individual",73,"Yes",3.3,130,"Agent Harry"]
[null,"CL01437","2012-01-06T08:40:40.874","Monitor","East","Individual",61,"Yes",3,0,"Agent Smith"]
[null,"CL01438","2012-01-06T08:42:19.146","Software","Mid-west","Non-profit",59,"Yes",2.8,190,"Agent Mary"]
[null,"CL01439","2012-01-06T08:47:46.406","Misc.","North","Large Corporate",91,"Yes",2.7,220,"Agent Vinod"]
[null,"CL01440","2012-01-06T08:50:20.493","Desktop","Mid-west","Large Corporate",80,"Yes",3.3,210,"Agent Harry"]
[null,"CL01441","2012-01-06T08:53:04.996","Monitor","Mid-west","Large Corporate",65,"Yes",3,0,"Agent Bond"]
[null,"CL01442","2012-01-06T08:56:40.512","Laptop","North","Non-profit",67,"Yes",2.7,220,"Agent Mary"]
[null,"CL01443","2012-01-06T08:58:08.529","Desktop","West","Individual",77,"Yes",3.6,310,"Agent Neo"]
[null,"CL01444","2012-01-06T09:00:26.903","Misc.","East","SME",74,"Yes",3.4,220,"Agent Bond"]
[null,"CL01445","2012-01-06T09:05:23.643","Monitor","West","Large Corporate",73,"Yes",2.2000000000000002,0,"Agent Harry"]
[null,"CL01446","2012-01-06T09:06:01.697","Software","West","Large Corporate",66,"Yes",3.1,150,"Agent Mary"]
[null,"CL01447","2012-01-06T09:08:13.692","Accessories","West","SME",69,"Yes",3.6,0,"Agent Bond"]
[null,"CL01448","2012-01-06T09:09:43.597","Misc.","South","SME",60,"Yes",3.5,0,"Agent Smith"]
[null,"CL01449","2012-01-06T09:12:14.613","Misc.","East","Large Corporate",78,"Yes",3.2,0,"Agent Harry"]
[null,"CL01450","2012-01-06T09:15:04.259","Software","South","Non-profit",73,"No",2.7,200,"Agent Vinod"]
[null,"CL01451","2012-01-06T09:20:27.607","Misc.","South","Large Corporate",76,"Yes",2.8,0,"Agent Harry"]
[null,"CL01452","2012-01-06T09:22:09.598","Software","South","Large Corporate",62,"Yes",3.7,190,"Agent Vinod"]
[null,"CL01453","2012-01-06T09:23:54.390","Misc.","West","SME",78,"Yes",2.2999999999999998,270,"Agent Smith"]
[null,"CL01454","2012-01-06T09:28:37.958","Misc.","North","Large Corporate",84,"Yes",2.4,0,"Agent Mary"]
[null,"CL01455","2012-01-06T09:28:55.380","Monitor","East","SME",84,"Yes",2.6,0,"Agent Neo"]
[null,"CL01456","2012-01-06T09:32:37.670","Laptop","Mid-west","SME",71,"Yes",2.7,0,"Agent Harry"]
[null,"CL01457","2012-01-06T09:37:20.291","Monitor","South","Large Corporate",81,"Yes",2.8,140,"Agent Neo"]
[null,"CL01458","2012-01-06T09:40:13.273","Misc.","East","Individual",73,"Yes",2.6,80,"Agent Mary"]
[null,"CL01459","2012-01-06T09:45:58.734","Software","North","SME",88,"Yes",3,180,"Agent Neo"]
[null,"CL01460","2012-01-06T09:48:29.944","Accessories","Mid-west","Non-profit",85,"Yes",3,0,"Agent Vinod"]
[null,"CL01461","2012-01-06T09:52:18.713","Laptop","Mid-west","Non-profit",71,"Yes",2.5,260,"Agent Smith"]
[null,"CL01462","2012-01-06T09:54:50.628","Desktop","South","Non-profit",74,"Yes",2.9,290,"Agent Mary"]
[null,"CL01463","2012-01-06T09:55:35.454","Accessories","South","SME",74,"Yes",2.8,0,"Agent Neo"]
[null,"CL01464","2012-01-06T09:59:28.505","Software","North","Individual",67,"No",3.5,0,"Agent Neo"]
[null,"CL01465","2012-01-06T10:01:29.191","Misc.","East","Individual",75,"Yes",3.2,220,"Agent Harry"]
[null,"CL01466","2012-01-06T10:02:22.760","Accessories","Mid-west","SME",74,"Yes",3.2,160,"Agent Neo"]
[null,"CL01467","2012-01-06T10:06:45.953","Misc.","Mid-west","Individual",73,"Yes",2.4,220,"Agent Vinod"]
[null,"CL01468","2012-01-06T10:10:19.019","Laptop","Mid-west","Non-profit",69,"Yes",2.4,220,"Agent Smith"]
[null,"CL01469","2012-01-06T10:10:59.198","Accessories","West","Individual",59,"Yes",2.6,240,"Agent Vinod"]
[null,"CL01470","2012-01-06T10:11:17.305","Software","Mid-west","Non-profit",84,"Yes",2.9,200,"Agent Harry"]
[null,"CL01471","2012-01-06T10:16:41.708","Monitor","North","Non-profit",75,"Yes",2.4,0,"Agent Neo"]
[null,"CL01472","2012-01-06T10:19:49.629","Desktop","Mid-west","Large Corporate",78,"Yes",2.4,0,"Agent Harry"]
[null,"CL01473","2012-01-06T10:24:12.258","Monitor","North","SME",62,"Yes",3.1,210,"Agent Vinod"]
[null,"CL01474","2012-01-06T10:29:10.740","Monitor","Mid-west","Individual",84,"Yes",3.6,240,"Agent Smith"]
[null,"CL01475","2012-01-06T10:29:56.182","Desktop","West","Large Corporate",81,"Yes",3.6,240,"Agent Mary"]
[null,"CL01476","2012-01-06T10:31:31.249","Monitor","Mid-west","Individual",88,"Yes",3.4,290,"Agent Bond"]
[null,"CL01477","2012-01-06T10:36:55.599","Accessories","North","SME",70,"Yes",2.8,0,"Agent Vinod"]
[null,"CL01478","2012-01-06T10:37:19.430","Monitor","North","Large Corporate",71,"Yes",2.9,200,"Agent Smith"]
[null,"CL01479","2012-01-06T10:40:17.914","Laptop","Mid-west","SME",81,"Yes",3.5,170,"Agent Vinod"]
[null,"CL01480","2012-01-06T10:45:20.747","Desktop","East","Non-profit",67,"Yes",2.5,0,"Agent Smith"]
[null,"CL01481","2012-01-06T10:45:54.722","Desktop","North","Large Corporate",83,"Yes",2.7,160,"Agent Neo"]
[null,"CL01482","2012-01-06T10:51:31.982","Accessories","West","Individual",74,"Yes",3.6,240,"Agent Vinod"]
[null,"CL01483","2012-01-06T10:57:09.363","Monitor","Mid-west","Individual",67,"Yes",1.9,190,"Agent Vinod"]
[null,"CL01484","2012-01-06T11:01:57.794","Accessories","South","Non-profit",82,"No",2.6,220,"Agent Neo"]
[null,"CL01485","2012-01-06T11:07:06.060","Desktop","Mid-west","Large Corporate",83,"Yes",2,220,"Agent Neo"]
[null,"CL01486","2012-01-06T11:10:41.939","Accessories","South","Individual",94,"Yes",3.1,170,"Agent Mary"]
[null,"CL01487","2012-01-06T11:16:13.090","Monitor","West","SME",84,"Yes",2.1,0,"Agent Bond"]
[null,"CL01488","2012-01-06T11:20:14.249","Accessories","North","Large Corporate",84,"Yes",3.5,190,"Agent Vinod"]
[null,"CL01489","2012-01-06T11:21:41.407","Accessories","East","Large Corporate",62,"Yes",3.4,190,"Agent Neo"]
[null,"CL01490","2012-01-06T11:25:02.838","Monitor","East","SME",77,"Yes",2.6,0,"Agent Bond"]
[null,"CL01491","2012-01-06T11:25:16.225","Software","West","Individual",76,"Yes",3.4,0,"Agent Smith"]
[null,"CL01492","2012-01-06T11:25:19.541","Accessories","East","SME",83,"Yes",2.1,200,"Agent Harry"]
[null,"CL01493","2012-01-06T11:26:10.277","Monitor","East","Large Corporate",78,"Yes",3.1,200,"Agent Bond"]
[null,"CL01494","2012-01-06T11:29:25.847","Desktop","South","Large Corporate",71,"Yes",3.3,0,"Agent Bond"]
[null,"CL01495","2012-01-06T11:32:36.264","Monitor","South","Individual",75,"Yes",3.5,120,"Agent Bond"]
[null,"CL01496","2012-01-06T11:35:08.847","Misc.","East","Large Corporate",88,"Yes",3.7,280,"Agent Vinod"]
[null,"CL01497","2012-01-06T11:35:31.157","Misc.","West","Individual",75,"Yes",2.8,200,"Agent Vinod"]
[null,"CL01498","2012-01-06T11:37:26.452","Monitor","East","Individual",78,"Yes",3.1,170,"Agent Harry"]
[null,"CL01499","2012-01-06T11:42:39.518","Misc.","East","Individual",82,"No",2.9,230,"Agent Harry"]
[null,"CL01500","2012-01-06T11:44:16.650","Laptop","South","SME",72,"Yes",3.4,190,"Agent Mary"]
[null,"CL01501","2012-01-06T11:47:19.042","Desktop","South","Non-profit",92,"Yes",2.7,200,"Agent Vinod"]
[null,"CL01502","2012-01-06T11:50:49.641","Laptop","North","Non-profit",77,"Yes",3,0,"Agent Mary"]
[null,"CL01503","2012-01-06T11:54:36.802","Desktop","East","Large Corporate",75,"Yes",4.0999999999999996,200,"Agent Vinod"]
[null,"CL01504","2012-01-06T11:59:18.647","Misc.","Mid-west","Non-profit",60,"Yes",3.7,160,"Agent Vinod"]
[null,"CL01505","2012-01-06T12:01:11.475","Misc.","South","SME",72,"Yes",3,250,"Agent Vinod"]
[null,"CL01506","2012-01-06T12:01:26.925","Accessories","South","Large Corporate",86,"Yes",3.5,220,"Agent Neo"]
[null,"CL01507","2012-01-06T12:02:16.937","Desktop","South","Non-profit",75,"Yes",3.3,0,"Agent Vinod"]
[null,"CL01508","2012-01-06T12:04:10.651","Accessories","North","Individual",86,"Yes",2.8,210,"Agent Smith"]
[null,"CL01509","2012-01-06T12:07:36.801","Laptop","West","Large Corporate",77,"Yes",2.7,0,"Agent Neo"]
[null,"CL01510","2012-01-06T12:09:40.682","Laptop","North","Individual",94,"Yes",3,260,"Agent Smith"]
[null,"CL01511","2012-01-06T12:09:58.741","Misc.","West","Large Corporate",85,"Yes",2.8,190,"Agent Vinod"]
[null,"CL01512","2012-01-06T12:11:51.219","Monitor","North","Individual",62,"Yes",3.4,0,"Agent Mary"]
[null,"CL01513","2012-01-06T12:17:14.384","Accessories","South","Large Corporate",85,"Yes",4.3,190,"Agent Smith"]
[null,"CL01514","2012-01-06T12:22:32.638","Misc.","Mid-west","Non-profit",61,"Yes",2.9,0,"Agent Vinod"]
[null,"CL01515","2012-01-06T12:25:06.548","Monitor","Mid-west","Large Corporate",69,"Yes",3.4,80,"Agent Vinod"]
[null,"CL01516","2012-01-06T12:27:32.118","Laptop","South","Individual",84,"No",3.1,120,"Agent Vinod"]
[null,"CL01517","2012-01-06T12:30:36.061","Monitor","South","Non-profit",79,"Yes",3.2,200,"Agent Bond"]
[null,"CL01518","2012-01-06T12:34:45.662","Desktop","South","Individual",73,"Yes",3,170,"Agent Neo"]
[null,"CL01519","2012-01-06T12:35:38.979","Accessories","East","Non-profit",86,"Yes",3.4,160,"Agent Bond"]
[null,"CL01520","2012-01-06T12:39:23.541","Monitor","North","Large Corporate",61,"Yes",3.3,220,"Agent Vinod"]
[null,"CL01521","2012-01-06T12:40:31.356","Misc.","North","SME",85,"Yes",3.7,0,"Agent Vinod"]
[null,"CL01522","2012-01-06T12:44:22.278","Monitor","East","SME",75,"Yes",3.1,150,"Agent Smith"]
[null,"CL01523","2012-01-06T12:47:46.163","Desktop","North","SME",93,"Yes",2.5,230,"Agent Harry"]
[null,"CL01524","2012-01-06T12:52:03.341","Misc.","North","Individual",79,"Yes",2.6,200,"Agent Neo"]
[null,"CL01525","2012-01-06T12:55:13.659","Desktop","East","SME",73,"Yes",3.3,200,"Agent Smith"]
[null,"CL01526","2012-01-06T12:56:21.816","Software","North","Non-profit",74,"Yes",2.9,180,"Agent Vinod"]
[null,"CL01527","2012-01-06T12:58:36.383","Monitor","North","SME",83,"Yes",3.2,120,"Agent Smith"]
[null,"CL01528","2012-01-06T13:01:15.528","Misc.","North","Large Corporate",73,"Yes",2.8,0,"Agent Neo"]
[null,"CL01529","2012-01-06T13:02:53.867","Accessories","North","Non-profit",77,"Yes",2.9,140,"Agent Harry"]
[null,"CL01530","2012-01-06T13:03:15.769","Software","West","Non-profit",88,"Yes",2.4,220,"Agent Smith"]
[null,"CL01531","2012-01-06T13:08:26.629","Misc.","South","Individual",61,"Yes",3.5,0,"Agent Bond"]
[null,"CL01532","2012-01-06T13:10:01.003","Monitor","East","Individual",77,"Yes",3.6,0,"Agent Harry"]
[null,"CL01533","2012-01-06T13:11:29.534","Accessories","West","Large Corporate",69,"Yes",2.8,230,"Agent Neo"]
[null,"CL01534","2012-01-06T13:15:08.797","Monitor","South","Non-profit",73,"Yes",2.6,230,"Agent Mary"]
[null,"CL01535","2012-01-06T13:16:13.196","Software","North","Large Corporate",71,"No",2.8,0,"Agent Bond"]
[null,"CL01536","2012-01-06T13:18:04.390","Laptop","Mid-west","SME",81,"Yes",4.5,160,"Agent Vinod"]
[null,"CL01537","2012-01-06T13:23:41.741","Misc.","East","Individual",71,"Yes",3.5,170,"Agent Harry"]
[null,"CL01538","2012-01-06T13:25:23.302","Laptop","South","Large Corporate",67,"No",3.6,190,"Agent Neo"]
[null,"CL01539","2012-01-06T13:29:14.104","Misc.","West","Non-profit",79,"Yes",2.6,180,"Agent Bond"]
[null,"CL01540","2012-01-06T13:34:39.549","Desktop","South","SME",74,"Yes",2.2000000000000002,0,"Agent Mary"]
[null,"CL01541","2012-01-06T13:35:28.935","Desktop","North","Large Corporate",91,"No",2.8,180,"Agent Neo"]
[null,"CL01542","2012-01-06T13:40:54.352","Desktop","Mid-west","Non-profit",85,"Yes",3,0,"Agent Harry"]
[null,"CL01543","2012-01-06T13:41:40.592","Desktop","West","SME",63,"Yes",2,220,"Agent Bond"]
[null,"CL01544","2012-01-06T13:45:41.534","Software","West","Individual",67,"Yes",2.9,210,"Agent Harry"]
[null,"CL01545","2012-01-06T13:47:25.899","Misc.","South","Individual",88,"Yes",3.3,180,"Agent Vinod"]
[null,"CL01546","2012-01-06T13:50:15.731","Misc.","East","Individual",67,"Yes",3.6,220,"Agent Vinod"]
[null,"CL01547","2012-01-06T13:54:48.856","Laptop","South","Non-profit",67,"Yes",2.7,200,"Agent Neo"]
[null,"CL01548","2012-01-06T13:56:02.506","Desktop","Mid-west","Individual",77,"Yes",2.6,130,"Agent Smith"]
[null,"CL01549","2012-01-06T13:56:44.504","Monitor","Mid-west","Large Corporate",86,"Yes",2.8,130,"Agent Mary"]
[null,"CL01550","2012-01-06T14:01:00.457","Accessories","South","Individual",70,"Yes",4.2,0,"Agent Bond"]
[null,"CL01551","2012-01-06T14:03:30.498","Monitor","North","SME",68,"Yes",2.9,200,"Agent Harry"]
[null,"CL01552","2012-01-06T14:04:43.961","Desktop","Mid-west","SME",77,"No",3.7,0,"Agent Neo"]
[null,"CL01553","2012-01-06T14:10:23.695","Laptop","East","Large Corporate",72,"No",3.1,0,"Agent Neo"]
[null,"CL01554","2012-01-06T14:12:49.596","Laptop","South","Large Corporate",66,"Yes",3.1,0,"Agent Bond"]
[null,"CL01555","2012-01-06T14:13:01.673","Software","West","Non-profit",58,"Yes",2.8,120,"Agent Bond"]
[null,"CL01556","2012-01-06T14:18:29.520","Monitor","Mid-west","Individual",93,"Yes",2,0,"Agent Bond"]
[null,"CL01557","2012-01-06T14:22:28.308","Desktop","West","Large Corporate",80,"Yes",2.7,0,"Agent Bond"]
[null,"CL01558","2012-01-06T14:27:34.153","Misc.","North","SME",77,"Yes",2.7,150,"Agent Harry"]
[null,"CL01559","2012-01-06T14:29:02.379","Accessories","South","SME",89,"Yes",2.8,150,"Agent Mary"]
[null,"CL01560","2012-01-06T14:34:22.953","Desktop","North","SME",77,"Yes",2,300,"Agent Harry"]
[null,"CL01561","2012-01-06T14:37:35.024","Software","Mid-west","Individual",60,"Yes",3.1,260,"Agent Vinod"]
[null,"CL01562","2012-01-06T14:42:16.452","Accessories","West","Non-profit",73,"No",2.6,0,"Agent Bond"]
[null,"CL01563","2012-01-06T14:45:52.446","Misc.","South","Large Corporate",77,"Yes",2.6,210,"Agent Bond"]
[null,"CL01564","2012-01-06T14:49:17.751","Desktop","West","Individual",76,"Yes",2.6,0,"Agent Vinod"]
[null,"CL01565","2012-01-06T14:53:11.024","Monitor","West","Non-profit",77,"Yes",3.1,220,"Agent Mary"]
[null,"CL01566","2012-01-06T14:53:28.358","Monitor","North","Individual",82,"Yes",3.1,230,"Agent Harry"]
[null,"CL01567","2012-01-06T14:58:14.766","Laptop","West","SME",76,"Yes",3.3,210,"Agent Mary"]
[null,"CL01568","2012-01-06T15:00:24.110","Accessories","West","Individual",71,"Yes",3.3,0,"Agent Smith"]
[null,"CL01569","2012-01-06T15:05:05.351","Desktop","Mid-west","Individual",77,"Yes",2.6,210,"Agent Bond"]
[null,"CL01570","2012-01-06T15:05:19.079","Monitor","West","Non-profit",74,"Yes",2.8,0,"Agent Mary"]
[null,"CL01571","2012-01-06T15:10:53.098","Misc.","East","Non-profit",66,"Yes",3.3,210,"Agent Smith"]
[null,"CL01572","2012-01-06T15:15:32.177","Laptop","South","SME",83,"Yes",2.8,150,"Agent Smith"]
[null,"CL01573","2012-01-06T15:16:36.131","Misc.","West","Non-profit",81,"Yes",3.4,150,"Agent Smith"]
[null,"CL01574","2012-01-06T15:22:16.192","Misc.","South","SME",75,"Yes",2.1,110,"Agent Bond"]
[null,"CL01575","2012-01-06T15:25:50.740","Software","South","Individual",74,"Yes",2.2000000000000002,190,"Agent Neo"]
[null,"CL01576","2012-01-06T15:27:12.916","Accessories","North","Individual",64,"Yes",2,0,"Agent Mary"]
[null,"CL01577","2012-01-06T15:32:55.621","Laptop","East","Large Corporate",81,"Yes",3.1,160,"Agent Smith"]
[null,"CL01578","2012-01-06T15:33:10.489","Software","West","SME",73,"Yes",2.5,0,"Agent Smith"]
[null,"CL01579","2012-01-06T15:36:31.388","Accessories","Mid-west","Individual",79,"Yes",2.8,260,"Agent Smith"]
[null,"CL01580","2012-01-06T15:38:30.092","Desktop","North","SME",67,"Yes",2.4,70,"Agent Harry"]
[null,"CL01581","2012-01-06T15:38:46.655","Accessories","South","Individual",78,"Yes",3.3,0,"Agent Bond"]
[null,"CL01582","2012-01-06T15:42:11.786","Desktop","North","SME",68,"Yes",2.4,0,"Agent Neo"]
[null,"CL01583","2012-01-06T15:44:18.533","Accessories","East","SME",79,"Yes",2.8,210,"Agent Mary"]
[null,"CL01584","2012-01-06T15:44:27.926","Monitor","East","Non-profit",74,"Yes",2.2000000000000002,0,"Agent Harry"]
[null,"CL01585","2012-01-06T15:47:20.275","Software","Mid-west","Large Corporate",75,"Yes",3.1,190,"Agent Neo"]
[null,"CL01586","2012-01-06T15:50:44.052","Monitor","South","SME",77,"No",2.9,0,"Agent Vinod"]
[null,"CL01587","2012-01-06T15:54:32.217","Software","West","Non-profit",65,"Yes",2.8,210,"Agent Vinod"]
[null,"CL01588","2012-01-06T15:56:45.146","Misc.","West","Large Corporate",83,"Yes",3.4,180,"Agent Bond"]
[null,"CL01589","2012-01-06T15:59:40.592","Desktop","West","SME",79,"Yes",2.4,220,"Agent Bond"]
[null,"CL01590","2012-01-06T16:02:01.481","Software","Mid-west","Individual",74,"Yes",2.2999999999999998,190,"Agent Neo"]
[null,"CL01591","2012-01-06T16:05:40.648","Monitor","South","SME",61,"Yes",3.5,160,"Agent Smith"]
[null,"CL01592","2012-01-06T16:08:00.652","Desktop","West","Large Corporate",62,"Yes",3.3,240,"Agent Harry"]
[null,"CL01593","2012-01-06T16:08:12.784","Accessories","South","Non-profit",77,"Yes",3.2,130,"Agent Vinod"]
[null,"CL01594","2012-01-06T16:11:56.688","Monitor","Mid-west","Individual",59,"Yes",3,130,"Agent Vinod"]
[null,"CL01595","2012-01-06T16:17:03.923","Monitor","West","Non-profit",75,"Yes",2.6,160,"Agent Mary"]
[null,"CL01596","2012-01-06T16:19:01.223","Desktop","West","Non-profit",72,"Yes",3.5,360,"Agent Smith"]
[null,"CL01597","2012-01-06T16:23:16.760","Desktop","South","Large Corporate",61,"Yes",2.5,240,"Agent Bond"]
[null,"CL01598","2012-01-06T16:26:09.008","Monitor","East","Individual",89,"Yes",3.1,280,"Agent Vinod"]
[null,"CL01599","2012-01-06T16:26:20.943","Desktop","South","Individual",74,"Yes",3.4,120,"Agent Mary"]
[null,"CL01600","2012-01-06T16:30:29.008","Desktop","East","SME",80,"Yes",2.9,130,"Agent Mary"]
[null,"CL01601","2012-01-06T16:33:44.442","Accessories","South","Individual",88,"Yes",2.8,0,"Agent Mary"]
[null,"CL01602","2012-01-06T16:35:58.595","Desktop","North","Individual",76,"Yes",2.6,290,"Agent Bond"]
[null,"CL01603","2012-01-06T16:37:23.526","Desktop","Mid-west","Non-profit",90,"No",2.8,260,"Agent Harry"]
[null,"CL01604","2012-01-06T16:38:14.510","Misc.","South","SME",79,"Yes",2.8,150,"Agent Bond"]
[null,"CL01605","2012-01-06T16:39:08.718","Laptop","South","Large Corporate",74,"Yes",2.6,240,"Agent Mary"]
[null,"CL01606","2012-01-06T16:42:52.854","Desktop","South","Individual",69,"Yes",3.2,0,"Agent Mary"]
[null,"CL01607","2012-01-06T16:48:14.290","Misc.","Mid-west","Non-profit",78,"Yes",2.4,0,"Agent Vinod"]
[null,"CL01608","2012-01-06T16:50:10.904","Laptop","East","Large Corporate",79,"Yes",3.1,240,"Agent Smith"]
[null,"CL01609","2012-01-06T16:51:44.240","Software","South","Large Corporate",68,"Yes",3.6,0,"Agent Harry"]
[null,"CL01610","2012-01-06T16:54:57.530","Software","West","SME",86,"Yes",2.6,160,"Agent Mary"]
[null,"CL01611","2012-01-06T16:56:50.083","Laptop","North","Large Corporate",67,"Yes",2.7,180,"Agent Neo"]
[null,"CL01612","2012-01-06T17:02:19.443","Monitor","South","Individual",79,"Yes",3.4,0,"Agent Neo"]
[null,"CL01613","2012-01-06T17:06:55.147","Laptop","East","SME",63,"Yes",2.2000000000000002,210,"Agent Harry"]
[null,"CL01614","2012-01-06T17:10:19.704","Monitor","South","SME",71,"Yes",3.7,0,"Agent Bond"]
[null,"CL01615","2012-01-06T17:14:33.794","Misc.","South","Large Corporate",67,"Yes",2.7,0,"Agent Neo"]
[null,"CL01616","2012-01-06T17:16:31.153","Accessories","Mid-west","Large Corporate",73,"Yes",3.7,230,"Agent Mary"]
[null,"CL01617","2012-01-06T17:21:30.832","Laptop","East","Non-profit",80,"Yes",2.7,210,"Agent Harry"]
[null,"CL01618","2012-01-06T17:23:29.361","Accessories","East","Individual",73,"Yes",2.9,170,"Agent Smith"]
[null,"CL01619","2012-01-06T17:29:11.008","Software","East","Large Corporate",72,"No",3.3,0,"Agent Smith"]
[null,"CL01620","2012-01-06T17:32:56.595","Desktop","East","Individual",76,"Yes",3.3,130,"Agent Harry"]
[null,"CL01621","2012-01-06T17:38:03.101","Monitor","North","Individual",70,"Yes",3.2,230,"Agent Bond"]
[null,"CL01622","2012-01-06T17:42:40.068","Monitor","South","Non-profit",86,"Yes",2,0,"Agent Vinod"]
[null,"CL01623","2012-01-06T17:46:39.518","Accessories","West","Large Corporate",61,"Yes",3.2,0,"Agent Harry"]
[null,"CL01624","2012-01-06T17:48:51.271","Laptop","East","Large Corporate",70,"Yes",3.8,0,"Agent Neo"]
[null,"CL01625","2012-01-06T17:49:43.266","Accessories","North","SME",79,"Yes",3.1,170,"Agent Neo"]
[null,"CL01626","2012-01-06T17:53:27.546","Misc.","South","Large Corporate",82,"Yes",2.9,0,"Agent Bond"]
[null,"CL01627","2012-01-06T17:57:59.277","Monitor","South","Large Corporate",77,"Yes",3.2,160,"Agent Neo"]
[null,"CL01628","2012-01-06T18:00:12.683","Accessories","West","Non-profit",69,"Yes",2.6,90,"Agent Bond"]
[null,"CL01629","2012-01-06T18:04:06.354","Monitor","South","Large Corporate",79,"Yes",3,0,"Agent Smith"]
[null,"CL01630","2012-01-06T18:07:10.694","Laptop","Mid-west","SME",69,"Yes",2,150,"Agent Bond"]
[null,"CL01631","2012-01-06T18:10:30.414","Laptop","North","Large Corporate",66,"Yes",3.3,0,"Agent Smith"]
[null,"CL01632","2012-01-06T18:11:01.693","Laptop","West","Individual",78,"Yes",3.7,250,"Agent Vinod"]
[null,"CL01633","2012-01-06T18:16:41.178","Laptop","North","Non-profit",73,"Yes",3.3,210,"Agent Vinod"]
[null,"CL01634","2012-01-06T18:20:26.680","Monitor","South","Non-profit",85,"Yes",3.3,150,"Agent Harry"]
[null,"CL01635","2012-01-06T18:21:03.518","Misc.","Mid-west","SME",72,"Yes",3.2,210,"Agent Smith"]
[null,"CL01636","2012-01-06T18:23:33.257","Misc.","Mid-west","Large Corporate",78,"Yes",2,240,"Agent Mary"]
[null,"CL01637","2012-01-06T18:27:51.381","Misc.","Mid-west","SME",84,"Yes",3,150,"Agent Vinod"]
[null,"CL01638","2012-01-06T18:29:01.005","Misc.","South","Non-profit",76,"Yes",3.4,200,"Agent Neo"]
[null,"CL01639","2012-01-06T18:29:27.237","Monitor","East","Large Corporate",79,"Yes",3.2,0,"Agent Smith"]
[null,"CL01640","2012-01-06T18:32:16.822","Laptop","Mid-west","SME",78,"Yes",3.4,0,"Agent Bond"]
[null,"CL01641","2012-01-06T18:35:02.238","Monitor","East","Large Corporate",84,"Yes",3.8,0,"Agent Bond"]
[null,"CL01642","2012-01-06T18:38:03.107","Accessories","South","Individual",81,"Yes",2.8,220,"Agent Smith"]
[null,"CL01643","2012-01-06T18:40:07.512","Misc.","South","Large Corporate",60,"Yes",2.8,190,"Agent Vinod"]
[null,"CL01644","2012-01-06T18:41:20.364","Software","North","Individual",77,"Yes",2.4,220,"Agent Mary"]
[null,"CL01645","2012-01-06T18:43:09.004","Desktop","South","SME",66,"Yes",3,0,"Agent Harry"]
[null,"CL01646","2012-01-06T18:45:31.128","Misc.","North","SME",89,"Yes",3.1,200,"Agent Vinod"]
[null,"CL01647","2012-01-06T18:49:14.595","Accessories","North","SME",69,"Yes",2.7,0,"Agent Harry"]
[null,"CL01648","2012-01-06T18:51:20.084","Software","Mid-west","Large Corporate",85,"Yes",2.9,130,"Agent Neo"]
[null,"CL01649","2012-01-06T18:56:38.056","Monitor","East","Large Corporate",68,"Yes",3.7,0,"Agent Harry"]
[null,"CL01650","2012-01-06T19:00:44.855","Misc.","South","Individual",60,"Yes",3.6,250,"Agent Smith"]
[null,"CL01651","2012-01-06T19:01:21.289","Misc.","West","Non-profit",71,"Yes",2.1,0,"Agent Vinod"]
[null,"CL01652","2012-01-06T19:06:29.968","Misc.","South","Non-profit",68,"Yes",3.2,0,"Agent Bond"]
[null,"CL01653","2012-01-06T19:11:53.249","Laptop","West","SME",64,"Yes",2.6,220,"Agent Bond"]
[null,"CL01654","2012-01-06T19:15:37.654","Misc.","South","Individual",80,"Yes",3,200,"Agent Bond"]
[null,"CL01655","2012-01-06T19:19:36.560","Accessories","North","Non-profit",66,"Yes",2.5,220,"Agent Mary"]
[null,"CL01656","2012-01-06T19:22:17.519","Accessories","North","Large Corporate",73,"Yes",2.6,220,"Agent Mary"]
[null,"CL01657","2012-01-06T19:22:42.550","Desktop","North","Non-profit",75,"Yes",2.2000000000000002,220,"Agent Neo"]
[null,"CL01658","2012-01-06T19:27:06.749","Misc.","Mid-west","SME",66,"Yes",3,240,"Agent Smith"]
[null,"CL01659","2012-01-06T19:27:07.071","Misc.","West","Non-profit",73,"Yes",2.2999999999999998,190,"Agent Smith"]
[null,"CL01660","2012-01-06T19:29:20.536","Misc.","Mid-west","Individual",82,"Yes",3.4,0,"Agent Smith"]
[null,"CL01661","2012-01-06T19:31:54.408","Misc.","South","Large Corporate",79,"Yes",2.5,0,"Agent Bond"]
[null,"CL01662","2012-01-06T19:33:05.549","Misc.","North","Individual",89,"Yes",3.1,0,"Agent Harry"]
[null,"CL01663","2012-01-06T19:34:31.771","Monitor","West","SME",76,"Yes",3.4,170,"Agent Bond"]
[null,"CL01664","2012-01-06T19:38:40.112","Desktop","West","Individual",79,"Yes",2.1,130,"Agent Bond"]
[null,"CL01665","2012-01-06T19:43:13.493","Desktop","South","Individual",59,"Yes",2.2000000000000002,0,"Agent Harry"]
[null,"CL01666","2012-01-06T19:45:19.926","Laptop","Mid-west","Non-profit",71,"Yes",4.5,0,"Agent Bond"]
[null,"CL01667","2012-01-06T19:48:16.640","Misc.","North","SME",80,"Yes",2.6,90,"Agent Harry"]
[null,"CL01668","2012-01-06T19:48:26.550","Desktop","Mid-west","Individual",71,"No",3.3,0,"Agent Harry"]
[null,"CL01669","2012-01-06T19:52:20.102","Accessories","North","Large Corporate",94,"Yes",3.4,150,"Agent Neo"]
[null,"CL01670","2012-01-06T19:54:30.961","Accessories","West","SME",68,"No",2.6,0,"Agent Smith"]
[null,"CL01671","2012-01-06T19:59:13.398","Accessories","East","Large Corporate",70,"Yes",2.2000000000000002,140,"Agent Vinod"]
[null,"CL01672","2012-01-06T20:00:10.768","Software","North","Individual",82,"Yes",3.5,0,"Agent Harry"]
[null,"CL01673","2012-01-06T20:01:26.311","Monitor","East","Large Corporate",74,"Yes",3.6,160,"Agent Bond"]
[null,"CL01674","2012-01-06T20:04:27.355","Laptop","South","Individual",55,"Yes",3.5,230,"Agent Neo"]
[null,"CL01675","2012-01-06T20:06:29.776","Laptop","North","Non-profit",84,"Yes",2.1,140,"Agent Neo"]
[null,"CL01676","2012-01-06T20:07:25.658","Accessories","East","Individual",60,"Yes",2.9,210,"Agent Harry"]
[null,"CL01677","2012-01-06T20:07:29.765","Desktop","North","Large Corporate",75,"Yes",3.2,200,"Agent Neo"]
[null,"CL01678","2012-01-06T20:08:12.354","Software","Mid-west","SME",79,"Yes",3.5,0,"Agent Smith"]
[null,"CL01679","2012-01-06T20:13:41.579","Laptop","North","Large Corporate",75,"Yes",3.5,230,"Agent Bond"]
[null,"CL01680","2012-01-06T20:19:22.321","Misc.","West","Non-profit",75,"No",2.9,280,"Agent Mary"]
[null,"CL01681","2012-01-06T20:23:34.635","Accessories","West","Large Corporate",66,"Yes",2.2999999999999998,250,"Agent Smith"]
[null,"CL01682","2012-01-06T20:28:38.642","Accessories","East","Non-profit",77,"Yes",2.9,180,"Agent Harry"]
[null,"CL01683","2012-01-06T20:32:08.409","Misc.","North","SME",76,"Yes",4,0,"Agent Mary"]
[null,"CL01684","2012-01-06T20:33:06.757","Software","Mid-west","Individual",87,"Yes",3.3,0,"Agent Mary"]
[null,"CL01685","2012-01-06T20:35:56.163","Misc.","North","Non-profit",74,"Yes",3.4,240,"Agent Neo"]
[null,"CL01686","2012-01-06T20:37:16.110","Monitor","Mid-west","SME",77,"Yes",3.1,240,"Agent Harry"]
[null,"CL01687","2012-01-06T20:41:53.804","Misc.","Mid-west","Non-profit",75,"Yes",3.4,210,"Agent Vinod"]
[null,"CL01688","2012-01-06T20:45:41.765","Monitor","Mid-west","Large Corporate",80,"Yes",2,230,"Agent Vinod"]
[null,"CL01689","2012-01-06T20:47:10.841","Desktop","North","SME",73,"No",3.2,270,"Agent Harry"]
[null,"CL01690","2012-01-06T20:52:15.466","Accessories","Mid-west","Non-profit",76,"Yes",3.7,180,"Agent Smith"]
[null,"CL01691","2012-01-06T20:56:52.381","Accessories","North","SME",76,"Yes",3.2,290,"Agent Neo"]
[null,"CL01692","2012-01-06T21:00:30.035","Laptop","South","Individual",70,"Yes",2.4,0,"Agent Vinod"]
[null,"CL01693","2012-01-06T21:03:13.786","Monitor","East","SME",63,"Yes",3.1,110,"Agent Vinod"]
[null,"CL01694","2012-01-06T21:07:24.728","Laptop","East","Large Corporate",72,"Yes",3.3,0,"Agent Bond"]
[null,"CL01695","2012-01-06T21:07:26.259","Software","East","SME",76,"Yes",2.5,290,"Agent Harry"]
[null,"CL01696","2012-01-06T21:11:43.985","Monitor","South","SME",80,"Yes",3.3,0,"Agent Smith"]
[null,"CL01697","2012-01-06T21:12:26.852","Monitor","West","Non-profit",69,"Yes",3,250,"Agent Smith"]
[null,"CL01698","2012-01-06T21:16:11.041","Monitor","West","Large Corporate",65,"Yes",2.8,300,"Agent Mary"]
[null,"CL01699","2012-01-06T21:20:56.383","Misc.","West","Large Corporate",89,"Yes",2.8,190,"Agent Mary"]
[null,"CL01700","2012-01-06T21:22:04.699","Misc.","West","Non-profit",64,"Yes",3.3,120,"Agent Vinod"]
[null,"CL01701","2012-01-06T21:24:52.503","Desktop","South","Large Corporate",72,"Yes",4.0999999999999996,210,"Agent Mary"]
[null,"CL01702","2012-01-06T21:27:05.093","Laptop","East","SME",67,"Yes",3.2,100,"Agent Mary"]
[null,"CL01703","2012-01-06T21:29:09.307","Misc.","West","Large Corporate",74,"Yes",2.9,0,"Agent Smith"]
[null,"CL01704","2012-01-06T21:30:56.156","Misc.","West","Non-profit",74,"Yes",2.8,0,"Agent Neo"]
[null,"CL01705","2012-01-06T21:34:46.531","Software","West","SME",77,"Yes",2.8,240,"Agent Harry"]
[null,"CL01706","2012-01-06T21:35:48.096","Misc.","South","Large Corporate",77,"Yes",2.7,250,"Agent Neo"]
[null,"CL01707","2012-01-06T21:36:53.659","Misc.","East","Large Corporate",76,"Yes",3.9,0,"Agent Harry"]
[null,"CL01708","2012-01-06T21:40:14.422","Desktop","West","Large Corporate",69,"Yes",2.8,190,"Agent Vinod"]
[null,"CL01709","2012-01-06T21:45:03.457","Misc.","North","Individual",89,"Yes",3,0,"Agent Neo"]
[null,"CL01710","2012-01-06T21:50:17.860","Misc.","South","Individual",90,"Yes",3.9,330,"Agent Neo"]
[null,"CL01711","2012-01-06T21:54:36.668","Misc.","East","Large Corporate",55,"Yes",3.2,170,"Agent Neo"]
[null,"CL01712","2012-01-06T21:57:49.320","Desktop","Mid-west","Individual",83,"Yes",2.4,0,"Agent Neo"]
[null,"CL01713","2012-01-06T21:58:03.924","Software","North","Individual",55,"Yes",3.1,0,"Agent Mary"]
[null,"CL01714","2012-01-06T22:00:46.001","Monitor","Mid-west","Non-profit",79,"Yes",2.4,0,"Agent Vinod"]
[null,"CL01715","2012-01-07T08:01:24.867","Laptop","South","Non-profit",83,"Yes",3,240,"Agent Smith"]
[null,"CL01716","2012-01-07T08:04:12.004","Monitor","South","Individual",64,"Yes",3.2,0,"Agent Mary"]
[null,"CL01717","2012-01-07T08:09:38.912","Desktop","South","Non-profit",78,"Yes",3,250,"Agent Bond"]
[null,"CL01718","2012-01-07T08:13:24.353","Monitor","West","SME",78,"Yes",3.4,0,"Agent Harry"]
[null,"CL01719","2012-01-07T08:15:28.512","Desktop","Mid-west","Individual",79,"Yes",3.1,0,"Agent Neo"]
[null,"CL01720","2012-01-07T08:15:45.857","Monitor","East","SME",96,"Yes",3.6,120,"Agent Neo"]
[null,"CL01721","2012-01-07T08:20:49.925","Laptop","North","SME",72,"Yes",3,0,"Agent Vinod"]
[null,"CL01722","2012-01-07T08:21:56.627","Monitor","North","Individual",79,"Yes",3.1,260,"Agent Mary"]
[null,"CL01723","2012-01-07T08:25:22.704","Laptop","North","Non-profit",64,"Yes",3.2,130,"Agent Neo"]
[null,"CL01724","2012-01-07T08:27:04.735","Monitor","North","Individual",77,"Yes",3.4,260,"Agent Harry"]
[null,"CL01725","2012-01-07T08:28:33.422","Software","South","Non-profit",80,"Yes",2.7,0,"Agent Mary"]
[null,"CL01726","2012-01-07T08:30:42.585","Misc.","East","Large Corporate",80,"No",3.6,170,"Agent Neo"]
[null,"CL01727","2012-01-07T08:32:27.916","Misc.","Mid-west","Large Corporate",78,"Yes",2.5,220,"Agent Mary"]
[null,"CL01728","2012-01-07T08:33:14.389","Software","South","Individual",59,"Yes",3.4,210,"Agent Bond"]
[null,"CL01729","2012-01-07T08:35:15.511","Monitor","North","Individual",60,"Yes",3.5,180,"Agent Vinod"]
[null,"CL01730","2012-01-07T08:40:58.709","Misc.","Mid-west","Individual",83,"Yes",3,140,"Agent Harry"]
[null,"CL01731","2012-01-07T08:45:34.572","Laptop","South","Non-profit",71,"Yes",3.6,250,"Agent Bond"]
[null,"CL01732","2012-01-07T08:50:18.196","Laptop","West","Non-profit",86,"Yes",3.3,0,"Agent Vinod"]
[null,"CL01733","2012-01-07T08:50:55.659","Monitor","East","Individual",84,"No",3,0,"Agent Neo"]
[null,"CL01734","2012-01-07T08:54:36.117","Laptop","South","SME",77,"Yes",2.4,250,"Agent Bond"]
[null,"CL01735","2012-01-07T08:56:52.772","Laptop","West","SME",72,"Yes",2.2999999999999998,70,"Agent Bond"]
[null,"CL01736","2012-01-07T08:59:27.741","Software","Mid-west","Individual",73,"Yes",3.1,180,"Agent Smith"]
[null,"CL01737","2012-01-07T09:04:56.673","Software","West","Individual",62,"Yes",2.9,190,"Agent Smith"]
[null,"CL01738","2012-01-07T09:05:40.751","Monitor","East","Non-profit",70,"Yes",2.9,260,"Agent Smith"]
[null,"CL01739","2012-01-07T09:06:42.746","Misc.","North","SME",65,"Yes",2.6,190,"Agent Smith"]
[null,"CL01740","2012-01-07T09:07:11.826","Software","North","Large Corporate",76,"Yes",2.8,240,"Agent Vinod"]
[null,"CL01741","2012-01-07T09:08:05.627","Desktop","North","Individual",93,"Yes",3,210,"Agent Mary"]
[null,"CL01742","2012-01-07T09:09:28.044","Misc.","Mid-west","Individual",78,"Yes",3.9,0,"Agent Neo"]
[null,"CL01743","2012-01-07T09:13:49.357","Accessories","Mid-west","Large Corporate",77,"Yes",2.4,0,"Agent Smith"]
[null,"CL01744","2012-01-07T09:17:23.114","Accessories","South","Individual",59,"Yes",3.4,0,"Agent Smith"]
[null,"CL01745","2012-01-07T09:17:26.370","Misc.","North","Large Corporate",67,"Yes",3,150,"Agent Mary"]
[null,"CL01746","2012-01-07T09:18:59.738","Desktop","West","Individual",81,"Yes",3.6,0,"Agent Neo"]
[null,"CL01747","2012-01-07T09:24:25.580","Monitor","West","Individual",71,"Yes",3,190,"Agent Mary"]
[null,"CL01748","2012-01-07T09:25:56.184","Desktop","West","Individual",61,"Yes",2.8,190,"Agent Harry"]
[null,"CL01749","2012-01-07T09:27:55.803","Misc.","West","Non-profit",66,"Yes",3.4,260,"Agent Mary"]
[null,"CL01750","2012-01-07T09:33:21.101","Monitor","East","SME",74,"Yes",3.4,190,"Agent Bond"]
[null,"CL01751","2012-01-07T09:33:53.951","Desktop","Mid-west","Individual",67,"Yes",2.1,220,"Agent Neo"]
[null,"CL01752","2012-01-07T09:36:16.015","Misc.","North","Large Corporate",70,"Yes",3.1,210,"Agent Neo"]
[null,"CL01753","2012-01-07T09:39:47.882","Misc.","East","Non-profit",86,"Yes",3,210,"Agent Smith"]
[null,"CL01754","2012-01-07T09:40:26.268","Monitor","West","Individual",73,"Yes",3.4,280,"Agent Smith"]
[null,"CL01755","2012-01-07T09:42:25.445","Accessories","Mid-west","Non-profit",73,"Yes",3.2,170,"Agent Neo"]
[null,"CL01756","2012-01-07T09:46:03.479","Laptop","South","Large Corporate",75,"Yes",3.1,0,"Agent Bond"]
[null,"CL01757","2012-01-07T09:50:57.553","Monitor","North","Non-profit",74,"Yes",3.1,130,"Agent Neo"]
[null,"CL01758","2012-01-07T09:51:56.976","Accessories","South","Large Corporate",83,"Yes",2.6,200,"Agent Neo"]
[null,"CL01759","2012-01-07T09:54:16.128","Software","West","Individual",73,"Yes",2.8,210,"Agent Bond"]
[null,"CL01760","2012-01-07T09:55:05.232","Software","East","SME",68,"Yes",3,170,"Agent Neo"]
[null,"CL01761","2012-01-07T10:00:14.040","Misc.","East","Non-profit",80,"Yes",3,180,"Agent Smith"]
[null,"CL01762","2012-01-07T10:05:34.290","Software","South","SME",83,"Yes",2.6,150,"Agent Vinod"]
[null,"CL01763","2012-01-07T10:06:17.956","Misc.","West","Non-profit",82,"Yes",2.6,0,"Agent Mary"]
[null,"CL01764","2012-01-07T10:10:29.299","Monitor","East","Individual",69,"Yes",3.4,240,"Agent Neo"]
[null,"CL01765","2012-01-07T10:11:26.061","Monitor","West","Individual",65,"Yes",2.7,0,"Agent Vinod"]
[null,"CL01766","2012-01-07T10:11:34.383","Software","North","SME",70,"Yes",3.2,0,"Agent Vinod"]
[null,"CL01767","2012-01-07T10:14:37.826","Desktop","West","Large Corporate",62,"Yes",2.5,240,"Agent Bond"]
[null,"CL01768","2012-01-07T10:18:01.120","Desktop","North","SME",74,"Yes",3.5,0,"Agent Neo"]
[null,"CL01769","2012-01-07T10:19:49.391","Desktop","West","Individual",82,"Yes",3.2,210,"Agent Vinod"]
[null,"CL01770","2012-01-07T10:21:26.752","Laptop","East","Large Corporate",71,"Yes",3,190,"Agent Bond"]
[null,"CL01771","2012-01-07T10:24:30.681","Misc.","East","SME",67,"Yes",3,220,"Agent Vinod"]
[null,"CL01772","2012-01-07T10:27:25.779","Laptop","East","Individual",71,"Yes",2.4,190,"Agent Smith"]
[null,"CL01773","2012-01-07T10:32:42.995","Laptop","Mid-west","Non-profit",60,"Yes",3.5,150,"Agent Neo"]
[null,"CL01774","2012-01-07T10:36:42.925","Misc.","East","SME",87,"Yes",2.9,0,"Agent Mary"]
[null,"CL01775","2012-01-07T10:39:50.280","Software","South","SME",77,"Yes",2.2999999999999998,170,"Agent Vinod"]
[null,"CL01776","2012-01-07T10:45:31.216","Desktop","West","Individual",74,"Yes",2.6,130,"Agent Smith"]
[null,"CL01777","2012-01-07T10:46:47.266","Monitor","West","SME",75,"Yes",3.6,180,"Agent Bond"]
[null,"CL01778","2012-01-07T10:49:51.878","Software","West","Non-profit",82,"Yes",2.8,70,"Agent Harry"]
[null,"CL01779","2012-01-07T10:49:56.412","Monitor","East","SME",77,"Yes",3.9,240,"Agent Vinod"]
[null,"CL01780","2012-01-07T10:54:51.479","Misc.","South","Large Corporate",66,"Yes",3.2,130,"Agent Vinod"]
[null,"CL01781","2012-01-07T10:57:24.218","Misc.","Mid-west","Non-profit",63,"Yes",3.4,0,"Agent Mary"]
[null,"CL01782","2012-01-07T10:59:46.555","Accessories","North","Large Corporate",83,"Yes",3.1,0,"Agent Neo"]
[null,"CL01783","2012-01-07T11:02:21.462","Accessories","North","Individual",67,"Yes",3.5,0,"Agent Mary"]
[null,"CL01784","2012-01-07T11:05:41.338","Desktop","Mid-west","Large Corporate",80,"Yes",2.6,0,"Agent Mary"]
[null,"CL01785","2012-01-07T11:06:01.542","Desktop","West","Non-profit",70,"Yes",3.3,180,"Agent Bond"]
[null,"CL01786","2012-01-07T11:06:28.819","Laptop","North","Individual",74,"Yes",3,0,"Agent Harry"]
[null,"CL01787","2012-01-07T11:08:38.952","Monitor","West","SME",75,"Yes",2.8,0,"Agent Bond"]
[null,"CL01788","2012-01-07T11:12:41.101","Monitor","Mid-west","Non-profit",71,"Yes",2.8,0,"Agent Harry"]
[null,"CL01789","2012-01-07T11:12:45.893","Laptop","North","Large Corporate",94,"Yes",3.1,0,"Agent Harry"]
[null,"CL01790","2012-01-07T11:18:15.698","Software","East","SME",73,"Yes",3.1,0,"Agent Bond"]
[null,"CL01791","2012-01-07T11:23:54.519","Desktop","Mid-west","Individual",71,"Yes",3.3,0,"Agent Smith"]
[null,"CL01792","2012-01-07T11:24:15.079","Misc.","North","SME",78,"Yes",3.7,140,"Agent Smith"]
[null,"CL01793","2012-01-07T11:26:56.200","Desktop","East","SME",85,"Yes",2.2000000000000002,0,"Agent Smith"]
[null,"CL01794","2012-01-07T11:31:14.817","Laptop","North","Individual",85,"Yes",2.6,0,"Agent Vinod"]
[null,"CL01795","2012-01-07T11:36:14.476","Accessories","West","Large Corporate",81,"Yes",2.2999999999999998,250,"Agent Harry"]
[null,"CL01796","2012-01-07T11:36:22.657","Laptop","East","SME",77,"Yes",2.6,160,"Agent Vinod"]
[null,"CL01797","2012-01-07T11:41:00.792","Misc.","West","SME",89,"Yes",3.6,180,"Agent Smith"]
[null,"CL01798","2012-01-07T11:43:37.961","Desktop","North","Non-profit",82,"Yes",2.2000000000000002,0,"Agent Bond"]
[null,"CL01799","2012-01-07T11:47:52.819","Software","Mid-west","Large Corporate",77,"Yes",2.6,230,"Agent Vinod"]
[null,"CL01800","2012-01-07T11:52:15.190","Monitor","East","Non-profit",91,"Yes",2.8,250,"Agent Bond"]
[null,"CL01801","2012-01-07T11:54:23.602","Software","West","Large Corporate",71,"Yes",2.4,220,"Agent Bond"]
[null,"CL01802","2012-01-07T11:58:20.828","Laptop","Mid-west","Individual",87,"Yes",3.4,190,"Agent Vinod"]
[null,"CL01803","2012-01-07T11:59:48.366","Desktop","North","Individual",79,"Yes",3.1,0,"Agent Smith"]
[null,"CL01804","2012-01-07T12:02:08.035","Desktop","Mid-west","Large Corporate",87,"Yes",2.6,250,"Agent Vinod"]
[null,"CL01805","2012-01-07T12:05:44.034","Laptop","Mid-west","Large Corporate",73,"Yes",3.7,220,"Agent Harry"]
[null,"CL01806","2012-01-07T12:07:55.094","Monitor","North","Non-profit",76,"Yes",2.9,150,"Agent Neo"]
[null,"CL01807","2012-01-07T12:08:58.305","Monitor","East","SME",67,"Yes",2.2999999999999998,240,"Agent Smith"]
[null,"CL01808","2012-01-07T12:14:11.460","Misc.","South","Large Corporate",70,"Yes",3.5,170,"Agent Mary"]
[null,"CL01809","2012-01-07T12:16:49.604","Monitor","East","Non-profit",82,"Yes",2.9,170,"Agent Mary"]
[null,"CL01810","2012-01-07T12:22:14.610","Laptop","East","Individual",69,"Yes",2.8,200,"Agent Neo"]
[null,"CL01811","2012-01-07T12:26:20.856","Misc.","North","Non-profit",80,"Yes",2.6,0,"Agent Vinod"]
[null,"CL01812","2012-01-07T12:28:34.784","Laptop","West","SME",88,"Yes",2.9,0,"Agent Vinod"]
[null,"CL01813","2012-01-07T12:31:05.277","Monitor","West","SME",94,"Yes",3.2,180,"Agent Bond"]
[null,"CL01814","2012-01-07T12:34:30.884","Laptop","West","Individual",80,"Yes",4,200,"Agent Mary"]
[null,"CL01815","2012-01-07T12:39:07.888","Desktop","North","Large Corporate",87,"Yes",2.7,140,"Agent Bond"]
[null,"CL01816","2012-01-07T12:43:31.123","Misc.","North","Non-profit",77,"Yes",1.9,100,"Agent Vinod"]
[null,"CL01817","2012-01-07T12:48:19.138","Monitor","East","Non-profit",71,"Yes",2.2999999999999998,200,"Agent Bond"]
[null,"CL01818","2012-01-07T12:52:26.143","Monitor","Mid-west","SME",90,"Yes",3.7,110,"Agent Bond"]
[null,"CL01819","2012-01-07T12:53:29.766","Accessories","East","SME",85,"Yes",3.7,190,"Agent Harry"]
[null,"CL01820","2012-01-07T12:56:11.052","Laptop","North","Individual",64,"Yes",3.8,250,"Agent Vinod"]
[null,"CL01821","2012-01-07T12:57:42.198","Misc.","North","Individual",79,"Yes",2.8,0,"Agent Smith"]
[null,"CL01822","2012-01-07T12:58:36.529","Accessories","West","Large Corporate",79,"Yes",4.4000000000000004,150,"Agent Mary"]
[null,"CL01823","2012-01-07T13:02:36.983","Misc.","North","Non-profit",81,"Yes",2.5,0,"Agent Mary"]
[null,"CL01824","2012-01-07T13:06:52.123","Misc.","West","Large Corporate",77,"No",2.8,0,"Agent Neo"]
[null,"CL01825","2012-01-07T13:09:20.985","Laptop","South","SME",79,"Yes",2.8,0,"Agent Bond"]
[null,"CL01826","2012-01-07T13:12:52.013","Laptop","Mid-west","Individual",77,"Yes",3.1,0,"Agent Neo"]
[null,"CL01827","2012-01-07T13:16:48.809","Software","Mid-west","SME",60,"Yes",2.6,150,"Agent Bond"]
[null,"CL01828","2012-01-07T13:16:53.100","Laptop","Mid-west","Non-profit",69,"Yes",2.2999999999999998,140,"Agent Mary"]
[null,"CL01829","2012-01-07T13:19:02.809","Software","East","SME",65,"Yes",3.2,120,"Agent Smith"]
[null,"CL01830","2012-01-07T13:19:32.319","Laptop","East","Large Corporate",65,"Yes",2.8,0,"Agent Smith"]
[null,"CL01831","2012-01-07T13:20:37.201","Monitor","North","Non-profit",77,"Yes",3.8,230,"Agent Bond"]
[null,"CL01832","2012-01-07T13:24:17.435","Misc.","North","Individual",86,"Yes",2.7,160,"Agent Vinod"]
[null,"CL01833","2012-01-07T13:28:25.477","Software","South","Individual",73,"Yes",3.5,0,"Agent Vinod"]
[null,"CL01834","2012-01-07T13:31:14.340","Software","East","Large Corporate",70,"Yes",3.6,270,"Agent Mary"]
[null,"CL01835","2012-01-07T13:36:15.161","Software","North","Large Corporate",85,"Yes",2.8,0,"Agent Neo"]
[null,"CL01836","2012-01-07T13:39:03.036","Software","West","Non-profit",68,"Yes",3.4,200,"Agent Mary"]
[null,"CL01837","2012-01-07T13:41:51.201","Accessories","South","SME",92,"Yes",3.8,170,"Agent Bond"]
[null,"CL01838","2012-01-07T13:46:01.631","Desktop","South","Non-profit",76,"Yes",4.0999999999999996,0,"Agent Bond"]
[null,"CL01839","2012-01-07T13:49:07.078","Accessories","Mid-west","Individual",85,"Yes",3.9,0,"Agent Bond"]
[null,"CL01840","2012-01-07T13:54:29.910","Software","Mid-west","Non-profit",76,"Yes",3,100,"Agent Vinod"]
[null,"CL01841","2012-01-07T13:59:52.437","Monitor","Mid-west","Large Corporate",88,"Yes",3.2,250,"Agent Vinod"]
[null,"CL01842","2012-01-07T14:04:09.754","Misc.","East","Individual",79,"Yes",3,230,"Agent Harry"]
[null,"CL01843","2012-01-07T14:06:31.421","Laptop","East","Non-profit",83,"Yes",2.2999999999999998,210,"Agent Harry"]
[null,"CL01844","2012-01-07T14:08:18.646","Misc.","West","SME",75,"Yes",3.8,0,"Agent Neo"]
[null,"CL01845","2012-01-07T14:12:47.311","Software","East","Non-profit",80,"Yes",2.2999999999999998,220,"Agent Harry"]
[null,"CL01846","2012-01-07T14:15:35.994","Desktop","Mid-west","Individual",78,"Yes",2.6,0,"Agent Harry"]
[null,"CL01847","2012-01-07T14:16:40.591","Laptop","South","Large Corporate",74,"Yes",3.9,180,"Agent Vinod"]
[null,"CL01848","2012-01-07T14:16:41.971","Misc.","Mid-west","Large Corporate",83,"Yes",2.9,150,"Agent Mary"]
[null,"CL01849","2012-01-07T14:19:44.164","Monitor","West","Individual",69,"Yes",2.7,210,"Agent Harry"]
[null,"CL01850","2012-01-07T14:21:05.810","Laptop","North","Non-profit",76,"Yes",2.8,160,"Agent Harry"]
[null,"CL01851","2012-01-07T14:22:53.784","Misc.","North","Individual",77,"Yes",3.1,0,"Agent Vinod"]
[null,"CL01852","2012-01-07T14:23:29.577","Accessories","North","SME",87,"Yes",2.7,0,"Agent Bond"]
[null,"CL01853","2012-01-07T14:27:53.516","Misc.","South","Individual",75,"Yes",3.6,220,"Agent Bond"]
[null,"CL01854","2012-01-07T14:30:12.558","Desktop","North","Individual",79,"Yes",4.2,0,"Agent Vinod"]
[null,"CL01855","2012-01-07T14:35:30.590","Desktop","North","Individual",92,"Yes",2.7,0,"Agent Neo"]
[null,"CL01856","2012-01-07T14:38:33.449","Software","West","Large Corporate",66,"Yes",2.5,0,"Agent Neo"]
[null,"CL01857","2012-01-07T14:39:06.429","Software","West","Large Corporate",68,"Yes",3.2,140,"Agent Bond"]
[null,"CL01858","2012-01-07T14:44:18.622","Software","West","Individual",70,"Yes",3,320,"Agent Neo"]
[null,"CL01859","2012-01-07T14:45:59.736","Laptop","West","Individual",82,"Yes",3.1,170,"Agent Vinod"]
[null,"CL01860","2012-01-07T14:49:05.054","Laptop","Mid-west","Individual",75,"Yes",3.5,0,"Agent Bond"]
[null,"CL01861","2012-01-07T14:52:10.277","Misc.","South","SME",79,"Yes",3.2,0,"Agent Bond"]
[null,"CL01862","2012-01-07T14:52:48.130","Accessories","Mid-west","Non-profit",76,"Yes",4,0,"Agent Bond"]
[null,"CL01863","2012-01-07T14:53:44.378","Misc.","North","SME",77,"Yes",2.7,250,"Agent Mary"]
[null,"CL01864","2012-01-07T14:58:38.914","Monitor","North","Individual",86,"Yes",3.1,0,"Agent Harry"]
[null,"CL01865","2012-01-07T15:02:34.111","Accessories","Mid-west","SME",63,"Yes",3.4,0,"Agent Harry"]
[null,"CL01866","2012-01-07T15:03:44.381","Misc.","North","Non-profit",77,"Yes",2.4,230,"Agent Mary"]
[null,"CL01867","2012-01-07T15:08:57.594","Accessories","West","Non-profit",76,"Yes",3.2,0,"Agent Bond"]
[null,"CL01868","2012-01-07T15:09:01.859","Software","North","Large Corporate",71,"Yes",2.6,210,"Agent Vinod"]
[null,"CL01869","2012-01-07T15:12:49.834","Misc.","West","Non-profit",66,"Yes",2.8,0,"Agent Neo"]
[null,"CL01870","2012-01-07T15:14:12.501","Monitor","North","Non-profit",79,"Yes",2.8,200,"Agent Mary"]
[null,"CL01871","2012-01-07T15:16:10.399","Laptop","South","Individual",61,"Yes",3.4,230,"Agent Vinod"]
[null,"CL01872","2012-01-07T15:21:55.343","Accessories","East","Large Corporate",72,"Yes",2.4,100,"Agent Harry"]
[null,"CL01873","2012-01-07T15:23:37.616","Accessories","East","Large Corporate",83,"Yes",3.1,0,"Agent Harry"]
[null,"CL01874","2012-01-07T15:26:13.325","Laptop","West","Large Corporate",56,"Yes",3.3,0,"Agent Mary"]
[null,"CL01875","2012-01-07T15:28:15.206","Misc.","Mid-west","Non-profit",65,"Yes",2.9,180,"Agent Bond"]
[null,"CL01876","2012-01-07T15:32:15.706","Accessories","South","Non-profit",73,"Yes",3.4,220,"Agent Smith"]
[null,"CL01877","2012-01-07T15:33:10.700","Software","South","Individual",73,"Yes",2.9,270,"Agent Mary"]
[null,"CL01878","2012-01-07T15:37:52.623","Desktop","Mid-west","Individual",71,"Yes",2.7,0,"Agent Mary"]
[null,"CL01879","2012-01-07T15:43:21.926","Desktop","Mid-west","Large Corporate",72,"Yes",3.3,0,"Agent Bond"]
[null,"CL01880","2012-01-07T15:47:10.078","Software","West","Individual",68,"Yes",4.2,0,"Agent Mary"]
[null,"CL01881","2012-01-07T15:51:20.770","Misc.","Mid-west","Large Corporate",64,"Yes",3.4,230,"Agent Smith"]
[null,"CL01882","2012-01-07T15:52:18.740","Accessories","Mid-west","Individual",76,"Yes",3.4,300,"Agent Harry"]
[null,"CL01883","2012-01-07T15:55:54.832","Software","Mid-west","Non-profit",96,"Yes",3.4,0,"Agent Mary"]
[null,"CL01884","2012-01-07T16:00:01.300","Desktop","Mid-west","SME",86,"Yes",2.9,190,"Agent Harry"]
[null,"CL01885","2012-01-07T16:01:09.401","Accessories","Mid-west","Large Corporate",81,"Yes",2.9,140,"Agent Bond"]
[null,"CL01886","2012-01-07T16:01:31.163","Laptop","West","Large Corporate",75,"Yes",3.2,90,"Agent Bond"]
[null,"CL01887","2012-01-07T16:01:45.400","Laptop","East","Large Corporate",88,"Yes",2.7,200,"Agent Smith"]
[null,"CL01888","2012-01-07T16:05:26.964","Accessories","Mid-west","Individual",80,"Yes",3.3,180,"Agent Bond"]
[null,"CL01889","2012-01-07T16:07:52.465","Misc.","North","SME",66,"Yes",2.8,220,"Agent Bond"]
[null,"CL01890","2012-01-07T16:11:33.083","Laptop","North","Non-profit",66,"Yes",3.9,0,"Agent Mary"]
[null,"CL01891","2012-01-07T16:12:15.718","Misc.","Mid-west","Individual",69,"Yes",2.8,160,"Agent Smith"]
[null,"CL01892","2012-01-07T16:13:18.186","Accessories","West","Large Corporate",69,"Yes",2.9,0,"Agent Vinod"]
[null,"CL01893","2012-01-07T16:17:44.215","Desktop","North","Individual",80,"Yes",2.9,0,"Agent Vinod"]
[null,"CL01894","2012-01-07T16:17:45.233","Desktop","West","Large Corporate",79,"Yes",2.4,250,"Agent Bond"]
[null,"CL01895","2012-01-07T16:21:43.315","Software","South","Large Corporate",81,"Yes",2.6,140,"Agent Vinod"]
[null,"CL01896","2012-01-07T16:27:06.091","Software","North","Large Corporate",88,"Yes",3,190,"Agent Mary"]
[null,"CL01897","2012-01-07T16:32:28.194","Monitor","West","SME",82,"Yes",2.5,250,"Agent Vinod"]
[null,"CL01898","2012-01-07T16:36:25.760","Accessories","West","Individual",78,"Yes",2.2000000000000002,200,"Agent Harry"]
[null,"CL01899","2012-01-07T16:41:55.740","Misc.","North","Large Corporate",65,"Yes",4.0999999999999996,0,"Agent Vinod"]
[null,"CL01900","2012-01-07T16:45:07.140","Misc.","North","Non-profit",79,"Yes",2,200,"Agent Smith"]
[null,"CL01901","2012-01-07T16:47:20.756","Software","South","Large Corporate",68,"Yes",2.7,120,"Agent Neo"]
[null,"CL01902","2012-01-07T16:52:20.298","Laptop","West","SME",67,"Yes",3.2,130,"Agent Neo"]
[null,"CL01903","2012-01-07T16:57:53.661","Misc.","East","Large Corporate",81,"Yes",3.6,0,"Agent Mary"]
[null,"CL01904","2012-01-07T17:00:33.291","Accessories","East","Large Corporate",71,"Yes",3.4,100,"Agent Smith"]
[null,"CL01905","2012-01-07T17:03:54.327","Misc.","East","SME",81,"Yes",3,180,"Agent Neo"]
[null,"CL01906","2012-01-07T17:05:14.010","Software","North","Non-profit",76,"Yes",2.8,0,"Agent Mary"]
[null,"CL01907","2012-01-07T17:06:06.580","Laptop","South","Large Corporate",62,"Yes",2.2000000000000002,0,"Agent Neo"]
[null,"CL01908","2012-01-07T17:11:51.321","Misc.","North","Non-profit",82,"Yes",3.3,150,"Agent Smith"]
[null,"CL01909","2012-01-07T17:16:28.334","Misc.","South","SME",70,"Yes",3.2,170,"Agent Smith"]
[null,"CL01910","2012-01-07T17:22:09.021","Monitor","South","Non-profit",90,"Yes",2.8,0,"Agent Smith"]
[null,"CL01911","2012-01-07T17:23:47.688","Monitor","North","SME",69,"Yes",3.4,180,"Agent Smith"]
[null,"CL01912","2012-01-07T17:23:51.783","Monitor","East","Individual",64,"Yes",2.7,0,"Agent Mary"]
[null,"CL01913","2012-01-07T17:25:58.732","Misc.","West","Individual",90,"Yes",2.6,0,"Agent Mary"]
[null,"CL01914","2012-01-07T17:28:07.664","Laptop","South","Individual",69,"Yes",2.6,200,"Agent Neo"]
[null,"CL01915","2012-01-07T17:30:52.470","Accessories","Mid-west","Large Corporate",77,"Yes",2.5,140,"Agent Smith"]
[null,"CL01916","2012-01-07T17:34:44.702","Accessories","South","Non-profit",72,"Yes",3.1,270,"Agent Neo"]
[null,"CL01917","2012-01-07T17:39:13.500","Accessories","Mid-west","SME",79,"Yes",3.2,0,"Agent Harry"]
[null,"CL01918","2012-01-07T17:40:24.811","Monitor","North","Non-profit",71,"No",2.9,170,"Agent Vinod"]
[null,"CL01919","2012-01-07T17:45:41.179","Laptop","East","Large Corporate",80,"Yes",3,240,"Agent Harry"]
[null,"CL01920","2012-01-07T17:47:43.921","Desktop","North","Non-profit",71,"Yes",2.5,0,"Agent Smith"]
[null,"CL01921","2012-01-07T17:51:01.201","Software","North","Individual",78,"Yes",2.2000000000000002,150,"Agent Vinod"]
[null,"CL01922","2012-01-07T17:52:28.816","Desktop","South","Large Corporate",69,"Yes",2.9,0,"Agent Vinod"]
[null,"CL01923","2012-01-07T17:52:39.832","Monitor","South","SME",85,"Yes",3,240,"Agent Vinod"]
[null,"CL01924","2012-01-07T17:54:56.656","Desktop","North","Non-profit",78,"Yes",2.9,0,"Agent Bond"]
[null,"CL01925","2012-01-07T17:56:21.660","Misc.","South","Individual",66,"Yes",2.6,0,"Agent Bond"]
[null,"CL01926","2012-01-07T18:02:00.938","Desktop","North","SME",72,"Yes",3,240,"Agent Vinod"]
[null,"CL01927","2012-01-07T18:03:39.587","Software","East","SME",76,"Yes",3.1,230,"Agent Neo"]
[null,"CL01928","2012-01-07T18:04:08.572","Monitor","South","Large Corporate",74,"Yes",2.9,210,"Agent Vinod"]
[null,"CL01929","2012-01-07T18:06:59.324","Laptop","Mid-west","Individual",73,"No",3.5,240,"Agent Smith"]
[null,"CL01930","2012-01-07T18:11:43.978","Monitor","Mid-west","Non-profit",78,"Yes",2.6,250,"Agent Neo"]
[null,"CL01931","2012-01-07T18:17:24.320","Desktop","South","Non-profit",72,"Yes",2.6,240,"Agent Mary"]
[null,"CL01932","2012-01-07T18:17:44.097","Accessories","East","Individual",64,"Yes",3.2,150,"Agent Smith"]
[null,"CL01933","2012-01-07T18:20:30.398","Software","East","SME",69,"Yes",1.8,170,"Agent Harry"]
[null,"CL01934","2012-01-07T18:23:26.648","Monitor","Mid-west","Non-profit",69,"Yes",3.5,160,"Agent Neo"]
[null,"CL01935","2012-01-07T18:24:23.352","Desktop","North","Large Corporate",66,"Yes",3.2,170,"Agent Mary"]
[null,"CL01936","2012-01-07T18:26:17.877","Laptop","West","Non-profit",79,"Yes",2.8,130,"Agent Mary"]
[null,"CL01937","2012-01-07T18:29:37.008","Monitor","Mid-west","SME",70,"Yes",3,0,"Agent Smith"]
[null,"CL01938","2012-01-07T18:32:05.168","Misc.","North","SME",66,"Yes",3.4,250,"Agent Neo"]
[null,"CL01939","2012-01-07T18:33:52.921","Software","East","SME",78,"Yes",3.6,0,"Agent Neo"]
[null,"CL01940","2012-01-07T18:34:53.477","Laptop","South","Individual",89,"Yes",2.9,180,"Agent Vinod"]
[null,"CL01941","2012-01-07T18:38:53.076","Laptop","South","Individual",82,"Yes",3.4,100,"Agent Bond"]
[null,"CL01942","2012-01-07T18:42:22.859","Software","South","Large Corporate",86,"No",3.5,240,"Agent Mary"]
[null,"CL01943","2012-01-07T18:45:29.233","Misc.","North","SME",78,"Yes",2.5,170,"Agent Harry"]
[null,"CL01944","2012-01-07T18:47:01.505","Desktop","South","Large Corporate",65,"Yes",2.5,190,"Agent Mary"]
[null,"CL01945","2012-01-07T18:49:32.452","Desktop","North","Non-profit",87,"Yes",3.4,180,"Agent Neo"]
[null,"CL01946","2012-01-07T18:51:47.513","Monitor","West","Individual",79,"Yes",3.2,280,"Agent Bond"]
[null,"CL01947","2012-01-07T18:57:19.214","Desktop","North","Individual",71,"Yes",3.1,170,"Agent Vinod"]
[null,"CL01948","2012-01-07T18:58:45.317","Laptop","East","Large Corporate",68,"Yes",2.9,200,"Agent Neo"]
[null,"CL01949","2012-01-07T19:01:44.954","Software","North","SME",84,"Yes",3,260,"Agent Bond"]
[null,"CL01950","2012-01-07T19:04:26.644","Software","Mid-west","Individual",80,"Yes",2.6,0,"Agent Mary"]
[null,"CL01951","2012-01-07T19:09:32.624","Software","North","SME",72,"Yes",3.3,0,"Agent Vinod"]
[null,"CL01952","2012-01-07T19:14:58.579","Misc.","Mid-west","Individual",80,"Yes",2.8,0,"Agent Neo"]
[null,"CL01953","2012-01-07T19:17:44.668","Software","North","Individual",79,"Yes",2.2999999999999998,0,"Agent Harry"]
[null,"CL01954","2012-01-07T19:19:10.266","Software","Mid-west","Non-profit",72,"Yes",2.4,200,"Agent Vinod"]
[null,"CL01955","2012-01-07T19:20:25.330","Desktop","East","Individual",73,"Yes",2.9,160,"Agent Harry"]
[null,"CL01956","2012-01-07T19:24:44.465","Desktop","North","Individual",81,"Yes",2.6,190,"Agent Bond"]
[null,"CL01957","2012-01-07T19:26:02.786","Accessories","East","Non-profit",84,"Yes",3.1,290,"Agent Neo"]
[null,"CL01958","2012-01-07T19:27:10.039","Accessories","East","SME",81,"Yes",3.5,170,"Agent Smith"]
[null,"CL01959","2012-01-07T19:30:57.533","Accessories","Mid-west","Large Corporate",91,"Yes",3,240,"Agent Mary"]
[null,"CL01960","2012-01-07T19:34:29.311","Desktop","South","Non-profit",75,"Yes",2,0,"Agent Vinod"]
[null,"CL01961","2012-01-07T19:36:25.962","Software","North","Non-profit",81,"Yes",3.3,0,"Agent Bond"]
[null,"CL01962","2012-01-07T19:36:32.416","Misc.","North","SME",79,"Yes",4.4000000000000004,180,"Agent Smith"]
[null,"CL01963","2012-01-07T19:38:28.633","Monitor","West","Large Corporate",78,"Yes",3.7,230,"Agent Smith"]
[null,"CL01964","2012-01-07T19:38:37.160","Desktop","East","Large Corporate",67,"Yes",2.1,160,"Agent Bond"]
[null,"CL01965","2012-01-07T19:39:53.543","Software","South","SME",81,"Yes",2.6,0,"Agent Harry"]
[null,"CL01966","2012-01-07T19:45:33.087","Laptop","West","Large Corporate",71,"Yes",2.4,0,"Agent Mary"]
[null,"CL01967","2012-01-07T19:50:39.269","Desktop","West","Individual",74,"Yes",3.1,0,"Agent Neo"]
[null,"CL01968","2012-01-07T19:53:32.817","Misc.","North","Large Corporate",78,"Yes",3,240,"Agent Bond"]
[null,"CL01969","2012-01-07T19:58:11.944","Monitor","East","Large Corporate",91,"Yes",2,330,"Agent Neo"]
[null,"CL01970","2012-01-07T20:00:29.820","Misc.","North","Non-profit",72,"Yes",2.8,210,"Agent Neo"]
[null,"CL01971","2012-01-07T20:05:42.554","Misc.","South","SME",67,"Yes",2.9,0,"Agent Smith"]
[null,"CL01972","2012-01-07T20:05:50.212","Monitor","Mid-west","Individual",69,"Yes",3.5,0,"Agent Vinod"]
[null,"CL01973","2012-01-07T20:10:34.690","Monitor","South","SME",84,"No",3.2,0,"Agent Harry"]
[null,"CL01974","2012-01-07T20:15:18.546","Accessories","Mid-west","Large Corporate",70,"Yes",2.9,0,"Agent Vinod"]
[null,"CL01975","2012-01-07T20:16:40.977","Laptop","West","Individual",86,"Yes",2.4,0,"Agent Bond"]
[null,"CL01976","2012-01-07T20:17:49.209","Laptop","East","Large Corporate",61,"Yes",3.4,290,"Agent Bond"]
[null,"CL01977","2012-01-07T20:23:08.900","Misc.","South","Individual",65,"Yes",3.3,180,"Agent Smith"]
[null,"CL01978","2012-01-07T20:24:36.689","Monitor","West","Individual",66,"Yes",2.7,0,"Agent Bond"]
[null,"CL01979","2012-01-07T20:26:00.951","Monitor","East","Large Corporate",63,"Yes",2.9,290,"Agent Mary"]
[null,"CL01980","2012-01-07T20:31:09.255","Desktop","North","SME",82,"Yes",3.4,140,"Agent Smith"]
[null,"CL01981","2012-01-07T20:34:28.130","Monitor","Mid-west","Large Corporate",80,"Yes",3.1,200,"Agent Mary"]
[null,"CL01982","2012-01-07T20:35:56.243","Desktop","South","SME",89,"Yes",3.1,190,"Agent Mary"]
[null,"CL01983","2012-01-07T20:35:57.512","Accessories","Mid-west","Non-profit",72,"No",3,0,"Agent Mary"]
[null,"CL01984","2012-01-07T20:39:38.577","Software","North","SME",79,"Yes",3.8,0,"Agent Neo"]
[null,"CL01985","2012-01-07T20:41:48.399","Desktop","Mid-west","Individual",78,"Yes",2.8,250,"Agent Harry"]
[null,"CL01986","2012-01-07T20:43:11.210","Misc.","East","Individual",75,"Yes",3.1,160,"Agent Vinod"]
[null,"CL01987","2012-01-07T20:46:23.227","Accessories","East","SME",89,"Yes",3.3,0,"Agent Mary"]
[null,"CL01988","2012-01-07T20:47:23.822","Monitor","West","Non-profit",79,"Yes",3,180,"Agent Neo"]
[null,"CL01989","2012-01-07T20:50:05.113","Accessories","East","Individual",70,"No",2.9,230,"Agent Mary"]
[null,"CL01990","2012-01-07T20:53:23.789","Software","Mid-west","SME",83,"Yes",3.5,0,"Agent Neo"]
[null,"CL01991","2012-01-07T20:56:11.847","Monitor","South","SME",68,"Yes",2.9,300,"Agent Bond"]
[null,"CL01992","2012-01-07T20:56:18.834","Misc.","North","Large Corporate",78,"Yes",2.9,190,"Agent Harry"]
[null,"CL01993","2012-01-07T21:00:23.920","Accessories","East","SME",78,"Yes",2.7,270,"Agent Vinod"]
[null,"CL01994","2012-01-07T21:05:58.223","Accessories","Mid-west","Individual",86,"Yes",3,0,"Agent Neo"]
[null,"CL01995","2012-01-07T21:09:17.805","Software","North","Non-profit",73,"Yes",2.2999999999999998,0,"Agent Neo"]
[null,"CL01999","2012-01-07T21:22:42.540","Laptop","Mid-west","Non-profit",72,"Yes",3.4,190,"Agent Smith"]
[null,"CL02006","2012-01-07T21:46:43.889","Desktop","North","SME",77,"Yes",3.7,210,"Agent Bond"]
[null,"CL02009","2012-01-07T21:57:50.462","Misc.","South","Non-profit",76,"Yes",3.7,0,"Agent Vinod"]
[null,"CL02016","2012-01-08T08:16:34.315","Desktop","South","Non-profit",65,"Yes",2.6,0,"Agent Neo"]
[null,"CL02025","2012-01-08T08:43:36.397","Desktop","East","Individual",73,"Yes",2.7,260,"Agent Bond"]
[null,"CL02029","2012-01-08T08:52:14.338","Monitor","West","SME",68,"Yes",2.9,0,"Agent Smith"]
[null,"CL02036","2012-01-08T09:13:37.209","Desktop","South","Large Corporate",74,"Yes",2.7,0,"Agent Mary"]
[null,"CL02039","2012-01-08T09:21:46.759","Monitor","Mid-west","SME",75,"Yes",3,0,"Agent Neo"]
[null,"CL02046","2012-01-08T09:40:15.123","Software","Mid-west","SME",66,"Yes",3.5,150,"Agent Bond"]
[null,"CL02055","2012-01-08T10:03:17.072","Accessories","South","Individual",72,"No",3.5,0,"Agent Bond"]
[null,"CL02058","2012-01-08T10:19:22.957","Misc.","South","SME",78,"Yes",2.2999999999999998,0,"Agent Mary"]
[null,"CL02063","2012-01-08T10:32:11.208","Monitor","East","Large Corporate",77,"Yes",2.7,0,"Agent Smith"]
[null,"CL02075","2012-01-08T10:58:23.392","Accessories","East","Individual",77,"Yes",3,210,"Agent Smith"]
[null,"CL02078","2012-01-08T11:09:19.160","Monitor","East","Non-profit",81,"Yes",2.2999999999999998,0,"Agent Smith"]
[null,"CL02085","2012-01-08T11:22:18.232","Software","South","SME",59,"Yes",3.4,0,"Agent Mary"]
[null,"CL02088","2012-01-08T11:30:08.778","Desktop","Mid-west","Large Corporate",77,"Yes",2.7,0,"Agent Mary"]
[null,"CL02095","2012-01-08T11:45:10.205","Accessories","Mid-west","SME",74,"Yes",3,250,"Agent Harry"]
[null,"CL02100","2012-01-08T11:59:51.617","Desktop","North","Large Corporate",73,"Yes",3,230,"Agent Smith"]
[null,"CL02108","2012-01-08T12:32:49.271","Monitor","East","SME",80,"Yes",3,110,"Agent Smith"]
[null,"CL02115","2012-01-08T12:55:06.560","Accessories","South","SME",60,"Yes",2.5,190,"Agent Neo"]
[null,"CL02124","2012-01-08T13:10:20.318","Accessories","Mid-west","Non-profit",65,"Yes",2.5,0,"Agent Neo"]
[null,"CL02125","2012-01-08T13:14:12.875","Software","Mid-west","Large Corporate",86,"Yes",3.3,250,"Agent Mary"]
[null,"CL02134","2012-01-08T13:38:11.477","Software","Mid-west","SME",74,"Yes",2.9,210,"Agent Smith"]
[null,"CL02137","2012-01-08T13:49:48.988","Misc.","South","Non-profit",69,"Yes",4.5999999999999996,210,"Agent Neo"]
[null,"CL02145","2012-01-08T14:11:24.469","Laptop","South","Large Corporate",68,"Yes",3,160,"Agent Harry"]
[null,"CL02154","2012-01-08T14:36:00.777","Desktop","Mid-west","Non-profit",65,"Yes",3,0,"Agent Vinod"]
[null,"CL02157","2012-01-08T14:43:11.735","Laptop","East","Large Corporate",67,"Yes",3.1,0,"Agent Bond"]
[null,"CL02164","2012-01-08T14:59:38.032","Software","East","Individual",72,"Yes",3,280,"Agent Bond"]
[null,"CL02173","2012-01-08T15:30:16.290","Laptop","East","Non-profit",84,"Yes",1.9,0,"Agent Neo"]
[null,"CL02178","2012-01-08T15:46:24.892","Software","Mid-west","SME",75,"Yes",3.2,0,"Agent Harry"]
[null,"CL02184","2012-01-08T16:14:08.438","Misc.","West","Large Corporate",70,"Yes",3.7,210,"Agent Mary"]
[null,"CL02187","2012-01-08T16:24:52.720","Misc.","East","SME",69,"Yes",3,220,"Agent Smith"]
[null,"CL02194","2012-01-08T16:48:59.354","Desktop","South","Large Corporate",77,"Yes",3,0,"Agent Bond"]
[null,"CL02203","2012-01-08T17:18:02.054","Software","North","Large Corporate",84,"Yes",3.3,0,"Agent Bond"]
[null,"CL02206","2012-01-08T17:28:38.961","Misc.","East","Individual",78,"Yes",3.1,0,"Agent Mary"]
[null,"CL02215","2012-01-08T17:57:19.322","Monitor","West","Large Corporate",79,"Yes",2.2999999999999998,190,"Agent Harry"]
[null,"CL02223","2012-01-08T18:16:26.903","Misc.","Mid-west","SME",79,"Yes",4,200,"Agent Smith"]
[null,"CL02224","2012-01-08T18:17:58.956","Laptop","South","Non-profit",77,"Yes",3,230,"Agent Bond"]
[null,"CL02233","2012-01-08T18:39:48.701","Monitor","South","SME",76,"Yes",3.3,0,"Agent Mary"]
[null,"CL02236","2012-01-08T18:52:21.409","Desktop","East","SME",88,"Yes",3.9,260,"Agent Smith"]
[null,"CL02243","2012-01-08T19:14:39.496","Software","North","SME",80,"Yes",3.4,260,"Agent Neo"]
[null,"CL02252","2012-01-08T19:45:19.288","Accessories","Mid-west","Individual",63,"Yes",3,0,"Agent Harry"]
[null,"CL02260","2012-01-08T20:15:16.890","Monitor","East","SME",51,"No",3.3,0,"Agent Vinod"]
[null,"CL02263","2012-01-08T20:29:30.610","Monitor","East","SME",66,"Yes",2.2000000000000002,230,"Agent Harry"]
[null,"CL02272","2012-01-08T20:59:07.624","Software","East","Non-profit",64,"Yes",3.2,240,"Agent Neo"]
[null,"CL02273","2012-01-08T21:02:17.149","Misc.","Mid-west","Large Corporate",82,"Yes",2.5,0,"Agent Vinod"]
[null,"CL02282","2012-01-08T21:24:04.441","Misc.","South","Individual",81,"Yes",2.5,210,"Agent Harry"]
[null,"CL02289","2012-01-08T21:39:30.954","Laptop","Mid-west","Large Corporate",79,"No",2.2999999999999998,0,"Agent Smith"]
[null,"CL02293","2012-01-08T21:48:36.682","Desktop","West","Individual",69,"Yes",2.9,140,"Agent Smith"]
[null,"CL02302","2012-01-09T08:14:15.802","Accessories","West","SME",64,"No",2.9,290,"Agent Vinod"]
[null,"CL02309","2012-01-09T08:46:24.213","Software","Mid-west","SME",69,"Yes",4.2,0,"Agent Mary"]
[null,"CL02312","2012-01-09T08:54:30.462","Misc.","Mid-west","Individual",68,"Yes",3.5,250,"Agent Smith"]
[null,"CL02321","2012-01-09T09:25:18.095","Software","Mid-west","Individual",60,"Yes",2.5,0,"Agent Bond"]
[null,"CL02323","2012-01-09T09:30:38.215","Misc.","South","Individual",78,"Yes",3.6,200,"Agent Mary"]
[null,"CL02332","2012-01-09T10:05:49.238","Desktop","Mid-west","Non-profit",79,"Yes",2.8,140,"Agent Neo"]
[null,"CL02339","2012-01-09T10:27:28.930","Accessories","North","Individual",79,"Yes",2.8,0,"Agent Bond"]
[null,"CL02342","2012-01-09T10:36:04.195","Desktop","North","Non-profit",65,"Yes",3,200,"Agent Neo"]
[null,"CL02351","2012-01-09T11:05:19.250","Accessories","South","Non-profit",80,"Yes",3.6,0,"Agent Neo"]
[null,"CL02358","2012-01-09T11:24:33.295","Misc.","South","Large Corporate",69,"Yes",1.9,190,"Agent Smith"]
[null,"CL02360","2012-01-09T11:31:53.847","Software","North","SME",81,"Yes",3.1,0,"Agent Mary"]
[null,"CL02371","2012-01-09T12:11:32.287","Desktop","West","Large Corporate",90,"Yes",2.2999999999999998,200,"Agent Bond"]
[null,"CL02372","2012-01-09T12:12:40.004","Accessories","South","Individual",69,"Yes",3.5,190,"Agent Bond"]
[null,"CL02381","2012-01-09T12:40:09.759","Software","South","Non-profit",74,"Yes",2.8,130,"Agent Harry"]
[null,"CL02388","2012-01-09T12:50:48.525","Laptop","East","Individual",77,"Yes",2.7,200,"Agent Vinod"]
[null,"CL02391","2012-01-09T12:57:23.874","Misc.","North","Large Corporate",75,"Yes",3.8,130,"Agent Smith"]
[null,"CL02397","2012-01-09T13:14:56.858","Laptop","South","Non-profit",82,"Yes",3.4,190,"Agent Vinod"]
[null,"CL02408","2012-01-09T13:50:00.306","Laptop","Mid-west","SME",75,"Yes",2,0,"Agent Vinod"]
[null,"CL02411","2012-01-09T13:58:48.297","Software","Mid-west","SME",86,"Yes",3,220,"Agent Mary"]
[null,"CL02420","2012-01-09T14:29:05.429","Desktop","North","SME",70,"Yes",3.5,210,"Agent Mary"]
[null,"CL02421","2012-01-09T14:33:58.590","Desktop","West","Large Corporate",64,"Yes",2.7,140,"Agent Mary"]
[null,"CL02430","2012-01-09T14:53:40.421","Laptop","West","Non-profit",56,"Yes",3.4,220,"Agent Vinod"]
[null,"CL02438","2012-01-09T15:12:21.534","Laptop","West","Non-profit",71,"Yes",3.2,210,"Agent Harry"]
[null,"CL02441","2012-01-09T15:22:19.306","Laptop","North","Large Corporate",68,"Yes",2.9,170,"Agent Mary"]
[null,"CL02450","2012-01-09T15:50:31.420","Laptop","South","SME",65,"Yes",3,230,"Agent Mary"]
[null,"CL02457","2012-01-09T16:08:29.766","Laptop","East","Non-profit",62,"Yes",3.8,90,"Agent Smith"]
[null,"CL02460","2012-01-09T16:09:46.040","Desktop","East","SME",78,"Yes",2.4,130,"Agent Mary"]
[null,"CL02467","2012-01-09T16:34:54.736","Accessories","West","Large Corporate",71,"Yes",2.5,220,"Agent Bond"]
[null,"CL02475","2012-01-09T16:54:28.972","Misc.","South","SME",68,"Yes",2.2999999999999998,0,"Agent Harry"]
[null,"CL02480","2012-01-09T17:09:38.623","Misc.","South","Individual",71,"Yes",2.9,140,"Agent Smith"]
[null,"CL02487","2012-01-09T17:32:04.811","Accessories","Mid-west","Large Corporate",85,"Yes",3,0,"Agent Neo"]
[null,"CL02490","2012-01-09T17:42:45.117","Monitor","West","Individual",70,"Yes",3.3,0,"Agent Smith"]
[null,"CL02499","2012-01-09T17:58:08.262","Misc.","East","Large Corporate",76,"Yes",3,170,"Agent Smith"]
[null,"CL02506","2012-01-09T18:21:28.777","Monitor","East","Individual",82,"Yes",1.2,170,"Agent Neo"]
[null,"CL02512","2012-01-09T18:34:42.766","Misc.","North","Large Corporate",64,"Yes",2.4,280,"Agent Vinod"]
[null,"CL02517","2012-01-09T18:49:55.317","Desktop","East","Non-profit",73,"Yes",3,270,"Agent Smith"]
[null,"CL02520","2012-01-09T18:58:52.530","Accessories","Mid-west","Large Corporate",74,"Yes",3.4,140,"Agent Smith"]
[null,"CL02529","2012-01-09T19:21:05.142","Monitor","West","Individual",79,"Yes",3.3,220,"Agent Bond"]
[null,"CL02536","2012-01-09T19:47:15.297","Software","North","SME",68,"Yes",2.8,210,"Agent Bond"]
[null,"CL02539","2012-01-09T19:56:14.887","Accessories","West","SME",84,"Yes",2,240,"Agent Mary"]
[null,"CL02549","2012-01-09T20:29:06.636","Desktop","Mid-west","Individual",90,"Yes",3,0,"Agent Vinod"]
[null,"CL02556","2012-01-09T20:46:12.710","Software","Mid-west","SME",68,"Yes",3.7,220,"Agent Bond"]
[null,"CL02559","2012-01-09T20:53:09.625","Misc.","North","Individual",69,"No",2.8,210,"Agent Smith"]
[null,"CL02566","2012-01-09T21:10:21.958","Desktop","North","Non-profit",74,"Yes",3.3,0,"Agent Smith"]
[null,"CL02569","2012-01-09T21:19:57.216","Misc.","North","Large Corporate",81,"Yes",2.8,330,"Agent Mary"]
[null,"CL02579","2012-01-09T21:50:42.546","Desktop","East","Large Corporate",69,"Yes",2.4,240,"Agent Mary"]
[null,"CL02586","2012-01-10T08:16:36.912","Monitor","South","Individual",71,"Yes",4,220,"Agent Neo"]
[null,"CL02589","2012-01-10T08:26:33.608","Software","East","Individual",82,"No",2.9,220,"Agent Vinod"]
[null,"CL02596","2012-01-10T08:48:04.640","Misc.","West","Non-profit",76,"Yes",3.4,250,"Agent Bond"]
[null,"CL02605","2012-01-10T09:16:02.259","Misc.","Mid-west","Large Corporate",71,"Yes",2.9,230,"Agent Bond"]
[null,"CL02608","2012-01-10T09:23:20.920","Laptop","South","SME",84,"Yes",3,230,"Agent Bond"]
[null,"CL02613","2012-01-10T09:35:14.148","Desktop","Mid-west","SME",80,"Yes",2,210,"Agent Bond"]
[null,"CL02619","2012-01-10T09:50:41.147","Desktop","North","Large Corporate",78,"Yes",2.7,0,"Agent Smith"]
[null,"CL02628","2012-01-10T10:15:43.771","Accessories","Mid-west","Large Corporate",72,"Yes",3,0,"Agent Bond"]
[null,"CL02635","2012-01-10T10:41:17.733","Laptop","West","SME",99,"Yes",2.2999999999999998,250,"Agent Bond"]
[null,"CL02638","2012-01-10T10:52:30.212","Misc.","North","Individual",70,"Yes",2.1,240,"Agent Bond"]
[null,"CL02645","2012-01-10T11:13:38.138","Desktop","North","Large Corporate",76,"Yes",3.8,0,"Agent Smith"]
[null,"CL02650","2012-01-10T11:25:24.570","Monitor","South","Non-profit",73,"Yes",3,110,"Agent Vinod"]
[null,"CL02658","2012-01-10T11:52:18.653","Accessories","South","Large Corporate",74,"Yes",2.7,210,"Agent Mary"]
[null,"CL02665","2012-01-10T12:16:03.100","Desktop","East","Individual",81,"Yes",3.6,120,"Agent Vinod"]
[null,"CL02668","2012-01-10T12:31:11.415","Misc.","North","Non-profit",77,"Yes",3.3,60,"Agent Vinod"]
[null,"CL02675","2012-01-10T12:47:00.397","Software","East","Large Corporate",77,"Yes",3.1,190,"Agent Vinod"]
[null,"CL02684","2012-01-10T13:02:32.254","Desktop","South","Large Corporate",64,"Yes",2.9,0,"Agent Neo"]
[null,"CL02687","2012-01-10T13:10:38.390","Misc.","East","Non-profit",74,"Yes",3.7,250,"Agent Bond"]
[null,"CL02695","2012-01-10T13:34:10.365","Software","East","SME",80,"Yes",2.8,280,"Agent Smith"]
[null,"CL02704","2012-01-10T13:58:45.440","Misc.","North","Non-profit",74,"Yes",3.6,220,"Agent Vinod"]
[null,"CL02707","2012-01-10T14:11:16.537","Accessories","North","Individual",83,"Yes",2.6,0,"Agent Neo"]
[null,"CL02714","2012-01-10T14:29:53.438","Desktop","West","Individual",76,"Yes",3.2,280,"Agent Neo"]
[null,"CL02717","2012-01-10T14:34:36.831","Desktop","South","Large Corporate",76,"Yes",3.4,230,"Agent Harry"]
[null,"CL02728","2012-01-10T15:11:57.619","Monitor","West","Non-profit",62,"Yes",3.3,0,"Agent Bond"]
[null,"CL02734","2012-01-10T15:33:50.402","Software","Mid-west","SME",81,"Yes",3.2,230,"Agent Smith"]
[null,"CL02737","2012-01-10T15:43:07.881","Misc.","South","Individual",71,"Yes",2.7,120,"Agent Bond"]
[null,"CL02744","2012-01-10T16:01:42.986","Software","West","Non-profit",83,"No",3.2,250,"Agent Vinod"]
[null,"CL02753","2012-01-10T16:34:03.604","Monitor","West","Individual",83,"Yes",2.6,210,"Agent Mary"]
[null,"CL02756","2012-01-10T16:44:31.926","Laptop","Mid-west","Large Corporate",63,"Yes",3,220,"Agent Neo"]
[null,"CL02765","2012-01-10T17:12:08.224","Desktop","East","Individual",71,"Yes",2.5,0,"Agent Mary"]
[null,"CL02767","2012-01-10T17:18:26.709","Monitor","South","Individual",86,"Yes",2.7,270,"Agent Bond"]
[null,"CL02774","2012-01-10T17:41:39.291","Monitor","East","Individual",66,"Yes",2.4,180,"Agent Bond"]
[null,"CL02783","2012-01-10T18:05:54.845","Desktop","Mid-west","Large Corporate",68,"Yes",2.8,0,"Agent Vinod"]
[null,"CL02786","2012-01-10T18:13:35.344","Misc.","South","Non-profit",78,"Yes",3.5,140,"Agent Harry"]
[null,"CL02793","2012-01-10T18:28:25.181","Accessories","West","SME",85,"Yes",3,140,"Agent Mary"]
[null,"CL02802","2012-01-10T18:52:15.749","Accessories","Mid-west","Non-profit",77,"Yes",3.3,360,"Agent Bond"]
[null,"CL02804","2012-01-10T18:56:35.118","Software","North","Large Corporate",68,"Yes",2.5,0,"Agent Harry"]
[null,"CL02813","2012-01-10T19:30:31.205","Laptop","West","SME",74,"Yes",3.5,180,"Agent Mary"]
[null,"CL02816","2012-01-10T19:36:33.573","Laptop","West","Non-profit",74,"Yes",3.1,0,"Agent Harry"]
[null,"CL02823","2012-01-10T19:55:35.880","Software","East","SME",90,"Yes",3.4,0,"Agent Neo"]
[null,"CL02832","2012-01-10T20:22:34.158","Software","Mid-west","SME",86,"Yes",2.9,200,"Agent Vinod"]
[null,"CL02839","2012-01-10T20:38:21.628","Laptop","North","Large Corporate",63,"Yes",3,320,"Agent Vinod"]
[null,"CL02843","2012-01-10T20:52:05.609","Accessories","West","Non-profit",67,"No",2.9,0,"Agent Harry"]
[null,"CL02852","2012-01-10T21:25:21.497","Desktop","West","Individual",79,"Yes",3.1,0,"Agent Bond"]
[null,"CL02853","2012-01-10T21:26:30.265","Desktop","North","SME",79,"Yes",3.3,0,"Agent Bond"]
[null,"CL02862","2012-01-10T21:51:01.828","Accessories","North","Non-profit",78,"Yes",2.5,70,"Agent Smith"]
[null,"CL02865","2012-01-10T21:59:53.093","Accessories","East","Individual",63,"Yes",2.6,0,"Agent Smith"]
[null,"CL02873","2012-01-11T08:23:12.022","Desktop","East","Non-profit",69,"Yes",3.5,190,"Agent Bond"]
[null,"CL02882","2012-01-11T08:40:31.202","Accessories","East","SME",82,"Yes",3.7,170,"Agent Harry"]
[null,"CL02889","2012-01-11T08:51:06.061","Accessories","North","Individual",72,"Yes",3.3,200,"Agent Vinod"]
[null,"CL02892","2012-01-11T08:58:18.041","Accessories","North","Large Corporate",66,"Yes",2.2999999999999998,0,"Agent Smith"]
[null,"CL02901","2012-01-11T09:30:03.054","Software","East","Non-profit",84,"Yes",3.3,0,"Agent Harry"]
[null,"CL02902","2012-01-11T09:33:56.917","Misc.","West","Non-profit",82,"Yes",2.9,0,"Agent Mary"]
[null,"CL02910","2012-01-11T09:47:38.006","Monitor","West","Non-profit",85,"Yes",2.2000000000000002,210,"Agent Vinod"]
[null,"CL02915","2012-01-11T10:02:20.504","Desktop","North","Non-profit",84,"Yes",2.8,0,"Agent Neo"]
[null,"CL02922","2012-01-11T10:29:06.731","Software","North","Individual",70,"Yes",2.9,0,"Agent Harry"]
[null,"CL02931","2012-01-11T10:59:33.042","Desktop","South","Non-profit",76,"Yes",3.1,240,"Agent Neo"]
[null,"CL02938","2012-01-11T11:22:38.011","Accessories","East","Non-profit",70,"Yes",2.6,0,"Agent Vinod"]
[null,"CL02941","2012-01-11T11:32:13.041","Monitor","Mid-west","SME",71,"Yes",3.3,0,"Agent Vinod"]
[null,"CL02947","2012-01-11T11:45:54.947","Software","East","Individual",77,"Yes",2.8,190,"Agent Vinod"]
[null,"CL02952","2012-01-11T12:00:37.575","Desktop","West","Large Corporate",77,"Yes",3.1,0,"Agent Smith"]
[null,"CL02961","2012-01-11T12:28:39.953","Software","North","Non-profit",80,"Yes",3.5,0,"Agent Vinod"]
[null,"CL02964","2012-01-11T12:34:53.199","Desktop","North","SME",71,"Yes",2.4,180,"Agent Smith"]
[null,"CL02971","2012-01-11T12:57:31.821","Laptop","Mid-west","SME",68,"No",3.7,210,"Agent Vinod"]
[null,"CL02980","2012-01-11T13:15:48.405","Accessories","Mid-west","Non-profit",63,"No",3.5,240,"Agent Neo"]
[null,"CL02988","2012-01-11T13:53:15.950","Misc.","West","SME",77,"No",3.7,0,"Agent Smith"]
[null,"CL02991","2012-01-11T14:02:59.317","Accessories","East","SME",62,"Yes",3.4,230,"Agent Smith"]
[null,"CL03000","2012-01-11T14:25:35.154","Monitor","West","Non-profit",83,"Yes",2.5,0,"Agent Neo"]
[null,"CL03001","2012-01-11T14:25:50.753","Desktop","Mid-west","SME",77,"Yes",3.7,280,"Agent Vinod"]
[null,"CL03010","2012-01-11T14:59:30.411","Accessories","East","Large Corporate",65,"Yes",2.7,0,"Agent Mary"]
[null,"CL03017","2012-01-11T15:21:30.714","Laptop","North","SME",63,"Yes",3.2,0,"Agent Neo"]
[null,"CL03025","2012-01-11T15:38:41.949","Misc.","North","Non-profit",79,"Yes",2.6,0,"Agent Harry"]
[null,"CL03030","2012-01-11T15:49:45.737","Monitor","South","Non-profit",79,"Yes",2.7,280,"Agent Mary"]
[null,"CL03037","2012-01-11T16:10:39.167","Accessories","South","Large Corporate",70,"Yes",2.7,180,"Agent Neo"]
[null,"CL03040","2012-01-11T16:20:12.365","Monitor","East","Non-profit",72,"Yes",3.1,160,"Agent Vinod"]
[null,"CL03049","2012-01-11T16:51:43.704","Desktop","Mid-west","Large Corporate",96,"Yes",2.6,230,"Agent Vinod"]
[null,"CL03050","2012-01-11T16:51:44.451","Laptop","West","Individual",80,"Yes",2.7,200,"Agent Mary"]
[null,"CL03062","2012-01-11T17:31:38.126","Misc.","North","Non-profit",76,"Yes",3.1,0,"Agent Mary"]
[null,"CL03067","2012-01-11T17:41:49.732","Desktop","East","Individual",79,"Yes",2.2999999999999998,290,"Agent Harry"]
[null,"CL03070","2012-01-11T17:50:18.750","Software","West","Individual",72,"Yes",3.5,0,"Agent Smith"]
[null,"CL03079","2012-01-11T18:15:52.829","Laptop","Mid-west","Large Corporate",84,"Yes",3.3,230,"Agent Vinod"]
[null,"CL03086","2012-01-11T18:38:14.131","Desktop","Mid-west","Individual",82,"Yes",3.5,0,"Agent Neo"]
[null,"CL03089","2012-01-11T18:48:15.316","Misc.","West","Large Corporate",71,"Yes",2.9,0,"Agent Bond"]
[null,"CL03099","2012-01-11T19:22:39.991","Accessories","West","Large Corporate",70,"Yes",3.1,180,"Agent Harry"]
[null,"CL03100","2012-01-11T19:23:39.426","Accessories","West","Individual",70,"Yes",3.7,190,"Agent Mary"]
[null,"CL03109","2012-01-11T19:54:59.504","Software","North","Individual",48,"Yes",2,0,"Agent Neo"]
[null,"CL03116","2012-01-11T20:07:30.255","Accessories","South","Large Corporate",58,"Yes",2.7,0,"Agent Harry"]
[null,"CL03119","2012-01-11T20:20:37.356","Monitor","East","Non-profit",88,"Yes",3,0,"Agent Bond"]
[null,"CL03129","2012-01-11T20:56:06.856","Monitor","Mid-west","SME",79,"Yes",3.2,0,"Agent Vinod"]
[null,"CL03136","2012-01-11T21:15:32.168","Desktop","West","SME",55,"Yes",3.3,180,"Agent Harry"]
[null,"CL03139","2012-01-11T21:21:33.406","Misc.","East","Individual",70,"Yes",2.9,230,"Agent Mary"]
[null,"CL03146","2012-01-11T21:46:23.416","Misc.","North","Non-profit",62,"Yes",2.8,0,"Agent Neo"]
[null,"CL03149","2012-01-11T21:54:01.887","Monitor","East","Large Corporate",70,"Yes",3.4,0,"Agent Smith"]
[null,"CL03158","2012-01-12T08:17:22.936","Software","South","SME",79,"Yes",2.7,180,"Agent Bond"]
[null,"CL03163","2012-01-12T08:31:23.220","Accessories","East","Large Corporate",69,"Yes",3.7,0,"Agent Neo"]
[null,"CL03169","2012-01-12T08:50:35.566","Software","North","Non-profit",59,"Yes",2.7,180,"Agent Mary"]
[null,"CL03178","2012-01-12T09:16:46.986","Desktop","West","Non-profit",70,"Yes",2.8,170,"Agent Bond"]
[null,"CL03185","2012-01-12T09:38:32.209","Accessories","West","Large Corporate",98,"Yes",3.2,0,"Agent Harry"]
[null,"CL03188","2012-01-12T09:44:44.851","Laptop","Mid-west","Non-profit",86,"Yes",3,0,"Agent Vinod"]
[null,"CL03195","2012-01-12T10:05:01.944","Monitor","North","Non-profit",65,"Yes",4,180,"Agent Smith"]
[null,"CL03200","2012-01-12T10:17:44.939","Accessories","South","Individual",85,"Yes",3.2,210,"Agent Bond"]
[null,"CL03208","2012-01-12T10:31:08.444","Software","North","SME",71,"Yes",3.3,0,"Agent Neo"]
[null,"CL03215","2012-01-12T10:55:49.116","Software","Mid-west","SME",63,"Yes",3.3,170,"Agent Neo"]
[null,"CL03218","2012-01-12T10:59:41.344","Monitor","North","Large Corporate",74,"Yes",3.1,0,"Agent Smith"]
[null,"CL03225","2012-01-12T11:22:30.086","Desktop","North","Large Corporate",65,"Yes",3,180,"Agent Neo"]
[null,"CL03234","2012-01-12T11:47:56.157","Laptop","West","Large Corporate",84,"Yes",2,130,"Agent Mary"]
[null,"CL03237","2012-01-12T11:57:30.052","Monitor","South","Large Corporate",70,"Yes",2.9,180,"Agent Bond"]
[null,"CL03245","2012-01-12T12:19:50.673","Monitor","North","SME",66,"Yes",3.5,210,"Agent Neo"]
[null,"CL03248","2012-01-12T12:29:13.447","Accessories","West","Large Corporate",82,"Yes",2.8,160,"Agent Vinod"]
[null,"CL03257","2012-01-12T12:48:09.202","Misc.","Mid-west","Individual",85,"Yes",2.7,0,"Agent Vinod"]
[null,"CL03264","2012-01-12T13:08:55.940","Monitor","Mid-west","Non-profit",80,"Yes",3.2,0,"Agent Smith"]
[null,"CL03267","2012-01-12T13:23:35.334","Misc.","Mid-west","SME",73,"Yes",3.4,0,"Agent Neo"]
[null,"CL03278","2012-01-12T14:03:03.703","Desktop","North","SME",71,"No",2.9,0,"Agent Harry"]
[null,"CL03284","2012-01-12T14:17:42.400","Desktop","West","Individual",81,"Yes",2.9,0,"Agent Vinod"]
[null,"CL03287","2012-01-12T14:21:22.296","Monitor","North","Individual",89,"Yes",2.8,0,"Agent Smith"]
[null,"CL03294","2012-01-12T14:44:10.429","Misc.","West","Non-profit",70,"Yes",2.8,250,"Agent Harry"]
[null,"CL03297","2012-01-12T14:56:21.915","Laptop","North","Individual",81,"Yes",3,300,"Agent Neo"]
[null,"CL03306","2012-01-12T15:23:53.249","Misc.","North","SME",89,"Yes",3.6,180,"Agent Bond"]
[null,"CL03315","2012-01-12T15:46:53.821","Desktop","West","Non-profit",88,"Yes",3,200,"Agent Bond"]
[null,"CL03317","2012-01-12T15:55:51.003","Laptop","East","Individual",67,"Yes",2.2999999999999998,220,"Agent Mary"]
[null,"CL03324","2012-01-12T16:11:32.564","Software","North","SME",83,"Yes",2.8,0,"Agent Bond"]
[null,"CL03333","2012-01-12T16:35:43.662","Misc.","East","Large Corporate",74,"Yes",2.2000000000000002,0,"Agent Smith"]
[null,"CL03336","2012-01-12T16:43:08.391","Desktop","West","SME",66,"Yes",3.2,160,"Agent Bond"]
[null,"CL03343","2012-01-12T17:03:51.340","Software","West","Individual",79,"Yes",2.7,0,"Agent Smith"]
[null,"CL03352","2012-01-12T17:29:08.505","Desktop","West","SME",75,"Yes",2.2000000000000002,0,"Agent Neo"]
[null,"CL03354","2012-01-12T17:36:26.310","Desktop","North","SME",61,"Yes",3.2,170,"Agent Bond"]
[null,"CL03363","2012-01-12T17:59:37.334","Software","South","Individual",75,"Yes",3.2,0,"Agent Neo"]
[null,"CL03366","2012-01-12T18:08:39.736","Desktop","Mid-west","Large Corporate",82,"Yes",3,190,"Agent Vinod"]
[null,"CL03373","2012-01-12T18:14:16.599","Misc.","West","Individual",94,"Yes",3.7,120,"Agent Smith"]
[null,"CL03382","2012-01-12T18:41:14.778","Monitor","East","Large Corporate",72,"Yes",3.9,240,"Agent Vinod"]
[null,"CL03389","2012-01-12T19:08:29.825","Desktop","North","Individual",77,"Yes",3.7,210,"Agent Vinod"]
[null,"CL03393","2012-01-12T19:20:11.924","Laptop","South","Individual",73,"Yes",3,280,"Agent Vinod"]
[null,"CL03396","2012-01-12T19:30:50.040","Accessories","West","Individual",90,"Yes",2.8,0,"Agent Bond"]
[null,"CL03403","2012-01-12T19:58:24.443","Software","South","Non-profit",83,"Yes",1.9,0,"Agent Bond"]
[null,"CL03412","2012-01-12T20:23:26.929","Laptop","South","Individual",78,"Yes",2.5,240,"Agent Smith"]
[null,"CL03415","2012-01-12T20:38:50.070","Misc.","West","Large Corporate",71,"Yes",2.6,190,"Agent Vinod"]
[null,"CL03423","2012-01-12T21:00:41.719","Software","South","SME",81,"Yes",2.7,250,"Agent Mary"]
[null,"CL03432","2012-01-12T21:26:51.573","Accessories","North","Large Corporate",76,"Yes",2.8,160,"Agent Mary"]
[null,"CL03435","2012-01-12T21:35:42.274","Accessories","West","Large Corporate",82,"Yes",3,0,"Agent Vinod"]
[null,"CL03442","2012-01-12T21:54:25.561","Desktop","East","Large Corporate",74,"Yes",3.1,220,"Agent Vinod"]
[null,"CL03445","2012-01-13T08:04:13.307","Software","Mid-west","Non-profit",79,"Yes",4.0999999999999996,120,"Agent Mary"]
[null,"CL03452","2012-01-13T08:23:21.510","Accessories","South","Individual",63,"Yes",3.7,0,"Agent Neo"]
[null,"CL03460","2012-01-13T08:46:48.216","Laptop","West","Individual",78,"Yes",3.1,0,"Agent Bond"]
[null,"CL03465","2012-01-13T08:59:25.139","Misc.","South","SME",69,"Yes",3.3,280,"Agent Neo"]
[null,"CL03472","2012-01-13T09:22:59.237","Laptop","East","Large Corporate",75,"Yes",2.8,130,"Agent Vinod"]
[null,"CL03481","2012-01-13T09:49:38.154","Laptop","East","Non-profit",79,"Yes",3.7,150,"Agent Vinod"]
[null,"CL03482","2012-01-13T09:50:04.169","Software","East","Non-profit",82,"Yes",2.8,180,"Agent Neo"]
[null,"CL03491","2012-01-13T10:09:51.067","Software","South","Individual",71,"Yes",2.2999999999999998,180,"Agent Smith"]
[null,"CL03497","2012-01-13T10:24:31.484","Laptop","South","Large Corporate",79,"Yes",4.5999999999999996,170,"Agent Mary"]
[null,"CL03502","2012-01-13T10:31:17.564","Software","West","Non-profit",80,"Yes",2.9,210,"Agent Vinod"]
[null,"CL03511","2012-01-13T11:00:55.584","Monitor","Mid-west","Individual",79,"Yes",3.2,270,"Agent Mary"]
[null,"CL03514","2012-01-13T11:09:43.472","Accessories","South","SME",74,"Yes",2.2999999999999998,0,"Agent Smith"]
[null,"CL03521","2012-01-13T11:31:52.231","Monitor","Mid-west","Individual",77,"Yes",3.3,220,"Agent Neo"]
[null,"CL03530","2012-01-13T11:56:57.719","Monitor","North","Individual",66,"Yes",3,0,"Agent Smith"]
[null,"CL03531","2012-01-13T11:58:57.690","Misc.","West","Non-profit",67,"No",2.5,0,"Agent Neo"]
[null,"CL03541","2012-01-13T12:31:01.811","Software","South","SME",66,"Yes",3.2,0,"Agent Bond"]
[null,"CL03544","2012-01-13T12:42:54.217","Accessories","South","Individual",76,"Yes",3.5,0,"Agent Neo"]
[null,"CL03551","2012-01-13T13:11:11.780","Accessories","Mid-west","Large Corporate",72,"Yes",3.4,0,"Agent Harry"]
[null,"CL03560","2012-01-13T13:36:39.426","Accessories","Mid-west","Large Corporate",91,"Yes",2.7,170,"Agent Mary"]
[null,"CL03567","2012-01-13T13:48:21.222","Software","East","Non-profit",70,"Yes",2.6,230,"Agent Neo"]
[null,"CL03568","2012-01-13T13:50:52.274","Desktop","Mid-west","Large Corporate",68,"Yes",3.4,190,"Agent Vinod"]
[null,"CL03580","2012-01-13T14:27:23.639","Desktop","South","Large Corporate",74,"Yes",2.5,0,"Agent Neo"]
[null,"CL03581","2012-01-13T14:29:02.662","Monitor","Mid-west","SME",78,"Yes",3.2,180,"Agent Mary"]
[null,"CL03590","2012-01-13T14:45:22.979","Laptop","West","SME",68,"Yes",2.6,0,"Agent Neo"]
[null,"CL03593","2012-01-13T14:58:34.180","Laptop","South","Individual",67,"Yes",3.5,150,"Agent Bond"]
[null,"CL03600","2012-01-13T15:18:37.549","Laptop","South","SME",67,"Yes",2.9,180,"Agent Vinod"]
[null,"CL03605","2012-01-13T15:33:41.462","Desktop","Mid-west","SME",75,"Yes",2.4,130,"Agent Harry"]
[null,"CL03617","2012-01-13T16:00:51.876","Monitor","North","Non-profit",73,"Yes",2.9,170,"Agent Harry"]
[null,"CL03620","2012-01-13T16:09:36.218","Laptop","East","Large Corporate",80,"Yes",3,200,"Agent Bond"]
[null,"CL03629","2012-01-13T16:42:18.787","Misc.","East","Large Corporate",70,"Yes",3.9,140,"Agent Vinod"]
[null,"CL03630","2012-01-13T16:45:03.123","Software","South","Non-profit",80,"Yes",2.6,200,"Agent Mary"]
[null,"CL03639","2012-01-13T17:12:32.697","Laptop","Mid-west","Large Corporate",85,"Yes",3,110,"Agent Neo"]
[null,"CL03642","2012-01-13T17:20:54.529","Laptop","West","SME",72,"Yes",2.5,210,"Agent Neo"]
[null,"CL03650","2012-01-13T17:49:06.267","Monitor","South","Individual",82,"Yes",3,120,"Agent Harry"]
[null,"CL03659","2012-01-13T18:07:51.137","Software","North","Individual",57,"Yes",2.4,170,"Agent Vinod"]
[null,"CL03666","2012-01-13T18:23:09.427","Software","South","Individual",76,"Yes",2,150,"Agent Mary"]
[null,"CL03669","2012-01-13T18:31:34.617","Misc.","South","Large Corporate",79,"Yes",3.7,0,"Agent Harry"]
[null,"CL03679","2012-01-13T18:56:35.094","Accessories","West","Large Corporate",68,"Yes",2.5,0,"Agent Mary"]
[null,"CL03680","2012-01-13T18:58:50.126","Monitor","North","Individual",70,"Yes",2,290,"Agent Harry"]
[null,"CL03689","2012-01-13T19:30:39.317","Misc.","South","Individual",95,"Yes",1.8,240,"Agent Mary"]
[null,"CL03696","2012-01-13T19:52:57.362","Software","West","SME",80,"Yes",3.4,190,"Agent Harry"]
[null,"CL03699","2012-01-13T20:01:47.811","Software","North","Non-profit",81,"Yes",2.7,0,"Agent Smith"]
[null,"CL03708","2012-01-13T20:21:44.691","Laptop","Mid-west","Non-profit",70,"Yes",2.5,210,"Agent Neo"]
[null,"CL03713","2012-01-13T20:39:26.037","Laptop","West","Non-profit",81,"Yes",3.1,200,"Agent Neo"]
[null,"CL03719","2012-01-13T20:55:09.614","Accessories","West","SME",77,"Yes",3.6,0,"Agent Harry"]
[null,"CL03728","2012-01-13T21:26:54.167","Monitor","West","Non-profit",73,"Yes",3.4,180,"Agent Bond"]
[null,"CL03729","2012-01-13T21:30:53.675","Monitor","South","SME",74,"Yes",2.7,120,"Agent Neo"]
[null,"CL03738","2012-01-13T21:53:35.433","Desktop","West","Large Corporate",77,"Yes",2.6,0,"Agent Harry"]
[null,"CL03745","2012-01-14T08:17:56.524","Laptop","East","Non-profit",77,"Yes",2.8,0,"Agent Mary"]
[null,"CL03750","2012-01-14T08:32:32.205","Misc.","East","Individual",79,"Yes",3.4,210,"Agent Mary"]
[null,"CL03758","2012-01-14T08:54:39.033","Laptop","South","Non-profit",88,"Yes",2.6,220,"Agent Smith"]
[null,"CL03765","2012-01-14T09:07:16.900","Laptop","West","SME",80,"Yes",3.4,180,"Agent Bond"]
[null,"CL03768","2012-01-14T09:19:04.090","Monitor","West","SME",64,"Yes",3,0,"Agent Smith"]
[null,"CL03775","2012-01-14T09:39:16.272","Desktop","South","Large Corporate",63,"Yes",2.5,0,"Agent Smith"]
[null,"CL03778","2012-01-14T09:44:33.611","Software","West","Individual",70,"Yes",2.8,130,"Agent Harry"]
[null,"CL03787","2012-01-14T10:07:03.690","Misc.","South","Large Corporate",80,"Yes",3,250,"Agent Neo"]
[null,"CL03795","2012-01-14T10:16:15.860","Accessories","West","Large Corporate",67,"Yes",3.4,0,"Agent Neo"]
[null,"CL03798","2012-01-14T10:27:19.595","Accessories","North","Large Corporate",62,"Yes",3,0,"Agent Vinod"]
[null,"CL03807","2012-01-14T10:49:59.533","Software","Mid-west","Non-profit",66,"Yes",3.3,0,"Agent Mary"]
[null,"CL03814","2012-01-14T11:11:46.692","Accessories","North","Individual",82,"Yes",3.8,230,"Agent Vinod"]
[null,"CL03817","2012-01-14T11:20:32.026","Laptop","West","Individual",81,"Yes",3.6,130,"Agent Vinod"]
[null,"CL03821","2012-01-14T11:37:58.409","Monitor","West","Large Corporate",68,"No",2.7,0,"Agent Bond"]
[null,"CL03828","2012-01-14T11:51:38.145","Software","South","Individual",86,"Yes",1.7,310,"Agent Vinod"]
[null,"CL03837","2012-01-14T12:13:33.110","Laptop","South","Non-profit",71,"Yes",3.5,0,"Agent Neo"]
[null,"CL03844","2012-01-14T12:38:13.318","Software","South","Individual",71,"Yes",2.9,0,"Agent Smith"]
[null,"CL03847","2012-01-14T12:47:09.572","Laptop","East","Non-profit",78,"Yes",2.6,0,"Agent Smith"]
[null,"CL03856","2012-01-14T13:20:09.213","Laptop","North","SME",82,"Yes",2.7,230,"Agent Bond"]
[null,"CL03858","2012-01-14T13:25:31.808","Misc.","Mid-west","Large Corporate",75,"Yes",3.3,180,"Agent Harry"]
[null,"CL03867","2012-01-14T13:46:11.185","Accessories","North","Non-profit",68,"Yes",2.8,140,"Agent Mary"]
[null,"CL03874","2012-01-14T14:07:05.416","Software","South","SME",78,"Yes",3.2,250,"Agent Mary"]
[null,"CL03877","2012-01-14T14:14:48.304","Accessories","South","Large Corporate",72,"Yes",3,260,"Agent Harry"]
[null,"CL03886","2012-01-14T14:45:51.585","Laptop","Mid-west","Individual",84,"Yes",2.7,130,"Agent Mary"]
[null,"CL03893","2012-01-14T15:12:02.816","Desktop","South","Individual",76,"Yes",2.9,210,"Agent Bond"]
[null,"CL03895","2012-01-14T15:17:18.303","Desktop","East","Large Corporate",69,"Yes",3.5,0,"Agent Mary"]
[null,"CL03904","2012-01-14T15:41:15.966","Accessories","South","Individual",87,"Yes",2.9,0,"Agent Vinod"]
[null,"CL03913","2012-01-14T16:14:56.219","Desktop","South","Large Corporate",76,"Yes",2.9,130,"Agent Vinod"]
[null,"CL03916","2012-01-14T16:25:54.231","Misc.","South","SME",58,"Yes",3.1,260,"Agent Mary"]
[null,"CL03923","2012-01-14T16:45:55.218","Accessories","North","Non-profit",70,"Yes",2.6,140,"Agent Mary"]
[null,"CL03926","2012-01-14T16:53:15.553","Software","West","Individual",67,"Yes",2.9,190,"Agent Bond"]
[null,"CL03932","2012-01-14T16:58:37.152","Accessories","South","Large Corporate",75,"Yes",3,0,"Agent Smith"]
[null,"CL03943","2012-01-14T17:36:39.433","Accessories","East","Large Corporate",73,"Yes",3,220,"Agent Vinod"]
[null,"CL03946","2012-01-14T17:48:12.557","Desktop","West","Individual",76,"Yes",3.1,0,"Agent Neo"]
[null,"CL03953","2012-01-14T18:11:31.939","Laptop","South","Non-profit",86,"Yes",2.5,240,"Agent Smith"]
[null,"CL03962","2012-01-14T18:37:17.495","Misc.","West","SME",80,"No",2.2999999999999998,0,"Agent Bond"]
[null,"CL03965","2012-01-14T18:46:46.582","Laptop","Mid-west","SME",58,"Yes",3.7,200,"Agent Bond"]
[null,"CL03973","2012-01-14T19:16:14.779","Desktop","Mid-west","Large Corporate",90,"Yes",2.9,210,"Agent Neo"]
[null,"CL03976","2012-01-14T19:24:43.365","Software","West","Large Corporate",76,"Yes",3.8,180,"Agent Mary"]
[null,"CL03985","2012-01-14T19:46:10.551","Monitor","Mid-west","SME",79,"Yes",3.6,220,"Agent Harry"]
[null,"CL03992","2012-01-14T20:08:24.135","Desktop","North","Large Corporate",76,"Yes",3.3,200,"Agent Mary"]
[null,"CL03995","2012-01-14T20:16:07.085","Desktop","South","Large Corporate",76,"Yes",3.4,120,"Agent Harry"]
[null,"CL04002","2012-01-14T20:42:39.483","Laptop","Mid-west","Individual",81,"Yes",2.8,200,"Agent Mary"]
[null,"CL04010","2012-01-14T20:56:27.170","Desktop","East","SME",71,"Yes",2.9,0,"Agent Neo"]
[null,"CL04015","2012-01-14T21:10:35.921","Monitor","North","Large Corporate",72,"Yes",3.6,0,"Agent Harry"]
[null,"CL04022","2012-01-14T21:33:33.036","Monitor","East","Large Corporate",84,"Yes",3.3,230,"Agent Neo"]
[null,"CL04025","2012-01-14T21:42:51.030","Monitor","South","Large Corporate",90,"Yes",4.2,0,"Agent Harry"]
[null,"CL04032","2012-01-14T22:02:33.283","Software","West","Non-profit",69,"Yes",4.0999999999999996,0,"Agent Smith"]
[null,"CL04041","2012-01-15T08:32:40.027","Monitor","South","SME",80,"Yes",3.1,180,"Agent Vinod"]
[null,"CL04047","2012-01-15T08:52:48.829","Monitor","West","Individual",64,"Yes",3.1,0,"Agent Neo"]
[null,"CL04052","2012-01-15T09:05:53.132","Desktop","Mid-west","Individual",71,"Yes",3,0,"Agent Vinod"]
[null,"CL04061","2012-01-15T09:38:29.252","Software","Mid-west","Individual",79,"Yes",3,80,"Agent Bond"]
[null,"CL04064","2012-01-15T09:48:50.453","Accessories","North","Large Corporate",70,"Yes",2.7,200,"Agent Smith"]
[null,"CL04071","2012-01-15T10:07:49.864","Laptop","West","SME",76,"Yes",3.4,210,"Agent Smith"]
[null,"CL04074","2012-01-15T10:12:26.636","Laptop","South","Large Corporate",75,"Yes",3.3,0,"Agent Neo"]
[null,"CL04081","2012-01-15T10:30:29.136","Laptop","East","Large Corporate",75,"Yes",3.4,240,"Agent Harry"]
[null,"CL04091","2012-01-15T10:56:15.876","Desktop","South","SME",82,"Yes",2,0,"Agent Bond"]
[null,"CL04094","2012-01-15T11:05:00.804","Software","Mid-west","Non-profit",76,"Yes",2.8,210,"Agent Neo"]
[null,"CL04101","2012-01-15T11:24:26.963","Accessories","North","Large Corporate",78,"Yes",3.1,0,"Agent Mary"]
[null,"CL04110","2012-01-15T11:53:04.957","Software","North","Individual",47,"Yes",3.4,220,"Agent Neo"]
[null,"CL04111","2012-01-15T11:58:33.763","Monitor","East","Large Corporate",72,"Yes",4,0,"Agent Mary"]
[null,"CL04118","2012-01-15T12:12:32.185","Monitor","Mid-west","Non-profit",73,"Yes",2.5,0,"Agent Bond"]
[null,"CL04124","2012-01-15T12:33:16.984","Laptop","East","Individual",67,"Yes",3.3,0,"Agent Bond"]
[null,"CL04131","2012-01-15T12:45:52.339","Monitor","North","SME",71,"Yes",3.4,0,"Agent Vinod"]
[null,"CL04140","2012-01-15T13:17:24.921","Software","West","Individual",83,"Yes",2.8,230,"Agent Smith"]
[null,"CL04143","2012-01-15T13:25:15.522","Accessories","Mid-west","Large Corporate",79,"Yes",2.5,270,"Agent Mary"]
[null,"CL04150","2012-01-15T13:42:23.199","Misc.","Mid-west","Non-profit",67,"Yes",3,0,"Agent Harry"]
[null,"CL04155","2012-01-15T13:49:54.310","Accessories","West","SME",83,"Yes",2.7,200,"Agent Harry"]
[null,"CL04161","2012-01-15T14:02:45.357","Accessories","East","SME",69,"Yes",2.5,130,"Agent Mary"]
[null,"CL04170","2012-01-15T14:22:35.321","Accessories","Mid-west","Individual",69,"No",3,240,"Agent Mary"]
[null,"CL04173","2012-01-15T14:24:38.114","Accessories","East","SME",73,"Yes",3.2,130,"Agent Smith"]
[null,"CL04180","2012-01-15T14:46:17.090","Software","East","Non-profit",55,"Yes",2.8,190,"Agent Smith"]
[null,"CL04189","2012-01-15T15:06:53.668","Desktop","East","Non-profit",67,"Yes",2.5,130,"Agent Vinod"]
[null,"CL04192","2012-01-15T15:14:43.610","Misc.","Mid-west","Non-profit",81,"Yes",3.1,0,"Agent Smith"]
[null,"CL04200","2012-01-15T15:36:07.001","Misc.","South","Non-profit",81,"Yes",2.5,200,"Agent Neo"]
[null,"CL04209","2012-01-15T15:57:17.676","Accessories","South","Individual",70,"Yes",3.1,190,"Agent Harry"]
[null,"CL04210","2012-01-15T15:59:24.978","Desktop","North","Non-profit",73,"Yes",3.2,0,"Agent Bond"]
[null,"CL04219","2012-01-15T16:29:51.846","Laptop","North","Individual",87,"Yes",4.4000000000000004,250,"Agent Mary"]
[null,"CL04222","2012-01-15T16:41:15.505","Accessories","North","Individual",72,"Yes",3.6,210,"Agent Mary"]
[null,"CL04233","2012-01-15T17:14:17.230","Laptop","Mid-west","SME",61,"Yes",2.9,180,"Agent Neo"]
[null,"CL04239","2012-01-15T17:24:15.229","Desktop","East","SME",73,"Yes",3.1,0,"Agent Vinod"]
[null,"CL04246","2012-01-15T17:42:08.919","Desktop","West","SME",70,"Yes",3.6,0,"Agent Vinod"]
[null,"CL04249","2012-01-15T17:55:00.727","Monitor","North","Non-profit",75,"Yes",3.2,230,"Agent Mary"]
[null,"CL04258","2012-01-15T18:22:22.799","Monitor","West","Large Corporate",83,"Yes",4.2,0,"Agent Smith"]
[null,"CL04263","2012-01-15T18:42:14.136","Accessories","East","Non-profit",72,"Yes",3.3,230,"Agent Neo"]
[null,"CL04269","2012-01-15T19:00:58.062","Monitor","East","SME",73,"No",2.6,0,"Agent Vinod"]
[null,"CL04272","2012-01-15T19:13:31.482","Monitor","South","Large Corporate",81,"Yes",3,0,"Agent Smith"]
[null,"CL04279","2012-01-15T19:29:36.216","Accessories","Mid-west","SME",63,"Yes",3,240,"Agent Mary"]
[null,"CL04288","2012-01-15T19:45:58.403","Misc.","East","SME",59,"Yes",3.7,0,"Agent Harry"]
[null,"CL04295","2012-01-15T20:06:00.905","Laptop","West","Individual",69,"Yes",2.9,300,"Agent Mary"]
[null,"CL04300","2012-01-15T20:21:54.249","Misc.","South","Large Corporate",73,"Yes",4,170,"Agent Vinod"]
[null,"CL04308","2012-01-15T20:51:22.122","Laptop","East","Large Corporate",75,"Yes",3.2,0,"Agent Bond"]
[null,"CL04309","2012-01-15T20:54:15.475","Monitor","South","Non-profit",68,"Yes",3.2,210,"Agent Neo"]
[null,"CL04318","2012-01-15T21:15:25.728","Accessories","South","SME",75,"Yes",4,0,"Agent Bond"]
[null,"CL04325","2012-01-15T21:35:12.955","Misc.","West","SME",76,"Yes",2.6,0,"Agent Smith"]
[null,"CL04328","2012-01-15T21:44:28.349","Desktop","Mid-west","Individual",89,"Yes",2.7,290,"Agent Vinod"]
[null,"CL04337","2012-01-16T08:10:36.422","Software","West","SME",77,"Yes",3.2,230,"Agent Bond"]
[null,"CL04345","2012-01-16T08:39:02.387","Monitor","South","Large Corporate",76,"Yes",3,0,"Agent Harry"]
[null,"CL04348","2012-01-16T08:45:37.980","Accessories","West","Individual",82,"Yes",2.9,300,"Agent Neo"]
[null,"CL04357","2012-01-16T09:09:24.004","Software","South","SME",77,"Yes",2.4,190,"Agent Smith"]
[null,"CL04358","2012-01-16T09:14:50.081","Accessories","Mid-west","SME",75,"Yes",3.7,180,"Agent Neo"]
[null,"CL04367","2012-01-16T09:40:22.147","Laptop","South","Non-profit",81,"No",2.4,230,"Agent Mary"]
[null,"CL04371","2012-01-16T09:51:27.900","Monitor","North","Individual",84,"Yes",3.4,0,"Agent Smith"]
[null,"CL04378","2012-01-16T10:09:17.263","Monitor","West","Non-profit",72,"Yes",2.2999999999999998,220,"Agent Mary"]
[null,"CL04387","2012-01-16T10:31:12.954","Software","North","SME",79,"Yes",3.8,0,"Agent Bond"]
[null,"CL04394","2012-01-16T10:53:59.178","Software","South","Large Corporate",88,"Yes",2.5,160,"Agent Bond"]
[null,"CL04397","2012-01-16T11:02:01.132","Monitor","South","Non-profit",66,"Yes",2.8,150,"Agent Bond"]
[null,"CL04406","2012-01-16T11:27:59.223","Accessories","West","Non-profit",92,"Yes",2.7,200,"Agent Harry"]
[null,"CL04408","2012-01-16T11:32:47.826","Accessories","West","SME",74,"Yes",2.6,220,"Agent Mary"]
[null,"CL04417","2012-01-16T11:48:36.912","Accessories","South","Non-profit",85,"Yes",3.5,0,"Agent Bond"]
[null,"CL04424","2012-01-16T12:09:34.028","Misc.","Mid-west","Individual",82,"Yes",2.8,0,"Agent Harry"]
[null,"CL04427","2012-01-16T12:18:32.565","Software","North","Individual",64,"Yes",3.3,260,"Agent Mary"]
[null,"CL04436","2012-01-16T12:49:02.387","Misc.","North","Non-profit",80,"Yes",2.7,0,"Agent Mary"]
[null,"CL04443","2012-01-16T13:05:32.273","Laptop","North","Large Corporate",79,"Yes",3.2,0,"Agent Harry"]
[null,"CL04445","2012-01-16T13:09:18.830","Accessories","North","Large Corporate",79,"Yes",2.8,0,"Agent Smith"]
[null,"CL04454","2012-01-16T13:34:49.059","Monitor","Mid-west","Non-profit",78,"Yes",2.8,220,"Agent Mary"]
[null,"CL04457","2012-01-16T13:38:21.067","Monitor","Mid-west","SME",75,"Yes",3,240,"Agent Mary"]
[null,"CL04466","2012-01-16T14:00:33.669","Laptop","North","SME",79,"Yes",3.7,0,"Agent Harry"]
[null,"CL04473","2012-01-16T14:23:52.868","Software","East","Large Corporate",73,"Yes",3.1,150,"Agent Smith"]
[null,"CL04476","2012-01-16T14:27:18.382","Software","North","Non-profit",83,"Yes",2.7,0,"Agent Smith"]
[null,"CL04482","2012-01-16T14:39:39.195","Monitor","East","SME",83,"Yes",2.2999999999999998,170,"Agent Mary"]
[null,"CL04493","2012-01-16T15:05:54.190","Monitor","East","Individual",83,"Yes",3,0,"Agent Bond"]
[null,"CL04496","2012-01-16T15:12:10.027","Laptop","South","Individual",86,"Yes",3,100,"Agent Neo"]
[null,"CL04503","2012-01-16T15:34:13.740","Software","East","SME",67,"Yes",2.2000000000000002,110,"Agent Vinod"]
[null,"CL04506","2012-01-16T15:41:50.882","Monitor","East","SME",69,"Yes",3.1,250,"Agent Mary"]
[null,"CL04515","2012-01-16T16:06:02.795","Misc.","Mid-west","Large Corporate",82,"Yes",3.2,270,"Agent Mary"]
[null,"CL04523","2012-01-16T16:24:46.097","Software","Mid-west","Non-profit",83,"Yes",3.8,270,"Agent Vinod"]
[null,"CL04526","2012-01-16T16:36:52.019","Laptop","Mid-west","Individual",52,"Yes",3,0,"Agent Bond"]
[null,"CL04535","2012-01-16T16:58:18.936","Misc.","West","SME",84,"Yes",3.1,150,"Agent Vinod"]
[null,"CL04542","2012-01-16T17:16:54.257","Desktop","Mid-west","SME",73,"Yes",3.4,140,"Agent Neo"]
[null,"CL04545","2012-01-16T17:20:19.735","Misc.","West","SME",71,"Yes",2.5,0,"Agent Neo"]
[null,"CL04552","2012-01-16T17:35:12.789","Software","North","Non-profit",77,"Yes",2.9,220,"Agent Neo"]
[null,"CL04560","2012-01-16T17:51:19.389","Software","East","SME",91,"Yes",3.3,250,"Agent Bond"]
[null,"CL04565","2012-01-16T18:06:47.578","Software","North","Individual",81,"Yes",3.4,190,"Agent Harry"]
[null,"CL04572","2012-01-16T18:22:58.241","Misc.","East","Large Corporate",75,"Yes",2.4,220,"Agent Neo"]
[null,"CL04575","2012-01-16T18:29:39.908","Desktop","Mid-west","SME",69,"Yes",2.6,290,"Agent Bond"]
[null,"CL04582","2012-01-16T18:48:33.376","Software","North","Individual",93,"Yes",2.8,190,"Agent Smith"]
[null,"CL04591","2012-01-16T19:13:49.969","Laptop","East","Non-profit",76,"Yes",3.6,0,"Agent Harry"]
[null,"CL04597","2012-01-16T19:38:37.738","Misc.","South","Large Corporate",96,"Yes",3.2,0,"Agent Bond"]
[null,"CL04602","2012-01-16T19:54:29.362","Monitor","North","Non-profit",55,"Yes",2.8,130,"Agent Harry"]
[null,"CL04605","2012-01-16T20:00:06.736","Misc.","North","SME",88,"Yes",3.5,210,"Agent Neo"]
[null,"CL04614","2012-01-16T20:26:06.050","Laptop","South","SME",69,"Yes",2.7,140,"Agent Neo"]
[null,"CL04621","2012-01-16T20:49:18.242","Accessories","East","Individual",84,"Yes",2.5,0,"Agent Mary"]
[null,"CL04624","2012-01-16T20:59:53.166","Misc.","Mid-west","Individual",79,"Yes",1.9,140,"Agent Mary"]
[null,"CL04631","2012-01-16T21:20:09.914","Accessories","West","SME",86,"Yes",2.2999999999999998,180,"Agent Bond"]
[null,"CL04641","2012-01-16T21:44:44.819","Software","South","Individual",85,"Yes",3.2,0,"Agent Harry"]
[null,"CL04644","2012-01-16T21:54:08.423","Accessories","West","Individual",74,"Yes",2.6,160,"Agent Bond"]
[null,"CL04651","2012-01-17T08:20:12.749","Software","East","Large Corporate",86,"Yes",2.2000000000000002,0,"Agent Smith"]
[null,"CL04654","2012-01-17T08:27:39.844","Accessories","West","Individual",83,"Yes",2.8,0,"Agent Harry"]
[null,"CL04661","2012-01-17T08:47:15.413","Desktop","East","SME",92,"Yes",2.9,110,"Agent Neo"]
[null,"CL04668","2012-01-17T09:08:42.061","Monitor","South","Individual",83,"Yes",3.2,190,"Agent Harry"]
[null,"CL04674","2012-01-17T09:23:29.388","Laptop","North","SME",66,"Yes",3.5,110,"Agent Smith"]
[null,"CL04681","2012-01-17T09:36:29.382","Misc.","North","Individual",70,"Yes",3,230,"Agent Harry"]
[null,"CL04690","2012-01-17T10:08:32.893","Desktop","South","SME",92,"Yes",3,0,"Agent Vinod"]
[null,"CL04693","2012-01-17T10:17:13.614","Monitor","Mid-west","SME",67,"Yes",2.8,150,"Agent Harry"]
[null,"CL04700","2012-01-17T10:29:35.772","Accessories","South","Individual",79,"Yes",2.4,0,"Agent Smith"]
[null,"CL04705","2012-01-17T10:41:49.045","Monitor","East","SME",72,"Yes",2.8,150,"Agent Smith"]
[null,"CL04711","2012-01-17T10:56:04.554","Desktop","West","Non-profit",87,"Yes",4.5,0,"Agent Harry"]
[null,"CL04720","2012-01-17T11:18:31.011","Software","East","Non-profit",85,"Yes",2.5,170,"Agent Neo"]
[null,"CL04723","2012-01-17T11:24:49.216","Misc.","Mid-west","Non-profit",63,"Yes",2.7,260,"Agent Harry"]
[null,"CL04730","2012-01-17T11:38:17.206","Software","Mid-west","Non-profit",81,"Yes",2.4,230,"Agent Harry"]
[null,"CL04739","2012-01-17T11:58:03.763","Laptop","Mid-west","Individual",69,"Yes",2,190,"Agent Bond"]
[null,"CL04742","2012-01-17T12:10:27.016","Laptop","North","SME",86,"Yes",3.4,330,"Agent Vinod"]
[null,"CL04750","2012-01-17T12:34:57.590","Desktop","West","Non-profit",67,"Yes",2.8,0,"Agent Smith"]
[null,"CL04753","2012-01-17T12:41:24.574","Misc.","West","Non-profit",76,"Yes",2.4,0,"Agent Mary"]
[null,"CL04760","2012-01-17T12:58:07.714","Desktop","South","Individual",79,"Yes",2.8,0,"Agent Neo"]
[null,"CL04769","2012-01-17T13:27:33.874","Misc.","East","Large Corporate",74,"Yes",3.1,0,"Agent Bond"]
[null,"CL04772","2012-01-17T13:35:48.422","Laptop","North","Individual",52,"Yes",4.7,260,"Agent Neo"]
[null,"CL04783","2012-01-17T14:00:54.428","Misc.","North","Large Corporate",72,"Yes",2.2999999999999998,0,"Agent Neo"]
[null,"CL04789","2012-01-17T14:25:50.977","Software","Mid-west","Individual",88,"Yes",3.3,200,"Agent Harry"]
[null,"CL04790","2012-01-17T14:30:53.618","Monitor","South","Individual",62,"Yes",1.9,290,"Agent Harry"]
[null,"CL04799","2012-01-17T14:52:00.107","Desktop","East","Non-profit",69,"Yes",4,220,"Agent Smith"]
[null,"CL04802","2012-01-17T14:59:50.567","Accessories","East","SME",91,"Yes",2.5,190,"Agent Neo"]
[null,"CL04813","2012-01-17T15:23:40.205","Laptop","East","Large Corporate",85,"Yes",3.8,190,"Agent Harry"]
[null,"CL04819","2012-01-17T15:37:17.818","Desktop","North","Individual",68,"Yes",3.3,0,"Agent Neo"]
[null,"CL04822","2012-01-17T15:49:18.566","Misc.","Mid-west","Individual",78,"Yes",2.7,220,"Agent Mary"]
[null,"CL04829","2012-01-17T16:06:37.400","Desktop","North","Individual",73,"Yes",3.9,220,"Agent Smith"]
[null,"CL04838","2012-01-17T16:34:42.317","Misc.","West","Individual",71,"Yes",4.0999999999999996,0,"Agent Vinod"]
[null,"CL04839","2012-01-17T16:38:41.943","Misc.","North","Non-profit",60,"Yes",2.9,160,"Agent Mary"]
[null,"CL04850","2012-01-17T17:11:57.027","Accessories","Mid-west","Large Corporate",59,"Yes",2.6,230,"Agent Vinod"]
[null,"CL04852","2012-01-17T17:15:15.630","Accessories","West","Large Corporate",66,"Yes",3.7,0,"Agent Mary"]
[null,"CL04859","2012-01-17T17:44:21.525","Accessories","West","Individual",76,"Yes",3.3,0,"Agent Bond"]
[null,"CL04868","2012-01-17T18:11:58.703","Desktop","North","SME",72,"Yes",1.7,270,"Agent Neo"]
[null,"CL04871","2012-01-17T18:22:12.467","Desktop","Mid-west","SME",74,"Yes",2.4,0,"Agent Harry"]
[null,"CL04878","2012-01-17T18:41:50.353","Misc.","East","Large Corporate",78,"Yes",2.6,0,"Agent Bond"]
[null,"CL04887","2012-01-17T19:03:59.652","Accessories","North","SME",80,"Yes",3.1,140,"Agent Smith"]
[null,"CL04889","2012-01-17T19:10:05.841","Accessories","East","Large Corporate",76,"Yes",3.4,0,"Agent Bond"]
[null,"CL04898","2012-01-17T19:33:56.559","Misc.","Mid-west","Individual",77,"Yes",3.7,0,"Agent Neo"]
[null,"CL04901","2012-01-17T19:38:06.063","Desktop","Mid-west","Large Corporate",69,"Yes",3.2,0,"Agent Mary"]
[null,"CL04908","2012-01-17T19:58:39.651","Monitor","West","Non-profit",83,"No",2.9,0,"Agent Smith"]
[null,"CL04917","2012-01-17T20:21:34.692","Accessories","South","Individual",61,"Yes",3.2,190,"Agent Smith"]
[null,"CL04921","2012-01-17T20:30:00.181","Accessories","East","Large Corporate",63,"Yes",2.9,250,"Agent Harry"]
[null,"CL04928","2012-01-17T20:47:59.635","Software","Mid-west","Individual",79,"Yes",2.2999999999999998,0,"Agent Bond"]
[null,"CL04937","2012-01-17T21:19:57.890","Misc.","East","Individual",92,"Yes",2.6,210,"Agent Vinod"]
[null,"CL04938","2012-01-17T21:22:49.981","Misc.","Mid-west","Individual",77,"Yes",2,0,"Agent Bond"]
[null,"CL04947","2012-01-17T21:51:22.192","Misc.","South","SME",82,"Yes",2.8,0,"Agent Bond"]
[null,"CL04950","2012-01-17T22:00:48.919","Software","East","Individual",86,"Yes",2.4,0,"Agent Smith"]
[null,"CL04958","2012-01-18T08:23:09.944","Misc.","Mid-west","Individual",71,"Yes",3.5,180,"Agent Harry"]
[null,"CL04967","2012-01-18T08:41:58.538","Laptop","Mid-west","Large Corporate",66,"Yes",3.1,230,"Agent Smith"]
[null,"CL04974","2012-01-18T09:02:53.329","Monitor","East","Non-profit",68,"Yes",3.5,210,"Agent Vinod"]
[null,"CL04977","2012-01-18T09:07:29.544","Misc.","North","Large Corporate",75,"Yes",2.8,160,"Agent Vinod"]
[null,"CL04986","2012-01-18T09:39:18.171","Software","East","Non-profit",76,"Yes",2.2999999999999998,220,"Agent Bond"]
[null,"CL04987","2012-01-18T09:44:21.218","Monitor","North","Individual",78,"Yes",3,150,"Agent Neo"]
[null,"CL04995","2012-01-18T10:02:46.777","Desktop","Mid-west","Large Corporate",70,"Yes",3.4,120,"Agent Mary"]
[null,"CL05004","2012-01-18T10:28:15.379","Laptop","South","Individual",69,"Yes",2.2000000000000002,0,"Agent Harry"]
[null,"CL05007","2012-01-18T10:37:04.267","Accessories","Mid-west","SME",71,"Yes",3.9,200,"Agent Neo"]
[null,"CL05016","2012-01-18T11:03:06.078","Laptop","West","Individual",76,"Yes",2,0,"Agent Vinod"]
[null,"CL05023","2012-01-18T11:27:11.754","Monitor","West","Non-profit",76,"Yes",3.5,240,"Agent Mary"]
[null,"CL05026","2012-01-18T11:35:14.608","Software","South","SME",80,"Yes",2.9,230,"Agent Neo"]
[null,"CL05032","2012-01-18T11:51:06.153","Monitor","North","SME",63,"Yes",3.2,0,"Agent Smith"]
[null,"CL05037","2012-01-18T12:05:33.787","Laptop","West","Large Corporate",83,"Yes",3.1,190,"Agent Neo"]
[null,"CL05046","2012-01-18T12:22:44.959","Misc.","North","Large Corporate",74,"Yes",2.4,0,"Agent Vinod"]
[null,"CL05053","2012-01-18T12:42:58.749","Accessories","East","Large Corporate",51,"Yes",3.3,160,"Agent Vinod"]
[null,"CL05056","2012-01-18T12:46:45.927","Desktop","West","SME",61,"Yes",2.9,0,"Agent Smith"]
[null,"CL05065","2012-01-18T13:14:59.607","Accessories","North","Individual",78,"Yes",3.4,200,"Agent Vinod"]
[null,"CL05073","2012-01-18T13:43:16.672","Monitor","West","Large Corporate",54,"Yes",3.2,0,"Agent Bond"]
[null,"CL05076","2012-01-18T13:51:05.313","Laptop","Mid-west","Non-profit",63,"Yes",3.1,180,"Agent Bond"]
[null,"CL05085","2012-01-18T14:20:12.410","Accessories","West","Non-profit",69,"Yes",2.7,270,"Agent Neo"]
[null,"CL05086","2012-01-18T14:20:48.783","Software","West","SME",90,"Yes",2.2999999999999998,240,"Agent Bond"]
[null,"CL05095","2012-01-18T14:38:22.312","Misc.","Mid-west","Individual",70,"Yes",3.4,180,"Agent Vinod"]
[null,"CL05102","2012-01-18T14:55:54.871","Monitor","East","Large Corporate",78,"Yes",2.2000000000000002,260,"Agent Neo"]
[null,"CL05110","2012-01-18T15:21:52.119","Accessories","Mid-west","Individual",64,"Yes",3.3,0,"Agent Vinod"]
[null,"CL05115","2012-01-18T15:40:37.671","Desktop","North","Large Corporate",53,"Yes",2.6,170,"Agent Vinod"]
[null,"CL05122","2012-01-18T16:02:05.489","Desktop","South","Large Corporate",84,"Yes",2,190,"Agent Mary"]
[null,"CL05125","2012-01-18T16:11:01.506","Accessories","Mid-west","Non-profit",84,"Yes",3.3,120,"Agent Vinod"]
[null,"CL05132","2012-01-18T16:28:39.881","Accessories","East","Non-profit",72,"Yes",3.7,270,"Agent Smith"]
[null,"CL05135","2012-01-18T16:35:53.584","Desktop","Mid-west","Large Corporate",68,"Yes",3.9,150,"Agent Neo"]
[null,"CL05147","2012-01-18T17:07:34.748","Accessories","West","Non-profit",85,"Yes",3.5,220,"Agent Harry"]
[null,"CL05152","2012-01-18T17:20:58.616","Accessories","South","SME",73,"Yes",2.2000000000000002,0,"Agent Harry"]
[null,"CL05155","2012-01-18T17:29:54.235","Desktop","North","SME",79,"Yes",3.5,0,"Agent Harry"]
[null,"CL05164","2012-01-18T17:59:02.750","Laptop","West","Individual",72,"Yes",2.8,0,"Agent Smith"]
[null,"CL05171","2012-01-18T18:24:02.839","Software","East","SME",82,"No",3.2,0,"Agent Mary"]
[null,"CL05174","2012-01-18T18:34:12.470","Misc.","North","SME",71,"Yes",1.8,0,"Agent Neo"]
[null,"CL05181","2012-01-18T18:57:55.274","Desktop","South","Individual",83,"No",1.9,0,"Agent Mary"]
[null,"CL05185","2012-01-18T19:06:36.175","Software","East","Non-profit",59,"Yes",3.1,0,"Agent Bond"]
[null,"CL05194","2012-01-18T19:42:10.722","Misc.","East","SME",76,"Yes",3.2,260,"Agent Bond"]
[null,"CL05201","2012-01-18T20:06:47.572","Monitor","North","Individual",63,"Yes",3.4,0,"Agent Neo"]
[null,"CL05204","2012-01-18T20:10:16.680","Accessories","East","Non-profit",70,"Yes",3.2,0,"Agent Neo"]
[null,"CL05211","2012-01-18T20:28:02.322","Desktop","East","SME",54,"Yes",2.9,220,"Agent Neo"]
[null,"CL05218","2012-01-18T20:47:03.436","Software","East","SME",66,"Yes",3.3,0,"Agent Harry"]
[null,"CL05224","2012-01-18T21:02:57.934","Laptop","West","SME",81,"Yes",3.2,180,"Agent Mary"]
[null,"CL05231","2012-01-18T21:19:57.181","Misc.","Mid-west","SME",75,"Yes",3,310,"Agent Smith"]
[null,"CL05234","2012-01-18T21:31:41.328","Accessories","East","Individual",73,"Yes",2.9,190,"Agent Vinod"]
[null,"CL05243","2012-01-18T22:01:08.204","Desktop","East","Individual",90,"Yes",3.2,110,"Agent Mary"]
[null,"CL05250","2012-01-19T08:21:28.541","Laptop","South","Non-profit",82,"Yes",2.2999999999999998,200,"Agent Vinod"]
[null,"CL05255","2012-01-19T08:37:34.681","Laptop","North","SME",69,"Yes",3,220,"Agent Vinod"]
[null,"CL05261","2012-01-19T08:47:28.391","Misc.","North","Individual",83,"Yes",3.1,0,"Agent Neo"]
[null,"CL05270","2012-01-19T09:15:00.449","Monitor","West","Non-profit",74,"Yes",3.4,190,"Agent Neo"]
[null,"CL05273","2012-01-19T09:27:45.481","Accessories","East","Large Corporate",80,"Yes",3.1,0,"Agent Neo"]
[null,"CL05280","2012-01-19T09:54:55.987","Accessories","North","Non-profit",66,"Yes",3.4,210,"Agent Neo"]
[null,"CL05283","2012-01-19T10:01:33.220","Desktop","Mid-west","Large Corporate",83,"Yes",2.9,0,"Agent Smith"]
[null,"CL05292","2012-01-19T10:33:55.746","Misc.","South","SME",85,"Yes",3.3,230,"Agent Harry"]
[null,"CL05300","2012-01-19T10:56:54.508","Desktop","West","SME",78,"Yes",2.2999999999999998,0,"Agent Mary"]
[null,"CL05303","2012-01-19T11:07:45.219","Accessories","North","Large Corporate",74,"Yes",3,160,"Agent Mary"]
[null,"CL05310","2012-01-19T11:34:30.289","Laptop","South","Large Corporate",80,"Yes",2.7,190,"Agent Harry"]
[null,"CL05319","2012-01-19T11:52:11.366","Software","West","Individual",79,"Yes",3.2,0,"Agent Neo"]
[null,"CL05322","2012-01-19T12:01:52.313","Desktop","East","Non-profit",68,"Yes",2.2999999999999998,150,"Agent Harry"]
[null,"CL05326","2012-01-19T12:18:50.209","Misc.","South","Non-profit",69,"Yes",3,160,"Agent Mary"]
[null,"CL05333","2012-01-19T12:46:18.588","Monitor","North","SME",73,"Yes",3.2,100,"Agent Bond"]
[null,"CL05340","2012-01-19T13:06:38.250","Laptop","South","SME",67,"No",2.5,200,"Agent Harry"]
[null,"CL05349","2012-01-19T13:33:51.176","Laptop","East","Individual",85,"Yes",3.2,0,"Agent Vinod"]
[null,"CL05352","2012-01-19T13:40:03.823","Software","West","Non-profit",88,"No",2.7,250,"Agent Vinod"]
[null,"CL05363","2012-01-19T14:11:29.058","Monitor","West","Individual",79,"Yes",3.9,180,"Agent Bond"]
[null,"CL05369","2012-01-19T14:28:29.162","Software","West","Large Corporate",72,"Yes",3.3,0,"Agent Neo"]
[null,"CL05372","2012-01-19T14:34:50.117","Desktop","West","Non-profit",77,"Yes",2.8,0,"Agent Bond"]
[null,"CL05379","2012-01-19T14:56:25.247","Software","West","Non-profit",80,"Yes",2.6,180,"Agent Mary"]
[null,"CL05382","2012-01-19T15:06:50.252","Laptop","South","Large Corporate",79,"No",3.8,0,"Agent Harry"]
[null,"CL05389","2012-01-19T15:32:33.030","Misc.","South","SME",86,"Yes",3.1,180,"Agent Vinod"]
[null,"CL05400","2012-01-19T16:05:02.143","Laptop","South","SME",79,"Yes",2.7,0,"Agent Mary"]
[null,"CL05402","2012-01-19T16:10:58.054","Accessories","East","SME",76,"Yes",3.3,0,"Agent Mary"]
[null,"CL05409","2012-01-19T16:36:07.056","Laptop","West","Large Corporate",76,"Yes",2.9,230,"Agent Smith"]
[null,"CL05418","2012-01-19T17:09:54.254","Laptop","South","Individual",66,"Yes",2.9,250,"Agent Smith"]
[null,"CL05421","2012-01-19T17:17:20.859","Laptop","South","Non-profit",86,"Yes",3.7,200,"Agent Bond"]
[null,"CL05428","2012-01-19T17:38:00.181","Software","South","Individual",66,"Yes",3.3,190,"Agent Bond"]
[null,"CL05437","2012-01-19T18:08:58.013","Monitor","West","Large Corporate",71,"Yes",3.8,200,"Agent Neo"]
[null,"CL05439","2012-01-19T18:14:04.640","Software","East","SME",76,"Yes",3.7,0,"Agent Bond"]
[null,"CL05448","2012-01-19T18:34:36.012","Software","North","Individual",80,"Yes",3.3,0,"Agent Neo"]
[null,"CL05451","2012-01-19T18:41:12.987","Desktop","South","Large Corporate",72,"Yes",3,210,"Agent Vinod"]
[null,"CL05458","2012-01-19T19:00:15.330","Misc.","West","Large Corporate",73,"Yes",3.1,0,"Agent Neo"]
[null,"CL05467","2012-01-19T19:35:30.708","Monitor","East","Non-profit",70,"Yes",3,0,"Agent Vinod"]
[null,"CL05471","2012-01-19T19:46:17.419","Monitor","North","SME",68,"Yes",3.1,180,"Agent Harry"]
[null,"CL05478","2012-01-19T20:01:53.906","Desktop","South","Non-profit",84,"Yes",3.8,170,"Agent Harry"]
[null,"CL05481","2012-01-19T20:08:53.174","Desktop","Mid-west","SME",70,"Yes",3.2,0,"Agent Vinod"]
[null,"CL05488","2012-01-19T20:29:22.384","Accessories","North","Non-profit",72,"Yes",3.8,0,"Agent Mary"]
[null,"CL05497","2012-01-19T21:00:02.675","Misc.","East","Large Corporate",82,"Yes",2.9,0,"Agent Harry"]
[null,"CL05500","2012-01-19T21:11:03.771","Software","West","SME",85,"Yes",3.5,170,"Agent Bond"]
[null,"CL05508","2012-01-19T21:36:40.942","Desktop","East","Non-profit",65,"Yes",3.6,0,"Agent Bond"]
[null,"CL05517","2012-01-20T08:08:24.576","Desktop","South","SME",74,"Yes",2.2999999999999998,0,"Agent Vinod"]
[null,"CL05518","2012-01-20T08:12:18.410","Desktop","South","SME",79,"Yes",3.5,160,"Agent Bond"]
[null,"CL05527","2012-01-20T08:40:52.514","Accessories","West","Non-profit",76,"No",2.9,220,"Agent Mary"]
[null,"CL05530","2012-01-20T08:44:16.118","Desktop","East","SME",79,"Yes",2.4,240,"Agent Vinod"]
[null,"CL05537","2012-01-20T09:07:05.932","Misc.","East","Individual",74,"Yes",3.1,0,"Agent Bond"]
[null,"CL05545","2012-01-20T09:31:29.345","Software","North","Individual",68,"Yes",3.4,150,"Agent Smith"]
[null,"CL05554","2012-01-20T10:01:36.712","Misc.","North","Individual",67,"No",2.6,210,"Agent Smith"]
[null,"CL05557","2012-01-20T10:10:44.259","Laptop","West","Large Corporate",75,"Yes",3.2,160,"Agent Harry"]
[null,"CL05566","2012-01-20T10:33:14.828","Accessories","West","SME",74,"Yes",2.9,240,"Agent Harry"]
[null,"CL05567","2012-01-20T10:34:56.025","Laptop","South","Large Corporate",90,"Yes",3.2,150,"Agent Smith"]
[null,"CL05576","2012-01-20T11:03:03.532","Desktop","South","Large Corporate",69,"No",3.7,0,"Agent Neo"]
[null,"CL05582","2012-01-20T11:20:45.051","Misc.","South","Individual",65,"Yes",3.2,0,"Agent Neo"]
[null,"CL05587","2012-01-20T11:34:53.336","Software","North","Individual",67,"Yes",3,140,"Agent Harry"]
[null,"CL05596","2012-01-20T12:05:42.208","Laptop","North","Individual",94,"Yes",3,180,"Agent Vinod"]
[null,"CL05603","2012-01-20T12:26:14.609","Desktop","West","Non-profit",75,"Yes",3.2,130,"Agent Neo"]
[null,"CL05606","2012-01-20T12:41:00.955","Desktop","South","Non-profit",64,"Yes",3,140,"Agent Mary"]
[null,"CL05615","2012-01-20T13:02:11.227","Software","East","Individual",64,"Yes",3,220,"Agent Mary"]
[null,"CL05616","2012-01-20T13:05:04.003","Software","West","Non-profit",79,"Yes",2.7,0,"Agent Vinod"]
[null,"CL05626","2012-01-20T13:33:39.741","Misc.","East","Large Corporate",88,"Yes",1.9,210,"Agent Smith"]
[null,"CL05629","2012-01-20T13:41:03.638","Software","West","Non-profit",72,"Yes",3.4,0,"Agent Bond"]
[null,"CL05636","2012-01-20T13:59:52.676","Misc.","South","Large Corporate",64,"Yes",3.4,0,"Agent Smith"]
[null,"CL05645","2012-01-20T14:19:40.997","Accessories","West","Large Corporate",83,"Yes",3.4,0,"Agent Bond"]
[null,"CL05652","2012-01-20T14:41:12.060","Misc.","Mid-west","Individual",92,"Yes",2.6,240,"Agent Vinod"]
[null,"CL05653","2012-01-20T14:43:10.427","Misc.","West","Individual",84,"Yes",3.1,190,"Agent Harry"]
[null,"CL05665","2012-01-20T15:26:18.410","Desktop","East","Large Corporate",80,"Yes",3.3,190,"Agent Mary"]
[null,"CL05666","2012-01-20T15:29:52.097","Desktop","North","Individual",58,"Yes",2.6,270,"Agent Bond"]
[null,"CL05675","2012-01-20T15:52:42.098","Accessories","Mid-west","SME",71,"Yes",3.4,250,"Agent Smith"]
[null,"CL05682","2012-01-20T16:12:51.865","Monitor","North","Individual",55,"Yes",2.9,230,"Agent Mary"]
[null,"CL05685","2012-01-20T16:21:37.005","Desktop","Mid-west","SME",83,"Yes",2.2999999999999998,200,"Agent Harry"]
[null,"CL05690","2012-01-20T16:44:27.458","Laptop","South","SME",79,"Yes",3.6,140,"Agent Neo"]
[null,"CL05702","2012-01-20T17:11:17.277","Desktop","Mid-west","SME",69,"Yes",2.4,0,"Agent Smith"]
[null,"CL05705","2012-01-20T17:24:07.790","Laptop","Mid-west","Large Corporate",82,"Yes",1.9,0,"Agent Bond"]
[null,"CL05714","2012-01-20T17:53:20.563","Misc.","East","Non-profit",90,"Yes",2.1,100,"Agent Bond"]
[null,"CL05715","2012-01-20T17:56:31.579","Misc.","East","Large Corporate",80,"Yes",2.8,220,"Agent Harry"]
[null,"CL05724","2012-01-20T18:13:28.520","Software","Mid-west","Individual",66,"Yes",2.6,210,"Agent Vinod"]
[null,"CL05731","2012-01-20T18:33:38.011","Monitor","West","Large Corporate",79,"Yes",3.4,340,"Agent Neo"]
[null,"CL05735","2012-01-20T18:47:28.182","Misc.","East","Large Corporate",90,"Yes",3.1,210,"Agent Harry"]
[null,"CL05744","2012-01-20T19:20:21.671","Laptop","Mid-west","SME",81,"Yes",3.4,250,"Agent Vinod"]
[null,"CL05751","2012-01-20T19:46:28.863","Laptop","West","SME",73,"Yes",2.2000000000000002,0,"Agent Neo"]
[null,"CL05754","2012-01-20T20:00:00.665","Laptop","West","Individual",84,"Yes",2.9,210,"Agent Smith"]
[null,"CL05763","2012-01-20T20:30:22.632","Software","East","Non-profit",76,"Yes",3.2,250,"Agent Vinod"]
[null,"CL05768","2012-01-20T20:45:37.998","Laptop","Mid-west","Non-profit",75,"Yes",2.8,290,"Agent Smith"]
[null,"CL05774","2012-01-20T20:57:12.109","Monitor","East","Large Corporate",80,"Yes",2.7,200,"Agent Vinod"]
[null,"CL05781","2012-01-20T21:15:33.096","Misc.","North","Non-profit",66,"Yes",3.2,170,"Agent Smith"]
[null,"CL05784","2012-01-20T21:24:10.494","Desktop","North","Individual",88,"Yes",3.6,140,"Agent Vinod"]
[null,"CL05793","2012-01-20T21:42:38.702","Laptop","South","Individual",75,"Yes",3.3,230,"Agent Bond"]
[null,"CL05800","2012-01-21T08:12:21.491","Misc.","West","Large Corporate",77,"Yes",2.8,250,"Agent Neo"]
[null,"CL05805","2012-01-21T08:26:53.314","Accessories","East","Non-profit",73,"Yes",3.4,0,"Agent Harry"]
[null,"CL05811","2012-01-21T08:34:23.654","Software","South","Non-profit",71,"Yes",3,180,"Agent Vinod"]
[null,"CL05814","2012-01-21T08:44:30.777","Monitor","South","SME",82,"Yes",3.1,0,"Agent Neo"]
[null,"CL05823","2012-01-21T09:09:41.700","Accessories","Mid-west","Large Corporate",73,"Yes",3.2,0,"Agent Vinod"]
[null,"CL05830","2012-01-21T09:24:53.026","Software","Mid-west","Non-profit",69,"Yes",2.5,0,"Agent Harry"]
[null,"CL05833","2012-01-21T09:39:25.551","Accessories","South","Large Corporate",64,"Yes",3.2,0,"Agent Vinod"]
[null,"CL05842","2012-01-21T10:02:38.795","Desktop","East","Non-profit",58,"Yes",2.5,0,"Agent Mary"]
[null,"CL05850","2012-01-21T10:25:18.429","Desktop","South","Large Corporate",69,"Yes",3.9,0,"Agent Mary"]
[null,"CL05853","2012-01-21T10:36:39.345","Software","South","Non-profit",78,"Yes",2.4,0,"Agent Vinod"]
[null,"CL05860","2012-01-21T11:04:20.421","Accessories","South","Large Corporate",77,"Yes",2,0,"Agent Mary"]
[null,"CL05863","2012-01-21T11:08:18.896","Desktop","North","Individual",70,"Yes",3.2,200,"Agent Smith"]
[null,"CL05872","2012-01-21T11:41:07.192","Software","North","Large Corporate",83,"Yes",3,180,"Agent Vinod"]
[null,"CL05876","2012-01-21T11:57:01.537","Desktop","Mid-west","Large Corporate",77,"Yes",2.7,0,"Agent Mary"]
[null,"CL05883","2012-01-21T12:23:28.390","Desktop","South","SME",70,"Yes",3.6,0,"Agent Bond"]
[null,"CL05890","2012-01-21T12:44:57.712","Desktop","North","Non-profit",86,"No",3.8,0,"Agent Mary"]
[null,"CL05899","2012-01-21T13:14:08.591","Accessories","South","SME",82,"Yes",3.6,0,"Agent Smith"]
[null,"CL05902","2012-01-21T13:24:40.051","Accessories","West","Individual",83,"Yes",4.0999999999999996,120,"Agent Smith"]
[null,"CL05909","2012-01-21T13:42:12.448","Accessories","West","Individual",62,"Yes",3.1,0,"Agent Smith"]
[null,"CL05913","2012-01-21T13:49:18.626","Accessories","South","Individual",70,"Yes",3.7,0,"Agent Bond"]
[null,"CL05922","2012-01-21T14:03:00.581","Desktop","Mid-west","Non-profit",80,"Yes",2.4,200,"Agent Harry"]
[null,"CL05929","2012-01-21T14:28:46.560","Monitor","North","Large Corporate",75,"Yes",2.9,0,"Agent Smith"]
[null,"CL05932","2012-01-21T14:34:04.224","Accessories","Mid-west","SME",72,"Yes",3.4,0,"Agent Smith"]
[null,"CL05939","2012-01-21T14:56:09.861","Desktop","West","Non-profit",72,"Yes",2.2999999999999998,170,"Agent Vinod"]
[null,"CL05943","2012-01-21T15:10:36.716","Desktop","South","Individual",65,"Yes",1.8,0,"Agent Mary"]
[null,"CL05952","2012-01-21T15:35:46.132","Misc.","East","Individual",84,"Yes",2.6,150,"Agent Vinod"]
[null,"CL05959","2012-01-21T15:54:55.582","Desktop","East","Large Corporate",58,"Yes",1.9,210,"Agent Bond"]
[null,"CL05962","2012-01-21T15:57:13.394","Laptop","East","Non-profit",73,"Yes",2.1,170,"Agent Harry"]
[null,"CL05971","2012-01-21T16:33:22.585","Misc.","East","Non-profit",64,"Yes",2.8,0,"Agent Neo"]
[null,"CL05978","2012-01-21T16:46:38.623","Software","West","SME",72,"Yes",3.3,0,"Agent Bond"]
[null,"CL05980","2012-01-21T16:49:28.623","Laptop","North","Individual",79,"Yes",3.7,0,"Agent Neo"]
[null,"CL05989","2012-01-21T17:21:20.427","Monitor","South","SME",73,"Yes",3.7,0,"Agent Bond"]
[null,"CL05998","2012-01-21T17:51:55.414","Software","North","Non-profit",81,"Yes",2.5,0,"Agent Neo"]
[null,"CL06001","2012-01-21T17:59:16.959","Laptop","South","Large Corporate",89,"Yes",3.6,250,"Agent Smith"]
[null,"CL06008","2012-01-21T18:24:42.867","Laptop","Mid-west","Individual",76,"Yes",2.7,220,"Agent Mary"]
[null,"CL06011","2012-01-21T18:34:47.909","Monitor","North","Large Corporate",87,"Yes",2.7,250,"Agent Neo"]
[null,"CL06021","2012-01-21T19:02:48.759","Monitor","South","Individual",79,"Yes",2.2999999999999998,190,"Agent Vinod"]
[null,"CL06028","2012-01-21T19:29:16.238","Software","West","Non-profit",88,"Yes",3.1,240,"Agent Smith"]
[null,"CL06031","2012-01-21T19:38:38.639","Monitor","Mid-west","Individual",80,"Yes",4.3,150,"Agent Neo"]
[null,"CL06038","2012-01-21T20:00:08.403","Monitor","South","Non-profit",67,"Yes",3.4,170,"Agent Mary"]
[null,"CL06047","2012-01-21T20:31:25.226","Monitor","East","Non-profit",66,"Yes",3,210,"Agent Bond"]
[null,"CL06050","2012-01-21T20:40:40.360","Software","West","SME",68,"No",3.7,0,"Agent Neo"]
[null,"CL06058","2012-01-21T20:57:30.297","Laptop","South","Large Corporate",68,"Yes",2.5,180,"Agent Vinod"]
[null,"CL06061","2012-01-21T21:07:48.294","Software","Mid-west","Large Corporate",71,"Yes",3.6,0,"Agent Vinod"]
[null,"CL06068","2012-01-21T21:27:19.536","Software","South","Non-profit",58,"Yes",3.3,0,"Agent Smith"]
[null,"CL06077","2012-01-21T22:01:02.244","Software","Mid-west","Large Corporate",75,"Yes",2.6,0,"Agent Neo"]
[null,"CL06080","2012-01-22T08:10:11.010","Misc.","East","SME",78,"Yes",3.1,150,"Agent Mary"]
[null,"CL06087","2012-01-22T08:34:29.394","Misc.","West","SME",84,"Yes",3.4,0,"Agent Bond"]
[null,"CL06095","2012-01-22T08:58:41.744","Misc.","East","Individual",68,"Yes",3.5,0,"Agent Harry"]
[null,"CL06098","2012-01-22T09:10:06.331","Accessories","East","SME",86,"Yes",2,0,"Agent Smith"]
[null,"CL06107","2012-01-22T09:40:14.655","Monitor","East","SME",70,"Yes",2.8,170,"Agent Mary"]
[null,"CL06110","2012-01-22T09:47:39.224","Laptop","Mid-west","Large Corporate",65,"No",3.3,0,"Agent Mary"]
[null,"CL06117","2012-01-22T10:09:56.761","Accessories","North","Large Corporate",73,"Yes",1.8,270,"Agent Smith"]
[null,"CL06126","2012-01-22T10:30:59.321","Laptop","South","Non-profit",81,"Yes",2.7,280,"Agent Neo"]
[null,"CL06132","2012-01-22T10:42:31.139","Accessories","West","SME",66,"Yes",2.2999999999999998,160,"Agent Neo"]
[null,"CL06137","2012-01-22T10:58:55.338","Monitor","Mid-west","Large Corporate",79,"Yes",4,160,"Agent Neo"]
[null,"CL06146","2012-01-22T11:29:03.168","Accessories","South","Non-profit",90,"Yes",3.2,210,"Agent Harry"]
[null,"CL06147","2012-01-22T11:30:26.924","Misc.","Mid-west","SME",73,"Yes",3.6,0,"Agent Neo"]
[null,"CL06156","2012-01-22T11:52:14.187","Software","North","SME",64,"Yes",2.2999999999999998,210,"Agent Harry"]
[null,"CL06159","2012-01-22T11:59:07.503","Software","East","Individual",72,"Yes",3.2,0,"Agent Smith"]
[null,"CL06166","2012-01-22T12:26:32.201","Desktop","North","Individual",84,"Yes",2.2000000000000002,0,"Agent Neo"]
[null,"CL06176","2012-01-22T13:00:27.865","Software","North","Individual",61,"Yes",3.1,0,"Agent Bond"]
[null,"CL06179","2012-01-22T13:10:02.732","Misc.","South","Non-profit",70,"Yes",3.2,0,"Agent Bond"]
[null,"CL06186","2012-01-22T13:28:11.548","Software","West","Non-profit",61,"Yes",3,190,"Agent Vinod"]
[null,"CL06195","2012-01-22T13:55:18.502","Accessories","North","Large Corporate",79,"Yes",2.5,150,"Agent Smith"]
[null,"CL06196","2012-01-22T13:56:46.795","Monitor","East","Large Corporate",74,"Yes",2.5,190,"Agent Harry"]
[null,"CL06203","2012-01-22T14:19:56.797","Misc.","South","Large Corporate",74,"Yes",3.3,290,"Agent Vinod"]
[null,"CL06209","2012-01-22T14:38:34.274","Accessories","West","Non-profit",82,"Yes",2.5,230,"Agent Harry"]
[null,"CL06216","2012-01-22T15:00:17.558","Monitor","South","SME",71,"Yes",2.8,0,"Agent Neo"]
[null,"CL06225","2012-01-22T15:14:24.224","Laptop","Mid-west","SME",79,"Yes",2.9,250,"Agent Mary"]
[null,"CL06232","2012-01-22T15:35:20.735","Software","North","SME",88,"Yes",2.5,170,"Agent Harry"]
[null,"CL06235","2012-01-22T15:45:24.378","Laptop","East","SME",71,"Yes",3.3,0,"Agent Smith"]
[null,"CL06240","2012-01-22T16:04:30.667","Accessories","East","Large Corporate",70,"Yes",3.8,300,"Agent Neo"]
[null,"CL06246","2012-01-22T16:14:48.559","Laptop","North","SME",66,"Yes",3.3,200,"Agent Vinod"]
[null,"CL06255","2012-01-22T16:31:35.953","Misc.","North","SME",80,"Yes",2.6,0,"Agent Harry"]
[null,"CL06258","2012-01-22T16:37:29.469","Laptop","Mid-west","Individual",71,"Yes",2.9,210,"Agent Vinod"]
[null,"CL06265","2012-01-22T16:54:59.623","Monitor","Mid-west","Large Corporate",93,"Yes",3.2,160,"Agent Neo"]
[null,"CL06274","2012-01-22T17:22:29.155","Laptop","Mid-west","Non-profit",79,"Yes",3,0,"Agent Mary"]
[null,"CL06281","2012-01-22T17:30:58.113","Laptop","Mid-west","Individual",81,"Yes",2.4,210,"Agent Vinod"]
[null,"CL06285","2012-01-22T17:44:09.829","Laptop","South","Non-profit",68,"Yes",3,0,"Agent Smith"]
[null,"CL06294","2012-01-22T18:05:54.450","Misc.","West","Large Corporate",65,"Yes",2.6,180,"Agent Smith"]
[null,"CL06295","2012-01-22T18:07:41.391","Laptop","North","Non-profit",76,"Yes",3.5,180,"Agent Vinod"]
[null,"CL06304","2012-01-22T18:29:42.071","Monitor","West","Individual",73,"Yes",2.8,270,"Agent Vinod"]
[null,"CL06307","2012-01-22T18:36:45.158","Monitor","East","Large Corporate",75,"Yes",3.4,250,"Agent Vinod"]
[null,"CL06318","2012-01-22T19:05:48.719","Laptop","East","Non-profit",66,"Yes",2.7,0,"Agent Harry"]
[null,"CL06324","2012-01-22T19:20:17.034","Monitor","West","Large Corporate",53,"Yes",2.7,190,"Agent Vinod"]
[null,"CL06331","2012-01-22T19:49:41.560","Monitor","South","Non-profit",83,"Yes",3.2,220,"Agent Smith"]
[null,"CL06334","2012-01-22T20:04:43.004","Laptop","South","Large Corporate",80,"Yes",2.1,0,"Agent Vinod"]
[null,"CL06343","2012-01-22T20:28:28.857","Laptop","South","Large Corporate",66,"Yes",2.7,250,"Agent Harry"]
[null,"CL06344","2012-01-22T20:33:59.392","Software","Mid-west","Large Corporate",83,"Yes",2.6,160,"Agent Smith"]
[null,"CL06355","2012-01-22T21:14:32.467","Software","South","SME",79,"Yes",2.8,200,"Agent Smith"]
[null,"CL06361","2012-01-22T21:31:01.273","Accessories","Mid-west","Large Corporate",80,"Yes",3,0,"Agent Harry"]
[null,"CL06364","2012-01-22T21:34:44.412","Desktop","East","Large Corporate",77,"Yes",2.9,0,"Agent Vinod"]
[null,"CL06373","2012-01-22T21:52:56.438","Desktop","North","Non-profit",84,"Yes",3.3,0,"Agent Smith"]
[null,"CL06380","2012-01-23T08:11:18.689","Monitor","Mid-west","Large Corporate",89,"Yes",3.9,220,"Agent Bond"]
[null,"CL06383","2012-01-23T08:11:48.331","Monitor","Mid-west","Individual",63,"No",2.8,0,"Agent Harry"]
[null,"CL06392","2012-01-23T08:35:02.959","Misc.","East","SME",66,"Yes",2.9,210,"Agent Smith"]
[null,"CL06394","2012-01-23T08:45:32.129","Monitor","South","Non-profit",64,"Yes",2.2999999999999998,0,"Agent Vinod"]
[null,"CL06403","2012-01-23T09:13:35.936","Accessories","Mid-west","SME",75,"Yes",3.1,210,"Agent Harry"]
[null,"CL06410","2012-01-23T09:32:58.831","Misc.","North","Individual",63,"Yes",3.3,180,"Agent Harry"]
[null,"CL06413","2012-01-23T09:44:07.384","Laptop","North","Non-profit",84,"Yes",2.8,190,"Agent Vinod"]
[null,"CL06422","2012-01-23T10:06:06.536","Software","East","SME",69,"Yes",3.3,110,"Agent Vinod"]
[null,"CL06426","2012-01-23T10:16:49.874","Misc.","North","SME",75,"Yes",3.4,170,"Agent Harry"]
[null,"CL06433","2012-01-23T10:40:13.558","Accessories","West","Non-profit",74,"Yes",3.2,170,"Agent Bond"]
[null,"CL06440","2012-01-23T11:00:02.224","Desktop","East","Large Corporate",75,"Yes",3.5,0,"Agent Vinod"]
[null,"CL06443","2012-01-23T11:09:01.627","Desktop","East","Individual",80,"No",2.4,150,"Agent Neo"]
[null,"CL06452","2012-01-23T11:29:24.293","Desktop","South","Large Corporate",59,"Yes",3,190,"Agent Neo"]
[null,"CL06459","2012-01-23T11:52:49.185","Desktop","Mid-west","Individual",78,"Yes",2.4,0,"Agent Smith"]
[null,"CL06463","2012-01-23T12:05:07.649","Software","Mid-west","SME",59,"Yes",2.8,310,"Agent Smith"]
[null,"CL06472","2012-01-23T12:31:33.028","Misc.","North","Non-profit",70,"Yes",2.7,140,"Agent Mary"]
[null,"CL06479","2012-01-23T12:51:27.743","Laptop","North","SME",85,"Yes",3.3,0,"Agent Harry"]
[null,"CL06482","2012-01-23T12:58:30.998","Accessories","West","Non-profit",88,"Yes",2.7,240,"Agent Harry"]
[null,"CL06489","2012-01-23T13:17:46.703","Monitor","Mid-west","SME",75,"Yes",2.8,0,"Agent Neo"]
[null,"CL06493","2012-01-23T13:32:00.729","Accessories","Mid-west","Individual",80,"Yes",2.2000000000000002,0,"Agent Harry"]
[null,"CL06502","2012-01-23T14:05:24.416","Desktop","South","Individual",65,"Yes",2.6,270,"Agent Bond"]
[null,"CL06509","2012-01-23T14:24:58.709","Misc.","South","Individual",80,"Yes",3.5,0,"Agent Vinod"]
[null,"CL06512","2012-01-23T14:36:10.875","Accessories","South","SME",64,"Yes",3.2,0,"Agent Neo"]
[null,"CL06521","2012-01-23T15:07:22.319","Accessories","West","SME",63,"Yes",2.9,130,"Agent Harry"]
[null,"CL06528","2012-01-23T15:30:14.651","Misc.","Mid-west","SME",84,"Yes",2,190,"Agent Bond"]
[null,"CL06530","2012-01-23T15:36:56.173","Laptop","East","Individual",67,"Yes",3.3,0,"Agent Smith"]
[null,"CL06539","2012-01-23T16:02:33.932","Monitor","Mid-west","SME",72,"Yes",3.6,190,"Agent Mary"]
[null,"CL06542","2012-01-23T16:07:27.349","Software","East","Individual",80,"Yes",2.4,0,"Agent Smith"]
[null,"CL06551","2012-01-23T16:25:21.996","Software","North","SME",86,"Yes",3.1,230,"Agent Neo"]
[null,"CL06558","2012-01-23T16:44:11.992","Misc.","East","Non-profit",86,"Yes",3.4,180,"Agent Bond"]
[null,"CL06561","2012-01-23T16:58:47.806","Laptop","East","SME",59,"Yes",3,200,"Agent Vinod"]
[null,"CL06571","2012-01-23T17:29:51.195","Accessories","North","Individual",82,"Yes",3.9,0,"Agent Bond"]
[null,"CL06578","2012-01-23T17:49:41.783","Desktop","South","SME",72,"Yes",2.2999999999999998,230,"Agent Smith"]
[null,"CL06581","2012-01-23T17:59:25.487","Software","South","Individual",82,"Yes",3.3,160,"Agent Bond"]
[null,"CL06588","2012-01-23T18:20:55.695","Accessories","North","Individual",68,"Yes",3.7,190,"Agent Vinod"]
[null,"CL06591","2012-01-23T18:29:33.133","Desktop","East","Individual",78,"Yes",3,230,"Agent Neo"]
[null,"CL06600","2012-01-23T18:47:32.327","Laptop","Mid-west","Large Corporate",80,"Yes",3.4,230,"Agent Neo"]
[null,"CL06608","2012-01-23T19:04:00.755","Misc.","East","Non-profit",87,"Yes",2.6,300,"Agent Bond"]
[null,"CL06611","2012-01-23T19:14:57.653","Software","West","Large Corporate",72,"Yes",2.4,170,"Agent Smith"]
[null,"CL06618","2012-01-23T19:35:38.391","Accessories","South","SME",71,"Yes",2.6,0,"Agent Smith"]
[null,"CL06627","2012-01-23T19:54:32.369","Accessories","North","Large Corporate",74,"No",2.9,0,"Agent Harry"]
[null,"CL06630","2012-01-23T19:58:18.359","Desktop","East","Large Corporate",80,"Yes",3.6,290,"Agent Harry"]
[null,"CL06637","2012-01-23T20:13:55.477","Software","East","Individual",72,"Yes",3.8,210,"Agent Mary"]
[null,"CL06645","2012-01-23T20:36:33.149","Software","East","SME",81,"Yes",2.2000000000000002,140,"Agent Neo"]
[null,"CL06648","2012-01-23T20:47:53.379","Software","West","Large Corporate",64,"No",3.8,180,"Agent Mary"]
[null,"CL06657","2012-01-23T21:23:29.202","Laptop","South","Non-profit",75,"Yes",3.2,250,"Agent Vinod"]
[null,"CL06660","2012-01-23T21:31:07.790","Desktop","East","Individual",82,"Yes",3,0,"Agent Neo"]
[null,"CL06667","2012-01-23T21:53:05.306","Misc.","South","Non-profit",84,"Yes",2.8,0,"Agent Vinod"]
[null,"CL06676","2012-01-24T08:14:33.642","Desktop","North","SME",77,"Yes",2.5,0,"Agent Bond"]
[null,"CL06682","2012-01-24T08:27:10.280","Monitor","Mid-west","Individual",74,"Yes",3.2,0,"Agent Mary"]
[null,"CL06687","2012-01-24T08:38:56.860","Misc.","West","Non-profit",82,"Yes",2.2000000000000002,240,"Agent Vinod"]
[null,"CL06690","2012-01-24T08:43:24.488","Accessories","East","Non-profit",66,"Yes",3.1,210,"Agent Harry"]
[null,"CL06697","2012-01-24T09:03:53.325","Laptop","North","Individual",60,"Yes",2.9,180,"Agent Smith"]
[null,"CL06706","2012-01-24T09:25:43.263","Monitor","South","Individual",70,"Yes",3,260,"Agent Harry"]
[null,"CL06709","2012-01-24T09:37:06.018","Misc.","South","SME",73,"Yes",3,290,"Agent Vinod"]
[null,"CL06716","2012-01-24T09:51:00.631","Laptop","West","Large Corporate",78,"Yes",3.1,160,"Agent Neo"]
[null,"CL06726","2012-01-24T10:27:42.939","Misc.","West","Non-profit",66,"Yes",3.2,220,"Agent Smith"]
[null,"CL06729","2012-01-24T10:31:32.752","Laptop","East","SME",83,"Yes",3.2,170,"Agent Neo"]
[null,"CL06736","2012-01-24T10:47:42.484","Desktop","North","SME",79,"Yes",3.4,180,"Agent Smith"]
[null,"CL06739","2012-01-24T10:55:56.924","Misc.","North","Large Corporate",80,"Yes",2.2000000000000002,90,"Agent Harry"]
[null,"CL06746","2012-01-24T11:14:23.843","Misc.","West","Non-profit",91,"Yes",3.1,230,"Agent Bond"]
[null,"CL06753","2012-01-24T11:38:37.171","Accessories","South","Individual",81,"No",3.4,0,"Agent Neo"]
[null,"CL06759","2012-01-24T12:02:31.009","Desktop","Mid-west","Individual",69,"Yes",2.1,0,"Agent Harry"]
[null,"CL06766","2012-01-24T12:20:39.836","Misc.","North","Non-profit",93,"Yes",2.7,240,"Agent Neo"]
[null,"CL06775","2012-01-24T12:41:49.874","Misc.","North","Individual",64,"Yes",2.7,200,"Agent Smith"]
[null,"CL06776","2012-01-24T12:42:51.452","Laptop","Mid-west","SME",78,"Yes",3.5,110,"Agent Smith"]
[null,"CL06785","2012-01-24T13:10:50.157","Software","West","Individual",51,"Yes",2.7,0,"Agent Vinod"]
[null,"CL06790","2012-01-24T13:27:14.207","Software","West","Large Corporate",70,"Yes",3,180,"Agent Smith"]
[null,"CL06796","2012-01-24T13:47:23.184","Software","North","Individual",81,"Yes",4,180,"Agent Bond"]
[null,"CL06805","2012-01-24T14:14:45.884","Laptop","South","SME",70,"Yes",3.4,170,"Agent Neo"]
[null,"CL06808","2012-01-24T14:20:45.400","Laptop","North","Large Corporate",76,"Yes",2.8,220,"Agent Bond"]
[null,"CL06815","2012-01-24T14:41:10.633","Laptop","Mid-west","Non-profit",74,"Yes",3.2,210,"Agent Bond"]
[null,"CL06824","2012-01-24T15:13:19.393","Laptop","Mid-west","Large Corporate",82,"Yes",2.6,200,"Agent Smith"]
[null,"CL06831","2012-01-24T15:39:46.192","Misc.","East","Non-profit",70,"Yes",2.8,270,"Agent Harry"]
[null,"CL06835","2012-01-24T15:53:24.846","Software","Mid-west","Large Corporate",72,"Yes",2.2999999999999998,190,"Agent Bond"]
[null,"CL06838","2012-01-24T16:07:09.088","Desktop","South","SME",70,"Yes",1.1000000000000001,290,"Agent Mary"]
[null,"CL06845","2012-01-24T16:18:32.479","Monitor","West","Non-profit",73,"Yes",2.7,0,"Agent Harry"]
[null,"CL06854","2012-01-24T16:48:19.725","Monitor","North","SME",69,"Yes",2.9,170,"Agent Bond"]
[null,"CL06857","2012-01-24T16:54:50.783","Misc.","Mid-west","SME",78,"Yes",2.2999999999999998,140,"Agent Bond"]
[null,"CL06868","2012-01-24T17:27:16.728","Desktop","North","Large Corporate",72,"Yes",2.9,230,"Agent Smith"]
[null,"CL06874","2012-01-24T17:45:23.575","Software","North","SME",61,"Yes",3,80,"Agent Neo"]
[null,"CL06875","2012-01-24T17:46:03.630","Laptop","West","Large Corporate",74,"Yes",3.4,180,"Agent Bond"]
[null,"CL06884","2012-01-24T18:12:54.738","Desktop","Mid-west","Non-profit",79,"No",3.4,190,"Agent Smith"]
[null,"CL06887","2012-01-24T18:19:12.152","Software","East","SME",86,"Yes",3.3,0,"Agent Smith"]
[null,"CL06894","2012-01-24T18:44:23.158","Monitor","West","Non-profit",64,"Yes",3.2,0,"Agent Vinod"]
[null,"CL06905","2012-01-24T19:13:06.750","Monitor","West","SME",74,"Yes",2.6,210,"Agent Vinod"]
[null,"CL06911","2012-01-24T19:30:49.737","Accessories","East","SME",81,"Yes",3,0,"Agent Harry"]
[null,"CL06914","2012-01-24T19:37:58.637","Desktop","Mid-west","Individual",85,"Yes",3.1,160,"Agent Neo"]
[null,"CL06923","2012-01-24T20:07:14.052","Desktop","West","Non-profit",62,"Yes",2.6,0,"Agent Mary"]
[null,"CL06924","2012-01-24T20:12:21.810","Laptop","West","SME",76,"Yes",2.5,220,"Agent Vinod"]
[null,"CL06933","2012-01-24T20:32:44.102","Desktop","Mid-west","SME",69,"Yes",2.7,0,"Agent Harry"]
[null,"CL06942","2012-01-24T20:50:23.055","Accessories","West","Non-profit",70,"Yes",2.6,0,"Agent Mary"]
[null,"CL06944","2012-01-24T20:55:14.820","Monitor","South","Non-profit",78,"Yes",2,0,"Agent Smith"]
[null,"CL06953","2012-01-24T21:28:31.036","Monitor","North","SME",95,"Yes",2.4,300,"Agent Vinod"]
[null,"CL06960","2012-01-24T21:51:51.702","Monitor","Mid-west","Non-profit",78,"Yes",2.9,230,"Agent Bond"]
[null,"CL06963","2012-01-24T21:57:43.778","Accessories","West","SME",92,"Yes",3.8,230,"Agent Bond"]
[null,"CL06972","2012-01-25T08:21:15.210","Monitor","East","Individual",83,"Yes",3.3,240,"Agent Neo"]
[null,"CL06976","2012-01-25T08:36:12.790","Accessories","Mid-west","Large Corporate",70,"Yes",3,180,"Agent Vinod"]
[null,"CL06983","2012-01-25T09:01:52.531","Accessories","East","Non-profit",79,"Yes",4,0,"Agent Neo"]
[null,"CL06990","2012-01-25T09:22:28.228","Software","North","Individual",76,"Yes",2.9,210,"Agent Harry"]
[null,"CL06993","2012-01-25T09:31:25.097","Monitor","East","Large Corporate",80,"Yes",3.1,220,"Agent Vinod"]
[null,"CL07002","2012-01-25T09:49:02.363","Monitor","North","Individual",59,"Yes",2.2999999999999998,160,"Agent Smith"]
[null,"CL07009","2012-01-25T10:09:00.292","Accessories","West","Large Corporate",84,"Yes",2,0,"Agent Bond"]
[null,"CL07013","2012-01-25T10:25:27.283","Software","Mid-west","Large Corporate",75,"Yes",3.4,0,"Agent Mary"]
[null,"CL07022","2012-01-25T10:59:34.974","Laptop","South","Non-profit",72,"Yes",2.9,210,"Agent Harry"]
[null,"CL07023","2012-01-25T11:00:27.030","Desktop","East","SME",80,"Yes",3.4,0,"Agent Vinod"]
[null,"CL07032","2012-01-25T11:25:46.027","Monitor","South","Large Corporate",73,"Yes",2.6,180,"Agent Mary"]
[null,"CL07039","2012-01-25T11:37:25.621","Desktop","North","Large Corporate",71,"Yes",3.5,0,"Agent Vinod"]
[null,"CL07043","2012-01-25T11:56:12.050","Desktop","South","Large Corporate",63,"Yes",3.1,220,"Agent Bond"]
[null,"CL07052","2012-01-25T12:25:51.601","Laptop","West","SME",65,"No",2.6,230,"Agent Neo"]
[null,"CL07059","2012-01-25T12:45:25.003","Laptop","Mid-west","Large Corporate",72,"Yes",1.5,0,"Agent Bond"]
[null,"CL07062","2012-01-25T13:00:07.946","Accessories","North","SME",76,"Yes",2.1,280,"Agent Harry"]
[null,"CL07071","2012-01-25T13:25:26.110","Accessories","West","SME",82,"Yes",3.8,220,"Agent Smith"]
[null,"CL07072","2012-01-25T13:26:20.439","Monitor","South","Individual",64,"Yes",2.6,0,"Agent Harry"]
[null,"CL07080","2012-01-25T13:47:57.959","Misc.","West","SME",70,"No",3.5,130,"Agent Neo"]
[null,"CL07089","2012-01-25T14:15:26.974","Accessories","West","Individual",67,"Yes",3.6,130,"Agent Bond"]
[null,"CL07092","2012-01-25T14:27:10.732","Desktop","West","Large Corporate",80,"Yes",3.3,0,"Agent Neo"]
[null,"CL07101","2012-01-25T14:50:05.488","Monitor","Mid-west","Individual",75,"No",2.9,250,"Agent Vinod"]
[null,"CL07108","2012-01-25T15:03:14.705","Desktop","South","SME",77,"Yes",3.2,230,"Agent Smith"]
[null,"CL07111","2012-01-25T15:11:35.531","Laptop","South","Large Corporate",76,"Yes",2.6,140,"Agent Neo"]
[null,"CL07121","2012-01-25T15:40:08.226","Monitor","Mid-west","Non-profit",84,"Yes",2.6,160,"Agent Harry"]
[null,"CL07122","2012-01-25T15:40:41.938","Monitor","South","Non-profit",87,"Yes",3.4,0,"Agent Smith"]
[null,"CL07131","2012-01-25T16:08:23.236","Accessories","East","Non-profit",75,"Yes",2.4,0,"Agent Smith"]
[null,"CL07138","2012-01-25T16:33:33.183","Accessories","North","Non-profit",72,"Yes",3.8,0,"Agent Neo"]
[null,"CL07141","2012-01-25T16:42:26.467","Accessories","North","Individual",83,"Yes",3.1,0,"Agent Bond"]
[null,"CL07150","2012-01-25T17:10:16.126","Misc.","South","Individual",80,"Yes",2.6,200,"Agent Vinod"]
[null,"CL07158","2012-01-25T17:31:41.822","Accessories","East","Individual",63,"Yes",2.5,180,"Agent Vinod"]
[null,"CL07161","2012-01-25T17:47:57.757","Accessories","West","Large Corporate",79,"Yes",2.7,120,"Agent Mary"]
[null,"CL07168","2012-01-25T18:12:23.728","Software","Mid-west","Non-profit",91,"Yes",4.0999999999999996,190,"Agent Smith"]
[null,"CL07171","2012-01-25T18:16:14.556","Software","South","Large Corporate",76,"Yes",3,0,"Agent Neo"]
[null,"CL07180","2012-01-25T18:32:26.994","Desktop","North","Non-profit",77,"Yes",3.6,0,"Agent Mary"]
[null,"CL07187","2012-01-25T18:53:22.228","Software","North","Non-profit",63,"Yes",2.2000000000000002,0,"Agent Harry"]
[null,"CL07195","2012-01-25T19:23:45.787","Software","North","SME",77,"Yes",3.2,0,"Agent Smith"]
[null,"CL07200","2012-01-25T19:38:42.313","Misc.","Mid-west","Individual",77,"Yes",3.2,150,"Agent Vinod"]
[null,"CL07207","2012-01-25T20:03:54.745","Laptop","Mid-west","Non-profit",86,"Yes",2.9,0,"Agent Bond"]
[null,"CL07210","2012-01-25T20:10:50.534","Accessories","East","Large Corporate",81,"Yes",2.4,160,"Agent Smith"]
[null,"CL07217","2012-01-25T20:31:39.371","Accessories","Mid-west","Large Corporate",74,"Yes",2.2999999999999998,0,"Agent Neo"]
[null,"CL07220","2012-01-25T20:34:58.028","Monitor","East","Non-profit",67,"Yes",1.3,240,"Agent Vinod"]
[null,"CL07232","2012-01-25T21:09:23.540","Software","South","Large Corporate",81,"Yes",3.3,180,"Agent Mary"]
[null,"CL07237","2012-01-25T21:23:56.499","Misc.","East","Non-profit",78,"Yes",2.6,0,"Agent Bond"]
[null,"CL07240","2012-01-25T21:30:09.257","Accessories","East","Non-profit",68,"Yes",2.6,0,"Agent Neo"]
[null,"CL07247","2012-01-25T21:50:18.098","Accessories","North","SME",67,"Yes",3.4,0,"Agent Vinod"]
[null,"CL07256","2012-01-26T08:14:13.953","Misc.","Mid-west","Individual",69,"Yes",2,180,"Agent Vinod"]
[null,"CL07259","2012-01-26T08:24:11.870","Software","East","Individual",81,"Yes",3.6,220,"Agent Mary"]
[null,"CL07266","2012-01-26T08:49:43.214","Monitor","East","Large Corporate",79,"No",2.7,210,"Agent Bond"]
[null,"CL07270","2012-01-26T09:00:58.943","Desktop","South","Non-profit",69,"Yes",3.6,130,"Agent Bond"]
[null,"CL07279","2012-01-26T09:29:00.677","Accessories","West","Large Corporate",89,"Yes",2.1,0,"Agent Neo"]
[null,"CL07286","2012-01-26T09:49:02.878","Software","South","Individual",77,"Yes",2.6,0,"Agent Vinod"]
[null,"CL07289","2012-01-26T10:01:08.847","Accessories","South","Large Corporate",66,"Yes",3.2,0,"Agent Vinod"]
[null,"CL07296","2012-01-26T10:25:40.862","Software","East","SME",81,"Yes",1.9,0,"Agent Smith"]
[null,"CL07303","2012-01-26T10:42:20.949","Monitor","West","Large Corporate",68,"Yes",3.2,210,"Agent Smith"]
[null,"CL07309","2012-01-26T11:01:12.172","Software","North","Individual",84,"Yes",2.9,200,"Agent Neo"]
[null,"CL07316","2012-01-26T11:13:04.852","Software","East","Non-profit",96,"Yes",2.8,0,"Agent Bond"]
[null,"CL07319","2012-01-26T11:21:15.348","Misc.","North","Non-profit",75,"Yes",4.2,220,"Agent Mary"]
[null,"CL07326","2012-01-26T11:48:01.544","Monitor","East","Individual",82,"Yes",3.3,140,"Agent Smith"]
[null,"CL07335","2012-01-26T12:11:49.435","Monitor","Mid-west","Large Corporate",62,"Yes",3.7,0,"Agent Vinod"]
[null,"CL07340","2012-01-26T12:23:23.888","Monitor","West","Large Corporate",80,"Yes",2.6,0,"Agent Bond"]
[null,"CL07346","2012-01-26T12:42:55.504","Monitor","North","Non-profit",73,"Yes",2.7,0,"Agent Bond"]
[null,"CL07355","2012-01-26T13:10:30.779","Accessories","West","Individual",71,"Yes",3.8,180,"Agent Mary"]
[null,"CL07358","2012-01-26T13:20:43.410","Laptop","North","Non-profit",77,"Yes",3,0,"Agent Bond"]
[null,"CL07365","2012-01-26T13:38:22.546","Desktop","South","Non-profit",81,"Yes",3.7,260,"Agent Vinod"]
[null,"CL07368","2012-01-26T13:48:05.187","Desktop","West","SME",69,"Yes",2.8,0,"Agent Vinod"]
[null,"CL07374","2012-01-26T14:08:01.461","Accessories","Mid-west","Non-profit",80,"Yes",4.0999999999999996,0,"Agent Harry"]
[null,"CL07385","2012-01-26T14:34:19.733","Misc.","West","Non-profit",66,"Yes",2.4,210,"Agent Mary"]
[null,"CL07388","2012-01-26T14:43:18.501","Accessories","West","Non-profit",78,"Yes",2.5,300,"Agent Smith"]
[null,"CL07395","2012-01-26T14:53:34.630","Laptop","West","Large Corporate",68,"Yes",2.6,90,"Agent Bond"]
[null,"CL07404","2012-01-26T15:20:55.536","Laptop","East","Individual",86,"Yes",3.4,140,"Agent Neo"]
[null,"CL07407","2012-01-26T15:32:39.027","Monitor","South","SME",77,"Yes",1.9,190,"Agent Vinod"]
[null,"CL07411","2012-01-26T15:42:07.688","Monitor","South","Individual",70,"Yes",2.7,270,"Agent Bond"]
[null,"CL07418","2012-01-26T15:56:20.050","Laptop","East","SME",91,"Yes",3.4,0,"Agent Bond"]
[null,"CL07425","2012-01-26T16:14:06.370","Software","North","SME",69,"Yes",3.3,0,"Agent Vinod"]
[null,"CL07434","2012-01-26T16:38:51.750","Monitor","East","Large Corporate",76,"Yes",2.5,120,"Agent Harry"]
[null,"CL07437","2012-01-26T16:51:29.540","Misc.","North","Non-profit",69,"Yes",3.9,230,"Agent Harry"]
[null,"CL07444","2012-01-26T17:10:51.016","Software","North","SME",90,"Yes",3.1,0,"Agent Mary"]
[null,"CL07448","2012-01-26T17:26:42.569","Accessories","North","Individual",81,"No",3.2,0,"Agent Vinod"]
[null,"CL07455","2012-01-26T17:48:17.325","Software","West","Large Corporate",71,"Yes",2.2999999999999998,0,"Agent Smith"]
[null,"CL07464","2012-01-26T18:17:06.556","Software","North","Non-profit",85,"Yes",3.5,170,"Agent Vinod"]
[null,"CL07467","2012-01-26T18:21:55.183","Laptop","Mid-west","Non-profit",67,"Yes",3.5,0,"Agent Vinod"]
[null,"CL07474","2012-01-26T18:45:15.249","Laptop","Mid-west","SME",82,"Yes",3.5,0,"Agent Neo"]
[null,"CL07483","2012-01-26T19:00:43.396","Monitor","Mid-west","Large Corporate",67,"Yes",2.7,0,"Agent Neo"]
[null,"CL07485","2012-01-26T19:09:04.364","Monitor","South","SME",84,"Yes",2.2000000000000002,0,"Agent Mary"]
[null,"CL07494","2012-01-26T19:39:05.059","Misc.","East","Individual",74,"Yes",3,160,"Agent Harry"]
[null,"CL07503","2012-01-26T20:04:34.945","Desktop","East","Large Corporate",64,"Yes",2.6,180,"Agent Smith"]
[null,"CL07504","2012-01-26T20:08:41.304","Monitor","North","Large Corporate",67,"Yes",3.1,250,"Agent Harry"]
[null,"CL07513","2012-01-26T20:36:56.035","Monitor","Mid-west","Large Corporate",68,"Yes",2,0,"Agent Neo"]
[null,"CL07516","2012-01-26T20:43:50.088","Desktop","South","Non-profit",73,"Yes",3.7,0,"Agent Mary"]
[null,"CL07526","2012-01-26T21:12:56.064","Monitor","South","Large Corporate",81,"Yes",2,190,"Agent Mary"]
[null,"CL07533","2012-01-26T21:35:24.269","Software","South","Individual",76,"Yes",3.1,0,"Agent Mary"]
[null,"CL07540","2012-01-26T21:55:29.209","Misc.","North","Large Corporate",70,"Yes",2.7,190,"Agent Bond"]
[null,"CL07543","2012-01-27T08:08:23.250","Accessories","East","Non-profit",62,"Yes",2.9,0,"Agent Harry"]
[null,"CL07552","2012-01-27T08:32:06.940","Misc.","East","Large Corporate",73,"Yes",3.7,170,"Agent Bond"]
[null,"CL07553","2012-01-27T08:34:54.746","Monitor","Mid-west","Large Corporate",76,"Yes",2.5,180,"Agent Bond"]
[null,"CL07563","2012-01-27T09:04:27.092","Accessories","North","SME",74,"Yes",2.5,0,"Agent Mary"]
[null,"CL07566","2012-01-27T09:13:09.065","Desktop","East","Individual",74,"No",3.2,0,"Agent Mary"]
[null,"CL07573","2012-01-27T09:38:05.268","Desktop","West","Non-profit",83,"Yes",2.5,180,"Agent Smith"]
[null,"CL07582","2012-01-27T10:04:13.595","Desktop","North","Large Corporate",61,"Yes",2.9,270,"Agent Smith"]
[null,"CL07589","2012-01-27T10:29:28.394","Software","Mid-west","Large Corporate",66,"Yes",3.4,260,"Agent Neo"]
[null,"CL07592","2012-01-27T10:40:32.726","Accessories","Mid-west","SME",71,"Yes",2.6,170,"Agent Bond"]
[null,"CL07600","2012-01-27T10:59:15.307","Laptop","East","SME",76,"Yes",2.6,0,"Agent Neo"]
[null,"CL07603","2012-01-27T11:11:31.999","Software","West","Large Corporate",68,"Yes",2.2999999999999998,0,"Agent Smith"]
[null,"CL07612","2012-01-27T11:42:09.185","Monitor","East","SME",71,"Yes",2.7,0,"Agent Mary"]
[null,"CL07615","2012-01-27T11:49:06.399","Monitor","North","Large Corporate",71,"Yes",2.4,210,"Agent Vinod"]
[null,"CL07622","2012-01-27T12:10:56.476","Monitor","South","Non-profit",67,"Yes",3.1,0,"Agent Smith"]
[null,"CL07630","2012-01-27T12:35:16.972","Monitor","South","Individual",69,"Yes",1.9,0,"Agent Bond"]
[null,"CL07639","2012-01-27T13:04:09.945","Accessories","West","Individual",78,"Yes",3,150,"Agent Smith"]
[null,"CL07642","2012-01-27T13:11:54.725","Misc.","West","Large Corporate",67,"Yes",3.5,150,"Agent Mary"]
[null,"CL07651","2012-01-27T13:37:01.022","Software","North","Individual",78,"No",3.6,0,"Agent Mary"]
[null,"CL07652","2012-01-27T13:38:04.284","Monitor","East","Individual",70,"Yes",3.5,240,"Agent Neo"]
[null,"CL07661","2012-01-27T13:51:19.513","Desktop","East","Large Corporate",76,"No",2.8,250,"Agent Harry"]
[null,"CL07664","2012-01-27T13:59:28.184","Laptop","East","Non-profit",79,"Yes",2.8,200,"Agent Mary"]
[null,"CL07672","2012-01-27T14:27:45.714","Misc.","North","Large Corporate",83,"Yes",3.7,0,"Agent Harry"]
[null,"CL07681","2012-01-27T14:49:44.555","Software","South","Non-profit",92,"Yes",3.4,140,"Agent Neo"]
[null,"CL07688","2012-01-27T15:09:12.253","Monitor","East","Large Corporate",82,"Yes",2.8,190,"Agent Vinod"]
[null,"CL07691","2012-01-27T15:19:52.185","Desktop","North","Individual",72,"Yes",2.2999999999999998,0,"Agent Bond"]
[null,"CL07700","2012-01-27T15:42:37.717","Monitor","South","Large Corporate",66,"No",3.2,240,"Agent Harry"]
[null,"CL07701","2012-01-27T15:44:43.152","Misc.","North","Individual",65,"Yes",2.9,140,"Agent Neo"]
[null,"CL07711","2012-01-27T16:07:23.090","Software","West","Individual",82,"Yes",3.5,220,"Agent Bond"]
[null,"CL07718","2012-01-27T16:25:18.794","Monitor","South","SME",77,"Yes",2.5,190,"Agent Mary"]
[null,"CL07721","2012-01-27T16:35:32.090","Accessories","North","Large Corporate",69,"Yes",2.5,180,"Agent Smith"]
[null,"CL07730","2012-01-27T17:01:31.950","Laptop","South","Non-profit",69,"Yes",3.8,110,"Agent Smith"]
[null,"CL07737","2012-01-27T17:23:12.173","Misc.","Mid-west","Individual",79,"Yes",2.8,0,"Agent Bond"]
[null,"CL07738","2012-01-27T17:24:38.615","Misc.","South","Individual",74,"Yes",3.2,0,"Agent Neo"]
[null,"CL07750","2012-01-27T18:01:20.070","Accessories","East","SME",71,"Yes",2.5,170,"Agent Harry"]
[null,"CL07751","2012-01-27T18:03:28.768","Misc.","North","Individual",59,"Yes",3.3,160,"Agent Smith"]
[null,"CL07760","2012-01-27T18:20:56.804","Laptop","North","SME",70,"Yes",3.3,180,"Agent Smith"]
[null,"CL07767","2012-01-27T18:42:30.477","Monitor","West","Large Corporate",89,"Yes",3.9,120,"Agent Harry"]
[null,"CL07770","2012-01-27T18:51:50.714","Misc.","West","Non-profit",67,"Yes",3,250,"Agent Bond"]
[null,"CL07775","2012-01-27T19:11:53.095","Laptop","West","SME",82,"Yes",2.4,180,"Agent Mary"]
[null,"CL07787","2012-01-27T19:45:29.149","Accessories","North","Individual",88,"Yes",3,160,"Agent Neo"]
[null,"CL07790","2012-01-27T19:56:12.655","Software","East","Individual",73,"Yes",2.7,210,"Agent Bond"]
[null,"CL07797","2012-01-27T20:11:53.493","Laptop","North","Non-profit",71,"Yes",2.6,0,"Agent Harry"]
[null,"CL07800","2012-01-27T20:21:10.467","Software","East","Individual",81,"Yes",2.6,130,"Agent Neo"]
[null,"CL07809","2012-01-27T20:45:34.152","Monitor","South","SME",75,"Yes",3.7,0,"Agent Mary"]
[null,"CL07816","2012-01-27T21:14:14.652","Misc.","West","Large Corporate",92,"Yes",3.5,0,"Agent Smith"]
[null,"CL07820","2012-01-27T21:25:08.235","Laptop","South","Non-profit",81,"Yes",2.5,170,"Agent Smith"]
[null,"CL07829","2012-01-27T21:49:31.425","Misc.","West","SME",77,"Yes",2.2999999999999998,190,"Agent Vinod"]
[null,"CL07836","2012-01-28T08:06:10.999","Laptop","Mid-west","Non-profit",67,"Yes",2.5,0,"Agent Smith"]
[null,"CL07839","2012-01-28T08:12:13.390","Misc.","Mid-west","Large Corporate",87,"Yes",2.9,150,"Agent Harry"]
[null,"CL07846","2012-01-28T08:33:47.838","Desktop","Mid-west","SME",78,"Yes",2,0,"Agent Bond"]
[null,"CL07853","2012-01-28T08:45:31.380","Laptop","Mid-west","SME",77,"Yes",3.1,180,"Agent Vinod"]
[null,"CL07859","2012-01-28T09:02:17.235","Accessories","South","Non-profit",78,"Yes",3,280,"Agent Harry"]
[null,"CL07866","2012-01-28T09:28:55.001","Monitor","West","Individual",92,"Yes",2.6,0,"Agent Harry"]
[null,"CL07869","2012-01-28T09:33:20.231","Accessories","East","Large Corporate",78,"Yes",3.1,0,"Agent Mary"]
[null,"CL07876","2012-01-28T09:58:11.413","Laptop","South","Individual",79,"Yes",3.4,160,"Agent Vinod"]
[null,"CL07885","2012-01-28T10:25:07.068","Misc.","North","Non-profit",74,"Yes",3,210,"Agent Smith"]
[null,"CL07890","2012-01-28T10:40:06.730","Laptop","East","Non-profit",66,"Yes",2.1,0,"Agent Bond"]
[null,"CL07896","2012-01-28T11:00:07.364","Monitor","South","Individual",83,"Yes",2.7,140,"Agent Harry"]
[null,"CL07899","2012-01-28T11:05:13.413","Misc.","North","Non-profit",83,"Yes",2.4,0,"Agent Neo"]
[null,"CL07908","2012-01-28T11:30:25.435","Desktop","North","Non-profit",93,"No",3.2,190,"Agent Bond"]
[null,"CL07915","2012-01-28T11:44:18.903","Desktop","South","Non-profit",80,"Yes",2.9,170,"Agent Neo"]
[null,"CL07918","2012-01-28T11:52:14.546","Desktop","North","Large Corporate",60,"Yes",2.5,0,"Agent Bond"]
[null,"CL07924","2012-01-28T12:03:51.574","Monitor","Mid-west","Individual",75,"Yes",3.8,210,"Agent Vinod"]
[null,"CL07935","2012-01-28T12:26:13.171","Monitor","West","SME",85,"Yes",2.9,200,"Agent Mary"]
[null,"CL07938","2012-01-28T12:37:33.462","Monitor","North","Large Corporate",76,"Yes",3.3,0,"Agent Vinod"]
[null,"CL07945","2012-01-28T12:56:07.451","Software","North","Non-profit",75,"Yes",3.1,0,"Agent Neo"]
[null,"CL07948","2012-01-28T13:03:05.868","Laptop","North","Large Corporate",65,"Yes",2.9,0,"Agent Smith"]
[null,"CL07957","2012-01-28T13:35:29.187","Accessories","North","SME",72,"Yes",2.8,0,"Agent Mary"]
[null,"CL07961","2012-01-28T13:39:31.157","Desktop","North","SME",66,"Yes",3.4,150,"Agent Vinod"]
[null,"CL07968","2012-01-28T14:00:59.308","Accessories","West","Large Corporate",84,"Yes",3.3,130,"Agent Bond"]
[null,"CL07975","2012-01-28T14:28:06.120","Software","West","Individual",84,"Yes",3.2,0,"Agent Vinod"]
[null,"CL07984","2012-01-28T14:50:06.520","Software","South","Individual",80,"Yes",3.6,0,"Agent Harry"]
[null,"CL07987","2012-01-28T15:00:31.720","Accessories","West","Large Corporate",85,"Yes",2.5,140,"Agent Vinod"]
[null,"CL07994","2012-01-28T15:15:44.437","Misc.","Mid-west","Large Corporate",86,"Yes",2.6,0,"Agent Harry"]
[null,"CL07998","2012-01-28T15:23:54.918","Laptop","South","Individual",80,"Yes",3.1,210,"Agent Vinod"]
[null,"CL08005","2012-01-28T15:37:10.500","Misc.","West","Large Corporate",70,"Yes",2.6,130,"Agent Bond"]
[null,"CL08014","2012-01-28T16:03:49.181","Monitor","West","Individual",75,"Yes",2.6,0,"Agent Smith"]
[null,"CL08017","2012-01-28T16:09:43.989","Laptop","West","Individual",72,"Yes",2.7,0,"Agent Neo"]
[null,"CL08024","2012-01-28T16:31:32.254","Laptop","Mid-west","Non-profit",88,"Yes",3.2,160,"Agent Harry"]
[null,"CL08033","2012-01-28T16:52:14.796","Desktop","North","Individual",71,"Yes",3,0,"Agent Bond"]
[null,"CL08035","2012-01-28T16:57:53.739","Software","North","Non-profit",82,"Yes",2.7,180,"Agent Bond"]
[null,"CL08044","2012-01-28T17:18:08.049","Laptop","South","Large Corporate",77,"Yes",1.6,0,"Agent Mary"]
[null,"CL08047","2012-01-28T17:27:44.805","Monitor","South","Large Corporate",62,"Yes",2.7,210,"Agent Smith"]
[null,"CL08054","2012-01-28T17:41:42.737","Laptop","North","Individual",67,"Yes",2.6,0,"Agent Vinod"]
[null,"CL08063","2012-01-28T18:10:06.085","Software","West","Individual",90,"Yes",3,170,"Agent Bond"]
[null,"CL08066","2012-01-28T18:20:16.839","Laptop","West","Individual",88,"Yes",3.9,260,"Agent Vinod"]
[null,"CL08076","2012-01-28T18:41:09.229","Desktop","East","Individual",81,"Yes",3.6,220,"Agent Neo"]
[null,"CL08083","2012-01-28T19:00:23.841","Monitor","North","Large Corporate",70,"Yes",2.6,0,"Agent Harry"]
[null,"CL08084","2012-01-28T19:03:29.772","Laptop","West","SME",59,"Yes",3.6,0,"Agent Neo"]
[null,"CL08093","2012-01-28T19:28:23.326","Accessories","South","SME",75,"Yes",2.9,170,"Agent Harry"]
[null,"CL08096","2012-01-28T19:39:56.770","Desktop","East","Non-profit",94,"Yes",3.7,200,"Agent Harry"]
[null,"CL08103","2012-01-28T20:02:00.760","Monitor","West","Individual",72,"Yes",1.7,190,"Agent Bond"]
[null,"CL08113","2012-01-28T20:28:23.750","Accessories","East","SME",64,"Yes",2.5,0,"Agent Mary"]
[null,"CL08116","2012-01-28T20:35:29.419","Accessories","North","SME",81,"Yes",2.6,200,"Agent Bond"]
[null,"CL08123","2012-01-28T20:59:18.071","Desktop","Mid-west","SME",83,"Yes",2.9,230,"Agent Vinod"]
[null,"CL08132","2012-01-28T21:28:49.507","Accessories","East","Large Corporate",87,"Yes",3,290,"Agent Harry"]
[null,"CL08133","2012-01-28T21:29:13.509","Monitor","South","Large Corporate",74,"Yes",3.2,0,"Agent Neo"]
[null,"CL08142","2012-01-28T21:51:54.467","Misc.","North","Large Corporate",78,"Yes",2.8,160,"Agent Mary"]
[null,"CL08150","2012-01-29T08:21:30.280","Software","Mid-west","Large Corporate",67,"Yes",4.0999999999999996,0,"Agent Vinod"]
[null,"CL08153","2012-01-29T08:28:58.080","Misc.","East","Large Corporate",63,"Yes",3.2,260,"Agent Neo"]
[null,"CL08162","2012-01-29T08:44:43.753","Misc.","West","SME",65,"Yes",3.2,150,"Agent Neo"]
[null,"CL08165","2012-01-29T08:50:16.203","Laptop","South","Non-profit",68,"Yes",3.7,140,"Agent Mary"]
[null,"CL08172","2012-01-29T09:03:54.740","Software","East","Non-profit",74,"Yes",3.6,270,"Agent Smith"]
[null,"CL08180","2012-01-29T09:35:08.063","Desktop","West","Non-profit",70,"Yes",3.4,120,"Agent Neo"]
[null,"CL08183","2012-01-29T09:40:07.755","Misc.","South","Large Corporate",88,"Yes",2.4,240,"Agent Bond"]
[null,"CL08192","2012-01-29T10:04:32.921","Misc.","Mid-west","Non-profit",64,"Yes",3.8,0,"Agent Mary"]
[null,"CL08195","2012-01-29T10:10:22.181","Monitor","West","Large Corporate",75,"Yes",3.6,180,"Agent Vinod"]
[null,"CL08202","2012-01-29T10:40:31.638","Accessories","North","SME",77,"Yes",3.3,170,"Agent Mary"]
[null,"CL08211","2012-01-29T10:56:12.532","Accessories","North","Individual",73,"Yes",3.8,210,"Agent Neo"]
[null,"CL08214","2012-01-29T11:00:15.865","Software","West","Large Corporate",77,"Yes",2.7,0,"Agent Smith"]
[null,"CL08222","2012-01-29T11:29:39.816","Monitor","South","Non-profit",80,"Yes",3.4,130,"Agent Bond"]
[null,"CL08231","2012-01-29T11:57:28.999","Accessories","South","Non-profit",75,"Yes",3.7,0,"Agent Mary"]
[null,"CL08232","2012-01-29T11:57:40.524","Laptop","North","Non-profit",92,"Yes",2.2999999999999998,0,"Agent Vinod"]
[null,"CL08241","2012-01-29T12:24:04.303","Accessories","North","Large Corporate",55,"Yes",2.2000000000000002,0,"Agent Mary"]
[null,"CL08244","2012-01-29T12:33:07.762","Desktop","North","SME",86,"Yes",2.5,0,"Agent Mary"]
[null,"CL08251","2012-01-29T12:50:17.204","Desktop","West","Large Corporate",70,"Yes",2.8,130,"Agent Vinod"]
[null,"CL08261","2012-01-29T13:20:22.117","Desktop","West","Large Corporate",76,"Yes",1.7,0,"Agent Bond"]
[null,"CL08268","2012-01-29T13:41:47.012","Laptop","West","Individual",84,"Yes",2.9,0,"Agent Mary"]
[null,"CL08271","2012-01-29T13:52:00.406","Accessories","East","Non-profit",67,"Yes",2.7,190,"Agent Harry"]
[null,"CL08280","2012-01-29T14:14:25.512","Misc.","North","Individual",68,"Yes",3,270,"Agent Mary"]
[null,"CL08281","2012-01-29T14:19:39.475","Laptop","Mid-west","SME",64,"Yes",2.8,0,"Agent Smith"]
[null,"CL08288","2012-01-29T14:39:21.337","Desktop","Mid-west","SME",73,"Yes",3.5,0,"Agent Vinod"]
[null,"CL08294","2012-01-29T14:56:19.132","Monitor","East","SME",81,"Yes",2.8,210,"Agent Mary"]
[null,"CL08301","2012-01-29T15:22:15.021","Monitor","South","SME",61,"Yes",2.5,170,"Agent Bond"]
[null,"CL08310","2012-01-29T15:41:08.293","Laptop","South","Individual",84,"Yes",2.5,0,"Agent Harry"]
[null,"CL08317","2012-01-29T16:05:04.637","Desktop","South","SME",53,"Yes",3.4,190,"Agent Bond"]
[null,"CL08320","2012-01-29T16:11:29.015","Desktop","East","Individual",81,"Yes",3.3,230,"Agent Vinod"]
[null,"CL08325","2012-01-29T16:23:57.556","Software","Mid-west","Individual",87,"Yes",3.2,200,"Agent Vinod"]
[null,"CL08331","2012-01-29T16:39:16.627","Desktop","East","SME",73,"No",2.5,200,"Agent Bond"]
[null,"CL08340","2012-01-29T17:01:27.149","Misc.","South","SME",81,"No",3,230,"Agent Bond"]
[null,"CL08347","2012-01-29T17:29:43.339","Accessories","East","Non-profit",62,"Yes",3.1,200,"Agent Harry"]
[null,"CL08350","2012-01-29T17:38:14.931","Misc.","South","Large Corporate",70,"Yes",2.2999999999999998,200,"Agent Bond"]
[null,"CL08359","2012-01-29T17:56:06.337","Desktop","Mid-west","Large Corporate",81,"Yes",3.1,280,"Agent Vinod"]
[null,"CL08366","2012-01-29T18:09:00.911","Laptop","East","Large Corporate",81,"Yes",3.3,250,"Agent Smith"]
[null,"CL08370","2012-01-29T18:16:25.484","Monitor","South","Individual",84,"Yes",3,250,"Agent Harry"]
[null,"CL08379","2012-01-29T18:39:34.945","Misc.","South","Individual",74,"Yes",3.3,180,"Agent Vinod"]
[null,"CL08380","2012-01-29T18:41:54.379","Misc.","Mid-west","Individual",78,"Yes",3.6,0,"Agent Smith"]
[null,"CL08389","2012-01-29T19:07:58.052","Accessories","East","Non-profit",86,"Yes",3.2,140,"Agent Vinod"]
[null,"CL08396","2012-01-29T19:33:08.736","Desktop","East","Individual",77,"Yes",2.9,190,"Agent Smith"]
[null,"CL08403","2012-01-29T19:55:03.427","Accessories","Mid-west","Non-profit",68,"Yes",3.5,230,"Agent Neo"]
[null,"CL08409","2012-01-29T20:12:19.021","Laptop","West","Non-profit",77,"Yes",2.5,270,"Agent Harry"]
[null,"CL08416","2012-01-29T20:34:16.992","Monitor","Mid-west","Large Corporate",70,"Yes",2.5,90,"Agent Mary"]
[null,"CL08419","2012-01-29T20:45:39.524","Software","South","SME",82,"Yes",3.4,220,"Agent Vinod"]
[null,"CL08426","2012-01-29T21:15:00.686","Laptop","Mid-west","Non-profit",68,"Yes",3,220,"Agent Bond"]
[null,"CL08429","2012-01-29T21:19:03.293","Laptop","South","SME",72,"No",3.2,0,"Agent Bond"]
[null,"CL08440","2012-01-29T21:50:08.717","Laptop","Mid-west","SME",67,"Yes",3,0,"Agent Bond"]
[null,"CL08446","2012-01-30T08:05:27.955","Monitor","South","SME",70,"Yes",2.1,0,"Agent Neo"]
[null,"CL08449","2012-01-30T08:11:14.013","Desktop","South","Large Corporate",78,"Yes",3.1,0,"Agent Neo"]
[null,"CL08458","2012-01-30T08:35:13.910","Monitor","Mid-west","Non-profit",75,"Yes",2.7,0,"Agent Neo"]
[null,"CL08465","2012-01-30T08:56:13.474","Accessories","West","Individual",80,"Yes",3.3,0,"Agent Neo"]
[null,"CL08468","2012-01-30T09:07:38.956","Monitor","Mid-west","Individual",70,"Yes",3.2,170,"Agent Smith"]
[null,"CL08474","2012-01-30T09:26:04.927","Laptop","North","Individual",78,"Yes",3.2,0,"Agent Mary"]
[null,"CL08479","2012-01-30T09:46:35.405","Software","West","Individual",71,"Yes",3.3,120,"Agent Vinod"]
[null,"CL08488","2012-01-30T10:16:20.846","Desktop","West","Non-profit",80,"Yes",4.2,260,"Agent Harry"]
[null,"CL08495","2012-01-30T10:41:34.413","Accessories","Mid-west","SME",69,"Yes",2.2999999999999998,130,"Agent Vinod"]
[null,"CL08498","2012-01-30T10:50:19.235","Monitor","North","SME",76,"Yes",3.3,210,"Agent Smith"]
[null,"CL08507","2012-01-30T11:13:59.462","Desktop","Mid-west","Large Corporate",77,"Yes",3.3,200,"Agent Vinod"]
[null,"CL08511","2012-01-30T11:31:07.115","Accessories","West","Non-profit",75,"Yes",3.6,190,"Agent Harry"]
[null,"CL08518","2012-01-30T11:48:08.549","Laptop","East","Individual",70,"Yes",3.7,290,"Agent Vinod"]
[null,"CL08525","2012-01-30T12:01:43.573","Accessories","East","SME",62,"Yes",2.9,0,"Agent Mary"]
[null,"CL08528","2012-01-30T12:09:11.574","Laptop","West","Non-profit",65,"Yes",3.4,0,"Agent Bond"]
[null,"CL08537","2012-01-30T12:34:31.603","Desktop","Mid-west","Individual",76,"Yes",2.7,190,"Agent Smith"]
[null,"CL08544","2012-01-30T13:01:29.936","Misc.","East","Large Corporate",79,"No",2.2999999999999998,160,"Agent Mary"]
[null,"CL08548","2012-01-30T13:16:05.018","Desktop","West","Large Corporate",84,"Yes",2.2999999999999998,0,"Agent Bond"]
[null,"CL08555","2012-01-30T13:38:08.048","Software","Mid-west","Individual",72,"No",4.0999999999999996,0,"Agent Harry"]
[null,"CL08564","2012-01-30T14:03:48.285","Laptop","West","Non-profit",85,"Yes",3.1,0,"Agent Mary"]
[null,"CL08567","2012-01-30T14:08:23.298","Monitor","South","Individual",90,"Yes",3.6,190,"Agent Harry"]
[null,"CL08574","2012-01-30T14:27:36.848","Laptop","West","Non-profit",67,"No",2.7,180,"Agent Bond"]
[null,"CL08577","2012-01-30T14:34:33.431","Laptop","Mid-west","Large Corporate",95,"Yes",3.6,250,"Agent Harry"]
[null,"CL08585","2012-01-30T14:55:23.226","Accessories","North","Large Corporate",86,"Yes",3.3,0,"Agent Harry"]
[null,"CL08594","2012-01-30T15:23:39.051","Monitor","West","Non-profit",84,"No",3.1,160,"Agent Mary"]
[null,"CL08597","2012-01-30T15:33:39.375","Desktop","South","Non-profit",67,"Yes",3.1,200,"Agent Smith"]
[null,"CL08604","2012-01-30T15:56:46.942","Accessories","Mid-west","Individual",81,"Yes",2.7,0,"Agent Bond"]
[null,"CL08613","2012-01-30T16:19:16.354","Misc.","Mid-west","Large Corporate",69,"Yes",3.5,210,"Agent Bond"]
[null,"CL08616","2012-01-30T16:30:11.906","Laptop","West","Individual",74,"Yes",1.9,0,"Agent Mary"]
[null,"CL08626","2012-01-30T16:56:58.457","Software","North","Non-profit",90,"Yes",3.2,210,"Agent Harry"]
[null,"CL08627","2012-01-30T17:01:40.956","Laptop","East","SME",70,"Yes",2.5,200,"Agent Vinod"]
[null,"CL08636","2012-01-30T17:23:47.585","Laptop","North","Individual",78,"Yes",2.6,0,"Agent Neo"]
[null,"CL08643","2012-01-30T17:43:25.701","Desktop","Mid-west","Large Corporate",77,"Yes",3.2,0,"Agent Mary"]
[null,"CL08646","2012-01-30T17:54:32.183","Accessories","North","Individual",71,"Yes",3,150,"Agent Smith"]
[null,"CL08653","2012-01-30T18:17:45.091","Misc.","South","SME",80,"Yes",2.6,200,"Agent Vinod"]
[null,"CL08663","2012-01-30T18:41:07.956","Misc.","East","Large Corporate",72,"Yes",2.8,80,"Agent Vinod"]
[null,"CL08666","2012-01-30T18:51:45.985","Accessories","East","Non-profit",83,"Yes",3.1,160,"Agent Vinod"]
[null,"CL08673","2012-01-30T19:19:01.642","Monitor","East","Non-profit",67,"Yes",3.3,0,"Agent Mary"]
[null,"CL08676","2012-01-30T19:27:28.388","Accessories","North","Non-profit",61,"No",3.5,0,"Agent Smith"]
[null,"CL08683","2012-01-30T19:48:58.617","Software","East","Non-profit",64,"Yes",2.5,220,"Agent Harry"]
[null,"CL08692","2012-01-30T20:13:29.452","Misc.","West","Large Corporate",83,"Yes",3.8,250,"Agent Vinod"]
[null,"CL08700","2012-01-30T20:27:31.641","Monitor","Mid-west","Non-profit",72,"Yes",2.7,0,"Agent Harry"]
[null,"CL08703","2012-01-30T20:30:40.680","Software","East","Individual",70,"Yes",3.2,140,"Agent Smith"]
[null,"CL08712","2012-01-30T20:59:05.254","Misc.","Mid-west","Individual",65,"Yes",2.8,70,"Agent Mary"]
[null,"CL08715","2012-01-30T21:12:24.857","Desktop","North","Individual",64,"Yes",2.9,0,"Agent Harry"]
[null,"CL08722","2012-01-30T21:33:37.695","Monitor","East","SME",85,"Yes",3.3,190,"Agent Harry"]
[null,"CL08730","2012-01-30T21:55:01.855","Laptop","South","Non-profit",68,"Yes",3,0,"Agent Harry"]
[null,"CL08733","2012-01-31T08:01:43.025","Accessories","South","Non-profit",70,"No",3.5,0,"Agent Harry"]
[null,"CL08742","2012-01-31T08:27:23.598","Software","West","SME",65,"Yes",4,0,"Agent Smith"]
[null,"CL08745","2012-01-31T08:37:04.253","Monitor","North","Individual",76,"Yes",2.2000000000000002,200,"Agent Mary"]
[null,"CL08752","2012-01-31T08:57:06.107","Desktop","West","Large Corporate",82,"Yes",2.8,280,"Agent Bond"]
[null,"CL08761","2012-01-31T09:17:01.528","Software","West","SME",74,"Yes",3.3,0,"Agent Bond"]
[null,"CL08764","2012-01-31T09:27:34.687","Misc.","Mid-west","Individual",68,"Yes",3.1,120,"Agent Smith"]
[null,"CL08772","2012-01-31T09:42:16.052","Monitor","West","Individual",63,"Yes",2.2999999999999998,160,"Agent Neo"]
[null,"CL08775","2012-01-31T09:53:40.607","Laptop","South","SME",77,"Yes",3.9,80,"Agent Mary"]
[null,"CL08782","2012-01-31T10:21:40.144","Desktop","West","Large Corporate",65,"Yes",3.5,300,"Agent Harry"]
[null,"CL08791","2012-01-31T10:44:43.553","Monitor","Mid-west","Individual",87,"Yes",2.4,120,"Agent Bond"]
[null,"CL08794","2012-01-31T10:55:03.303","Desktop","South","SME",81,"Yes",3,180,"Agent Bond"]
[null,"CL08801","2012-01-31T11:16:32.203","Software","North","Non-profit",78,"Yes",3.6,200,"Agent Smith"]
[null,"CL08811","2012-01-31T11:41:01.921","Monitor","West","Large Corporate",84,"Yes",2.7,0,"Agent Smith"]
[null,"CL08812","2012-01-31T11:42:24.347","Desktop","West","Individual",68,"Yes",3.1,0,"Agent Bond"]
[null,"CL08821","2012-01-31T12:14:41.954","Accessories","East","Large Corporate",67,"Yes",3,150,"Agent Harry"]
[null,"CL08824","2012-01-31T12:24:50.581","Monitor","Mid-west","Large Corporate",75,"Yes",3.1,0,"Agent Harry"]
[null,"CL08831","2012-01-31T12:40:45.931","Accessories","North","SME",56,"Yes",3,0,"Agent Harry"]
[null,"CL08838","2012-01-31T12:59:06.695","Monitor","North","SME",81,"Yes",3.8,0,"Agent Mary"]
[null,"CL08844","2012-01-31T13:14:38.451","Accessories","Mid-west","Large Corporate",65,"Yes",2.7,190,"Agent Bond"]
[null,"CL08851","2012-01-31T13:34:05.589","Software","East","SME",63,"Yes",3.3,80,"Agent Harry"]
[null,"CL08860","2012-01-31T14:04:13.489","Monitor","Mid-west","Non-profit",63,"Yes",2.5,0,"Agent Mary"]
[null,"CL08861","2012-01-31T14:08:02.492","Monitor","West","Individual",86,"Yes",2.4,250,"Agent Bond"]
[null,"CL08870","2012-01-31T14:36:10.944","Software","Mid-west","Individual",70,"Yes",3.3,0,"Agent Bond"]
[null,"CL08875","2012-01-31T14:47:34.364","Misc.","Mid-west","SME",80,"Yes",2.4,180,"Agent Harry"]
[null,"CL08881","2012-01-31T15:01:09.816","Desktop","East","SME",64,"Yes",2.6,260,"Agent Neo"]
[null,"CL08890","2012-01-31T15:26:03.316","Monitor","South","SME",67,"Yes",2.7,0,"Agent Neo"]
[null,"CL08897","2012-01-31T15:46:45.287","Accessories","West","Non-profit",81,"Yes",3.5,0,"Agent Harry"]
[null,"CL08900","2012-01-31T15:57:29.170","Accessories","East","Non-profit",80,"Yes",3.7,0,"Agent Bond"]
[null,"CL08909","2012-01-31T16:21:46.509","Laptop","North","Non-profit",73,"Yes",3.5,150,"Agent Bond"]
[null,"CL08916","2012-01-31T16:42:47.183","Misc.","North","SME",73,"Yes",3,190,"Agent Bond"]
[null,"CL08920","2012-01-31T16:57:02.863","Desktop","Mid-west","Large Corporate",57,"Yes",3.7,150,"Agent Mary"]
[null,"CL08923","2012-01-31T17:08:21.270","Monitor","South","SME",70,"Yes",2.1,200,"Agent Bond"]
[null,"CL08930","2012-01-31T17:28:37.898","Accessories","East","SME",79,"Yes",2.6,200,"Agent Smith"]
[null,"CL08939","2012-01-31T17:50:23.254","Accessories","West","Large Corporate",72,"Yes",3.2,200,"Agent Mary"]
[null,"CL08946","2012-01-31T18:09:49.350","Software","East","SME",66,"Yes",3.3,190,"Agent Vinod"]
[null,"CL08953","2012-01-31T18:26:58.563","Accessories","South","SME",81,"Yes",3.6,0,"Agent Mary"]
[null,"CL08959","2012-01-31T18:46:44.512","Misc.","South","Individual",90,"Yes",2.2999999999999998,0,"Agent Neo"]
[null,"CL08960","2012-01-31T18:51:54.691","Misc.","South","Non-profit",74,"Yes",3.3,220,"Agent Harry"]
[null,"CL08969","2012-01-31T19:17:03.261","Desktop","West","Individual",67,"Yes",2.2000000000000002,0,"Agent Bond"]
[null,"CL08976","2012-01-31T19:32:16.683","Monitor","East","Non-profit",80,"Yes",2.7,130,"Agent Bond"]
[null,"CL08979","2012-01-31T19:45:04.285","Accessories","South","Individual",70,"Yes",3,130,"Agent Harry"]
[null,"CL08990","2012-01-31T20:15:38.255","Software","Mid-west","Individual",77,"No",3.6,200,"Agent Neo"]
[null,"CL08996","2012-01-31T20:35:10.504","Software","West","Individual",84,"Yes",2.8,210,"Agent Mary"]
[null,"CL08999","2012-01-31T20:41:49.911","Software","West","SME",73,"Yes",3,0,"Agent Neo"]
[null,"CL09008","2012-01-31T21:03:59.991","Misc.","South","Non-profit",80,"Yes",2.7,180,"Agent Harry"]
[null,"CL09009","2012-01-31T21:09:41.041","Laptop","East","Individual",67,"Yes",3.2,210,"Agent Vinod"]
[null,"CL09018","2012-01-31T21:40:30.325","Software","West","SME",72,"Yes",3.5,0,"Agent Mary"]
[null,"CL09024","2012-01-31T21:52:56.883","Software","South","Large Corporate",74,"Yes",2.5,210,"Agent Vinod"]
[null,"CL09029","2012-02-01T08:04:58.416","Misc.","South","Individual",74,"Yes",2.7,220,"Agent Smith"]
[null,"CL09038","2012-02-01T08:21:45.759","Misc.","West","Non-profit",73,"Yes",2.6,290,"Agent Vinod"]
[null,"CL09045","2012-02-01T08:42:35.921","Desktop","South","Non-profit",76,"Yes",2.5,170,"Agent Bond"]
[null,"CL09048","2012-02-01T08:52:25.976","Accessories","Mid-west","SME",81,"Yes",2.9,170,"Agent Smith"]
[null,"CL09057","2012-02-01T09:19:17.349","Accessories","South","Individual",70,"Yes",2,240,"Agent Vinod"]
[null,"CL09061","2012-02-01T09:30:31.081","Monitor","South","Individual",64,"Yes",2.7,0,"Agent Neo"]
[null,"CL09068","2012-02-01T09:50:45.007","Desktop","North","Individual",81,"No",2.6,0,"Agent Neo"]
[null,"CL09075","2012-02-01T10:18:57.912","Software","South","Individual",69,"Yes",3.6,0,"Agent Mary"]
[null,"CL09078","2012-02-01T10:24:43.299","Laptop","North","Non-profit",83,"Yes",2.9,210,"Agent Harry"]
[null,"CL09087","2012-02-01T10:47:52.902","Desktop","West","Large Corporate",70,"Yes",2.2999999999999998,230,"Agent Neo"]
[null,"CL09094","2012-02-01T11:06:40.632","Laptop","Mid-west","SME",80,"Yes",3.4,160,"Agent Bond"]
[null,"CL09098","2012-02-01T11:18:48.311","Software","East","SME",70,"Yes",3.4,0,"Agent Neo"]
[null,"CL09105","2012-02-01T11:36:59.951","Laptop","Mid-west","SME",83,"Yes",4.0999999999999996,0,"Agent Mary"]
[null,"CL09108","2012-02-01T11:48:22.492","Laptop","South","Non-profit",80,"Yes",2.8,190,"Agent Neo"]
[null,"CL09117","2012-02-01T12:18:45.311","Accessories","West","Non-profit",60,"Yes",2.6,0,"Agent Vinod"]
[null,"CL09124","2012-02-01T12:41:12.499","Laptop","West","Individual",77,"Yes",3.1,190,"Agent Vinod"]
[null,"CL09127","2012-02-01T12:52:09.542","Laptop","Mid-west","Individual",84,"Yes",3.6,0,"Agent Harry"]
[null,"CL09135","2012-02-01T13:13:20.056","Software","East","Non-profit",63,"Yes",2.4,160,"Agent Harry"]
[null,"CL09144","2012-02-01T13:41:31.804","Software","North","Individual",72,"Yes",2.7,0,"Agent Smith"]
[null,"CL09147","2012-02-01T13:52:53.405","Misc.","Mid-west","Large Corporate",86,"Yes",3.4,180,"Agent Mary"]
[null,"CL09154","2012-02-01T14:12:58.005","Software","Mid-west","Individual",78,"Yes",3,0,"Agent Neo"]
[null,"CL09157","2012-02-01T14:20:44.296","Desktop","East","Large Corporate",77,"No",3.6,0,"Agent Neo"]
[null,"CL09166","2012-02-01T14:39:00.260","Desktop","East","Non-profit",76,"Yes",3.1,200,"Agent Vinod"]
[null,"CL09169","2012-02-01T14:44:02.483","Software","East","Non-profit",90,"Yes",3.5,210,"Agent Harry"]
[null,"CL09177","2012-02-01T15:04:24.834","Software","South","Non-profit",78,"Yes",2.7,0,"Agent Neo"]
[null,"CL09186","2012-02-01T15:29:57.358","Desktop","North","Large Corporate",63,"Yes",2.9,0,"Agent Mary"]
[null,"CL09193","2012-02-01T15:46:48.292","Software","South","Large Corporate",73,"Yes",2.5,190,"Agent Neo"]
[null,"CL09196","2012-02-01T15:54:12.903","Monitor","East","Large Corporate",82,"Yes",2.6,0,"Agent Smith"]
[null,"CL09203","2012-02-01T16:18:28.954","Laptop","South","Individual",75,"Yes",3.5,0,"Agent Vinod"]
[null,"CL09206","2012-02-01T16:29:57.579","Laptop","North","Individual",71,"Yes",3.5,230,"Agent Vinod"]
[null,"CL09216","2012-02-01T16:54:03.823","Laptop","South","Non-profit",71,"Yes",2.8,0,"Agent Neo"]
[null,"CL09223","2012-02-01T17:13:02.900","Laptop","East","Large Corporate",77,"Yes",1.7,0,"Agent Vinod"]
[null,"CL09226","2012-02-01T17:21:01.756","Accessories","West","Non-profit",78,"Yes",3.2,270,"Agent Bond"]
[null,"CL09233","2012-02-01T17:47:28.263","Monitor","East","Individual",68,"Yes",3,0,"Agent Vinod"]
[null,"CL09242","2012-02-01T18:14:14.595","Accessories","South","Large Corporate",78,"Yes",3,250,"Agent Neo"]
[null,"CL09243","2012-02-01T18:15:42.835","Monitor","Mid-west","Large Corporate",94,"Yes",3.3,200,"Agent Neo"]
[null,"CL09253","2012-02-01T18:39:10.184","Misc.","West","Non-profit",64,"Yes",3.8,0,"Agent Mary"]
[null,"CL09256","2012-02-01T18:44:57.699","Monitor","North","Large Corporate",82,"Yes",3.7,0,"Agent Smith"]
[null,"CL09265","2012-02-01T19:12:56.835","Misc.","East","Non-profit",86,"Yes",3.5,0,"Agent Mary"]
[null,"CL09272","2012-02-01T19:32:04.265","Laptop","South","Large Corporate",72,"Yes",2.9,0,"Agent Neo"]
[null,"CL09275","2012-02-01T19:37:56.643","Desktop","North","Large Corporate",72,"Yes",2.7,140,"Agent Bond"]
[null,"CL09284","2012-02-01T20:08:52.898","Desktop","East","Non-profit",85,"Yes",4.0999999999999996,210,"Agent Bond"]
[null,"CL09292","2012-02-01T20:36:12.444","Software","North","Non-profit",74,"Yes",0.9,150,"Agent Vinod"]
[null,"CL09295","2012-02-01T20:44:57.330","Desktop","Mid-west","Large Corporate",73,"Yes",3.4,260,"Agent Smith"]
[null,"CL09302","2012-02-01T21:00:49.571","Misc.","Mid-west","Individual",79,"Yes",3.2,140,"Agent Smith"]
[null,"CL09305","2012-02-01T21:11:07.572","Desktop","East","Individual",78,"Yes",2.4,0,"Agent Vinod"]
[null,"CL09314","2012-02-01T21:39:45.709","Software","Mid-west","Large Corporate",66,"Yes",2.7,0,"Agent Smith"]
[null,"CL09322","2012-02-01T22:00:11.737","Accessories","Mid-west","Large Corporate",85,"Yes",3.1,170,"Agent Smith"]
[null,"CL09325","2012-02-02T08:14:09.604","Monitor","West","SME",79,"Yes",2.6,0,"Agent Bond"]
[null,"CL09332","2012-02-02T08:36:28.480","Laptop","South","Large Corporate",72,"Yes",4,0,"Agent Bond"]
[null,"CL09341","2012-02-02T09:04:13.281","Misc.","South","SME",63,"Yes",3.2,140,"Agent Mary"]
[null,"CL09344","2012-02-02T09:11:57.524","Misc.","Mid-west","SME",79,"No",3.1,250,"Agent Smith"]
[null,"CL09351","2012-02-02T09:35:21.063","Misc.","Mid-west","SME",87,"Yes",2.8,220,"Agent Smith"]
[null,"CL09355","2012-02-02T09:45:30.771","Laptop","North","SME",83,"Yes",2.2999999999999998,170,"Agent Harry"]
[null,"CL09362","2012-02-02T10:02:44.151","Monitor","West","Large Corporate",77,"Yes",3.4,180,"Agent Vinod"]
[null,"CL09371","2012-02-02T10:28:24.440","Software","North","Large Corporate",77,"Yes",2.7,0,"Agent Smith"]
[null,"CL09374","2012-02-02T10:35:02.896","Desktop","East","Individual",76,"Yes",2.9,180,"Agent Vinod"]
[null,"CL09381","2012-02-02T10:59:14.214","Desktop","South","Individual",73,"Yes",3.4,220,"Agent Mary"]
[null,"CL09388","2012-02-02T11:25:00.964","Software","South","Large Corporate",89,"Yes",2.8,0,"Agent Vinod"]
[null,"CL09394","2012-02-02T11:44:04.647","Monitor","West","Non-profit",63,"Yes",3.1,240,"Agent Smith"]
[null,"CL09401","2012-02-02T12:00:45.968","Misc.","Mid-west","Non-profit",69,"Yes",2.5,0,"Agent Bond"]
[null,"CL09404","2012-02-02T12:08:53.025","Software","North","Large Corporate",71,"Yes",3.5,0,"Agent Mary"]
[null,"CL09411","2012-02-02T12:37:34.862","Laptop","Mid-west","SME",79,"Yes",1.9,300,"Agent Neo"]
[null,"CL09420","2012-02-02T13:01:03.045","Misc.","East","SME",88,"Yes",2.2000000000000002,190,"Agent Neo"]
[null,"CL09425","2012-02-02T13:19:40.784","Accessories","South","Individual",70,"Yes",3.2,90,"Agent Neo"]
[null,"CL09431","2012-02-02T13:38:46.544","Laptop","North","Non-profit",86,"Yes",2.7,0,"Agent Smith"]
[null,"CL09440","2012-02-02T13:59:56.436","Desktop","Mid-west","Non-profit",79,"Yes",2.6,110,"Agent Vinod"]
[null,"CL09441","2012-02-02T14:00:09.453","Misc.","South","SME",88,"Yes",3.5,260,"Agent Harry"]
[null,"CL09450","2012-02-02T14:27:21.534","Misc.","South","Large Corporate",75,"Yes",3.3,150,"Agent Neo"]
[null,"CL09453","2012-02-02T14:34:35.241","Monitor","Mid-west","Large Corporate",71,"Yes",2.1,310,"Agent Mary"]
[null,"CL09459","2012-02-02T14:50:32.957","Accessories","Mid-west","Non-profit",84,"Yes",2.4,160,"Agent Vinod"]
[null,"CL09470","2012-02-02T15:18:00.268","Misc.","South","Non-profit",75,"No",3.6,170,"Agent Neo"]
[null,"CL09473","2012-02-02T15:26:30.417","Accessories","South","Individual",77,"Yes",4,180,"Agent Smith"]
[null,"CL09480","2012-02-02T15:34:27.232","Desktop","North","Individual",77,"Yes",2.9,240,"Agent Neo"]
[null,"CL09489","2012-02-02T16:03:04.847","Accessories","South","Non-profit",95,"Yes",3.2,290,"Agent Vinod"]
[null,"CL09490","2012-02-02T16:06:29.912","Misc.","Mid-west","Individual",81,"Yes",3,0,"Agent Bond"]
[null,"CL09496","2012-02-02T16:23:07.675","Laptop","East","Individual",72,"Yes",3,0,"Agent Mary"]
[null,"CL09503","2012-02-02T16:46:35.754","Monitor","East","SME",80,"Yes",2.8,220,"Agent Vinod"]
[null,"CL09510","2012-02-02T17:10:46.096","Accessories","South","SME",70,"Yes",3.2,0,"Agent Vinod"]
[null,"CL09519","2012-02-02T17:39:37.981","Laptop","Mid-west","Non-profit",77,"Yes",3.2,210,"Agent Vinod"]
[null,"CL09522","2012-02-02T17:45:18.685","Monitor","Mid-west","Large Corporate",79,"Yes",2.7,180,"Agent Bond"]
[null,"CL09529","2012-02-02T18:09:00.364","Accessories","West","Large Corporate",82,"Yes",2.2000000000000002,0,"Agent Mary"]
[null,"CL09533","2012-02-02T18:21:46.971","Laptop","West","Large Corporate",67,"Yes",2.7,0,"Agent Smith"]
[null,"CL09540","2012-02-02T18:37:25.924","Desktop","Mid-west","SME",61,"Yes",2.9,220,"Agent Neo"]
[null,"CL09549","2012-02-02T18:59:53.775","Software","South","Large Corporate",71,"No",3.6,0,"Agent Neo"]
[null,"CL09552","2012-02-02T19:08:19.260","Accessories","North","Large Corporate",71,"Yes",3.1,150,"Agent Harry"]
[null,"CL09559","2012-02-02T19:25:34.380","Software","North","Non-profit",64,"Yes",3,0,"Agent Bond"]
[null,"CL09568","2012-02-02T19:55:04.789","Desktop","Mid-west","Non-profit",75,"Yes",2.9,190,"Agent Smith"]
[null,"CL09574","2012-02-02T20:10:55.848","Monitor","North","Non-profit",86,"Yes",2.5,0,"Agent Smith"]
[null,"CL09579","2012-02-02T20:23:23.644","Accessories","South","SME",78,"Yes",3.8,0,"Agent Mary"]
[null,"CL09588","2012-02-02T20:47:19.398","Software","West","Individual",80,"Yes",2.7,0,"Agent Harry"]
[null,"CL09589","2012-02-02T20:50:14.159","Accessories","West","Non-profit",87,"Yes",3.2,190,"Agent Bond"]
[null,"CL09598","2012-02-02T21:21:59.496","Laptop","Mid-west","Non-profit",82,"Yes",2.9,0,"Agent Smith"]
[null,"CL09601","2012-02-02T21:32:17.514","Monitor","Mid-west","Non-profit",63,"Yes",2.7,190,"Agent Smith"]
[null,"CL09611","2012-02-02T22:01:07.195","Laptop","Mid-west","Large Corporate",81,"Yes",3.4,0,"Agent Neo"]
[null,"CL09618","2012-02-03T08:21:54.379","Monitor","North","SME",80,"Yes",3.4,90,"Agent Smith"]
[null,"CL09625","2012-02-03T08:34:04.476","Monitor","West","Individual",86,"Yes",3.4,190,"Agent Bond"]
[null,"CL09628","2012-02-03T08:42:42.071","Monitor","Mid-west","SME",66,"Yes",3.8,300,"Agent Harry"]
[null,"CL09637","2012-02-03T09:14:40.597","Desktop","West","Large Corporate",69,"Yes",2.9,300,"Agent Mary"]
[null,"CL09638","2012-02-03T09:20:25.701","Software","East","Large Corporate",63,"Yes",2.7,0,"Agent Bond"]
[null,"CL09648","2012-02-03T09:55:00.998","Desktop","East","Large Corporate",66,"Yes",3.1,0,"Agent Smith"]
[null,"CL09655","2012-02-03T10:16:08.647","Misc.","West","Individual",88,"Yes",3.1,0,"Agent Neo"]
[null,"CL09658","2012-02-03T10:18:58.978","Monitor","East","Non-profit",83,"Yes",1.9,100,"Agent Smith"]
[null,"CL09667","2012-02-03T10:46:48.299","Desktop","West","Non-profit",69,"Yes",3.6,0,"Agent Mary"]
[null,"CL09674","2012-02-03T11:03:40.075","Accessories","South","Non-profit",60,"Yes",3,140,"Agent Bond"]
[null,"CL09677","2012-02-03T11:12:54.645","Desktop","Mid-west","Non-profit",78,"Yes",2.6,0,"Agent Bond"]
[null,"CL09685","2012-02-03T11:27:01.945","Desktop","East","Non-profit",93,"Yes",2.9,250,"Agent Smith"]
[null,"CL09688","2012-02-03T11:37:45.986","Desktop","Mid-west","Individual",77,"Yes",2.6,0,"Agent Smith"]
[null,"CL09697","2012-02-03T11:56:24.482","Software","South","SME",74,"Yes",3.1,180,"Agent Vinod"]
[null,"CL09704","2012-02-03T12:12:40.344","Software","South","SME",83,"No",3.3,0,"Agent Mary"]
[null,"CL09707","2012-02-03T12:16:52.911","Misc.","North","Non-profit",87,"Yes",2.5,0,"Agent Smith"]
[null,"CL09716","2012-02-03T12:43:53.423","Misc.","Mid-west","Individual",76,"Yes",4,0,"Agent Vinod"]
[null,"CL09719","2012-02-03T12:57:24.576","Misc.","West","SME",61,"Yes",2.6,200,"Agent Bond"]
[null,"CL09727","2012-02-03T13:16:59.731","Accessories","Mid-west","SME",72,"Yes",2.2999999999999998,210,"Agent Harry"]
[null,"CL09736","2012-02-03T13:36:21.914","Software","South","Large Corporate",86,"Yes",2.7,190,"Agent Harry"]
[null,"CL09737","2012-02-03T13:38:54.071","Accessories","North","SME",78,"Yes",2.8,0,"Agent Smith"]
[null,"CL09746","2012-02-03T14:07:16.134","Monitor","South","SME",82,"Yes",3.1,0,"Agent Vinod"]
[null,"CL09753","2012-02-03T14:32:56.862","Monitor","Mid-west","SME",94,"Yes",2.8,0,"Agent Harry"]
[null,"CL09756","2012-02-03T14:37:14.016","Desktop","Mid-west","Non-profit",72,"Yes",3.1,160,"Agent Harry"]
[null,"CL09766","2012-02-03T15:03:24.288","Desktop","Mid-west","SME",72,"Yes",2.2000000000000002,220,"Agent Harry"]
[null,"CL09773","2012-02-03T15:19:12.334","Accessories","North","Large Corporate",75,"Yes",2.8,210,"Agent Smith"]
[null,"CL09776","2012-02-03T15:28:35.649","Laptop","West","SME",71,"Yes",3.7,0,"Agent Vinod"]
[null,"CL09783","2012-02-03T15:46:18.213","Monitor","Mid-west","Individual",88,"Yes",3.3,240,"Agent Smith"]
[null,"CL09786","2012-02-03T15:58:41.718","Software","West","Non-profit",84,"Yes",4,0,"Agent Harry"]
[null,"CL09793","2012-02-03T16:21:07.840","Accessories","Mid-west","SME",87,"Yes",2.8,170,"Agent Mary"]
[null,"CL09803","2012-02-03T17:00:41.421","Misc.","South","SME",73,"Yes",3,270,"Agent Vinod"]
[null,"CL09806","2012-02-03T17:15:45.758","Accessories","North","Individual",72,"Yes",3,190,"Agent Harry"]
[null,"CL09815","2012-02-03T17:40:34.855","Laptop","East","Individual",70,"Yes",3.4,230,"Agent Harry"]
[null,"CL09822","2012-02-03T17:58:44.935","Laptop","Mid-west","SME",60,"Yes",3.7,0,"Agent Smith"]
[null,"CL09825","2012-02-03T18:05:40.894","Misc.","Mid-west","Non-profit",83,"Yes",3.9,0,"Agent Mary"]
[null,"CL09834","2012-02-03T18:31:25.405","Laptop","East","Non-profit",69,"Yes",2.8,250,"Agent Bond"]
[null,"CL09836","2012-02-03T18:37:58.814","Laptop","North","SME",71,"Yes",3.4,230,"Agent Neo"]
[null,"CL09845","2012-02-03T19:06:40.170","Desktop","East","Non-profit",63,"Yes",3.4,170,"Agent Vinod"]
[null,"CL09852","2012-02-03T19:25:10.321","Accessories","East","SME",72,"Yes",3.6,120,"Agent Neo"]
[null,"CL09855","2012-02-03T19:38:26.991","Desktop","North","SME",59,"Yes",3.1,130,"Agent Smith"]
[null,"CL09864","2012-02-03T19:59:48.959","Desktop","North","Individual",75,"Yes",2.7,0,"Agent Mary"]
[null,"CL09872","2012-02-03T20:19:14.209","Accessories","West","Non-profit",81,"Yes",3,0,"Agent Vinod"]
[null,"CL09875","2012-02-03T20:29:37.567","Software","South","SME",71,"Yes",2.8,260,"Agent Harry"]
[null,"CL09882","2012-02-03T20:53:53.699","Misc.","North","SME",74,"Yes",3.2,0,"Agent Harry"]
[null,"CL09885","2012-02-03T20:58:25.149","Desktop","West","Large Corporate",80,"Yes",3.2,190,"Agent Neo"]
[null,"CL09894","2012-02-03T21:33:11.570","Laptop","North","Individual",80,"Yes",3.8,0,"Agent Mary"]
[null,"CL09901","2012-02-03T21:52:23.592","Misc.","Mid-west","Individual",76,"Yes",2.6,200,"Agent Vinod"]
[null,"CL09905","2012-02-03T22:04:19.227","Software","East","Individual",73,"Yes",3.8,330,"Agent Bond"]
[null,"CL09912","2012-02-04T08:28:15.216","Software","West","Non-profit",77,"Yes",2.8,200,"Agent Bond"]
[null,"CL09921","2012-02-04T08:47:27.900","Misc.","North","SME",84,"Yes",3.9,280,"Agent Neo"]
[null,"CL09924","2012-02-04T08:51:04.469","Misc.","West","Large Corporate",65,"Yes",2.5,310,"Agent Harry"]
[null,"CL09931","2012-02-04T09:15:08.337","Laptop","South","SME",74,"Yes",3.4,0,"Agent Smith"]
[null,"CL09938","2012-02-04T09:36:53.212","Desktop","North","SME",69,"Yes",3.2,150,"Agent Bond"]
[null,"CL09944","2012-02-04T09:55:46.218","Accessories","Mid-west","Individual",68,"Yes",3.8,120,"Agent Vinod"]
[null,"CL09951","2012-02-04T10:17:37.180","Software","South","Non-profit",62,"Yes",2.6,300,"Agent Smith"]
[null,"CL09954","2012-02-04T10:28:06.482","Software","West","Large Corporate",73,"Yes",3.5,210,"Agent Mary"]
[null,"CL09961","2012-02-04T10:52:06.909","Accessories","South","Non-profit",92,"Yes",3.5,250,"Agent Mary"]
[null,"CL09970","2012-02-04T11:25:50.052","Misc.","South","Individual",67,"Yes",3.7,240,"Agent Mary"]
[null,"CL09975","2012-02-04T11:40:49.167","Misc.","West","SME",78,"Yes",2.6,0,"Agent Vinod"]
[null,"CL09981","2012-02-04T12:00:39.005","Accessories","North","SME",77,"No",3.5,250,"Agent Smith"]
[null,"CL09984","2012-02-04T12:06:17.062","Accessories","East","Non-profit",81,"Yes",3.4,170,"Agent Harry"]
[null,"CL09991","2012-02-04T12:27:40.800","Monitor","Mid-west","Large Corporate",91,"No",3.2,180,"Agent Harry"]
[null,"CL10000","2012-02-04T12:57:43.118","Misc.","Mid-west","SME",78,"Yes",3.7,220,"Agent Vinod"]
[null,"CL10003","2012-02-04T13:10:38.946","Software","Mid-west","Individual",80,"Yes",3.1,270,"Agent Vinod"]
[null,"CL10009","2012-02-04T13:28:01.440","Monitor","North","Non-profit",67,"Yes",2.9,0,"Agent Smith"]
[null,"CL10020","2012-02-04T13:55:13.224","Desktop","North","SME",83,"Yes",3.1,200,"Agent Neo"]
[null,"CL10023","2012-02-04T14:08:29.807","Misc.","West","SME",72,"Yes",3.4,210,"Agent Smith"]
[null,"CL10030","2012-02-04T14:17:59.717","Desktop","North","Large Corporate",76,"Yes",2.8,210,"Agent Mary"]
[null,"CL10033","2012-02-04T14:24:42.264","Accessories","West","Non-profit",72,"Yes",3,0,"Agent Smith"]
[null,"CL10040","2012-02-04T14:44:58.428","Accessories","West","Individual",77,"Yes",2.8,180,"Agent Harry"]
[null,"CL10046","2012-02-04T15:00:31.440","Software","East","SME",71,"No",2.2000000000000002,250,"Agent Vinod"]
[null,"CL10053","2012-02-04T15:30:53.056","Desktop","East","Non-profit",79,"Yes",3.1,0,"Agent Bond"]
[null,"CL10060","2012-02-04T15:49:46.301","Laptop","Mid-west","Non-profit",76,"Yes",1.9,0,"Agent Vinod"]
[null,"CL10069","2012-02-04T16:14:43.865","Misc.","East","Large Corporate",83,"Yes",2.8,210,"Agent Vinod"]
[null,"CL10072","2012-02-04T16:21:54.022","Misc.","West","Non-profit",72,"Yes",3.3,160,"Agent Harry"]
[null,"CL10079","2012-02-04T16:49:27.561","Monitor","West","Individual",72,"Yes",2.9,0,"Agent Harry"]
[null,"CL10083","2012-02-04T17:01:05.277","Misc.","Mid-west","Non-profit",72,"Yes",3.5,220,"Agent Vinod"]
[null,"CL10090","2012-02-04T17:17:45.818","Misc.","East","Large Corporate",74,"Yes",3,0,"Agent Smith"]
[null,"CL10099","2012-02-04T17:48:29.206","Misc.","West","Individual",71,"Yes",4.0999999999999996,240,"Agent Vinod"]
[null,"CL10102","2012-02-04T17:54:24.966","Accessories","East","Individual",83,"Yes",3.3,0,"Agent Bond"]
[null,"CL10109","2012-02-04T18:13:59.369","Laptop","North","Individual",71,"Yes",3,210,"Agent Mary"]
[null,"CL10118","2012-02-04T18:43:49.675","Monitor","North","Large Corporate",78,"Yes",3.2,250,"Agent Vinod"]
[null,"CL10124","2012-02-04T18:55:14.728","Laptop","West","Large Corporate",69,"Yes",2.4,200,"Agent Mary"]
[null,"CL10129","2012-02-04T19:05:46.094","Accessories","Mid-west","Non-profit",58,"Yes",3.3,140,"Agent Harry"]
[null,"CL10132","2012-02-04T19:11:06.973","Desktop","North","SME",82,"Yes",2.6,0,"Agent Bond"]
[null,"CL10139","2012-02-04T19:41:44.532","Misc.","North","Non-profit",69,"Yes",2.6,230,"Agent Smith"]
[null,"CL10148","2012-02-04T20:05:10.681","Laptop","West","Non-profit",72,"Yes",4,160,"Agent Harry"]
[null,"CL10151","2012-02-04T20:18:23.931","Desktop","Mid-west","Large Corporate",76,"Yes",3.5,0,"Agent Mary"]
[null,"CL10161","2012-02-04T20:47:36.239","Laptop","South","Non-profit",80,"Yes",3.2,0,"Agent Vinod"]
[null,"CL10168","2012-02-04T21:08:04.011","Monitor","North","Non-profit",86,"Yes",3.5,280,"Agent Bond"]
[null,"CL10169","2012-02-04T21:11:13.772","Misc.","West","Non-profit",62,"Yes",2.9,0,"Agent Mary"]
[null,"CL10178","2012-02-04T21:41:01.672","Laptop","North","Individual",80,"Yes",4,270,"Agent Mary"]
[null,"CL10181","2012-02-04T21:49:07.834","Misc.","West","Individual",81,"Yes",2.8,190,"Agent Neo"]
[null,"CL10188","2012-02-05T08:04:55.515","Monitor","Mid-west","Large Corporate",81,"Yes",3.5,0,"Agent Smith"]
[null,"CL10198","2012-02-05T08:35:57.772","Accessories","North","Individual",78,"Yes",2.7,0,"Agent Smith"]
[null,"CL10205","2012-02-05T08:51:17.810","Monitor","Mid-west","Individual",71,"Yes",4.0999999999999996,170,"Agent Mary"]
[null,"CL10208","2012-02-05T09:00:09.183","Desktop","West","SME",77,"Yes",3,0,"Agent Neo"]
[null,"CL10217","2012-02-05T09:26:03.837","Misc.","Mid-west","Non-profit",70,"Yes",2.7,190,"Agent Vinod"]
[null,"CL10218","2012-02-05T09:28:33.551","Accessories","Mid-west","Non-profit",52,"Yes",3.8,160,"Agent Smith"]
[null,"CL10227","2012-02-05T09:43:02.675","Monitor","East","SME",67,"Yes",3.2,0,"Agent Neo"]
[null,"CL10235","2012-02-05T10:02:31.597","Laptop","South","SME",81,"Yes",2.9,0,"Agent Neo"]
[null,"CL10238","2012-02-05T10:13:53.579","Misc.","South","Large Corporate",79,"Yes",2.9,160,"Agent Mary"]
[null,"CL10247","2012-02-05T10:40:36.174","Misc.","South","Large Corporate",95,"Yes",2.5,170,"Agent Bond"]
[null,"CL10254","2012-02-05T10:54:42.216","Misc.","South","SME",74,"Yes",3.6,0,"Agent Smith"]
[null,"CL10257","2012-02-05T11:04:32.731","Monitor","South","Individual",64,"Yes",2.4,250,"Agent Neo"]
[null,"CL10266","2012-02-05T11:27:08.818","Desktop","North","Non-profit",88,"Yes",3.7,280,"Agent Vinod"]
[null,"CL10269","2012-02-05T11:36:03.048","Misc.","East","SME",70,"Yes",2.7,220,"Agent Bond"]
[null,"CL10277","2012-02-05T11:51:40.220","Accessories","South","SME",77,"Yes",2.8,0,"Agent Harry"]
[null,"CL10280","2012-02-05T12:00:32.353","Accessories","West","Non-profit",74,"Yes",3.1,0,"Agent Harry"]
[null,"CL10287","2012-02-05T12:19:11.991","Desktop","South","Individual",69,"Yes",2.6,230,"Agent Harry"]
[null,"CL10296","2012-02-05T12:44:14.854","Software","West","Individual",71,"Yes",3.3,140,"Agent Bond"]
[null,"CL10303","2012-02-05T13:08:56.154","Accessories","East","SME",86,"Yes",3.9,0,"Agent Smith"]
[null,"CL10306","2012-02-05T13:15:41.368","Desktop","North","Non-profit",77,"Yes",2.5,0,"Agent Neo"]
[null,"CL10316","2012-02-05T13:46:46.369","Desktop","South","SME",73,"No",2.2000000000000002,120,"Agent Neo"]
[null,"CL10317","2012-02-05T13:49:29.771","Misc.","East","Large Corporate",65,"Yes",2.4,150,"Agent Harry"]
[null,"CL10326","2012-02-05T14:16:27.490","Misc.","East","Individual",87,"Yes",2.7,300,"Agent Mary"]
[null,"CL10333","2012-02-05T14:37:52.999","Misc.","South","Non-profit",75,"Yes",3,0,"Agent Harry"]
[null,"CL10336","2012-02-05T14:48:27.532","Accessories","Mid-west","Individual",60,"No",3,240,"Agent Neo"]
[null,"CL10343","2012-02-05T15:12:06.005","Monitor","Mid-west","Large Corporate",81,"Yes",3.6,320,"Agent Vinod"]
[null,"CL10353","2012-02-05T15:35:57.018","Monitor","South","SME",79,"Yes",2.5,290,"Agent Harry"]
[null,"CL10356","2012-02-05T15:44:51.334","Software","North","Large Corporate",75,"Yes",3.1,280,"Agent Harry"]
[null,"CL10365","2012-02-05T16:06:06.249","Monitor","East","Individual",82,"Yes",2.4,0,"Agent Smith"]
[null,"CL10366","2012-02-05T16:06:38.249","Software","East","Non-profit",72,"No",3.4,250,"Agent Mary"]
[null,"CL10375","2012-02-05T16:29:15.673","Desktop","West","Large Corporate",63,"Yes",3.1,0,"Agent Smith"]
[null,"CL10384","2012-02-05T16:56:44.187","Accessories","West","Individual",67,"Yes",3,0,"Agent Harry"]
[null,"CL10386","2012-02-05T17:00:22.844","Laptop","East","Individual",70,"Yes",3.1,270,"Agent Vinod"]
[null,"CL10395","2012-02-05T17:17:09.803","Laptop","East","Non-profit",75,"Yes",2.8,180,"Agent Smith"]
[null,"CL10402","2012-02-05T17:39:59.210","Accessories","North","Individual",78,"Yes",2.2000000000000002,0,"Agent Smith"]
[null,"CL10405","2012-02-05T17:49:29.709","Software","North","Individual",81,"Yes",3.6,220,"Agent Harry"]
[null,"CL10414","2012-02-05T18:15:21.096","Laptop","West","Large Corporate",67,"Yes",3.3,0,"Agent Mary"]
[null,"CL10416","2012-02-05T18:18:53.002","Software","Mid-west","Large Corporate",76,"Yes",2.2000000000000002,0,"Agent Bond"]
[null,"CL10425","2012-02-05T18:38:59.059","Misc.","East","Individual",82,"No",2.6,0,"Agent Mary"]
[null,"CL10432","2012-02-05T18:57:48.275","Monitor","North","Non-profit",63,"No",2.7,0,"Agent Mary"]
[null,"CL10435","2012-02-05T19:08:27.860","Laptop","Mid-west","Large Corporate",76,"Yes",3.3,0,"Agent Harry"]
[null,"CL10444","2012-02-05T19:30:02.322","Laptop","Mid-west","Large Corporate",71,"No",3.2,0,"Agent Mary"]
[null,"CL10451","2012-02-05T19:55:51.850","Software","East","SME",78,"Yes",2.7,250,"Agent Harry"]
[null,"CL10455","2012-02-05T20:10:33.040","Monitor","North","Individual",66,"Yes",1.8,330,"Agent Vinod"]
[null,"CL10462","2012-02-05T20:26:15.625","Laptop","East","Non-profit",69,"Yes",2.7,180,"Agent Mary"]
[null,"CL10465","2012-02-05T20:38:48.877","Accessories","Mid-west","Individual",75,"Yes",3.6,330,"Agent Harry"]
[null,"CL10474","2012-02-05T21:04:33.805","Monitor","East","SME",68,"Yes",3.1,0,"Agent Harry"]
[null,"CL10481","2012-02-05T21:19:57.735","Accessories","West","Large Corporate",72,"Yes",3.4,0,"Agent Bond"]
[null,"CL10488","2012-02-05T21:45:03.666","Desktop","North","Individual",78,"Yes",2.1,0,"Agent Harry"]
[null,"CL10494","2012-02-05T21:57:30.068","Software","North","Large Corporate",69,"Yes",3,230,"Agent Bond"]
[null,"CL10501","2012-02-06T08:17:01.698","Laptop","Mid-west","Individual",85,"Yes",2.5,140,"Agent Harry"]
[null,"CL10504","2012-02-06T08:24:15.606","Laptop","South","SME",84,"Yes",2.6,0,"Agent Neo"]
[null,"CL10511","2012-02-06T08:49:19.359","Misc.","South","SME",59,"Yes",3,190,"Agent Vinod"]
[null,"CL10514","2012-02-06T08:55:35.287","Software","North","Large Corporate",74,"Yes",3.7,190,"Agent Mary"]
[null,"CL10525","2012-02-06T09:27:56.681","Desktop","Mid-west","Large Corporate",87,"Yes",1.8,0,"Agent Mary"]
[null,"CL10531","2012-02-06T09:40:15.064","Monitor","East","SME",86,"Yes",3.2,0,"Agent Bond"]
[null,"CL10534","2012-02-06T09:45:42.593","Monitor","West","Non-profit",86,"Yes",2.5,250,"Agent Mary"]
[null,"CL10541","2012-02-06T10:07:15.245","Misc.","North","Large Corporate",77,"Yes",3.3,0,"Agent Bond"]
[null,"CL10550","2012-02-06T10:33:18.671","Accessories","West","Large Corporate",82,"Yes",2.4,130,"Agent Neo"]
[null,"CL10553","2012-02-06T10:42:16.179","Desktop","South","Non-profit",69,"Yes",2.8,190,"Agent Mary"]
[null,"CL10559","2012-02-06T11:06:04.542","Misc.","North","Non-profit",82,"Yes",3.7,200,"Agent Bond"]
[null,"CL10564","2012-02-06T11:25:27.993","Misc.","South","Non-profit",75,"Yes",3.1,230,"Agent Bond"]
[null,"CL10573","2012-02-06T11:55:06.161","Software","East","Non-profit",66,"Yes",3.6,200,"Agent Bond"]
[null,"CL10580","2012-02-06T12:18:45.786","Monitor","South","Non-profit",79,"Yes",1.4,250,"Agent Mary"]
[null,"CL10583","2012-02-06T12:27:33.558","Accessories","Mid-west","SME",75,"Yes",3,0,"Agent Smith"]
[null,"CL10590","2012-02-06T12:51:30.900","Accessories","Mid-west","Large Corporate",73,"Yes",1.3,210,"Agent Vinod"]
[null,"CL10596","2012-02-06T13:06:45.274","Laptop","North","Non-profit",71,"Yes",2.7,80,"Agent Mary"]
[null,"CL10603","2012-02-06T13:22:18.642","Laptop","North","SME",82,"Yes",2.6,0,"Agent Vinod"]
[null,"CL10610","2012-02-06T13:46:17.278","Accessories","East","Individual",87,"Yes",3.7,210,"Agent Smith"]
[null,"CL10613","2012-02-06T13:55:39.477","Accessories","West","Large Corporate",81,"Yes",3,0,"Agent Smith"]
[null,"CL10622","2012-02-06T14:22:07.598","Software","Mid-west","Non-profit",90,"Yes",3.4,0,"Agent Smith"]
[null,"CL10629","2012-02-06T14:45:58.645","Accessories","West","SME",63,"Yes",2.8,0,"Agent Harry"]
[null,"CL10633","2012-02-06T14:58:22.393","Desktop","West","SME",86,"Yes",3,0,"Agent Neo"]
[null,"CL10640","2012-02-06T15:14:40.640","Laptop","Mid-west","Large Corporate",82,"Yes",2.9,210,"Agent Smith"]
[null,"CL10649","2012-02-06T15:34:36.113","Misc.","Mid-west","Non-profit",75,"Yes",2.9,240,"Agent Smith"]
[null,"CL10652","2012-02-06T15:42:46.119","Desktop","East","Individual",80,"Yes",3.1,220,"Agent Harry"]
[null,"CL10659","2012-02-06T16:01:35.772","Desktop","West","Individual",89,"Yes",2.8,230,"Agent Vinod"]
[null,"CL10662","2012-02-06T16:08:27.414","Desktop","East","SME",63,"Yes",2.8,0,"Agent Neo"]
[null,"CL10674","2012-02-06T16:43:57.409","Accessories","North","Large Corporate",78,"Yes",2.8,0,"Agent Vinod"]
[null,"CL10679","2012-02-06T16:56:25.770","Accessories","South","Large Corporate",82,"Yes",3.1,220,"Agent Smith"]
[null,"CL10682","2012-02-06T17:04:57.982","Desktop","North","Individual",79,"Yes",2.2999999999999998,190,"Agent Mary"]
[null,"CL10689","2012-02-06T17:21:06.189","Laptop","East","Non-profit",69,"Yes",2.5,210,"Agent Mary"]
[null,"CL10698","2012-02-06T17:43:30.618","Software","South","Individual",69,"Yes",2.8,160,"Agent Harry"]
[null,"CL10701","2012-02-06T17:57:24.612","Laptop","North","Individual",68,"Yes",3.4,0,"Agent Bond"]
[null,"CL10711","2012-02-06T18:35:59.509","Monitor","East","Non-profit",77,"Yes",2.2999999999999998,110,"Agent Vinod"]
[null,"CL10712","2012-02-06T18:39:05.429","Desktop","East","SME",91,"Yes",3.5,210,"Agent Mary"]
[null,"CL10719","2012-02-06T19:04:09.879","Laptop","South","SME",65,"Yes",3.1,290,"Agent Vinod"]
[null,"CL10728","2012-02-06T19:24:40.315","Misc.","North","Individual",98,"Yes",2.9,150,"Agent Neo"]
[null,"CL10731","2012-02-06T19:31:19.320","Misc.","East","Large Corporate",74,"Yes",2.2999999999999998,230,"Agent Harry"]
[null,"CL10738","2012-02-06T19:54:22.944","Software","West","Large Corporate",51,"Yes",2.7,0,"Agent Neo"]
[null,"CL10748","2012-02-06T20:25:42.551","Desktop","East","Large Corporate",79,"Yes",2.4,270,"Agent Neo"]
[null,"CL10749","2012-02-06T20:27:13.107","Desktop","East","Individual",75,"Yes",3.3,200,"Agent Vinod"]
[null,"CL10758","2012-02-06T20:48:46.244","Laptop","West","Non-profit",72,"Yes",3.2,110,"Agent Smith"]
[null,"CL10761","2012-02-06T20:57:02.347","Accessories","East","Large Corporate",73,"Yes",3.2,0,"Agent Bond"]
[null,"CL10768","2012-02-06T21:21:47.641","Misc.","East","Individual",80,"Yes",3.5,250,"Agent Harry"]
[null,"CL10777","2012-02-06T21:43:46.428","Desktop","Mid-west","SME",76,"Yes",2.2000000000000002,0,"Agent Harry"]
[null,"CL10785","2012-02-07T08:01:30.923","Software","West","Individual",87,"Yes",3.8,150,"Agent Neo"]
[null,"CL10788","2012-02-07T08:13:22.103","Laptop","South","Non-profit",79,"Yes",3.2,160,"Agent Vinod"]
[null,"CL10797","2012-02-07T08:38:32.544","Desktop","North","Individual",85,"No",3.6,170,"Agent Vinod"]
[null,"CL10798","2012-02-07T08:43:57.862","Monitor","South","Individual",69,"Yes",2.7,210,"Agent Smith"]
[null,"CL10807","2012-02-07T09:09:43.190","Desktop","West","SME",77,"Yes",3.3,0,"Agent Smith"]
[null,"CL10810","2012-02-07T09:21:06.221","Misc.","East","Individual",77,"Yes",2.8,0,"Agent Mary"]
[null,"CL10819","2012-02-07T09:51:24.569","Misc.","South","Non-profit",96,"Yes",2.7,0,"Agent Vinod"]
[null,"CL10827","2012-02-07T10:11:01.856","Misc.","North","Individual",84,"Yes",2,220,"Agent Bond"]
[null,"CL10830","2012-02-07T10:22:57.598","Accessories","South","Large Corporate",62,"Yes",3.2,210,"Agent Harry"]
[null,"CL10837","2012-02-07T10:38:07.798","Accessories","East","SME",73,"Yes",3.1,280,"Agent Harry"]
[null,"CL10846","2012-02-07T11:06:18.159","Misc.","Mid-west","SME",81,"Yes",3.7,0,"Agent Neo"]
[null,"CL10847","2012-02-07T11:07:54.977","Laptop","South","Large Corporate",81,"Yes",2.5,0,"Agent Mary"]
[null,"CL10856","2012-02-07T11:24:05.787","Desktop","West","Non-profit",73,"No",3.4,230,"Agent Smith"]
[null,"CL10860","2012-02-07T11:32:42.347","Software","East","SME",90,"Yes",2.9,310,"Agent Smith"]
[null,"CL10867","2012-02-07T12:00:36.386","Accessories","West","Large Corporate",70,"Yes",2.4,170,"Agent Bond"]
[null,"CL10876","2012-02-07T12:28:46.587","Software","North","SME",70,"Yes",3.1,0,"Agent Harry"]
[null,"CL10883","2012-02-07T12:50:36.931","Misc.","East","SME",63,"Yes",2.5,0,"Agent Mary"]
[null,"CL10886","2012-02-07T13:00:47.872","Laptop","West","Non-profit",62,"Yes",3.1,180,"Agent Mary"]
[null,"CL10893","2012-02-07T13:10:33.418","Laptop","South","SME",71,"Yes",4.0999999999999996,170,"Agent Smith"]
[null,"CL10897","2012-02-07T13:21:58.003","Software","Mid-west","Large Corporate",66,"Yes",3.1,190,"Agent Harry"]
[null,"CL10906","2012-02-07T13:47:04.394","Monitor","West","Non-profit",73,"Yes",3.1,190,"Agent Bond"]
[null,"CL10909","2012-02-07T13:52:31.254","Desktop","Mid-west","Non-profit",59,"Yes",2.9,190,"Agent Harry"]
[null,"CL10916","2012-02-07T14:09:10.046","Monitor","Mid-west","Individual",74,"Yes",4.2,260,"Agent Mary"]
[null,"CL10925","2012-02-07T14:37:16.400","Software","South","Non-profit",73,"Yes",3.1,0,"Agent Bond"]
[null,"CL10927","2012-02-07T14:45:44.374","Monitor","East","Non-profit",71,"Yes",3.1,200,"Agent Harry"]
[null,"CL10936","2012-02-07T15:10:43.084","Desktop","West","Individual",86,"No",2.8,170,"Agent Vinod"]
[null,"CL10945","2012-02-07T15:39:54.845","Monitor","South","Individual",68,"Yes",3.1,0,"Agent Neo"]
[null,"CL10946","2012-02-07T15:40:12.168","Desktop","West","Large Corporate",76,"Yes",3.2,270,"Agent Mary"]
[null,"CL10955","2012-02-07T16:05:03.487","Laptop","West","Non-profit",85,"Yes",3.9,250,"Agent Vinod"]
[null,"CL10958","2012-02-07T16:13:32.453","Laptop","Mid-west","Large Corporate",88,"Yes",2.1,200,"Agent Bond"]
[null,"CL10964","2012-02-07T16:31:08.602","Laptop","North","SME",69,"Yes",3.5,260,"Agent Smith"]
[null,"CL10975","2012-02-07T16:59:10.958","Misc.","West","Large Corporate",54,"Yes",2.8,250,"Agent Harry"]
[null,"CL10982","2012-02-07T17:15:51.719","Misc.","South","Large Corporate",86,"Yes",3.2,0,"Agent Bond"]
[null,"CL10985","2012-02-07T17:23:16.055","Laptop","North","Non-profit",78,"Yes",2.1,220,"Agent Smith"]
[null,"CL10994","2012-02-07T17:47:36.603","Software","Mid-west","SME",74,"Yes",3.3,260,"Agent Vinod"]
[null,"CL11001","2012-02-07T18:05:13.886","Accessories","Mid-west","SME",82,"Yes",1.7,190,"Agent Harry"]
[null,"CL11005","2012-02-07T18:21:35.100","Accessories","North","Non-profit",74,"Yes",3,0,"Agent Mary"]
[null,"CL11012","2012-02-07T18:47:14.648","Software","Mid-west","Non-profit",74,"Yes",3,260,"Agent Neo"]
[null,"CL11015","2012-02-07T18:56:10.572","Software","South","Non-profit",75,"Yes",3,100,"Agent Harry"]
[null,"CL11024","2012-02-07T19:21:16.318","Desktop","South","Individual",60,"Yes",2.2999999999999998,210,"Agent Mary"]
[null,"CL11031","2012-02-07T19:32:18.678","Software","Mid-west","Individual",80,"Yes",2.6,210,"Agent Neo"]
[null,"CL11038","2012-02-07T19:54:49.675","Software","East","SME",71,"Yes",3.6,240,"Agent Bond"]
[null,"CL11044","2012-02-07T20:15:19.165","Accessories","North","Individual",79,"Yes",3.5,150,"Agent Mary"]
[null,"CL11045","2012-02-07T20:20:09.923","Software","North","SME",67,"Yes",2.6,200,"Agent Vinod"]
[null,"CL11054","2012-02-07T20:42:17.013","Laptop","Mid-west","Large Corporate",72,"Yes",2.8,240,"Agent Neo"]
[null,"CL11061","2012-02-07T21:06:17.093","Software","East","Large Corporate",59,"Yes",3,230,"Agent Vinod"]
[null,"CL11064","2012-02-07T21:12:52.472","Software","North","Non-profit",73,"Yes",3,110,"Agent Mary"]
[null,"CL11075","2012-02-07T21:50:48.621","Monitor","Mid-west","Non-profit",66,"No",3.9,0,"Agent Harry"]
[null,"CL11081","2012-02-08T08:13:14.568","Laptop","East","Large Corporate",71,"Yes",2.8,210,"Agent Vinod"]
[null,"CL11084","2012-02-08T08:21:55.339","Software","South","Non-profit",78,"Yes",2.8,250,"Agent Vinod"]
[null,"CL11091","2012-02-08T08:40:46.218","Desktop","Mid-west","Individual",79,"Yes",3.2,200,"Agent Harry"]
[null,"CL11094","2012-02-08T08:44:53.724","Accessories","South","Large Corporate",68,"Yes",2.7,240,"Agent Bond"]
[null,"CL11103","2012-02-08T09:13:12.277","Misc.","Mid-west","SME",65,"Yes",3.6,0,"Agent Mary"]
[null,"CL11109","2012-02-08T09:31:49.379","Accessories","East","Large Corporate",77,"Yes",3.4,70,"Agent Neo"]
[null,"CL11114","2012-02-08T09:48:15.933","Monitor","North","Individual",64,"Yes",3.5,270,"Agent Smith"]
[null,"CL11123","2012-02-08T10:05:54.969","Misc.","North","Individual",81,"Yes",3.4,0,"Agent Harry"]
[null,"CL11130","2012-02-08T10:24:18.505","Desktop","East","Large Corporate",84,"Yes",3,0,"Agent Bond"]
[null,"CL11133","2012-02-08T10:35:52.683","Misc.","East","Individual",72,"Yes",2.9,0,"Agent Mary"]
[null,"CL11140","2012-02-08T10:46:52.347","Laptop","North","SME",62,"Yes",3,0,"Agent Vinod"]
[null,"CL11146","2012-02-08T11:08:52.500","Desktop","North","Non-profit",83,"Yes",2.9,240,"Agent Vinod"]
[null,"CL11153","2012-02-08T11:25:49.632","Desktop","Mid-west","SME",55,"No",2.2000000000000002,240,"Agent Neo"]
[null,"CL11160","2012-02-08T11:46:28.171","Desktop","South","Large Corporate",85,"Yes",3.2,170,"Agent Vinod"]
[null,"CL11163","2012-02-08T11:57:45.990","Desktop","South","Individual",81,"Yes",3.5,270,"Agent Neo"]
[null,"CL11172","2012-02-08T12:26:08.845","Misc.","South","Non-profit",66,"Yes",2.7,130,"Agent Harry"]
[null,"CL11179","2012-02-08T12:50:34.674","Software","East","SME",82,"Yes",2.6,250,"Agent Vinod"]
[null,"CL11183","2012-02-08T12:59:13.214","Software","South","Individual",82,"Yes",2.7,0,"Agent Harry"]
[null,"CL11190","2012-02-08T13:22:31.461","Accessories","North","SME",86,"Yes",3,140,"Agent Smith"]
[null,"CL11193","2012-02-08T13:32:21.836","Software","West","Non-profit",77,"Yes",2.6,250,"Agent Neo"]
[null,"CL11202","2012-02-08T13:57:30.311","Laptop","Mid-west","Non-profit",73,"Yes",2.7,100,"Agent Mary"]
[null,"CL11209","2012-02-08T14:17:54.141","Monitor","Mid-west","Non-profit",66,"Yes",2.7,0,"Agent Smith"]
[null,"CL11212","2012-02-08T14:27:18.542","Software","North","Non-profit",82,"Yes",2.8,140,"Agent Mary"]
[null,"CL11217","2012-02-08T14:37:10.897","Misc.","Mid-west","Individual",85,"Yes",2.6,0,"Agent Mary"]
[null,"CL11229","2012-02-08T15:07:02.021","Accessories","South","Individual",68,"Yes",2.6,220,"Agent Neo"]
[null,"CL11232","2012-02-08T15:11:26.582","Accessories","North","SME",71,"Yes",3.4,0,"Agent Vinod"]
[null,"CL11239","2012-02-08T15:29:21.559","Desktop","Mid-west","Large Corporate",82,"Yes",3.7,140,"Agent Mary"]
[null,"CL11242","2012-02-08T15:40:17.321","Desktop","East","SME",71,"Yes",3,0,"Agent Smith"]
[null,"CL11251","2012-02-08T15:57:54.857","Software","East","Large Corporate",87,"Yes",3.1,0,"Agent Neo"]
[null,"CL11254","2012-02-08T16:04:48.541","Laptop","North","SME",76,"Yes",2.7,0,"Agent Harry"]
[null,"CL11262","2012-02-08T16:25:36.486","Desktop","East","Individual",66,"Yes",2.6,260,"Agent Bond"]
[null,"CL11269","2012-02-08T16:51:45.626","Accessories","South","Large Corporate",59,"No",3.2,0,"Agent Vinod"]
[null,"CL11278","2012-02-08T17:22:40.423","Accessories","East","Large Corporate",60,"Yes",2.6,0,"Agent Mary"]
[null,"CL11281","2012-02-08T17:34:34.132","Desktop","North","SME",76,"Yes",3.2,280,"Agent Bond"]
[null,"CL11288","2012-02-08T17:56:34.822","Laptop","Mid-west","Large Corporate",84,"Yes",3.8,250,"Agent Smith"]
[null,"CL11291","2012-02-08T18:10:30.835","Laptop","Mid-west","Large Corporate",73,"Yes",2.2999999999999998,230,"Agent Harry"]
[null,"CL11299","2012-02-08T18:36:27.276","Laptop","East","SME",74,"Yes",3.4,60,"Agent Harry"]
[null,"CL11308","2012-02-08T19:01:40.482","Software","Mid-west","Large Corporate",86,"Yes",2.2000000000000002,130,"Agent Vinod"]
[null,"CL11311","2012-02-08T19:10:50.054","Monitor","North","Non-profit",75,"Yes",3.7,220,"Agent Mary"]
[null,"CL11318","2012-02-08T19:28:16.469","Accessories","Mid-west","Non-profit",59,"Yes",2.5,280,"Agent Neo"]
[null,"CL11327","2012-02-08T19:50:35.464","Monitor","East","Individual",80,"Yes",2.8,130,"Agent Bond"]
[null,"CL11328","2012-02-08T19:52:49.465","Monitor","South","Large Corporate",77,"Yes",3.1,0,"Agent Mary"]
[null,"CL11338","2012-02-08T20:20:39.530","Misc.","South","SME",80,"Yes",2.2999999999999998,250,"Agent Bond"]
[null,"CL11341","2012-02-08T20:26:41.860","Laptop","South","Large Corporate",75,"Yes",2.2999999999999998,0,"Agent Bond"]
[null,"CL11348","2012-02-08T20:37:18.416","Software","East","Large Corporate",81,"Yes",2.7,240,"Agent Harry"]
[null,"CL11357","2012-02-08T21:07:11.544","Desktop","North","Non-profit",75,"Yes",2.8,220,"Agent Smith"]
[null,"CL11360","2012-02-08T21:19:15.562","Monitor","East","Individual",63,"Yes",2.7,0,"Agent Vinod"]
[null,"CL11369","2012-02-08T21:39:06.403","Accessories","Mid-west","Non-profit",61,"No",3.4,0,"Agent Smith"]
[null,"CL11377","2012-02-08T21:58:44.487","Monitor","North","Large Corporate",74,"Yes",2.5,160,"Agent Bond"]
[null,"CL11380","2012-02-09T08:05:14.681","Software","South","Non-profit",79,"Yes",3.4,200,"Agent Smith"]
[null,"CL11387","2012-02-09T08:28:29.926","Monitor","North","SME",72,"Yes",2.9,130,"Agent Neo"]
[null,"CL11390","2012-02-09T08:37:31.270","Software","East","Large Corporate",94,"Yes",2.9,280,"Agent Vinod"]
[null,"CL11397","2012-02-09T09:00:35.049","Desktop","Mid-west","SME",67,"Yes",3.8,240,"Agent Smith"]
[null,"CL11406","2012-02-09T09:29:44.994","Desktop","Mid-west","SME",86,"Yes",3.9,30,"Agent Vinod"]
[null,"CL11410","2012-02-09T09:37:56.249","Laptop","North","SME",77,"Yes",3.7,210,"Agent Harry"]
[null,"CL11417","2012-02-09T10:00:41.862","Monitor","North","Individual",73,"No",3,0,"Agent Vinod"]
[null,"CL11426","2012-02-09T10:27:19.020","Laptop","Mid-west","Large Corporate",74,"Yes",3.2,160,"Agent Vinod"]
[null,"CL11427","2012-02-09T10:31:00.788","Accessories","South","SME",76,"Yes",2.8,210,"Agent Smith"]
[null,"CL11436","2012-02-09T11:02:13.930","Laptop","East","Large Corporate",74,"Yes",2.6,120,"Agent Harry"]
[null,"CL11443","2012-02-09T11:30:29.374","Accessories","Mid-west","Large Corporate",67,"Yes",2.8,250,"Agent Neo"]
[null,"CL11447","2012-02-09T11:44:30.996","Misc.","South","SME",77,"Yes",2.6,100,"Agent Bond"]
[null,"CL11456","2012-02-09T12:05:02.248","Misc.","Mid-west","Individual",74,"Yes",2.7,180,"Agent Bond"]
[null,"CL11459","2012-02-09T12:14:20.866","Desktop","North","SME",73,"Yes",2.4,0,"Agent Bond"]
[null,"CL11466","2012-02-09T12:33:22.349","Software","South","Individual",75,"Yes",3.2,140,"Agent Vinod"]
[null,"CL11475","2012-02-09T12:47:19.971","Desktop","South","Large Corporate",68,"Yes",3.1,280,"Agent Harry"]
[null,"CL11477","2012-02-09T12:53:14.856","Software","Mid-west","SME",70,"Yes",3.1,230,"Agent Bond"]
[null,"CL11486","2012-02-09T13:20:40.554","Accessories","South","SME",89,"Yes",2.7,170,"Agent Mary"]
[null,"CL11489","2012-02-09T13:30:46.017","Monitor","South","SME",81,"Yes",3.2,0,"Agent Neo"]
[null,"CL11496","2012-02-09T13:45:43.132","Monitor","West","Non-profit",73,"Yes",4,0,"Agent Neo"]
[null,"CL11505","2012-02-09T14:17:35.382","Monitor","Mid-west","Individual",69,"Yes",3.5,260,"Agent Neo"]
[null,"CL11508","2012-02-09T14:28:34.270","Monitor","West","Large Corporate",74,"Yes",3.7,0,"Agent Smith"]
[null,"CL11514","2012-02-09T14:40:10.404","Desktop","North","SME",68,"Yes",3.7,130,"Agent Bond"]
[null,"CL11525","2012-02-09T15:14:38.522","Misc.","West","SME",70,"Yes",3,0,"Agent Mary"]
[null,"CL11526","2012-02-09T15:16:07.009","Desktop","East","SME",82,"Yes",2.4,0,"Agent Harry"]
[null,"CL11535","2012-02-09T15:41:45.550","Desktop","East","SME",73,"Yes",4.0999999999999996,0,"Agent Bond"]
[null,"CL11538","2012-02-09T15:51:52.359","Accessories","North","Large Corporate",84,"Yes",2,240,"Agent Smith"]
[null,"CL11544","2012-02-09T16:11:48.466","Accessories","Mid-west","Large Corporate",81,"Yes",3.4,0,"Agent Mary"]
[null,"CL11555","2012-02-09T16:47:51.339","Software","Mid-west","Non-profit",66,"Yes",2.2999999999999998,170,"Agent Harry"]
[null,"CL11562","2012-02-09T17:02:03.499","Software","West","SME",83,"Yes",2,190,"Agent Bond"]
[null,"CL11565","2012-02-09T17:08:54.092","Software","West","Non-profit",75,"Yes",2.7,0,"Agent Bond"]
[null,"CL11574","2012-02-09T17:31:08.687","Laptop","East","Large Corporate",72,"Yes",2.4,0,"Agent Vinod"]
[null,"CL11575","2012-02-09T17:36:47.865","Monitor","West","Large Corporate",70,"Yes",3.1,160,"Agent Vinod"]
[null,"CL11581","2012-02-09T17:53:01.834","Desktop","North","SME",84,"Yes",2.5,320,"Agent Harry"]
[null,"CL11588","2012-02-09T18:18:09.284","Monitor","North","Non-profit",76,"Yes",3.3,230,"Agent Smith"]
[null,"CL11595","2012-02-09T18:38:42.286","Misc.","East","Large Corporate",71,"Yes",3.8,240,"Agent Smith"]
[null,"CL11604","2012-02-09T19:05:29.299","Software","East","Large Corporate",63,"Yes",2.7,210,"Agent Neo"]
[null,"CL11611","2012-02-09T19:30:10.547","Laptop","South","Large Corporate",83,"Yes",3.1,190,"Agent Neo"]
[null,"CL11614","2012-02-09T19:35:49.749","Desktop","Mid-west","Non-profit",79,"Yes",3.3,180,"Agent Smith"]
[null,"CL11618","2012-02-09T19:43:41.057","Monitor","North","Large Corporate",64,"Yes",3.2,0,"Agent Smith"]
[null,"CL11625","2012-02-09T19:59:16.942","Monitor","West","Large Corporate",63,"Yes",3.8,190,"Agent Mary"]
[null,"CL11634","2012-02-09T20:26:05.724","Software","Mid-west","Non-profit",81,"Yes",2.5,190,"Agent Harry"]
[null,"CL11641","2012-02-09T20:47:02.387","Desktop","South","Individual",81,"Yes",2.7,0,"Agent Harry"]
[null,"CL11644","2012-02-09T20:57:00.067","Laptop","South","SME",87,"Yes",2.7,0,"Agent Vinod"]
[null,"CL11653","2012-02-09T21:17:34.409","Monitor","West","Individual",80,"Yes",3.7,0,"Agent Neo"]
[null,"CL11659","2012-02-09T21:31:17.524","Laptop","West","Large Corporate",66,"Yes",3.3,190,"Agent Bond"]
[null,"CL11664","2012-02-09T21:55:16.263","Accessories","South","Individual",71,"Yes",2.9,130,"Agent Harry"]
[null,"CL11673","2012-02-10T08:21:21.755","Desktop","West","Non-profit",76,"Yes",3.1,280,"Agent Neo"]
[null,"CL11674","2012-02-10T08:27:03.105","Misc.","East","Large Corporate",72,"Yes",2.9,0,"Agent Bond"]
[null,"CL11683","2012-02-10T08:53:57.960","Misc.","East","Non-profit",75,"Yes",2.6,250,"Agent Smith"]
[null,"CL11690","2012-02-10T09:11:06.195","Accessories","East","Non-profit",76,"Yes",2.6,170,"Agent Mary"]
[null,"CL11696","2012-02-10T09:33:00.922","Misc.","South","Individual",73,"Yes",3.7,120,"Agent Bond"]
[null,"CL11703","2012-02-10T09:49:40.673","Desktop","West","Individual",91,"Yes",3,0,"Agent Mary"]
[null,"CL11710","2012-02-10T10:12:21.741","Accessories","South","SME",76,"Yes",1.9,120,"Agent Vinod"]
[null,"CL11713","2012-02-10T10:21:58.622","Monitor","North","Non-profit",85,"Yes",3.6,230,"Agent Harry"]
[null,"CL11722","2012-02-10T10:38:21.845","Software","North","Non-profit",71,"Yes",3.1,0,"Agent Harry"]
[null,"CL11723","2012-02-10T10:43:49.697","Misc.","Mid-west","SME",85,"Yes",3,0,"Agent Mary"]
[null,"CL11733","2012-02-10T11:22:46.821","Laptop","South","SME",83,"Yes",3.1,0,"Agent Neo"]
[null,"CL11740","2012-02-10T11:39:51.608","Laptop","South","Individual",76,"Yes",2.9,0,"Agent Harry"]
[null,"CL11743","2012-02-10T11:47:14.520","Monitor","Mid-west","Large Corporate",83,"Yes",2.9,260,"Agent Smith"]
[null,"CL11752","2012-02-10T12:09:31.153","Monitor","West","Individual",75,"Yes",3.8,0,"Agent Vinod"]
[null,"CL11759","2012-02-10T12:31:27.637","Misc.","East","SME",75,"Yes",2.8,140,"Agent Neo"]
[null,"CL11762","2012-02-10T12:37:02.605","Laptop","East","SME",74,"Yes",3.3,280,"Agent Mary"]
[null,"CL11767","2012-02-10T12:45:23.777","Laptop","East","SME",59,"Yes",3.4,0,"Agent Neo"]
[null,"CL11773","2012-02-10T13:10:55.722","Software","North","Large Corporate",64,"Yes",4,0,"Agent Neo"]
[null,"CL11782","2012-02-10T13:30:53.908","Software","East","SME",70,"Yes",2.8,270,"Agent Bond"]
[null,"CL11789","2012-02-10T13:57:02.340","Misc.","Mid-west","Large Corporate",70,"Yes",3.2,0,"Agent Harry"]
[null,"CL11792","2012-02-10T14:07:23.504","Laptop","West","Non-profit",67,"No",2.4,0,"Agent Neo"]
[null,"CL11801","2012-02-10T14:30:38.476","Software","South","SME",75,"Yes",2.7,260,"Agent Neo"]
[null,"CL11804","2012-02-10T14:40:56.306","Monitor","East","Non-profit",81,"Yes",3.3,250,"Agent Mary"]
[null,"CL11812","2012-02-10T15:01:09.005","Software","East","Large Corporate",73,"No",2.8,180,"Agent Harry"]
[null,"CL11819","2012-02-10T15:25:14.539","Misc.","Mid-west","SME",64,"Yes",3.1,210,"Agent Mary"]
[null,"CL11822","2012-02-10T15:33:47.239","Software","East","SME",69,"Yes",3.5,210,"Agent Mary"]
[null,"CL11831","2012-02-10T15:56:33.714","Desktop","East","SME",66,"Yes",2.9,170,"Agent Neo"]
[null,"CL11838","2012-02-10T16:15:03.546","Desktop","East","Large Corporate",67,"Yes",3.6,250,"Agent Harry"]
[null,"CL11841","2012-02-10T16:22:59.205","Accessories","North","SME",75,"Yes",3.4,160,"Agent Bond"]
[null,"CL11851","2012-02-10T17:07:11.805","Monitor","East","Non-profit",77,"Yes",2.5,0,"Agent Vinod"]
[null,"CL11858","2012-02-10T17:21:05.562","Desktop","Mid-west","Large Corporate",78,"Yes",3.3,0,"Agent Mary"]
[null,"CL11861","2012-02-10T17:32:08.881","Laptop","East","Individual",79,"Yes",2.2999999999999998,0,"Agent Mary"]
[null,"CL11868","2012-02-10T17:51:44.185","Monitor","East","Non-profit",78,"Yes",3,210,"Agent Bond"]
[null,"CL11871","2012-02-10T17:57:01.745","Misc.","West","Individual",86,"Yes",2.7,170,"Agent Neo"]
[null,"CL11878","2012-02-10T18:20:31.174","Accessories","North","Large Corporate",73,"Yes",2.9,0,"Agent Mary"]
[null,"CL11888","2012-02-10T18:44:21.816","Software","Mid-west","Non-profit",72,"Yes",3.5,280,"Agent Bond"]
[null,"CL11891","2012-02-10T18:56:37.384","Accessories","West","Large Corporate",73,"Yes",2.6,170,"Agent Harry"]
[null,"CL11898","2012-02-10T19:18:59.983","Desktop","North","Individual",68,"Yes",2.8,170,"Agent Mary"]
[null,"CL11907","2012-02-10T19:43:16.035","Software","West","Large Corporate",77,"Yes",3.1,0,"Agent Neo"]
[null,"CL11910","2012-02-10T19:52:37.570","Misc.","Mid-west","SME",72,"Yes",3.1,210,"Agent Neo"]
[null,"CL11919","2012-02-10T20:21:48.312","Desktop","South","Non-profit",77,"Yes",3.2,0,"Agent Smith"]
[null,"CL11921","2012-02-10T20:28:56.579","Laptop","Mid-west","Individual",58,"Yes",2.9,100,"Agent Neo"]
[null,"CL11930","2012-02-10T21:00:56.608","Software","North","SME",68,"Yes",3.6,190,"Agent Smith"]
[null,"CL11937","2012-02-10T21:14:23.463","Accessories","South","SME",73,"Yes",3.2,0,"Agent Bond"]
[null,"CL11940","2012-02-10T21:21:22.462","Desktop","Mid-west","Individual",79,"Yes",3.1,240,"Agent Mary"]
[null,"CL11947","2012-02-10T21:49:27.295","Monitor","West","Large Corporate",81,"Yes",2.8,230,"Agent Smith"]
[null,"CL11956","2012-02-11T08:17:59.229","Misc.","Mid-west","Non-profit",63,"Yes",2.6,200,"Agent Smith"]
[null,"CL11960","2012-02-11T08:27:41.959","Laptop","East","Individual",91,"Yes",2.6,0,"Agent Harry"]
[null,"CL11967","2012-02-11T08:42:15.523","Software","North","Large Corporate",70,"Yes",2.6,0,"Agent Neo"]
[null,"CL11970","2012-02-11T08:47:18.547","Misc.","South","Non-profit",79,"No",2.7,0,"Agent Harry"]
[null,"CL11977","2012-02-11T09:12:02.607","Monitor","South","Large Corporate",74,"Yes",3,210,"Agent Vinod"]
[null,"CL11986","2012-02-11T09:38:16.643","Accessories","South","Non-profit",76,"Yes",3,0,"Agent Mary"]
[null,"CL11993","2012-02-11T09:52:47.316","Desktop","South","Non-profit",72,"Yes",3.9,170,"Agent Smith"]
[null,"CL11997","2012-02-11T10:05:47.988","Monitor","Mid-west","Large Corporate",70,"No",3,110,"Agent Harry"]
[null,"CL12006","2012-02-11T10:40:29.506","Monitor","South","Non-profit",64,"Yes",3.6,0,"Agent Vinod"]
[null,"CL12009","2012-02-11T10:47:02.843","Accessories","West","Large Corporate",71,"Yes",2.2000000000000002,160,"Agent Bond"]
[null,"CL12016","2012-02-11T11:10:56.861","Misc.","West","Individual",67,"Yes",3.9,0,"Agent Vinod"]
[null,"CL12019","2012-02-11T11:17:17.153","Laptop","West","Individual",79,"Yes",3.1,230,"Agent Smith"]
[null,"CL12027","2012-02-11T11:40:35.549","Monitor","East","SME",71,"Yes",3.1,0,"Agent Neo"]
[null,"CL12036","2012-02-11T12:06:26.302","Misc.","East","Large Corporate",67,"Yes",3,0,"Agent Mary"]
[null,"CL12039","2012-02-11T12:15:13.596","Monitor","West","Large Corporate",70,"Yes",2.5,180,"Agent Smith"]
[null,"CL12046","2012-02-11T12:37:18.160","Monitor","West","Non-profit",70,"Yes",3,0,"Agent Neo"]
[null,"CL12055","2012-02-11T12:58:03.914","Desktop","West","Individual",79,"Yes",2.8,0,"Agent Neo"]
[null,"CL12058","2012-02-11T13:09:46.826","Monitor","East","Individual",74,"Yes",3.1,150,"Agent Mary"]
[null,"CL12064","2012-02-11T13:25:12.568","Monitor","North","Non-profit",93,"Yes",2.5,170,"Agent Bond"]
[null,"CL12069","2012-02-11T13:39:27.885","Laptop","Mid-west","Non-profit",73,"Yes",3.4,150,"Agent Bond"]
[null,"CL12076","2012-02-11T14:08:28.005","Software","South","SME",81,"Yes",3.1,0,"Agent Harry"]
[null,"CL12085","2012-02-11T14:25:09.896","Software","West","Individual",81,"Yes",2.7,150,"Agent Vinod"]
[null,"CL12088","2012-02-11T14:38:10.642","Monitor","West","Non-profit",74,"Yes",2.8,170,"Agent Bond"]
[null,"CL12094","2012-02-11T14:57:12.461","Monitor","East","Individual",73,"No",2.9,0,"Agent Vinod"]
[null,"CL12105","2012-02-11T15:25:04.796","Monitor","North","Large Corporate",67,"Yes",3.1,160,"Agent Harry"]
[null,"CL12106","2012-02-11T15:30:06.746","Laptop","East","Non-profit",82,"Yes",3.2,0,"Agent Neo"]
[null,"CL12115","2012-02-11T15:56:58.963","Accessories","West","Individual",86,"Yes",3.4,150,"Agent Harry"]
[null,"CL12118","2012-02-11T16:03:46.250","Misc.","North","SME",62,"Yes",2.9,0,"Agent Bond"]
[null,"CL12125","2012-02-11T16:27:37.636","Desktop","South","Non-profit",77,"Yes",3.4,0,"Agent Vinod"]
[null,"CL12131","2012-02-11T16:38:42.659","Desktop","West","SME",70,"No",2.7,0,"Agent Bond"]
[null,"CL12138","2012-02-11T17:04:59.459","Laptop","North","SME",75,"Yes",2.6,0,"Agent Harry"]
[null,"CL12145","2012-02-11T17:25:44.180","Software","South","Individual",77,"Yes",3.1,0,"Agent Harry"]
[null,"CL12154","2012-02-11T17:53:11.878","Accessories","South","Non-profit",77,"Yes",3.2,240,"Agent Smith"]
[null,"CL12155","2012-02-11T17:57:17.622","Laptop","West","Large Corporate",67,"Yes",2.1,250,"Agent Harry"]
[null,"CL12164","2012-02-11T18:28:05.644","Desktop","South","Individual",65,"Yes",3.1,250,"Agent Vinod"]
[null,"CL12168","2012-02-11T18:41:10.089","Desktop","West","Large Corporate",78,"Yes",3.3,150,"Agent Harry"]
[null,"CL12175","2012-02-11T19:08:55.799","Monitor","Mid-west","SME",73,"No",2.9,190,"Agent Bond"]
[null,"CL12184","2012-02-11T19:41:19.604","Monitor","South","Non-profit",93,"Yes",2.4,230,"Agent Smith"]
[null,"CL12191","2012-02-11T20:04:11.708","Accessories","West","Large Corporate",69,"Yes",2.9,190,"Agent Neo"]
[null,"CL12194","2012-02-11T20:16:02.746","Accessories","South","SME",79,"Yes",3.9,180,"Agent Neo"]
[null,"CL12203","2012-02-11T20:38:21.689","Software","North","Non-profit",68,"Yes",3.2,0,"Agent Bond"]
[null,"CL12209","2012-02-11T20:58:07.209","Software","West","Large Corporate",78,"Yes",2.5,250,"Agent Bond"]
[null,"CL12214","2012-02-11T21:14:11.988","Monitor","South","Large Corporate",66,"Yes",3.6,0,"Agent Bond"]
[null,"CL12217","2012-02-11T21:18:25.277","Monitor","East","Individual",79,"Yes",2.5,210,"Agent Harry"]
[null,"CL12224","2012-02-11T21:48:55.996","Misc.","North","Individual",90,"Yes",2.8,130,"Agent Harry"]
[null,"CL12233","2012-02-12T08:21:50.075","Accessories","Mid-west","SME",62,"Yes",3.5,0,"Agent Neo"]
[null,"CL12240","2012-02-12T08:32:17.369","Laptop","Mid-west","SME",68,"Yes",3.4,170,"Agent Smith"]
[null,"CL12246","2012-02-12T08:47:14.111","Accessories","South","Non-profit",68,"Yes",2.8,0,"Agent Mary"]
[null,"CL12253","2012-02-12T08:59:13.628","Misc.","South","Non-profit",71,"Yes",2.7,250,"Agent Bond"]
[null,"CL12254","2012-02-12T09:03:19.038","Misc.","East","Individual",75,"Yes",2.7,0,"Agent Vinod"]
[null,"CL12263","2012-02-12T09:27:08.900","Laptop","West","Individual",68,"Yes",2.7,240,"Agent Smith"]
[null,"CL12266","2012-02-12T09:38:53.290","Desktop","Mid-west","Individual",77,"Yes",2.2000000000000002,90,"Agent Smith"]
[null,"CL12273","2012-02-12T10:00:26.972","Laptop","West","Individual",73,"Yes",2.2000000000000002,0,"Agent Mary"]
[null,"CL12283","2012-02-12T10:33:22.561","Laptop","South","Large Corporate",66,"Yes",2.9,180,"Agent Harry"]
[null,"CL12290","2012-02-12T10:52:42.957","Desktop","North","Non-profit",78,"Yes",3.3,180,"Agent Neo"]
[null,"CL12293","2012-02-12T11:05:06.973","Monitor","North","SME",77,"Yes",3.2,170,"Agent Harry"]
[null,"CL12302","2012-02-12T11:31:09.945","Desktop","East","Individual",78,"Yes",3.1,230,"Agent Harry"]
[null,"CL12303","2012-02-12T11:36:25.794","Accessories","South","SME",77,"Yes",2.8,260,"Agent Mary"]
[null,"CL12312","2012-02-12T12:04:08.238","Accessories","South","SME",81,"Yes",3,0,"Agent Smith"]
[null,"CL12317","2012-02-12T12:12:22.503","Software","West","SME",84,"Yes",3,190,"Agent Mary"]
[null,"CL12323","2012-02-12T12:32:33.324","Desktop","South","Individual",75,"Yes",3,0,"Agent Neo"]
[null,"CL12332","2012-02-12T12:57:33.730","Accessories","South","Non-profit",85,"Yes",2.8,260,"Agent Harry"]
[null,"CL12339","2012-02-12T13:21:15.085","Monitor","North","Individual",75,"Yes",3.5,0,"Agent Bond"]
[null,"CL12342","2012-02-12T13:28:02.633","Desktop","South","Non-profit",71,"Yes",3,260,"Agent Smith"]
[null,"CL12351","2012-02-12T13:56:32.019","Accessories","North","Non-profit",74,"Yes",2.6,0,"Agent Smith"]
[null,"CL12354","2012-02-12T14:06:31.955","Laptop","West","Individual",74,"Yes",2.9,190,"Agent Smith"]
[null,"CL12362","2012-02-12T14:30:09.562","Monitor","East","Non-profit",69,"Yes",2.6,130,"Agent Harry"]
[null,"CL12369","2012-02-12T14:50:40.408","Accessories","Mid-west","Non-profit",66,"Yes",3,0,"Agent Smith"]
[null,"CL12372","2012-02-12T14:57:13.529","Desktop","Mid-west","Individual",85,"Yes",2.8,0,"Agent Harry"]
[null,"CL12381","2012-02-12T15:18:43.814","Misc.","South","SME",76,"Yes",2.7,200,"Agent Mary"]
[null,"CL12388","2012-02-12T15:43:16.734","Accessories","Mid-west","SME",70,"No",3.1,230,"Agent Bond"]
[null,"CL12391","2012-02-12T15:49:45.683","Laptop","West","Large Corporate",75,"Yes",3.2,0,"Agent Bond"]
[null,"CL12401","2012-02-12T16:23:29.556","Software","Mid-west","Large Corporate",95,"Yes",3.4,50,"Agent Mary"]
[null,"CL12402","2012-02-12T16:27:02.421","Software","West","Non-profit",86,"Yes",2.9,0,"Agent Bond"]
[null,"CL12411","2012-02-12T17:02:12.516","Desktop","West","SME",72,"Yes",3.1,0,"Agent Vinod"]
[null,"CL12418","2012-02-12T17:21:15.474","Accessories","East","Large Corporate",73,"Yes",3.6,170,"Agent Smith"]
[null,"CL12421","2012-02-12T17:28:37.942","Software","East","Large Corporate",76,"Yes",2.8,0,"Agent Harry"]
[null,"CL12428","2012-02-12T17:47:31.609","Accessories","Mid-west","SME",72,"Yes",3.1,0,"Agent Harry"]
[null,"CL12438","2012-02-12T18:16:43.234","Software","South","Non-profit",79,"Yes",2.9,0,"Agent Vinod"]
[null,"CL12441","2012-02-12T18:27:47.866","Laptop","North","Non-profit",84,"Yes",2.5,230,"Agent Neo"]
[null,"CL12448","2012-02-12T18:47:50.035","Desktop","Mid-west","Large Corporate",83,"Yes",3.9,220,"Agent Vinod"]
[null,"CL12451","2012-02-12T18:54:11.106","Laptop","Mid-west","Individual",64,"Yes",2.7,0,"Agent Harry"]
[null,"CL12460","2012-02-12T19:22:23.611","Accessories","East","Large Corporate",99,"No",2.2999999999999998,170,"Agent Mary"]
[null,"CL12469","2012-02-12T19:47:33.966","Software","West","Large Corporate",66,"Yes",3.2,0,"Agent Vinod"]
[null,"CL12471","2012-02-12T19:55:32.958","Accessories","North","Individual",75,"Yes",3.6,200,"Agent Vinod"]
[null,"CL12480","2012-02-12T20:26:01.490","Laptop","North","SME",76,"Yes",2.2000000000000002,0,"Agent Bond"]
[null,"CL12487","2012-02-12T20:45:03.314","Accessories","West","SME",71,"Yes",3.9,0,"Agent Harry"]
[null,"CL12490","2012-02-12T20:51:58.989","Software","South","SME",73,"Yes",2.5,0,"Agent Mary"]
[null,"CL12497","2012-02-12T21:01:32.173","Desktop","North","Individual",88,"Yes",2.9,170,"Agent Harry"]
[null,"CL12506","2012-02-12T21:24:13.647","Accessories","East","Large Corporate",80,"Yes",2.4,0,"Agent Vinod"]
[null,"CL12510","2012-02-12T21:38:08.212","Misc.","West","SME",82,"Yes",3.5,200,"Agent Mary"]
[null,"CL12517","2012-02-12T21:56:55.932","Monitor","West","Large Corporate",81,"Yes",3,240,"Agent Harry"]
[null,"CL12520","2012-02-13T08:05:56.818","Accessories","Mid-west","Non-profit",80,"Yes",2.2000000000000002,0,"Agent Mary"]
[null,"CL12527","2012-02-13T08:20:11.479","Software","East","Individual",86,"Yes",2.4,120,"Agent Neo"]
[null,"CL12536","2012-02-13T08:42:21.300","Misc.","Mid-west","Large Corporate",72,"Yes",2.9,160,"Agent Harry"]
[null,"CL12543","2012-02-13T09:02:46.791","Misc.","Mid-west","Individual",62,"Yes",3.2,0,"Agent Mary"]
[null,"CL12547","2012-02-13T09:15:00.635","Software","Mid-west","Individual",74,"Yes",3.2,180,"Agent Smith"]
[null,"CL12550","2012-02-13T09:26:56.082","Accessories","South","Individual",76,"No",3,0,"Agent Neo"]
[null,"CL12559","2012-02-13T09:50:01.803","Software","South","Large Corporate",77,"Yes",2.2999999999999998,0,"Agent Bond"]
[null,"CL12566","2012-02-13T10:08:41.353","Monitor","East","SME",57,"Yes",3.4,190,"Agent Smith"]
[null,"CL12569","2012-02-13T10:16:52.027","Accessories","East","Individual",76,"Yes",2.8,0,"Agent Mary"]
[null,"CL12577","2012-02-13T10:46:52.515","Desktop","North","Individual",82,"Yes",2.9,0,"Agent Mary"]
[null,"CL12586","2012-02-13T11:23:43.452","Desktop","West","SME",53,"Yes",3.8,180,"Agent Vinod"]
[null,"CL12589","2012-02-13T11:34:50.324","Laptop","North","Individual",67,"Yes",3.5,210,"Agent Harry"]
[null,"CL12596","2012-02-13T11:55:43.623","Software","Mid-west","Large Corporate",72,"Yes",3.5,160,"Agent Smith"]
[null,"CL12599","2012-02-13T12:03:38.385","Software","Mid-west","SME",68,"Yes",3.3,110,"Agent Smith"]
[null,"CL12608","2012-02-13T12:31:32.784","Desktop","North","Non-profit",66,"Yes",3.5,140,"Agent Neo"]
[null,"CL12614","2012-02-13T12:42:03.402","Software","East","SME",69,"Yes",2.8,240,"Agent Harry"]
[null,"CL12619","2012-02-13T12:59:56.182","Misc.","Mid-west","SME",72,"Yes",3.2,240,"Agent Mary"]
[null,"CL12626","2012-02-13T13:22:06.288","Desktop","North","Non-profit",74,"Yes",2.9,260,"Agent Harry"]
[null,"CL12635","2012-02-13T13:42:41.618","Accessories","Mid-west","Non-profit",89,"Yes",3.6,190,"Agent Neo"]
[null,"CL12638","2012-02-13T13:51:22.276","Software","East","SME",78,"Yes",2.4,190,"Agent Harry"]
[null,"CL12645","2012-02-13T14:11:41.773","Laptop","South","Individual",69,"Yes",2.4,160,"Agent Bond"]
[null,"CL12651","2012-02-13T14:28:02.263","Software","Mid-west","Individual",81,"Yes",2.5,190,"Agent Bond"]
[null,"CL12656","2012-02-13T14:44:54.190","Laptop","North","Non-profit",83,"Yes",2.7,0,"Agent Harry"]
[null,"CL12665","2012-02-13T15:14:50.215","Software","North","Non-profit",79,"Yes",2.5,240,"Agent Neo"]
[null,"CL12668","2012-02-13T15:29:14.195","Desktop","Mid-west","Large Corporate",75,"Yes",2.7,160,"Agent Bond"]
[null,"CL12675","2012-02-13T15:55:53.196","Software","North","Large Corporate",71,"Yes",1.9,0,"Agent Neo"]
[null,"CL12681","2012-02-13T16:17:13.746","Monitor","East","Non-profit",72,"Yes",3.9,140,"Agent Vinod"]
[null,"CL12688","2012-02-13T16:28:37.338","Desktop","East","Non-profit",76,"Yes",4.4000000000000004,0,"Agent Neo"]
[null,"CL12695","2012-02-13T16:53:51.809","Software","South","Individual",70,"Yes",3.3,0,"Agent Smith"]
[null,"CL12698","2012-02-13T17:01:31.196","Laptop","South","Large Corporate",60,"No",3,110,"Agent Neo"]
[null,"CL12705","2012-02-13T17:14:02.132","Desktop","North","Individual",76,"Yes",2.7,0,"Agent Neo"]
[null,"CL12714","2012-02-13T17:34:52.773","Desktop","North","Non-profit",78,"Yes",2.9,0,"Agent Bond"]
[null,"CL12718","2012-02-13T17:47:52.238","Monitor","South","Non-profit",82,"Yes",2.6,200,"Agent Neo"]
[null,"CL12725","2012-02-13T18:07:51.200","Laptop","Mid-west","Individual",79,"Yes",3.6,0,"Agent Vinod"]
[null,"CL12734","2012-02-13T18:36:02.220","Laptop","East","Non-profit",69,"Yes",3.8,0,"Agent Harry"]
[null,"CL12735","2012-02-13T18:40:18.836","Monitor","Mid-west","Large Corporate",68,"Yes",3.3,0,"Agent Neo"]
[null,"CL12744","2012-02-13T19:12:11.470","Software","East","SME",72,"Yes",3.6,140,"Agent Vinod"]
[null,"CL12747","2012-02-13T19:21:41.898","Misc.","North","Large Corporate",59,"Yes",2.9,170,"Agent Vinod"]
[null,"CL12759","2012-02-13T20:00:08.766","Monitor","East","SME",85,"Yes",2.5,150,"Agent Mary"]
[null,"CL12764","2012-02-13T20:11:12.210","Monitor","West","SME",64,"Yes",3.3,250,"Agent Mary"]
[null,"CL12767","2012-02-13T20:18:16.899","Software","Mid-west","Non-profit",63,"Yes",2.7,310,"Agent Neo"]
[null,"CL12774","2012-02-13T20:37:32.518","Software","North","Non-profit",78,"Yes",2.9,0,"Agent Harry"]
[null,"CL12783","2012-02-13T21:06:08.967","Software","East","Large Corporate",63,"Yes",2.8,240,"Agent Mary"]
[null,"CL12784","2012-02-13T21:08:24.157","Accessories","West","Individual",71,"Yes",3.3,0,"Agent Neo"]
[null,"CL12796","2012-02-13T21:43:53.487","Accessories","West","SME",70,"Yes",2.7,310,"Agent Harry"]
[null,"CL12797","2012-02-13T21:48:15.890","Desktop","Mid-west","Large Corporate",95,"Yes",3.2,0,"Agent Neo"]
[null,"CL12804","2012-02-14T08:08:34.992","Misc.","North","Individual",69,"Yes",2.6,220,"Agent Vinod"]
[null,"CL12813","2012-02-14T08:43:41.186","Laptop","West","Non-profit",61,"Yes",3.9,0,"Agent Neo"]
[null,"CL12816","2012-02-14T08:47:00.305","Accessories","East","SME",68,"Yes",3.2,0,"Agent Harry"]
[null,"CL12823","2012-02-14T09:07:15.441","Misc.","Mid-west","Non-profit",79,"Yes",3,0,"Agent Vinod"]
[null,"CL12833","2012-02-14T09:37:40.863","Software","Mid-west","Large Corporate",67,"Yes",2.9,0,"Agent Harry"]
[null,"CL12834","2012-02-14T09:39:31.298","Desktop","Mid-west","Individual",74,"Yes",2.9,220,"Agent Vinod"]
[null,"CL12843","2012-02-14T10:10:05.459","Monitor","Mid-west","Large Corporate",79,"Yes",3.4,160,"Agent Harry"]
[null,"CL12846","2012-02-14T10:21:58.537","Desktop","South","Individual",87,"Yes",3.1,110,"Agent Neo"]
[null,"CL12853","2012-02-14T10:43:10.521","Laptop","Mid-west","SME",72,"Yes",3.1,180,"Agent Vinod"]
[null,"CL12862","2012-02-14T11:11:34.349","Software","West","Individual",62,"Yes",3.1,300,"Agent Harry"]
[null,"CL12867","2012-02-14T11:29:21.111","Misc.","North","SME",85,"Yes",1.6,260,"Agent Mary"]
[null,"CL12873","2012-02-14T11:42:03.181","Desktop","Mid-west","Individual",76,"No",2.7,280,"Agent Vinod"]
[null,"CL12882","2012-02-14T12:01:29.057","Misc.","North","SME",81,"Yes",2.6,170,"Agent Neo"]
[null,"CL12883","2012-02-14T12:05:59.220","Software","East","Individual",74,"Yes",2.2000000000000002,160,"Agent Mary"]
[null,"CL12892","2012-02-14T12:30:44.092","Software","North","Individual",69,"Yes",3.3,190,"Agent Bond"]
[null,"CL12895","2012-02-14T12:36:37.239","Software","Mid-west","SME",88,"Yes",2.8,200,"Agent Smith"]
[null,"CL12904","2012-02-14T12:59:08.421","Misc.","North","Individual",79,"Yes",2.5,240,"Agent Bond"]
[null,"CL12912","2012-02-14T13:20:27.130","Accessories","East","Non-profit",79,"Yes",2.5,0,"Agent Vinod"]
[null,"CL12919","2012-02-14T13:40:27.283","Desktop","East","SME",69,"Yes",3.4,240,"Agent Neo"]
[null,"CL12922","2012-02-14T13:48:58.891","Accessories","South","Large Corporate",77,"Yes",2.1,230,"Agent Neo"]
[null,"CL12931","2012-02-14T14:16:49.985","Laptop","Mid-west","Large Corporate",65,"Yes",3.2,180,"Agent Bond"]
[null,"CL12932","2012-02-14T14:19:40.700","Monitor","North","Large Corporate",82,"Yes",2.8,0,"Agent Neo"]
[null,"CL12941","2012-02-14T14:48:36.331","Accessories","South","Individual",68,"Yes",3.6,0,"Agent Bond"]
[null,"CL12945","2012-02-14T14:55:33.560","Desktop","East","Individual",88,"Yes",2.2999999999999998,0,"Agent Vinod"]
[null,"CL12952","2012-02-14T15:15:05.322","Misc.","South","Large Corporate",71,"Yes",3.2,230,"Agent Vinod"]
[null,"CL12961","2012-02-14T15:42:05.496","Laptop","North","Non-profit",77,"Yes",2.8,0,"Agent Bond"]
[null,"CL12968","2012-02-14T16:06:55.489","Laptop","West","Individual",89,"Yes",3.5,0,"Agent Harry"]
[null,"CL12971","2012-02-14T16:10:51.121","Misc.","Mid-west","Large Corporate",56,"Yes",2.9,0,"Agent Smith"]
[null,"CL12978","2012-02-14T16:24:31.505","Software","South","Non-profit",88,"Yes",3.8,0,"Agent Smith"]
[null,"CL12982","2012-02-14T16:35:45.339","Monitor","North","Non-profit",78,"Yes",3.1,0,"Agent Smith"]
[null,"CL12991","2012-02-14T16:57:44.968","Accessories","West","SME",55,"Yes",3.1,180,"Agent Mary"]
[null,"CL12998","2012-02-14T17:11:03.736","Misc.","West","Large Corporate",81,"Yes",3.3,190,"Agent Vinod"]
[null,"CL13001","2012-02-14T17:21:09.066","Desktop","East","Individual",75,"Yes",3.6,130,"Agent Vinod"]
[null,"CL13010","2012-02-14T17:43:48.750","Desktop","Mid-west","Individual",73,"Yes",2.9,170,"Agent Harry"]
[null,"CL13012","2012-02-14T17:49:10.900","Desktop","West","Non-profit",71,"Yes",2.7,210,"Agent Vinod"]
[null,"CL13021","2012-02-14T18:22:04.346","Software","Mid-west","Large Corporate",95,"Yes",2.7,80,"Agent Vinod"]
[null,"CL13030","2012-02-14T18:50:37.455","Software","Mid-west","SME",80,"Yes",2.5,170,"Agent Bond"]
[null,"CL13031","2012-02-14T18:54:34.659","Misc.","South","SME",73,"Yes",3.1,0,"Agent Smith"]
[null,"CL13040","2012-02-14T19:21:46.103","Misc.","Mid-west","Large Corporate",85,"Yes",2.9,0,"Agent Vinod"]
[null,"CL13047","2012-02-14T19:43:18.680","Monitor","North","Individual",57,"Yes",3.6,250,"Agent Mary"]
[null,"CL13049","2012-02-14T19:47:18.256","Misc.","West","SME",72,"Yes",2.1,230,"Agent Bond"]
[null,"CL13060","2012-02-14T20:27:31.081","Accessories","South","Individual",74,"Yes",3.1,0,"Agent Harry"]
[null,"CL13067","2012-02-14T20:42:10.927","Misc.","North","Large Corporate",60,"Yes",2.9,0,"Agent Vinod"]
[null,"CL13070","2012-02-14T20:52:27.513","Laptop","South","Non-profit",75,"Yes",3.2,180,"Agent Harry"]
[null,"CL13077","2012-02-14T21:14:31.958","Monitor","North","SME",76,"No",3.5,260,"Agent Neo"]
[null,"CL13080","2012-02-14T21:24:24.681","Monitor","South","Non-profit",78,"Yes",2.7,0,"Agent Smith"]
[null,"CL13086","2012-02-14T21:37:54.671","Desktop","East","Large Corporate",75,"Yes",2.7,0,"Agent Vinod"]
[null,"CL13097","2012-02-15T08:07:55.775","Monitor","North","Individual",72,"Yes",3.3,210,"Agent Bond"]
[null,"CL13100","2012-02-15T08:15:46.440","Laptop","South","SME",63,"Yes",2.6,0,"Agent Bond"]
[null,"CL13109","2012-02-15T08:39:27.647","Monitor","Mid-west","Non-profit",75,"Yes",2.6,180,"Agent Harry"]
[null,"CL13116","2012-02-15T09:06:22.031","Monitor","South","Large Corporate",65,"Yes",3.7,0,"Agent Vinod"]
[null,"CL13119","2012-02-15T09:16:00.814","Misc.","South","Non-profit",89,"Yes",2.6,190,"Agent Smith"]
[null,"CL13127","2012-02-15T09:37:39.008","Misc.","West","Large Corporate",73,"Yes",2.9,210,"Agent Vinod"]
[null,"CL13130","2012-02-15T09:49:49.082","Laptop","Mid-west","Individual",71,"Yes",3.3,0,"Agent Bond"]
[null,"CL13139","2012-02-15T10:12:26.348","Desktop","Mid-west","Non-profit",77,"Yes",3,210,"Agent Smith"]
[null,"CL13146","2012-02-15T10:31:44.420","Laptop","South","Non-profit",73,"Yes",3.2,210,"Agent Smith"]
[null,"CL13149","2012-02-15T10:42:27.179","Accessories","West","Individual",88,"No",2.9,210,"Agent Smith"]
[null,"CL13158","2012-02-15T11:03:57.747","Software","North","Large Corporate",83,"Yes",2.9,180,"Agent Mary"]
[null,"CL13164","2012-02-15T11:23:29.398","Laptop","Mid-west","Large Corporate",72,"Yes",3,0,"Agent Neo"]
[null,"CL13169","2012-02-15T11:36:28.482","Desktop","East","Large Corporate",73,"Yes",3.4,220,"Agent Neo"]
[null,"CL13176","2012-02-15T11:57:12.223","Laptop","West","Large Corporate",77,"Yes",2.5,230,"Agent Harry"]
[null,"CL13179","2012-02-15T12:06:40.842","Misc.","North","Individual",59,"No",3.5,0,"Agent Neo"]
[null,"CL13188","2012-02-15T12:25:33.702","Software","Mid-west","SME",81,"Yes",2,0,"Agent Bond"]
[null,"CL13195","2012-02-15T12:36:48.553","Accessories","North","Individual",73,"Yes",3.6,280,"Agent Vinod"]
[null,"CL13201","2012-02-15T12:56:30.311","Laptop","Mid-west","SME",76,"Yes",3,0,"Agent Smith"]
[null,"CL13206","2012-02-15T13:06:29.054","Software","East","Large Corporate",70,"Yes",2.9,0,"Agent Bond"]
[null,"CL13215","2012-02-15T13:30:53.462","Desktop","South","Non-profit",61,"Yes",3.6,180,"Agent Vinod"]
[null,"CL13218","2012-02-15T13:41:09.045","Misc.","West","Non-profit",63,"Yes",4.2,230,"Agent Smith"]
[null,"CL13225","2012-02-15T14:00:55.547","Monitor","West","SME",85,"Yes",3.5,130,"Agent Neo"]
[null,"CL13231","2012-02-15T14:18:19.962","Monitor","West","Individual",80,"Yes",3.6,0,"Agent Bond"]
[null,"CL13238","2012-02-15T14:37:13.171","Laptop","East","SME",74,"No",3.4,100,"Agent Neo"]
[null,"CL13245","2012-02-15T14:57:20.751","Desktop","South","SME",67,"Yes",3.3,0,"Agent Mary"]
[null,"CL13248","2012-02-15T15:12:25.500","Laptop","North","SME",81,"Yes",2.9,0,"Agent Neo"]
[null,"CL13255","2012-02-15T15:39:43.135","Desktop","North","SME",80,"Yes",2.5,220,"Agent Smith"]
[null,"CL13264","2012-02-15T16:00:28.124","Desktop","North","Individual",84,"Yes",3.6,170,"Agent Harry"]
[null,"CL13268","2012-02-15T16:12:43.002","Misc.","West","Large Corporate",75,"Yes",4.2,160,"Agent Bond"]
[null,"CL13275","2012-02-15T16:28:02.638","Software","South","Large Corporate",73,"Yes",2.6,180,"Agent Bond"]
[null,"CL13278","2012-02-15T16:37:59.686","Misc.","West","SME",76,"Yes",3.2,300,"Agent Harry"]
[null,"CL13287","2012-02-15T16:59:10.615","Accessories","North","Large Corporate",88,"Yes",2.4,210,"Agent Smith"]
[null,"CL13294","2012-02-15T17:12:06.569","Misc.","Mid-west","Non-profit",75,"Yes",2.7,0,"Agent Vinod"]
[null,"CL13297","2012-02-15T17:19:04.222","Desktop","Mid-west","SME",84,"Yes",4.0999999999999996,280,"Agent Mary"]
[null,"CL13302","2012-02-15T17:33:20.532","Desktop","Mid-west","Non-profit",70,"Yes",3.5,0,"Agent Neo"]
[null,"CL13314","2012-02-15T18:08:40.883","Desktop","West","Large Corporate",77,"No",2.9,180,"Agent Vinod"]
[null,"CL13317","2012-02-15T18:13:35.603","Misc.","West","Non-profit",72,"Yes",2.9,260,"Agent Mary"]
[null,"CL13324","2012-02-15T18:32:36.451","Desktop","North","Individual",80,"Yes",3.2,0,"Agent Smith"]
[null,"CL13327","2012-02-15T18:41:20.893","Misc.","Mid-west","Non-profit",80,"Yes",2.8,0,"Agent Harry"]
[null,"CL13334","2012-02-15T19:03:26.525","Laptop","North","Non-profit",67,"Yes",3.6,0,"Agent Neo"]
[null,"CL13339","2012-02-15T19:20:40.346","Accessories","East","Individual",69,"Yes",2.5,0,"Agent Bond"]
[null,"CL13347","2012-02-15T19:51:38.891","Misc.","South","Non-profit",69,"Yes",2.5,0,"Agent Neo"]
[null,"CL13354","2012-02-15T20:19:46.542","Accessories","North","SME",78,"Yes",3.8,200,"Agent Vinod"]
[null,"CL13363","2012-02-15T20:53:11.318","Laptop","West","Individual",58,"Yes",3.4,0,"Agent Smith"]
[null,"CL13366","2012-02-15T21:01:19.069","Accessories","Mid-west","SME",69,"No",2.2000000000000002,150,"Agent Smith"]
[null,"CL13373","2012-02-15T21:25:25.642","Laptop","Mid-west","Large Corporate",71,"Yes",2.2000000000000002,170,"Agent Bond"]
[null,"CL13376","2012-02-15T21:33:14.388","Desktop","North","Non-profit",72,"Yes",2.2000000000000002,250,"Agent Bond"]
[null,"CL13384","2012-02-15T22:00:25.116","Software","South","SME",76,"Yes",1.9,230,"Agent Vinod"]
[null,"CL13393","2012-02-16T08:33:59.222","Accessories","South","Individual",60,"Yes",3.6,260,"Agent Bond"]
[null,"CL13396","2012-02-16T08:41:55.611","Desktop","Mid-west","Large Corporate",83,"Yes",3.5,0,"Agent Smith"]
[null,"CL13403","2012-02-16T09:06:42.771","Laptop","East","Non-profit",88,"Yes",2.7,0,"Agent Harry"]
[null,"CL13412","2012-02-16T09:26:36.774","Desktop","East","Non-profit",58,"Yes",3.1,170,"Agent Mary"]
[null,"CL13417","2012-02-16T09:38:10.940","Monitor","South","Large Corporate",72,"Yes",1.7,210,"Agent Neo"]
[null,"CL13423","2012-02-16T09:51:06.375","Monitor","South","Individual",77,"Yes",2.6,260,"Agent Neo"]
[null,"CL13426","2012-02-16T10:03:21.677","Laptop","West","SME",68,"Yes",4,0,"Agent Harry"]
[null,"CL13433","2012-02-16T10:28:27.796","Software","North","Non-profit",58,"Yes",3.2,260,"Agent Neo"]
[null,"CL13442","2012-02-16T11:07:39.140","Desktop","North","SME",68,"Yes",3.4,0,"Agent Smith"]
[null,"CL13445","2012-02-16T11:16:43.212","Accessories","Mid-west","Individual",68,"Yes",1.9,200,"Agent Neo"]
[null,"CL13454","2012-02-16T11:42:30.797","Desktop","Mid-west","Large Corporate",66,"Yes",3.2,100,"Agent Mary"]
[null,"CL13462","2012-02-16T12:00:46.987","Accessories","East","Individual",83,"No",2.8,110,"Agent Mary"]
[null,"CL13463","2012-02-16T12:05:06.344","Desktop","East","SME",73,"Yes",2.7,150,"Agent Bond"]
[null,"CL13472","2012-02-16T12:29:51.868","Laptop","West","Non-profit",69,"Yes",3.1,190,"Agent Mary"]
[null,"CL13475","2012-02-16T12:37:45.239","Accessories","North","SME",75,"Yes",3.2,0,"Agent Smith"]
[null,"CL13482","2012-02-16T13:05:13.929","Accessories","West","Individual",64,"Yes",2.8,0,"Agent Smith"]
[null,"CL13491","2012-02-16T13:31:51.263","Monitor","West","Individual",89,"Yes",2.2000000000000002,0,"Agent Harry"]
[null,"CL13495","2012-02-16T13:43:16.930","Monitor","West","Large Corporate",66,"Yes",1.9,210,"Agent Bond"]
[null,"CL13502","2012-02-16T14:00:54.188","Desktop","North","Individual",54,"Yes",3.1,280,"Agent Vinod"]
[null,"CL13511","2012-02-16T14:24:19.046","Accessories","North","Non-profit",60,"Yes",3.2,110,"Agent Smith"]
[null,"CL13512","2012-02-16T14:26:51.603","Desktop","Mid-west","Individual",87,"Yes",3.3,190,"Agent Neo"]
[null,"CL13521","2012-02-16T14:55:11.934","Monitor","East","Non-profit",72,"Yes",2.8,170,"Agent Mary"]
[null,"CL13528","2012-02-16T15:13:30.304","Misc.","South","SME",76,"No",3.7,210,"Agent Mary"]
[null,"CL13532","2012-02-16T15:24:20.495","Accessories","Mid-west","Large Corporate",75,"Yes",3.1,180,"Agent Bond"]
[null,"CL13541","2012-02-16T15:49:25.880","Accessories","South","SME",72,"Yes",2.9,190,"Agent Vinod"]
[null,"CL13548","2012-02-16T16:09:11.518","Misc.","East","Individual",87,"Yes",3.1,0,"Agent Harry"]
[null,"CL13551","2012-02-16T16:15:43.112","Laptop","North","Large Corporate",66,"Yes",2.4,290,"Agent Neo"]
[null,"CL13560","2012-02-16T16:39:12.073","Monitor","South","Individual",80,"Yes",2.6,210,"Agent Mary"]
[null,"CL13562","2012-02-16T16:47:31.394","Accessories","North","SME",90,"Yes",2.2000000000000002,0,"Agent Vinod"]
[null,"CL13571","2012-02-16T17:15:57.694","Monitor","West","Individual",72,"Yes",3.5,0,"Agent Smith"]
[null,"CL13574","2012-02-16T17:27:54.349","Monitor","West","SME",65,"Yes",3.1,0,"Agent Harry"]
[null,"CL13581","2012-02-16T17:41:51.761","Monitor","North","Individual",86,"Yes",3.5,0,"Agent Mary"]
[null,"CL13590","2012-02-16T18:01:24.534","Accessories","North","Individual",80,"Yes",3.3,200,"Agent Vinod"]
[null,"CL13597","2012-02-16T18:20:40.342","Monitor","North","Large Corporate",85,"Yes",3.5,0,"Agent Neo"]
[null,"CL13599","2012-02-16T18:29:07.418","Laptop","North","Individual",85,"Yes",3.6,0,"Agent Bond"]
[null,"CL13610","2012-02-16T18:44:35.627","Software","Mid-west","Non-profit",68,"Yes",2.8,230,"Agent Smith"]
[null,"CL13611","2012-02-16T18:49:21.359","Misc.","East","Non-profit",72,"Yes",2.8,250,"Agent Mary"]
[null,"CL13620","2012-02-16T19:17:29.563","Accessories","West","Large Corporate",62,"Yes",2.7,0,"Agent Bond"]
[null,"CL13627","2012-02-16T19:41:09.183","Software","West","Large Corporate",88,"Yes",2.2000000000000002,0,"Agent Harry"]
[null,"CL13630","2012-02-16T19:47:38.945","Accessories","Mid-west","Large Corporate",79,"Yes",3.4,0,"Agent Neo"]
[null,"CL13636","2012-02-16T20:04:17.704","Monitor","North","Individual",72,"Yes",2.4,0,"Agent Neo"]
[null,"CL13647","2012-02-16T20:34:39.104","Accessories","West","Large Corporate",60,"Yes",3.6,0,"Agent Smith"]
[null,"CL13650","2012-02-16T20:40:24.464","Accessories","East","Large Corporate",70,"Yes",2.6,230,"Agent Harry"]
[null,"CL13659","2012-02-16T21:03:12.677","Laptop","North","Large Corporate",81,"Yes",3,0,"Agent Neo"]
[null,"CL13660","2012-02-16T21:03:20.612","Monitor","East","Large Corporate",83,"Yes",2.4,0,"Agent Neo"]
[null,"CL13669","2012-02-16T21:36:58.542","Software","Mid-west","Non-profit",77,"Yes",3.7,110,"Agent Vinod"]
[null,"CL13677","2012-02-16T21:52:34.244","Misc.","Mid-west","Individual",74,"Yes",2.7,0,"Agent Harry"]
[null,"CL13680","2012-02-17T08:03:24.119","Laptop","South","Non-profit",65,"Yes",2.9,0,"Agent Harry"]
[null,"CL13689","2012-02-17T08:29:39.005","Laptop","West","SME",66,"Yes",2.2999999999999998,160,"Agent Vinod"]
[null,"CL13696","2012-02-17T08:44:38.896","Laptop","North","Large Corporate",67,"Yes",2.8,260,"Agent Harry"]
[null,"CL13699","2012-02-17T08:50:46.963","Software","East","Large Corporate",80,"Yes",2.7,0,"Agent Harry"]
[null,"CL13708","2012-02-17T09:15:53.557","Software","South","Individual",75,"Yes",3.2,0,"Agent Mary"]
[null,"CL13714","2012-02-17T09:35:19.334","Desktop","South","Non-profit",84,"Yes",3.4,0,"Agent Neo"]
[null,"CL13719","2012-02-17T09:51:08.540","Software","Mid-west","Non-profit",85,"Yes",3.4,190,"Agent Neo"]
[null,"CL13726","2012-02-17T10:14:26.854","Misc.","East","Non-profit",74,"Yes",2,210,"Agent Bond"]
[null,"CL13729","2012-02-17T10:26:42.343","Monitor","East","Individual",82,"Yes",4.0999999999999996,0,"Agent Smith"]
[null,"CL13738","2012-02-17T10:42:12.680","Monitor","South","Individual",74,"Yes",2.6,240,"Agent Harry"]
[null,"CL13745","2012-02-17T11:07:06.905","Desktop","West","Non-profit",71,"Yes",2.2999999999999998,0,"Agent Vinod"]
[null,"CL13751","2012-02-17T11:27:19.634","Monitor","East","Non-profit",77,"Yes",2.8,160,"Agent Vinod"]
[null,"CL13756","2012-02-17T11:44:18.985","Misc.","North","SME",78,"Yes",2.9,210,"Agent Mary"]
[null,"CL13759","2012-02-17T11:54:15.328","Accessories","Mid-west","SME",61,"Yes",3.3,0,"Agent Vinod"]
[null,"CL13768","2012-02-17T12:22:21.154","Software","East","Large Corporate",75,"Yes",2.5,180,"Agent Harry"]
[null,"CL13775","2012-02-17T12:37:33.319","Misc.","Mid-west","Non-profit",75,"Yes",2.2999999999999998,150,"Agent Smith"]
[null,"CL13781","2012-02-17T12:56:35.740","Software","Mid-west","SME",83,"Yes",3.2,150,"Agent Harry"]
[null,"CL13788","2012-02-17T13:15:50.208","Desktop","North","Large Corporate",71,"Yes",3.3,200,"Agent Smith"]
[null,"CL13795","2012-02-17T13:33:58.071","Desktop","Mid-west","SME",83,"Yes",3.7,150,"Agent Vinod"]
[null,"CL13798","2012-02-17T13:44:23.331","Monitor","Mid-west","Individual",65,"Yes",3.7,0,"Agent Bond"]
[null,"CL13805","2012-02-17T14:06:49.588","Laptop","East","SME",87,"Yes",3.4,310,"Agent Mary"]
[null,"CL13808","2012-02-17T14:15:49.241","Laptop","West","Individual",77,"Yes",3.2,230,"Agent Neo"]
[null,"CL13818","2012-02-17T14:45:54.990","Software","East","SME",62,"Yes",2.4,0,"Agent Bond"]
[null,"CL13825","2012-02-17T15:05:51.633","Software","South","Large Corporate",74,"Yes",2.2999999999999998,0,"Agent Neo"]
[null,"CL13828","2012-02-17T15:14:06.405","Laptop","East","Individual",57,"Yes",3.6,210,"Agent Vinod"]
[null,"CL13837","2012-02-17T15:34:49.652","Monitor","West","Individual",90,"Yes",2.5,200,"Agent Vinod"]
[null,"CL13844","2012-02-17T15:46:50.619","Desktop","Mid-west","Large Corporate",78,"Yes",3.2,220,"Agent Harry"]
[null,"CL13847","2012-02-17T15:57:18.316","Software","West","Individual",81,"Yes",3.6,170,"Agent Bond"]
[null,"CL13852","2012-02-17T16:15:37.940","Software","North","SME",81,"Yes",2.2999999999999998,270,"Agent Mary"]
[null,"CL13858","2012-02-17T16:36:46.747","Accessories","South","Large Corporate",92,"Yes",2.6,0,"Agent Vinod"]
[null,"CL13867","2012-02-17T17:12:28.340","Misc.","West","Individual",83,"Yes",2.7,160,"Agent Smith"]
[null,"CL13874","2012-02-17T17:39:00.375","Desktop","West","SME",87,"Yes",2.5,270,"Agent Mary"]
[null,"CL13877","2012-02-17T17:46:19.171","Misc.","East","SME",89,"Yes",2.7,0,"Agent Bond"]
[null,"CL13884","2012-02-17T18:10:42.249","Laptop","West","Individual",65,"Yes",3,0,"Agent Vinod"]
[null,"CL13889","2012-02-17T18:23:59.380","Monitor","South","Individual",73,"Yes",3.2,0,"Agent Smith"]
[null,"CL13897","2012-02-17T18:46:05.537","Software","South","Individual",79,"Yes",3.6,0,"Agent Neo"]
[null,"CL13904","2012-02-17T19:04:20.057","Desktop","Mid-west","Non-profit",79,"No",3.1,190,"Agent Vinod"]
[null,"CL13907","2012-02-17T19:10:13.845","Software","West","SME",76,"Yes",3,180,"Agent Smith"]
[null,"CL13916","2012-02-17T19:35:42.746","Laptop","West","Non-profit",91,"Yes",3.6,0,"Agent Bond"]
[null,"CL13923","2012-02-17T19:57:23.862","Laptop","North","Large Corporate",64,"Yes",2.7,0,"Agent Smith"]
[null,"CL13926","2012-02-17T20:08:11.876","Laptop","West","Large Corporate",65,"Yes",2.5,290,"Agent Mary"]
[null,"CL13934","2012-02-17T20:34:49.427","Monitor","North","Individual",73,"Yes",3.6,0,"Agent Mary"]
[null,"CL13943","2012-02-17T20:56:55.308","Software","East","SME",81,"Yes",3.6,220,"Agent Vinod"]
[null,"CL13946","2012-02-17T21:02:56.374","Monitor","West","Large Corporate",84,"Yes",3.6,150,"Agent Bond"]
[null,"CL13953","2012-02-17T21:28:59.707","Monitor","East","Individual",67,"Yes",2.4,200,"Agent Bond"]
[null,"CL13956","2012-02-17T21:37:34.225","Laptop","West","SME",59,"Yes",2.7,0,"Agent Mary"]
[null,"CL13967","2012-02-18T08:07:45.604","Accessories","North","Individual",92,"Yes",3.8,210,"Agent Vinod"]
[null,"CL13973","2012-02-18T08:31:41.466","Accessories","South","Non-profit",92,"Yes",3.6,160,"Agent Mary"]
[null,"CL13976","2012-02-18T08:37:41.993","Accessories","Mid-west","Individual",65,"Yes",2.7,200,"Agent Bond"]
[null,"CL13983","2012-02-18T08:58:46.254","Laptop","North","Individual",73,"Yes",2.4,130,"Agent Mary"]
[null,"CL13992","2012-02-18T09:22:59.155","Misc.","Mid-west","Individual",74,"Yes",3.2,240,"Agent Vinod"]
[null,"CL13995","2012-02-18T09:35:22.320","Accessories","North","Individual",93,"Yes",2.8,220,"Agent Harry"]
[null,"CL14004","2012-02-18T10:03:30.323","Monitor","West","SME",70,"Yes",3.7,280,"Agent Harry"]
[null,"CL14006","2012-02-18T10:11:42.078","Software","East","SME",70,"Yes",3.5,310,"Agent Mary"]
[null,"CL14013","2012-02-18T10:26:38.965","Software","Mid-west","Non-profit",76,"Yes",2.6,210,"Agent Neo"]
[null,"CL14022","2012-02-18T10:59:26.434","Software","North","SME",88,"Yes",2.5,210,"Agent Harry"]
[null,"CL14025","2012-02-18T11:06:02.459","Software","West","Non-profit",83,"Yes",2.8,0,"Agent Vinod"]
[null,"CL14032","2012-02-18T11:22:40.970","Laptop","South","Non-profit",79,"Yes",3.3,190,"Agent Harry"]
[null,"CL14041","2012-02-18T11:40:59.962","Desktop","Mid-west","SME",65,"Yes",2.9,170,"Agent Neo"]
[null,"CL14045","2012-02-18T11:55:23.664","Laptop","East","Large Corporate",84,"Yes",2.7,0,"Agent Vinod"]
[null,"CL14052","2012-02-18T12:11:32.116","Laptop","South","Large Corporate",73,"Yes",3.8,200,"Agent Smith"]
[null,"CL14055","2012-02-18T12:17:36.935","Monitor","North","Individual",69,"Yes",2.5,220,"Agent Neo"]
[null,"CL14062","2012-02-18T12:37:52.872","Accessories","East","Individual",91,"Yes",3.5,160,"Agent Vinod"]
[null,"CL14071","2012-02-18T12:57:52.753","Laptop","North","Large Corporate",63,"Yes",3,240,"Agent Harry"]
[null,"CL14078","2012-02-18T13:19:17.266","Laptop","Mid-west","SME",66,"Yes",3.6,0,"Agent Bond"]
[null,"CL14082","2012-02-18T13:30:13.090","Misc.","North","SME",82,"Yes",3.7,0,"Agent Harry"]
[null,"CL14091","2012-02-18T13:54:46.205","Software","South","Individual",78,"Yes",3.1,250,"Agent Neo"]
[null,"CL14092","2012-02-18T13:59:14.210","Misc.","Mid-west","Large Corporate",75,"Yes",3.6,0,"Agent Vinod"]
[null,"CL14101","2012-02-18T14:26:44.883","Misc.","East","Individual",76,"Yes",3,180,"Agent Bond"]
[null,"CL14104","2012-02-18T14:32:36.745","Misc.","North","Large Corporate",78,"Yes",2.6,0,"Agent Vinod"]
[null,"CL14112","2012-02-18T14:58:49.293","Monitor","East","SME",65,"Yes",2.9,150,"Agent Mary"]
[null,"CL14121","2012-02-18T15:26:36.593","Monitor","Mid-west","SME",63,"Yes",2.9,130,"Agent Smith"]
[null,"CL14124","2012-02-18T15:33:33.429","Desktop","South","Non-profit",70,"Yes",3.6,0,"Agent Smith"]
[null,"CL14131","2012-02-18T15:49:27.689","Misc.","South","Large Corporate",88,"Yes",2.5,0,"Agent Vinod"]
[null,"CL14140","2012-02-18T16:16:37.111","Laptop","West","Non-profit",64,"Yes",2.9,0,"Agent Mary"]
[null,"CL14141","2012-02-18T16:20:13.169","Accessories","North","Non-profit",84,"Yes",2.5,180,"Agent Neo"]
[null,"CL14149","2012-02-18T16:40:08.409","Software","North","SME",70,"Yes",3.3,0,"Agent Mary"]
[null,"CL14154","2012-02-18T16:52:31.389","Software","South","Individual",78,"Yes",3.1,0,"Agent Neo"]
[null,"CL14161","2012-02-18T17:06:47.403","Laptop","East","Individual",77,"Yes",3.1,0,"Agent Bond"]
[null,"CL14170","2012-02-18T17:33:49.158","Laptop","West","Large Corporate",76,"Yes",2.7,210,"Agent Mary"]
[null,"CL14177","2012-02-18T17:55:27.238","Misc.","North","Non-profit",69,"Yes",2.5,0,"Agent Harry"]
[null,"CL14180","2012-02-18T18:05:30.494","Software","East","Individual",70,"Yes",2.4,200,"Agent Harry"]
[null,"CL14186","2012-02-18T18:23:42.209","Software","South","SME",71,"Yes",3.4,0,"Agent Harry"]
[null,"CL14191","2012-02-18T18:36:33.253","Software","South","Large Corporate",69,"Yes",2.2000000000000002,110,"Agent Bond"]
[null,"CL14200","2012-02-18T19:11:31.683","Monitor","Mid-west","Individual",103,"Yes",3.5,0,"Agent Bond"]
[null,"CL14203","2012-02-18T19:23:09.246","Monitor","North","Individual",74,"Yes",3.4,130,"Agent Bond"]
[null,"CL14210","2012-02-18T19:43:54.716","Accessories","South","Individual",74,"Yes",2.2999999999999998,240,"Agent Bond"]
[null,"CL14219","2012-02-18T20:18:03.885","Misc.","West","Non-profit",76,"Yes",2.8,0,"Agent Mary"]
[null,"CL14227","2012-02-18T20:48:44.029","Desktop","North","SME",65,"Yes",3.4,0,"Agent Bond"]
[null,"CL14230","2012-02-18T20:57:00.301","Accessories","Mid-west","Individual",68,"Yes",2.8,0,"Agent Neo"]
[null,"CL14239","2012-02-18T21:17:20.196","Desktop","North","Large Corporate",76,"Yes",3.9,210,"Agent Mary"]
[null,"CL14240","2012-02-18T21:22:51.342","Desktop","South","Large Corporate",72,"Yes",3.7,0,"Agent Vinod"]
[null,"CL14249","2012-02-18T21:46:59.933","Accessories","Mid-west","Large Corporate",74,"Yes",2.5,150,"Agent Neo"]
[null,"CL14252","2012-02-18T21:57:16.734","Accessories","Mid-west","Individual",76,"Yes",2.8,220,"Agent Smith"]
[null,"CL14264","2012-02-19T08:38:34.448","Software","Mid-west","SME",74,"Yes",3.2,0,"Agent Neo"]
[null,"CL14269","2012-02-19T08:50:43.582","Software","East","Non-profit",84,"Yes",2.7,200,"Agent Mary"]
[null,"CL14276","2012-02-19T09:09:02.504","Monitor","South","SME",71,"Yes",2.7,150,"Agent Harry"]
[null,"CL14279","2012-02-19T09:20:02.736","Desktop","Mid-west","SME",69,"Yes",3.3,0,"Agent Mary"]
[null,"CL14288","2012-02-19T09:44:48.555","Laptop","South","Non-profit",65,"Yes",3,0,"Agent Smith"]
[null,"CL14289","2012-02-19T09:45:07.216","Laptop","North","Individual",90,"Yes",3.5,0,"Agent Vinod"]
[null,"CL14301","2012-02-19T10:13:21.593","Monitor","East","Non-profit",74,"Yes",3.9,180,"Agent Bond"]
[null,"CL14306","2012-02-19T10:24:15.006","Accessories","Mid-west","Individual",76,"Yes",2.8,160,"Agent Harry"]
[null,"CL14309","2012-02-19T10:38:45.516","Misc.","North","Individual",83,"Yes",3,150,"Agent Vinod"]
[null,"CL14318","2012-02-19T11:08:25.890","Accessories","West","Large Corporate",87,"Yes",2.2000000000000002,0,"Agent Neo"]
[null,"CL14325","2012-02-19T11:31:54.836","Desktop","East","Individual",64,"Yes",3,140,"Agent Smith"]
[null,"CL14331","2012-02-19T11:53:25.802","Laptop","East","Non-profit",69,"Yes",2.7,0,"Agent Bond"]
[null,"CL14333","2012-02-19T11:59:33.043","Software","Mid-west","SME",69,"Yes",2.7,310,"Agent Vinod"]
[null,"CL14334","2012-02-19T12:01:57.559","Monitor","Mid-west","Individual",62,"Yes",2.6,210,"Agent Mary"]
[null,"CL14335","2012-02-19T12:06:04.214","Desktop","West","Non-profit",70,"Yes",3.3,0,"Agent Vinod"]
[null,"CL14336","2012-02-19T12:10:16.747","Monitor","Mid-west","Large Corporate",82,"Yes",3.6,230,"Agent Harry"]
[null,"CL14337","2012-02-19T12:12:37.134","Laptop","Mid-west","SME",75,"Yes",3,0,"Agent Mary"]
[null,"CL14338","2012-02-19T12:17:49.960","Software","Mid-west","Non-profit",76,"Yes",3.8,0,"Agent Smith"]
[null,"CL14339","2012-02-19T12:20:01.296","Software","North","Non-profit",84,"Yes",1.9,220,"Agent Smith"]
[null,"CL14340","2012-02-19T12:21:41.027","Desktop","South","SME",81,"Yes",3.9,200,"Agent Smith"]
[null,"CL14341","2012-02-19T12:25:19.758","Accessories","South","Individual",74,"Yes",3.2,0,"Agent Neo"]
[null,"CL14342","2012-02-19T12:29:03.776","Software","Mid-west","Large Corporate",63,"Yes",2.2000000000000002,0,"Agent Neo"]
[null,"CL14343","2012-02-19T12:30:02.242","Laptop","North","Individual",78,"Yes",2.9,170,"Agent Bond"]
[null,"CL14344","2012-02-19T12:32:13.607","Desktop","North","Non-profit",81,"Yes",3.4,200,"Agent Mary"]
[null,"CL14345","2012-02-19T12:33:27.844","Misc.","North","Individual",65,"Yes",2.6,0,"Agent Smith"]
[null,"CL14346","2012-02-19T12:36:52.780","Laptop","North","SME",77,"Yes",3.5,190,"Agent Mary"]
[null,"CL14347","2012-02-19T12:38:22.711","Desktop","West","Non-profit",63,"Yes",2.5,200,"Agent Smith"]
[null,"CL14348","2012-02-19T12:42:09.513","Accessories","West","Non-profit",72,"Yes",3.8,230,"Agent Vinod"]
[null,"CL14349","2012-02-19T12:43:35.400","Misc.","North","SME",66,"Yes",2.4,0,"Agent Smith"]
[null,"CL14350","2012-02-19T12:44:22.621","Laptop","South","Non-profit",82,"Yes",2.6,220,"Agent Vinod"]
[null,"CL14351","2012-02-19T12:46:46.457","Software","North","Non-profit",80,"Yes",2.5,260,"Agent Smith"]
[null,"CL14352","2012-02-19T12:47:56.234","Accessories","South","Large Corporate",71,"Yes",3.6,270,"Agent Neo"]
[null,"CL14353","2012-02-19T12:50:09.450","Accessories","North","SME",75,"Yes",2.4,250,"Agent Vinod"]
[null,"CL14354","2012-02-19T12:51:54.421","Desktop","South","Non-profit",80,"Yes",3.1,0,"Agent Harry"]
[null,"CL14355","2012-02-19T12:52:06.166","Monitor","North","Large Corporate",62,"Yes",2.9,150,"Agent Neo"]
[null,"CL14356","2012-02-19T12:57:04.648","Software","North","Non-profit",85,"Yes",3.4,0,"Agent Neo"]
[null,"CL14357","2012-02-19T13:02:25.246","Misc.","Mid-west","Non-profit",76,"Yes",2.5,230,"Agent Smith"]
[null,"CL14358","2012-02-19T13:03:52.405","Software","Mid-west","Large Corporate",72,"Yes",3.2,0,"Agent Smith"]
[null,"CL14359","2012-02-19T13:04:13.086","Desktop","West","Non-profit",61,"Yes",3.3,160,"Agent Harry"]
[null,"CL14360","2012-02-19T13:09:10.819","Misc.","Mid-west","Non-profit",92,"No",3,180,"Agent Vinod"]
[null,"CL14361","2012-02-19T13:14:02.596","Monitor","North","Non-profit",69,"Yes",2.5,0,"Agent Mary"]
[null,"CL14362","2012-02-19T13:17:24.720","Misc.","East","Large Corporate",71,"Yes",3.4,0,"Agent Vinod"]
[null,"CL14363","2012-02-19T13:21:34.189","Accessories","South","Individual",84,"Yes",3.1,0,"Agent Harry"]
[null,"CL14364","2012-02-19T13:26:44.126","Laptop","South","Individual",75,"Yes",2.5,0,"Agent Harry"]
[null,"CL14365","2012-02-19T13:28:01.521","Monitor","South","Large Corporate",84,"No",3.6,0,"Agent Smith"]
[null,"CL14366","2012-02-19T13:31:54.874","Laptop","East","Individual",92,"Yes",3.3,210,"Agent Harry"]
[null,"CL14367","2012-02-19T13:37:14.530","Desktop","Mid-west","Individual",74,"No",1.7,170,"Agent Bond"]
[null,"CL14368","2012-02-19T13:40:16.287","Monitor","Mid-west","SME",71,"Yes",3.1,170,"Agent Mary"]
[null,"CL14369","2012-02-19T13:42:27.183","Misc.","West","Non-profit",75,"Yes",3.5,140,"Agent Neo"]
[null,"CL14370","2012-02-19T13:46:45.933","Software","West","Large Corporate",62,"Yes",3.1,200,"Agent Harry"]
[null,"CL14371","2012-02-19T13:48:59.692","Accessories","South","Non-profit",75,"Yes",2.1,170,"Agent Harry"]
[null,"CL14372","2012-02-19T13:53:59.729","Laptop","South","Individual",62,"No",2.7,0,"Agent Smith"]
[null,"CL14373","2012-02-19T13:57:21.621","Misc.","Mid-west","Non-profit",74,"Yes",3.2,130,"Agent Mary"]
[null,"CL14374","2012-02-19T14:02:29.497","Desktop","West","SME",82,"Yes",3.2,0,"Agent Harry"]
[null,"CL14375","2012-02-19T14:04:00.518","Desktop","East","SME",80,"No",2.8,210,"Agent Smith"]
[null,"CL14376","2012-02-19T14:06:29.670","Laptop","South","SME",68,"Yes",2.6,240,"Agent Vinod"]
[null,"CL14377","2012-02-19T14:08:34.757","Desktop","North","Non-profit",70,"Yes",2.9,220,"Agent Mary"]
[null,"CL14378","2012-02-19T14:09:30.609","Software","Mid-west","Non-profit",82,"Yes",3.5,160,"Agent Mary"]
[null,"CL14379","2012-02-19T14:14:51.431","Software","South","SME",59,"Yes",3.8,220,"Agent Neo"]
[null,"CL14380","2012-02-19T14:16:47.231","Monitor","South","Non-profit",76,"Yes",2.8,0,"Agent Harry"]
[null,"CL14381","2012-02-19T14:18:16.331","Laptop","Mid-west","SME",96,"Yes",3.1,220,"Agent Smith"]
[null,"CL14382","2012-02-19T14:22:04.982","Laptop","South","SME",81,"Yes",3.1,140,"Agent Vinod"]
[null,"CL14383","2012-02-19T14:23:09.031","Monitor","South","Non-profit",87,"Yes",2.7,0,"Agent Mary"]
[null,"CL14384","2012-02-19T14:28:29.157","Desktop","Mid-west","SME",74,"Yes",3.4,240,"Agent Neo"]
[null,"CL14385","2012-02-19T14:31:58.065","Laptop","South","Large Corporate",69,"Yes",2.4,0,"Agent Harry"]
[null,"CL14386","2012-02-19T14:34:12.271","Desktop","Mid-west","SME",80,"No",2.6,0,"Agent Smith"]
[null,"CL14387","2012-02-19T14:36:39.955","Laptop","North","SME",76,"Yes",3.2,0,"Agent Vinod"]
[null,"CL14388","2012-02-19T14:39:29.071","Accessories","Mid-west","Individual",77,"Yes",3.3,0,"Agent Neo"]
[null,"CL14389","2012-02-19T14:44:58.954","Desktop","North","Large Corporate",62,"Yes",3.2,300,"Agent Neo"]
[null,"CL14390","2012-02-19T14:47:04.096","Desktop","South","Individual",68,"Yes",3.6,0,"Agent Harry"]
[null,"CL14391","2012-02-19T14:49:28.958","Software","South","SME",78,"Yes",2.1,0,"Agent Mary"]
[null,"CL14392","2012-02-19T14:54:58.023","Monitor","South","SME",84,"No",2.9,140,"Agent Harry"]
[null,"CL14393","2012-02-19T14:58:30.967","Laptop","Mid-west","SME",74,"Yes",3.5,200,"Agent Neo"]
[null,"CL14394","2012-02-19T14:58:56.649","Software","South","Individual",78,"Yes",2.7,250,"Agent Harry"]
[null,"CL14395","2012-02-19T15:04:00.020","Desktop","East","SME",102,"Yes",3,260,"Agent Smith"]
[null,"CL14396","2012-02-19T15:07:47.641","Desktop","Mid-west","SME",97,"Yes",3.1,200,"Agent Neo"]
[null,"CL14397","2012-02-19T15:09:34.890","Monitor","North","Large Corporate",62,"Yes",4.5,0,"Agent Smith"]
[null,"CL14398","2012-02-19T15:14:14.461","Monitor","East","SME",81,"Yes",2.8,200,"Agent Bond"]
[null,"CL14399","2012-02-19T15:16:39.388","Accessories","East","SME",69,"Yes",3.4,310,"Agent Bond"]
[null,"CL14400","2012-02-19T15:20:53.241","Misc.","Mid-west","Large Corporate",87,"Yes",3,250,"Agent Vinod"]
[null,"CL14401","2012-02-19T15:24:20.917","Laptop","East","Individual",73,"Yes",3,220,"Agent Vinod"]
[null,"CL14402","2012-02-19T15:25:41.537","Laptop","North","Non-profit",78,"Yes",3.5,250,"Agent Mary"]
[null,"CL14403","2012-02-19T15:28:57.946","Laptop","North","SME",88,"Yes",2.8,160,"Agent Bond"]
[null,"CL14404","2012-02-19T15:33:15.712","Monitor","East","Individual",74,"Yes",2.2000000000000002,130,"Agent Harry"]
[null,"CL14405","2012-02-19T15:37:42.981","Monitor","South","Individual",78,"Yes",2.8,0,"Agent Neo"]
[null,"CL14406","2012-02-19T15:38:28.693","Monitor","Mid-west","Individual",68,"Yes",2.2999999999999998,0,"Agent Neo"]
[null,"CL14407","2012-02-19T15:39:15.861","Accessories","West","Large Corporate",82,"Yes",3.2,0,"Agent Vinod"]
[null,"CL14408","2012-02-19T15:40:51.136","Misc.","East","Non-profit",74,"Yes",3.6,260,"Agent Bond"]
[null,"CL14409","2012-02-19T15:44:58.160","Monitor","East","Large Corporate",72,"Yes",3.3,0,"Agent Mary"]
[null,"CL14410","2012-02-19T15:45:11.387","Laptop","South","SME",74,"Yes",2.7,0,"Agent Neo"]
[null,"CL14411","2012-02-19T15:47:54.458","Misc.","South","Individual",57,"Yes",2.2000000000000002,110,"Agent Harry"]
[null,"CL14412","2012-02-19T15:53:31.458","Software","North","Individual",74,"Yes",2.6,190,"Agent Smith"]
[null,"CL14413","2012-02-19T15:55:08.854","Software","North","SME",76,"Yes",2.2000000000000002,180,"Agent Vinod"]
[null,"CL14414","2012-02-19T16:00:08.618","Software","Mid-west","Non-profit",65,"Yes",1.9,230,"Agent Neo"]
[null,"CL14415","2012-02-19T16:03:46.164","Misc.","South","Non-profit",76,"No",3.2,210,"Agent Mary"]
[null,"CL14416","2012-02-19T16:07:06.220","Misc.","North","Large Corporate",85,"Yes",3.3,240,"Agent Mary"]
[null,"CL14417","2012-02-19T16:08:03.813","Misc.","West","Individual",85,"No",3.1,0,"Agent Harry"]
[null,"CL14418","2012-02-19T16:11:27.486","Laptop","Mid-west","SME",72,"No",3.2,0,"Agent Mary"]
[null,"CL14419","2012-02-19T16:12:14.207","Misc.","West","SME",74,"Yes",3.2,250,"Agent Smith"]
[null,"CL14420","2012-02-19T16:14:10.535","Desktop","South","Non-profit",60,"Yes",2.9,280,"Agent Mary"]
[null,"CL14421","2012-02-19T16:17:51.571","Accessories","North","Individual",89,"Yes",2.6,0,"Agent Harry"]
[null,"CL14422","2012-02-19T16:19:05.729","Software","North","Non-profit",78,"Yes",3.4,0,"Agent Neo"]
[null,"CL14423","2012-02-19T16:24:06.835","Accessories","North","SME",70,"Yes",3,0,"Agent Neo"]
[null,"CL14424","2012-02-19T16:25:15.551","Desktop","North","Non-profit",70,"Yes",2.9,190,"Agent Harry"]
[null,"CL14425","2012-02-19T16:25:54.063","Desktop","South","SME",69,"Yes",2.8,290,"Agent Bond"]
[null,"CL14426","2012-02-19T16:29:04.107","Software","Mid-west","Large Corporate",67,"Yes",2.9,210,"Agent Bond"]
[null,"CL14427","2012-02-19T16:32:40.265","Software","North","SME",62,"Yes",3.3,0,"Agent Bond"]
[null,"CL14428","2012-02-19T16:37:14.223","Laptop","North","SME",91,"Yes",2.9,250,"Agent Mary"]
[null,"CL14429","2012-02-19T16:38:01.545","Laptop","North","Non-profit",51,"Yes",3.3,0,"Agent Smith"]
[null,"CL14430","2012-02-19T16:43:08.379","Accessories","Mid-west","SME",65,"Yes",3.3,0,"Agent Harry"]
[null,"CL14431","2012-02-19T16:48:01.344","Software","North","SME",88,"Yes",4.2,180,"Agent Neo"]
[null,"CL14432","2012-02-19T16:50:39.649","Monitor","West","Individual",67,"Yes",2.2999999999999998,200,"Agent Neo"]
[null,"CL14433","2012-02-19T16:53:18.647","Misc.","North","SME",73,"Yes",2.5,140,"Agent Neo"]
[null,"CL14434","2012-02-19T16:54:18.426","Misc.","East","SME",73,"Yes",3.1,240,"Agent Smith"]
[null,"CL14435","2012-02-19T17:00:01.816","Misc.","North","SME",78,"Yes",3.5,200,"Agent Vinod"]
[null,"CL14436","2012-02-19T17:00:44.421","Desktop","Mid-west","SME",72,"Yes",2.4,0,"Agent Neo"]
[null,"CL14437","2012-02-19T17:04:08.290","Accessories","West","Individual",68,"Yes",2,0,"Agent Smith"]
[null,"CL14438","2012-02-19T17:06:59.995","Misc.","South","Individual",78,"Yes",2.7,0,"Agent Neo"]
[null,"CL14439","2012-02-19T17:11:49.461","Laptop","Mid-west","SME",71,"Yes",3.2,220,"Agent Mary"]
[null,"CL14440","2012-02-19T17:12:20.422","Laptop","North","Large Corporate",71,"Yes",2.7,150,"Agent Harry"]
[null,"CL14441","2012-02-19T17:17:41.204","Software","Mid-west","Individual",73,"Yes",3.1,0,"Agent Neo"]
[null,"CL14442","2012-02-19T17:20:21.173","Software","South","Large Corporate",72,"Yes",3.2,0,"Agent Bond"]
[null,"CL14443","2012-02-19T17:23:06.354","Software","West","Large Corporate",72,"No",2,280,"Agent Bond"]
[null,"CL14444","2012-02-19T17:23:55.282","Misc.","West","SME",57,"Yes",2.8,0,"Agent Neo"]
[null,"CL14445","2012-02-19T17:28:30.154","Accessories","East","Non-profit",67,"Yes",2.8,0,"Agent Neo"]
[null,"CL14446","2012-02-19T17:29:00.276","Software","North","Large Corporate",68,"Yes",2.5,0,"Agent Neo"]
[null,"CL14447","2012-02-19T17:32:42.420","Laptop","West","Large Corporate",67,"Yes",2.7,230,"Agent Smith"]
[null,"CL14448","2012-02-19T17:32:47.023","Desktop","Mid-west","SME",67,"Yes",2.1,190,"Agent Mary"]
[null,"CL14449","2012-02-19T17:35:54.747","Monitor","North","Large Corporate",77,"Yes",3.4,0,"Agent Neo"]
[null,"CL14450","2012-02-19T17:39:17.614","Laptop","West","SME",75,"Yes",2.5,240,"Agent Harry"]
[null,"CL14451","2012-02-19T17:41:16.881","Monitor","West","Individual",69,"Yes",3.4,0,"Agent Mary"]
[null,"CL14452","2012-02-19T17:43:24.353","Software","East","SME",71,"Yes",2.2000000000000002,230,"Agent Bond"]
[null,"CL14453","2012-02-19T17:46:32.643","Desktop","West","Non-profit",81,"Yes",2.8,160,"Agent Harry"]
[null,"CL14454","2012-02-19T17:49:04.387","Desktop","Mid-west","SME",70,"Yes",3.7,0,"Agent Harry"]
[null,"CL14455","2012-02-19T17:50:40.800","Software","South","Individual",81,"Yes",2.6,260,"Agent Smith"]
[null,"CL14456","2012-02-19T17:55:06.777","Monitor","East","Individual",56,"Yes",4.5,140,"Agent Harry"]
[null,"CL14457","2012-02-19T17:56:47.459","Monitor","West","Large Corporate",61,"Yes",1.8,0,"Agent Mary"]
[null,"CL14458","2012-02-19T17:58:27.436","Monitor","East","SME",79,"Yes",2.4,130,"Agent Smith"]
[null,"CL14459","2012-02-19T17:59:02.860","Software","South","Large Corporate",75,"Yes",2.5,210,"Agent Bond"]
[null,"CL14460","2012-02-19T18:00:58.643","Desktop","South","Non-profit",73,"Yes",3.1,0,"Agent Smith"]
[null,"CL14461","2012-02-19T18:04:49.926","Monitor","East","SME",62,"Yes",2.7,0,"Agent Vinod"]
[null,"CL14462","2012-02-19T18:06:14.094","Accessories","Mid-west","Individual",74,"Yes",2.9,180,"Agent Neo"]
[null,"CL14463","2012-02-19T18:11:10.249","Accessories","North","Non-profit",80,"Yes",3.2,130,"Agent Harry"]
[null,"CL14464","2012-02-19T18:15:37.530","Misc.","South","Non-profit",72,"Yes",3.9,0,"Agent Mary"]
[null,"CL14465","2012-02-19T18:17:55.135","Software","Mid-west","Non-profit",58,"Yes",2.2999999999999998,150,"Agent Vinod"]
[null,"CL14466","2012-02-19T18:21:13.942","Accessories","North","Non-profit",75,"Yes",2.5,140,"Agent Vinod"]
[null,"CL14467","2012-02-19T18:26:25.514","Misc.","West","Non-profit",82,"Yes",3.8,0,"Agent Vinod"]
[null,"CL14468","2012-02-19T18:29:33.125","Monitor","North","Non-profit",80,"Yes",2.7,0,"Agent Neo"]
[null,"CL14469","2012-02-19T18:34:06.784","Software","East","Individual",70,"Yes",3.2,0,"Agent Neo"]
[null,"CL14470","2012-02-19T18:38:21.655","Monitor","Mid-west","Non-profit",75,"Yes",3.4,0,"Agent Mary"]
[null,"CL14471","2012-02-19T18:43:03.727","Desktop","Mid-west","Individual",69,"Yes",3.5,160,"Agent Bond"]
[null,"CL14472","2012-02-19T18:47:02.231","Desktop","East","Large Corporate",67,"Yes",2.5,180,"Agent Mary"]
[null,"CL14473","2012-02-19T18:48:43.161","Software","East","Non-profit",74,"Yes",2.9,110,"Agent Neo"]
[null,"CL14474","2012-02-19T18:49:35.129","Laptop","Mid-west","Individual",70,"Yes",2.9,0,"Agent Neo"]
[null,"CL14475","2012-02-19T18:52:22.589","Desktop","West","Individual",76,"Yes",4,0,"Agent Harry"]
[null,"CL14476","2012-02-19T18:57:37.666","Desktop","North","Individual",71,"Yes",3.2,0,"Agent Mary"]
[null,"CL14477","2012-02-19T18:59:35.580","Misc.","West","SME",88,"Yes",3.3,0,"Agent Mary"]
[null,"CL14478","2012-02-19T19:02:36.971","Accessories","Mid-west","Non-profit",78,"Yes",2.9,0,"Agent Neo"]
[null,"CL14479","2012-02-19T19:05:53.121","Software","Mid-west","Large Corporate",76,"Yes",2.9,230,"Agent Vinod"]
[null,"CL14480","2012-02-19T19:08:35.765","Accessories","East","SME",75,"Yes",3.1,160,"Agent Smith"]
[null,"CL14481","2012-02-19T19:11:15.008","Accessories","East","Non-profit",61,"Yes",2.9,140,"Agent Smith"]
[null,"CL14482","2012-02-19T19:15:43.337","Accessories","Mid-west","Large Corporate",72,"Yes",3.3,260,"Agent Mary"]
[null,"CL14483","2012-02-19T19:18:54.622","Monitor","West","SME",71,"Yes",2.7,0,"Agent Bond"]
[null,"CL14484","2012-02-19T19:20:57.998","Desktop","East","Individual",71,"Yes",3,250,"Agent Smith"]
[null,"CL14485","2012-02-19T19:25:56.837","Accessories","East","Non-profit",67,"Yes",2.2999999999999998,200,"Agent Bond"]
[null,"CL14486","2012-02-19T19:30:08.035","Monitor","North","Individual",76,"Yes",3.5,260,"Agent Smith"]
[null,"CL14487","2012-02-19T19:34:17.145","Monitor","North","Large Corporate",75,"Yes",2.2999999999999998,280,"Agent Vinod"]
[null,"CL14488","2012-02-19T19:36:44.810","Laptop","South","Non-profit",73,"Yes",3.1,190,"Agent Vinod"]
[null,"CL14489","2012-02-19T19:42:19.276","Laptop","South","Non-profit",87,"Yes",3.5,0,"Agent Mary"]
[null,"CL14490","2012-02-19T19:43:49.613","Software","North","Individual",71,"Yes",3.1,200,"Agent Vinod"]
[null,"CL14491","2012-02-19T19:44:40.526","Misc.","Mid-west","Non-profit",73,"Yes",2.7,250,"Agent Neo"]
[null,"CL14492","2012-02-19T19:45:25.973","Desktop","South","Non-profit",87,"Yes",2.9,0,"Agent Mary"]
[null,"CL14493","2012-02-19T19:48:21.878","Monitor","West","Large Corporate",62,"Yes",3.8,220,"Agent Bond"]
[null,"CL14494","2012-02-19T19:50:14.101","Software","Mid-west","Large Corporate",80,"Yes",2.7,0,"Agent Vinod"]
[null,"CL14495","2012-02-19T19:51:40.938","Laptop","South","SME",73,"Yes",3.2,180,"Agent Bond"]
[null,"CL14496","2012-02-19T19:55:11.788","Accessories","North","SME",66,"Yes",3,0,"Agent Mary"]
[null,"CL14497","2012-02-19T20:00:36.028","Monitor","South","Large Corporate",87,"Yes",3,0,"Agent Neo"]
[null,"CL14498","2012-02-19T20:04:20.730","Accessories","South","Large Corporate",65,"Yes",2.9,0,"Agent Vinod"]
[null,"CL14499","2012-02-19T20:06:36.338","Misc.","Mid-west","Large Corporate",76,"Yes",2.8,130,"Agent Vinod"]
[null,"CL14500","2012-02-19T20:12:02.646","Desktop","North","Large Corporate",84,"Yes",2.7,0,"Agent Vinod"]
[null,"CL14501","2012-02-19T20:14:49.383","Laptop","North","Large Corporate",74,"Yes",2.6,0,"Agent Vinod"]
[null,"CL14502","2012-02-19T20:17:07.866","Misc.","East","Non-profit",75,"Yes",3.8,180,"Agent Harry"]
[null,"CL14503","2012-02-19T20:17:24.849","Monitor","East","SME",84,"Yes",2.6,0,"Agent Harry"]
[null,"CL14504","2012-02-19T20:19:09.721","Software","North","Large Corporate",81,"Yes",3.1,0,"Agent Mary"]
[null,"CL14505","2012-02-19T20:23:47.970","Desktop","South","SME",70,"Yes",3.2,180,"Agent Mary"]
[null,"CL14506","2012-02-19T20:26:32.500","Accessories","West","SME",78,"Yes",2.8,0,"Agent Harry"]
[null,"CL14507","2012-02-19T20:28:54.527","Laptop","North","Individual",80,"Yes",2.9,190,"Agent Bond"]
[null,"CL14508","2012-02-19T20:30:25.169","Desktop","West","Individual",69,"Yes",2.8,0,"Agent Smith"]
[null,"CL14509","2012-02-19T20:31:40.481","Laptop","South","SME",69,"Yes",2.9,0,"Agent Bond"]
[null,"CL14510","2012-02-19T20:37:17.513","Accessories","South","Non-profit",81,"Yes",2.6,130,"Agent Neo"]
[null,"CL14511","2012-02-19T20:41:52.647","Desktop","Mid-west","Large Corporate",71,"Yes",2.8,220,"Agent Vinod"]
[null,"CL14512","2012-02-19T20:43:44.232","Misc.","West","SME",60,"Yes",2.5,200,"Agent Bond"]
[null,"CL14513","2012-02-19T20:43:56.649","Accessories","West","SME",72,"Yes",2.4,0,"Agent Smith"]
[null,"CL14514","2012-02-19T20:47:41.843","Monitor","South","SME",82,"Yes",2.5,280,"Agent Bond"]
[null,"CL14515","2012-02-19T20:53:04.037","Misc.","North","SME",79,"Yes",3,230,"Agent Mary"]
[null,"CL14516","2012-02-19T20:56:19.387","Laptop","Mid-west","Non-profit",70,"Yes",2.7,220,"Agent Harry"]
[null,"CL14517","2012-02-19T21:01:24.384","Software","Mid-west","Individual",78,"Yes",3.3,0,"Agent Vinod"]
[null,"CL14518","2012-02-19T21:03:21.716","Accessories","South","Non-profit",81,"Yes",2.5,0,"Agent Neo"]
[null,"CL14519","2012-02-19T21:04:26.583","Desktop","West","Individual",64,"Yes",3.2,200,"Agent Neo"]
[null,"CL14520","2012-02-19T21:05:39.206","Accessories","West","SME",70,"Yes",3.3,0,"Agent Vinod"]
[null,"CL14521","2012-02-19T21:08:36.298","Software","North","Non-profit",78,"Yes",3.1,190,"Agent Mary"]
[null,"CL14522","2012-02-19T21:08:59.798","Software","West","Non-profit",72,"Yes",3.5,0,"Agent Vinod"]
[null,"CL14523","2012-02-19T21:13:20.727","Laptop","South","Individual",81,"Yes",3.3,0,"Agent Vinod"]
[null,"CL14524","2012-02-19T21:15:06.830","Accessories","North","Individual",81,"Yes",3.3,290,"Agent Smith"]
[null,"CL14525","2012-02-19T21:18:41.639","Laptop","North","Large Corporate",60,"Yes",3.1,210,"Agent Mary"]
[null,"CL14526","2012-02-19T21:24:26.145","Misc.","East","Large Corporate",62,"Yes",2.5,230,"Agent Smith"]
[null,"CL14527","2012-02-19T21:29:05.538","Monitor","East","SME",72,"Yes",4.0999999999999996,0,"Agent Vinod"]
[null,"CL14528","2012-02-19T21:30:04.778","Monitor","North","Non-profit",77,"Yes",4,0,"Agent Vinod"]
[null,"CL14529","2012-02-19T21:32:31.365","Laptop","East","Non-profit",78,"Yes",3.7,0,"Agent Mary"]
[null,"CL14530","2012-02-19T21:34:32.625","Software","Mid-west","Individual",65,"Yes",3.1,0,"Agent Harry"]
[null,"CL14531","2012-02-19T21:39:46.135","Software","South","SME",79,"Yes",3.8,0,"Agent Smith"]
[null,"CL14532","2012-02-19T21:40:51.732","Accessories","East","Individual",80,"Yes",4.5,170,"Agent Neo"]
[null,"CL14533","2012-02-19T21:41:42.387","Accessories","North","SME",82,"Yes",2.9,0,"Agent Smith"]
[null,"CL14534","2012-02-19T21:44:57.379","Accessories","North","Non-profit",69,"Yes",3.4,0,"Agent Smith"]
[null,"CL14535","2012-02-19T21:48:36.891","Desktop","West","Large Corporate",96,"Yes",3.1,200,"Agent Mary"]
[null,"CL14536","2012-02-19T21:49:10.892","Software","East","Individual",76,"Yes",2.2999999999999998,0,"Agent Bond"]
[null,"CL14537","2012-02-19T21:49:59.334","Software","West","Non-profit",76,"Yes",2.5,210,"Agent Bond"]
[null,"CL14538","2012-02-19T21:51:18.119","Monitor","Mid-west","Non-profit",82,"Yes",2.8,250,"Agent Vinod"]
[null,"CL14539","2012-02-19T21:51:51.539","Monitor","Mid-west","Large Corporate",80,"Yes",2.2000000000000002,0,"Agent Bond"]
[null,"CL14540","2012-02-19T21:54:01.916","Misc.","Mid-west","Non-profit",80,"Yes",2.7,270,"Agent Bond"]
[null,"CL14541","2012-02-19T21:58:02.569","Software","North","SME",78,"Yes",3.5,180,"Agent Harry"]
[null,"CL14542","2012-02-19T21:58:47.351","Misc.","Mid-west","SME",82,"Yes",3.5,0,"Agent Harry"]
[null,"CL14543","2012-02-19T21:59:01.233","Accessories","West","SME",81,"Yes",2.8,0,"Agent Neo"]
[null,"CL14544","2012-02-19T22:04:19.228","Software","South","Large Corporate",61,"Yes",3.3,0,"Agent Neo"]
[null,"CL14545","2012-02-20T08:07:25.693","Software","North","Large Corporate",72,"Yes",3,100,"Agent Vinod"]
[null,"CL14546","2012-02-20T08:11:49.095","Misc.","Mid-west","Non-profit",75,"Yes",3.2,190,"Agent Bond"]
[null,"CL14547","2012-02-20T08:15:09.232","Laptop","West","Individual",62,"Yes",3.8,0,"Agent Mary"]
[null,"CL14548","2012-02-20T08:19:39.915","Desktop","East","Individual",77,"Yes",3.1,250,"Agent Neo"]
[null,"CL14549","2012-02-20T08:22:08.809","Monitor","East","Large Corporate",74,"Yes",2.8,140,"Agent Vinod"]
[null,"CL14550","2012-02-20T08:25:19.094","Accessories","North","Individual",73,"Yes",2.9,180,"Agent Vinod"]
[null,"CL14551","2012-02-20T08:30:55.388","Accessories","Mid-west","Non-profit",71,"Yes",3.8,200,"Agent Bond"]
[null,"CL14552","2012-02-20T08:36:11.803","Desktop","Mid-west","Large Corporate",78,"Yes",3.3,0,"Agent Harry"]
[null,"CL14553","2012-02-20T08:40:47.793","Accessories","East","SME",71,"Yes",2.9,250,"Agent Mary"]
[null,"CL14554","2012-02-20T08:42:59.190","Accessories","Mid-west","Non-profit",70,"Yes",3.6,230,"Agent Mary"]
[null,"CL14555","2012-02-20T08:48:30.359","Software","North","Non-profit",68,"Yes",2.9,0,"Agent Mary"]
[null,"CL14556","2012-02-20T08:50:17.148","Monitor","West","SME",72,"Yes",2.9,210,"Agent Neo"]
[null,"CL14557","2012-02-20T08:55:32.370","Accessories","Mid-west","Individual",83,"Yes",2.1,0,"Agent Mary"]
[null,"CL14558","2012-02-20T09:00:56.912","Laptop","Mid-west","Large Corporate",69,"No",4.3,150,"Agent Bond"]
[null,"CL14559","2012-02-20T09:01:30.757","Laptop","East","Individual",58,"Yes",3.8,130,"Agent Mary"]
[null,"CL14560","2012-02-20T09:06:42.758","Accessories","South","Non-profit",76,"Yes",3.1,0,"Agent Harry"]
[null,"CL14561","2012-02-20T09:11:50.249","Laptop","Mid-west","Large Corporate",69,"Yes",3.8,0,"Agent Neo"]
[null,"CL14562","2012-02-20T09:12:38.920","Misc.","South","Non-profit",81,"No",3.8,0,"Agent Smith"]
[null,"CL14563","2012-02-20T09:17:35.671","Misc.","East","Individual",68,"Yes",3,0,"Agent Mary"]
[null,"CL14564","2012-02-20T09:22:20.178","Software","East","Non-profit",88,"Yes",3.3,0,"Agent Harry"]
[null,"CL14565","2012-02-20T09:25:42.082","Software","Mid-west","SME",75,"Yes",2.2000000000000002,220,"Agent Neo"]
[null,"CL14566","2012-02-20T09:27:09.237","Misc.","West","Non-profit",66,"No",2.8,0,"Agent Neo"]
[null,"CL14567","2012-02-20T09:29:09.082","Laptop","North","Individual",55,"Yes",2.8,150,"Agent Vinod"]
[null,"CL14568","2012-02-20T09:33:29.494","Accessories","Mid-west","Non-profit",78,"Yes",2.5,290,"Agent Harry"]
[null,"CL14569","2012-02-20T09:35:05.342","Accessories","North","Large Corporate",68,"Yes",3.1,230,"Agent Neo"]
[null,"CL14570","2012-02-20T09:36:00.318","Desktop","West","Non-profit",67,"Yes",2.9,230,"Agent Harry"]
[null,"CL14571","2012-02-20T09:40:39.688","Laptop","West","Large Corporate",73,"No",3.4,0,"Agent Vinod"]
[null,"CL14572","2012-02-20T09:42:13.005","Software","North","SME",56,"Yes",2.1,180,"Agent Smith"]
[null,"CL14573","2012-02-20T09:44:48.298","Desktop","West","Individual",73,"Yes",3,0,"Agent Smith"]
[null,"CL14574","2012-02-20T09:48:25.346","Accessories","North","SME",71,"Yes",2.2999999999999998,0,"Agent Mary"]
[null,"CL14575","2012-02-20T09:51:49.221","Laptop","Mid-west","Non-profit",84,"Yes",3.5,100,"Agent Harry"]
[null,"CL14576","2012-02-20T09:51:53.655","Monitor","West","Individual",80,"Yes",3,210,"Agent Mary"]
[null,"CL14577","2012-02-20T09:51:54.786","Software","North","Large Corporate",66,"Yes",3,0,"Agent Harry"]
[null,"CL14578","2012-02-20T09:55:41.371","Monitor","South","SME",79,"Yes",3.5,120,"Agent Bond"]
[null,"CL14579","2012-02-20T09:57:04.451","Software","Mid-west","Individual",68,"Yes",3.6,220,"Agent Vinod"]
[null,"CL14580","2012-02-20T10:02:26.771","Misc.","Mid-west","Individual",70,"Yes",2,0,"Agent Vinod"]
[null,"CL14581","2012-02-20T10:04:28.972","Accessories","East","Non-profit",78,"Yes",3.4,140,"Agent Neo"]
[null,"CL14582","2012-02-20T10:06:34.884","Monitor","North","SME",95,"Yes",3.2,290,"Agent Smith"]
[null,"CL14583","2012-02-20T10:10:35.106","Software","South","Large Corporate",82,"Yes",3.8,170,"Agent Vinod"]
[null,"CL14584","2012-02-20T10:13:58.534","Monitor","Mid-west","Large Corporate",65,"Yes",2.9,210,"Agent Vinod"]
[null,"CL14585","2012-02-20T10:15:09.246","Misc.","West","Non-profit",65,"Yes",3.4,220,"Agent Harry"]
[null,"CL14586","2012-02-20T10:15:09.982","Desktop","South","Non-profit",74,"Yes",2.6,270,"Agent Vinod"]
[null,"CL14587","2012-02-20T10:17:08.088","Laptop","East","Individual",74,"Yes",3,180,"Agent Harry"]
[null,"CL14588","2012-02-20T10:17:09.898","Monitor","Mid-west","Non-profit",70,"Yes",2.7,150,"Agent Bond"]
[null,"CL14589","2012-02-20T10:19:04.982","Laptop","West","SME",82,"Yes",3.8,90,"Agent Vinod"]
[null,"CL14590","2012-02-20T10:19:48.875","Laptop","North","SME",85,"Yes",2.5,0,"Agent Smith"]
[null,"CL14591","2012-02-20T10:25:03.313","Software","South","SME",63,"Yes",3.4,210,"Agent Vinod"]
[null,"CL14592","2012-02-20T10:29:00.506","Misc.","West","Individual",78,"Yes",3.4,210,"Agent Neo"]
[null,"CL14593","2012-02-20T10:33:27.588","Laptop","West","Individual",62,"Yes",2.2000000000000002,160,"Agent Smith"]
[null,"CL14594","2012-02-20T10:38:44.526","Desktop","Mid-west","Non-profit",75,"Yes",2.8,0,"Agent Neo"]
[null,"CL14595","2012-02-20T10:39:03.751","Laptop","North","Non-profit",74,"Yes",2.8,130,"Agent Bond"]
[null,"CL14596","2012-02-20T10:42:48.560","Accessories","East","Individual",69,"Yes",3,200,"Agent Bond"]
[null,"CL14597","2012-02-20T10:44:05.795","Laptop","Mid-west","Individual",78,"Yes",3.3,0,"Agent Bond"]
[null,"CL14598","2012-02-20T10:46:24.023","Desktop","South","Individual",77,"Yes",2.1,290,"Agent Neo"]
[null,"CL14599","2012-02-20T10:47:35.945","Software","North","SME",79,"Yes",2.4,130,"Agent Vinod"]
[null,"CL14600","2012-02-20T10:49:50.621","Misc.","West","Non-profit",96,"Yes",2.6,240,"Agent Bond"]
[null,"CL14601","2012-02-20T10:50:51.083","Accessories","West","Large Corporate",65,"Yes",3.1,290,"Agent Harry"]
[null,"CL14602","2012-02-20T10:51:50.666","Monitor","Mid-west","Non-profit",79,"Yes",3.5,210,"Agent Harry"]
[null,"CL14603","2012-02-20T10:56:29.636","Accessories","East","Individual",76,"Yes",2.7,0,"Agent Vinod"]
[null,"CL14604","2012-02-20T11:00:31.917","Laptop","West","Large Corporate",81,"Yes",2.9,200,"Agent Vinod"]
[null,"CL14605","2012-02-20T11:00:41.723","Laptop","East","Individual",67,"Yes",2.5,0,"Agent Bond"]
[null,"CL14606","2012-02-20T11:03:19.422","Misc.","West","Non-profit",75,"No",2.1,310,"Agent Neo"]
[null,"CL14607","2012-02-20T11:06:06.789","Accessories","Mid-west","Non-profit",73,"Yes",2.7,210,"Agent Harry"]
[null,"CL14608","2012-02-20T11:10:04.248","Accessories","East","Individual",67,"Yes",2.4,90,"Agent Bond"]
[null,"CL14609","2012-02-20T11:14:31.014","Accessories","North","Non-profit",69,"Yes",2.8,250,"Agent Mary"]
[null,"CL14610","2012-02-20T11:15:18.604","Monitor","Mid-west","Individual",80,"No",3.1,170,"Agent Vinod"]
[null,"CL14611","2012-02-20T11:17:05.428","Accessories","East","SME",76,"Yes",3.2,150,"Agent Neo"]
[null,"CL14612","2012-02-20T11:19:27.605","Monitor","South","Individual",85,"Yes",4.0999999999999996,0,"Agent Bond"]
[null,"CL14613","2012-02-20T11:24:00.576","Software","West","Individual",63,"Yes",2.8,0,"Agent Mary"]
[null,"CL14614","2012-02-20T11:27:48.392","Desktop","East","Non-profit",85,"Yes",2.2000000000000002,130,"Agent Harry"]
[null,"CL14615","2012-02-20T11:31:56.514","Monitor","South","Large Corporate",74,"Yes",2.2999999999999998,240,"Agent Smith"]
[null,"CL14616","2012-02-20T11:33:31.448","Software","Mid-west","SME",71,"Yes",4.2,240,"Agent Smith"]
[null,"CL14617","2012-02-20T11:37:57.190","Laptop","Mid-west","SME",71,"Yes",2.8,150,"Agent Bond"]
[null,"CL14618","2012-02-20T11:38:17.055","Accessories","South","SME",75,"Yes",3.2,180,"Agent Bond"]
[null,"CL14619","2012-02-20T11:41:25.020","Laptop","Mid-west","Individual",73,"Yes",3,0,"Agent Bond"]
[null,"CL14620","2012-02-20T11:45:55.209","Desktop","Mid-west","Individual",73,"Yes",3.5,210,"Agent Smith"]
[null,"CL14621","2012-02-20T11:46:52.682","Laptop","East","SME",63,"Yes",3.5,0,"Agent Harry"]
[null,"CL14622","2012-02-20T11:51:30.399","Laptop","East","Non-profit",68,"Yes",2.6,0,"Agent Vinod"]
[null,"CL14623","2012-02-20T11:56:41.647","Desktop","South","Individual",72,"Yes",2.1,200,"Agent Harry"]
[null,"CL14624","2012-02-20T11:58:00.523","Accessories","North","Large Corporate",73,"Yes",1.9,240,"Agent Mary"]
[null,"CL14625","2012-02-20T12:01:37.541","Misc.","East","Non-profit",67,"Yes",3.6,0,"Agent Smith"]
[null,"CL14626","2012-02-20T12:06:14.973","Accessories","South","Individual",84,"Yes",2.2000000000000002,0,"Agent Bond"]
[null,"CL14627","2012-02-20T12:06:40.310","Accessories","North","Individual",80,"Yes",2.1,0,"Agent Harry"]
[null,"CL14628","2012-02-20T12:07:34.424","Accessories","West","Non-profit",70,"Yes",2.4,0,"Agent Smith"]
[null,"CL14629","2012-02-20T12:09:41.808","Software","South","Large Corporate",81,"Yes",3.2,240,"Agent Harry"]
[null,"CL14630","2012-02-20T12:09:50.236","Monitor","North","Large Corporate",87,"Yes",2.6,0,"Agent Bond"]
[null,"CL14631","2012-02-20T12:14:17.023","Misc.","North","Non-profit",65,"Yes",3.1,240,"Agent Smith"]
[null,"CL14632","2012-02-20T12:15:10.866","Software","West","Individual",91,"Yes",2.8,250,"Agent Harry"]
[null,"CL14633","2012-02-20T12:19:17.630","Accessories","West","Individual",73,"Yes",2.9,150,"Agent Mary"]
[null,"CL14634","2012-02-20T12:19:45.094","Laptop","South","Large Corporate",82,"Yes",3.3,0,"Agent Smith"]
[null,"CL14635","2012-02-20T12:24:31.578","Desktop","West","Individual",72,"Yes",3.5,190,"Agent Bond"]
[null,"CL14636","2012-02-20T12:27:18.994","Accessories","Mid-west","Large Corporate",84,"Yes",3,210,"Agent Neo"]
[null,"CL14637","2012-02-20T12:29:59.841","Accessories","North","Individual",83,"Yes",3.2,230,"Agent Mary"]
[null,"CL14638","2012-02-20T12:35:19.842","Monitor","Mid-west","SME",71,"Yes",2.7,310,"Agent Mary"]
[null,"CL14639","2012-02-20T12:37:19.948","Desktop","North","SME",70,"Yes",2.5,150,"Agent Bond"]
[null,"CL14640","2012-02-20T12:42:02.483","Desktop","West","SME",96,"Yes",2.6,180,"Agent Smith"]
[null,"CL14641","2012-02-20T12:43:21.362","Misc.","Mid-west","Non-profit",77,"Yes",2.6,0,"Agent Mary"]
[null,"CL14642","2012-02-20T12:49:04.234","Laptop","North","Non-profit",76,"Yes",2.7,0,"Agent Bond"]
[null,"CL14643","2012-02-20T12:54:47.205","Monitor","North","Non-profit",89,"Yes",2.8,0,"Agent Smith"]
[null,"CL14644","2012-02-20T12:57:44.464","Monitor","East","Non-profit",78,"Yes",3.5,240,"Agent Neo"]
[null,"CL14645","2012-02-20T13:02:44.692","Accessories","East","Large Corporate",80,"Yes",2.7,0,"Agent Bond"]
[null,"CL14646","2012-02-20T13:06:40.329","Laptop","Mid-west","SME",78,"Yes",2.7,0,"Agent Harry"]
[null,"CL14647","2012-02-20T13:10:25.162","Desktop","North","Large Corporate",79,"Yes",3.3,170,"Agent Smith"]
[null,"CL14648","2012-02-20T13:11:19.624","Accessories","South","Large Corporate",70,"Yes",2.7,200,"Agent Mary"]
[null,"CL14649","2012-02-20T13:13:08.682","Misc.","North","Non-profit",92,"Yes",2.6,0,"Agent Neo"]
[null,"CL14650","2012-02-20T13:17:29.313","Misc.","East","SME",89,"Yes",3.4,190,"Agent Mary"]
[null,"CL14651","2012-02-20T13:21:16.925","Accessories","South","SME",69,"Yes",3.3,150,"Agent Bond"]
[null,"CL14652","2012-02-20T13:22:23.683","Laptop","Mid-west","Non-profit",69,"No",3.3,0,"Agent Vinod"]
[null,"CL14653","2012-02-20T13:25:02.474","Monitor","Mid-west","SME",77,"Yes",1.9,0,"Agent Smith"]
[null,"CL14654","2012-02-20T13:25:15.143","Monitor","East","SME",76,"Yes",3.6,200,"Agent Smith"]
[null,"CL14655","2012-02-20T13:28:53.858","Software","East","Large Corporate",74,"Yes",2.7,220,"Agent Neo"]
[null,"CL14656","2012-02-20T13:29:48.557","Accessories","South","Individual",68,"Yes",2.6,250,"Agent Smith"]
[null,"CL14657","2012-02-20T13:32:42.540","Desktop","Mid-west","Non-profit",80,"Yes",2,250,"Agent Vinod"]
[null,"CL14658","2012-02-20T13:33:51.897","Accessories","West","Individual",70,"Yes",3.4,0,"Agent Harry"]
[null,"CL14659","2012-02-20T13:36:39.678","Desktop","South","Non-profit",59,"Yes",3.3,180,"Agent Vinod"]
[null,"CL14660","2012-02-20T13:37:30.136","Desktop","East","SME",74,"Yes",2.7,170,"Agent Bond"]
[null,"CL14661","2012-02-20T13:38:22.899","Misc.","South","Individual",83,"Yes",3.5,0,"Agent Bond"]
[null,"CL14662","2012-02-20T13:43:32.212","Software","West","SME",64,"Yes",2.9,180,"Agent Neo"]
[null,"CL14663","2012-02-20T13:46:16.046","Misc.","Mid-west","SME",68,"Yes",2.5,200,"Agent Mary"]
[null,"CL14664","2012-02-20T13:49:33.011","Misc.","Mid-west","Non-profit",74,"Yes",3.2,260,"Agent Neo"]
[null,"CL14665","2012-02-20T13:51:08.955","Desktop","West","Non-profit",75,"Yes",2.7,130,"Agent Vinod"]
[null,"CL14666","2012-02-20T13:55:45.569","Desktop","Mid-west","SME",75,"Yes",2.7,100,"Agent Neo"]
[null,"CL14667","2012-02-20T13:57:42.022","Misc.","South","SME",78,"Yes",3,120,"Agent Neo"]
[null,"CL14668","2012-02-20T14:00:31.094","Laptop","Mid-west","Individual",75,"Yes",3.5,180,"Agent Neo"]
[null,"CL14669","2012-02-20T14:05:29.911","Laptop","East","SME",78,"No",3.7,260,"Agent Harry"]
[null,"CL14670","2012-02-20T14:08:50.105","Misc.","East","SME",69,"Yes",3.9,0,"Agent Neo"]
[null,"CL14671","2012-02-20T14:09:57.396","Software","West","Non-profit",69,"Yes",3.6,0,"Agent Harry"]
[null,"CL14672","2012-02-20T14:13:18.445","Misc.","East","Individual",76,"Yes",3,200,"Agent Vinod"]
[null,"CL14673","2012-02-20T14:18:21.030","Monitor","Mid-west","Large Corporate",69,"Yes",2.7,0,"Agent Vinod"]
[null,"CL14674","2012-02-20T14:19:02.377","Accessories","Mid-west","Large Corporate",69,"Yes",2.8,140,"Agent Bond"]
[null,"CL14675","2012-02-20T14:24:09.815","Desktop","Mid-west","Large Corporate",61,"Yes",3.1,0,"Agent Vinod"]
[null,"CL14676","2012-02-20T14:28:10.021","Laptop","South","Individual",81,"Yes",3.3,250,"Agent Bond"]
[null,"CL14677","2012-02-20T14:32:09.510","Software","North","SME",76,"Yes",2.2000000000000002,0,"Agent Vinod"]
[null,"CL14678","2012-02-20T14:34:09.664","Accessories","West","Individual",60,"Yes",2,220,"Agent Harry"]
[null,"CL14679","2012-02-20T14:38:44.653","Software","North","Large Corporate",71,"Yes",4.2,270,"Agent Neo"]
[null,"CL14680","2012-02-20T14:40:35.990","Desktop","North","SME",78,"Yes",3.7,170,"Agent Smith"]
[null,"CL14681","2012-02-20T14:44:16.490","Laptop","West","SME",84,"Yes",3.4,280,"Agent Smith"]
[null,"CL14682","2012-02-20T14:48:06.590","Software","West","Large Corporate",77,"Yes",2.7,240,"Agent Neo"]
[null,"CL14683","2012-02-20T14:50:31.866","Software","North","Individual",72,"Yes",3.1,170,"Agent Mary"]
[null,"CL14684","2012-02-20T14:52:51.719","Misc.","South","Non-profit",73,"Yes",3,270,"Agent Vinod"]
[null,"CL14685","2012-02-20T14:54:18.482","Misc.","East","SME",79,"Yes",2.8,0,"Agent Vinod"]
[null,"CL14686","2012-02-20T14:55:13.739","Monitor","North","SME",72,"Yes",3.5,0,"Agent Bond"]
[null,"CL14687","2012-02-20T14:59:32.200","Desktop","East","Non-profit",68,"Yes",3.1,0,"Agent Vinod"]
[null,"CL14688","2012-02-20T14:59:41.979","Accessories","South","SME",80,"Yes",2.4,200,"Agent Mary"]
[null,"CL14689","2012-02-20T15:02:08.082","Laptop","North","Large Corporate",79,"Yes",2.5,210,"Agent Vinod"]
[null,"CL14690","2012-02-20T15:07:40.710","Misc.","West","Large Corporate",67,"Yes",2,200,"Agent Bond"]
[null,"CL14691","2012-02-20T15:07:44.952","Desktop","East","SME",80,"Yes",2.6,220,"Agent Bond"]
[null,"CL14692","2012-02-20T15:10:03.549","Desktop","West","SME",70,"Yes",3.8,180,"Agent Smith"]
[null,"CL14693","2012-02-20T15:13:04.275","Software","East","SME",64,"Yes",3.2,0,"Agent Mary"]
[null,"CL14694","2012-02-20T15:14:35.613","Desktop","Mid-west","SME",79,"Yes",2.9,0,"Agent Vinod"]
[null,"CL14695","2012-02-20T15:19:32.038","Laptop","East","Non-profit",69,"Yes",2.8,140,"Agent Mary"]
[null,"CL14696","2012-02-20T15:22:11.356","Software","South","Large Corporate",75,"Yes",2.8,200,"Agent Smith"]
[null,"CL14697","2012-02-20T15:27:27.513","Desktop","Mid-west","Individual",57,"Yes",2.5,190,"Agent Bond"]
[null,"CL14698","2012-02-20T15:31:23.047","Desktop","East","SME",77,"Yes",2.9,270,"Agent Harry"]
[null,"CL14699","2012-02-20T15:36:36.561","Misc.","North","Non-profit",78,"Yes",4.3,0,"Agent Mary"]
[null,"CL14700","2012-02-20T15:37:31.959","Desktop","Mid-west","SME",80,"Yes",2.6,120,"Agent Vinod"]
[null,"CL14701","2012-02-20T15:39:15.003","Accessories","West","Large Corporate",67,"Yes",3.2,0,"Agent Vinod"]
[null,"CL14702","2012-02-20T15:43:13.506","Software","East","Non-profit",75,"Yes",3.4,0,"Agent Mary"]
[null,"CL14703","2012-02-20T15:48:12.840","Monitor","South","Non-profit",65,"Yes",3.5,160,"Agent Mary"]
[null,"CL14704","2012-02-20T15:48:40.539","Software","West","Individual",81,"Yes",3.7,220,"Agent Bond"]
[null,"CL14705","2012-02-20T15:49:41.558","Laptop","Mid-west","Individual",68,"Yes",3,150,"Agent Mary"]
[null,"CL14706","2012-02-20T15:50:52.407","Desktop","East","Large Corporate",75,"Yes",3.5,0,"Agent Neo"]
[null,"CL14707","2012-02-20T15:50:58.934","Laptop","Mid-west","SME",75,"Yes",3,170,"Agent Neo"]
[null,"CL14708","2012-02-20T15:55:34.855","Software","West","Individual",73,"Yes",2.2000000000000002,0,"Agent Smith"]
[null,"CL14709","2012-02-20T16:00:33.039","Misc.","East","Individual",78,"Yes",3.4,0,"Agent Vinod"]
[null,"CL14710","2012-02-20T16:01:43.264","Misc.","Mid-west","Large Corporate",81,"Yes",3.2,220,"Agent Neo"]
[null,"CL14711","2012-02-20T16:03:05.475","Accessories","South","Non-profit",71,"Yes",3.8,170,"Agent Bond"]
[null,"CL14712","2012-02-20T16:08:21.184","Desktop","Mid-west","Individual",74,"Yes",3.2,0,"Agent Harry"]
[null,"CL14713","2012-02-20T16:09:10.390","Accessories","West","SME",83,"Yes",2.4,0,"Agent Smith"]
[null,"CL14714","2012-02-20T16:09:59.450","Laptop","North","Individual",64,"Yes",3.8,0,"Agent Harry"]
[null,"CL14715","2012-02-20T16:12:04.380","Laptop","Mid-west","Non-profit",77,"Yes",2.5,160,"Agent Bond"]
[null,"CL14716","2012-02-20T16:15:41.782","Software","Mid-west","Individual",82,"Yes",3.1,170,"Agent Neo"]
[null,"CL14717","2012-02-20T16:20:37.219","Software","North","Individual",64,"Yes",3,230,"Agent Vinod"]
[null,"CL14718","2012-02-20T16:22:02.121","Laptop","Mid-west","Non-profit",71,"Yes",2.2000000000000002,0,"Agent Mary"]
[null,"CL14719","2012-02-20T16:26:33.098","Accessories","Mid-west","Large Corporate",87,"Yes",2.6,0,"Agent Mary"]
[null,"CL14720","2012-02-20T16:27:17.807","Laptop","East","Individual",91,"Yes",3,200,"Agent Smith"]
[null,"CL14721","2012-02-20T16:27:19.366","Accessories","Mid-west","Non-profit",80,"Yes",2.4,0,"Agent Mary"]
[null,"CL14722","2012-02-20T16:32:45.236","Monitor","East","Individual",83,"Yes",3.4,190,"Agent Bond"]
[null,"CL14723","2012-02-20T16:36:38.799","Misc.","North","Non-profit",67,"Yes",2.7,0,"Agent Bond"]
[null,"CL14724","2012-02-20T16:40:35.875","Software","North","Large Corporate",74,"Yes",2.9,270,"Agent Mary"]
[null,"CL14725","2012-02-20T16:40:56.115","Laptop","Mid-west","Non-profit",81,"Yes",2.2000000000000002,0,"Agent Smith"]
[null,"CL14726","2012-02-20T16:42:41.256","Desktop","South","Non-profit",67,"No",3.2,0,"Agent Mary"]
[null,"CL14727","2012-02-20T16:44:05.954","Software","South","Individual",65,"Yes",2.6,260,"Agent Harry"]
[null,"CL14728","2012-02-20T16:44:17.378","Desktop","North","Large Corporate",81,"Yes",2.8,0,"Agent Harry"]
[null,"CL14729","2012-02-20T16:48:40.967","Software","North","SME",73,"Yes",3.1,60,"Agent Harry"]
[null,"CL14730","2012-02-20T16:49:58.819","Monitor","Mid-west","Non-profit",73,"Yes",3.3,240,"Agent Bond"]
[null,"CL14731","2012-02-20T16:51:29.932","Software","East","Individual",79,"Yes",2.8,250,"Agent Harry"]
[null,"CL14732","2012-02-20T16:56:07.201","Desktop","Mid-west","Individual",91,"Yes",2.5,190,"Agent Harry"]
[null,"CL14733","2012-02-20T16:59:34.940","Monitor","South","Large Corporate",68,"Yes",2.5,0,"Agent Smith"]
[null,"CL14734","2012-02-20T17:04:52.780","Desktop","East","Individual",69,"Yes",3.4,230,"Agent Neo"]
[null,"CL14735","2012-02-20T17:05:36.673","Desktop","Mid-west","SME",66,"Yes",2.2999999999999998,310,"Agent Neo"]
[null,"CL14736","2012-02-20T17:06:27.600","Accessories","North","SME",66,"Yes",3.6,220,"Agent Vinod"]
[null,"CL14737","2012-02-20T17:07:32.141","Laptop","East","Large Corporate",71,"Yes",3.2,0,"Agent Mary"]
[null,"CL14738","2012-02-20T17:12:28.471","Software","North","Large Corporate",70,"Yes",2.4,0,"Agent Vinod"]
[null,"CL14739","2012-02-20T17:17:09.036","Monitor","East","SME",71,"Yes",3.4,200,"Agent Neo"]
[null,"CL14740","2012-02-20T17:17:31.225","Accessories","Mid-west","SME",75,"Yes",2,0,"Agent Smith"]
[null,"CL14741","2012-02-20T17:20:01.150","Software","Mid-west","SME",92,"Yes",3.7,250,"Agent Vinod"]
[null,"CL14742","2012-02-20T17:22:29.631","Desktop","West","Non-profit",86,"Yes",2.5,0,"Agent Harry"]
[null,"CL14743","2012-02-20T17:27:21.720","Software","Mid-west","Non-profit",84,"Yes",1.9,220,"Agent Neo"]
[null,"CL14744","2012-02-20T17:27:31.649","Monitor","North","Large Corporate",71,"Yes",2.5,210,"Agent Harry"]
[null,"CL14745","2012-02-20T17:31:40.786","Software","East","SME",84,"No",2.2000000000000002,0,"Agent Mary"]
[null,"CL14746","2012-02-20T17:37:09.231","Desktop","Mid-west","Large Corporate",78,"Yes",3.3,200,"Agent Harry"]
[null,"CL14747","2012-02-20T17:42:48.807","Misc.","South","SME",80,"Yes",4.0999999999999996,0,"Agent Harry"]
[null,"CL14748","2012-02-20T17:43:41.865","Desktop","Mid-west","Non-profit",75,"Yes",2.4,160,"Agent Bond"]
[null,"CL14749","2012-02-20T17:45:22.877","Software","East","Large Corporate",69,"Yes",2.7,0,"Agent Bond"]
[null,"CL14750","2012-02-20T17:50:12.300","Accessories","East","Non-profit",78,"Yes",2.6,0,"Agent Vinod"]
[null,"CL14751","2012-02-20T17:54:14.609","Laptop","North","Individual",75,"Yes",3,160,"Agent Harry"]
[null,"CL14752","2012-02-20T17:55:27.888","Misc.","North","Large Corporate",82,"Yes",2.5,190,"Agent Vinod"]
[null,"CL14753","2012-02-20T17:57:18.847","Accessories","West","Non-profit",67,"Yes",2.8,150,"Agent Smith"]
[null,"CL14754","2012-02-20T17:58:50.568","Desktop","West","Non-profit",75,"Yes",3,0,"Agent Mary"]
[null,"CL14755","2012-02-20T18:01:08.867","Accessories","East","Non-profit",83,"Yes",3.3,210,"Agent Vinod"]
[null,"CL14756","2012-02-20T18:06:43.744","Accessories","East","Non-profit",83,"Yes",3,0,"Agent Mary"]
[null,"CL14757","2012-02-20T18:11:35.820","Desktop","West","SME",82,"Yes",2.9,160,"Agent Vinod"]
[null,"CL14758","2012-02-20T18:12:29.691","Laptop","West","Large Corporate",91,"Yes",3.9,0,"Agent Mary"]
[null,"CL14759","2012-02-20T18:15:57.796","Misc.","North","SME",66,"Yes",3.1,0,"Agent Mary"]
[null,"CL14760","2012-02-20T18:20:43.098","Accessories","South","Individual",74,"No",3,230,"Agent Mary"]
[null,"CL14761","2012-02-20T18:24:35.303","Misc.","East","Non-profit",77,"Yes",3,200,"Agent Bond"]
[null,"CL14762","2012-02-20T18:28:41.129","Desktop","South","SME",69,"Yes",3.6,140,"Agent Harry"]
[null,"CL14763","2012-02-20T18:33:37.465","Misc.","West","Individual",91,"Yes",2.9,0,"Agent Harry"]
[null,"CL14764","2012-02-20T18:34:39.131","Laptop","Mid-west","Large Corporate",76,"Yes",3.6,310,"Agent Vinod"]
[null,"CL14765","2012-02-20T18:37:03.524","Accessories","South","Large Corporate",71,"Yes",3,160,"Agent Bond"]
[null,"CL14766","2012-02-20T18:41:19.104","Accessories","East","Large Corporate",71,"Yes",3.3,0,"Agent Harry"]
[null,"CL14767","2012-02-20T18:45:52.577","Accessories","South","Individual",70,"Yes",2.6,250,"Agent Smith"]
[null,"CL14768","2012-02-20T18:49:55.161","Misc.","Mid-west","SME",81,"Yes",3.7,250,"Agent Harry"]
[null,"CL14769","2012-02-20T18:51:49.521","Monitor","South","Non-profit",71,"Yes",3.3,130,"Agent Smith"]
[null,"CL14770","2012-02-20T18:55:11.559","Desktop","West","SME",77,"Yes",2.8,50,"Agent Mary"]
[null,"CL14771","2012-02-20T19:00:11.593","Desktop","East","SME",63,"Yes",2.7,200,"Agent Smith"]
[null,"CL14772","2012-02-20T19:04:27.451","Monitor","West","Non-profit",69,"Yes",3.4,0,"Agent Smith"]
[null,"CL14773","2012-02-20T19:05:34.797","Accessories","East","Large Corporate",80,"Yes",2.9,0,"Agent Vinod"]
[null,"CL14774","2012-02-20T19:06:16.747","Desktop","West","SME",63,"Yes",2.4,200,"Agent Vinod"]
[null,"CL14775","2012-02-20T19:08:24.881","Laptop","West","Individual",73,"Yes",3.2,0,"Agent Neo"]
[null,"CL14776","2012-02-20T19:09:19.339","Monitor","Mid-west","Individual",80,"Yes",3.2,280,"Agent Vinod"]
[null,"CL14777","2012-02-20T19:11:45.063","Misc.","South","SME",81,"Yes",2.1,240,"Agent Smith"]
[null,"CL14778","2012-02-20T19:14:27.042","Accessories","Mid-west","Individual",69,"Yes",3.2,0,"Agent Harry"]
[null,"CL14779","2012-02-20T19:15:27.622","Desktop","East","Large Corporate",72,"Yes",3.3,0,"Agent Neo"]
[null,"CL14780","2012-02-20T19:20:29.858","Software","North","Individual",82,"Yes",3.2,230,"Agent Smith"]
[null,"CL14781","2012-02-20T19:20:39.169","Laptop","South","Individual",85,"Yes",2.8,0,"Agent Vinod"]
[null,"CL14782","2012-02-20T19:22:43.648","Monitor","North","Individual",88,"Yes",3.3,290,"Agent Smith"]
[null,"CL14783","2012-02-20T19:25:00.812","Software","North","SME",74,"Yes",3.8,250,"Agent Harry"]
[null,"CL14784","2012-02-20T19:28:35.130","Monitor","East","Large Corporate",71,"Yes",2.9,200,"Agent Neo"]
[null,"CL14785","2012-02-20T19:33:21.545","Laptop","South","Individual",68,"Yes",2.6,210,"Agent Bond"]
[null,"CL14786","2012-02-20T19:36:21.022","Monitor","North","Individual",74,"Yes",1.9,270,"Agent Vinod"]
[null,"CL14787","2012-02-20T19:39:40.634","Desktop","East","SME",70,"Yes",3.3,110,"Agent Smith"]
[null,"CL14788","2012-02-20T19:40:45.646","Accessories","West","Individual",65,"Yes",3.6,140,"Agent Harry"]
[null,"CL14789","2012-02-20T19:46:10.049","Accessories","North","SME",87,"Yes",4.5999999999999996,180,"Agent Smith"]
[null,"CL14790","2012-02-20T19:49:32.425","Desktop","East","Individual",61,"Yes",2.2999999999999998,0,"Agent Mary"]
[null,"CL14791","2012-02-20T19:50:48.772","Monitor","Mid-west","Non-profit",88,"Yes",3.7,160,"Agent Bond"]
[null,"CL14792","2012-02-20T19:52:04.309","Misc.","Mid-west","Large Corporate",68,"Yes",2.8,160,"Agent Harry"]
[null,"CL14793","2012-02-20T19:54:35.474","Monitor","East","Individual",90,"Yes",3.2,0,"Agent Mary"]
[null,"CL14794","2012-02-20T19:57:52.558","Accessories","North","SME",91,"Yes",2.8,190,"Agent Bond"]
[null,"CL14795","2012-02-20T19:58:47.634","Software","North","Individual",59,"Yes",2.2999999999999998,310,"Agent Mary"]
[null,"CL14796","2012-02-20T20:01:43.104","Laptop","Mid-west","Large Corporate",79,"Yes",2.9,180,"Agent Harry"]
[null,"CL14797","2012-02-20T20:02:55.301","Accessories","East","Large Corporate",88,"Yes",2.9,0,"Agent Harry"]
[null,"CL14798","2012-02-20T20:07:22.464","Software","South","SME",70,"Yes",3.4,220,"Agent Harry"]
[null,"CL14799","2012-02-20T20:09:37.100","Accessories","Mid-west","Individual",73,"Yes",2.8,0,"Agent Mary"]
[null,"CL14800","2012-02-20T20:12:04.842","Misc.","Mid-west","Individual",76,"Yes",3,180,"Agent Neo"]
[null,"CL14801","2012-02-20T20:13:12.262","Software","East","Individual",64,"Yes",3.3,160,"Agent Neo"]
[null,"CL14802","2012-02-20T20:14:50.690","Misc.","Mid-west","Non-profit",66,"Yes",3.6,0,"Agent Smith"]
[null,"CL14803","2012-02-20T20:17:50.255","Software","East","SME",73,"Yes",3.1,190,"Agent Harry"]
[null,"CL14804","2012-02-20T20:22:39.765","Software","North","Individual",72,"Yes",4.0999999999999996,0,"Agent Mary"]
[null,"CL14805","2012-02-20T20:28:03.450","Laptop","West","Large Corporate",76,"Yes",2.8,220,"Agent Mary"]
[null,"CL14806","2012-02-20T20:31:58.861","Software","West","SME",69,"Yes",2.5,270,"Agent Smith"]
[null,"CL14807","2012-02-20T20:33:38.862","Accessories","North","SME",84,"Yes",2.6,200,"Agent Smith"]
[null,"CL14808","2012-02-20T20:35:12.549","Monitor","West","Individual",73,"Yes",4.0999999999999996,250,"Agent Neo"]
[null,"CL14809","2012-02-20T20:40:10.714","Desktop","East","Non-profit",63,"Yes",4.4000000000000004,0,"Agent Harry"]
[null,"CL14810","2012-02-20T20:41:00.700","Desktop","East","Large Corporate",69,"Yes",2.6,110,"Agent Neo"]
[null,"CL14811","2012-02-20T20:42:45.680","Software","South","Individual",69,"Yes",3.7,250,"Agent Vinod"]
[null,"CL14812","2012-02-20T20:47:54.262","Monitor","South","Individual",81,"Yes",3,130,"Agent Harry"]
[null,"CL14813","2012-02-20T20:49:49.794","Desktop","Mid-west","Large Corporate",70,"Yes",1.8,300,"Agent Harry"]
[null,"CL14814","2012-02-20T20:55:32.594","Accessories","South","Non-profit",99,"Yes",2.6,0,"Agent Smith"]
[null,"CL14815","2012-02-20T21:00:23.052","Desktop","Mid-west","Large Corporate",81,"Yes",2.4,0,"Agent Harry"]
[null,"CL14816","2012-02-20T21:01:57.788","Software","West","Individual",74,"Yes",3.6,0,"Agent Neo"]
[null,"CL14817","2012-02-20T21:05:38.693","Laptop","Mid-west","SME",74,"Yes",4.0999999999999996,0,"Agent Mary"]
[null,"CL14818","2012-02-20T21:10:39.636","Laptop","West","Non-profit",83,"Yes",2.2999999999999998,180,"Agent Harry"]
[null,"CL14819","2012-02-20T21:13:30.499","Misc.","South","Individual",66,"Yes",2.2999999999999998,0,"Agent Vinod"]
[null,"CL14820","2012-02-20T21:15:05.414","Desktop","West","Individual",58,"Yes",2.7,140,"Agent Neo"]
[null,"CL14821","2012-02-20T21:19:28.352","Monitor","Mid-west","Large Corporate",86,"Yes",4.3,0,"Agent Mary"]
[null,"CL14822","2012-02-20T21:24:45.189","Misc.","South","Large Corporate",79,"Yes",3.7,0,"Agent Vinod"]
[null,"CL14823","2012-02-20T21:26:57.981","Accessories","East","Non-profit",79,"Yes",3.3,0,"Agent Smith"]
[null,"CL14824","2012-02-20T21:30:54.072","Laptop","Mid-west","Large Corporate",80,"Yes",3,200,"Agent Mary"]
[null,"CL14825","2012-02-20T21:36:35.194","Desktop","West","Individual",78,"Yes",3.8,0,"Agent Smith"]
[null,"CL14826","2012-02-20T21:41:07.910","Desktop","East","Individual",74,"Yes",3.2,0,"Agent Bond"]
[null,"CL14827","2012-02-20T21:44:15.065","Software","East","Non-profit",88,"Yes",3.9,0,"Agent Vinod"]
[null,"CL14828","2012-02-20T21:48:42.533","Laptop","South","Non-profit",72,"Yes",3.1,0,"Agent Mary"]
[null,"CL14829","2012-02-20T21:49:27.289","Desktop","North","Non-profit",90,"Yes",2.6,0,"Agent Harry"]
[null,"CL14830","2012-02-20T21:51:55.906","Monitor","East","Non-profit",69,"Yes",3.5,70,"Agent Harry"]
[null,"CL14831","2012-02-20T21:56:39.815","Software","South","Large Corporate",70,"Yes",3.1,150,"Agent Vinod"]
[null,"CL14832","2012-02-20T22:00:12.301","Accessories","West","SME",73,"Yes",2.6,270,"Agent Neo"]

{"sheet":"calcs","index":2,"n_rows":1061,"n_cols":19,"rows_kept":1061,"cut":false,"hidden":false,"merged":[[101,6,101,7],[101,4,101,5],[101,2,101,3],[0,1,0,2]]}
[null,"Calculations",null,null,null,null,null,null,null,"Charts",null,"List of Ways to Compare",null,"Help message"]
[null,null,null,null,null,null,null,null,null,"Calls by day",null,{"$f":"INDEX(lstWaysToCompare,,ROWS($K$2:K2))","v":"Products"},null,{"$f":"\"S\"&LOWER(\"elect any two \"&C3&\" to compare\")","v":"Select any two regions to compare"}]
[null,"Compare by",{"$f":"INDEX(lstWaysToCompare,C4)","v":"Regions"},"Option 1",2,"Option 2",4,"Chart to show",null,"Talk time by day",null,{"$f":"INDEX(lstWaysToCompare,,ROWS($K$2:K3))","v":"Regions"},null,{"$f":"IF(valHelpStatus,\"Hide help\",\"Show help\")","v":"Show help"},0]
[null,null,2,null,{"$f":"INDEX(Data!$M$6:$P$11,calcs!$E$3,calcs!$C$4)","v":"South"},null,{"$f":"INDEX(Data!$M$6:$P$11,calcs!$G$3,calcs!$C$4)","v":"Mid-west"},1,null,"Resolution Rate by day",null,{"$f":"INDEX(lstWaysToCompare,,ROWS($K$2:K4))","v":"Customer Types"},null,"Footer Message"]
[null,null,null,null,null,null,null,null,null,"Satisfaction by day",null,{"$f":"INDEX(lstWaysToCompare,,ROWS($K$2:K5))","v":"Agents"},null,{"$f":"Data!M15&TEXT(TODAY(),\" dddd ,d mmm, yyyy\")","v":"Dashboard prepared by Chandoo.org on Monday ,25 Dec, 2017"}]
[null,"4 week period starting",null,{"$f":"Dashboard!R2","v":"2012-01-10"},{"$f":"B37","v":"2012-02-06"},null,null,null,null,"Upsell $s by day"]
[]
[null,null,"TOTAL CALLS",null,null,"TALK TIME",null,null,"RESOLUTION RATE",null,null,"SATISFACTION",null,null,"UPSELL $s"]
[null,"Date","Total Calls",{"$f":"E4","v":"South"},{"$f":"G4","v":"Mid-west"},"talk time",{"$f":"D9","v":"South"},{"$f":"E9","v":"Mid-west"},"Resolution Rate",{"$f":"G9","v":"South"},{"$f":"H9","v":"Mid-west"},"Satisfaction",{"$f":"J9","v":"South"},{"$f":"K9","v":"Mid-west"},"Up sell $",{"$f":"M9","v":"South"},{"$f":"N9","v":"Mid-west"},null,"Weekday"]
[null,{"$f":"D6","v":"2012-01-10"},{"$f":"SUMPRODUCT(--(lstCallDates=B10))","v":284},{"$f":"SUMPRODUCT((lstCallDates=$B10)*(lstChosen=D$9))","v":66},{"$f":"SUMPRODUCT((lstCallDates=$B10)*(lstChosen=E$9))","v":52},{"$f":"SUMPRODUCT((lstCallDates=B10)*(cs[Call Duration]))/60/60","v":5.9411111111111108},{"$f":"SUMPRODUCT((lstChosen=G$9)*(lstCallDates=$B10)*cs[Call Duration])/60/60","v":1.3983333333333334},{"$f":"SUMPRODUCT((lstChosen=H$9)*(lstCallDates=$B10)*cs[Call Duration])/60/60","v":1.0938888888888889},{"$f":"SUMPRODUCT((lstCallDates=$B10)*(cs[Resolved]=\"Yes\"))/$C10","v":0.95070422535211263},{"$f":"SUMPRODUCT((lstChosen=J$9)*(lstCallDates=$B10)*(cs[Resolved]=\"Yes\"))/D10","v":0.95454545454545459},{"$f":"SUMPRODUCT((lstChosen=K$9)*(lstCallDates=$B10)*(cs[Resolved]=\"Yes\"))/E10","v":0.94230769230769229},{"$f":"SUMPRODUCT((lstCallDates=$B10)*(cs[Satisfaction Ratio]))/$C10","v":3.0137323943661962},{"$f":"SUMPRODUCT((lstCallDates=$B10)*(lstChosen=M$9)*(cs[Satisfaction Ratio]))/$D10","v":3.065151515151515},{"$f":"SUMPRODUCT((lstCallDates=$B10)*(lstChosen=N$9)*(cs[Satisfaction Ratio]))/$E10","v":3.0942307692307689},{"$f":"SUMPRODUCT((lstCallDates=$B10)*(cs[Up-sell]))","v":33780},{"$f":"SUMPRODUCT((lstCallDates=$B10)*(lstChosen=P$9)*(cs[Up-sell]))","v":8280},{"$f":"SUMPRODUCT((lstCallDates=$B10)*(lstChosen=Q$9)*(cs[Up-sell]))","v":5470},null,{"$f":"WEEKDAY(B10)","v":3}]
[null,{"$f":"B10+1","v":"2012-01-11"},285,{"$f":"SUMPRODUCT((lstCallDates=$B11)*(lstChosen=D$9))","v":50},{"$f":"SUMPRODUCT((lstCallDates=$B11)*(lstChosen=E$9))","v":67},{"$f":"SUMPRODUCT((lstCallDates=B11)*(cs[Call Duration]))/60/60","v":5.8577777777777778},{"$f":"SUMPRODUCT((lstChosen=G$9)*(lstCallDates=$B11)*cs[Call Duration])/60/60","v":0.99972222222222229},{"$f":"SUMPRODUCT((lstChosen=H$9)*(lstCallDates=$B11)*cs[Call Duration])/60/60","v":1.3697222222222223},{"$f":"SUMPRODUCT((lstCallDates=$B11)*(cs[Resolved]=\"Yes\"))/$C11","v":0.93684210526315792},{"$f":"SUMPRODUCT((lstChosen=J$9)*(lstCallDates=$B11)*(cs[Resolved]=\"Yes\"))/D11","v":0.92},{"$f":"SUMPRODUCT((lstChosen=K$9)*(lstCallDates=$B11)*(cs[Resolved]=\"Yes\"))/E11","v":0.95522388059701491},{"$f":"SUMPRODUCT((lstCallDates=$B11)*(cs[Satisfaction Ratio]))/$C11","v":2.9985964912280711},{"$f":"SUMPRODUCT((lstCallDates=$B11)*(lstChosen=M$9)*(cs[Satisfaction Ratio]))/$D11","v":2.9479999999999995},{"$f":"SUMPRODUCT((lstCallDates=$B11)*(lstChosen=N$9)*(cs[Satisfaction Ratio]))/$E11","v":3.1850746268656724},{"$f":"SUMPRODUCT((lstCallDates=$B11)*(cs[Up-sell]))","v":34760},{"$f":"SUMPRODUCT((lstCallDates=$B11)*(lstChosen=P$9)*(cs[Up-sell]))","v":6780},{"$f":"SUMPRODUCT((lstCallDates=$B11)*(lstChosen=Q$9)*(cs[Up-sell]))","v":8830},null,{"$f":"WEEKDAY(B11)","v":4}]
[null,{"$f":"B11+1","v":"2012-01-12"},293,{"$f":"SUMPRODUCT((lstCallDates=$B12)*(lstChosen=D$9))","v":62},{"$f":"SUMPRODUCT((lstCallDates=$B12)*(lstChosen=E$9))","v":51},{"$f":"SUMPRODUCT((lstCallDates=B12)*(cs[Call Duration]))/60/60","v":6.1822222222222223},{"$f":"SUMPRODUCT((lstChosen=G$9)*(lstCallDates=$B12)*cs[Call Duration])/60/60","v":1.3244444444444445},{"$f":"SUMPRODUCT((lstChosen=H$9)*(lstCallDates=$B12)*cs[Call Duration])/60/60","v":1.0944444444444446},{"$f":"SUMPRODUCT((lstCallDates=$B12)*(cs[Resolved]=\"Yes\"))/$C12","v":0.94539249146757676},{"$f":"SUMPRODUCT((lstChosen=J$9)*(lstCallDates=$B12)*(cs[Resolved]=\"Yes\"))/D12","v":0.95161290322580649},{"$f":"SUMPRODUCT((lstChosen=K$9)*(lstCallDates=$B12)*(cs[Resolved]=\"Yes\"))/E12","v":1},{"$f":"SUMPRODUCT((lstCallDates=$B12)*(cs[Satisfaction Ratio]))/$C12","v":2.9894197952218438},{"$f":"SUMPRODUCT((lstCallDates=$B12)*(lstChosen=M$9)*(cs[Satisfaction Ratio]))/$D12","v":2.9370967741935488},{"$f":"SUMPRODUCT((lstCallDates=$B12)*(lstChosen=N$9)*(cs[Satisfaction Ratio]))/$E12","v":3.0588235294117641},{"$f":"SUMPRODUCT((lstCallDates=$B12)*(cs[Up-sell]))","v":34560},{"$f":"SUMPRODUCT((lstCallDates=$B12)*(lstChosen=P$9)*(cs[Up-sell]))","v":8250},{"$f":"SUMPRODUCT((lstCallDates=$B12)*(lstChosen=Q$9)*(cs[Up-sell]))","v":6820},null,5]
[null,"2012-01-13",296,{"$f":"SUMPRODUCT((lstCallDates=$B13)*(lstChosen=D$9))","v":49},{"$f":"SUMPRODUCT((lstCallDates=$B13)*(lstChosen=E$9))","v":56},{"$f":"SUMPRODUCT((lstCallDates=B13)*(cs[Call Duration]))/60/60","v":6.1169444444444441},{"$f":"SUMPRODUCT((lstChosen=G$9)*(lstCallDates=$B13)*cs[Call Duration])/60/60","v":1.01},{"$f":"SUMPRODUCT((lstChosen=H$9)*(lstCallDates=$B13)*cs[Call Duration])/60/60","v":1.1541666666666666},{"$f":"SUMPRODUCT((lstCallDates=$B13)*(cs[Resolved]=\"Yes\"))/$C13","v":0.96621621621621623},{"$f":"SUMPRODUCT((lstChosen=J$9)*(lstCallDates=$B13)*(cs[Resolved]=\"Yes\"))/D13","v":1},{"$f":"SUMPRODUCT((lstChosen=K$9)*(lstCallDates=$B13)*(cs[Resolved]=\"Yes\"))/E13","v":0.9464285714285714},{"$f":"SUMPRODUCT((lstCallDates=$B13)*(cs[Satisfaction Ratio]))/$C13","v":2.9645270270270268},{"$f":"SUMPRODUCT((lstCallDates=$B13)*(lstChosen=M$9)*(cs[Satisfaction Ratio]))/$D13","v":2.8693877551020406},{"$f":"SUMPRODUCT((lstCallDates=$B13)*(lstChosen=N$9)*(cs[Satisfaction Ratio]))/$E13","v":2.95},{"$f":"SUMPRODUCT((lstCallDates=$B13)*(cs[Up-sell]))","v":36230},{"$f":"SUMPRODUCT((lstCallDates=$B13)*(lstChosen=P$9)*(cs[Up-sell]))","v":6220},{"$f":"SUMPRODUCT((lstCallDates=$B13)*(lstChosen=Q$9)*(cs[Up-sell]))","v":7160},null,6]
[null,"2012-01-14",292,{"$f":"SUMPRODUCT((lstCallDates=$B14)*(lstChosen=D$9))","v":48},{"$f":"SUMPRODUCT((lstCallDates=$B14)*(lstChosen=E$9))","v":60},{"$f":"SUMPRODUCT((lstCallDates=B14)*(cs[Call Duration]))/60/60","v":6.1330555555555559},{"$f":"SUMPRODUCT((lstChosen=G$9)*(lstCallDates=$B14)*cs[Call Duration])/60/60","v":1.0249999999999999},{"$f":"SUMPRODUCT((lstChosen=H$9)*(lstCallDates=$B14)*cs[Call Duration])/60/60","v":1.2361111111111112},{"$f":"SUMPRODUCT((lstCallDates=$B14)*(cs[Resolved]=\"Yes\"))/$C14","v":0.9452054794520548},{"$f":"SUMPRODUCT((lstChosen=J$9)*(lstCallDates=$B14)*(cs[Resolved]=\"Yes\"))/D14","v":0.97916666666666663},{"$f":"SUMPRODUCT((lstChosen=K$9)*(lstCallDates=$B14)*(cs[Resolved]=\"Yes\"))/E14","v":0.93333333333333335},{"$f":"SUMPRODUCT((lstCallDates=$B14)*(cs[Satisfaction Ratio]))/$C14","v":3.0205479452054793},{"$f":"SUMPRODUCT((lstCallDates=$B14)*(lstChosen=M$9)*(cs[Satisfaction Ratio]))/$D14","v":2.9250000000000003},{"$f":"SUMPRODUCT((lstCallDates=$B14)*(lstChosen=N$9)*(cs[Satisfaction Ratio]))/$E14","v":3.123333333333334},{"$f":"SUMPRODUCT((lstCallDates=$B14)*(cs[Up-sell]))","v":36730},{"$f":"SUMPRODUCT((lstCallDates=$B14)*(lstChosen=P$9)*(cs[Up-sell]))","v":6800},{"$f":"SUMPRODUCT((lstCallDates=$B14)*(lstChosen=Q$9)*(cs[Up-sell]))","v":7290},null,7]
[null,"2012-01-15",301,{"$f":"SUMPRODUCT((lstCallDates=$B15)*(lstChosen=D$9))","v":53},{"$f":"SUMPRODUCT((lstCallDates=$B15)*(lstChosen=E$9))","v":53},{"$f":"SUMPRODUCT((lstCallDates=B15)*(cs[Call Duration]))/60/60","v":6.286944444444444},{"$f":"SUMPRODUCT((lstChosen=G$9)*(lstCallDates=$B15)*cs[Call Duration])/60/60","v":1.1025},{"$f":"SUMPRODUCT((lstChosen=H$9)*(lstCallDates=$B15)*cs[Call Duration])/60/60","v":1.1022222222222224},{"$f":"SUMPRODUCT((lstCallDates=$B15)*(cs[Resolved]=\"Yes\"))/$C15","v":0.94019933554817281},{"$f":"SUMPRODUCT((lstChosen=J$9)*(lstCallDates=$B15)*(cs[Resolved]=\"Yes\"))/D15","v":0.98113207547169812},{"$f":"SUMPRODUCT((lstChosen=K$9)*(lstCallDates=$B15)*(cs[Resolved]=\"Yes\"))/E15","v":0.92452830188679247},{"$f":"SUMPRODUCT((lstCallDates=$B15)*(cs[Satisfaction Ratio]))/$C15","v":3.0043189368770777},{"$f":"SUMPRODUCT((lstCallDates=$B15)*(lstChosen=M$9)*(cs[Satisfaction Ratio]))/$D15","v":3.1320754716981134},{"$f":"SUMPRODUCT((lstCallDates=$B15)*(lstChosen=N$9)*(cs[Satisfaction Ratio]))/$E15","v":2.9226415094339617},{"$f":"SUMPRODUCT((lstCallDates=$B15)*(cs[Up-sell]))","v":36620},{"$f":"SUMPRODUCT((lstCallDates=$B15)*(lstChosen=P$9)*(cs[Up-sell]))","v":5780},{"$f":"SUMPRODUCT((lstCallDates=$B15)*(lstChosen=Q$9)*(cs[Up-sell]))","v":6540},null,1]
[null,"2012-01-16",313,{"$f":"SUMPRODUCT((lstCallDates=$B16)*(lstChosen=D$9))","v":63},{"$f":"SUMPRODUCT((lstCallDates=$B16)*(lstChosen=E$9))","v":64},{"$f":"SUMPRODUCT((lstCallDates=B16)*(cs[Call Duration]))/60/60","v":6.6266666666666669},{"$f":"SUMPRODUCT((lstChosen=G$9)*(lstCallDates=$B16)*cs[Call Duration])/60/60","v":1.3299999999999998},{"$f":"SUMPRODUCT((lstChosen=H$9)*(lstCallDates=$B16)*cs[Call Duration])/60/60","v":1.3508333333333333},{"$f":"SUMPRODUCT((lstCallDates=$B16)*(cs[Resolved]=\"Yes\"))/$C16","v":0.95527156549520764},{"$f":"SUMPRODUCT((lstChosen=J$9)*(lstCallDates=$B16)*(cs[Resolved]=\"Yes\"))/D16","v":0.88888888888888884},{"$f":"SUMPRODUCT((lstChosen=K$9)*(lstCallDates=$B16)*(cs[Resolved]=\"Yes\"))/E16","v":0.984375},{"$f":"SUMPRODUCT((lstCallDates=$B16)*(cs[Satisfaction Ratio]))/$C16","v":2.9619808306709268},{"$f":"SUMPRODUCT((lstCallDates=$B16)*(lstChosen=M$9)*(cs[Satisfaction Ratio]))/$D16","v":2.9698412698412704},{"$f":"SUMPRODUCT((lstCallDates=$B16)*(lstChosen=N$9)*(cs[Satisfaction Ratio]))/$E16","v":2.9828125000000001},{"$f":"SUMPRODUCT((lstCallDates=$B16)*(cs[Up-sell]))","v":38740},{"$f":"SUMPRODUCT((lstCallDates=$B16)*(lstChosen=P$9)*(cs[Up-sell]))","v":6930},{"$f":"SUMPRODUCT((lstCallDates=$B16)*(lstChosen=Q$9)*(cs[Up-sell]))","v":7150},null,2]
[null,"2012-01-17",304,{"$f":"SUMPRODUCT((lstCallDates=$B17)*(lstChosen=D$9))","v":45},{"$f":"SUMPRODUCT((lstCallDates=$B17)*(lstChosen=E$9))","v":56},{"$f":"SUMPRODUCT((lstCallDates=B17)*(cs[Call Duration]))/60/60","v":6.3936111111111114},{"$f":"SUMPRODUCT((lstChosen=G$9)*(lstCallDates=$B17)*cs[Call Duration])/60/60","v":0.9622222222222222},{"$f":"SUMPRODUCT((lstChosen=H$9)*(lstCallDates=$B17)*cs[Call Duration])/60/60","v":1.1741666666666668},{"$f":"SUMPRODUCT((lstCallDates=$B17)*(cs[Resolved]=\"Yes\"))/$C17","v":0.96381578947368418},{"$f":"SUMPRODUCT((lstChosen=J$9)*(lstCallDates=$B17)*(cs[Resolved]=\"Yes\"))/D17","v":0.97777777777777775},{"$f":"SUMPRODUCT((lstChosen=K$9)*(lstCallDates=$B17)*(cs[Resolved]=\"Yes\"))/E17","v":0.9642857142857143},{"$f":"SUMPRODUCT((lstCallDates=$B17)*(cs[Satisfaction Ratio]))/$C17","v":2.9884868421052628},{"$f":"SUMPRODUCT((lstCallDates=$B17)*(lstChosen=M$9)*(cs[Satisfaction Ratio]))/$D17","v":2.9511111111111115},{"$f":"SUMPRODUCT((lstCallDates=$B17)*(lstChosen=N$9)*(cs[Satisfaction Ratio]))/$E17","v":2.9178571428571436},{"$f":"SUMPRODUCT((lstCallDates=$B17)*(cs[Up-sell]))","v":36560},{"$f":"SUMPRODUCT((lstCallDates=$B17)*(lstChosen=P$9)*(cs[Up-sell]))","v":5490},{"$f":"SUMPRODUCT((lstCallDates=$B17)*(lstChosen=Q$9)*(cs[Up-sell]))","v":6540},null,3]
[null,"2012-01-18",293,{"$f":"SUMPRODUCT((lstCallDates=$B18)*(lstChosen=D$9))","v":47},{"$f":"SUMPRODUCT((lstCallDates=$B18)*(lstChosen=E$9))","v":60},{"$f":"SUMPRODUCT((lstCallDates=B18)*(cs[Call Duration]))/60/60","v":6.1452777777777774},{"$f":"SUMPRODUCT((lstChosen=G$9)*(lstCallDates=$B18)*cs[Call Duration])/60/60","v":0.9916666666666667},{"$f":"SUMPRODUCT((lstChosen=H$9)*(lstCallDates=$B18)*cs[Call Duration])/60/60","v":1.2575000000000001},{"$f":"SUMPRODUCT((lstCallDates=$B18)*(cs[Resolved]=\"Yes\"))/$C18","v":0.93174061433447097},{"$f":"SUMPRODUCT((lstChosen=J$9)*(lstCallDates=$B18)*(cs[Resolved]=\"Yes\"))/D18","v":0.87234042553191493},{"$f":"SUMPRODUCT((lstChosen=K$9)*(lstCallDates=$B18)*(cs[Resolved]=\"Yes\"))/E18","v":0.98333333333333328},{"$f":"SUMPRODUCT((lstCallDates=$B18)*(cs[Satisfaction Ratio]))/$C18","v":2.9453924914675782},{"$f":"SUMPRODUCT((lstCallDates=$B18)*(lstChosen=M$9)*(cs[Satisfaction Ratio]))/$D18","v":2.8425531914893623},{"$f":"SUMPRODUCT((lstCallDates=$B18)*(lstChosen=N$9)*(cs[Satisfaction Ratio]))/$E18","v":3.1516666666666664},{"$f":"SUMPRODUCT((lstCallDates=$B18)*(cs[Up-sell]))","v":33440},{"$f":"SUMPRODUCT((lstCallDates=$B18)*(lstChosen=P$9)*(cs[Up-sell]))","v":4700},{"$f":"SUMPRODUCT((lstCallDates=$B18)*(lstChosen=Q$9)*(cs[Up-sell]))","v":7180},null,4]
[null,"2012-01-19",272,{"$f":"SUMPRODUCT((lstCallDates=$B19)*(lstChosen=D$9))","v":62},{"$f":"SUMPRODUCT((lstCallDates=$B19)*(lstChosen=E$9))","v":54},{"$f":"SUMPRODUCT((lstCallDates=B19)*(cs[Call Duration]))/60/60","v":5.6875},{"$f":"SUMPRODUCT((lstChosen=G$9)*(lstCallDates=$B19)*cs[Call Duration])/60/60","v":1.3047222222222221},{"$f":"SUMPRODUCT((lstChosen=H$9)*(lstCallDates=$B19)*cs[Call Duration])/60/60","v":1.1227777777777777},{"$f":"SUMPRODUCT((lstCallDates=$B19)*(cs[Resolved]=\"Yes\"))/$C19","v":0.92279411764705888},{"$f":"SUMPRODUCT((lstChosen=J$9)*(lstCallDates=$B19)*(cs[Resolved]=\"Yes\"))/D19","v":0.90322580645161288},{"$f":"SUMPRODUCT((lstChosen=K$9)*(lstCallDates=$B19)*(cs[Resolved]=\"Yes\"))/E19","v":0.94444444444444442},{"$f":"SUMPRODUCT((lstCallDates=$B19)*(cs[Satisfaction Ratio]))/$C19","v":3.0047794117647051},{"$f":"SUMPRODUCT((lstCallDates=$B19)*(lstChosen=M$9)*(cs[Satisfaction Ratio]))/$D19","v":2.9919354838709689},{"$f":"SUMPRODUCT((lstCallDates=$B19)*(lstChosen=N$9)*(cs[Satisfaction Ratio]))/$E19","v":2.9462962962962957},{"$f":"SUMPRODUCT((lstCallDates=$B19)*(cs[Up-sell]))","v":31070},{"$f":"SUMPRODUCT((lstCallDates=$B19)*(lstChosen=P$9)*(cs[Up-sell]))","v":8470},{"$f":"SUMPRODUCT((lstCallDates=$B19)*(lstChosen=Q$9)*(cs[Up-sell]))","v":6120},null,5]
[null,"2012-01-20",283,{"$f":"SUMPRODUCT((lstCallDates=$B20)*(lstChosen=D$9))","v":50},{"$f":"SUMPRODUCT((lstCallDates=$B20)*(lstChosen=E$9))","v":60},{"$f":"SUMPRODUCT((lstCallDates=B20)*(cs[Call Duration]))/60/60","v":5.875},{"$f":"SUMPRODUCT((lstChosen=G$9)*(lstCallDates=$B20)*cs[Call Duration])/60/60","v":1.0136111111111112},{"$f":"SUMPRODUCT((lstChosen=H$9)*(lstCallDates=$B20)*cs[Call Duration])/60/60","v":1.2466666666666666},{"$f":"SUMPRODUCT((lstCallDates=$B20)*(cs[Resolved]=\"Yes\"))/$C20","v":0.97526501766784457},{"$f":"SUMPRODUCT((lstChosen=J$9)*(lstCallDates=$B20)*(cs[Resolved]=\"Yes\"))/D20","v":0.98},{"$f":"SUMPRODUCT((lstChosen=K$9)*(lstCallDates=$B20)*(cs[Resolved]=\"Yes\"))/E20","v":0.96666666666666667},{"$f":"SUMPRODUCT((lstCallDates=$B20)*(cs[Satisfaction Ratio]))/$C20","v":3.0176678445229683},{"$f":"SUMPRODUCT((lstCallDates=$B20)*(lstChosen=M$9)*(cs[Satisfaction Ratio]))/$D20","v":3.1759999999999993},{"$f":"SUMPRODUCT((lstCallDates=$B20)*(lstChosen=N$9)*(cs[Satisfaction Ratio]))/$E20","v":3.0283333333333329},{"$f":"SUMPRODUCT((lstCallDates=$B20)*(cs[Up-sell]))","v":37420},{"$f":"SUMPRODUCT((lstCallDates=$B20)*(lstChosen=P$9)*(cs[Up-sell]))","v":5480},{"$f":"SUMPRODUCT((lstCallDates=$B20)*(lstChosen=Q$9)*(cs[Up-sell]))","v":7660},null,6]
[null,"2012-01-21",279,{"$f":"SUMPRODUCT((lstCallDates=$B21)*(lstChosen=D$9))","v":56},{"$f":"SUMPRODUCT((lstCallDates=$B21)*(lstChosen=E$9))","v":54},{"$f":"SUMPRODUCT((lstCallDates=B21)*(cs[Call Duration]))/60/60","v":5.7463888888888892},{"$f":"SUMPRODUCT((lstChosen=G$9)*(lstCallDates=$B21)*cs[Call Duration])/60/60","v":1.1375},{"$f":"SUMPRODUCT((lstChosen=H$9)*(lstCallDates=$B21)*cs[Call Duration])/60/60","v":1.1099999999999999},{"$f":"SUMPRODUCT((lstCallDates=$B21)*(cs[Resolved]=\"Yes\"))/$C21","v":0.94265232974910396},{"$f":"SUMPRODUCT((lstChosen=J$9)*(lstCallDates=$B21)*(cs[Resolved]=\"Yes\"))/D21","v":0.9464285714285714},{"$f":"SUMPRODUCT((lstChosen=K$9)*(lstCallDates=$B21)*(cs[Resolved]=\"Yes\"))/E21","v":0.90740740740740744},{"$f":"SUMPRODUCT((lstCallDates=$B21)*(cs[Satisfaction Ratio]))/$C21","v":2.9867383512544796},{"$f":"SUMPRODUCT((lstCallDates=$B21)*(lstChosen=M$9)*(cs[Satisfaction Ratio]))/$D21","v":3.0500000000000012},{"$f":"SUMPRODUCT((lstCallDates=$B21)*(lstChosen=N$9)*(cs[Satisfaction Ratio]))/$E21","v":2.9962962962962973},{"$f":"SUMPRODUCT((lstCallDates=$B21)*(cs[Up-sell]))","v":33730},{"$f":"SUMPRODUCT((lstCallDates=$B21)*(lstChosen=P$9)*(cs[Up-sell]))","v":6180},{"$f":"SUMPRODUCT((lstCallDates=$B21)*(lstChosen=Q$9)*(cs[Up-sell]))","v":5530},null,7]
[null,"2012-01-22",299,{"$f":"SUMPRODUCT((lstCallDates=$B22)*(lstChosen=D$9))","v":62},{"$f":"SUMPRODUCT((lstCallDates=$B22)*(lstChosen=E$9))","v":63},{"$f":"SUMPRODUCT((lstCallDates=B22)*(cs[Call Duration]))/60/60","v":6.2827777777777776},{"$f":"SUMPRODUCT((lstChosen=G$9)*(lstCallDates=$B22)*cs[Call Duration])/60/60","v":1.3141666666666665},{"$f":"SUMPRODUCT((lstChosen=H$9)*(lstCallDates=$B22)*cs[Call Duration])/60/60","v":1.3166666666666667},{"$f":"SUMPRODUCT((lstCallDates=$B22)*(cs[Resolved]=\"Yes\"))/$C22","v":0.96989966555183948},{"$f":"SUMPRODUCT((lstChosen=J$9)*(lstCallDates=$B22)*(cs[Resolved]=\"Yes\"))/D22","v":0.9838709677419355},{"$f":"SUMPRODUCT((lstChosen=K$9)*(lstCallDates=$B22)*(cs[Resolved]=\"Yes\"))/E22","v":0.95238095238095233},{"$f":"SUMPRODUCT((lstCallDates=$B22)*(cs[Satisfaction Ratio]))/$C22","v":3.0130434782608684},{"$f":"SUMPRODUCT((lstCallDates=$B22)*(lstChosen=M$9)*(cs[Satisfaction Ratio]))/$D22","v":2.9854838709677418},{"$f":"SUMPRODUCT((lstCallDates=$B22)*(lstChosen=N$9)*(cs[Satisfaction Ratio]))/$E22","v":3.0873015873015883},{"$f":"SUMPRODUCT((lstCallDates=$B22)*(cs[Up-sell]))","v":36050},{"$f":"SUMPRODUCT((lstCallDates=$B22)*(lstChosen=P$9)*(cs[Up-sell]))","v":8040},{"$f":"SUMPRODUCT((lstCallDates=$B22)*(lstChosen=Q$9)*(cs[Up-sell]))","v":7130},null,1]
[null,"2012-01-23",295,{"$f":"SUMPRODUCT((lstCallDates=$B23)*(lstChosen=D$9))","v":56},{"$f":"SUMPRODUCT((lstCallDates=$B23)*(lstChosen=E$9))","v":72},{"$f":"SUMPRODUCT((lstCallDates=B23)*(cs[Call Duration]))/60/60","v":6.1894444444444447},{"$f":"SUMPRODUCT((lstChosen=G$9)*(lstCallDates=$B23)*cs[Call Duration])/60/60","v":1.1716666666666666},{"$f":"SUMPRODUCT((lstChosen=H$9)*(lstCallDates=$B23)*cs[Call Duration])/60/60","v":1.5247222222222223},{"$f":"SUMPRODUCT((lstCallDates=$B23)*(cs[Resolved]=\"Yes\"))/$C23","v":0.94915254237288138},{"$f":"SUMPRODUCT((lstChosen=J$9)*(lstCallDates=$B23)*(cs[Resolved]=\"Yes\"))/D23","v":0.9821428571428571},{"$f":"SUMPRODUCT((lstChosen=K$9)*(lstCallDates=$B23)*(cs[Resolved]=\"Yes\"))/E23","v":0.95833333333333337},{"$f":"SUMPRODUCT((lstCallDates=$B23)*(cs[Satisfaction Ratio]))/$C23","v":2.9928813559322038},{"$f":"SUMPRODUCT((lstCallDates=$B23)*(lstChosen=M$9)*(cs[Satisfaction Ratio]))/$D23","v":2.9410714285714277},{"$f":"SUMPRODUCT((lstCallDates=$B23)*(lstChosen=N$9)*(cs[Satisfaction Ratio]))/$E23","v":2.9916666666666671},{"$f":"SUMPRODUCT((lstCallDates=$B23)*(cs[Up-sell]))","v":34930},{"$f":"SUMPRODUCT((lstCallDates=$B23)*(lstChosen=P$9)*(cs[Up-sell]))","v":6350},{"$f":"SUMPRODUCT((lstCallDates=$B23)*(lstChosen=Q$9)*(cs[Up-sell]))","v":8970},null,2]
[null,"2012-01-24",293,{"$f":"SUMPRODUCT((lstCallDates=$B24)*(lstChosen=D$9))","v":67},{"$f":"SUMPRODUCT((lstCallDates=$B24)*(lstChosen=E$9))","v":58},{"$f":"SUMPRODUCT((lstCallDates=B24)*(cs[Call Duration]))/60/60","v":6.0516666666666667},{"$f":"SUMPRODUCT((lstChosen=G$9)*(lstCallDates=$B24)*cs[Call Duration])/60/60","v":1.3724999999999998},{"$f":"SUMPRODUCT((lstChosen=H$9)*(lstCallDates=$B24)*cs[Call Duration])/60/60","v":1.2166666666666666},{"$f":"SUMPRODUCT((lstCallDates=$B24)*(cs[Resolved]=\"Yes\"))/$C24","v":0.93174061433447097},{"$f":"SUMPRODUCT((lstChosen=J$9)*(lstCallDates=$B24)*(cs[Resolved]=\"Yes\"))/D24","v":0.94029850746268662},{"$f":"SUMPRODUCT((lstChosen=K$9)*(lstCallDates=$B24)*(cs[Resolved]=\"Yes\"))/E24","v":0.94827586206896552},{"$f":"SUMPRODUCT((lstCallDates=$B24)*(cs[Satisfaction Ratio]))/$C24","v":2.963139931740614},{"$f":"SUMPRODUCT((lstCallDates=$B24)*(lstChosen=M$9)*(cs[Satisfaction Ratio]))/$D24","v":3.0328358208955217},{"$f":"SUMPRODUCT((lstCallDates=$B24)*(lstChosen=N$9)*(cs[Satisfaction Ratio]))/$E24","v":2.9517241379310342},{"$f":"SUMPRODUCT((lstCallDates=$B24)*(cs[Up-sell]))","v":36040},{"$f":"SUMPRODUCT((lstCallDates=$B24)*(lstChosen=P$9)*(cs[Up-sell]))","v":9040},{"$f":"SUMPRODUCT((lstCallDates=$B24)*(lstChosen=Q$9)*(cs[Up-sell]))","v":6220},null,3]
[null,"2012-01-25",289,{"$f":"SUMPRODUCT((lstCallDates=$B25)*(lstChosen=D$9))","v":53},{"$f":"SUMPRODUCT((lstCallDates=$B25)*(lstChosen=E$9))","v":64},{"$f":"SUMPRODUCT((lstCallDates=B25)*(cs[Call Duration]))/60/60","v":6.0294444444444446},{"$f":"SUMPRODUCT((lstChosen=G$9)*(lstCallDates=$B25)*cs[Call Duration])/60/60","v":1.1083333333333334},{"$f":"SUMPRODUCT((lstChosen=H$9)*(lstCallDates=$B25)*cs[Call Duration])/60/60","v":1.3505555555555555},{"$f":"SUMPRODUCT((lstCallDates=$B25)*(cs[Resolved]=\"Yes\"))/$C25","v":0.95501730103806226},{"$f":"SUMPRODUCT((lstChosen=J$9)*(lstCallDates=$B25)*(cs[Resolved]=\"Yes\"))/D25","v":0.98113207547169812},{"$f":"SUMPRODUCT((lstChosen=K$9)*(lstCallDates=$B25)*(cs[Resolved]=\"Yes\"))/E25","v":0.9375},{"$f":"SUMPRODUCT((lstCallDates=$B25)*(cs[Satisfaction Ratio]))/$C25","v":3.0148788927335657},{"$f":"SUMPRODUCT((lstCallDates=$B25)*(lstChosen=M$9)*(cs[Satisfaction Ratio]))/$D25","v":3.0132075471698117},{"$f":"SUMPRODUCT((lstCallDates=$B25)*(lstChosen=N$9)*(cs[Satisfaction Ratio]))/$E25","v":2.9671874999999992},{"$f":"SUMPRODUCT((lstCallDates=$B25)*(cs[Up-sell]))","v":33820},{"$f":"SUMPRODUCT((lstCallDates=$B25)*(lstChosen=P$9)*(cs[Up-sell]))","v":7530},{"$f":"SUMPRODUCT((lstCallDates=$B25)*(lstChosen=Q$9)*(cs[Up-sell]))","v":6540},null,4]
[null,"2012-01-26",288,{"$f":"SUMPRODUCT((lstCallDates=$B26)*(lstChosen=D$9))","v":45},{"$f":"SUMPRODUCT((lstCallDates=$B26)*(lstChosen=E$9))","v":63},{"$f":"SUMPRODUCT((lstCallDates=B26)*(cs[Call Duration]))/60/60","v":5.9627777777777773},{"$f":"SUMPRODUCT((lstChosen=G$9)*(lstCallDates=$B26)*cs[Call Duration])/60/60","v":0.91861111111111116},{"$f":"SUMPRODUCT((lstChosen=H$9)*(lstCallDates=$B26)*cs[Call Duration])/60/60","v":1.3119444444444446},{"$f":"SUMPRODUCT((lstCallDates=$B26)*(cs[Resolved]=\"Yes\"))/$C26","v":0.96875},{"$f":"SUMPRODUCT((lstChosen=J$9)*(lstCallDates=$B26)*(cs[Resolved]=\"Yes\"))/D26","v":0.97777777777777775},{"$f":"SUMPRODUCT((lstChosen=K$9)*(lstCallDates=$B26)*(cs[Resolved]=\"Yes\"))/E26","v":0.96825396825396826},{"$f":"SUMPRODUCT((lstCallDates=$B26)*(cs[Satisfaction Ratio]))/$C26","v":3.0461805555555563},{"$f":"SUMPRODUCT((lstCallDates=$B26)*(lstChosen=M$9)*(cs[Satisfaction Ratio]))/$D26","v":3.0177777777777779},{"$f":"SUMPRODUCT((lstCallDates=$B26)*(lstChosen=N$9)*(cs[Satisfaction Ratio]))/$E26","v":3.0015873015873016},{"$f":"SUMPRODUCT((lstCallDates=$B26)*(cs[Up-sell]))","v":32070},{"$f":"SUMPRODUCT((lstCallDates=$B26)*(lstChosen=P$9)*(cs[Up-sell]))","v":5140},{"$f":"SUMPRODUCT((lstCallDates=$B26)*(lstChosen=Q$9)*(cs[Up-sell]))","v":6770},null,5]
[null,"2012-01-27",294,{"$f":"SUMPRODUCT((lstCallDates=$B27)*(lstChosen=D$9))","v":58},{"$f":"SUMPRODUCT((lstCallDates=$B27)*(lstChosen=E$9))","v":43},{"$f":"SUMPRODUCT((lstCallDates=B27)*(cs[Call Duration]))/60/60","v":6.1919444444444443},{"$f":"SUMPRODUCT((lstChosen=G$9)*(lstCallDates=$B27)*cs[Call Duration])/60/60","v":1.2227777777777777},{"$f":"SUMPRODUCT((lstChosen=H$9)*(lstCallDates=$B27)*cs[Call Duration])/60/60","v":0.90583333333333338},{"$f":"SUMPRODUCT((lstCallDates=$B27)*(cs[Resolved]=\"Yes\"))/$C27","v":0.94557823129251706},{"$f":"SUMPRODUCT((lstChosen=J$9)*(lstCallDates=$B27)*(cs[Resolved]=\"Yes\"))/D27","v":0.94827586206896552},{"$f":"SUMPRODUCT((lstChosen=K$9)*(lstCallDates=$B27)*(cs[Resolved]=\"Yes\"))/E27","v":0.97674418604651159},{"$f":"SUMPRODUCT((lstCallDates=$B27)*(cs[Satisfaction Ratio]))/$C27","v":3.0108843537414969},{"$f":"SUMPRODUCT((lstCallDates=$B27)*(lstChosen=M$9)*(cs[Satisfaction Ratio]))/$D27","v":3.0172413793103439},{"$f":"SUMPRODUCT((lstCallDates=$B27)*(lstChosen=N$9)*(cs[Satisfaction Ratio]))/$E27","v":3},{"$f":"SUMPRODUCT((lstCallDates=$B27)*(cs[Up-sell]))","v":37150},{"$f":"SUMPRODUCT((lstCallDates=$B27)*(lstChosen=P$9)*(cs[Up-sell]))","v":7000},{"$f":"SUMPRODUCT((lstCallDates=$B27)*(lstChosen=Q$9)*(cs[Up-sell]))","v":5530},null,6]
[null,{"$f":"B27+1","v":"2012-01-28"},311,{"$f":"SUMPRODUCT((lstCallDates=$B28)*(lstChosen=D$9))","v":62},{"$f":"SUMPRODUCT((lstCallDates=$B28)*(lstChosen=E$9))","v":66},{"$f":"SUMPRODUCT((lstCallDates=B28)*(cs[Call Duration]))/60/60","v":6.4908333333333328},{"$f":"SUMPRODUCT((lstChosen=G$9)*(lstCallDates=$B28)*cs[Call Duration])/60/60","v":1.3036111111111111},{"$f":"SUMPRODUCT((lstChosen=H$9)*(lstCallDates=$B28)*cs[Call Duration])/60/60","v":1.375},{"$f":"SUMPRODUCT((lstCallDates=$B28)*(cs[Resolved]=\"Yes\"))/$C28","v":0.97106109324758838},{"$f":"SUMPRODUCT((lstChosen=J$9)*(lstCallDates=$B28)*(cs[Resolved]=\"Yes\"))/D28","v":0.967741935483871},{"$f":"SUMPRODUCT((lstChosen=K$9)*(lstCallDates=$B28)*(cs[Resolved]=\"Yes\"))/E28","v":0.96969696969696972},{"$f":"SUMPRODUCT((lstCallDates=$B28)*(cs[Satisfaction Ratio]))/$C28","v":2.9778135048231511},{"$f":"SUMPRODUCT((lstCallDates=$B28)*(lstChosen=M$9)*(cs[Satisfaction Ratio]))/$D28","v":3.0919354838709681},{"$f":"SUMPRODUCT((lstCallDates=$B28)*(lstChosen=N$9)*(cs[Satisfaction Ratio]))/$E28","v":2.9348484848484846},{"$f":"SUMPRODUCT((lstCallDates=$B28)*(cs[Up-sell]))","v":34790},{"$f":"SUMPRODUCT((lstCallDates=$B28)*(lstChosen=P$9)*(cs[Up-sell]))","v":7850},{"$f":"SUMPRODUCT((lstCallDates=$B28)*(lstChosen=Q$9)*(cs[Up-sell]))","v":6750},null,7]
[null,"2012-01-29",298,{"$f":"SUMPRODUCT((lstCallDates=$B29)*(lstChosen=D$9))","v":59},{"$f":"SUMPRODUCT((lstCallDates=$B29)*(lstChosen=E$9))","v":56},{"$f":"SUMPRODUCT((lstCallDates=B29)*(cs[Call Duration]))/60/60","v":6.2336111111111112},{"$f":"SUMPRODUCT((lstChosen=G$9)*(lstCallDates=$B29)*cs[Call Duration])/60/60","v":1.2261111111111112},{"$f":"SUMPRODUCT((lstChosen=H$9)*(lstCallDates=$B29)*cs[Call Duration])/60/60","v":1.1577777777777778},{"$f":"SUMPRODUCT((lstCallDates=$B29)*(cs[Resolved]=\"Yes\"))/$C29","v":0.95302013422818788},{"$f":"SUMPRODUCT((lstChosen=J$9)*(lstCallDates=$B29)*(cs[Resolved]=\"Yes\"))/D29","v":0.9152542372881356},{"$f":"SUMPRODUCT((lstChosen=K$9)*(lstCallDates=$B29)*(cs[Resolved]=\"Yes\"))/E29","v":0.9464285714285714},{"$f":"SUMPRODUCT((lstCallDates=$B29)*(cs[Satisfaction Ratio]))/$C29","v":2.9879194630872488},{"$f":"SUMPRODUCT((lstCallDates=$B29)*(lstChosen=M$9)*(cs[Satisfaction Ratio]))/$D29","v":2.9305084745762713},{"$f":"SUMPRODUCT((lstCallDates=$B29)*(lstChosen=N$9)*(cs[Satisfaction Ratio]))/$E29","v":3.0857142857142854},{"$f":"SUMPRODUCT((lstCallDates=$B29)*(cs[Up-sell]))","v":37020},{"$f":"SUMPRODUCT((lstCallDates=$B29)*(lstChosen=P$9)*(cs[Up-sell]))","v":7510},{"$f":"SUMPRODUCT((lstCallDates=$B29)*(lstChosen=Q$9)*(cs[Up-sell]))","v":6490},null,1]
[null,"2012-01-30",288,{"$f":"SUMPRODUCT((lstCallDates=$B30)*(lstChosen=D$9))","v":63},{"$f":"SUMPRODUCT((lstCallDates=$B30)*(lstChosen=E$9))","v":60},{"$f":"SUMPRODUCT((lstCallDates=B30)*(cs[Call Duration]))/60/60","v":5.9802777777777774},{"$f":"SUMPRODUCT((lstChosen=G$9)*(lstCallDates=$B30)*cs[Call Duration])/60/60","v":1.3494444444444444},{"$f":"SUMPRODUCT((lstChosen=H$9)*(lstCallDates=$B30)*cs[Call Duration])/60/60","v":1.2488888888888889},{"$f":"SUMPRODUCT((lstCallDates=$B30)*(cs[Resolved]=\"Yes\"))/$C30","v":0.93402777777777779},{"$f":"SUMPRODUCT((lstChosen=J$9)*(lstCallDates=$B30)*(cs[Resolved]=\"Yes\"))/D30","v":0.95238095238095233},{"$f":"SUMPRODUCT((lstChosen=K$9)*(lstCallDates=$B30)*(cs[Resolved]=\"Yes\"))/E30","v":0.91666666666666663},{"$f":"SUMPRODUCT((lstCallDates=$B30)*(cs[Satisfaction Ratio]))/$C30","v":2.9920138888888896},{"$f":"SUMPRODUCT((lstCallDates=$B30)*(lstChosen=M$9)*(cs[Satisfaction Ratio]))/$D30","v":2.9936507936507946},{"$f":"SUMPRODUCT((lstCallDates=$B30)*(lstChosen=N$9)*(cs[Satisfaction Ratio]))/$E30","v":2.9549999999999996},{"$f":"SUMPRODUCT((lstCallDates=$B30)*(cs[Up-sell]))","v":34680},{"$f":"SUMPRODUCT((lstCallDates=$B30)*(lstChosen=P$9)*(cs[Up-sell]))","v":8010},{"$f":"SUMPRODUCT((lstCallDates=$B30)*(lstChosen=Q$9)*(cs[Up-sell]))","v":7570},null,2]
[null,"2012-01-31",294,{"$f":"SUMPRODUCT((lstCallDates=$B31)*(lstChosen=D$9))","v":58},{"$f":"SUMPRODUCT((lstCallDates=$B31)*(lstChosen=E$9))","v":66},{"$f":"SUMPRODUCT((lstCallDates=B31)*(cs[Call Duration]))/60/60","v":6.104166666666667},{"$f":"SUMPRODUCT((lstChosen=G$9)*(lstCallDates=$B31)*cs[Call Duration])/60/60","v":1.2286111111111111},{"$f":"SUMPRODUCT((lstChosen=H$9)*(lstCallDates=$B31)*cs[Call Duration])/60/60","v":1.3491666666666666},{"$f":"SUMPRODUCT((lstCallDates=$B31)*(cs[Resolved]=\"Yes\"))/$C31","v":0.94897959183673475},{"$f":"SUMPRODUCT((lstChosen=J$9)*(lstCallDates=$B31)*(cs[Resolved]=\"Yes\"))/D31","v":0.93103448275862066},{"$f":"SUMPRODUCT((lstChosen=K$9)*(lstCallDates=$B31)*(cs[Resolved]=\"Yes\"))/E31","v":0.9242424242424242},{"$f":"SUMPRODUCT((lstCallDates=$B31)*(cs[Satisfaction Ratio]))/$C31","v":3.0221088435374166},{"$f":"SUMPRODUCT((lstCallDates=$B31)*(lstChosen=M$9)*(cs[Satisfaction Ratio]))/$D31","v":3.0224137931034489},{"$f":"SUMPRODUCT((lstCallDates=$B31)*(lstChosen=N$9)*(cs[Satisfaction Ratio]))/$E31","v":3.1075757575757574},{"$f":"SUMPRODUCT((lstCallDates=$B31)*(cs[Up-sell]))","v":33320},{"$f":"SUMPRODUCT((lstCallDates=$B31)*(lstChosen=P$9)*(cs[Up-sell]))","v":6410},{"$f":"SUMPRODUCT((lstCallDates=$B31)*(lstChosen=Q$9)*(cs[Up-sell]))","v":7680},null,3]
[null,"2012-02-01",296,{"$f":"SUMPRODUCT((lstCallDates=$B32)*(lstChosen=D$9))","v":56},{"$f":"SUMPRODUCT((lstCallDates=$B32)*(lstChosen=E$9))","v":65},{"$f":"SUMPRODUCT((lstCallDates=B32)*(cs[Call Duration]))/60/60","v":6.2038888888888888},{"$f":"SUMPRODUCT((lstChosen=G$9)*(lstCallDates=$B32)*cs[Call Duration])/60/60","v":1.1502777777777777},{"$f":"SUMPRODUCT((lstChosen=H$9)*(lstCallDates=$B32)*cs[Call Duration])/60/60","v":1.3722222222222222},{"$f":"SUMPRODUCT((lstCallDates=$B32)*(cs[Resolved]=\"Yes\"))/$C32","v":0.95945945945945943},{"$f":"SUMPRODUCT((lstChosen=J$9)*(lstCallDates=$B32)*(cs[Resolved]=\"Yes\"))/D32","v":1},{"$f":"SUMPRODUCT((lstChosen=K$9)*(lstCallDates=$B32)*(cs[Resolved]=\"Yes\"))/E32","v":0.9538461538461539},{"$f":"SUMPRODUCT((lstCallDates=$B32)*(cs[Satisfaction Ratio]))/$C32","v":2.9902027027027036},{"$f":"SUMPRODUCT((lstCallDates=$B32)*(lstChosen=M$9)*(cs[Satisfaction Ratio]))/$D32","v":2.8750000000000004},{"$f":"SUMPRODUCT((lstCallDates=$B32)*(lstChosen=N$9)*(cs[Satisfaction Ratio]))/$E32","v":3.0092307692307685},{"$f":"SUMPRODUCT((lstCallDates=$B32)*(cs[Up-sell]))","v":35330},{"$f":"SUMPRODUCT((lstCallDates=$B32)*(lstChosen=P$9)*(cs[Up-sell]))","v":5580},{"$f":"SUMPRODUCT((lstCallDates=$B32)*(lstChosen=Q$9)*(cs[Up-sell]))","v":8380},null,4]
[null,"2012-02-02",289,{"$f":"SUMPRODUCT((lstCallDates=$B33)*(lstChosen=D$9))","v":57},{"$f":"SUMPRODUCT((lstCallDates=$B33)*(lstChosen=E$9))","v":68},{"$f":"SUMPRODUCT((lstCallDates=B33)*(cs[Call Duration]))/60/60","v":5.969444444444445},{"$f":"SUMPRODUCT((lstChosen=G$9)*(lstCallDates=$B33)*cs[Call Duration])/60/60","v":1.2061111111111109},{"$f":"SUMPRODUCT((lstChosen=H$9)*(lstCallDates=$B33)*cs[Call Duration])/60/60","v":1.3727777777777777},{"$f":"SUMPRODUCT((lstCallDates=$B33)*(cs[Resolved]=\"Yes\"))/$C33","v":0.95847750865051906},{"$f":"SUMPRODUCT((lstChosen=J$9)*(lstCallDates=$B33)*(cs[Resolved]=\"Yes\"))/D33","v":0.94736842105263153},{"$f":"SUMPRODUCT((lstChosen=K$9)*(lstCallDates=$B33)*(cs[Resolved]=\"Yes\"))/E33","v":0.92647058823529416},{"$f":"SUMPRODUCT((lstCallDates=$B33)*(cs[Satisfaction Ratio]))/$C33","v":3.0418685121107294},{"$f":"SUMPRODUCT((lstCallDates=$B33)*(lstChosen=M$9)*(cs[Satisfaction Ratio]))/$D33","v":3.0649122807017544},{"$f":"SUMPRODUCT((lstCallDates=$B33)*(lstChosen=N$9)*(cs[Satisfaction Ratio]))/$E33","v":2.9941176470588227},{"$f":"SUMPRODUCT((lstCallDates=$B33)*(cs[Up-sell]))","v":36840},{"$f":"SUMPRODUCT((lstCallDates=$B33)*(lstChosen=P$9)*(cs[Up-sell]))","v":6420},{"$f":"SUMPRODUCT((lstCallDates=$B33)*(lstChosen=Q$9)*(cs[Up-sell]))","v":10290},null,5]
[null,"2012-02-03",294,{"$f":"SUMPRODUCT((lstCallDates=$B34)*(lstChosen=D$9))","v":55},{"$f":"SUMPRODUCT((lstCallDates=$B34)*(lstChosen=E$9))","v":64},{"$f":"SUMPRODUCT((lstCallDates=B34)*(cs[Call Duration]))/60/60","v":6.091388888888889},{"$f":"SUMPRODUCT((lstChosen=G$9)*(lstCallDates=$B34)*cs[Call Duration])/60/60","v":1.1605555555555556},{"$f":"SUMPRODUCT((lstChosen=H$9)*(lstCallDates=$B34)*cs[Call Duration])/60/60","v":1.3111111111111111},{"$f":"SUMPRODUCT((lstCallDates=$B34)*(cs[Resolved]=\"Yes\"))/$C34","v":0.9285714285714286},{"$f":"SUMPRODUCT((lstChosen=J$9)*(lstCallDates=$B34)*(cs[Resolved]=\"Yes\"))/D34","v":0.89090909090909087},{"$f":"SUMPRODUCT((lstChosen=K$9)*(lstCallDates=$B34)*(cs[Resolved]=\"Yes\"))/E34","v":0.9375},{"$f":"SUMPRODUCT((lstCallDates=$B34)*(cs[Satisfaction Ratio]))/$C34","v":2.9564625850340103},{"$f":"SUMPRODUCT((lstCallDates=$B34)*(lstChosen=M$9)*(cs[Satisfaction Ratio]))/$D34","v":2.9436363636363634},{"$f":"SUMPRODUCT((lstCallDates=$B34)*(lstChosen=N$9)*(cs[Satisfaction Ratio]))/$E34","v":2.9578125000000006},{"$f":"SUMPRODUCT((lstCallDates=$B34)*(cs[Up-sell]))","v":37860},{"$f":"SUMPRODUCT((lstCallDates=$B34)*(lstChosen=P$9)*(cs[Up-sell]))","v":7380},{"$f":"SUMPRODUCT((lstCallDates=$B34)*(lstChosen=Q$9)*(cs[Up-sell]))","v":8630},null,6]
[null,"2012-02-04",282,{"$f":"SUMPRODUCT((lstCallDates=$B35)*(lstChosen=D$9))","v":50},{"$f":"SUMPRODUCT((lstCallDates=$B35)*(lstChosen=E$9))","v":60},{"$f":"SUMPRODUCT((lstCallDates=B35)*(cs[Call Duration]))/60/60","v":5.8530555555555557},{"$f":"SUMPRODUCT((lstChosen=G$9)*(lstCallDates=$B35)*cs[Call Duration])/60/60","v":1.0233333333333332},{"$f":"SUMPRODUCT((lstChosen=H$9)*(lstCallDates=$B35)*cs[Call Duration])/60/60","v":1.2586111111111111},{"$f":"SUMPRODUCT((lstCallDates=$B35)*(cs[Resolved]=\"Yes\"))/$C35","v":0.92198581560283688},{"$f":"SUMPRODUCT((lstChosen=J$9)*(lstCallDates=$B35)*(cs[Resolved]=\"Yes\"))/D35","v":0.92},{"$f":"SUMPRODUCT((lstChosen=K$9)*(lstCallDates=$B35)*(cs[Resolved]=\"Yes\"))/E35","v":0.95},{"$f":"SUMPRODUCT((lstCallDates=$B35)*(cs[Satisfaction Ratio]))/$C35","v":3.0017730496453914},{"$f":"SUMPRODUCT((lstCallDates=$B35)*(lstChosen=M$9)*(cs[Satisfaction Ratio]))/$D35","v":3.0499999999999994},{"$f":"SUMPRODUCT((lstCallDates=$B35)*(lstChosen=N$9)*(cs[Satisfaction Ratio]))/$E35","v":2.9216666666666669},{"$f":"SUMPRODUCT((lstCallDates=$B35)*(cs[Up-sell]))","v":34120},{"$f":"SUMPRODUCT((lstCallDates=$B35)*(lstChosen=P$9)*(cs[Up-sell]))","v":5810},{"$f":"SUMPRODUCT((lstCallDates=$B35)*(lstChosen=Q$9)*(cs[Up-sell]))","v":7360},null,7]
[null,"2012-02-05",308,{"$f":"SUMPRODUCT((lstCallDates=$B36)*(lstChosen=D$9))","v":65},{"$f":"SUMPRODUCT((lstCallDates=$B36)*(lstChosen=E$9))","v":62},{"$f":"SUMPRODUCT((lstCallDates=B36)*(cs[Call Duration]))/60/60","v":6.4091666666666667},{"$f":"SUMPRODUCT((lstChosen=G$9)*(lstCallDates=$B36)*cs[Call Duration])/60/60","v":1.3583333333333334},{"$f":"SUMPRODUCT((lstChosen=H$9)*(lstCallDates=$B36)*cs[Call Duration])/60/60","v":1.3097222222222222},{"$f":"SUMPRODUCT((lstCallDates=$B36)*(cs[Resolved]=\"Yes\"))/$C36","v":0.93831168831168832},{"$f":"SUMPRODUCT((lstChosen=J$9)*(lstCallDates=$B36)*(cs[Resolved]=\"Yes\"))/D36","v":0.92307692307692313},{"$f":"SUMPRODUCT((lstChosen=K$9)*(lstCallDates=$B36)*(cs[Resolved]=\"Yes\"))/E36","v":0.88709677419354838},{"$f":"SUMPRODUCT((lstCallDates=$B36)*(cs[Satisfaction Ratio]))/$C36","v":2.9480519480519467},{"$f":"SUMPRODUCT((lstCallDates=$B36)*(lstChosen=M$9)*(cs[Satisfaction Ratio]))/$D36","v":2.9476923076923072},{"$f":"SUMPRODUCT((lstCallDates=$B36)*(lstChosen=N$9)*(cs[Satisfaction Ratio]))/$E36","v":3.0645161290322585},{"$f":"SUMPRODUCT((lstCallDates=$B36)*(cs[Up-sell]))","v":36340},{"$f":"SUMPRODUCT((lstCallDates=$B36)*(lstChosen=P$9)*(cs[Up-sell]))","v":6790},{"$f":"SUMPRODUCT((lstCallDates=$B36)*(lstChosen=Q$9)*(cs[Up-sell]))","v":8590},null,1]
[null,"2012-02-06",289,{"$f":"SUMPRODUCT((lstCallDates=$B37)*(lstChosen=D$9))","v":48},{"$f":"SUMPRODUCT((lstCallDates=$B37)*(lstChosen=E$9))","v":64},{"$f":"SUMPRODUCT((lstCallDates=B37)*(cs[Call Duration]))/60/60","v":6.0441666666666665},{"$f":"SUMPRODUCT((lstChosen=G$9)*(lstCallDates=$B37)*cs[Call Duration])/60/60","v":0.98138888888888887},{"$f":"SUMPRODUCT((lstChosen=H$9)*(lstCallDates=$B37)*cs[Call Duration])/60/60","v":1.3616666666666668},{"$f":"SUMPRODUCT((lstCallDates=$B37)*(cs[Resolved]=\"Yes\"))/$C37","v":0.94463667820069208},{"$f":"SUMPRODUCT((lstChosen=J$9)*(lstCallDates=$B37)*(cs[Resolved]=\"Yes\"))/D37","v":0.9375},{"$f":"SUMPRODUCT((lstChosen=K$9)*(lstCallDates=$B37)*(cs[Resolved]=\"Yes\"))/E37","v":0.921875},{"$f":"SUMPRODUCT((lstCallDates=$B37)*(cs[Satisfaction Ratio]))/$C37","v":2.997923875432527},{"$f":"SUMPRODUCT((lstCallDates=$B37)*(lstChosen=M$9)*(cs[Satisfaction Ratio]))/$D37","v":2.941666666666666},{"$f":"SUMPRODUCT((lstCallDates=$B37)*(lstChosen=N$9)*(cs[Satisfaction Ratio]))/$E37","v":3.0124999999999993},{"$f":"SUMPRODUCT((lstCallDates=$B37)*(cs[Up-sell]))","v":35040},{"$f":"SUMPRODUCT((lstCallDates=$B37)*(lstChosen=P$9)*(cs[Up-sell]))","v":6260},{"$f":"SUMPRODUCT((lstCallDates=$B37)*(lstChosen=Q$9)*(cs[Up-sell]))","v":7090},null,2]
[null,null,{"$f":"SUM(C10:C37)","v":8202},{"$f":"SUM(D10:D37)","v":1565},1681]
[null,null,null,null,null,{"$f":"ROUND(SUM(F10:F37)/C38*60*60,0)","v":75},{"$f":"ROUND(SUM(G10:G37)/D38*60*60,0)","v":75},{"$f":"ROUND(SUM(H10:H37)/E38*60*60,0)","v":75}]
[null,"totals",{"$f":"C38","v":8202},null,"Average call duration",null,null,"Resolution Rate",{"$f":"SUMPRODUCT(I10:I37,C10:C37)/C40","v":0.94854913435747379},{"$f":"SUMPRODUCT(J10:J37,D10:D37)/D38","v":0.9476038338658147},{"$f":"SUMPRODUCT(K10:K37,E10:E37)/E38","v":0.94705532421177874},{"$f":"SUMPRODUCT(L10:L37,C10:C37)/C38","v":2.9944159960985131},{"$f":"SUMPRODUCT(M10:M37,D10:D37)/D38","v":2.9918849840255586},3.0151100535395607,{"$f":"SUM(O10:O37)","v":989040},{"$f":"SUM(P10:P37)","v":190480},202280]
[null,"Distribution by Weekday",null,null,"Call Distribution","ALL",{"$f":"G9","v":"South"},{"$f":"H9","v":"Mid-west"},null,null,null,"ALL",{"$f":"M9","v":"South"},{"$f":"N9","v":"Mid-west"}]
[2,"Monday",{"$f":"SUMIFS($C$10:$C$37,$S$10:$S$37,A42)","v":1185},null,null,null,null,null,null,null,1,{"$f":"SUMPRODUCT((lstCallDates>=$D$6)*(lstCallDates<=$E$6)*(cs[Satisfaction Ratio]<=$K42))","v":2},{"$f":"SUMPRODUCT((lstCallDates>=$D$6)*(lstCallDates<=$E$6)*(lstChosen=G$41)*(cs[Satisfaction Ratio]<=$K42))","v":0},{"$f":"SUMPRODUCT((lstCallDates>=$D$6)*(lstCallDates<=$E$6)*(lstChosen=H$41)*(cs[Satisfaction Ratio]<=$K42))","v":0},{"$f":"TEXT(O40,\"$#,.0\")&\" k\"","v":"$989.0 k"},{"$f":"TEXT(P40,\"$#,.0\")&\" k\"","v":"$190.5 k"},"$202.3 k"]
[3,"Tuesday",{"$f":"SUMIFS($C$10:$C$37,$S$10:$S$37,A43)","v":1175},null,null,null,null,null,null,null,2,{"$f":"SUMPRODUCT((lstCallDates>=$D$6)*(lstCallDates<=$E$6)*(cs[Satisfaction Ratio]<=$K43))-SUM($L$42:L42)","v":252},{"$f":"SUMPRODUCT((lstCallDates>=$D$6)*(lstCallDates<=$E$6)*(lstChosen=G$41)*(cs[Satisfaction Ratio]<=$K43))-SUM($M$42:M42)","v":59},{"$f":"SUMPRODUCT((lstCallDates>=$D$6)*(lstCallDates<=$E$6)*(lstChosen=H$41)*(cs[Satisfaction Ratio]<=$K43))-SUM($N$42:N42)","v":48},"% calls with upsell:"]
[4,"Wednesday",1163,null,null,null,null,null,null,null,3,{"$f":"SUMPRODUCT((lstCallDates>=$D$6)*(lstCallDates<=$E$6)*(cs[Satisfaction Ratio]<=$K44))-SUM($L$42:L43)","v":4184},{"$f":"SUMPRODUCT((lstCallDates>=$D$6)*(lstCallDates<=$E$6)*(lstChosen=G$41)*(cs[Satisfaction Ratio]<=$K44))-SUM($M$42:M43)","v":797},{"$f":"SUMPRODUCT((lstCallDates>=$D$6)*(lstCallDates<=$E$6)*(lstChosen=H$41)*(cs[Satisfaction Ratio]<=$K44))-SUM($N$42:N43)","v":839},{"$f":"SUMPRODUCT((lstCallDates>=$D$6)*(lstCallDates<=$E$6)*(cs[Up-sell]>0))/$C$38","v":0.60180443794196536},{"$f":"SUMPRODUCT((lstCallDates>=$D$6)*(lstCallDates<=$E$6)*(lstChosen=P$9)*(cs[Up-sell]>0))/D$38","v":0.61022364217252401},{"$f":"SUMPRODUCT((lstCallDates>=$D$6)*(lstCallDates<=$E$6)*(lstChosen=Q$9)*(cs[Up-sell]>0))/E$38","v":0.59666864961332544}]
[5,"Thursday",1142,null,null,null,null,null,null,null,4,{"$f":"SUMPRODUCT((lstCallDates>=$D$6)*(lstCallDates<=$E$6)*(cs[Satisfaction Ratio]<=$K45))-SUM($L$42:L44)","v":3628},{"$f":"SUMPRODUCT((lstCallDates>=$D$6)*(lstCallDates<=$E$6)*(lstChosen=G$41)*(cs[Satisfaction Ratio]<=$K45))-SUM($M$42:M44)","v":682},{"$f":"SUMPRODUCT((lstCallDates>=$D$6)*(lstCallDates<=$E$6)*(lstChosen=H$41)*(cs[Satisfaction Ratio]<=$K45))-SUM($N$42:N44)","v":756}]
[6,"Friday",1167,null,null,null,null,null,null,null,5,{"$f":"SUMPRODUCT((lstCallDates>=$D$6)*(lstCallDates<=$E$6)*(cs[Satisfaction Ratio]<=$K46))-SUM($L$42:L45)","v":136},{"$f":"SUMPRODUCT((lstCallDates>=$D$6)*(lstCallDates<=$E$6)*(lstChosen=G$41)*(cs[Satisfaction Ratio]<=$K46))-SUM($M$42:M45)","v":27},{"$f":"SUMPRODUCT((lstCallDates>=$D$6)*(lstCallDates<=$E$6)*(lstChosen=H$41)*(cs[Satisfaction Ratio]<=$K46))-SUM($N$42:N45)","v":38}]
[7,"Saturday",1164]
[1,"Sunday",1206,null,null,null,null,null,null,null,null,null,null,null,"Upsell Distribution by Product"]
[null,null,null,null,null,null,null,null,null,null,null,null,null,"#","Product","Upsell $"]
[null,null,null,null,null,null,null,null,null,null,null,null,null,1,{"$f":"IFERROR(INDEX(lstProducts,N50),\"\")","v":"Monitor"},{"$f":"SUMPRODUCT((lstCallDates>=$D$6)*(lstCallDates<=$E$6)*(cs[Product]=O50)*(cs[Up-sell]))","v":168470}]
[null,null,null,null,null,null,null,null,null,null,null,null,null,2,"Desktop",{"$f":"SUMPRODUCT((lstCallDates>=$D$6)*(lstCallDates<=$E$6)*(cs[Product]=O51)*(cs[Up-sell]))","v":158830}]
[null,null,null,null,null,null,null,null,null,null,null,null,null,3,"Laptop",{"$f":"SUMPRODUCT((lstCallDates>=$D$6)*(lstCallDates<=$E$6)*(cs[Product]=O52)*(cs[Up-sell]))","v":157320}]
[null,null,null,null,null,null,null,null,null,null,null,null,null,4,"Accessories",{"$f":"SUMPRODUCT((lstCallDates>=$D$6)*(lstCallDates<=$E$6)*(cs[Product]=O53)*(cs[Up-sell]))","v":160180}]
[null,null,null,null,null,null,null,null,null,null,null,null,null,5,"Software",{"$f":"SUMPRODUCT((lstCallDates>=$D$6)*(lstCallDates<=$E$6)*(cs[Product]=O54)*(cs[Up-sell]))","v":169000}]
[null,null,null,null,null,null,null,null,null,null,null,null,null,6,"Misc.",{"$f":"SUMPRODUCT((lstCallDates>=$D$6)*(lstCallDates<=$E$6)*(cs[Product]=O55)*(cs[Up-sell]))","v":175240}]
[null,null,null,null,null,null,null,null,null,null,null,null,null,7,"",{"$f":"SUMPRODUCT((lstCallDates>=$D$6)*(lstCallDates<=$E$6)*(cs[Product]=O56)*(cs[Up-sell]))","v":0}]
[null,null,null,null,null,null,null,null,null,null,null,null,null,8,"",{"$f":"SUMPRODUCT((lstCallDates>=$D$6)*(lstCallDates<=$E$6)*(cs[Product]=O57)*(cs[Up-sell]))","v":0}]
[null,null,null,null,null,null,null,null,null,null,null,null,null,9,"",{"$f":"SUMPRODUCT((lstCallDates>=$D$6)*(lstCallDates<=$E$6)*(cs[Product]=O58)*(cs[Up-sell]))","v":0}]
[]
[null,null,null,null,null,null,null,null,null,null,null,"last call position  + 1",{"$f":"MATCH(E6+1,lstCallDates,0)","v":10785},{"$f":"COUNTIF(N62:N1061,TRUE)","v":184},{"$f":"COUNTIF(O62:O1061,TRUE)","v":204},"Location of TRUEs",null,"Last 100 calls"]
[null,"Calculations for Comparison",null,null,null,null,null,null,null,null,null,"Last 100 calls","ALL",{"$f":"M9","v":"South"},{"$f":"N9","v":"Mid-west"},{"$f":"N61","v":"South"},{"$f":"O61","v":"Mid-west"},{"$f":"P61","v":"South"},{"$f":"Q61","v":"Mid-west"}]
[null,"Chart Title",{"$f":"N61","v":"South"},{"$f":"O61","v":"Mid-west"},null,null,null,null,null,null,null,1,{"$f":"IF(INDEX(cs[Resolved],$M$60-$L62)=\"Yes\",1,-1)","v":1},{"$f":"(INDEX(lstChosen,$M$60-$L62)=N$61)","v":true},{"$f":"(INDEX(lstChosen,$M$60-$L62)=O$61)","v":false},{"$f":"N62+0","v":1},{"$f":"O62+0","v":0},{"$f":"IF(INDEX(cs[Resolved],$M$60-MATCH(L62,P$62:P$1061,0))=\"Yes\",1,-1)","v":1},{"$f":"IF(INDEX(cs[Resolved],$M$60-MATCH(L62,Q$62:Q$1061,0))=\"Yes\",1,-1)","v":1}]
[null,"Items in selected Dimension",null,null,null,null,null,null,null,null,null,2,{"$f":"IF(INDEX(cs[Resolved],$M$60-$L63)=\"Yes\",1,-1)","v":1},{"$f":"(INDEX(lstChosen,$M$60-$L63)=N$61)","v":false},{"$f":"(INDEX(lstChosen,$M$60-$L63)=O$61)","v":false},{"$f":"P62+N63","v":1},{"$f":"Q62+O63","v":0},{"$f":"IF(INDEX(cs[Resolved],$M$60-MATCH(L63,P$62:P$1061,0))=\"Yes\",1,-1)","v":1},{"$f":"IF(INDEX(cs[Resolved],$M$60-MATCH(L63,Q$62:Q$1061,0))=\"Yes\",1,-1)","v":1}]
["ID","Item","Calls",null,null,null,null,null,null,null,null,3,{"$f":"IF(INDEX(cs[Resolved],$M$60-$L64)=\"Yes\",1,-1)","v":1},{"$f":"(INDEX(lstChosen,$M$60-$L64)=N$61)","v":false},{"$f":"(INDEX(lstChosen,$M$60-$L64)=O$61)","v":false},{"$f":"P63+N64","v":1},{"$f":"Q63+O64","v":0},{"$f":"IF(INDEX(cs[Resolved],$M$60-MATCH(L64,P$62:P$1061,0))=\"Yes\",1,-1)","v":-1},{"$f":"IF(INDEX(cs[Resolved],$M$60-MATCH(L64,Q$62:Q$1061,0))=\"Yes\",1,-1)","v":1}]
[1,{"$f":"IFERROR(INDEX(Data!$M$6:$P$11,A65,calcs!$C$4),\"\")","v":"North"},{"$f":"SUMPRODUCT((lstCallDates>=$D$6)*(lstCallDates<=$E$6)*(lstChosen=B65))","v":1659},{"$f":"TEXT(C65,\"#,##\")&\" calls\"","v":"1,659 calls"},null,null,null,null,null,null,null,4,{"$f":"IF(INDEX(cs[Resolved],$M$60-$L65)=\"Yes\",1,-1)","v":1},{"$f":"(INDEX(lstChosen,$M$60-$L65)=N$61)","v":false},{"$f":"(INDEX(lstChosen,$M$60-$L65)=O$61)","v":true},1,1,{"$f":"IF(INDEX(cs[Resolved],$M$60-MATCH(L65,P$62:P$1061,0))=\"Yes\",1,-1)","v":1},{"$f":"IF(INDEX(cs[Resolved],$M$60-MATCH(L65,Q$62:Q$1061,0))=\"Yes\",1,-1)","v":1}]
[2,{"$f":"IFERROR(INDEX(Data!$M$6:$P$11,A66,calcs!$C$4),\"\")","v":"South"},{"$f":"SUMPRODUCT((lstCallDates>=$D$6)*(lstCallDates<=$E$6)*(lstChosen=B66))","v":1565},{"$f":"TEXT(C66,\"#,##\")","v":"1,565"},null,null,null,null,null,null,null,5,{"$f":"IF(INDEX(cs[Resolved],$M$60-$L66)=\"Yes\",1,-1)","v":1},{"$f":"(INDEX(lstChosen,$M$60-$L66)=N$61)","v":false},{"$f":"(INDEX(lstChosen,$M$60-$L66)=O$61)","v":false},1,1,{"$f":"IF(INDEX(cs[Resolved],$M$60-MATCH(L66,P$62:P$1061,0))=\"Yes\",1,-1)","v":1},{"$f":"IF(INDEX(cs[Resolved],$M$60-MATCH(L66,Q$62:Q$1061,0))=\"Yes\",1,-1)","v":1}]
[3,{"$f":"IFERROR(INDEX(Data!$M$6:$P$11,A67,calcs!$C$4),\"\")","v":"East"},{"$f":"SUMPRODUCT((lstCallDates>=$D$6)*(lstCallDates<=$E$6)*(lstChosen=B67))","v":1651},{"$f":"TEXT(C67,\"#,##\")","v":"1,651"},null,null,null,null,null,null,null,6,{"$f":"IF(INDEX(cs[Resolved],$M$60-$L67)=\"Yes\",1,-1)","v":1},{"$f":"(INDEX(lstChosen,$M$60-$L67)=N$61)","v":true},{"$f":"(INDEX(lstChosen,$M$60-$L67)=O$61)","v":false},2,1,{"$f":"IF(INDEX(cs[Resolved],$M$60-MATCH(L67,P$62:P$1061,0))=\"Yes\",1,-1)","v":1},{"$f":"IF(INDEX(cs[Resolved],$M$60-MATCH(L67,Q$62:Q$1061,0))=\"Yes\",1,-1)","v":1}]
[4,{"$f":"IFERROR(INDEX(Data!$M$6:$P$11,A68,calcs!$C$4),\"\")","v":"Mid-west"},{"$f":"SUMPRODUCT((lstCallDates>=$D$6)*(lstCallDates<=$E$6)*(lstChosen=B68))","v":1681},"1,681",null,null,null,null,null,null,null,7,{"$f":"IF(INDEX(cs[Resolved],$M$60-$L68)=\"Yes\",1,-1)","v":1},{"$f":"(INDEX(lstChosen,$M$60-$L68)=N$61)","v":false},{"$f":"(INDEX(lstChosen,$M$60-$L68)=O$61)","v":false},2,1,{"$f":"IF(INDEX(cs[Resolved],$M$60-MATCH(L68,P$62:P$1061,0))=\"Yes\",1,-1)","v":1},{"$f":"IF(INDEX(cs[Resolved],$M$60-MATCH(L68,Q$62:Q$1061,0))=\"Yes\",1,-1)","v":1}]
[5,{"$f":"IFERROR(INDEX(Data!$M$6:$P$11,A69,calcs!$C$4),\"\")","v":"West"},{"$f":"SUMPRODUCT((lstCallDates>=$D$6)*(lstCallDates<=$E$6)*(lstChosen=B69))","v":1646},"1,646",null,null,null,null,null,null,null,8,{"$f":"IF(INDEX(cs[Resolved],$M$60-$L69)=\"Yes\",1,-1)","v":1},{"$f":"(INDEX(lstChosen,$M$60-$L69)=N$61)","v":false},{"$f":"(INDEX(lstChosen,$M$60-$L69)=O$61)","v":true},2,2,{"$f":"IF(INDEX(cs[Resolved],$M$60-MATCH(L69,P$62:P$1061,0))=\"Yes\",1,-1)","v":1},{"$f":"IF(INDEX(cs[Resolved],$M$60-MATCH(L69,Q$62:Q$1061,0))=\"Yes\",1,-1)","v":-1}]
[6,{"$f":"IFERROR(INDEX(Data!$M$6:$P$11,A70,calcs!$C$4),\"\")","v":0},{"$f":"SUMPRODUCT((lstCallDates>=$D$6)*(lstCallDates<=$E$6)*(lstChosen=B70))","v":0},"",null,null,null,null,null,null,null,9,{"$f":"IF(INDEX(cs[Resolved],$M$60-$L70)=\"Yes\",1,-1)","v":1},{"$f":"(INDEX(lstChosen,$M$60-$L70)=N$61)","v":false},{"$f":"(INDEX(lstChosen,$M$60-$L70)=O$61)","v":false},2,2,{"$f":"IF(INDEX(cs[Resolved],$M$60-MATCH(L70,P$62:P$1061,0))=\"Yes\",1,-1)","v":1},{"$f":"IF(INDEX(cs[Resolved],$M$60-MATCH(L70,Q$62:Q$1061,0))=\"Yes\",1,-1)","v":1}]
[null,null,null,null,null,null,null,null,null,null,null,10,{"$f":"IF(INDEX(cs[Resolved],$M$60-$L71)=\"Yes\",1,-1)","v":1},{"$f":"(INDEX(lstChosen,$M$60-$L71)=N$61)","v":false},{"$f":"(INDEX(lstChosen,$M$60-$L71)=O$61)","v":false},2,2,{"$f":"IF(INDEX(cs[Resolved],$M$60-MATCH(L71,P$62:P$1061,0))=\"Yes\",1,-1)","v":1},{"$f":"IF(INDEX(cs[Resolved],$M$60-MATCH(L71,Q$62:Q$1061,0))=\"Yes\",1,-1)","v":1}]
[null,"Calls by day",null,null,null,null,null,null,null,null,null,11,{"$f":"IF(INDEX(cs[Resolved],$M$60-$L72)=\"Yes\",1,-1)","v":1},{"$f":"(INDEX(lstChosen,$M$60-$L72)=N$61)","v":false},{"$f":"(INDEX(lstChosen,$M$60-$L72)=O$61)","v":false},2,2,{"$f":"IF(INDEX(cs[Resolved],$M$60-MATCH(L72,P$62:P$1061,0))=\"Yes\",1,-1)","v":1},{"$f":"IF(INDEX(cs[Resolved],$M$60-MATCH(L72,Q$62:Q$1061,0))=\"Yes\",1,-1)","v":-1}]
[null,null,null,null,null,null,null,null,null,null,null,12,{"$f":"IF(INDEX(cs[Resolved],$M$60-$L73)=\"Yes\",1,-1)","v":1},{"$f":"(INDEX(lstChosen,$M$60-$L73)=N$61)","v":false},{"$f":"(INDEX(lstChosen,$M$60-$L73)=O$61)","v":true},2,3,{"$f":"IF(INDEX(cs[Resolved],$M$60-MATCH(L73,P$62:P$1061,0))=\"Yes\",1,-1)","v":1},{"$f":"IF(INDEX(cs[Resolved],$M$60-MATCH(L73,Q$62:Q$1061,0))=\"Yes\",1,-1)","v":1}]
[null,null,null,null,null,null,null,null,null,null,null,13,{"$f":"IF(INDEX(cs[Resolved],$M$60-$L74)=\"Yes\",1,-1)","v":1},{"$f":"(INDEX(lstChosen,$M$60-$L74)=N$61)","v":false},{"$f":"(INDEX(lstChosen,$M$60-$L74)=O$61)","v":false},2,3,{"$f":"IF(INDEX(cs[Resolved],$M$60-MATCH(L74,P$62:P$1061,0))=\"Yes\",1,-1)","v":1},{"$f":"IF(INDEX(cs[Resolved],$M$60-MATCH(L74,Q$62:Q$1061,0))=\"Yes\",1,-1)","v":1}]
[null,null,null,null,null,null,null,null,null,null,null,14,{"$f":"IF(INDEX(cs[Resolved],$M$60-$L75)=\"Yes\",1,-1)","v":1},{"$f":"(INDEX(lstChosen,$M$60-$L75)=N$61)","v":false},{"$f":"(INDEX(lstChosen,$M$60-$L75)=O$61)","v":true},2,4,{"$f":"IF(INDEX(cs[Resolved],$M$60-MATCH(L75,P$62:P$1061,0))=\"Yes\",1,-1)","v":-1},{"$f":"IF(INDEX(cs[Resolved],$M$60-MATCH(L75,Q$62:Q$1061,0))=\"Yes\",1,-1)","v":1}]
[null,null,null,null,null,null,null,null,null,null,null,15,{"$f":"IF(INDEX(cs[Resolved],$M$60-$L76)=\"Yes\",1,-1)","v":1},{"$f":"(INDEX(lstChosen,$M$60-$L76)=N$61)","v":false},{"$f":"(INDEX(lstChosen,$M$60-$L76)=O$61)","v":false},2,4,{"$f":"IF(INDEX(cs[Resolved],$M$60-MATCH(L76,P$62:P$1061,0))=\"Yes\",1,-1)","v":1},{"$f":"IF(INDEX(cs[Resolved],$M$60-MATCH(L76,Q$62:Q$1061,0))=\"Yes\",1,-1)","v":1}]
[null,null,null,null,null,null,null,null,null,null,null,16,{"$f":"IF(INDEX(cs[Resolved],$M$60-$L77)=\"Yes\",1,-1)","v":1},{"$f":"(INDEX(lstChosen,$M$60-$L77)=N$61)","v":false},{"$f":"(INDEX(lstChosen,$M$60-$L77)=O$61)","v":true},2,5,{"$f":"IF(INDEX(cs[Resolved],$M$60-MATCH(L77,P$62:P$1061,0))=\"Yes\",1,-1)","v":1},{"$f":"IF(INDEX(cs[Resolved],$M$60-MATCH(L77,Q$62:Q$1061,0))=\"Yes\",1,-1)","v":1}]
[null,null,null,null,null,null,null,null,null,null,null,17,{"$f":"IF(INDEX(cs[Resolved],$M$60-$L78)=\"Yes\",1,-1)","v":1},{"$f":"(INDEX(lstChosen,$M$60-$L78)=N$61)","v":false},{"$f":"(INDEX(lstChosen,$M$60-$L78)=O$61)","v":false},2,5,{"$f":"IF(INDEX(cs[Resolved],$M$60-MATCH(L78,P$62:P$1061,0))=\"Yes\",1,-1)","v":1},{"$f":"IF(INDEX(cs[Resolved],$M$60-MATCH(L78,Q$62:Q$1061,0))=\"Yes\",1,-1)","v":1}]
[null,null,null,null,null,null,null,null,null,null,null,18,{"$f":"IF(INDEX(cs[Resolved],$M$60-$L79)=\"Yes\",1,-1)","v":-1},{"$f":"(INDEX(lstChosen,$M$60-$L79)=N$61)","v":true},{"$f":"(INDEX(lstChosen,$M$60-$L79)=O$61)","v":false},3,5,{"$f":"IF(INDEX(cs[Resolved],$M$60-MATCH(L79,P$62:P$1061,0))=\"Yes\",1,-1)","v":1},{"$f":"IF(INDEX(cs[Resolved],$M$60-MATCH(L79,Q$62:Q$1061,0))=\"Yes\",1,-1)","v":1}]
[null,null,null,null,null,null,null,null,null,null,null,19,{"$f":"IF(INDEX(cs[Resolved],$M$60-$L80)=\"Yes\",1,-1)","v":1},{"$f":"(INDEX(lstChosen,$M$60-$L80)=N$61)","v":true},{"$f":"(INDEX(lstChosen,$M$60-$L80)=O$61)","v":false},4,5,{"$f":"IF(INDEX(cs[Resolved],$M$60-MATCH(L80,P$62:P$1061,0))=\"Yes\",1,-1)","v":1},{"$f":"IF(INDEX(cs[Resolved],$M$60-MATCH(L80,Q$62:Q$1061,0))=\"Yes\",1,-1)","v":1}]
[null,null,null,null,null,null,null,null,null,null,null,20,{"$f":"IF(INDEX(cs[Resolved],$M$60-$L81)=\"Yes\",1,-1)","v":1},{"$f":"(INDEX(lstChosen,$M$60-$L81)=N$61)","v":false},{"$f":"(INDEX(lstChosen,$M$60-$L81)=O$61)","v":true},4,6,{"$f":"IF(INDEX(cs[Resolved],$M$60-MATCH(L81,P$62:P$1061,0))=\"Yes\",1,-1)","v":1},{"$f":"IF(INDEX(cs[Resolved],$M$60-MATCH(L81,Q$62:Q$1061,0))=\"Yes\",1,-1)","v":1}]
[null,null,null,null,null,null,null,null,null,null,null,21,{"$f":"IF(INDEX(cs[Resolved],$M$60-$L82)=\"Yes\",1,-1)","v":1},{"$f":"(INDEX(lstChosen,$M$60-$L82)=N$61)","v":false},{"$f":"(INDEX(lstChosen,$M$60-$L82)=O$61)","v":false},4,6,{"$f":"IF(INDEX(cs[Resolved],$M$60-MATCH(L82,P$62:P$1061,0))=\"Yes\",1,-1)","v":1},{"$f":"IF(INDEX(cs[Resolved],$M$60-MATCH(L82,Q$62:Q$1061,0))=\"Yes\",1,-1)","v":1}]
[null,"Talk time by day",null,null,null,null,null,null,null,null,null,22,{"$f":"IF(INDEX(cs[Resolved],$M$60-$L83)=\"Yes\",1,-1)","v":1},{"$f":"(INDEX(lstChosen,$M$60-$L83)=N$61)","v":false},{"$f":"(INDEX(lstChosen,$M$60-$L83)=O$61)","v":true},4,7,{"$f":"IF(INDEX(cs[Resolved],$M$60-MATCH(L83,P$62:P$1061,0))=\"Yes\",1,-1)","v":1},{"$f":"IF(INDEX(cs[Resolved],$M$60-MATCH(L83,Q$62:Q$1061,0))=\"Yes\",1,-1)","v":1}]
[null,null,null,null,null,null,null,null,null,null,null,23,{"$f":"IF(INDEX(cs[Resolved],$M$60-$L84)=\"Yes\",1,-1)","v":-1},{"$f":"(INDEX(lstChosen,$M$60-$L84)=N$61)","v":false},{"$f":"(INDEX(lstChosen,$M$60-$L84)=O$61)","v":true},4,8,{"$f":"IF(INDEX(cs[Resolved],$M$60-MATCH(L84,P$62:P$1061,0))=\"Yes\",1,-1)","v":1},{"$f":"IF(INDEX(cs[Resolved],$M$60-MATCH(L84,Q$62:Q$1061,0))=\"Yes\",1,-1)","v":1}]
[null,null,null,null,null,null,null,null,null,null,null,24,{"$f":"IF(INDEX(cs[Resolved],$M$60-$L85)=\"Yes\",1,-1)","v":1},{"$f":"(INDEX(lstChosen,$M$60-$L85)=N$61)","v":false},{"$f":"(INDEX(lstChosen,$M$60-$L85)=O$61)","v":false},4,8,{"$f":"IF(INDEX(cs[Resolved],$M$60-MATCH(L85,P$62:P$1061,0))=\"Yes\",1,-1)","v":1},{"$f":"IF(INDEX(cs[Resolved],$M$60-MATCH(L85,Q$62:Q$1061,0))=\"Yes\",1,-1)","v":-1}]
[null,null,null,null,null,null,null,null,null,null,null,25,{"$f":"IF(INDEX(cs[Resolved],$M$60-$L86)=\"Yes\",1,-1)","v":1},{"$f":"(INDEX(lstChosen,$M$60-$L86)=N$61)","v":false},{"$f":"(INDEX(lstChosen,$M$60-$L86)=O$61)","v":false},4,8,{"$f":"IF(INDEX(cs[Resolved],$M$60-MATCH(L86,P$62:P$1061,0))=\"Yes\",1,-1)","v":1},{"$f":"IF(INDEX(cs[Resolved],$M$60-MATCH(L86,Q$62:Q$1061,0))=\"Yes\",1,-1)","v":1}]
[null,null,null,null,null,null,null,null,null,null,null,26,{"$f":"IF(INDEX(cs[Resolved],$M$60-$L87)=\"Yes\",1,-1)","v":1},{"$f":"(INDEX(lstChosen,$M$60-$L87)=N$61)","v":true},{"$f":"(INDEX(lstChosen,$M$60-$L87)=O$61)","v":false},5,8,{"$f":"IF(INDEX(cs[Resolved],$M$60-MATCH(L87,P$62:P$1061,0))=\"Yes\",1,-1)","v":1},{"$f":"IF(INDEX(cs[Resolved],$M$60-MATCH(L87,Q$62:Q$1061,0))=\"Yes\",1,-1)","v":1}]
[null,null,null,null,null,null,null,null,null,null,null,27,{"$f":"IF(INDEX(cs[Resolved],$M$60-$L88)=\"Yes\",1,-1)","v":1},{"$f":"(INDEX(lstChosen,$M$60-$L88)=N$61)","v":false},{"$f":"(INDEX(lstChosen,$M$60-$L88)=O$61)","v":false},5,8,{"$f":"IF(INDEX(cs[Resolved],$M$60-MATCH(L88,P$62:P$1061,0))=\"Yes\",1,-1)","v":1},{"$f":"IF(INDEX(cs[Resolved],$M$60-MATCH(L88,Q$62:Q$1061,0))=\"Yes\",1,-1)","v":1}]
[null,null,null,null,null,null,null,null,null,null,null,28,{"$f":"IF(INDEX(cs[Resolved],$M$60-$L89)=\"Yes\",1,-1)","v":1},{"$f":"(INDEX(lstChosen,$M$60-$L89)=N$61)","v":false},{"$f":"(INDEX(lstChosen,$M$60-$L89)=O$61)","v":true},5,9,{"$f":"IF(INDEX(cs[Resolved],$M$60-MATCH(L89,P$62:P$1061,0))=\"Yes\",1,-1)","v":1},{"$f":"IF(INDEX(cs[Resolved],$M$60-MATCH(L89,Q$62:Q$1061,0))=\"Yes\",1,-1)","v":1}]
[null,null,null,null,null,null,null,null,null,null,null,29,{"$f":"IF(INDEX(cs[Resolved],$M$60-$L90)=\"Yes\",1,-1)","v":1},{"$f":"(INDEX(lstChosen,$M$60-$L90)=N$61)","v":false},{"$f":"(INDEX(lstChosen,$M$60-$L90)=O$61)","v":false},5,9,{"$f":"IF(INDEX(cs[Resolved],$M$60-MATCH(L90,P$62:P$1061,0))=\"Yes\",1,-1)","v":1},{"$f":"IF(INDEX(cs[Resolved],$M$60-MATCH(L90,Q$62:Q$1061,0))=\"Yes\",1,-1)","v":1}]
[null,null,null,null,null,null,null,null,null,null,null,30,{"$f":"IF(INDEX(cs[Resolved],$M$60-$L91)=\"Yes\",1,-1)","v":1},{"$f":"(INDEX(lstChosen,$M$60-$L91)=N$61)","v":false},{"$f":"(INDEX(lstChosen,$M$60-$L91)=O$61)","v":false},5,9,{"$f":"IF(INDEX(cs[Resolved],$M$60-MATCH(L91,P$62:P$1061,0))=\"Yes\",1,-1)","v":1},{"$f":"IF(INDEX(cs[Resolved],$M$60-MATCH(L91,Q$62:Q$1061,0))=\"Yes\",1,-1)","v":1}]
[null,null,null,null,null,null,null,null,null,null,null,31,{"$f":"IF(INDEX(cs[Resolved],$M$60-$L92)=\"Yes\",1,-1)","v":1},{"$f":"(INDEX(lstChosen,$M$60-$L92)=N$61)","v":false},{"$f":"(INDEX(lstChosen,$M$60-$L92)=O$61)","v":false},5,9,{"$f":"IF(INDEX(cs[Resolved],$M$60-MATCH(L92,P$62:P$1061,0))=\"Yes\",1,-1)","v":1},{"$f":"IF(INDEX(cs[Resolved],$M$60-MATCH(L92,Q$62:Q$1061,0))=\"Yes\",1,-1)","v":1}]
[null,null,null,null,null,null,null,null,null,null,null,32,{"$f":"IF(INDEX(cs[Resolved],$M$60-$L93)=\"Yes\",1,-1)","v":1},{"$f":"(INDEX(lstChosen,$M$60-$L93)=N$61)","v":false},{"$f":"(INDEX(lstChosen,$M$60-$L93)=O$61)","v":false},5,9,{"$f":"IF(INDEX(cs[Resolved],$M$60-MATCH(L93,P$62:P$1061,0))=\"Yes\",1,-1)","v":1},{"$f":"IF(INDEX(cs[Resolved],$M$60-MATCH(L93,Q$62:Q$1061,0))=\"Yes\",1,-1)","v":1}]
[null,"Resolution Rate",null,null,null,null,null,null,null,null,null,33,{"$f":"IF(INDEX(cs[Resolved],$M$60-$L94)=\"Yes\",1,-1)","v":-1},{"$f":"(INDEX(lstChosen,$M$60-$L94)=N$61)","v":false},{"$f":"(INDEX(lstChosen,$M$60-$L94)=O$61)","v":false},5,9,{"$f":"IF(INDEX(cs[Resolved],$M$60-MATCH(L94,P$62:P$1061,0))=\"Yes\",1,-1)","v":1},{"$f":"IF(INDEX(cs[Resolved],$M$60-MATCH(L94,Q$62:Q$1061,0))=\"Yes\",1,-1)","v":1}]
[null,null,null,null,null,null,null,null,null,null,null,34,{"$f":"IF(INDEX(cs[Resolved],$M$60-$L95)=\"Yes\",1,-1)","v":1},{"$f":"(INDEX(lstChosen,$M$60-$L95)=N$61)","v":true},{"$f":"(INDEX(lstChosen,$M$60-$L95)=O$61)","v":false},6,9,{"$f":"IF(INDEX(cs[Resolved],$M$60-MATCH(L95,P$62:P$1061,0))=\"Yes\",1,-1)","v":1},{"$f":"IF(INDEX(cs[Resolved],$M$60-MATCH(L95,Q$62:Q$1061,0))=\"Yes\",1,-1)","v":-1}]
[null,null,null,null,null,null,null,null,null,null,null,35,{"$f":"IF(INDEX(cs[Resolved],$M$60-$L96)=\"Yes\",1,-1)","v":1},{"$f":"(INDEX(lstChosen,$M$60-$L96)=N$61)","v":false},{"$f":"(INDEX(lstChosen,$M$60-$L96)=O$61)","v":false},6,9,{"$f":"IF(INDEX(cs[Resolved],$M$60-MATCH(L96,P$62:P$1061,0))=\"Yes\",1,-1)","v":-1},{"$f":"IF(INDEX(cs[Resolved],$M$60-MATCH(L96,Q$62:Q$1061,0))=\"Yes\",1,-1)","v":1}]
[null,null,null,null,null,null,null,null,null,null,null,36,{"$f":"IF(INDEX(cs[Resolved],$M$60-$L97)=\"Yes\",1,-1)","v":1},{"$f":"(INDEX(lstChosen,$M$60-$L97)=N$61)","v":false},{"$f":"(INDEX(lstChosen,$M$60-$L97)=O$61)","v":false},6,9,{"$f":"IF(INDEX(cs[Resolved],$M$60-MATCH(L97,P$62:P$1061,0))=\"Yes\",1,-1)","v":1},{"$f":"IF(INDEX(cs[Resolved],$M$60-MATCH(L97,Q$62:Q$1061,0))=\"Yes\",1,-1)","v":1}]
[null,null,null,null,null,null,null,null,null,null,null,37,{"$f":"IF(INDEX(cs[Resolved],$M$60-$L98)=\"Yes\",1,-1)","v":1},{"$f":"(INDEX(lstChosen,$M$60-$L98)=N$61)","v":false},{"$f":"(INDEX(lstChosen,$M$60-$L98)=O$61)","v":false},6,9,{"$f":"IF(INDEX(cs[Resolved],$M$60-MATCH(L98,P$62:P$1061,0))=\"Yes\",1,-1)","v":1},{"$f":"IF(INDEX(cs[Resolved],$M$60-MATCH(L98,Q$62:Q$1061,0))=\"Yes\",1,-1)","v":-1}]
[null,null,null,null,null,null,null,null,null,null,null,38,{"$f":"IF(INDEX(cs[Resolved],$M$60-$L99)=\"Yes\",1,-1)","v":1},{"$f":"(INDEX(lstChosen,$M$60-$L99)=N$61)","v":true},{"$f":"(INDEX(lstChosen,$M$60-$L99)=O$61)","v":false},7,9,{"$f":"IF(INDEX(cs[Resolved],$M$60-MATCH(L99,P$62:P$1061,0))=\"Yes\",1,-1)","v":1},{"$f":"IF(INDEX(cs[Resolved],$M$60-MATCH(L99,Q$62:Q$1061,0))=\"Yes\",1,-1)","v":1}]
[null,null,null,null,null,null,null,null,null,null,null,39,{"$f":"IF(INDEX(cs[Resolved],$M$60-$L100)=\"Yes\",1,-1)","v":1},{"$f":"(INDEX(lstChosen,$M$60-$L100)=N$61)","v":false},{"$f":"(INDEX(lstChosen,$M$60-$L100)=O$61)","v":false},7,9,{"$f":"IF(INDEX(cs[Resolved],$M$60-MATCH(L100,P$62:P$1061,0))=\"Yes\",1,-1)","v":1},{"$f":"IF(INDEX(cs[Resolved],$M$60-MATCH(L100,Q$62:Q$1061,0))=\"Yes\",1,-1)","v":1}]
[null,"Last 100 calls",null,null,null,null,null,null,null,null,null,40,{"$f":"IF(INDEX(cs[Resolved],$M$60-$L101)=\"Yes\",1,-1)","v":1},{"$f":"(INDEX(lstChosen,$M$60-$L101)=N$61)","v":false},{"$f":"(INDEX(lstChosen,$M$60-$L101)=O$61)","v":true},7,10,{"$f":"IF(INDEX(cs[Resolved],$M$60-MATCH(L101,P$62:P$1061,0))=\"Yes\",1,-1)","v":1},{"$f":"IF(INDEX(cs[Resolved],$M$60-MATCH(L101,Q$62:Q$1061,0))=\"Yes\",1,-1)","v":1}]
[null,null,null,null,null,null,null,null,null,null,null,41,{"$f":"IF(INDEX(cs[Resolved],$M$60-$L102)=\"Yes\",1,-1)","v":1},{"$f":"(INDEX(lstChosen,$M$60-$L102)=N$61)","v":false},{"$f":"(INDEX(lstChosen,$M$60-$L102)=O$61)","v":false},7,10,{"$f":"IF(INDEX(cs[Resolved],$M$60-MATCH(L102,P$62:P$1061,0))=\"Yes\",1,-1)","v":1},{"$f":"IF(INDEX(cs[Resolved],$M$60-MATCH(L102,Q$62:Q$1061,0))=\"Yes\",1,-1)","v":1}]
[null,null,"ALL CALLS",null,{"$f":"N61","v":"South"},null,{"$f":"O61","v":"Mid-west"},null,null,null,null,42,{"$f":"IF(INDEX(cs[Resolved],$M$60-$L103)=\"Yes\",1,-1)","v":1},{"$f":"(INDEX(lstChosen,$M$60-$L103)=N$61)","v":false},{"$f":"(INDEX(lstChosen,$M$60-$L103)=O$61)","v":false},7,10,{"$f":"IF(INDEX(cs[Resolved],$M$60-MATCH(L103,P$62:P$1061,0))=\"Yes\",1,-1)","v":1},{"$f":"IF(INDEX(cs[Resolved],$M$60-MATCH(L103,Q$62:Q$1061,0))=\"Yes\",1,-1)","v":1}]
[null,null,null,null,null,null,null,null,null,null,null,43,{"$f":"IF(INDEX(cs[Resolved],$M$60-$L104)=\"Yes\",1,-1)","v":1},{"$f":"(INDEX(lstChosen,$M$60-$L104)=N$61)","v":false},{"$f":"(INDEX(lstChosen,$M$60-$L104)=O$61)","v":false},7,10,{"$f":"IF(INDEX(cs[Resolved],$M$60-MATCH(L104,P$62:P$1061,0))=\"Yes\",1,-1)","v":1},{"$f":"IF(INDEX(cs[Resolved],$M$60-MATCH(L104,Q$62:Q$1061,0))=\"Yes\",1,-1)","v":1}]
[null,null,null,null,null,null,null,null,null,null,null,44,{"$f":"IF(INDEX(cs[Resolved],$M$60-$L105)=\"Yes\",1,-1)","v":1},{"$f":"(INDEX(lstChosen,$M$60-$L105)=N$61)","v":false},{"$f":"(INDEX(lstChosen,$M$60-$L105)=O$61)","v":false},7,10,{"$f":"IF(INDEX(cs[Resolved],$M$60-MATCH(L105,P$62:P$1061,0))=\"Yes\",1,-1)","v":1},{"$f":"IF(INDEX(cs[Resolved],$M$60-MATCH(L105,Q$62:Q$1061,0))=\"Yes\",1,-1)","v":1}]
[null,null,null,null,null,null,null,null,null,null,null,45,{"$f":"IF(INDEX(cs[Resolved],$M$60-$L106)=\"Yes\",1,-1)","v":-1},{"$f":"(INDEX(lstChosen,$M$60-$L106)=N$61)","v":false},{"$f":"(INDEX(lstChosen,$M$60-$L106)=O$61)","v":true},7,11,{"$f":"IF(INDEX(cs[Resolved],$M$60-MATCH(L106,P$62:P$1061,0))=\"Yes\",1,-1)","v":1},{"$f":"IF(INDEX(cs[Resolved],$M$60-MATCH(L106,Q$62:Q$1061,0))=\"Yes\",1,-1)","v":1}]
[null,null,null,null,null,null,null,null,null,null,null,46,{"$f":"IF(INDEX(cs[Resolved],$M$60-$L107)=\"Yes\",1,-1)","v":1},{"$f":"(INDEX(lstChosen,$M$60-$L107)=N$61)","v":false},{"$f":"(INDEX(lstChosen,$M$60-$L107)=O$61)","v":false},7,11,{"$f":"IF(INDEX(cs[Resolved],$M$60-MATCH(L107,P$62:P$1061,0))=\"Yes\",1,-1)","v":1},{"$f":"IF(INDEX(cs[Resolved],$M$60-MATCH(L107,Q$62:Q$1061,0))=\"Yes\",1,-1)","v":1}]
[null,null,null,null,null,null,null,null,null,null,null,47,{"$f":"IF(INDEX(cs[Resolved],$M$60-$L108)=\"Yes\",1,-1)","v":1},{"$f":"(INDEX(lstChosen,$M$60-$L108)=N$61)","v":false},{"$f":"(INDEX(lstChosen,$M$60-$L108)=O$61)","v":false},7,11,{"$f":"IF(INDEX(cs[Resolved],$M$60-MATCH(L108,P$62:P$1061,0))=\"Yes\",1,-1)","v":1},{"$f":"IF(INDEX(cs[Resolved],$M$60-MATCH(L108,Q$62:Q$1061,0))=\"Yes\",1,-1)","v":1}]
[null,null,null,null,null,null,null,null,null,null,null,48,{"$f":"IF(INDEX(cs[Resolved],$M$60-$L109)=\"Yes\",1,-1)","v":1},{"$f":"(INDEX(lstChosen,$M$60-$L109)=N$61)","v":false},{"$f":"(INDEX(lstChosen,$M$60-$L109)=O$61)","v":false},7,11,{"$f":"IF(INDEX(cs[Resolved],$M$60-MATCH(L109,P$62:P$1061,0))=\"Yes\",1,-1)","v":1},{"$f":"IF(INDEX(cs[Resolved],$M$60-MATCH(L109,Q$62:Q$1061,0))=\"Yes\",1,-1)","v":1}]
[null,null,null,null,null,null,null,null,null,null,null,49,{"$f":"IF(INDEX(cs[Resolved],$M$60-$L110)=\"Yes\",1,-1)","v":1},{"$f":"(INDEX(lstChosen,$M$60-$L110)=N$61)","v":true},{"$f":"(INDEX(lstChosen,$M$60-$L110)=O$61)","v":false},8,11,{"$f":"IF(INDEX(cs[Resolved],$M$60-MATCH(L110,P$62:P$1061,0))=\"Yes\",1,-1)","v":1},{"$f":"IF(INDEX(cs[Resolved],$M$60-MATCH(L110,Q$62:Q$1061,0))=\"Yes\",1,-1)","v":1}]
[null,null,null,null,null,null,null,null,null,null,null,50,{"$f":"IF(INDEX(cs[Resolved],$M$60-$L111)=\"Yes\",1,-1)","v":1},{"$f":"(INDEX(lstChosen,$M$60-$L111)=N$61)","v":true},{"$f":"(INDEX(lstChosen,$M$60-$L111)=O$61)","v":false},9,11,{"$f":"IF(INDEX(cs[Resolved],$M$60-MATCH(L111,P$62:P$1061,0))=\"Yes\",1,-1)","v":1},{"$f":"IF(INDEX(cs[Resolved],$M$60-MATCH(L111,Q$62:Q$1061,0))=\"Yes\",1,-1)","v":1}]
[null,null,null,null,null,null,null,null,null,null,null,51,{"$f":"IF(INDEX(cs[Resolved],$M$60-$L112)=\"Yes\",1,-1)","v":1},{"$f":"(INDEX(lstChosen,$M$60-$L112)=N$61)","v":false},{"$f":"(INDEX(lstChosen,$M$60-$L112)=O$61)","v":false},9,11,{"$f":"IF(INDEX(cs[Resolved],$M$60-MATCH(L112,P$62:P$1061,0))=\"Yes\",1,-1)","v":1},{"$f":"IF(INDEX(cs[Resolved],$M$60-MATCH(L112,Q$62:Q$1061,0))=\"Yes\",1,-1)","v":1}]
[null,"Satisfaction Ratings",null,null,null,null,null,null,null,null,null,52,{"$f":"IF(INDEX(cs[Resolved],$M$60-$L113)=\"Yes\",1,-1)","v":1},{"$f":"(INDEX(lstChosen,$M$60-$L113)=N$61)","v":false},{"$f":"(INDEX(lstChosen,$M$60-$L113)=O$61)","v":false},9,11,{"$f":"IF(INDEX(cs[Resolved],$M$60-MATCH(L113,P$62:P$1061,0))=\"Yes\",1,-1)","v":1},{"$f":"IF(INDEX(cs[Resolved],$M$60-MATCH(L113,Q$62:Q$1061,0))=\"Yes\",1,-1)","v":1}]
[null,null,null,null,null,null,null,null,null,null,null,53,{"$f":"IF(INDEX(cs[Resolved],$M$60-$L114)=\"Yes\",1,-1)","v":1},{"$f":"(INDEX(lstChosen,$M$60-$L114)=N$61)","v":true},{"$f":"(INDEX(lstChosen,$M$60-$L114)=O$61)","v":false},10,11,{"$f":"IF(INDEX(cs[Resolved],$M$60-MATCH(L114,P$62:P$1061,0))=\"Yes\",1,-1)","v":1},{"$f":"IF(INDEX(cs[Resolved],$M$60-MATCH(L114,Q$62:Q$1061,0))=\"Yes\",1,-1)","v":1}]
[null,null,null,null,null,null,null,null,null,null,null,54,{"$f":"IF(INDEX(cs[Resolved],$M$60-$L115)=\"Yes\",1,-1)","v":1},{"$f":"(INDEX(lstChosen,$M$60-$L115)=N$61)","v":false},{"$f":"(INDEX(lstChosen,$M$60-$L115)=O$61)","v":false},10,11,{"$f":"IF(INDEX(cs[Resolved],$M$60-MATCH(L115,P$62:P$1061,0))=\"Yes\",1,-1)","v":1},{"$f":"IF(INDEX(cs[Resolved],$M$60-MATCH(L115,Q$62:Q$1061,0))=\"Yes\",1,-1)","v":1}]
[null,null,null,null,null,null,null,null,null,null,null,55,{"$f":"IF(INDEX(cs[Resolved],$M$60-$L116)=\"Yes\",1,-1)","v":1},{"$f":"(INDEX(lstChosen,$M$60-$L116)=N$61)","v":false},{"$f":"(INDEX(lstChosen,$M$60-$L116)=O$61)","v":false},10,11,{"$f":"IF(INDEX(cs[Resolved],$M$60-MATCH(L116,P$62:P$1061,0))=\"Yes\",1,-1)","v":1},{"$f":"IF(INDEX(cs[Resolved],$M$60-MATCH(L116,Q$62:Q$1061,0))=\"Yes\",1,-1)","v":1}]
[null,null,null,null,null,null,null,null,null,null,null,56,{"$f":"IF(INDEX(cs[Resolved],$M$60-$L117)=\"Yes\",1,-1)","v":-1},{"$f":"(INDEX(lstChosen,$M$60-$L117)=N$61)","v":false},{"$f":"(INDEX(lstChosen,$M$60-$L117)=O$61)","v":false},10,11,{"$f":"IF(INDEX(cs[Resolved],$M$60-MATCH(L117,P$62:P$1061,0))=\"Yes\",1,-1)","v":1},{"$f":"IF(INDEX(cs[Resolved],$M$60-MATCH(L117,Q$62:Q$1061,0))=\"Yes\",1,-1)","v":1}]
[null,null,null,null,null,null,null,null,null,null,null,57,{"$f":"IF(INDEX(cs[Resolved],$M$60-$L118)=\"Yes\",1,-1)","v":1},{"$f":"(INDEX(lstChosen,$M$60-$L118)=N$61)","v":false},{"$f":"(INDEX(lstChosen,$M$60-$L118)=O$61)","v":false},10,11,{"$f":"IF(INDEX(cs[Resolved],$M$60-MATCH(L118,P$62:P$1061,0))=\"Yes\",1,-1)","v":1},{"$f":"IF(INDEX(cs[Resolved],$M$60-MATCH(L118,Q$62:Q$1061,0))=\"Yes\",1,-1)","v":1}]
[null,null,null,null,null,null,null,null,null,null,null,58,{"$f":"IF(INDEX(cs[Resolved],$M$60-$L119)=\"Yes\",1,-1)","v":-1},{"$f":"(INDEX(lstChosen,$M$60-$L119)=N$61)","v":false},{"$f":"(INDEX(lstChosen,$M$60-$L119)=O$61)","v":false},10,11,{"$f":"IF(INDEX(cs[Resolved],$M$60-MATCH(L119,P$62:P$1061,0))=\"Yes\",1,-1)","v":-1},{"$f":"IF(INDEX(cs[Resolved],$M$60-MATCH(L119,Q$62:Q$1061,0))=\"Yes\",1,-1)","v":1}]
[null,null,null,null,null,null,null,null,null,null,null,59,{"$f":"IF(INDEX(cs[Resolved],$M$60-$L120)=\"Yes\",1,-1)","v":1},{"$f":"(INDEX(lstChosen,$M$60-$L120)=N$61)","v":false},{"$f":"(INDEX(lstChosen,$M$60-$L120)=O$61)","v":true},10,12,{"$f":"IF(INDEX(cs[Resolved],$M$60-MATCH(L120,P$62:P$1061,0))=\"Yes\",1,-1)","v":1},{"$f":"IF(INDEX(cs[Resolved],$M$60-MATCH(L120,Q$62:Q$1061,0))=\"Yes\",1,-1)","v":1}]
[null,null,null,null,null,null,null,null,null,null,null,60,{"$f":"IF(INDEX(cs[Resolved],$M$60-$L121)=\"Yes\",1,-1)","v":1},{"$f":"(INDEX(lstChosen,$M$60-$L121)=N$61)","v":false},{"$f":"(INDEX(lstChosen,$M$60-$L121)=O$61)","v":true},10,13,{"$f":"IF(INDEX(cs[Resolved],$M$60-MATCH(L121,P$62:P$1061,0))=\"Yes\",1,-1)","v":1},{"$f":"IF(INDEX(cs[Resolved],$M$60-MATCH(L121,Q$62:Q$1061,0))=\"Yes\",1,-1)","v":1}]
[null,null,null,null,null,null,null,null,null,null,null,61,{"$f":"IF(INDEX(cs[Resolved],$M$60-$L122)=\"Yes\",1,-1)","v":1},{"$f":"(INDEX(lstChosen,$M$60-$L122)=N$61)","v":false},{"$f":"(INDEX(lstChosen,$M$60-$L122)=O$61)","v":true},10,14,{"$f":"IF(INDEX(cs[Resolved],$M$60-MATCH(L122,P$62:P$1061,0))=\"Yes\",1,-1)","v":1},{"$f":"IF(INDEX(cs[Resolved],$M$60-MATCH(L122,Q$62:Q$1061,0))=\"Yes\",1,-1)","v":1}]
[null,null,null,null,null,null,null,null,null,null,null,62,{"$f":"IF(INDEX(cs[Resolved],$M$60-$L123)=\"Yes\",1,-1)","v":1},{"$f":"(INDEX(lstChosen,$M$60-$L123)=N$61)","v":true},{"$f":"(INDEX(lstChosen,$M$60-$L123)=O$61)","v":false},11,14,{"$f":"IF(INDEX(cs[Resolved],$M$60-MATCH(L123,P$62:P$1061,0))=\"Yes\",1,-1)","v":1},{"$f":"IF(INDEX(cs[Resolved],$M$60-MATCH(L123,Q$62:Q$1061,0))=\"Yes\",1,-1)","v":1}]
[null,"Upsell $s",null,null,null,null,null,null,null,null,null,63,{"$f":"IF(INDEX(cs[Resolved],$M$60-$L124)=\"Yes\",1,-1)","v":1},{"$f":"(INDEX(lstChosen,$M$60-$L124)=N$61)","v":true},{"$f":"(INDEX(lstChosen,$M$60-$L124)=O$61)","v":false},12,14,{"$f":"IF(INDEX(cs[Resolved],$M$60-MATCH(L124,P$62:P$1061,0))=\"Yes\",1,-1)","v":1},{"$f":"IF(INDEX(cs[Resolved],$M$60-MATCH(L124,Q$62:Q$1061,0))=\"Yes\",1,-1)","v":1}]
[null,null,null,null,null,null,null,null,null,null,null,64,{"$f":"IF(INDEX(cs[Resolved],$M$60-$L125)=\"Yes\",1,-1)","v":1},{"$f":"(INDEX(lstChosen,$M$60-$L125)=N$61)","v":false},{"$f":"(INDEX(lstChosen,$M$60-$L125)=O$61)","v":false},12,14,{"$f":"IF(INDEX(cs[Resolved],$M$60-MATCH(L125,P$62:P$1061,0))=\"Yes\",1,-1)","v":1},{"$f":"IF(INDEX(cs[Resolved],$M$60-MATCH(L125,Q$62:Q$1061,0))=\"Yes\",1,-1)","v":1}]
[null,null,null,null,null,null,null,null,null,null,null,65,{"$f":"IF(INDEX(cs[Resolved],$M$60-$L126)=\"Yes\",1,-1)","v":1},{"$f":"(INDEX(lstChosen,$M$60-$L126)=N$61)","v":false},{"$f":"(INDEX(lstChosen,$M$60-$L126)=O$61)","v":false},12,14,{"$f":"IF(INDEX(cs[Resolved],$M$60-MATCH(L126,P$62:P$1061,0))=\"Yes\",1,-1)","v":1},{"$f":"IF(INDEX(cs[Resolved],$M$60-MATCH(L126,Q$62:Q$1061,0))=\"Yes\",1,-1)","v":1}]
[null,null,null,null,null,null,null,null,null,null,null,66,{"$f":"IF(INDEX(cs[Resolved],$M$60-$L127)=\"Yes\",1,-1)","v":1},{"$f":"(INDEX(lstChosen,$M$60-$L127)=N$61)","v":true},{"$f":"(INDEX(lstChosen,$M$60-$L127)=O$61)","v":false},13,14,{"$f":"IF(INDEX(cs[Resolved],$M$60-MATCH(L127,P$62:P$1061,0))=\"Yes\",1,-1)","v":1},{"$f":"IF(INDEX(cs[Resolved],$M$60-MATCH(L127,Q$62:Q$1061,0))=\"Yes\",1,-1)","v":1}]
[null,null,null,null,null,null,null,null,null,null,null,67,{"$f":"IF(INDEX(cs[Resolved],$M$60-$L128)=\"Yes\",1,-1)","v":1},{"$f":"(INDEX(lstChosen,$M$60-$L128)=N$61)","v":false},{"$f":"(INDEX(lstChosen,$M$60-$L128)=O$61)","v":false},{"$f":"P127+N128","v":13},{"$f":"Q127+O128","v":14},{"$f":"IF(INDEX(cs[Resolved],$M$60-MATCH(L128,P$62:P$1061,0))=\"Yes\",1,-1)","v":1},{"$f":"IF(INDEX(cs[Resolved],$M$60-MATCH(L128,Q$62:Q$1061,0))=\"Yes\",1,-1)","v":1}]
[null,null,null,null,null,null,null,null,null,null,null,68,{"$f":"IF(INDEX(cs[Resolved],$M$60-$L129)=\"Yes\",1,-1)","v":1},{"$f":"(INDEX(lstChosen,$M$60-$L129)=N$61)","v":false},{"$f":"(INDEX(lstChosen,$M$60-$L129)=O$61)","v":true},13,15,{"$f":"IF(INDEX(cs[Resolved],$M$60-MATCH(L129,P$62:P$1061,0))=\"Yes\",1,-1)","v":1},{"$f":"IF(INDEX(cs[Resolved],$M$60-MATCH(L129,Q$62:Q$1061,0))=\"Yes\",1,-1)","v":1}]
[null,null,null,null,null,null,null,null,null,null,null,69,{"$f":"IF(INDEX(cs[Resolved],$M$60-$L130)=\"Yes\",1,-1)","v":1},{"$f":"(INDEX(lstChosen,$M$60-$L130)=N$61)","v":false},{"$f":"(INDEX(lstChosen,$M$60-$L130)=O$61)","v":false},13,15,{"$f":"IF(INDEX(cs[Resolved],$M$60-MATCH(L130,P$62:P$1061,0))=\"Yes\",1,-1)","v":1},{"$f":"IF(INDEX(cs[Resolved],$M$60-MATCH(L130,Q$62:Q$1061,0))=\"Yes\",1,-1)","v":-1}]
[null,null,null,null,null,null,null,null,null,null,null,70,{"$f":"IF(INDEX(cs[Resolved],$M$60-$L131)=\"Yes\",1,-1)","v":1},{"$f":"(INDEX(lstChosen,$M$60-$L131)=N$61)","v":false},{"$f":"(INDEX(lstChosen,$M$60-$L131)=O$61)","v":false},13,15,{"$f":"IF(INDEX(cs[Resolved],$M$60-MATCH(L131,P$62:P$1061,0))=\"Yes\",1,-1)","v":1},{"$f":"IF(INDEX(cs[Resolved],$M$60-MATCH(L131,Q$62:Q$1061,0))=\"Yes\",1,-1)","v":1}]
[null,null,null,null,null,null,null,null,null,null,null,71,{"$f":"IF(INDEX(cs[Resolved],$M$60-$L132)=\"Yes\",1,-1)","v":1},{"$f":"(INDEX(lstChosen,$M$60-$L132)=N$61)","v":false},{"$f":"(INDEX(lstChosen,$M$60-$L132)=O$61)","v":true},13,16,{"$f":"IF(INDEX(cs[Resolved],$M$60-MATCH(L132,P$62:P$1061,0))=\"Yes\",1,-1)","v":1},{"$f":"IF(INDEX(cs[Resolved],$M$60-MATCH(L132,Q$62:Q$1061,0))=\"Yes\",1,-1)","v":1}]
[null,null,null,null,null,null,null,null,null,null,null,72,{"$f":"IF(INDEX(cs[Resolved],$M$60-$L133)=\"Yes\",1,-1)","v":-1},{"$f":"(INDEX(lstChosen,$M$60-$L133)=N$61)","v":false},{"$f":"(INDEX(lstChosen,$M$60-$L133)=O$61)","v":false},13,16,{"$f":"IF(INDEX(cs[Resolved],$M$60-MATCH(L133,P$62:P$1061,0))=\"Yes\",1,-1)","v":1},{"$f":"IF(INDEX(cs[Resolved],$M$60-MATCH(L133,Q$62:Q$1061,0))=\"Yes\",1,-1)","v":1}]
[null,null,null,null,null,null,null,null,null,null,null,73,{"$f":"IF(INDEX(cs[Resolved],$M$60-$L134)=\"Yes\",1,-1)","v":1},{"$f":"(INDEX(lstChosen,$M$60-$L134)=N$61)","v":false},{"$f":"(INDEX(lstChosen,$M$60-$L134)=O$61)","v":false},13,16,{"$f":"IF(INDEX(cs[Resolved],$M$60-MATCH(L134,P$62:P$1061,0))=\"Yes\",1,-1)","v":1},{"$f":"IF(INDEX(cs[Resolved],$M$60-MATCH(L134,Q$62:Q$1061,0))=\"Yes\",1,-1)","v":-1}]
[null,null,null,null,null,null,null,null,null,null,null,74,{"$f":"IF(INDEX(cs[Resolved],$M$60-$L135)=\"Yes\",1,-1)","v":1},{"$f":"(INDEX(lstChosen,$M$60-$L135)=N$61)","v":false},{"$f":"(INDEX(lstChosen,$M$60-$L135)=O$61)","v":false},13,16,{"$f":"IF(INDEX(cs[Resolved],$M$60-MATCH(L135,P$62:P$1061,0))=\"Yes\",1,-1)","v":1},{"$f":"IF(INDEX(cs[Resolved],$M$60-MATCH(L135,Q$62:Q$1061,0))=\"Yes\",1,-1)","v":1}]
[null,null,null,null,null,null,null,null,null,null,null,75,{"$f":"IF(INDEX(cs[Resolved],$M$60-$L136)=\"Yes\",1,-1)","v":-1},{"$f":"(INDEX(lstChosen,$M$60-$L136)=N$61)","v":true},{"$f":"(INDEX(lstChosen,$M$60-$L136)=O$61)","v":false},14,16,{"$f":"IF(INDEX(cs[Resolved],$M$60-MATCH(L136,P$62:P$1061,0))=\"Yes\",1,-1)","v":1},{"$f":"IF(INDEX(cs[Resolved],$M$60-MATCH(L136,Q$62:Q$1061,0))=\"Yes\",1,-1)","v":1}]
[null,null,null,null,null,null,null,null,null,null,null,76,{"$f":"IF(INDEX(cs[Resolved],$M$60-$L137)=\"Yes\",1,-1)","v":1},{"$f":"(INDEX(lstChosen,$M$60-$L137)=N$61)","v":false},{"$f":"(INDEX(lstChosen,$M$60-$L137)=O$61)","v":false},14,16,{"$f":"IF(INDEX(cs[Resolved],$M$60-MATCH(L137,P$62:P$1061,0))=\"Yes\",1,-1)","v":1},{"$f":"IF(INDEX(cs[Resolved],$M$60-MATCH(L137,Q$62:Q$1061,0))=\"Yes\",1,-1)","v":1}]
[null,null,null,null,null,null,null,null,null,null,null,77,{"$f":"IF(INDEX(cs[Resolved],$M$60-$L138)=\"Yes\",1,-1)","v":1},{"$f":"(INDEX(lstChosen,$M$60-$L138)=N$61)","v":false},{"$f":"(INDEX(lstChosen,$M$60-$L138)=O$61)","v":false},14,16,{"$f":"IF(INDEX(cs[Resolved],$M$60-MATCH(L138,P$62:P$1061,0))=\"Yes\",1,-1)","v":-1},{"$f":"IF(INDEX(cs[Resolved],$M$60-MATCH(L138,Q$62:Q$1061,0))=\"Yes\",1,-1)","v":-1}]
[null,null,null,null,null,null,null,null,null,null,null,78,{"$f":"IF(INDEX(cs[Resolved],$M$60-$L139)=\"Yes\",1,-1)","v":1},{"$f":"(INDEX(lstChosen,$M$60-$L139)=N$61)","v":false},{"$f":"(INDEX(lstChosen,$M$60-$L139)=O$61)","v":false},14,16,{"$f":"IF(INDEX(cs[Resolved],$M$60-MATCH(L139,P$62:P$1061,0))=\"Yes\",1,-1)","v":1},{"$f":"IF(INDEX(cs[Resolved],$M$60-MATCH(L139,Q$62:Q$1061,0))=\"Yes\",1,-1)","v":1}]
[null,null,null,null,null,null,null,null,null,null,null,79,{"$f":"IF(INDEX(cs[Resolved],$M$60-$L140)=\"Yes\",1,-1)","v":1},{"$f":"(INDEX(lstChosen,$M$60-$L140)=N$61)","v":false},{"$f":"(INDEX(lstChosen,$M$60-$L140)=O$61)","v":false},14,16,{"$f":"IF(INDEX(cs[Resolved],$M$60-MATCH(L140,P$62:P$1061,0))=\"Yes\",1,-1)","v":1},{"$f":"IF(INDEX(cs[Resolved],$M$60-MATCH(L140,Q$62:Q$1061,0))=\"Yes\",1,-1)","v":1}]
[null,null,null,null,null,null,null,null,null,null,null,80,{"$f":"IF(INDEX(cs[Resolved],$M$60-$L141)=\"Yes\",1,-1)","v":1},{"$f":"(INDEX(lstChosen,$M$60-$L141)=N$61)","v":false},{"$f":"(INDEX(lstChosen,$M$60-$L141)=O$61)","v":false},14,16,{"$f":"IF(INDEX(cs[Resolved],$M$60-MATCH(L141,P$62:P$1061,0))=\"Yes\",1,-1)","v":1},{"$f":"IF(INDEX(cs[Resolved],$M$60-MATCH(L141,Q$62:Q$1061,0))=\"Yes\",1,-1)","v":1}]
[null,null,null,null,null,null,null,null,null,null,null,81,{"$f":"IF(INDEX(cs[Resolved],$M$60-$L142)=\"Yes\",1,-1)","v":1},{"$f":"(INDEX(lstChosen,$M$60-$L142)=N$61)","v":false},{"$f":"(INDEX(lstChosen,$M$60-$L142)=O$61)","v":false},14,16,{"$f":"IF(INDEX(cs[Resolved],$M$60-MATCH(L142,P$62:P$1061,0))=\"Yes\",1,-1)","v":1},{"$f":"IF(INDEX(cs[Resolved],$M$60-MATCH(L142,Q$62:Q$1061,0))=\"Yes\",1,-1)","v":1}]
[null,null,null,null,null,null,null,null,null,null,null,82,{"$f":"IF(INDEX(cs[Resolved],$M$60-$L143)=\"Yes\",1,-1)","v":1},{"$f":"(INDEX(lstChosen,$M$60-$L143)=N$61)","v":false},{"$f":"(INDEX(lstChosen,$M$60-$L143)=O$61)","v":true},14,17,{"$f":"IF(INDEX(cs[Resolved],$M$60-MATCH(L143,P$62:P$1061,0))=\"Yes\",1,-1)","v":1},{"$f":"IF(INDEX(cs[Resolved],$M$60-MATCH(L143,Q$62:Q$1061,0))=\"Yes\",1,-1)","v":1}]
[null,null,null,null,null,null,null,null,null,null,null,83,{"$f":"IF(INDEX(cs[Resolved],$M$60-$L144)=\"Yes\",1,-1)","v":1},{"$f":"(INDEX(lstChosen,$M$60-$L144)=N$61)","v":false},{"$f":"(INDEX(lstChosen,$M$60-$L144)=O$61)","v":true},14,18,{"$f":"IF(INDEX(cs[Resolved],$M$60-MATCH(L144,P$62:P$1061,0))=\"Yes\",1,-1)","v":1},{"$f":"IF(INDEX(cs[Resolved],$M$60-MATCH(L144,Q$62:Q$1061,0))=\"Yes\",1,-1)","v":1}]
[null,null,null,null,null,null,null,null,null,null,null,84,{"$f":"IF(INDEX(cs[Resolved],$M$60-$L145)=\"Yes\",1,-1)","v":1},{"$f":"(INDEX(lstChosen,$M$60-$L145)=N$61)","v":false},{"$f":"(INDEX(lstChosen,$M$60-$L145)=O$61)","v":false},14,18,{"$f":"IF(INDEX(cs[Resolved],$M$60-MATCH(L145,P$62:P$1061,0))=\"Yes\",1,-1)","v":-1},{"$f":"IF(INDEX(cs[Resolved],$M$60-MATCH(L145,Q$62:Q$1061,0))=\"Yes\",1,-1)","v":1}]
[null,null,null,null,null,null,null,null,null,null,null,85,{"$f":"IF(INDEX(cs[Resolved],$M$60-$L146)=\"Yes\",1,-1)","v":1},{"$f":"(INDEX(lstChosen,$M$60-$L146)=N$61)","v":false},{"$f":"(INDEX(lstChosen,$M$60-$L146)=O$61)","v":true},14,19,{"$f":"IF(INDEX(cs[Resolved],$M$60-MATCH(L146,P$62:P$1061,0))=\"Yes\",1,-1)","v":1},{"$f":"IF(INDEX(cs[Resolved],$M$60-MATCH(L146,Q$62:Q$1061,0))=\"Yes\",1,-1)","v":1}]
[null,null,null,null,null,null,null,null,null,null,null,86,{"$f":"IF(INDEX(cs[Resolved],$M$60-$L147)=\"Yes\",1,-1)","v":1},{"$f":"(INDEX(lstChosen,$M$60-$L147)=N$61)","v":false},{"$f":"(INDEX(lstChosen,$M$60-$L147)=O$61)","v":false},14,19,{"$f":"IF(INDEX(cs[Resolved],$M$60-MATCH(L147,P$62:P$1061,0))=\"Yes\",1,-1)","v":1},{"$f":"IF(INDEX(cs[Resolved],$M$60-MATCH(L147,Q$62:Q$1061,0))=\"Yes\",1,-1)","v":1}]
[null,null,null,null,null,null,null,null,null,null,null,87,{"$f":"IF(INDEX(cs[Resolved],$M$60-$L148)=\"Yes\",1,-1)","v":1},{"$f":"(INDEX(lstChosen,$M$60-$L148)=N$61)","v":true},{"$f":"(INDEX(lstChosen,$M$60-$L148)=O$61)","v":false},15,19,{"$f":"IF(INDEX(cs[Resolved],$M$60-MATCH(L148,P$62:P$1061,0))=\"Yes\",1,-1)","v":1},{"$f":"IF(INDEX(cs[Resolved],$M$60-MATCH(L148,Q$62:Q$1061,0))=\"Yes\",1,-1)","v":1}]
[null,null,null,null,null,null,null,null,null,null,null,88,{"$f":"IF(INDEX(cs[Resolved],$M$60-$L149)=\"Yes\",1,-1)","v":1},{"$f":"(INDEX(lstChosen,$M$60-$L149)=N$61)","v":false},{"$f":"(INDEX(lstChosen,$M$60-$L149)=O$61)","v":false},15,19,{"$f":"IF(INDEX(cs[Resolved],$M$60-MATCH(L149,P$62:P$1061,0))=\"Yes\",1,-1)","v":1},{"$f":"IF(INDEX(cs[Resolved],$M$60-MATCH(L149,Q$62:Q$1061,0))=\"Yes\",1,-1)","v":1}]
[null,null,null,null,null,null,null,null,null,null,null,89,{"$f":"IF(INDEX(cs[Resolved],$M$60-$L150)=\"Yes\",1,-1)","v":-1},{"$f":"(INDEX(lstChosen,$M$60-$L150)=N$61)","v":false},{"$f":"(INDEX(lstChosen,$M$60-$L150)=O$61)","v":false},15,19,{"$f":"IF(INDEX(cs[Resolved],$M$60-MATCH(L150,P$62:P$1061,0))=\"Yes\",1,-1)","v":1},{"$f":"IF(INDEX(cs[Resolved],$M$60-MATCH(L150,Q$62:Q$1061,0))=\"Yes\",1,-1)","v":1}]
[null,null,null,null,null,null,null,null,null,null,null,90,{"$f":"IF(INDEX(cs[Resolved],$M$60-$L151)=\"Yes\",1,-1)","v":1},{"$f":"(INDEX(lstChosen,$M$60-$L151)=N$61)","v":false},{"$f":"(INDEX(lstChosen,$M$60-$L151)=O$61)","v":false},15,19,{"$f":"IF(INDEX(cs[Resolved],$M$60-MATCH(L151,P$62:P$1061,0))=\"Yes\",1,-1)","v":1},{"$f":"IF(INDEX(cs[Resolved],$M$60-MATCH(L151,Q$62:Q$1061,0))=\"Yes\",1,-1)","v":1}]
[null,null,null,null,null,null,null,null,null,null,null,91,{"$f":"IF(INDEX(cs[Resolved],$M$60-$L152)=\"Yes\",1,-1)","v":1},{"$f":"(INDEX(lstChosen,$M$60-$L152)=N$61)","v":false},{"$f":"(INDEX(lstChosen,$M$60-$L152)=O$61)","v":false},15,19,{"$f":"IF(INDEX(cs[Resolved],$M$60-MATCH(L152,P$62:P$1061,0))=\"Yes\",1,-1)","v":1},{"$f":"IF(INDEX(cs[Resolved],$M$60-MATCH(L152,Q$62:Q$1061,0))=\"Yes\",1,-1)","v":1}]
[null,null,null,null,null,null,null,null,null,null,null,92,{"$f":"IF(INDEX(cs[Resolved],$M$60-$L153)=\"Yes\",1,-1)","v":1},{"$f":"(INDEX(lstChosen,$M$60-$L153)=N$61)","v":true},{"$f":"(INDEX(lstChosen,$M$60-$L153)=O$61)","v":false},16,19,{"$f":"IF(INDEX(cs[Resolved],$M$60-MATCH(L153,P$62:P$1061,0))=\"Yes\",1,-1)","v":1},{"$f":"IF(INDEX(cs[Resolved],$M$60-MATCH(L153,Q$62:Q$1061,0))=\"Yes\",1,-1)","v":-1}]
[null,null,null,null,null,null,null,null,null,null,null,93,{"$f":"IF(INDEX(cs[Resolved],$M$60-$L154)=\"Yes\",1,-1)","v":1},{"$f":"(INDEX(lstChosen,$M$60-$L154)=N$61)","v":false},{"$f":"(INDEX(lstChosen,$M$60-$L154)=O$61)","v":false},16,19,{"$f":"IF(INDEX(cs[Resolved],$M$60-MATCH(L154,P$62:P$1061,0))=\"Yes\",1,-1)","v":1},{"$f":"IF(INDEX(cs[Resolved],$M$60-MATCH(L154,Q$62:Q$1061,0))=\"Yes\",1,-1)","v":1}]
[null,null,null,null,null,null,null,null,null,null,null,94,{"$f":"IF(INDEX(cs[Resolved],$M$60-$L155)=\"Yes\",1,-1)","v":1},{"$f":"(INDEX(lstChosen,$M$60-$L155)=N$61)","v":false},{"$f":"(INDEX(lstChosen,$M$60-$L155)=O$61)","v":false},16,19,{"$f":"IF(INDEX(cs[Resolved],$M$60-MATCH(L155,P$62:P$1061,0))=\"Yes\",1,-1)","v":1},{"$f":"IF(INDEX(cs[Resolved],$M$60-MATCH(L155,Q$62:Q$1061,0))=\"Yes\",1,-1)","v":-1}]
[null,null,null,null,null,null,null,null,null,null,null,95,{"$f":"IF(INDEX(cs[Resolved],$M$60-$L156)=\"Yes\",1,-1)","v":1},{"$f":"(INDEX(lstChosen,$M$60-$L156)=N$61)","v":true},{"$f":"(INDEX(lstChosen,$M$60-$L156)=O$61)","v":false},17,19,{"$f":"IF(INDEX(cs[Resolved],$M$60-MATCH(L156,P$62:P$1061,0))=\"Yes\",1,-1)","v":1},{"$f":"IF(INDEX(cs[Resolved],$M$60-MATCH(L156,Q$62:Q$1061,0))=\"Yes\",1,-1)","v":1}]
[null,null,null,null,null,null,null,null,null,null,null,96,{"$f":"IF(INDEX(cs[Resolved],$M$60-$L157)=\"Yes\",1,-1)","v":1},{"$f":"(INDEX(lstChosen,$M$60-$L157)=N$61)","v":false},{"$f":"(INDEX(lstChosen,$M$60-$L157)=O$61)","v":false},17,19,{"$f":"IF(INDEX(cs[Resolved],$M$60-MATCH(L157,P$62:P$1061,0))=\"Yes\",1,-1)","v":1},{"$f":"IF(INDEX(cs[Resolved],$M$60-MATCH(L157,Q$62:Q$1061,0))=\"Yes\",1,-1)","v":1}]
[null,null,null,null,null,null,null,null,null,null,null,97,{"$f":"IF(INDEX(cs[Resolved],$M$60-$L158)=\"Yes\",1,-1)","v":1},{"$f":"(INDEX(lstChosen,$M$60-$L158)=N$61)","v":false},{"$f":"(INDEX(lstChosen,$M$60-$L158)=O$61)","v":false},17,19,{"$f":"IF(INDEX(cs[Resolved],$M$60-MATCH(L158,P$62:P$1061,0))=\"Yes\",1,-1)","v":1},{"$f":"IF(INDEX(cs[Resolved],$M$60-MATCH(L158,Q$62:Q$1061,0))=\"Yes\",1,-1)","v":-1}]
[null,null,null,null,null,null,null,null,null,null,null,98,{"$f":"IF(INDEX(cs[Resolved],$M$60-$L159)=\"Yes\",1,-1)","v":1},{"$f":"(INDEX(lstChosen,$M$60-$L159)=N$61)","v":false},{"$f":"(INDEX(lstChosen,$M$60-$L159)=O$61)","v":true},17,20,{"$f":"IF(INDEX(cs[Resolved],$M$60-MATCH(L159,P$62:P$1061,0))=\"Yes\",1,-1)","v":1},{"$f":"IF(INDEX(cs[Resolved],$M$60-MATCH(L159,Q$62:Q$1061,0))=\"Yes\",1,-1)","v":1}]
[null,null,null,null,null,null,null,null,null,null,null,99,{"$f":"IF(INDEX(cs[Resolved],$M$60-$L160)=\"Yes\",1,-1)","v":1},{"$f":"(INDEX(lstChosen,$M$60-$L160)=N$61)","v":false},{"$f":"(INDEX(lstChosen,$M$60-$L160)=O$61)","v":true},17,21,{"$f":"IF(INDEX(cs[Resolved],$M$60-MATCH(L160,P$62:P$1061,0))=\"Yes\",1,-1)","v":1},{"$f":"IF(INDEX(cs[Resolved],$M$60-MATCH(L160,Q$62:Q$1061,0))=\"Yes\",1,-1)","v":1}]
[null,null,null,null,null,null,null,null,null,null,null,100,{"$f":"IF(INDEX(cs[Resolved],$M$60-$L161)=\"Yes\",1,-1)","v":1},{"$f":"(INDEX(lstChosen,$M$60-$L161)=N$61)","v":false},{"$f":"(INDEX(lstChosen,$M$60-$L161)=O$61)","v":false},17,21,{"$f":"IF(INDEX(cs[Resolved],$M$60-MATCH(L161,P$62:P$1061,0))=\"Yes\",1,-1)","v":1},{"$f":"IF(INDEX(cs[Resolved],$M$60-MATCH(L161,Q$62:Q$1061,0))=\"Yes\",1,-1)","v":1}]
[null,null,null,null,null,null,null,null,null,null,null,101,null,{"$f":"(INDEX(lstChosen,$M$60-$L162)=N$61)","v":false},{"$f":"(INDEX(lstChosen,$M$60-$L162)=O$61)","v":false},17,21]
[null,null,null,null,null,null,null,null,null,null,null,102,null,{"$f":"(INDEX(lstChosen,$M$60-$L163)=N$61)","v":false},{"$f":"(INDEX(lstChosen,$M$60-$L163)=O$61)","v":false},17,21]
[null,null,null,null,null,null,null,null,null,null,null,103,null,{"$f":"(INDEX(lstChosen,$M$60-$L164)=N$61)","v":false},{"$f":"(INDEX(lstChosen,$M$60-$L164)=O$61)","v":false},17,21]
[null,null,null,null,null,null,null,null,null,null,null,104,null,{"$f":"(INDEX(lstChosen,$M$60-$L165)=N$61)","v":false},{"$f":"(INDEX(lstChosen,$M$60-$L165)=O$61)","v":false},17,21]
[null,null,null,null,null,null,null,null,null,null,null,105,null,{"$f":"(INDEX(lstChosen,$M$60-$L166)=N$61)","v":false},{"$f":"(INDEX(lstChosen,$M$60-$L166)=O$61)","v":true},17,22]
[null,null,null,null,null,null,null,null,null,null,null,106,null,{"$f":"(INDEX(lstChosen,$M$60-$L167)=N$61)","v":true},{"$f":"(INDEX(lstChosen,$M$60-$L167)=O$61)","v":false},18,22]
[null,null,null,null,null,null,null,null,null,null,null,107,null,{"$f":"(INDEX(lstChosen,$M$60-$L168)=N$61)","v":false},{"$f":"(INDEX(lstChosen,$M$60-$L168)=O$61)","v":false},18,22]
[null,null,null,null,null,null,null,null,null,null,null,108,null,{"$f":"(INDEX(lstChosen,$M$60-$L169)=N$61)","v":false},{"$f":"(INDEX(lstChosen,$M$60-$L169)=O$61)","v":false},18,22]
[null,null,null,null,null,null,null,null,null,null,null,109,null,{"$f":"(INDEX(lstChosen,$M$60-$L170)=N$61)","v":true},{"$f":"(INDEX(lstChosen,$M$60-$L170)=O$61)","v":false},19,22]
[null,null,null,null,null,null,null,null,null,null,null,110,null,{"$f":"(INDEX(lstChosen,$M$60-$L171)=N$61)","v":false},{"$f":"(INDEX(lstChosen,$M$60-$L171)=O$61)","v":false},19,22]
[null,null,null,null,null,null,null,null,null,null,null,111,null,{"$f":"(INDEX(lstChosen,$M$60-$L172)=N$61)","v":false},{"$f":"(INDEX(lstChosen,$M$60-$L172)=O$61)","v":false},19,22]
[null,null,null,null,null,null,null,null,null,null,null,112,null,{"$f":"(INDEX(lstChosen,$M$60-$L173)=N$61)","v":true},{"$f":"(INDEX(lstChosen,$M$60-$L173)=O$61)","v":false},20,22]
[null,null,null,null,null,null,null,null,null,null,null,113,null,{"$f":"(INDEX(lstChosen,$M$60-$L174)=N$61)","v":false},{"$f":"(INDEX(lstChosen,$M$60-$L174)=O$61)","v":false},20,22]
[null,null,null,null,null,null,null,null,null,null,null,114,null,{"$f":"(INDEX(lstChosen,$M$60-$L175)=N$61)","v":false},{"$f":"(INDEX(lstChosen,$M$60-$L175)=O$61)","v":false},20,22]
[null,null,null,null,null,null,null,null,null,null,null,115,null,{"$f":"(INDEX(lstChosen,$M$60-$L176)=N$61)","v":false},{"$f":"(INDEX(lstChosen,$M$60-$L176)=O$61)","v":true},20,23]
[null,null,null,null,null,null,null,null,null,null,null,116,null,{"$f":"(INDEX(lstChosen,$M$60-$L177)=N$61)","v":false},{"$f":"(INDEX(lstChosen,$M$60-$L177)=O$61)","v":false},20,23]
[null,null,null,null,null,null,null,null,null,null,null,117,null,{"$f":"(INDEX(lstChosen,$M$60-$L178)=N$61)","v":true},{"$f":"(INDEX(lstChosen,$M$60-$L178)=O$61)","v":false},21,23]
[null,null,null,null,null,null,null,null,null,null,null,118,null,{"$f":"(INDEX(lstChosen,$M$60-$L179)=N$61)","v":false},{"$f":"(INDEX(lstChosen,$M$60-$L179)=O$61)","v":false},21,23]
[null,null,null,null,null,null,null,null,null,null,null,119,null,{"$f":"(INDEX(lstChosen,$M$60-$L180)=N$61)","v":false},{"$f":"(INDEX(lstChosen,$M$60-$L180)=O$61)","v":false},21,23]
[null,null,null,null,null,null,null,null,null,null,null,120,null,{"$f":"(INDEX(lstChosen,$M$60-$L181)=N$61)","v":false},{"$f":"(INDEX(lstChosen,$M$60-$L181)=O$61)","v":false},21,23]
[null,null,null,null,null,null,null,null,null,null,null,121,null,{"$f":"(INDEX(lstChosen,$M$60-$L182)=N$61)","v":false},{"$f":"(INDEX(lstChosen,$M$60-$L182)=O$61)","v":false},21,23]
[null,null,null,null,null,null,null,null,null,null,null,122,null,{"$f":"(INDEX(lstChosen,$M$60-$L183)=N$61)","v":true},{"$f":"(INDEX(lstChosen,$M$60-$L183)=O$61)","v":false},22,23]
[null,null,null,null,null,null,null,null,null,null,null,123,null,{"$f":"(INDEX(lstChosen,$M$60-$L184)=N$61)","v":false},{"$f":"(INDEX(lstChosen,$M$60-$L184)=O$61)","v":false},22,23]
[null,null,null,null,null,null,null,null,null,null,null,124,null,{"$f":"(INDEX(lstChosen,$M$60-$L185)=N$61)","v":false},{"$f":"(INDEX(lstChosen,$M$60-$L185)=O$61)","v":false},22,23]
[null,null,null,null,null,null,null,null,null,null,null,125,null,{"$f":"(INDEX(lstChosen,$M$60-$L186)=N$61)","v":true},{"$f":"(INDEX(lstChosen,$M$60-$L186)=O$61)","v":false},23,23]
[null,null,null,null,null,null,null,null,null,null,null,126,null,{"$f":"(INDEX(lstChosen,$M$60-$L187)=N$61)","v":false},{"$f":"(INDEX(lstChosen,$M$60-$L187)=O$61)","v":false},23,23]
[null,null,null,null,null,null,null,null,null,null,null,127,null,{"$f":"(INDEX(lstChosen,$M$60-$L188)=N$61)","v":false},{"$f":"(INDEX(lstChosen,$M$60-$L188)=O$61)","v":false},23,23]
[null,null,null,null,null,null,null,null,null,null,null,128,null,{"$f":"(INDEX(lstChosen,$M$60-$L189)=N$61)","v":false},{"$f":"(INDEX(lstChosen,$M$60-$L189)=O$61)","v":false},23,23]
[null,null,null,null,null,null,null,null,null,null,null,129,null,{"$f":"(INDEX(lstChosen,$M$60-$L190)=N$61)","v":false},{"$f":"(INDEX(lstChosen,$M$60-$L190)=O$61)","v":false},23,23]
[null,null,null,null,null,null,null,null,null,null,null,130,null,{"$f":"(INDEX(lstChosen,$M$60-$L191)=N$61)","v":false},{"$f":"(INDEX(lstChosen,$M$60-$L191)=O$61)","v":true},23,24]
[null,null,null,null,null,null,null,null,null,null,null,131,null,{"$f":"(INDEX(lstChosen,$M$60-$L192)=N$61)","v":false},{"$f":"(INDEX(lstChosen,$M$60-$L192)=O$61)","v":true},{"$f":"P191+N192","v":23},{"$f":"Q191+O192","v":25}]
[null,null,null,null,null,null,null,null,null,null,null,132,null,{"$f":"(INDEX(lstChosen,$M$60-$L193)=N$61)","v":false},{"$f":"(INDEX(lstChosen,$M$60-$L193)=O$61)","v":true},23,26]
[null,null,null,null,null,null,null,null,null,null,null,133,null,{"$f":"(INDEX(lstChosen,$M$60-$L194)=N$61)","v":false},{"$f":"(INDEX(lstChosen,$M$60-$L194)=O$61)","v":false},23,26]
[null,null,null,null,null,null,null,null,null,null,null,134,null,{"$f":"(INDEX(lstChosen,$M$60-$L195)=N$61)","v":false},{"$f":"(INDEX(lstChosen,$M$60-$L195)=O$61)","v":false},23,26]
[null,null,null,null,null,null,null,null,null,null,null,135,null,{"$f":"(INDEX(lstChosen,$M$60-$L196)=N$61)","v":false},{"$f":"(INDEX(lstChosen,$M$60-$L196)=O$61)","v":true},23,27]
[null,null,null,null,null,null,null,null,null,null,null,136,null,{"$f":"(INDEX(lstChosen,$M$60-$L197)=N$61)","v":false},{"$f":"(INDEX(lstChosen,$M$60-$L197)=O$61)","v":true},23,28]
[null,null,null,null,null,null,null,null,null,null,null,137,null,{"$f":"(INDEX(lstChosen,$M$60-$L198)=N$61)","v":false},{"$f":"(INDEX(lstChosen,$M$60-$L198)=O$61)","v":false},23,28]
[null,null,null,null,null,null,null,null,null,null,null,138,null,{"$f":"(INDEX(lstChosen,$M$60-$L199)=N$61)","v":false},{"$f":"(INDEX(lstChosen,$M$60-$L199)=O$61)","v":true},23,29]
[null,null,null,null,null,null,null,null,null,null,null,139,null,{"$f":"(INDEX(lstChosen,$M$60-$L200)=N$61)","v":true},{"$f":"(INDEX(lstChosen,$M$60-$L200)=O$61)","v":false},24,29]
[null,null,null,null,null,null,null,null,null,null,null,140,null,{"$f":"(INDEX(lstChosen,$M$60-$L201)=N$61)","v":false},{"$f":"(INDEX(lstChosen,$M$60-$L201)=O$61)","v":false},24,29]
[null,null,null,null,null,null,null,null,null,null,null,141,null,{"$f":"(INDEX(lstChosen,$M$60-$L202)=N$61)","v":false},{"$f":"(INDEX(lstChosen,$M$60-$L202)=O$61)","v":false},24,29]
[null,null,null,null,null,null,null,null,null,null,null,142,null,{"$f":"(INDEX(lstChosen,$M$60-$L203)=N$61)","v":false},{"$f":"(INDEX(lstChosen,$M$60-$L203)=O$61)","v":false},24,29]
[null,null,null,null,null,null,null,null,null,null,null,143,null,{"$f":"(INDEX(lstChosen,$M$60-$L204)=N$61)","v":false},{"$f":"(INDEX(lstChosen,$M$60-$L204)=O$61)","v":false},24,29]
[null,null,null,null,null,null,null,null,null,null,null,144,null,{"$f":"(INDEX(lstChosen,$M$60-$L205)=N$61)","v":false},{"$f":"(INDEX(lstChosen,$M$60-$L205)=O$61)","v":true},24,30]
[null,null,null,null,null,null,null,null,null,null,null,145,null,{"$f":"(INDEX(lstChosen,$M$60-$L206)=N$61)","v":false},{"$f":"(INDEX(lstChosen,$M$60-$L206)=O$61)","v":true},24,31]
[null,null,null,null,null,null,null,null,null,null,null,146,null,{"$f":"(INDEX(lstChosen,$M$60-$L207)=N$61)","v":false},{"$f":"(INDEX(lstChosen,$M$60-$L207)=O$61)","v":false},24,31]
[null,null,null,null,null,null,null,null,null,null,null,147,null,{"$f":"(INDEX(lstChosen,$M$60-$L208)=N$61)","v":true},{"$f":"(INDEX(lstChosen,$M$60-$L208)=O$61)","v":false},25,31]
[null,null,null,null,null,null,null,null,null,null,null,148,null,{"$f":"(INDEX(lstChosen,$M$60-$L209)=N$61)","v":false},{"$f":"(INDEX(lstChosen,$M$60-$L209)=O$61)","v":false},25,31]
[null,null,null,null,null,null,null,null,null,null,null,149,null,{"$f":"(INDEX(lstChosen,$M$60-$L210)=N$61)","v":false},{"$f":"(INDEX(lstChosen,$M$60-$L210)=O$61)","v":false},25,31]
[null,null,null,null,null,null,null,null,null,null,null,150,null,{"$f":"(INDEX(lstChosen,$M$60-$L211)=N$61)","v":true},{"$f":"(INDEX(lstChosen,$M$60-$L211)=O$61)","v":false},26,31]
[null,null,null,null,null,null,null,null,null,null,null,151,null,{"$f":"(INDEX(lstChosen,$M$60-$L212)=N$61)","v":false},{"$f":"(INDEX(lstChosen,$M$60-$L212)=O$61)","v":false},26,31]
[null,null,null,null,null,null,null,null,null,null,null,152,null,{"$f":"(INDEX(lstChosen,$M$60-$L213)=N$61)","v":false},{"$f":"(INDEX(lstChosen,$M$60-$L213)=O$61)","v":false},26,31]
[null,null,null,null,null,null,null,null,null,null,null,153,null,{"$f":"(INDEX(lstChosen,$M$60-$L214)=N$61)","v":false},{"$f":"(INDEX(lstChosen,$M$60-$L214)=O$61)","v":false},26,31]
[null,null,null,null,null,null,null,null,null,null,null,154,null,{"$f":"(INDEX(lstChosen,$M$60-$L215)=N$61)","v":false},{"$f":"(INDEX(lstChosen,$M$60-$L215)=O$61)","v":true},26,32]
[null,null,null,null,null,null,null,null,null,null,null,155,null,{"$f":"(INDEX(lstChosen,$M$60-$L216)=N$61)","v":false},{"$f":"(INDEX(lstChosen,$M$60-$L216)=O$61)","v":false},26,32]
[null,null,null,null,null,null,null,null,null,null,null,156,null,{"$f":"(INDEX(lstChosen,$M$60-$L217)=N$61)","v":false},{"$f":"(INDEX(lstChosen,$M$60-$L217)=O$61)","v":false},26,32]
[null,null,null,null,null,null,null,null,null,null,null,157,null,{"$f":"(INDEX(lstChosen,$M$60-$L218)=N$61)","v":false},{"$f":"(INDEX(lstChosen,$M$60-$L218)=O$61)","v":false},26,32]
[null,null,null,null,null,null,null,null,null,null,null,158,null,{"$f":"(INDEX(lstChosen,$M$60-$L219)=N$61)","v":false},{"$f":"(INDEX(lstChosen,$M$60-$L219)=O$61)","v":true},26,33]
[null,null,null,null,null,null,null,null,null,null,null,159,null,{"$f":"(INDEX(lstChosen,$M$60-$L220)=N$61)","v":false},{"$f":"(INDEX(lstChosen,$M$60-$L220)=O$61)","v":false},26,33]
[null,null,null,null,null,null,null,null,null,null,null,160,null,{"$f":"(INDEX(lstChosen,$M$60-$L221)=N$61)","v":false},{"$f":"(INDEX(lstChosen,$M$60-$L221)=O$61)","v":false},26,33]
[null,null,null,null,null,null,null,null,null,null,null,161,null,{"$f":"(INDEX(lstChosen,$M$60-$L222)=N$61)","v":false},{"$f":"(INDEX(lstChosen,$M$60-$L222)=O$61)","v":true},26,34]
[null,null,null,null,null,null,null,null,null,null,null,162,null,{"$f":"(INDEX(lstChosen,$M$60-$L223)=N$61)","v":false},{"$f":"(INDEX(lstChosen,$M$60-$L223)=O$61)","v":false},26,34]
[null,null,null,null,null,null,null,null,null,null,null,163,null,{"$f":"(INDEX(lstChosen,$M$60-$L224)=N$61)","v":false},{"$f":"(INDEX(lstChosen,$M$60-$L224)=O$61)","v":true},26,35]
[null,null,null,null,null,null,null,null,null,null,null,164,null,{"$f":"(INDEX(lstChosen,$M$60-$L225)=N$61)","v":false},{"$f":"(INDEX(lstChosen,$M$60-$L225)=O$61)","v":false},26,35]
[null,null,null,null,null,null,null,null,null,null,null,165,null,{"$f":"(INDEX(lstChosen,$M$60-$L226)=N$61)","v":false},{"$f":"(INDEX(lstChosen,$M$60-$L226)=O$61)","v":false},26,35]
[null,null,null,null,null,null,null,null,null,null,null,166,null,{"$f":"(INDEX(lstChosen,$M$60-$L227)=N$61)","v":true},{"$f":"(INDEX(lstChosen,$M$60-$L227)=O$61)","v":false},27,35]
[null,null,null,null,null,null,null,null,null,null,null,167,null,{"$f":"(INDEX(lstChosen,$M$60-$L228)=N$61)","v":false},{"$f":"(INDEX(lstChosen,$M$60-$L228)=O$61)","v":false},27,35]
[null,null,null,null,null,null,null,null,null,null,null,168,null,{"$f":"(INDEX(lstChosen,$M$60-$L229)=N$61)","v":false},{"$f":"(INDEX(lstChosen,$M$60-$L229)=O$61)","v":false},27,35]
[null,null,null,null,null,null,null,null,null,null,null,169,null,{"$f":"(INDEX(lstChosen,$M$60-$L230)=N$61)","v":false},{"$f":"(INDEX(lstChosen,$M$60-$L230)=O$61)","v":false},27,35]
[null,null,null,null,null,null,null,null,null,null,null,170,null,{"$f":"(INDEX(lstChosen,$M$60-$L231)=N$61)","v":false},{"$f":"(INDEX(lstChosen,$M$60-$L231)=O$61)","v":false},27,35]
[null,null,null,null,null,null,null,null,null,null,null,171,null,{"$f":"(INDEX(lstChosen,$M$60-$L232)=N$61)","v":false},{"$f":"(INDEX(lstChosen,$M$60-$L232)=O$61)","v":false},27,35]
[null,null,null,null,null,null,null,null,null,null,null,172,null,{"$f":"(INDEX(lstChosen,$M$60-$L233)=N$61)","v":false},{"$f":"(INDEX(lstChosen,$M$60-$L233)=O$61)","v":false},27,35]
[null,null,null,null,null,null,null,null,null,null,null,173,null,{"$f":"(INDEX(lstChosen,$M$60-$L234)=N$61)","v":false},{"$f":"(INDEX(lstChosen,$M$60-$L234)=O$61)","v":false},27,35]
[null,null,null,null,null,null,null,null,null,null,null,174,null,{"$f":"(INDEX(lstChosen,$M$60-$L235)=N$61)","v":false},{"$f":"(INDEX(lstChosen,$M$60-$L235)=O$61)","v":false},27,35]
[null,null,null,null,null,null,null,null,null,null,null,175,null,{"$f":"(INDEX(lstChosen,$M$60-$L236)=N$61)","v":false},{"$f":"(INDEX(lstChosen,$M$60-$L236)=O$61)","v":false},27,35]
[null,null,null,null,null,null,null,null,null,null,null,176,null,{"$f":"(INDEX(lstChosen,$M$60-$L237)=N$61)","v":false},{"$f":"(INDEX(lstChosen,$M$60-$L237)=O$61)","v":false},27,35]
[null,null,null,null,null,null,null,null,null,null,null,177,null,{"$f":"(INDEX(lstChosen,$M$60-$L238)=N$61)","v":false},{"$f":"(INDEX(lstChosen,$M$60-$L238)=O$61)","v":true},27,36]
[null,null,null,null,null,null,null,null,null,null,null,178,null,{"$f":"(INDEX(lstChosen,$M$60-$L239)=N$61)","v":false},{"$f":"(INDEX(lstChosen,$M$60-$L239)=O$61)","v":true},27,37]
[null,null,null,null,null,null,null,null,null,null,null,179,null,{"$f":"(INDEX(lstChosen,$M$60-$L240)=N$61)","v":true},{"$f":"(INDEX(lstChosen,$M$60-$L240)=O$61)","v":false},28,37]
[null,null,null,null,null,null,null,null,null,null,null,180,null,{"$f":"(INDEX(lstChosen,$M$60-$L241)=N$61)","v":false},{"$f":"(INDEX(lstChosen,$M$60-$L241)=O$61)","v":false},28,37]
[null,null,null,null,null,null,null,null,null,null,null,181,null,{"$f":"(INDEX(lstChosen,$M$60-$L242)=N$61)","v":false},{"$f":"(INDEX(lstChosen,$M$60-$L242)=O$61)","v":false},28,37]
[null,null,null,null,null,null,null,null,null,null,null,182,null,{"$f":"(INDEX(lstChosen,$M$60-$L243)=N$61)","v":false},{"$f":"(INDEX(lstChosen,$M$60-$L243)=O$61)","v":false},28,37]
[null,null,null,null,null,null,null,null,null,null,null,183,null,{"$f":"(INDEX(lstChosen,$M$60-$L244)=N$61)","v":false},{"$f":"(INDEX(lstChosen,$M$60-$L244)=O$61)","v":false},28,37]
[null,null,null,null,null,null,null,null,null,null,null,184,null,{"$f":"(INDEX(lstChosen,$M$60-$L245)=N$61)","v":false},{"$f":"(INDEX(lstChosen,$M$60-$L245)=O$61)","v":false},28,37]
[null,null,null,null,null,null,null,null,null,null,null,185,null,{"$f":"(INDEX(lstChosen,$M$60-$L246)=N$61)","v":false},{"$f":"(INDEX(lstChosen,$M$60-$L246)=O$61)","v":false},28,37]
[null,null,null,null,null,null,null,null,null,null,null,186,null,{"$f":"(INDEX(lstChosen,$M$60-$L247)=N$61)","v":false},{"$f":"(INDEX(lstChosen,$M$60-$L247)=O$61)","v":true},28,38]
[null,null,null,null,null,null,null,null,null,null,null,187,null,{"$f":"(INDEX(lstChosen,$M$60-$L248)=N$61)","v":true},{"$f":"(INDEX(lstChosen,$M$60-$L248)=O$61)","v":false},29,38]
[null,null,null,null,null,null,null,null,null,null,null,188,null,{"$f":"(INDEX(lstChosen,$M$60-$L249)=N$61)","v":false},{"$f":"(INDEX(lstChosen,$M$60-$L249)=O$61)","v":true},29,39]
[null,null,null,null,null,null,null,null,null,null,null,189,null,{"$f":"(INDEX(lstChosen,$M$60-$L250)=N$61)","v":false},{"$f":"(INDEX(lstChosen,$M$60-$L250)=O$61)","v":false},29,39]
[null,null,null,null,null,null,null,null,null,null,null,190,null,{"$f":"(INDEX(lstChosen,$M$60-$L251)=N$61)","v":false},{"$f":"(INDEX(lstChosen,$M$60-$L251)=O$61)","v":false},29,39]
[null,null,null,null,null,null,null,null,null,null,null,191,null,{"$f":"(INDEX(lstChosen,$M$60-$L252)=N$61)","v":false},{"$f":"(INDEX(lstChosen,$M$60-$L252)=O$61)","v":true},29,40]
[null,null,null,null,null,null,null,null,null,null,null,192,null,{"$f":"(INDEX(lstChosen,$M$60-$L253)=N$61)","v":false},{"$f":"(INDEX(lstChosen,$M$60-$L253)=O$61)","v":true},29,41]
[null,null,null,null,null,null,null,null,null,null,null,193,null,{"$f":"(INDEX(lstChosen,$M$60-$L254)=N$61)","v":false},{"$f":"(INDEX(lstChosen,$M$60-$L254)=O$61)","v":false},29,41]
[null,null,null,null,null,null,null,null,null,null,null,194,null,{"$f":"(INDEX(lstChosen,$M$60-$L255)=N$61)","v":false},{"$f":"(INDEX(lstChosen,$M$60-$L255)=O$61)","v":false},29,41]
[null,null,null,null,null,null,null,null,null,null,null,195,null,{"$f":"(INDEX(lstChosen,$M$60-$L256)=N$61)","v":false},{"$f":"(INDEX(lstChosen,$M$60-$L256)=O$61)","v":true},{"$f":"P255+N256","v":29},{"$f":"Q255+O256","v":42}]
[null,null,null,null,null,null,null,null,null,null,null,196,null,{"$f":"(INDEX(lstChosen,$M$60-$L257)=N$61)","v":false},{"$f":"(INDEX(lstChosen,$M$60-$L257)=O$61)","v":false},29,42]
[null,null,null,null,null,null,null,null,null,null,null,197,null,{"$f":"(INDEX(lstChosen,$M$60-$L258)=N$61)","v":false},{"$f":"(INDEX(lstChosen,$M$60-$L258)=O$61)","v":false},29,42]
[null,null,null,null,null,null,null,null,null,null,null,198,null,{"$f":"(INDEX(lstChosen,$M$60-$L259)=N$61)","v":true},{"$f":"(INDEX(lstChosen,$M$60-$L259)=O$61)","v":false},30,42]
[null,null,null,null,null,null,null,null,null,null,null,199,null,{"$f":"(INDEX(lstChosen,$M$60-$L260)=N$61)","v":false},{"$f":"(INDEX(lstChosen,$M$60-$L260)=O$61)","v":true},30,43]
[null,null,null,null,null,null,null,null,null,null,null,200,null,{"$f":"(INDEX(lstChosen,$M$60-$L261)=N$61)","v":false},{"$f":"(INDEX(lstChosen,$M$60-$L261)=O$61)","v":false},30,43]
[null,null,null,null,null,null,null,null,null,null,null,201,null,{"$f":"(INDEX(lstChosen,$M$60-$L262)=N$61)","v":false},{"$f":"(INDEX(lstChosen,$M$60-$L262)=O$61)","v":false},30,43]
[null,null,null,null,null,null,null,null,null,null,null,202,null,{"$f":"(INDEX(lstChosen,$M$60-$L263)=N$61)","v":false},{"$f":"(INDEX(lstChosen,$M$60-$L263)=O$61)","v":true},30,44]
[null,null,null,null,null,null,null,null,null,null,null,203,null,{"$f":"(INDEX(lstChosen,$M$60-$L264)=N$61)","v":false},{"$f":"(INDEX(lstChosen,$M$60-$L264)=O$61)","v":true},30,45]
[null,null,null,null,null,null,null,null,null,null,null,204,null,{"$f":"(INDEX(lstChosen,$M$60-$L265)=N$61)","v":false},{"$f":"(INDEX(lstChosen,$M$60-$L265)=O$61)","v":false},30,45]
[null,null,null,null,null,null,null,null,null,null,null,205,null,{"$f":"(INDEX(lstChosen,$M$60-$L266)=N$61)","v":true},{"$f":"(INDEX(lstChosen,$M$60-$L266)=O$61)","v":false},31,45]
[null,null,null,null,null,null,null,null,null,null,null,206,null,{"$f":"(INDEX(lstChosen,$M$60-$L267)=N$61)","v":false},{"$f":"(INDEX(lstChosen,$M$60-$L267)=O$61)","v":true},31,46]
[null,null,null,null,null,null,null,null,null,null,null,207,null,{"$f":"(INDEX(lstChosen,$M$60-$L268)=N$61)","v":false},{"$f":"(INDEX(lstChosen,$M$60-$L268)=O$61)","v":false},31,46]
[null,null,null,null,null,null,null,null,null,null,null,208,null,{"$f":"(INDEX(lstChosen,$M$60-$L269)=N$61)","v":true},{"$f":"(INDEX(lstChosen,$M$60-$L269)=O$61)","v":false},32,46]
[null,null,null,null,null,null,null,null,null,null,null,209,null,{"$f":"(INDEX(lstChosen,$M$60-$L270)=N$61)","v":true},{"$f":"(INDEX(lstChosen,$M$60-$L270)=O$61)","v":false},33,46]
[null,null,null,null,null,null,null,null,null,null,null,210,null,{"$f":"(INDEX(lstChosen,$M$60-$L271)=N$61)","v":false},{"$f":"(INDEX(lstChosen,$M$60-$L271)=O$61)","v":true},33,47]
[null,null,null,null,null,null,null,null,null,null,null,211,null,{"$f":"(INDEX(lstChosen,$M$60-$L272)=N$61)","v":false},{"$f":"(INDEX(lstChosen,$M$60-$L272)=O$61)","v":false},33,47]
[null,null,null,null,null,null,null,null,null,null,null,212,null,{"$f":"(INDEX(lstChosen,$M$60-$L273)=N$61)","v":false},{"$f":"(INDEX(lstChosen,$M$60-$L273)=O$61)","v":false},33,47]
[null,null,null,null,null,null,null,null,null,null,null,213,null,{"$f":"(INDEX(lstChosen,$M$60-$L274)=N$61)","v":false},{"$f":"(INDEX(lstChosen,$M$60-$L274)=O$61)","v":false},33,47]
[null,null,null,null,null,null,null,null,null,null,null,214,null,{"$f":"(INDEX(lstChosen,$M$60-$L275)=N$61)","v":false},{"$f":"(INDEX(lstChosen,$M$60-$L275)=O$61)","v":false},33,47]
[null,null,null,null,null,null,null,null,null,null,null,215,null,{"$f":"(INDEX(lstChosen,$M$60-$L276)=N$61)","v":false},{"$f":"(INDEX(lstChosen,$M$60-$L276)=O$61)","v":true},33,48]
[null,null,null,null,null,null,null,null,null,null,null,216,null,{"$f":"(INDEX(lstChosen,$M$60-$L277)=N$61)","v":false},{"$f":"(INDEX(lstChosen,$M$60-$L277)=O$61)","v":false},33,48]
[null,null,null,null,null,null,null,null,null,null,null,217,null,{"$f":"(INDEX(lstChosen,$M$60-$L278)=N$61)","v":false},{"$f":"(INDEX(lstChosen,$M$60-$L278)=O$61)","v":false},33,48]
[null,null,null,null,null,null,null,null,null,null,null,218,null,{"$f":"(INDEX(lstChosen,$M$60-$L279)=N$61)","v":false},{"$f":"(INDEX(lstChosen,$M$60-$L279)=O$61)","v":false},33,48]
[null,null,null,null,null,null,null,null,null,null,null,219,null,{"$f":"(INDEX(lstChosen,$M$60-$L280)=N$61)","v":false},{"$f":"(INDEX(lstChosen,$M$60-$L280)=O$61)","v":false},33,48]
[null,null,null,null,null,null,null,null,null,null,null,220,null,{"$f":"(INDEX(lstChosen,$M$60-$L281)=N$61)","v":false},{"$f":"(INDEX(lstChosen,$M$60-$L281)=O$61)","v":false},33,48]
[null,null,null,null,null,null,null,null,null,null,null,221,null,{"$f":"(INDEX(lstChosen,$M$60-$L282)=N$61)","v":true},{"$f":"(INDEX(lstChosen,$M$60-$L282)=O$61)","v":false},34,48]
[null,null,null,null,null,null,null,null,null,null,null,222,null,{"$f":"(INDEX(lstChosen,$M$60-$L283)=N$61)","v":false},{"$f":"(INDEX(lstChosen,$M$60-$L283)=O$61)","v":true},34,49]
[null,null,null,null,null,null,null,null,null,null,null,223,null,{"$f":"(INDEX(lstChosen,$M$60-$L284)=N$61)","v":false},{"$f":"(INDEX(lstChosen,$M$60-$L284)=O$61)","v":false},34,49]
[null,null,null,null,null,null,null,null,null,null,null,224,null,{"$f":"(INDEX(lstChosen,$M$60-$L285)=N$61)","v":false},{"$f":"(INDEX(lstChosen,$M$60-$L285)=O$61)","v":false},34,49]
[null,null,null,null,null,null,null,null,null,null,null,225,null,{"$f":"(INDEX(lstChosen,$M$60-$L286)=N$61)","v":false},{"$f":"(INDEX(lstChosen,$M$60-$L286)=O$61)","v":false},34,49]
[null,null,null,null,null,null,null,null,null,null,null,226,null,{"$f":"(INDEX(lstChosen,$M$60-$L287)=N$61)","v":false},{"$f":"(INDEX(lstChosen,$M$60-$L287)=O$61)","v":false},34,49]
[null,null,null,null,null,null,null,null,null,null,null,227,null,{"$f":"(INDEX(lstChosen,$M$60-$L288)=N$61)","v":true},{"$f":"(INDEX(lstChosen,$M$60-$L288)=O$61)","v":false},35,49]
[null,null,null,null,null,null,null,null,null,null,null,228,null,{"$f":"(INDEX(lstChosen,$M$60-$L289)=N$61)","v":false},{"$f":"(INDEX(lstChosen,$M$60-$L289)=O$61)","v":true},35,50]
[null,null,null,null,null,null,null,null,null,null,null,229,null,{"$f":"(INDEX(lstChosen,$M$60-$L290)=N$61)","v":false},{"$f":"(INDEX(lstChosen,$M$60-$L290)=O$61)","v":false},35,50]
[null,null,null,null,null,null,null,null,null,null,null,230,null,{"$f":"(INDEX(lstChosen,$M$60-$L291)=N$61)","v":false},{"$f":"(INDEX(lstChosen,$M$60-$L291)=O$61)","v":false},35,50]
[null,null,null,null,null,null,null,null,null,null,null,231,null,{"$f":"(INDEX(lstChosen,$M$60-$L292)=N$61)","v":true},{"$f":"(INDEX(lstChosen,$M$60-$L292)=O$61)","v":false},36,50]
[null,null,null,null,null,null,null,null,null,null,null,232,null,{"$f":"(INDEX(lstChosen,$M$60-$L293)=N$61)","v":true},{"$f":"(INDEX(lstChosen,$M$60-$L293)=O$61)","v":false},37,50]
[null,null,null,null,null,null,null,null,null,null,null,233,null,{"$f":"(INDEX(lstChosen,$M$60-$L294)=N$61)","v":true},{"$f":"(INDEX(lstChosen,$M$60-$L294)=O$61)","v":false},38,50]
[null,null,null,null,null,null,null,null,null,null,null,234,null,{"$f":"(INDEX(lstChosen,$M$60-$L295)=N$61)","v":false},{"$f":"(INDEX(lstChosen,$M$60-$L295)=O$61)","v":false},38,50]
[null,null,null,null,null,null,null,null,null,null,null,235,null,{"$f":"(INDEX(lstChosen,$M$60-$L296)=N$61)","v":false},{"$f":"(INDEX(lstChosen,$M$60-$L296)=O$61)","v":false},38,50]
[null,null,null,null,null,null,null,null,null,null,null,236,null,{"$f":"(INDEX(lstChosen,$M$60-$L297)=N$61)","v":false},{"$f":"(INDEX(lstChosen,$M$60-$L297)=O$61)","v":false},38,50]
[null,null,null,null,null,null,null,null,null,null,null,237,null,{"$f":"(INDEX(lstChosen,$M$60-$L298)=N$61)","v":false},{"$f":"(INDEX(lstChosen,$M$60-$L298)=O$61)","v":false},38,50]
[null,null,null,null,null,null,null,null,null,null,null,238,null,{"$f":"(INDEX(lstChosen,$M$60-$L299)=N$61)","v":false},{"$f":"(INDEX(lstChosen,$M$60-$L299)=O$61)","v":true},38,51]
[null,null,null,null,null,null,null,null,null,null,null,239,null,{"$f":"(INDEX(lstChosen,$M$60-$L300)=N$61)","v":false},{"$f":"(INDEX(lstChosen,$M$60-$L300)=O$61)","v":false},38,51]
[null,null,null,null,null,null,null,null,null,null,null,240,null,{"$f":"(INDEX(lstChosen,$M$60-$L301)=N$61)","v":false},{"$f":"(INDEX(lstChosen,$M$60-$L301)=O$61)","v":false},38,51]
[null,null,null,null,null,null,null,null,null,null,null,241,null,{"$f":"(INDEX(lstChosen,$M$60-$L302)=N$61)","v":true},{"$f":"(INDEX(lstChosen,$M$60-$L302)=O$61)","v":false},39,51]
[null,null,null,null,null,null,null,null,null,null,null,242,null,{"$f":"(INDEX(lstChosen,$M$60-$L303)=N$61)","v":false},{"$f":"(INDEX(lstChosen,$M$60-$L303)=O$61)","v":true},39,52]
[null,null,null,null,null,null,null,null,null,null,null,243,null,{"$f":"(INDEX(lstChosen,$M$60-$L304)=N$61)","v":true},{"$f":"(INDEX(lstChosen,$M$60-$L304)=O$61)","v":false},40,52]
[null,null,null,null,null,null,null,null,null,null,null,244,null,{"$f":"(INDEX(lstChosen,$M$60-$L305)=N$61)","v":false},{"$f":"(INDEX(lstChosen,$M$60-$L305)=O$61)","v":false},40,52]
[null,null,null,null,null,null,null,null,null,null,null,245,null,{"$f":"(INDEX(lstChosen,$M$60-$L306)=N$61)","v":false},{"$f":"(INDEX(lstChosen,$M$60-$L306)=O$61)","v":true},40,53]
[null,null,null,null,null,null,null,null,null,null,null,246,null,{"$f":"(INDEX(lstChosen,$M$60-$L307)=N$61)","v":false},{"$f":"(INDEX(lstChosen,$M$60-$L307)=O$61)","v":false},40,53]
[null,null,null,null,null,null,null,null,null,null,null,247,null,{"$f":"(INDEX(lstChosen,$M$60-$L308)=N$61)","v":false},{"$f":"(INDEX(lstChosen,$M$60-$L308)=O$61)","v":true},40,54]
[null,null,null,null,null,null,null,null,null,null,null,248,null,{"$f":"(INDEX(lstChosen,$M$60-$L309)=N$61)","v":false},{"$f":"(INDEX(lstChosen,$M$60-$L309)=O$61)","v":true},40,55]
[null,null,null,null,null,null,null,null,null,null,null,249,null,{"$f":"(INDEX(lstChosen,$M$60-$L310)=N$61)","v":false},{"$f":"(INDEX(lstChosen,$M$60-$L310)=O$61)","v":false},40,55]
[null,null,null,null,null,null,null,null,null,null,null,250,null,{"$f":"(INDEX(lstChosen,$M$60-$L311)=N$61)","v":false},{"$f":"(INDEX(lstChosen,$M$60-$L311)=O$61)","v":false},40,55]
[null,null,null,null,null,null,null,null,null,null,null,251,null,{"$f":"(INDEX(lstChosen,$M$60-$L312)=N$61)","v":false},{"$f":"(INDEX(lstChosen,$M$60-$L312)=O$61)","v":false},40,55]
[null,null,null,null,null,null,null,null,null,null,null,252,null,{"$f":"(INDEX(lstChosen,$M$60-$L313)=N$61)","v":false},{"$f":"(INDEX(lstChosen,$M$60-$L313)=O$61)","v":true},40,56]
[null,null,null,null,null,null,null,null,null,null,null,253,null,{"$f":"(INDEX(lstChosen,$M$60-$L314)=N$61)","v":false},{"$f":"(INDEX(lstChosen,$M$60-$L314)=O$61)","v":false},40,56]
[null,null,null,null,null,null,null,null,null,null,null,254,null,{"$f":"(INDEX(lstChosen,$M$60-$L315)=N$61)","v":false},{"$f":"(INDEX(lstChosen,$M$60-$L315)=O$61)","v":false},40,56]
[null,null,null,null,null,null,null,null,null,null,null,255,null,{"$f":"(INDEX(lstChosen,$M$60-$L316)=N$61)","v":false},{"$f":"(INDEX(lstChosen,$M$60-$L316)=O$61)","v":false},40,56]
[null,null,null,null,null,null,null,null,null,null,null,256,null,{"$f":"(INDEX(lstChosen,$M$60-$L317)=N$61)","v":false},{"$f":"(INDEX(lstChosen,$M$60-$L317)=O$61)","v":false},40,56]
[null,null,null,null,null,null,null,null,null,null,null,257,null,{"$f":"(INDEX(lstChosen,$M$60-$L318)=N$61)","v":false},{"$f":"(INDEX(lstChosen,$M$60-$L318)=O$61)","v":false},40,56]
[null,null,null,null,null,null,null,null,null,null,null,258,null,{"$f":"(INDEX(lstChosen,$M$60-$L319)=N$61)","v":false},{"$f":"(INDEX(lstChosen,$M$60-$L319)=O$61)","v":false},40,56]
[null,null,null,null,null,null,null,null,null,null,null,259,null,{"$f":"(INDEX(lstChosen,$M$60-$L320)=N$61)","v":true},{"$f":"(INDEX(lstChosen,$M$60-$L320)=O$61)","v":false},{"$f":"P319+N320","v":41},{"$f":"Q319+O320","v":56}]
[null,null,null,null,null,null,null,null,null,null,null,260,null,{"$f":"(INDEX(lstChosen,$M$60-$L321)=N$61)","v":false},{"$f":"(INDEX(lstChosen,$M$60-$L321)=O$61)","v":true},41,57]
[null,null,null,null,null,null,null,null,null,null,null,261,null,{"$f":"(INDEX(lstChosen,$M$60-$L322)=N$61)","v":false},{"$f":"(INDEX(lstChosen,$M$60-$L322)=O$61)","v":false},41,57]
[null,null,null,null,null,null,null,null,null,null,null,262,null,{"$f":"(INDEX(lstChosen,$M$60-$L323)=N$61)","v":true},{"$f":"(INDEX(lstChosen,$M$60-$L323)=O$61)","v":false},42,57]
[null,null,null,null,null,null,null,null,null,null,null,263,null,{"$f":"(INDEX(lstChosen,$M$60-$L324)=N$61)","v":false},{"$f":"(INDEX(lstChosen,$M$60-$L324)=O$61)","v":false},42,57]
[null,null,null,null,null,null,null,null,null,null,null,264,null,{"$f":"(INDEX(lstChosen,$M$60-$L325)=N$61)","v":false},{"$f":"(INDEX(lstChosen,$M$60-$L325)=O$61)","v":false},42,57]
[null,null,null,null,null,null,null,null,null,null,null,265,null,{"$f":"(INDEX(lstChosen,$M$60-$L326)=N$61)","v":false},{"$f":"(INDEX(lstChosen,$M$60-$L326)=O$61)","v":false},42,57]
[null,null,null,null,null,null,null,null,null,null,null,266,null,{"$f":"(INDEX(lstChosen,$M$60-$L327)=N$61)","v":false},{"$f":"(INDEX(lstChosen,$M$60-$L327)=O$61)","v":true},42,58]
[null,null,null,null,null,null,null,null,null,null,null,267,null,{"$f":"(INDEX(lstChosen,$M$60-$L328)=N$61)","v":false},{"$f":"(INDEX(lstChosen,$M$60-$L328)=O$61)","v":false},42,58]
[null,null,null,null,null,null,null,null,null,null,null,268,null,{"$f":"(INDEX(lstChosen,$M$60-$L329)=N$61)","v":false},{"$f":"(INDEX(lstChosen,$M$60-$L329)=O$61)","v":false},42,58]
[null,null,null,null,null,null,null,null,null,null,null,269,null,{"$f":"(INDEX(lstChosen,$M$60-$L330)=N$61)","v":true},{"$f":"(INDEX(lstChosen,$M$60-$L330)=O$61)","v":false},43,58]
[null,null,null,null,null,null,null,null,null,null,null,270,null,{"$f":"(INDEX(lstChosen,$M$60-$L331)=N$61)","v":false},{"$f":"(INDEX(lstChosen,$M$60-$L331)=O$61)","v":true},43,59]
[null,null,null,null,null,null,null,null,null,null,null,271,null,{"$f":"(INDEX(lstChosen,$M$60-$L332)=N$61)","v":false},{"$f":"(INDEX(lstChosen,$M$60-$L332)=O$61)","v":false},43,59]
[null,null,null,null,null,null,null,null,null,null,null,272,null,{"$f":"(INDEX(lstChosen,$M$60-$L333)=N$61)","v":false},{"$f":"(INDEX(lstChosen,$M$60-$L333)=O$61)","v":false},43,59]
[null,null,null,null,null,null,null,null,null,null,null,273,null,{"$f":"(INDEX(lstChosen,$M$60-$L334)=N$61)","v":false},{"$f":"(INDEX(lstChosen,$M$60-$L334)=O$61)","v":false},43,59]
[null,null,null,null,null,null,null,null,null,null,null,274,null,{"$f":"(INDEX(lstChosen,$M$60-$L335)=N$61)","v":true},{"$f":"(INDEX(lstChosen,$M$60-$L335)=O$61)","v":false},44,59]
[null,null,null,null,null,null,null,null,null,null,null,275,null,{"$f":"(INDEX(lstChosen,$M$60-$L336)=N$61)","v":false},{"$f":"(INDEX(lstChosen,$M$60-$L336)=O$61)","v":false},44,59]
[null,null,null,null,null,null,null,null,null,null,null,276,null,{"$f":"(INDEX(lstChosen,$M$60-$L337)=N$61)","v":true},{"$f":"(INDEX(lstChosen,$M$60-$L337)=O$61)","v":false},45,59]
[null,null,null,null,null,null,null,null,null,null,null,277,null,{"$f":"(INDEX(lstChosen,$M$60-$L338)=N$61)","v":false},{"$f":"(INDEX(lstChosen,$M$60-$L338)=O$61)","v":true},45,60]
[null,null,null,null,null,null,null,null,null,null,null,278,null,{"$f":"(INDEX(lstChosen,$M$60-$L339)=N$61)","v":true},{"$f":"(INDEX(lstChosen,$M$60-$L339)=O$61)","v":false},46,60]
[null,null,null,null,null,null,null,null,null,null,null,279,null,{"$f":"(INDEX(lstChosen,$M$60-$L340)=N$61)","v":false},{"$f":"(INDEX(lstChosen,$M$60-$L340)=O$61)","v":false},46,60]
[null,null,null,null,null,null,null,null,null,null,null,280,null,{"$f":"(INDEX(lstChosen,$M$60-$L341)=N$61)","v":false},{"$f":"(INDEX(lstChosen,$M$60-$L341)=O$61)","v":true},46,61]
[null,null,null,null,null,null,null,null,null,null,null,281,null,{"$f":"(INDEX(lstChosen,$M$60-$L342)=N$61)","v":true},{"$f":"(INDEX(lstChosen,$M$60-$L342)=O$61)","v":false},47,61]
[null,null,null,null,null,null,null,null,null,null,null,282,null,{"$f":"(INDEX(lstChosen,$M$60-$L343)=N$61)","v":false},{"$f":"(INDEX(lstChosen,$M$60-$L343)=O$61)","v":false},47,61]
[null,null,null,null,null,null,null,null,null,null,null,283,null,{"$f":"(INDEX(lstChosen,$M$60-$L344)=N$61)","v":false},{"$f":"(INDEX(lstChosen,$M$60-$L344)=O$61)","v":true},47,62]
[null,null,null,null,null,null,null,null,null,null,null,284,null,{"$f":"(INDEX(lstChosen,$M$60-$L345)=N$61)","v":false},{"$f":"(INDEX(lstChosen,$M$60-$L345)=O$61)","v":true},47,63]
[null,null,null,null,null,null,null,null,null,null,null,285,null,{"$f":"(INDEX(lstChosen,$M$60-$L346)=N$61)","v":true},{"$f":"(INDEX(lstChosen,$M$60-$L346)=O$61)","v":false},48,63]
[null,null,null,null,null,null,null,null,null,null,null,286,null,{"$f":"(INDEX(lstChosen,$M$60-$L347)=N$61)","v":false},{"$f":"(INDEX(lstChosen,$M$60-$L347)=O$61)","v":false},48,63]
[null,null,null,null,null,null,null,null,null,null,null,287,null,{"$f":"(INDEX(lstChosen,$M$60-$L348)=N$61)","v":false},{"$f":"(INDEX(lstChosen,$M$60-$L348)=O$61)","v":true},48,64]
[null,null,null,null,null,null,null,null,null,null,null,288,null,{"$f":"(INDEX(lstChosen,$M$60-$L349)=N$61)","v":false},{"$f":"(INDEX(lstChosen,$M$60-$L349)=O$61)","v":false},48,64]
[null,null,null,null,null,null,null,null,null,null,null,289,null,{"$f":"(INDEX(lstChosen,$M$60-$L350)=N$61)","v":false},{"$f":"(INDEX(lstChosen,$M$60-$L350)=O$61)","v":false},48,64]
[null,null,null,null,null,null,null,null,null,null,null,290,null,{"$f":"(INDEX(lstChosen,$M$60-$L351)=N$61)","v":false},{"$f":"(INDEX(lstChosen,$M$60-$L351)=O$61)","v":false},48,64]
[null,null,null,null,null,null,null,null,null,null,null,291,null,{"$f":"(INDEX(lstChosen,$M$60-$L352)=N$61)","v":false},{"$f":"(INDEX(lstChosen,$M$60-$L352)=O$61)","v":false},48,64]
[null,null,null,null,null,null,null,null,null,null,null,292,null,{"$f":"(INDEX(lstChosen,$M$60-$L353)=N$61)","v":false},{"$f":"(INDEX(lstChosen,$M$60-$L353)=O$61)","v":false},48,64]
[null,null,null,null,null,null,null,null,null,null,null,293,null,{"$f":"(INDEX(lstChosen,$M$60-$L354)=N$61)","v":false},{"$f":"(INDEX(lstChosen,$M$60-$L354)=O$61)","v":true},48,65]
[null,null,null,null,null,null,null,null,null,null,null,294,null,{"$f":"(INDEX(lstChosen,$M$60-$L355)=N$61)","v":false},{"$f":"(INDEX(lstChosen,$M$60-$L355)=O$61)","v":true},48,66]
[null,null,null,null,null,null,null,null,null,null,null,295,null,{"$f":"(INDEX(lstChosen,$M$60-$L356)=N$61)","v":false},{"$f":"(INDEX(lstChosen,$M$60-$L356)=O$61)","v":true},48,67]
[null,null,null,null,null,null,null,null,null,null,null,296,null,{"$f":"(INDEX(lstChosen,$M$60-$L357)=N$61)","v":false},{"$f":"(INDEX(lstChosen,$M$60-$L357)=O$61)","v":false},48,67]
[null,null,null,null,null,null,null,null,null,null,null,297,null,{"$f":"(INDEX(lstChosen,$M$60-$L358)=N$61)","v":false},{"$f":"(INDEX(lstChosen,$M$60-$L358)=O$61)","v":false},48,67]
[null,null,null,null,null,null,null,null,null,null,null,298,null,{"$f":"(INDEX(lstChosen,$M$60-$L359)=N$61)","v":false},{"$f":"(INDEX(lstChosen,$M$60-$L359)=O$61)","v":false},48,67]
[null,null,null,null,null,null,null,null,null,null,null,299,null,{"$f":"(INDEX(lstChosen,$M$60-$L360)=N$61)","v":false},{"$f":"(INDEX(lstChosen,$M$60-$L360)=O$61)","v":false},48,67]
[null,null,null,null,null,null,null,null,null,null,null,300,null,{"$f":"(INDEX(lstChosen,$M$60-$L361)=N$61)","v":false},{"$f":"(INDEX(lstChosen,$M$60-$L361)=O$61)","v":true},48,68]
[null,null,null,null,null,null,null,null,null,null,null,301,null,{"$f":"(INDEX(lstChosen,$M$60-$L362)=N$61)","v":false},{"$f":"(INDEX(lstChosen,$M$60-$L362)=O$61)","v":false},48,68]
[null,null,null,null,null,null,null,null,null,null,null,302,null,{"$f":"(INDEX(lstChosen,$M$60-$L363)=N$61)","v":false},{"$f":"(INDEX(lstChosen,$M$60-$L363)=O$61)","v":false},48,68]
[null,null,null,null,null,null,null,null,null,null,null,303,null,{"$f":"(INDEX(lstChosen,$M$60-$L364)=N$61)","v":true},{"$f":"(INDEX(lstChosen,$M$60-$L364)=O$61)","v":false},49,68]
[null,null,null,null,null,null,null,null,null,null,null,304,null,{"$f":"(INDEX(lstChosen,$M$60-$L365)=N$61)","v":false},{"$f":"(INDEX(lstChosen,$M$60-$L365)=O$61)","v":false},49,68]
[null,null,null,null,null,null,null,null,null,null,null,305,null,{"$f":"(INDEX(lstChosen,$M$60-$L366)=N$61)","v":false},{"$f":"(INDEX(lstChosen,$M$60-$L366)=O$61)","v":false},49,68]
[null,null,null,null,null,null,null,null,null,null,null,306,null,{"$f":"(INDEX(lstChosen,$M$60-$L367)=N$61)","v":false},{"$f":"(INDEX(lstChosen,$M$60-$L367)=O$61)","v":true},49,69]
[null,null,null,null,null,null,null,null,null,null,null,307,null,{"$f":"(INDEX(lstChosen,$M$60-$L368)=N$61)","v":false},{"$f":"(INDEX(lstChosen,$M$60-$L368)=O$61)","v":false},49,69]
[null,null,null,null,null,null,null,null,null,null,null,308,null,{"$f":"(INDEX(lstChosen,$M$60-$L369)=N$61)","v":false},{"$f":"(INDEX(lstChosen,$M$60-$L369)=O$61)","v":false},49,69]
[null,null,null,null,null,null,null,null,null,null,null,309,null,{"$f":"(INDEX(lstChosen,$M$60-$L370)=N$61)","v":true},{"$f":"(INDEX(lstChosen,$M$60-$L370)=O$61)","v":false},50,69]
[null,null,null,null,null,null,null,null,null,null,null,310,null,{"$f":"(INDEX(lstChosen,$M$60-$L371)=N$61)","v":false},{"$f":"(INDEX(lstChosen,$M$60-$L371)=O$61)","v":false},50,69]
[null,null,null,null,null,null,null,null,null,null,null,311,null,{"$f":"(INDEX(lstChosen,$M$60-$L372)=N$61)","v":false},{"$f":"(INDEX(lstChosen,$M$60-$L372)=O$61)","v":false},50,69]
[null,null,null,null,null,null,null,null,null,null,null,312,null,{"$f":"(INDEX(lstChosen,$M$60-$L373)=N$61)","v":true},{"$f":"(INDEX(lstChosen,$M$60-$L373)=O$61)","v":false},51,69]
[null,null,null,null,null,null,null,null,null,null,null,313,null,{"$f":"(INDEX(lstChosen,$M$60-$L374)=N$61)","v":false},{"$f":"(INDEX(lstChosen,$M$60-$L374)=O$61)","v":false},51,69]
[null,null,null,null,null,null,null,null,null,null,null,314,null,{"$f":"(INDEX(lstChosen,$M$60-$L375)=N$61)","v":true},{"$f":"(INDEX(lstChosen,$M$60-$L375)=O$61)","v":false},52,69]
[null,null,null,null,null,null,null,null,null,null,null,315,null,{"$f":"(INDEX(lstChosen,$M$60-$L376)=N$61)","v":false},{"$f":"(INDEX(lstChosen,$M$60-$L376)=O$61)","v":false},52,69]
[null,null,null,null,null,null,null,null,null,null,null,316,null,{"$f":"(INDEX(lstChosen,$M$60-$L377)=N$61)","v":false},{"$f":"(INDEX(lstChosen,$M$60-$L377)=O$61)","v":true},52,70]
[null,null,null,null,null,null,null,null,null,null,null,317,null,{"$f":"(INDEX(lstChosen,$M$60-$L378)=N$61)","v":false},{"$f":"(INDEX(lstChosen,$M$60-$L378)=O$61)","v":false},52,70]
[null,null,null,null,null,null,null,null,null,null,null,318,null,{"$f":"(INDEX(lstChosen,$M$60-$L379)=N$61)","v":false},{"$f":"(INDEX(lstChosen,$M$60-$L379)=O$61)","v":false},52,70]
[null,null,null,null,null,null,null,null,null,null,null,319,null,{"$f":"(INDEX(lstChosen,$M$60-$L380)=N$61)","v":false},{"$f":"(INDEX(lstChosen,$M$60-$L380)=O$61)","v":false},52,70]
[null,null,null,null,null,null,null,null,null,null,null,320,null,{"$f":"(INDEX(lstChosen,$M$60-$L381)=N$61)","v":false},{"$f":"(INDEX(lstChosen,$M$60-$L381)=O$61)","v":true},52,71]
[null,null,null,null,null,null,null,null,null,null,null,321,null,{"$f":"(INDEX(lstChosen,$M$60-$L382)=N$61)","v":false},{"$f":"(INDEX(lstChosen,$M$60-$L382)=O$61)","v":true},52,72]
[null,null,null,null,null,null,null,null,null,null,null,322,null,{"$f":"(INDEX(lstChosen,$M$60-$L383)=N$61)","v":false},{"$f":"(INDEX(lstChosen,$M$60-$L383)=O$61)","v":false},52,72]
[null,null,null,null,null,null,null,null,null,null,null,323,null,{"$f":"(INDEX(lstChosen,$M$60-$L384)=N$61)","v":false},{"$f":"(INDEX(lstChosen,$M$60-$L384)=O$61)","v":false},{"$f":"P383+N384","v":52},{"$f":"Q383+O384","v":72}]
[null,null,null,null,null,null,null,null,null,null,null,324,null,{"$f":"(INDEX(lstChosen,$M$60-$L385)=N$61)","v":true},{"$f":"(INDEX(lstChosen,$M$60-$L385)=O$61)","v":false},53,72]
[null,null,null,null,null,null,null,null,null,null,null,325,null,{"$f":"(INDEX(lstChosen,$M$60-$L386)=N$61)","v":false},{"$f":"(INDEX(lstChosen,$M$60-$L386)=O$61)","v":false},53,72]
[null,null,null,null,null,null,null,null,null,null,null,326,null,{"$f":"(INDEX(lstChosen,$M$60-$L387)=N$61)","v":false},{"$f":"(INDEX(lstChosen,$M$60-$L387)=O$61)","v":false},53,72]
[null,null,null,null,null,null,null,null,null,null,null,327,null,{"$f":"(INDEX(lstChosen,$M$60-$L388)=N$61)","v":false},{"$f":"(INDEX(lstChosen,$M$60-$L388)=O$61)","v":true},53,73]
[null,null,null,null,null,null,null,null,null,null,null,328,null,{"$f":"(INDEX(lstChosen,$M$60-$L389)=N$61)","v":true},{"$f":"(INDEX(lstChosen,$M$60-$L389)=O$61)","v":false},54,73]
[null,null,null,null,null,null,null,null,null,null,null,329,null,{"$f":"(INDEX(lstChosen,$M$60-$L390)=N$61)","v":false},{"$f":"(INDEX(lstChosen,$M$60-$L390)=O$61)","v":false},54,73]
[null,null,null,null,null,null,null,null,null,null,null,330,null,{"$f":"(INDEX(lstChosen,$M$60-$L391)=N$61)","v":false},{"$f":"(INDEX(lstChosen,$M$60-$L391)=O$61)","v":false},54,73]
[null,null,null,null,null,null,null,null,null,null,null,331,null,{"$f":"(INDEX(lstChosen,$M$60-$L392)=N$61)","v":true},{"$f":"(INDEX(lstChosen,$M$60-$L392)=O$61)","v":false},55,73]
[null,null,null,null,null,null,null,null,null,null,null,332,null,{"$f":"(INDEX(lstChosen,$M$60-$L393)=N$61)","v":false},{"$f":"(INDEX(lstChosen,$M$60-$L393)=O$61)","v":true},55,74]
[null,null,null,null,null,null,null,null,null,null,null,333,null,{"$f":"(INDEX(lstChosen,$M$60-$L394)=N$61)","v":true},{"$f":"(INDEX(lstChosen,$M$60-$L394)=O$61)","v":false},56,74]
[null,null,null,null,null,null,null,null,null,null,null,334,null,{"$f":"(INDEX(lstChosen,$M$60-$L395)=N$61)","v":false},{"$f":"(INDEX(lstChosen,$M$60-$L395)=O$61)","v":false},56,74]
[null,null,null,null,null,null,null,null,null,null,null,335,null,{"$f":"(INDEX(lstChosen,$M$60-$L396)=N$61)","v":false},{"$f":"(INDEX(lstChosen,$M$60-$L396)=O$61)","v":false},56,74]
[null,null,null,null,null,null,null,null,null,null,null,336,null,{"$f":"(INDEX(lstChosen,$M$60-$L397)=N$61)","v":false},{"$f":"(INDEX(lstChosen,$M$60-$L397)=O$61)","v":false},56,74]
[null,null,null,null,null,null,null,null,null,null,null,337,null,{"$f":"(INDEX(lstChosen,$M$60-$L398)=N$61)","v":true},{"$f":"(INDEX(lstChosen,$M$60-$L398)=O$61)","v":false},57,74]
[null,null,null,null,null,null,null,null,null,null,null,338,null,{"$f":"(INDEX(lstChosen,$M$60-$L399)=N$61)","v":false},{"$f":"(INDEX(lstChosen,$M$60-$L399)=O$61)","v":true},57,75]
[null,null,null,null,null,null,null,null,null,null,null,339,null,{"$f":"(INDEX(lstChosen,$M$60-$L400)=N$61)","v":true},{"$f":"(INDEX(lstChosen,$M$60-$L400)=O$61)","v":false},58,75]
[null,null,null,null,null,null,null,null,null,null,null,340,null,{"$f":"(INDEX(lstChosen,$M$60-$L401)=N$61)","v":false},{"$f":"(INDEX(lstChosen,$M$60-$L401)=O$61)","v":true},58,76]
[null,null,null,null,null,null,null,null,null,null,null,341,null,{"$f":"(INDEX(lstChosen,$M$60-$L402)=N$61)","v":false},{"$f":"(INDEX(lstChosen,$M$60-$L402)=O$61)","v":true},58,77]
[null,null,null,null,null,null,null,null,null,null,null,342,null,{"$f":"(INDEX(lstChosen,$M$60-$L403)=N$61)","v":false},{"$f":"(INDEX(lstChosen,$M$60-$L403)=O$61)","v":false},58,77]
[null,null,null,null,null,null,null,null,null,null,null,343,null,{"$f":"(INDEX(lstChosen,$M$60-$L404)=N$61)","v":false},{"$f":"(INDEX(lstChosen,$M$60-$L404)=O$61)","v":true},58,78]
[null,null,null,null,null,null,null,null,null,null,null,344,null,{"$f":"(INDEX(lstChosen,$M$60-$L405)=N$61)","v":false},{"$f":"(INDEX(lstChosen,$M$60-$L405)=O$61)","v":false},58,78]
[null,null,null,null,null,null,null,null,null,null,null,345,null,{"$f":"(INDEX(lstChosen,$M$60-$L406)=N$61)","v":false},{"$f":"(INDEX(lstChosen,$M$60-$L406)=O$61)","v":false},58,78]
[null,null,null,null,null,null,null,null,null,null,null,346,null,{"$f":"(INDEX(lstChosen,$M$60-$L407)=N$61)","v":false},{"$f":"(INDEX(lstChosen,$M$60-$L407)=O$61)","v":false},58,78]
[null,null,null,null,null,null,null,null,null,null,null,347,null,{"$f":"(INDEX(lstChosen,$M$60-$L408)=N$61)","v":true},{"$f":"(INDEX(lstChosen,$M$60-$L408)=O$61)","v":false},59,78]
[null,null,null,null,null,null,null,null,null,null,null,348,null,{"$f":"(INDEX(lstChosen,$M$60-$L409)=N$61)","v":false},{"$f":"(INDEX(lstChosen,$M$60-$L409)=O$61)","v":false},59,78]
[null,null,null,null,null,null,null,null,null,null,null,349,null,{"$f":"(INDEX(lstChosen,$M$60-$L410)=N$61)","v":false},{"$f":"(INDEX(lstChosen,$M$60-$L410)=O$61)","v":false},59,78]
[null,null,null,null,null,null,null,null,null,null,null,350,null,{"$f":"(INDEX(lstChosen,$M$60-$L411)=N$61)","v":false},{"$f":"(INDEX(lstChosen,$M$60-$L411)=O$61)","v":true},59,79]
[null,null,null,null,null,null,null,null,null,null,null,351,null,{"$f":"(INDEX(lstChosen,$M$60-$L412)=N$61)","v":false},{"$f":"(INDEX(lstChosen,$M$60-$L412)=O$61)","v":false},59,79]
[null,null,null,null,null,null,null,null,null,null,null,352,null,{"$f":"(INDEX(lstChosen,$M$60-$L413)=N$61)","v":false},{"$f":"(INDEX(lstChosen,$M$60-$L413)=O$61)","v":false},59,79]
[null,null,null,null,null,null,null,null,null,null,null,353,null,{"$f":"(INDEX(lstChosen,$M$60-$L414)=N$61)","v":false},{"$f":"(INDEX(lstChosen,$M$60-$L414)=O$61)","v":false},59,79]
[null,null,null,null,null,null,null,null,null,null,null,354,null,{"$f":"(INDEX(lstChosen,$M$60-$L415)=N$61)","v":false},{"$f":"(INDEX(lstChosen,$M$60-$L415)=O$61)","v":false},59,79]
[null,null,null,null,null,null,null,null,null,null,null,355,null,{"$f":"(INDEX(lstChosen,$M$60-$L416)=N$61)","v":false},{"$f":"(INDEX(lstChosen,$M$60-$L416)=O$61)","v":true},59,80]
[null,null,null,null,null,null,null,null,null,null,null,356,null,{"$f":"(INDEX(lstChosen,$M$60-$L417)=N$61)","v":false},{"$f":"(INDEX(lstChosen,$M$60-$L417)=O$61)","v":false},59,80]
[null,null,null,null,null,null,null,null,null,null,null,357,null,{"$f":"(INDEX(lstChosen,$M$60-$L418)=N$61)","v":false},{"$f":"(INDEX(lstChosen,$M$60-$L418)=O$61)","v":false},59,80]
[null,null,null,null,null,null,null,null,null,null,null,358,null,{"$f":"(INDEX(lstChosen,$M$60-$L419)=N$61)","v":false},{"$f":"(INDEX(lstChosen,$M$60-$L419)=O$61)","v":false},59,80]
[null,null,null,null,null,null,null,null,null,null,null,359,null,{"$f":"(INDEX(lstChosen,$M$60-$L420)=N$61)","v":false},{"$f":"(INDEX(lstChosen,$M$60-$L420)=O$61)","v":false},59,80]
[null,null,null,null,null,null,null,null,null,null,null,360,null,{"$f":"(INDEX(lstChosen,$M$60-$L421)=N$61)","v":false},{"$f":"(INDEX(lstChosen,$M$60-$L421)=O$61)","v":false},59,80]
[null,null,null,null,null,null,null,null,null,null,null,361,null,{"$f":"(INDEX(lstChosen,$M$60-$L422)=N$61)","v":false},{"$f":"(INDEX(lstChosen,$M$60-$L422)=O$61)","v":true},59,81]
[null,null,null,null,null,null,null,null,null,null,null,362,null,{"$f":"(INDEX(lstChosen,$M$60-$L423)=N$61)","v":false},{"$f":"(INDEX(lstChosen,$M$60-$L423)=O$61)","v":true},59,82]
[null,null,null,null,null,null,null,null,null,null,null,363,null,{"$f":"(INDEX(lstChosen,$M$60-$L424)=N$61)","v":false},{"$f":"(INDEX(lstChosen,$M$60-$L424)=O$61)","v":false},59,82]
[null,null,null,null,null,null,null,null,null,null,null,364,null,{"$f":"(INDEX(lstChosen,$M$60-$L425)=N$61)","v":false},{"$f":"(INDEX(lstChosen,$M$60-$L425)=O$61)","v":true},59,83]
[null,null,null,null,null,null,null,null,null,null,null,365,null,{"$f":"(INDEX(lstChosen,$M$60-$L426)=N$61)","v":false},{"$f":"(INDEX(lstChosen,$M$60-$L426)=O$61)","v":false},59,83]
[null,null,null,null,null,null,null,null,null,null,null,366,null,{"$f":"(INDEX(lstChosen,$M$60-$L427)=N$61)","v":false},{"$f":"(INDEX(lstChosen,$M$60-$L427)=O$61)","v":false},59,83]
[null,null,null,null,null,null,null,null,null,null,null,367,null,{"$f":"(INDEX(lstChosen,$M$60-$L428)=N$61)","v":false},{"$f":"(INDEX(lstChosen,$M$60-$L428)=O$61)","v":false},59,83]
[null,null,null,null,null,null,null,null,null,null,null,368,null,{"$f":"(INDEX(lstChosen,$M$60-$L429)=N$61)","v":true},{"$f":"(INDEX(lstChosen,$M$60-$L429)=O$61)","v":false},60,83]
[null,null,null,null,null,null,null,null,null,null,null,369,null,{"$f":"(INDEX(lstChosen,$M$60-$L430)=N$61)","v":false},{"$f":"(INDEX(lstChosen,$M$60-$L430)=O$61)","v":true},60,84]
[null,null,null,null,null,null,null,null,null,null,null,370,null,{"$f":"(INDEX(lstChosen,$M$60-$L431)=N$61)","v":true},{"$f":"(INDEX(lstChosen,$M$60-$L431)=O$61)","v":false},61,84]
[null,null,null,null,null,null,null,null,null,null,null,371,null,{"$f":"(INDEX(lstChosen,$M$60-$L432)=N$61)","v":false},{"$f":"(INDEX(lstChosen,$M$60-$L432)=O$61)","v":false},61,84]
[null,null,null,null,null,null,null,null,null,null,null,372,null,{"$f":"(INDEX(lstChosen,$M$60-$L433)=N$61)","v":false},{"$f":"(INDEX(lstChosen,$M$60-$L433)=O$61)","v":true},61,85]
[null,null,null,null,null,null,null,null,null,null,null,373,null,{"$f":"(INDEX(lstChosen,$M$60-$L434)=N$61)","v":false},{"$f":"(INDEX(lstChosen,$M$60-$L434)=O$61)","v":false},61,85]
[null,null,null,null,null,null,null,null,null,null,null,374,null,{"$f":"(INDEX(lstChosen,$M$60-$L435)=N$61)","v":false},{"$f":"(INDEX(lstChosen,$M$60-$L435)=O$61)","v":false},61,85]
[null,null,null,null,null,null,null,null,null,null,null,375,null,{"$f":"(INDEX(lstChosen,$M$60-$L436)=N$61)","v":true},{"$f":"(INDEX(lstChosen,$M$60-$L436)=O$61)","v":false},62,85]
[null,null,null,null,null,null,null,null,null,null,null,376,null,{"$f":"(INDEX(lstChosen,$M$60-$L437)=N$61)","v":false},{"$f":"(INDEX(lstChosen,$M$60-$L437)=O$61)","v":false},62,85]
[null,null,null,null,null,null,null,null,null,null,null,377,null,{"$f":"(INDEX(lstChosen,$M$60-$L438)=N$61)","v":false},{"$f":"(INDEX(lstChosen,$M$60-$L438)=O$61)","v":false},62,85]
[null,null,null,null,null,null,null,null,null,null,null,378,null,{"$f":"(INDEX(lstChosen,$M$60-$L439)=N$61)","v":false},{"$f":"(INDEX(lstChosen,$M$60-$L439)=O$61)","v":true},62,86]
[null,null,null,null,null,null,null,null,null,null,null,379,null,{"$f":"(INDEX(lstChosen,$M$60-$L440)=N$61)","v":false},{"$f":"(INDEX(lstChosen,$M$60-$L440)=O$61)","v":false},62,86]
[null,null,null,null,null,null,null,null,null,null,null,380,null,{"$f":"(INDEX(lstChosen,$M$60-$L441)=N$61)","v":false},{"$f":"(INDEX(lstChosen,$M$60-$L441)=O$61)","v":false},62,86]
[null,null,null,null,null,null,null,null,null,null,null,381,null,{"$f":"(INDEX(lstChosen,$M$60-$L442)=N$61)","v":false},{"$f":"(INDEX(lstChosen,$M$60-$L442)=O$61)","v":true},62,87]
[null,null,null,null,null,null,null,null,null,null,null,382,null,{"$f":"(INDEX(lstChosen,$M$60-$L443)=N$61)","v":false},{"$f":"(INDEX(lstChosen,$M$60-$L443)=O$61)","v":false},62,87]
[null,null,null,null,null,null,null,null,null,null,null,383,null,{"$f":"(INDEX(lstChosen,$M$60-$L444)=N$61)","v":false},{"$f":"(INDEX(lstChosen,$M$60-$L444)=O$61)","v":false},62,87]
[null,null,null,null,null,null,null,null,null,null,null,384,null,{"$f":"(INDEX(lstChosen,$M$60-$L445)=N$61)","v":false},{"$f":"(INDEX(lstChosen,$M$60-$L445)=O$61)","v":false},62,87]
[null,null,null,null,null,null,null,null,null,null,null,385,null,{"$f":"(INDEX(lstChosen,$M$60-$L446)=N$61)","v":false},{"$f":"(INDEX(lstChosen,$M$60-$L446)=O$61)","v":false},62,87]
[null,null,null,null,null,null,null,null,null,null,null,386,null,{"$f":"(INDEX(lstChosen,$M$60-$L447)=N$61)","v":true},{"$f":"(INDEX(lstChosen,$M$60-$L447)=O$61)","v":false},63,87]
[null,null,null,null,null,null,null,null,null,null,null,387,null,{"$f":"(INDEX(lstChosen,$M$60-$L448)=N$61)","v":false},{"$f":"(INDEX(lstChosen,$M$60-$L448)=O$61)","v":false},{"$f":"P447+N448","v":63},{"$f":"Q447+O448","v":87}]
[null,null,null,null,null,null,null,null,null,null,null,388,null,{"$f":"(INDEX(lstChosen,$M$60-$L449)=N$61)","v":false},{"$f":"(INDEX(lstChosen,$M$60-$L449)=O$61)","v":false},63,87]
[null,null,null,null,null,null,null,null,null,null,null,389,null,{"$f":"(INDEX(lstChosen,$M$60-$L450)=N$61)","v":false},{"$f":"(INDEX(lstChosen,$M$60-$L450)=O$61)","v":false},63,87]
[null,null,null,null,null,null,null,null,null,null,null,390,null,{"$f":"(INDEX(lstChosen,$M$60-$L451)=N$61)","v":false},{"$f":"(INDEX(lstChosen,$M$60-$L451)=O$61)","v":false},63,87]
[null,null,null,null,null,null,null,null,null,null,null,391,null,{"$f":"(INDEX(lstChosen,$M$60-$L452)=N$61)","v":false},{"$f":"(INDEX(lstChosen,$M$60-$L452)=O$61)","v":false},63,87]
[null,null,null,null,null,null,null,null,null,null,null,392,null,{"$f":"(INDEX(lstChosen,$M$60-$L453)=N$61)","v":true},{"$f":"(INDEX(lstChosen,$M$60-$L453)=O$61)","v":false},64,87]
[null,null,null,null,null,null,null,null,null,null,null,393,null,{"$f":"(INDEX(lstChosen,$M$60-$L454)=N$61)","v":false},{"$f":"(INDEX(lstChosen,$M$60-$L454)=O$61)","v":false},64,87]
[null,null,null,null,null,null,null,null,null,null,null,394,null,{"$f":"(INDEX(lstChosen,$M$60-$L455)=N$61)","v":true},{"$f":"(INDEX(lstChosen,$M$60-$L455)=O$61)","v":false},65,87]
[null,null,null,null,null,null,null,null,null,null,null,395,null,{"$f":"(INDEX(lstChosen,$M$60-$L456)=N$61)","v":false},{"$f":"(INDEX(lstChosen,$M$60-$L456)=O$61)","v":true},65,88]
[null,null,null,null,null,null,null,null,null,null,null,396,null,{"$f":"(INDEX(lstChosen,$M$60-$L457)=N$61)","v":false},{"$f":"(INDEX(lstChosen,$M$60-$L457)=O$61)","v":false},65,88]
[null,null,null,null,null,null,null,null,null,null,null,397,null,{"$f":"(INDEX(lstChosen,$M$60-$L458)=N$61)","v":false},{"$f":"(INDEX(lstChosen,$M$60-$L458)=O$61)","v":false},65,88]
[null,null,null,null,null,null,null,null,null,null,null,398,null,{"$f":"(INDEX(lstChosen,$M$60-$L459)=N$61)","v":false},{"$f":"(INDEX(lstChosen,$M$60-$L459)=O$61)","v":true},65,89]
[null,null,null,null,null,null,null,null,null,null,null,399,null,{"$f":"(INDEX(lstChosen,$M$60-$L460)=N$61)","v":false},{"$f":"(INDEX(lstChosen,$M$60-$L460)=O$61)","v":false},65,89]
[null,null,null,null,null,null,null,null,null,null,null,400,null,{"$f":"(INDEX(lstChosen,$M$60-$L461)=N$61)","v":false},{"$f":"(INDEX(lstChosen,$M$60-$L461)=O$61)","v":false},65,89]
[null,null,null,null,null,null,null,null,null,null,null,401,null,{"$f":"(INDEX(lstChosen,$M$60-$L462)=N$61)","v":false},{"$f":"(INDEX(lstChosen,$M$60-$L462)=O$61)","v":false},65,89]
[null,null,null,null,null,null,null,null,null,null,null,402,null,{"$f":"(INDEX(lstChosen,$M$60-$L463)=N$61)","v":false},{"$f":"(INDEX(lstChosen,$M$60-$L463)=O$61)","v":false},65,89]
[null,null,null,null,null,null,null,null,null,null,null,403,null,{"$f":"(INDEX(lstChosen,$M$60-$L464)=N$61)","v":false},{"$f":"(INDEX(lstChosen,$M$60-$L464)=O$61)","v":false},65,89]
[null,null,null,null,null,null,null,null,null,null,null,404,null,{"$f":"(INDEX(lstChosen,$M$60-$L465)=N$61)","v":false},{"$f":"(INDEX(lstChosen,$M$60-$L465)=O$61)","v":true},65,90]
[null,null,null,null,null,null,null,null,null,null,null,405,null,{"$f":"(INDEX(lstChosen,$M$60-$L466)=N$61)","v":false},{"$f":"(INDEX(lstChosen,$M$60-$L466)=O$61)","v":false},65,90]
[null,null,null,null,null,null,null,null,null,null,null,406,null,{"$f":"(INDEX(lstChosen,$M$60-$L467)=N$61)","v":false},{"$f":"(INDEX(lstChosen,$M$60-$L467)=O$61)","v":false},65,90]
[null,null,null,null,null,null,null,null,null,null,null,407,null,{"$f":"(INDEX(lstChosen,$M$60-$L468)=N$61)","v":true},{"$f":"(INDEX(lstChosen,$M$60-$L468)=O$61)","v":false},66,90]
[null,null,null,null,null,null,null,null,null,null,null,408,null,{"$f":"(INDEX(lstChosen,$M$60-$L469)=N$61)","v":false},{"$f":"(INDEX(lstChosen,$M$60-$L469)=O$61)","v":true},66,91]
[null,null,null,null,null,null,null,null,null,null,null,409,null,{"$f":"(INDEX(lstChosen,$M$60-$L470)=N$61)","v":false},{"$f":"(INDEX(lstChosen,$M$60-$L470)=O$61)","v":false},66,91]
[null,null,null,null,null,null,null,null,null,null,null,410,null,{"$f":"(INDEX(lstChosen,$M$60-$L471)=N$61)","v":false},{"$f":"(INDEX(lstChosen,$M$60-$L471)=O$61)","v":false},66,91]
[null,null,null,null,null,null,null,null,null,null,null,411,null,{"$f":"(INDEX(lstChosen,$M$60-$L472)=N$61)","v":true},{"$f":"(INDEX(lstChosen,$M$60-$L472)=O$61)","v":false},67,91]
[null,null,null,null,null,null,null,null,null,null,null,412,null,{"$f":"(INDEX(lstChosen,$M$60-$L473)=N$61)","v":false},{"$f":"(INDEX(lstChosen,$M$60-$L473)=O$61)","v":false},67,91]
[null,null,null,null,null,null,null,null,null,null,null,413,null,{"$f":"(INDEX(lstChosen,$M$60-$L474)=N$61)","v":true},{"$f":"(INDEX(lstChosen,$M$60-$L474)=O$61)","v":false},68,91]
[null,null,null,null,null,null,null,null,null,null,null,414,null,{"$f":"(INDEX(lstChosen,$M$60-$L475)=N$61)","v":false},{"$f":"(INDEX(lstChosen,$M$60-$L475)=O$61)","v":false},68,91]
[null,null,null,null,null,null,null,null,null,null,null,415,null,{"$f":"(INDEX(lstChosen,$M$60-$L476)=N$61)","v":true},{"$f":"(INDEX(lstChosen,$M$60-$L476)=O$61)","v":false},69,91]
[null,null,null,null,null,null,null,null,null,null,null,416,null,{"$f":"(INDEX(lstChosen,$M$60-$L477)=N$61)","v":true},{"$f":"(INDEX(lstChosen,$M$60-$L477)=O$61)","v":false},70,91]
[null,null,null,null,null,null,null,null,null,null,null,417,null,{"$f":"(INDEX(lstChosen,$M$60-$L478)=N$61)","v":false},{"$f":"(INDEX(lstChosen,$M$60-$L478)=O$61)","v":false},70,91]
[null,null,null,null,null,null,null,null,null,null,null,418,null,{"$f":"(INDEX(lstChosen,$M$60-$L479)=N$61)","v":true},{"$f":"(INDEX(lstChosen,$M$60-$L479)=O$61)","v":false},71,91]
[null,null,null,null,null,null,null,null,null,null,null,419,null,{"$f":"(INDEX(lstChosen,$M$60-$L480)=N$61)","v":false},{"$f":"(INDEX(lstChosen,$M$60-$L480)=O$61)","v":false},71,91]
[null,null,null,null,null,null,null,null,null,null,null,420,null,{"$f":"(INDEX(lstChosen,$M$60-$L481)=N$61)","v":false},{"$f":"(INDEX(lstChosen,$M$60-$L481)=O$61)","v":false},71,91]
[null,null,null,null,null,null,null,null,null,null,null,421,null,{"$f":"(INDEX(lstChosen,$M$60-$L482)=N$61)","v":true},{"$f":"(INDEX(lstChosen,$M$60-$L482)=O$61)","v":false},72,91]
[null,null,null,null,null,null,null,null,null,null,null,422,null,{"$f":"(INDEX(lstChosen,$M$60-$L483)=N$61)","v":false},{"$f":"(INDEX(lstChosen,$M$60-$L483)=O$61)","v":false},72,91]
[null,null,null,null,null,null,null,null,null,null,null,423,null,{"$f":"(INDEX(lstChosen,$M$60-$L484)=N$61)","v":false},{"$f":"(INDEX(lstChosen,$M$60-$L484)=O$61)","v":true},72,92]
[null,null,null,null,null,null,null,null,null,null,null,424,null,{"$f":"(INDEX(lstChosen,$M$60-$L485)=N$61)","v":false},{"$f":"(INDEX(lstChosen,$M$60-$L485)=O$61)","v":false},72,92]
[null,null,null,null,null,null,null,null,null,null,null,425,null,{"$f":"(INDEX(lstChosen,$M$60-$L486)=N$61)","v":false},{"$f":"(INDEX(lstChosen,$M$60-$L486)=O$61)","v":false},72,92]
[null,null,null,null,null,null,null,null,null,null,null,426,null,{"$f":"(INDEX(lstChosen,$M$60-$L487)=N$61)","v":false},{"$f":"(INDEX(lstChosen,$M$60-$L487)=O$61)","v":false},72,92]
[null,null,null,null,null,null,null,null,null,null,null,427,null,{"$f":"(INDEX(lstChosen,$M$60-$L488)=N$61)","v":true},{"$f":"(INDEX(lstChosen,$M$60-$L488)=O$61)","v":false},73,92]
[null,null,null,null,null,null,null,null,null,null,null,428,null,{"$f":"(INDEX(lstChosen,$M$60-$L489)=N$61)","v":false},{"$f":"(INDEX(lstChosen,$M$60-$L489)=O$61)","v":false},73,92]
[null,null,null,null,null,null,null,null,null,null,null,429,null,{"$f":"(INDEX(lstChosen,$M$60-$L490)=N$61)","v":false},{"$f":"(INDEX(lstChosen,$M$60-$L490)=O$61)","v":false},73,92]
[null,null,null,null,null,null,null,null,null,null,null,430,null,{"$f":"(INDEX(lstChosen,$M$60-$L491)=N$61)","v":false},{"$f":"(INDEX(lstChosen,$M$60-$L491)=O$61)","v":false},73,92]
[null,null,null,null,null,null,null,null,null,null,null,431,null,{"$f":"(INDEX(lstChosen,$M$60-$L492)=N$61)","v":false},{"$f":"(INDEX(lstChosen,$M$60-$L492)=O$61)","v":false},73,92]
[null,null,null,null,null,null,null,null,null,null,null,432,null,{"$f":"(INDEX(lstChosen,$M$60-$L493)=N$61)","v":true},{"$f":"(INDEX(lstChosen,$M$60-$L493)=O$61)","v":false},74,92]
[null,null,null,null,null,null,null,null,null,null,null,433,null,{"$f":"(INDEX(lstChosen,$M$60-$L494)=N$61)","v":false},{"$f":"(INDEX(lstChosen,$M$60-$L494)=O$61)","v":true},74,93]
[null,null,null,null,null,null,null,null,null,null,null,434,null,{"$f":"(INDEX(lstChosen,$M$60-$L495)=N$61)","v":false},{"$f":"(INDEX(lstChosen,$M$60-$L495)=O$61)","v":false},74,93]
[null,null,null,null,null,null,null,null,null,null,null,435,null,{"$f":"(INDEX(lstChosen,$M$60-$L496)=N$61)","v":false},{"$f":"(INDEX(lstChosen,$M$60-$L496)=O$61)","v":false},74,93]
[null,null,null,null,null,null,null,null,null,null,null,436,null,{"$f":"(INDEX(lstChosen,$M$60-$L497)=N$61)","v":true},{"$f":"(INDEX(lstChosen,$M$60-$L497)=O$61)","v":false},75,93]
[null,null,null,null,null,null,null,null,null,null,null,437,null,{"$f":"(INDEX(lstChosen,$M$60-$L498)=N$61)","v":false},{"$f":"(INDEX(lstChosen,$M$60-$L498)=O$61)","v":true},75,94]
[null,null,null,null,null,null,null,null,null,null,null,438,null,{"$f":"(INDEX(lstChosen,$M$60-$L499)=N$61)","v":true},{"$f":"(INDEX(lstChosen,$M$60-$L499)=O$61)","v":false},76,94]
[null,null,null,null,null,null,null,null,null,null,null,439,null,{"$f":"(INDEX(lstChosen,$M$60-$L500)=N$61)","v":false},{"$f":"(INDEX(lstChosen,$M$60-$L500)=O$61)","v":false},76,94]
[null,null,null,null,null,null,null,null,null,null,null,440,null,{"$f":"(INDEX(lstChosen,$M$60-$L501)=N$61)","v":false},{"$f":"(INDEX(lstChosen,$M$60-$L501)=O$61)","v":false},76,94]
[null,null,null,null,null,null,null,null,null,null,null,441,null,{"$f":"(INDEX(lstChosen,$M$60-$L502)=N$61)","v":true},{"$f":"(INDEX(lstChosen,$M$60-$L502)=O$61)","v":false},77,94]
[null,null,null,null,null,null,null,null,null,null,null,442,null,{"$f":"(INDEX(lstChosen,$M$60-$L503)=N$61)","v":false},{"$f":"(INDEX(lstChosen,$M$60-$L503)=O$61)","v":true},77,95]
[null,null,null,null,null,null,null,null,null,null,null,443,null,{"$f":"(INDEX(lstChosen,$M$60-$L504)=N$61)","v":false},{"$f":"(INDEX(lstChosen,$M$60-$L504)=O$61)","v":true},77,96]
[null,null,null,null,null,null,null,null,null,null,null,444,null,{"$f":"(INDEX(lstChosen,$M$60-$L505)=N$61)","v":false},{"$f":"(INDEX(lstChosen,$M$60-$L505)=O$61)","v":false},77,96]
[null,null,null,null,null,null,null,null,null,null,null,445,null,{"$f":"(INDEX(lstChosen,$M$60-$L506)=N$61)","v":false},{"$f":"(INDEX(lstChosen,$M$60-$L506)=O$61)","v":false},77,96]
[null,null,null,null,null,null,null,null,null,null,null,446,null,{"$f":"(INDEX(lstChosen,$M$60-$L507)=N$61)","v":false},{"$f":"(INDEX(lstChosen,$M$60-$L507)=O$61)","v":false},77,96]
[null,null,null,null,null,null,null,null,null,null,null,447,null,{"$f":"(INDEX(lstChosen,$M$60-$L508)=N$61)","v":true},{"$f":"(INDEX(lstChosen,$M$60-$L508)=O$61)","v":false},78,96]
[null,null,null,null,null,null,null,null,null,null,null,448,null,{"$f":"(INDEX(lstChosen,$M$60-$L509)=N$61)","v":false},{"$f":"(INDEX(lstChosen,$M$60-$L509)=O$61)","v":false},78,96]
[null,null,null,null,null,null,null,null,null,null,null,449,null,{"$f":"(INDEX(lstChosen,$M$60-$L510)=N$61)","v":false},{"$f":"(INDEX(lstChosen,$M$60-$L510)=O$61)","v":true},78,97]
[null,null,null,null,null,null,null,null,null,null,null,450,null,{"$f":"(INDEX(lstChosen,$M$60-$L511)=N$61)","v":false},{"$f":"(INDEX(lstChosen,$M$60-$L511)=O$61)","v":true},78,98]
[null,null,null,null,null,null,null,null,null,null,null,451,null,{"$f":"(INDEX(lstChosen,$M$60-$L512)=N$61)","v":false},{"$f":"(INDEX(lstChosen,$M$60-$L512)=O$61)","v":false},{"$f":"P511+N512","v":78},{"$f":"Q511+O512","v":98}]
[null,null,null,null,null,null,null,null,null,null,null,452,null,{"$f":"(INDEX(lstChosen,$M$60-$L513)=N$61)","v":true},{"$f":"(INDEX(lstChosen,$M$60-$L513)=O$61)","v":false},79,98]
[null,null,null,null,null,null,null,null,null,null,null,453,null,{"$f":"(INDEX(lstChosen,$M$60-$L514)=N$61)","v":true},{"$f":"(INDEX(lstChosen,$M$60-$L514)=O$61)","v":false},80,98]
[null,null,null,null,null,null,null,null,null,null,null,454,null,{"$f":"(INDEX(lstChosen,$M$60-$L515)=N$61)","v":true},{"$f":"(INDEX(lstChosen,$M$60-$L515)=O$61)","v":false},81,98]
[null,null,null,null,null,null,null,null,null,null,null,455,null,{"$f":"(INDEX(lstChosen,$M$60-$L516)=N$61)","v":false},{"$f":"(INDEX(lstChosen,$M$60-$L516)=O$61)","v":false},81,98]
[null,null,null,null,null,null,null,null,null,null,null,456,null,{"$f":"(INDEX(lstChosen,$M$60-$L517)=N$61)","v":false},{"$f":"(INDEX(lstChosen,$M$60-$L517)=O$61)","v":false},81,98]
[null,null,null,null,null,null,null,null,null,null,null,457,null,{"$f":"(INDEX(lstChosen,$M$60-$L518)=N$61)","v":false},{"$f":"(INDEX(lstChosen,$M$60-$L518)=O$61)","v":true},81,99]
[null,null,null,null,null,null,null,null,null,null,null,458,null,{"$f":"(INDEX(lstChosen,$M$60-$L519)=N$61)","v":false},{"$f":"(INDEX(lstChosen,$M$60-$L519)=O$61)","v":true},81,100]
[null,null,null,null,null,null,null,null,null,null,null,459,null,{"$f":"(INDEX(lstChosen,$M$60-$L520)=N$61)","v":false},{"$f":"(INDEX(lstChosen,$M$60-$L520)=O$61)","v":false},81,100]
[null,null,null,null,null,null,null,null,null,null,null,460,null,{"$f":"(INDEX(lstChosen,$M$60-$L521)=N$61)","v":false},{"$f":"(INDEX(lstChosen,$M$60-$L521)=O$61)","v":false},81,100]
[null,null,null,null,null,null,null,null,null,null,null,461,null,{"$f":"(INDEX(lstChosen,$M$60-$L522)=N$61)","v":true},{"$f":"(INDEX(lstChosen,$M$60-$L522)=O$61)","v":false},82,100]
[null,null,null,null,null,null,null,null,null,null,null,462,null,{"$f":"(INDEX(lstChosen,$M$60-$L523)=N$61)","v":true},{"$f":"(INDEX(lstChosen,$M$60-$L523)=O$61)","v":false},83,100]
[null,null,null,null,null,null,null,null,null,null,null,463,null,{"$f":"(INDEX(lstChosen,$M$60-$L524)=N$61)","v":false},{"$f":"(INDEX(lstChosen,$M$60-$L524)=O$61)","v":false},83,100]
[null,null,null,null,null,null,null,null,null,null,null,464,null,{"$f":"(INDEX(lstChosen,$M$60-$L525)=N$61)","v":false},{"$f":"(INDEX(lstChosen,$M$60-$L525)=O$61)","v":true},83,101]
[null,null,null,null,null,null,null,null,null,null,null,465,null,{"$f":"(INDEX(lstChosen,$M$60-$L526)=N$61)","v":false},{"$f":"(INDEX(lstChosen,$M$60-$L526)=O$61)","v":false},83,101]
[null,null,null,null,null,null,null,null,null,null,null,466,null,{"$f":"(INDEX(lstChosen,$M$60-$L527)=N$61)","v":false},{"$f":"(INDEX(lstChosen,$M$60-$L527)=O$61)","v":false},83,101]
[null,null,null,null,null,null,null,null,null,null,null,467,null,{"$f":"(INDEX(lstChosen,$M$60-$L528)=N$61)","v":false},{"$f":"(INDEX(lstChosen,$M$60-$L528)=O$61)","v":false},83,101]
[null,null,null,null,null,null,null,null,null,null,null,468,null,{"$f":"(INDEX(lstChosen,$M$60-$L529)=N$61)","v":false},{"$f":"(INDEX(lstChosen,$M$60-$L529)=O$61)","v":false},83,101]
[null,null,null,null,null,null,null,null,null,null,null,469,null,{"$f":"(INDEX(lstChosen,$M$60-$L530)=N$61)","v":true},{"$f":"(INDEX(lstChosen,$M$60-$L530)=O$61)","v":false},84,101]
[null,null,null,null,null,null,null,null,null,null,null,470,null,{"$f":"(INDEX(lstChosen,$M$60-$L531)=N$61)","v":true},{"$f":"(INDEX(lstChosen,$M$60-$L531)=O$61)","v":false},85,101]
[null,null,null,null,null,null,null,null,null,null,null,471,null,{"$f":"(INDEX(lstChosen,$M$60-$L532)=N$61)","v":false},{"$f":"(INDEX(lstChosen,$M$60-$L532)=O$61)","v":false},85,101]
[null,null,null,null,null,null,null,null,null,null,null,472,null,{"$f":"(INDEX(lstChosen,$M$60-$L533)=N$61)","v":false},{"$f":"(INDEX(lstChosen,$M$60-$L533)=O$61)","v":false},85,101]
[null,null,null,null,null,null,null,null,null,null,null,473,null,{"$f":"(INDEX(lstChosen,$M$60-$L534)=N$61)","v":false},{"$f":"(INDEX(lstChosen,$M$60-$L534)=O$61)","v":false},85,101]
[null,null,null,null,null,null,null,null,null,null,null,474,null,{"$f":"(INDEX(lstChosen,$M$60-$L535)=N$61)","v":false},{"$f":"(INDEX(lstChosen,$M$60-$L535)=O$61)","v":false},85,101]
[null,null,null,null,null,null,null,null,null,null,null,475,null,{"$f":"(INDEX(lstChosen,$M$60-$L536)=N$61)","v":false},{"$f":"(INDEX(lstChosen,$M$60-$L536)=O$61)","v":false},85,101]
[null,null,null,null,null,null,null,null,null,null,null,476,null,{"$f":"(INDEX(lstChosen,$M$60-$L537)=N$61)","v":false},{"$f":"(INDEX(lstChosen,$M$60-$L537)=O$61)","v":false},85,101]
[null,null,null,null,null,null,null,null,null,null,null,477,null,{"$f":"(INDEX(lstChosen,$M$60-$L538)=N$61)","v":false},{"$f":"(INDEX(lstChosen,$M$60-$L538)=O$61)","v":false},85,101]
[null,null,null,null,null,null,null,null,null,null,null,478,null,{"$f":"(INDEX(lstChosen,$M$60-$L539)=N$61)","v":true},{"$f":"(INDEX(lstChosen,$M$60-$L539)=O$61)","v":false},86,101]
[null,null,null,null,null,null,null,null,null,null,null,479,null,{"$f":"(INDEX(lstChosen,$M$60-$L540)=N$61)","v":false},{"$f":"(INDEX(lstChosen,$M$60-$L540)=O$61)","v":false},86,101]
[null,null,null,null,null,null,null,null,null,null,null,480,null,{"$f":"(INDEX(lstChosen,$M$60-$L541)=N$61)","v":false},{"$f":"(INDEX(lstChosen,$M$60-$L541)=O$61)","v":true},86,102]
[null,null,null,null,null,null,null,null,null,null,null,481,null,{"$f":"(INDEX(lstChosen,$M$60-$L542)=N$61)","v":false},{"$f":"(INDEX(lstChosen,$M$60-$L542)=O$61)","v":true},86,103]
[null,null,null,null,null,null,null,null,null,null,null,482,null,{"$f":"(INDEX(lstChosen,$M$60-$L543)=N$61)","v":false},{"$f":"(INDEX(lstChosen,$M$60-$L543)=O$61)","v":false},86,103]
[null,null,null,null,null,null,null,null,null,null,null,483,null,{"$f":"(INDEX(lstChosen,$M$60-$L544)=N$61)","v":false},{"$f":"(INDEX(lstChosen,$M$60-$L544)=O$61)","v":true},86,104]
[null,null,null,null,null,null,null,null,null,null,null,484,null,{"$f":"(INDEX(lstChosen,$M$60-$L545)=N$61)","v":false},{"$f":"(INDEX(lstChosen,$M$60-$L545)=O$61)","v":false},86,104]
[null,null,null,null,null,null,null,null,null,null,null,485,null,{"$f":"(INDEX(lstChosen,$M$60-$L546)=N$61)","v":true},{"$f":"(INDEX(lstChosen,$M$60-$L546)=O$61)","v":false},87,104]
[null,null,null,null,null,null,null,null,null,null,null,486,null,{"$f":"(INDEX(lstChosen,$M$60-$L547)=N$61)","v":true},{"$f":"(INDEX(lstChosen,$M$60-$L547)=O$61)","v":false},88,104]
[null,null,null,null,null,null,null,null,null,null,null,487,null,{"$f":"(INDEX(lstChosen,$M$60-$L548)=N$61)","v":true},{"$f":"(INDEX(lstChosen,$M$60-$L548)=O$61)","v":false},89,104]
[null,null,null,null,null,null,null,null,null,null,null,488,null,{"$f":"(INDEX(lstChosen,$M$60-$L549)=N$61)","v":false},{"$f":"(INDEX(lstChosen,$M$60-$L549)=O$61)","v":true},89,105]
[null,null,null,null,null,null,null,null,null,null,null,489,null,{"$f":"(INDEX(lstChosen,$M$60-$L550)=N$61)","v":false},{"$f":"(INDEX(lstChosen,$M$60-$L550)=O$61)","v":false},89,105]
[null,null,null,null,null,null,null,null,null,null,null,490,null,{"$f":"(INDEX(lstChosen,$M$60-$L551)=N$61)","v":false},{"$f":"(INDEX(lstChosen,$M$60-$L551)=O$61)","v":false},89,105]
[null,null,null,null,null,null,null,null,null,null,null,491,null,{"$f":"(INDEX(lstChosen,$M$60-$L552)=N$61)","v":false},{"$f":"(INDEX(lstChosen,$M$60-$L552)=O$61)","v":true},89,106]
[null,null,null,null,null,null,null,null,null,null,null,492,null,{"$f":"(INDEX(lstChosen,$M$60-$L553)=N$61)","v":false},{"$f":"(INDEX(lstChosen,$M$60-$L553)=O$61)","v":false},89,106]
[null,null,null,null,null,null,null,null,null,null,null,493,null,{"$f":"(INDEX(lstChosen,$M$60-$L554)=N$61)","v":false},{"$f":"(INDEX(lstChosen,$M$60-$L554)=O$61)","v":false},89,106]
[null,null,null,null,null,null,null,null,null,null,null,494,null,{"$f":"(INDEX(lstChosen,$M$60-$L555)=N$61)","v":false},{"$f":"(INDEX(lstChosen,$M$60-$L555)=O$61)","v":false},89,106]
[null,null,null,null,null,null,null,null,null,null,null,495,null,{"$f":"(INDEX(lstChosen,$M$60-$L556)=N$61)","v":true},{"$f":"(INDEX(lstChosen,$M$60-$L556)=O$61)","v":false},90,106]
[null,null,null,null,null,null,null,null,null,null,null,496,null,{"$f":"(INDEX(lstChosen,$M$60-$L557)=N$61)","v":false},{"$f":"(INDEX(lstChosen,$M$60-$L557)=O$61)","v":false},90,106]
[null,null,null,null,null,null,null,null,null,null,null,497,null,{"$f":"(INDEX(lstChosen,$M$60-$L558)=N$61)","v":false},{"$f":"(INDEX(lstChosen,$M$60-$L558)=O$61)","v":true},90,107]
[null,null,null,null,null,null,null,null,null,null,null,498,null,{"$f":"(INDEX(lstChosen,$M$60-$L559)=N$61)","v":true},{"$f":"(INDEX(lstChosen,$M$60-$L559)=O$61)","v":false},91,107]
[null,null,null,null,null,null,null,null,null,null,null,499,null,{"$f":"(INDEX(lstChosen,$M$60-$L560)=N$61)","v":false},{"$f":"(INDEX(lstChosen,$M$60-$L560)=O$61)","v":false},91,107]
[null,null,null,null,null,null,null,null,null,null,null,500,null,{"$f":"(INDEX(lstChosen,$M$60-$L561)=N$61)","v":false},{"$f":"(INDEX(lstChosen,$M$60-$L561)=O$61)","v":false},91,107]
[null,null,null,null,null,null,null,null,null,null,null,501,null,{"$f":"(INDEX(lstChosen,$M$60-$L562)=N$61)","v":false},{"$f":"(INDEX(lstChosen,$M$60-$L562)=O$61)","v":true},91,108]
[null,null,null,null,null,null,null,null,null,null,null,502,null,{"$f":"(INDEX(lstChosen,$M$60-$L563)=N$61)","v":false},{"$f":"(INDEX(lstChosen,$M$60-$L563)=O$61)","v":true},91,109]
[null,null,null,null,null,null,null,null,null,null,null,503,null,{"$f":"(INDEX(lstChosen,$M$60-$L564)=N$61)","v":false},{"$f":"(INDEX(lstChosen,$M$60-$L564)=O$61)","v":false},91,109]
[null,null,null,null,null,null,null,null,null,null,null,504,null,{"$f":"(INDEX(lstChosen,$M$60-$L565)=N$61)","v":false},{"$f":"(INDEX(lstChosen,$M$60-$L565)=O$61)","v":false},91,109]
[null,null,null,null,null,null,null,null,null,null,null,505,null,{"$f":"(INDEX(lstChosen,$M$60-$L566)=N$61)","v":false},{"$f":"(INDEX(lstChosen,$M$60-$L566)=O$61)","v":false},91,109]
[null,null,null,null,null,null,null,null,null,null,null,506,null,{"$f":"(INDEX(lstChosen,$M$60-$L567)=N$61)","v":false},{"$f":"(INDEX(lstChosen,$M$60-$L567)=O$61)","v":false},91,109]
[null,null,null,null,null,null,null,null,null,null,null,507,null,{"$f":"(INDEX(lstChosen,$M$60-$L568)=N$61)","v":false},{"$f":"(INDEX(lstChosen,$M$60-$L568)=O$61)","v":false},91,109]
[null,null,null,null,null,null,null,null,null,null,null,508,null,{"$f":"(INDEX(lstChosen,$M$60-$L569)=N$61)","v":true},{"$f":"(INDEX(lstChosen,$M$60-$L569)=O$61)","v":false},92,109]
[null,null,null,null,null,null,null,null,null,null,null,509,null,{"$f":"(INDEX(lstChosen,$M$60-$L570)=N$61)","v":false},{"$f":"(INDEX(lstChosen,$M$60-$L570)=O$61)","v":false},92,109]
[null,null,null,null,null,null,null,null,null,null,null,510,null,{"$f":"(INDEX(lstChosen,$M$60-$L571)=N$61)","v":false},{"$f":"(INDEX(lstChosen,$M$60-$L571)=O$61)","v":false},92,109]
[null,null,null,null,null,null,null,null,null,null,null,511,null,{"$f":"(INDEX(lstChosen,$M$60-$L572)=N$61)","v":false},{"$f":"(INDEX(lstChosen,$M$60-$L572)=O$61)","v":false},92,109]
[null,null,null,null,null,null,null,null,null,null,null,512,null,{"$f":"(INDEX(lstChosen,$M$60-$L573)=N$61)","v":false},{"$f":"(INDEX(lstChosen,$M$60-$L573)=O$61)","v":false},92,109]
[null,null,null,null,null,null,null,null,null,null,null,513,null,{"$f":"(INDEX(lstChosen,$M$60-$L574)=N$61)","v":false},{"$f":"(INDEX(lstChosen,$M$60-$L574)=O$61)","v":false},92,109]
[null,null,null,null,null,null,null,null,null,null,null,514,null,{"$f":"(INDEX(lstChosen,$M$60-$L575)=N$61)","v":false},{"$f":"(INDEX(lstChosen,$M$60-$L575)=O$61)","v":false},92,109]
[null,null,null,null,null,null,null,null,null,null,null,515,null,{"$f":"(INDEX(lstChosen,$M$60-$L576)=N$61)","v":false},{"$f":"(INDEX(lstChosen,$M$60-$L576)=O$61)","v":true},{"$f":"P575+N576","v":92},{"$f":"Q575+O576","v":110}]
[null,null,null,null,null,null,null,null,null,null,null,516,null,{"$f":"(INDEX(lstChosen,$M$60-$L577)=N$61)","v":false},{"$f":"(INDEX(lstChosen,$M$60-$L577)=O$61)","v":false},92,110]
[null,null,null,null,null,null,null,null,null,null,null,517,null,{"$f":"(INDEX(lstChosen,$M$60-$L578)=N$61)","v":false},{"$f":"(INDEX(lstChosen,$M$60-$L578)=O$61)","v":false},92,110]
[null,null,null,null,null,null,null,null,null,null,null,518,null,{"$f":"(INDEX(lstChosen,$M$60-$L579)=N$61)","v":true},{"$f":"(INDEX(lstChosen,$M$60-$L579)=O$61)","v":false},93,110]
[null,null,null,null,null,null,null,null,null,null,null,519,null,{"$f":"(INDEX(lstChosen,$M$60-$L580)=N$61)","v":false},{"$f":"(INDEX(lstChosen,$M$60-$L580)=O$61)","v":false},93,110]
[null,null,null,null,null,null,null,null,null,null,null,520,null,{"$f":"(INDEX(lstChosen,$M$60-$L581)=N$61)","v":false},{"$f":"(INDEX(lstChosen,$M$60-$L581)=O$61)","v":false},93,110]
[null,null,null,null,null,null,null,null,null,null,null,521,null,{"$f":"(INDEX(lstChosen,$M$60-$L582)=N$61)","v":false},{"$f":"(INDEX(lstChosen,$M$60-$L582)=O$61)","v":false},93,110]
[null,null,null,null,null,null,null,null,null,null,null,522,null,{"$f":"(INDEX(lstChosen,$M$60-$L583)=N$61)","v":false},{"$f":"(INDEX(lstChosen,$M$60-$L583)=O$61)","v":true},93,111]
[null,null,null,null,null,null,null,null,null,null,null,523,null,{"$f":"(INDEX(lstChosen,$M$60-$L584)=N$61)","v":false},{"$f":"(INDEX(lstChosen,$M$60-$L584)=O$61)","v":false},93,111]
[null,null,null,null,null,null,null,null,null,null,null,524,null,{"$f":"(INDEX(lstChosen,$M$60-$L585)=N$61)","v":false},{"$f":"(INDEX(lstChosen,$M$60-$L585)=O$61)","v":false},93,111]
[null,null,null,null,null,null,null,null,null,null,null,525,null,{"$f":"(INDEX(lstChosen,$M$60-$L586)=N$61)","v":false},{"$f":"(INDEX(lstChosen,$M$60-$L586)=O$61)","v":true},93,112]
[null,null,null,null,null,null,null,null,null,null,null,526,null,{"$f":"(INDEX(lstChosen,$M$60-$L587)=N$61)","v":false},{"$f":"(INDEX(lstChosen,$M$60-$L587)=O$61)","v":false},93,112]
[null,null,null,null,null,null,null,null,null,null,null,527,null,{"$f":"(INDEX(lstChosen,$M$60-$L588)=N$61)","v":false},{"$f":"(INDEX(lstChosen,$M$60-$L588)=O$61)","v":false},93,112]
[null,null,null,null,null,null,null,null,null,null,null,528,null,{"$f":"(INDEX(lstChosen,$M$60-$L589)=N$61)","v":true},{"$f":"(INDEX(lstChosen,$M$60-$L589)=O$61)","v":false},94,112]
[null,null,null,null,null,null,null,null,null,null,null,529,null,{"$f":"(INDEX(lstChosen,$M$60-$L590)=N$61)","v":false},{"$f":"(INDEX(lstChosen,$M$60-$L590)=O$61)","v":false},94,112]
[null,null,null,null,null,null,null,null,null,null,null,530,null,{"$f":"(INDEX(lstChosen,$M$60-$L591)=N$61)","v":true},{"$f":"(INDEX(lstChosen,$M$60-$L591)=O$61)","v":false},95,112]
[null,null,null,null,null,null,null,null,null,null,null,531,null,{"$f":"(INDEX(lstChosen,$M$60-$L592)=N$61)","v":true},{"$f":"(INDEX(lstChosen,$M$60-$L592)=O$61)","v":false},96,112]
[null,null,null,null,null,null,null,null,null,null,null,532,null,{"$f":"(INDEX(lstChosen,$M$60-$L593)=N$61)","v":false},{"$f":"(INDEX(lstChosen,$M$60-$L593)=O$61)","v":false},96,112]
[null,null,null,null,null,null,null,null,null,null,null,533,null,{"$f":"(INDEX(lstChosen,$M$60-$L594)=N$61)","v":false},{"$f":"(INDEX(lstChosen,$M$60-$L594)=O$61)","v":true},96,113]
[null,null,null,null,null,null,null,null,null,null,null,534,null,{"$f":"(INDEX(lstChosen,$M$60-$L595)=N$61)","v":true},{"$f":"(INDEX(lstChosen,$M$60-$L595)=O$61)","v":false},97,113]
[null,null,null,null,null,null,null,null,null,null,null,535,null,{"$f":"(INDEX(lstChosen,$M$60-$L596)=N$61)","v":false},{"$f":"(INDEX(lstChosen,$M$60-$L596)=O$61)","v":false},97,113]
[null,null,null,null,null,null,null,null,null,null,null,536,null,{"$f":"(INDEX(lstChosen,$M$60-$L597)=N$61)","v":false},{"$f":"(INDEX(lstChosen,$M$60-$L597)=O$61)","v":false},97,113]
[null,null,null,null,null,null,null,null,null,null,null,537,null,{"$f":"(INDEX(lstChosen,$M$60-$L598)=N$61)","v":false},{"$f":"(INDEX(lstChosen,$M$60-$L598)=O$61)","v":true},97,114]
[null,null,null,null,null,null,null,null,null,null,null,538,null,{"$f":"(INDEX(lstChosen,$M$60-$L599)=N$61)","v":true},{"$f":"(INDEX(lstChosen,$M$60-$L599)=O$61)","v":false},98,114]
[null,null,null,null,null,null,null,null,null,null,null,539,null,{"$f":"(INDEX(lstChosen,$M$60-$L600)=N$61)","v":false},{"$f":"(INDEX(lstChosen,$M$60-$L600)=O$61)","v":false},98,114]
[null,null,null,null,null,null,null,null,null,null,null,540,null,{"$f":"(INDEX(lstChosen,$M$60-$L601)=N$61)","v":false},{"$f":"(INDEX(lstChosen,$M$60-$L601)=O$61)","v":true},98,115]
[null,null,null,null,null,null,null,null,null,null,null,541,null,{"$f":"(INDEX(lstChosen,$M$60-$L602)=N$61)","v":false},{"$f":"(INDEX(lstChosen,$M$60-$L602)=O$61)","v":false},98,115]
[null,null,null,null,null,null,null,null,null,null,null,542,null,{"$f":"(INDEX(lstChosen,$M$60-$L603)=N$61)","v":false},{"$f":"(INDEX(lstChosen,$M$60-$L603)=O$61)","v":false},98,115]
[null,null,null,null,null,null,null,null,null,null,null,543,null,{"$f":"(INDEX(lstChosen,$M$60-$L604)=N$61)","v":false},{"$f":"(INDEX(lstChosen,$M$60-$L604)=O$61)","v":false},98,115]
[null,null,null,null,null,null,null,null,null,null,null,544,null,{"$f":"(INDEX(lstChosen,$M$60-$L605)=N$61)","v":false},{"$f":"(INDEX(lstChosen,$M$60-$L605)=O$61)","v":false},98,115]
[null,null,null,null,null,null,null,null,null,null,null,545,null,{"$f":"(INDEX(lstChosen,$M$60-$L606)=N$61)","v":false},{"$f":"(INDEX(lstChosen,$M$60-$L606)=O$61)","v":false},98,115]
[null,null,null,null,null,null,null,null,null,null,null,546,null,{"$f":"(INDEX(lstChosen,$M$60-$L607)=N$61)","v":false},{"$f":"(INDEX(lstChosen,$M$60-$L607)=O$61)","v":false},98,115]
[null,null,null,null,null,null,null,null,null,null,null,547,null,{"$f":"(INDEX(lstChosen,$M$60-$L608)=N$61)","v":true},{"$f":"(INDEX(lstChosen,$M$60-$L608)=O$61)","v":false},99,115]
[null,null,null,null,null,null,null,null,null,null,null,548,null,{"$f":"(INDEX(lstChosen,$M$60-$L609)=N$61)","v":false},{"$f":"(INDEX(lstChosen,$M$60-$L609)=O$61)","v":false},99,115]
[null,null,null,null,null,null,null,null,null,null,null,549,null,{"$f":"(INDEX(lstChosen,$M$60-$L610)=N$61)","v":false},{"$f":"(INDEX(lstChosen,$M$60-$L610)=O$61)","v":true},99,116]
[null,null,null,null,null,null,null,null,null,null,null,550,null,{"$f":"(INDEX(lstChosen,$M$60-$L611)=N$61)","v":true},{"$f":"(INDEX(lstChosen,$M$60-$L611)=O$61)","v":false},100,116]
[null,null,null,null,null,null,null,null,null,null,null,551,null,{"$f":"(INDEX(lstChosen,$M$60-$L612)=N$61)","v":false},{"$f":"(INDEX(lstChosen,$M$60-$L612)=O$61)","v":false},100,116]
[null,null,null,null,null,null,null,null,null,null,null,552,null,{"$f":"(INDEX(lstChosen,$M$60-$L613)=N$61)","v":false},{"$f":"(INDEX(lstChosen,$M$60-$L613)=O$61)","v":true},100,117]
[null,null,null,null,null,null,null,null,null,null,null,553,null,{"$f":"(INDEX(lstChosen,$M$60-$L614)=N$61)","v":true},{"$f":"(INDEX(lstChosen,$M$60-$L614)=O$61)","v":false},101,117]
[null,null,null,null,null,null,null,null,null,null,null,554,null,{"$f":"(INDEX(lstChosen,$M$60-$L615)=N$61)","v":false},{"$f":"(INDEX(lstChosen,$M$60-$L615)=O$61)","v":true},101,118]
[null,null,null,null,null,null,null,null,null,null,null,555,null,{"$f":"(INDEX(lstChosen,$M$60-$L616)=N$61)","v":true},{"$f":"(INDEX(lstChosen,$M$60-$L616)=O$61)","v":false},102,118]
[null,null,null,null,null,null,null,null,null,null,null,556,null,{"$f":"(INDEX(lstChosen,$M$60-$L617)=N$61)","v":true},{"$f":"(INDEX(lstChosen,$M$60-$L617)=O$61)","v":false},103,118]
[null,null,null,null,null,null,null,null,null,null,null,557,null,{"$f":"(INDEX(lstChosen,$M$60-$L618)=N$61)","v":false},{"$f":"(INDEX(lstChosen,$M$60-$L618)=O$61)","v":false},103,118]
[null,null,null,null,null,null,null,null,null,null,null,558,null,{"$f":"(INDEX(lstChosen,$M$60-$L619)=N$61)","v":false},{"$f":"(INDEX(lstChosen,$M$60-$L619)=O$61)","v":false},103,118]
[null,null,null,null,null,null,null,null,null,null,null,559,null,{"$f":"(INDEX(lstChosen,$M$60-$L620)=N$61)","v":false},{"$f":"(INDEX(lstChosen,$M$60-$L620)=O$61)","v":false},103,118]
[null,null,null,null,null,null,null,null,null,null,null,560,null,{"$f":"(INDEX(lstChosen,$M$60-$L621)=N$61)","v":true},{"$f":"(INDEX(lstChosen,$M$60-$L621)=O$61)","v":false},104,118]
[null,null,null,null,null,null,null,null,null,null,null,561,null,{"$f":"(INDEX(lstChosen,$M$60-$L622)=N$61)","v":false},{"$f":"(INDEX(lstChosen,$M$60-$L622)=O$61)","v":false},104,118]
[null,null,null,null,null,null,null,null,null,null,null,562,null,{"$f":"(INDEX(lstChosen,$M$60-$L623)=N$61)","v":false},{"$f":"(INDEX(lstChosen,$M$60-$L623)=O$61)","v":true},104,119]
[null,null,null,null,null,null,null,null,null,null,null,563,null,{"$f":"(INDEX(lstChosen,$M$60-$L624)=N$61)","v":true},{"$f":"(INDEX(lstChosen,$M$60-$L624)=O$61)","v":false},105,119]
[null,null,null,null,null,null,null,null,null,null,null,564,null,{"$f":"(INDEX(lstChosen,$M$60-$L625)=N$61)","v":false},{"$f":"(INDEX(lstChosen,$M$60-$L625)=O$61)","v":false},105,119]
[null,null,null,null,null,null,null,null,null,null,null,565,null,{"$f":"(INDEX(lstChosen,$M$60-$L626)=N$61)","v":false},{"$f":"(INDEX(lstChosen,$M$60-$L626)=O$61)","v":false},105,119]
[null,null,null,null,null,null,null,null,null,null,null,566,null,{"$f":"(INDEX(lstChosen,$M$60-$L627)=N$61)","v":false},{"$f":"(INDEX(lstChosen,$M$60-$L627)=O$61)","v":false},105,119]
[null,null,null,null,null,null,null,null,null,null,null,567,null,{"$f":"(INDEX(lstChosen,$M$60-$L628)=N$61)","v":false},{"$f":"(INDEX(lstChosen,$M$60-$L628)=O$61)","v":true},105,120]
[null,null,null,null,null,null,null,null,null,null,null,568,null,{"$f":"(INDEX(lstChosen,$M$60-$L629)=N$61)","v":false},{"$f":"(INDEX(lstChosen,$M$60-$L629)=O$61)","v":true},105,121]
[null,null,null,null,null,null,null,null,null,null,null,569,null,{"$f":"(INDEX(lstChosen,$M$60-$L630)=N$61)","v":false},{"$f":"(INDEX(lstChosen,$M$60-$L630)=O$61)","v":false},105,121]
[null,null,null,null,null,null,null,null,null,null,null,570,null,{"$f":"(INDEX(lstChosen,$M$60-$L631)=N$61)","v":false},{"$f":"(INDEX(lstChosen,$M$60-$L631)=O$61)","v":false},105,121]
[null,null,null,null,null,null,null,null,null,null,null,571,null,{"$f":"(INDEX(lstChosen,$M$60-$L632)=N$61)","v":false},{"$f":"(INDEX(lstChosen,$M$60-$L632)=O$61)","v":false},105,121]
[null,null,null,null,null,null,null,null,null,null,null,572,null,{"$f":"(INDEX(lstChosen,$M$60-$L633)=N$61)","v":false},{"$f":"(INDEX(lstChosen,$M$60-$L633)=O$61)","v":false},105,121]
[null,null,null,null,null,null,null,null,null,null,null,573,null,{"$f":"(INDEX(lstChosen,$M$60-$L634)=N$61)","v":false},{"$f":"(INDEX(lstChosen,$M$60-$L634)=O$61)","v":false},105,121]
[null,null,null,null,null,null,null,null,null,null,null,574,null,{"$f":"(INDEX(lstChosen,$M$60-$L635)=N$61)","v":true},{"$f":"(INDEX(lstChosen,$M$60-$L635)=O$61)","v":false},106,121]
[null,null,null,null,null,null,null,null,null,null,null,575,null,{"$f":"(INDEX(lstChosen,$M$60-$L636)=N$61)","v":false},{"$f":"(INDEX(lstChosen,$M$60-$L636)=O$61)","v":false},106,121]
[null,null,null,null,null,null,null,null,null,null,null,576,null,{"$f":"(INDEX(lstChosen,$M$60-$L637)=N$61)","v":true},{"$f":"(INDEX(lstChosen,$M$60-$L637)=O$61)","v":false},107,121]
[null,null,null,null,null,null,null,null,null,null,null,577,null,{"$f":"(INDEX(lstChosen,$M$60-$L638)=N$61)","v":false},{"$f":"(INDEX(lstChosen,$M$60-$L638)=O$61)","v":false},107,121]
[null,null,null,null,null,null,null,null,null,null,null,578,null,{"$f":"(INDEX(lstChosen,$M$60-$L639)=N$61)","v":false},{"$f":"(INDEX(lstChosen,$M$60-$L639)=O$61)","v":false},107,121]
[null,null,null,null,null,null,null,null,null,null,null,579,null,{"$f":"(INDEX(lstChosen,$M$60-$L640)=N$61)","v":true},{"$f":"(INDEX(lstChosen,$M$60-$L640)=O$61)","v":false},{"$f":"P639+N640","v":108},{"$f":"Q639+O640","v":121}]
[null,null,null,null,null,null,null,null,null,null,null,580,null,{"$f":"(INDEX(lstChosen,$M$60-$L641)=N$61)","v":false},{"$f":"(INDEX(lstChosen,$M$60-$L641)=O$61)","v":true},108,122]
[null,null,null,null,null,null,null,null,null,null,null,581,null,{"$f":"(INDEX(lstChosen,$M$60-$L642)=N$61)","v":true},{"$f":"(INDEX(lstChosen,$M$60-$L642)=O$61)","v":false},109,122]
[null,null,null,null,null,null,null,null,null,null,null,582,null,{"$f":"(INDEX(lstChosen,$M$60-$L643)=N$61)","v":false},{"$f":"(INDEX(lstChosen,$M$60-$L643)=O$61)","v":false},109,122]
[null,null,null,null,null,null,null,null,null,null,null,583,null,{"$f":"(INDEX(lstChosen,$M$60-$L644)=N$61)","v":false},{"$f":"(INDEX(lstChosen,$M$60-$L644)=O$61)","v":true},109,123]
[null,null,null,null,null,null,null,null,null,null,null,584,null,{"$f":"(INDEX(lstChosen,$M$60-$L645)=N$61)","v":false},{"$f":"(INDEX(lstChosen,$M$60-$L645)=O$61)","v":false},109,123]
[null,null,null,null,null,null,null,null,null,null,null,585,null,{"$f":"(INDEX(lstChosen,$M$60-$L646)=N$61)","v":true},{"$f":"(INDEX(lstChosen,$M$60-$L646)=O$61)","v":false},110,123]
[null,null,null,null,null,null,null,null,null,null,null,586,null,{"$f":"(INDEX(lstChosen,$M$60-$L647)=N$61)","v":false},{"$f":"(INDEX(lstChosen,$M$60-$L647)=O$61)","v":true},110,124]
[null,null,null,null,null,null,null,null,null,null,null,587,null,{"$f":"(INDEX(lstChosen,$M$60-$L648)=N$61)","v":false},{"$f":"(INDEX(lstChosen,$M$60-$L648)=O$61)","v":false},110,124]
[null,null,null,null,null,null,null,null,null,null,null,588,null,{"$f":"(INDEX(lstChosen,$M$60-$L649)=N$61)","v":false},{"$f":"(INDEX(lstChosen,$M$60-$L649)=O$61)","v":false},110,124]
[null,null,null,null,null,null,null,null,null,null,null,589,null,{"$f":"(INDEX(lstChosen,$M$60-$L650)=N$61)","v":true},{"$f":"(INDEX(lstChosen,$M$60-$L650)=O$61)","v":false},111,124]
[null,null,null,null,null,null,null,null,null,null,null,590,null,{"$f":"(INDEX(lstChosen,$M$60-$L651)=N$61)","v":false},{"$f":"(INDEX(lstChosen,$M$60-$L651)=O$61)","v":false},111,124]
[null,null,null,null,null,null,null,null,null,null,null,591,null,{"$f":"(INDEX(lstChosen,$M$60-$L652)=N$61)","v":false},{"$f":"(INDEX(lstChosen,$M$60-$L652)=O$61)","v":true},111,125]
[null,null,null,null,null,null,null,null,null,null,null,592,null,{"$f":"(INDEX(lstChosen,$M$60-$L653)=N$61)","v":false},{"$f":"(INDEX(lstChosen,$M$60-$L653)=O$61)","v":false},111,125]
[null,null,null,null,null,null,null,null,null,null,null,593,null,{"$f":"(INDEX(lstChosen,$M$60-$L654)=N$61)","v":true},{"$f":"(INDEX(lstChosen,$M$60-$L654)=O$61)","v":false},112,125]
[null,null,null,null,null,null,null,null,null,null,null,594,null,{"$f":"(INDEX(lstChosen,$M$60-$L655)=N$61)","v":false},{"$f":"(INDEX(lstChosen,$M$60-$L655)=O$61)","v":false},112,125]
[null,null,null,null,null,null,null,null,null,null,null,595,null,{"$f":"(INDEX(lstChosen,$M$60-$L656)=N$61)","v":true},{"$f":"(INDEX(lstChosen,$M$60-$L656)=O$61)","v":false},113,125]
[null,null,null,null,null,null,null,null,null,null,null,596,null,{"$f":"(INDEX(lstChosen,$M$60-$L657)=N$61)","v":false},{"$f":"(INDEX(lstChosen,$M$60-$L657)=O$61)","v":false},113,125]
[null,null,null,null,null,null,null,null,null,null,null,597,null,{"$f":"(INDEX(lstChosen,$M$60-$L658)=N$61)","v":false},{"$f":"(INDEX(lstChosen,$M$60-$L658)=O$61)","v":true},113,126]
[null,null,null,null,null,null,null,null,null,null,null,598,null,{"$f":"(INDEX(lstChosen,$M$60-$L659)=N$61)","v":false},{"$f":"(INDEX(lstChosen,$M$60-$L659)=O$61)","v":false},113,126]
[null,null,null,null,null,null,null,null,null,null,null,599,null,{"$f":"(INDEX(lstChosen,$M$60-$L660)=N$61)","v":false},{"$f":"(INDEX(lstChosen,$M$60-$L660)=O$61)","v":false},113,126]
[null,null,null,null,null,null,null,null,null,null,null,600,null,{"$f":"(INDEX(lstChosen,$M$60-$L661)=N$61)","v":false},{"$f":"(INDEX(lstChosen,$M$60-$L661)=O$61)","v":false},113,126]
[null,null,null,null,null,null,null,null,null,null,null,601,null,{"$f":"(INDEX(lstChosen,$M$60-$L662)=N$61)","v":false},{"$f":"(INDEX(lstChosen,$M$60-$L662)=O$61)","v":false},113,126]
[null,null,null,null,null,null,null,null,null,null,null,602,null,{"$f":"(INDEX(lstChosen,$M$60-$L663)=N$61)","v":false},{"$f":"(INDEX(lstChosen,$M$60-$L663)=O$61)","v":false},113,126]
[null,null,null,null,null,null,null,null,null,null,null,603,null,{"$f":"(INDEX(lstChosen,$M$60-$L664)=N$61)","v":false},{"$f":"(INDEX(lstChosen,$M$60-$L664)=O$61)","v":false},113,126]
[null,null,null,null,null,null,null,null,null,null,null,604,null,{"$f":"(INDEX(lstChosen,$M$60-$L665)=N$61)","v":false},{"$f":"(INDEX(lstChosen,$M$60-$L665)=O$61)","v":false},113,126]
[null,null,null,null,null,null,null,null,null,null,null,605,null,{"$f":"(INDEX(lstChosen,$M$60-$L666)=N$61)","v":false},{"$f":"(INDEX(lstChosen,$M$60-$L666)=O$61)","v":false},113,126]
[null,null,null,null,null,null,null,null,null,null,null,606,null,{"$f":"(INDEX(lstChosen,$M$60-$L667)=N$61)","v":false},{"$f":"(INDEX(lstChosen,$M$60-$L667)=O$61)","v":true},113,127]
[null,null,null,null,null,null,null,null,null,null,null,607,null,{"$f":"(INDEX(lstChosen,$M$60-$L668)=N$61)","v":false},{"$f":"(INDEX(lstChosen,$M$60-$L668)=O$61)","v":false},113,127]
[null,null,null,null,null,null,null,null,null,null,null,608,null,{"$f":"(INDEX(lstChosen,$M$60-$L669)=N$61)","v":false},{"$f":"(INDEX(lstChosen,$M$60-$L669)=O$61)","v":false},113,127]
[null,null,null,null,null,null,null,null,null,null,null,609,null,{"$f":"(INDEX(lstChosen,$M$60-$L670)=N$61)","v":false},{"$f":"(INDEX(lstChosen,$M$60-$L670)=O$61)","v":false},113,127]
[null,null,null,null,null,null,null,null,null,null,null,610,null,{"$f":"(INDEX(lstChosen,$M$60-$L671)=N$61)","v":false},{"$f":"(INDEX(lstChosen,$M$60-$L671)=O$61)","v":false},113,127]
[null,null,null,null,null,null,null,null,null,null,null,611,null,{"$f":"(INDEX(lstChosen,$M$60-$L672)=N$61)","v":false},{"$f":"(INDEX(lstChosen,$M$60-$L672)=O$61)","v":false},113,127]
[null,null,null,null,null,null,null,null,null,null,null,612,null,{"$f":"(INDEX(lstChosen,$M$60-$L673)=N$61)","v":false},{"$f":"(INDEX(lstChosen,$M$60-$L673)=O$61)","v":false},113,127]
[null,null,null,null,null,null,null,null,null,null,null,613,null,{"$f":"(INDEX(lstChosen,$M$60-$L674)=N$61)","v":false},{"$f":"(INDEX(lstChosen,$M$60-$L674)=O$61)","v":false},113,127]
[null,null,null,null,null,null,null,null,null,null,null,614,null,{"$f":"(INDEX(lstChosen,$M$60-$L675)=N$61)","v":false},{"$f":"(INDEX(lstChosen,$M$60-$L675)=O$61)","v":false},113,127]
[null,null,null,null,null,null,null,null,null,null,null,615,null,{"$f":"(INDEX(lstChosen,$M$60-$L676)=N$61)","v":false},{"$f":"(INDEX(lstChosen,$M$60-$L676)=O$61)","v":false},113,127]
[null,null,null,null,null,null,null,null,null,null,null,616,null,{"$f":"(INDEX(lstChosen,$M$60-$L677)=N$61)","v":false},{"$f":"(INDEX(lstChosen,$M$60-$L677)=O$61)","v":false},113,127]
[null,null,null,null,null,null,null,null,null,null,null,617,null,{"$f":"(INDEX(lstChosen,$M$60-$L678)=N$61)","v":false},{"$f":"(INDEX(lstChosen,$M$60-$L678)=O$61)","v":false},113,127]
[null,null,null,null,null,null,null,null,null,null,null,618,null,{"$f":"(INDEX(lstChosen,$M$60-$L679)=N$61)","v":false},{"$f":"(INDEX(lstChosen,$M$60-$L679)=O$61)","v":false},113,127]
[null,null,null,null,null,null,null,null,null,null,null,619,null,{"$f":"(INDEX(lstChosen,$M$60-$L680)=N$61)","v":false},{"$f":"(INDEX(lstChosen,$M$60-$L680)=O$61)","v":false},113,127]
[null,null,null,null,null,null,null,null,null,null,null,620,null,{"$f":"(INDEX(lstChosen,$M$60-$L681)=N$61)","v":false},{"$f":"(INDEX(lstChosen,$M$60-$L681)=O$61)","v":true},113,128]
[null,null,null,null,null,null,null,null,null,null,null,621,null,{"$f":"(INDEX(lstChosen,$M$60-$L682)=N$61)","v":false},{"$f":"(INDEX(lstChosen,$M$60-$L682)=O$61)","v":false},113,128]
[null,null,null,null,null,null,null,null,null,null,null,622,null,{"$f":"(INDEX(lstChosen,$M$60-$L683)=N$61)","v":false},{"$f":"(INDEX(lstChosen,$M$60-$L683)=O$61)","v":false},113,128]
[null,null,null,null,null,null,null,null,null,null,null,623,null,{"$f":"(INDEX(lstChosen,$M$60-$L684)=N$61)","v":false},{"$f":"(INDEX(lstChosen,$M$60-$L684)=O$61)","v":false},113,128]
[null,null,null,null,null,null,null,null,null,null,null,624,null,{"$f":"(INDEX(lstChosen,$M$60-$L685)=N$61)","v":true},{"$f":"(INDEX(lstChosen,$M$60-$L685)=O$61)","v":false},114,128]
[null,null,null,null,null,null,null,null,null,null,null,625,null,{"$f":"(INDEX(lstChosen,$M$60-$L686)=N$61)","v":true},{"$f":"(INDEX(lstChosen,$M$60-$L686)=O$61)","v":false},115,128]
[null,null,null,null,null,null,null,null,null,null,null,626,null,{"$f":"(INDEX(lstChosen,$M$60-$L687)=N$61)","v":false},{"$f":"(INDEX(lstChosen,$M$60-$L687)=O$61)","v":false},115,128]
[null,null,null,null,null,null,null,null,null,null,null,627,null,{"$f":"(INDEX(lstChosen,$M$60-$L688)=N$61)","v":false},{"$f":"(INDEX(lstChosen,$M$60-$L688)=O$61)","v":false},115,128]
[null,null,null,null,null,null,null,null,null,null,null,628,null,{"$f":"(INDEX(lstChosen,$M$60-$L689)=N$61)","v":false},{"$f":"(INDEX(lstChosen,$M$60-$L689)=O$61)","v":false},115,128]
[null,null,null,null,null,null,null,null,null,null,null,629,null,{"$f":"(INDEX(lstChosen,$M$60-$L690)=N$61)","v":false},{"$f":"(INDEX(lstChosen,$M$60-$L690)=O$61)","v":false},115,128]
[null,null,null,null,null,null,null,null,null,null,null,630,null,{"$f":"(INDEX(lstChosen,$M$60-$L691)=N$61)","v":true},{"$f":"(INDEX(lstChosen,$M$60-$L691)=O$61)","v":false},116,128]
[null,null,null,null,null,null,null,null,null,null,null,631,null,{"$f":"(INDEX(lstChosen,$M$60-$L692)=N$61)","v":true},{"$f":"(INDEX(lstChosen,$M$60-$L692)=O$61)","v":false},117,128]
[null,null,null,null,null,null,null,null,null,null,null,632,null,{"$f":"(INDEX(lstChosen,$M$60-$L693)=N$61)","v":false},{"$f":"(INDEX(lstChosen,$M$60-$L693)=O$61)","v":false},117,128]
[null,null,null,null,null,null,null,null,null,null,null,633,null,{"$f":"(INDEX(lstChosen,$M$60-$L694)=N$61)","v":false},{"$f":"(INDEX(lstChosen,$M$60-$L694)=O$61)","v":false},117,128]
[null,null,null,null,null,null,null,null,null,null,null,634,null,{"$f":"(INDEX(lstChosen,$M$60-$L695)=N$61)","v":false},{"$f":"(INDEX(lstChosen,$M$60-$L695)=O$61)","v":true},117,129]
[null,null,null,null,null,null,null,null,null,null,null,635,null,{"$f":"(INDEX(lstChosen,$M$60-$L696)=N$61)","v":false},{"$f":"(INDEX(lstChosen,$M$60-$L696)=O$61)","v":true},117,130]
[null,null,null,null,null,null,null,null,null,null,null,636,null,{"$f":"(INDEX(lstChosen,$M$60-$L697)=N$61)","v":false},{"$f":"(INDEX(lstChosen,$M$60-$L697)=O$61)","v":false},117,130]
[null,null,null,null,null,null,null,null,null,null,null,637,null,{"$f":"(INDEX(lstChosen,$M$60-$L698)=N$61)","v":false},{"$f":"(INDEX(lstChosen,$M$60-$L698)=O$61)","v":false},117,130]
[null,null,null,null,null,null,null,null,null,null,null,638,null,{"$f":"(INDEX(lstChosen,$M$60-$L699)=N$61)","v":false},{"$f":"(INDEX(lstChosen,$M$60-$L699)=O$61)","v":false},117,130]
[null,null,null,null,null,null,null,null,null,null,null,639,null,{"$f":"(INDEX(lstChosen,$M$60-$L700)=N$61)","v":true},{"$f":"(INDEX(lstChosen,$M$60-$L700)=O$61)","v":false},118,130]
[null,null,null,null,null,null,null,null,null,null,null,640,null,{"$f":"(INDEX(lstChosen,$M$60-$L701)=N$61)","v":false},{"$f":"(INDEX(lstChosen,$M$60-$L701)=O$61)","v":false},118,130]
[null,null,null,null,null,null,null,null,null,null,null,641,null,{"$f":"(INDEX(lstChosen,$M$60-$L702)=N$61)","v":true},{"$f":"(INDEX(lstChosen,$M$60-$L702)=O$61)","v":false},119,130]
[null,null,null,null,null,null,null,null,null,null,null,642,null,{"$f":"(INDEX(lstChosen,$M$60-$L703)=N$61)","v":false},{"$f":"(INDEX(lstChosen,$M$60-$L703)=O$61)","v":false},119,130]
[null,null,null,null,null,null,null,null,null,null,null,643,null,{"$f":"(INDEX(lstChosen,$M$60-$L704)=N$61)","v":true},{"$f":"(INDEX(lstChosen,$M$60-$L704)=O$61)","v":false},{"$f":"P703+N704","v":120},{"$f":"Q703+O704","v":130}]
[null,null,null,null,null,null,null,null,null,null,null,644,null,{"$f":"(INDEX(lstChosen,$M$60-$L705)=N$61)","v":false},{"$f":"(INDEX(lstChosen,$M$60-$L705)=O$61)","v":false},120,130]
[null,null,null,null,null,null,null,null,null,null,null,645,null,{"$f":"(INDEX(lstChosen,$M$60-$L706)=N$61)","v":false},{"$f":"(INDEX(lstChosen,$M$60-$L706)=O$61)","v":false},120,130]
[null,null,null,null,null,null,null,null,null,null,null,646,null,{"$f":"(INDEX(lstChosen,$M$60-$L707)=N$61)","v":false},{"$f":"(INDEX(lstChosen,$M$60-$L707)=O$61)","v":false},120,130]
[null,null,null,null,null,null,null,null,null,null,null,647,null,{"$f":"(INDEX(lstChosen,$M$60-$L708)=N$61)","v":true},{"$f":"(INDEX(lstChosen,$M$60-$L708)=O$61)","v":false},121,130]
[null,null,null,null,null,null,null,null,null,null,null,648,null,{"$f":"(INDEX(lstChosen,$M$60-$L709)=N$61)","v":true},{"$f":"(INDEX(lstChosen,$M$60-$L709)=O$61)","v":false},122,130]
[null,null,null,null,null,null,null,null,null,null,null,649,null,{"$f":"(INDEX(lstChosen,$M$60-$L710)=N$61)","v":false},{"$f":"(INDEX(lstChosen,$M$60-$L710)=O$61)","v":true},122,131]
[null,null,null,null,null,null,null,null,null,null,null,650,null,{"$f":"(INDEX(lstChosen,$M$60-$L711)=N$61)","v":true},{"$f":"(INDEX(lstChosen,$M$60-$L711)=O$61)","v":false},123,131]
[null,null,null,null,null,null,null,null,null,null,null,651,null,{"$f":"(INDEX(lstChosen,$M$60-$L712)=N$61)","v":false},{"$f":"(INDEX(lstChosen,$M$60-$L712)=O$61)","v":false},123,131]
[null,null,null,null,null,null,null,null,null,null,null,652,null,{"$f":"(INDEX(lstChosen,$M$60-$L713)=N$61)","v":false},{"$f":"(INDEX(lstChosen,$M$60-$L713)=O$61)","v":false},123,131]
[null,null,null,null,null,null,null,null,null,null,null,653,null,{"$f":"(INDEX(lstChosen,$M$60-$L714)=N$61)","v":false},{"$f":"(INDEX(lstChosen,$M$60-$L714)=O$61)","v":false},123,131]
[null,null,null,null,null,null,null,null,null,null,null,654,null,{"$f":"(INDEX(lstChosen,$M$60-$L715)=N$61)","v":true},{"$f":"(INDEX(lstChosen,$M$60-$L715)=O$61)","v":false},124,131]
[null,null,null,null,null,null,null,null,null,null,null,655,null,{"$f":"(INDEX(lstChosen,$M$60-$L716)=N$61)","v":false},{"$f":"(INDEX(lstChosen,$M$60-$L716)=O$61)","v":true},124,132]
[null,null,null,null,null,null,null,null,null,null,null,656,null,{"$f":"(INDEX(lstChosen,$M$60-$L717)=N$61)","v":false},{"$f":"(INDEX(lstChosen,$M$60-$L717)=O$61)","v":true},124,133]
[null,null,null,null,null,null,null,null,null,null,null,657,null,{"$f":"(INDEX(lstChosen,$M$60-$L718)=N$61)","v":true},{"$f":"(INDEX(lstChosen,$M$60-$L718)=O$61)","v":false},125,133]
[null,null,null,null,null,null,null,null,null,null,null,658,null,{"$f":"(INDEX(lstChosen,$M$60-$L719)=N$61)","v":false},{"$f":"(INDEX(lstChosen,$M$60-$L719)=O$61)","v":false},125,133]
[null,null,null,null,null,null,null,null,null,null,null,659,null,{"$f":"(INDEX(lstChosen,$M$60-$L720)=N$61)","v":false},{"$f":"(INDEX(lstChosen,$M$60-$L720)=O$61)","v":true},125,134]
[null,null,null,null,null,null,null,null,null,null,null,660,null,{"$f":"(INDEX(lstChosen,$M$60-$L721)=N$61)","v":false},{"$f":"(INDEX(lstChosen,$M$60-$L721)=O$61)","v":false},125,134]
[null,null,null,null,null,null,null,null,null,null,null,661,null,{"$f":"(INDEX(lstChosen,$M$60-$L722)=N$61)","v":false},{"$f":"(INDEX(lstChosen,$M$60-$L722)=O$61)","v":false},125,134]
[null,null,null,null,null,null,null,null,null,null,null,662,null,{"$f":"(INDEX(lstChosen,$M$60-$L723)=N$61)","v":true},{"$f":"(INDEX(lstChosen,$M$60-$L723)=O$61)","v":false},126,134]
[null,null,null,null,null,null,null,null,null,null,null,663,null,{"$f":"(INDEX(lstChosen,$M$60-$L724)=N$61)","v":true},{"$f":"(INDEX(lstChosen,$M$60-$L724)=O$61)","v":false},127,134]
[null,null,null,null,null,null,null,null,null,null,null,664,null,{"$f":"(INDEX(lstChosen,$M$60-$L725)=N$61)","v":false},{"$f":"(INDEX(lstChosen,$M$60-$L725)=O$61)","v":true},127,135]
[null,null,null,null,null,null,null,null,null,null,null,665,null,{"$f":"(INDEX(lstChosen,$M$60-$L726)=N$61)","v":false},{"$f":"(INDEX(lstChosen,$M$60-$L726)=O$61)","v":false},127,135]
[null,null,null,null,null,null,null,null,null,null,null,666,null,{"$f":"(INDEX(lstChosen,$M$60-$L727)=N$61)","v":false},{"$f":"(INDEX(lstChosen,$M$60-$L727)=O$61)","v":true},127,136]
[null,null,null,null,null,null,null,null,null,null,null,667,null,{"$f":"(INDEX(lstChosen,$M$60-$L728)=N$61)","v":false},{"$f":"(INDEX(lstChosen,$M$60-$L728)=O$61)","v":false},127,136]
[null,null,null,null,null,null,null,null,null,null,null,668,null,{"$f":"(INDEX(lstChosen,$M$60-$L729)=N$61)","v":false},{"$f":"(INDEX(lstChosen,$M$60-$L729)=O$61)","v":true},127,137]
[null,null,null,null,null,null,null,null,null,null,null,669,null,{"$f":"(INDEX(lstChosen,$M$60-$L730)=N$61)","v":false},{"$f":"(INDEX(lstChosen,$M$60-$L730)=O$61)","v":false},127,137]
[null,null,null,null,null,null,null,null,null,null,null,670,null,{"$f":"(INDEX(lstChosen,$M$60-$L731)=N$61)","v":false},{"$f":"(INDEX(lstChosen,$M$60-$L731)=O$61)","v":false},127,137]
[null,null,null,null,null,null,null,null,null,null,null,671,null,{"$f":"(INDEX(lstChosen,$M$60-$L732)=N$61)","v":false},{"$f":"(INDEX(lstChosen,$M$60-$L732)=O$61)","v":false},127,137]
[null,null,null,null,null,null,null,null,null,null,null,672,null,{"$f":"(INDEX(lstChosen,$M$60-$L733)=N$61)","v":false},{"$f":"(INDEX(lstChosen,$M$60-$L733)=O$61)","v":true},127,138]
[null,null,null,null,null,null,null,null,null,null,null,673,null,{"$f":"(INDEX(lstChosen,$M$60-$L734)=N$61)","v":false},{"$f":"(INDEX(lstChosen,$M$60-$L734)=O$61)","v":false},127,138]
[null,null,null,null,null,null,null,null,null,null,null,674,null,{"$f":"(INDEX(lstChosen,$M$60-$L735)=N$61)","v":false},{"$f":"(INDEX(lstChosen,$M$60-$L735)=O$61)","v":false},127,138]
[null,null,null,null,null,null,null,null,null,null,null,675,null,{"$f":"(INDEX(lstChosen,$M$60-$L736)=N$61)","v":false},{"$f":"(INDEX(lstChosen,$M$60-$L736)=O$61)","v":true},127,139]
[null,null,null,null,null,null,null,null,null,null,null,676,null,{"$f":"(INDEX(lstChosen,$M$60-$L737)=N$61)","v":false},{"$f":"(INDEX(lstChosen,$M$60-$L737)=O$61)","v":false},127,139]
[null,null,null,null,null,null,null,null,null,null,null,677,null,{"$f":"(INDEX(lstChosen,$M$60-$L738)=N$61)","v":false},{"$f":"(INDEX(lstChosen,$M$60-$L738)=O$61)","v":false},127,139]
[null,null,null,null,null,null,null,null,null,null,null,678,null,{"$f":"(INDEX(lstChosen,$M$60-$L739)=N$61)","v":false},{"$f":"(INDEX(lstChosen,$M$60-$L739)=O$61)","v":false},127,139]
[null,null,null,null,null,null,null,null,null,null,null,679,null,{"$f":"(INDEX(lstChosen,$M$60-$L740)=N$61)","v":true},{"$f":"(INDEX(lstChosen,$M$60-$L740)=O$61)","v":false},128,139]
[null,null,null,null,null,null,null,null,null,null,null,680,null,{"$f":"(INDEX(lstChosen,$M$60-$L741)=N$61)","v":true},{"$f":"(INDEX(lstChosen,$M$60-$L741)=O$61)","v":false},129,139]
[null,null,null,null,null,null,null,null,null,null,null,681,null,{"$f":"(INDEX(lstChosen,$M$60-$L742)=N$61)","v":false},{"$f":"(INDEX(lstChosen,$M$60-$L742)=O$61)","v":false},129,139]
[null,null,null,null,null,null,null,null,null,null,null,682,null,{"$f":"(INDEX(lstChosen,$M$60-$L743)=N$61)","v":false},{"$f":"(INDEX(lstChosen,$M$60-$L743)=O$61)","v":false},129,139]
[null,null,null,null,null,null,null,null,null,null,null,683,null,{"$f":"(INDEX(lstChosen,$M$60-$L744)=N$61)","v":false},{"$f":"(INDEX(lstChosen,$M$60-$L744)=O$61)","v":false},129,139]
[null,null,null,null,null,null,null,null,null,null,null,684,null,{"$f":"(INDEX(lstChosen,$M$60-$L745)=N$61)","v":false},{"$f":"(INDEX(lstChosen,$M$60-$L745)=O$61)","v":false},129,139]
[null,null,null,null,null,null,null,null,null,null,null,685,null,{"$f":"(INDEX(lstChosen,$M$60-$L746)=N$61)","v":false},{"$f":"(INDEX(lstChosen,$M$60-$L746)=O$61)","v":false},129,139]
[null,null,null,null,null,null,null,null,null,null,null,686,null,{"$f":"(INDEX(lstChosen,$M$60-$L747)=N$61)","v":false},{"$f":"(INDEX(lstChosen,$M$60-$L747)=O$61)","v":false},129,139]
[null,null,null,null,null,null,null,null,null,null,null,687,null,{"$f":"(INDEX(lstChosen,$M$60-$L748)=N$61)","v":false},{"$f":"(INDEX(lstChosen,$M$60-$L748)=O$61)","v":false},129,139]
[null,null,null,null,null,null,null,null,null,null,null,688,null,{"$f":"(INDEX(lstChosen,$M$60-$L749)=N$61)","v":false},{"$f":"(INDEX(lstChosen,$M$60-$L749)=O$61)","v":false},129,139]
[null,null,null,null,null,null,null,null,null,null,null,689,null,{"$f":"(INDEX(lstChosen,$M$60-$L750)=N$61)","v":false},{"$f":"(INDEX(lstChosen,$M$60-$L750)=O$61)","v":true},129,140]
[null,null,null,null,null,null,null,null,null,null,null,690,null,{"$f":"(INDEX(lstChosen,$M$60-$L751)=N$61)","v":false},{"$f":"(INDEX(lstChosen,$M$60-$L751)=O$61)","v":false},129,140]
[null,null,null,null,null,null,null,null,null,null,null,691,null,{"$f":"(INDEX(lstChosen,$M$60-$L752)=N$61)","v":true},{"$f":"(INDEX(lstChosen,$M$60-$L752)=O$61)","v":false},130,140]
[null,null,null,null,null,null,null,null,null,null,null,692,null,{"$f":"(INDEX(lstChosen,$M$60-$L753)=N$61)","v":false},{"$f":"(INDEX(lstChosen,$M$60-$L753)=O$61)","v":false},130,140]
[null,null,null,null,null,null,null,null,null,null,null,693,null,{"$f":"(INDEX(lstChosen,$M$60-$L754)=N$61)","v":false},{"$f":"(INDEX(lstChosen,$M$60-$L754)=O$61)","v":true},130,141]
[null,null,null,null,null,null,null,null,null,null,null,694,null,{"$f":"(INDEX(lstChosen,$M$60-$L755)=N$61)","v":false},{"$f":"(INDEX(lstChosen,$M$60-$L755)=O$61)","v":false},130,141]
[null,null,null,null,null,null,null,null,null,null,null,695,null,{"$f":"(INDEX(lstChosen,$M$60-$L756)=N$61)","v":false},{"$f":"(INDEX(lstChosen,$M$60-$L756)=O$61)","v":false},130,141]
[null,null,null,null,null,null,null,null,null,null,null,696,null,{"$f":"(INDEX(lstChosen,$M$60-$L757)=N$61)","v":false},{"$f":"(INDEX(lstChosen,$M$60-$L757)=O$61)","v":false},130,141]
[null,null,null,null,null,null,null,null,null,null,null,697,null,{"$f":"(INDEX(lstChosen,$M$60-$L758)=N$61)","v":false},{"$f":"(INDEX(lstChosen,$M$60-$L758)=O$61)","v":false},130,141]
[null,null,null,null,null,null,null,null,null,null,null,698,null,{"$f":"(INDEX(lstChosen,$M$60-$L759)=N$61)","v":false},{"$f":"(INDEX(lstChosen,$M$60-$L759)=O$61)","v":true},130,142]
[null,null,null,null,null,null,null,null,null,null,null,699,null,{"$f":"(INDEX(lstChosen,$M$60-$L760)=N$61)","v":false},{"$f":"(INDEX(lstChosen,$M$60-$L760)=O$61)","v":true},130,143]
[null,null,null,null,null,null,null,null,null,null,null,700,null,{"$f":"(INDEX(lstChosen,$M$60-$L761)=N$61)","v":true},{"$f":"(INDEX(lstChosen,$M$60-$L761)=O$61)","v":false},131,143]
[null,null,null,null,null,null,null,null,null,null,null,701,null,{"$f":"(INDEX(lstChosen,$M$60-$L762)=N$61)","v":false},{"$f":"(INDEX(lstChosen,$M$60-$L762)=O$61)","v":false},131,143]
[null,null,null,null,null,null,null,null,null,null,null,702,null,{"$f":"(INDEX(lstChosen,$M$60-$L763)=N$61)","v":false},{"$f":"(INDEX(lstChosen,$M$60-$L763)=O$61)","v":true},131,144]
[null,null,null,null,null,null,null,null,null,null,null,703,null,{"$f":"(INDEX(lstChosen,$M$60-$L764)=N$61)","v":false},{"$f":"(INDEX(lstChosen,$M$60-$L764)=O$61)","v":false},131,144]
[null,null,null,null,null,null,null,null,null,null,null,704,null,{"$f":"(INDEX(lstChosen,$M$60-$L765)=N$61)","v":true},{"$f":"(INDEX(lstChosen,$M$60-$L765)=O$61)","v":false},132,144]
[null,null,null,null,null,null,null,null,null,null,null,705,null,{"$f":"(INDEX(lstChosen,$M$60-$L766)=N$61)","v":false},{"$f":"(INDEX(lstChosen,$M$60-$L766)=O$61)","v":true},132,145]
[null,null,null,null,null,null,null,null,null,null,null,706,null,{"$f":"(INDEX(lstChosen,$M$60-$L767)=N$61)","v":false},{"$f":"(INDEX(lstChosen,$M$60-$L767)=O$61)","v":false},132,145]
[null,null,null,null,null,null,null,null,null,null,null,707,null,{"$f":"(INDEX(lstChosen,$M$60-$L768)=N$61)","v":false},{"$f":"(INDEX(lstChosen,$M$60-$L768)=O$61)","v":false},{"$f":"P767+N768","v":132},{"$f":"Q767+O768","v":145}]
[null,null,null,null,null,null,null,null,null,null,null,708,null,{"$f":"(INDEX(lstChosen,$M$60-$L769)=N$61)","v":false},{"$f":"(INDEX(lstChosen,$M$60-$L769)=O$61)","v":false},132,145]
[null,null,null,null,null,null,null,null,null,null,null,709,null,{"$f":"(INDEX(lstChosen,$M$60-$L770)=N$61)","v":true},{"$f":"(INDEX(lstChosen,$M$60-$L770)=O$61)","v":false},133,145]
[null,null,null,null,null,null,null,null,null,null,null,710,null,{"$f":"(INDEX(lstChosen,$M$60-$L771)=N$61)","v":false},{"$f":"(INDEX(lstChosen,$M$60-$L771)=O$61)","v":false},133,145]
[null,null,null,null,null,null,null,null,null,null,null,711,null,{"$f":"(INDEX(lstChosen,$M$60-$L772)=N$61)","v":false},{"$f":"(INDEX(lstChosen,$M$60-$L772)=O$61)","v":false},133,145]
[null,null,null,null,null,null,null,null,null,null,null,712,null,{"$f":"(INDEX(lstChosen,$M$60-$L773)=N$61)","v":false},{"$f":"(INDEX(lstChosen,$M$60-$L773)=O$61)","v":true},133,146]
[null,null,null,null,null,null,null,null,null,null,null,713,null,{"$f":"(INDEX(lstChosen,$M$60-$L774)=N$61)","v":false},{"$f":"(INDEX(lstChosen,$M$60-$L774)=O$61)","v":false},133,146]
[null,null,null,null,null,null,null,null,null,null,null,714,null,{"$f":"(INDEX(lstChosen,$M$60-$L775)=N$61)","v":false},{"$f":"(INDEX(lstChosen,$M$60-$L775)=O$61)","v":false},133,146]
[null,null,null,null,null,null,null,null,null,null,null,715,null,{"$f":"(INDEX(lstChosen,$M$60-$L776)=N$61)","v":false},{"$f":"(INDEX(lstChosen,$M$60-$L776)=O$61)","v":false},133,146]
[null,null,null,null,null,null,null,null,null,null,null,716,null,{"$f":"(INDEX(lstChosen,$M$60-$L777)=N$61)","v":false},{"$f":"(INDEX(lstChosen,$M$60-$L777)=O$61)","v":false},133,146]
[null,null,null,null,null,null,null,null,null,null,null,717,null,{"$f":"(INDEX(lstChosen,$M$60-$L778)=N$61)","v":false},{"$f":"(INDEX(lstChosen,$M$60-$L778)=O$61)","v":false},133,146]
[null,null,null,null,null,null,null,null,null,null,null,718,null,{"$f":"(INDEX(lstChosen,$M$60-$L779)=N$61)","v":false},{"$f":"(INDEX(lstChosen,$M$60-$L779)=O$61)","v":false},133,146]
[null,null,null,null,null,null,null,null,null,null,null,719,null,{"$f":"(INDEX(lstChosen,$M$60-$L780)=N$61)","v":false},{"$f":"(INDEX(lstChosen,$M$60-$L780)=O$61)","v":false},133,146]
[null,null,null,null,null,null,null,null,null,null,null,720,null,{"$f":"(INDEX(lstChosen,$M$60-$L781)=N$61)","v":false},{"$f":"(INDEX(lstChosen,$M$60-$L781)=O$61)","v":false},133,146]
[null,null,null,null,null,null,null,null,null,null,null,721,null,{"$f":"(INDEX(lstChosen,$M$60-$L782)=N$61)","v":true},{"$f":"(INDEX(lstChosen,$M$60-$L782)=O$61)","v":false},134,146]
[null,null,null,null,null,null,null,null,null,null,null,722,null,{"$f":"(INDEX(lstChosen,$M$60-$L783)=N$61)","v":false},{"$f":"(INDEX(lstChosen,$M$60-$L783)=O$61)","v":true},134,147]
[null,null,null,null,null,null,null,null,null,null,null,723,null,{"$f":"(INDEX(lstChosen,$M$60-$L784)=N$61)","v":false},{"$f":"(INDEX(lstChosen,$M$60-$L784)=O$61)","v":true},134,148]
[null,null,null,null,null,null,null,null,null,null,null,724,null,{"$f":"(INDEX(lstChosen,$M$60-$L785)=N$61)","v":false},{"$f":"(INDEX(lstChosen,$M$60-$L785)=O$61)","v":false},134,148]
[null,null,null,null,null,null,null,null,null,null,null,725,null,{"$f":"(INDEX(lstChosen,$M$60-$L786)=N$61)","v":false},{"$f":"(INDEX(lstChosen,$M$60-$L786)=O$61)","v":true},134,149]
[null,null,null,null,null,null,null,null,null,null,null,726,null,{"$f":"(INDEX(lstChosen,$M$60-$L787)=N$61)","v":false},{"$f":"(INDEX(lstChosen,$M$60-$L787)=O$61)","v":false},134,149]
[null,null,null,null,null,null,null,null,null,null,null,727,null,{"$f":"(INDEX(lstChosen,$M$60-$L788)=N$61)","v":false},{"$f":"(INDEX(lstChosen,$M$60-$L788)=O$61)","v":false},134,149]
[null,null,null,null,null,null,null,null,null,null,null,728,null,{"$f":"(INDEX(lstChosen,$M$60-$L789)=N$61)","v":true},{"$f":"(INDEX(lstChosen,$M$60-$L789)=O$61)","v":false},135,149]
[null,null,null,null,null,null,null,null,null,null,null,729,null,{"$f":"(INDEX(lstChosen,$M$60-$L790)=N$61)","v":false},{"$f":"(INDEX(lstChosen,$M$60-$L790)=O$61)","v":true},135,150]
[null,null,null,null,null,null,null,null,null,null,null,730,null,{"$f":"(INDEX(lstChosen,$M$60-$L791)=N$61)","v":true},{"$f":"(INDEX(lstChosen,$M$60-$L791)=O$61)","v":false},136,150]
[null,null,null,null,null,null,null,null,null,null,null,731,null,{"$f":"(INDEX(lstChosen,$M$60-$L792)=N$61)","v":false},{"$f":"(INDEX(lstChosen,$M$60-$L792)=O$61)","v":false},136,150]
[null,null,null,null,null,null,null,null,null,null,null,732,null,{"$f":"(INDEX(lstChosen,$M$60-$L793)=N$61)","v":false},{"$f":"(INDEX(lstChosen,$M$60-$L793)=O$61)","v":false},136,150]
[null,null,null,null,null,null,null,null,null,null,null,733,null,{"$f":"(INDEX(lstChosen,$M$60-$L794)=N$61)","v":true},{"$f":"(INDEX(lstChosen,$M$60-$L794)=O$61)","v":false},137,150]
[null,null,null,null,null,null,null,null,null,null,null,734,null,{"$f":"(INDEX(lstChosen,$M$60-$L795)=N$61)","v":false},{"$f":"(INDEX(lstChosen,$M$60-$L795)=O$61)","v":false},137,150]
[null,null,null,null,null,null,null,null,null,null,null,735,null,{"$f":"(INDEX(lstChosen,$M$60-$L796)=N$61)","v":false},{"$f":"(INDEX(lstChosen,$M$60-$L796)=O$61)","v":true},137,151]
[null,null,null,null,null,null,null,null,null,null,null,736,null,{"$f":"(INDEX(lstChosen,$M$60-$L797)=N$61)","v":false},{"$f":"(INDEX(lstChosen,$M$60-$L797)=O$61)","v":false},137,151]
[null,null,null,null,null,null,null,null,null,null,null,737,null,{"$f":"(INDEX(lstChosen,$M$60-$L798)=N$61)","v":true},{"$f":"(INDEX(lstChosen,$M$60-$L798)=O$61)","v":false},138,151]
[null,null,null,null,null,null,null,null,null,null,null,738,null,{"$f":"(INDEX(lstChosen,$M$60-$L799)=N$61)","v":false},{"$f":"(INDEX(lstChosen,$M$60-$L799)=O$61)","v":false},138,151]
[null,null,null,null,null,null,null,null,null,null,null,739,null,{"$f":"(INDEX(lstChosen,$M$60-$L800)=N$61)","v":false},{"$f":"(INDEX(lstChosen,$M$60-$L800)=O$61)","v":false},138,151]
[null,null,null,null,null,null,null,null,null,null,null,740,null,{"$f":"(INDEX(lstChosen,$M$60-$L801)=N$61)","v":true},{"$f":"(INDEX(lstChosen,$M$60-$L801)=O$61)","v":false},139,151]
[null,null,null,null,null,null,null,null,null,null,null,741,null,{"$f":"(INDEX(lstChosen,$M$60-$L802)=N$61)","v":true},{"$f":"(INDEX(lstChosen,$M$60-$L802)=O$61)","v":false},140,151]
[null,null,null,null,null,null,null,null,null,null,null,742,null,{"$f":"(INDEX(lstChosen,$M$60-$L803)=N$61)","v":true},{"$f":"(INDEX(lstChosen,$M$60-$L803)=O$61)","v":false},141,151]
[null,null,null,null,null,null,null,null,null,null,null,743,null,{"$f":"(INDEX(lstChosen,$M$60-$L804)=N$61)","v":false},{"$f":"(INDEX(lstChosen,$M$60-$L804)=O$61)","v":false},141,151]
[null,null,null,null,null,null,null,null,null,null,null,744,null,{"$f":"(INDEX(lstChosen,$M$60-$L805)=N$61)","v":true},{"$f":"(INDEX(lstChosen,$M$60-$L805)=O$61)","v":false},142,151]
[null,null,null,null,null,null,null,null,null,null,null,745,null,{"$f":"(INDEX(lstChosen,$M$60-$L806)=N$61)","v":false},{"$f":"(INDEX(lstChosen,$M$60-$L806)=O$61)","v":false},142,151]
[null,null,null,null,null,null,null,null,null,null,null,746,null,{"$f":"(INDEX(lstChosen,$M$60-$L807)=N$61)","v":false},{"$f":"(INDEX(lstChosen,$M$60-$L807)=O$61)","v":false},142,151]
[null,null,null,null,null,null,null,null,null,null,null,747,null,{"$f":"(INDEX(lstChosen,$M$60-$L808)=N$61)","v":false},{"$f":"(INDEX(lstChosen,$M$60-$L808)=O$61)","v":true},142,152]
[null,null,null,null,null,null,null,null,null,null,null,748,null,{"$f":"(INDEX(lstChosen,$M$60-$L809)=N$61)","v":false},{"$f":"(INDEX(lstChosen,$M$60-$L809)=O$61)","v":true},142,153]
[null,null,null,null,null,null,null,null,null,null,null,749,null,{"$f":"(INDEX(lstChosen,$M$60-$L810)=N$61)","v":true},{"$f":"(INDEX(lstChosen,$M$60-$L810)=O$61)","v":false},143,153]
[null,null,null,null,null,null,null,null,null,null,null,750,null,{"$f":"(INDEX(lstChosen,$M$60-$L811)=N$61)","v":false},{"$f":"(INDEX(lstChosen,$M$60-$L811)=O$61)","v":false},143,153]
[null,null,null,null,null,null,null,null,null,null,null,751,null,{"$f":"(INDEX(lstChosen,$M$60-$L812)=N$61)","v":false},{"$f":"(INDEX(lstChosen,$M$60-$L812)=O$61)","v":false},143,153]
[null,null,null,null,null,null,null,null,null,null,null,752,null,{"$f":"(INDEX(lstChosen,$M$60-$L813)=N$61)","v":false},{"$f":"(INDEX(lstChosen,$M$60-$L813)=O$61)","v":false},143,153]
[null,null,null,null,null,null,null,null,null,null,null,753,null,{"$f":"(INDEX(lstChosen,$M$60-$L814)=N$61)","v":false},{"$f":"(INDEX(lstChosen,$M$60-$L814)=O$61)","v":false},143,153]
[null,null,null,null,null,null,null,null,null,null,null,754,null,{"$f":"(INDEX(lstChosen,$M$60-$L815)=N$61)","v":false},{"$f":"(INDEX(lstChosen,$M$60-$L815)=O$61)","v":false},143,153]
[null,null,null,null,null,null,null,null,null,null,null,755,null,{"$f":"(INDEX(lstChosen,$M$60-$L816)=N$61)","v":false},{"$f":"(INDEX(lstChosen,$M$60-$L816)=O$61)","v":false},143,153]
[null,null,null,null,null,null,null,null,null,null,null,756,null,{"$f":"(INDEX(lstChosen,$M$60-$L817)=N$61)","v":false},{"$f":"(INDEX(lstChosen,$M$60-$L817)=O$61)","v":true},143,154]
[null,null,null,null,null,null,null,null,null,null,null,757,null,{"$f":"(INDEX(lstChosen,$M$60-$L818)=N$61)","v":false},{"$f":"(INDEX(lstChosen,$M$60-$L818)=O$61)","v":true},143,155]
[null,null,null,null,null,null,null,null,null,null,null,758,null,{"$f":"(INDEX(lstChosen,$M$60-$L819)=N$61)","v":false},{"$f":"(INDEX(lstChosen,$M$60-$L819)=O$61)","v":true},143,156]
[null,null,null,null,null,null,null,null,null,null,null,759,null,{"$f":"(INDEX(lstChosen,$M$60-$L820)=N$61)","v":false},{"$f":"(INDEX(lstChosen,$M$60-$L820)=O$61)","v":true},143,157]
[null,null,null,null,null,null,null,null,null,null,null,760,null,{"$f":"(INDEX(lstChosen,$M$60-$L821)=N$61)","v":false},{"$f":"(INDEX(lstChosen,$M$60-$L821)=O$61)","v":true},143,158]
[null,null,null,null,null,null,null,null,null,null,null,761,null,{"$f":"(INDEX(lstChosen,$M$60-$L822)=N$61)","v":false},{"$f":"(INDEX(lstChosen,$M$60-$L822)=O$61)","v":true},143,159]
[null,null,null,null,null,null,null,null,null,null,null,762,null,{"$f":"(INDEX(lstChosen,$M$60-$L823)=N$61)","v":false},{"$f":"(INDEX(lstChosen,$M$60-$L823)=O$61)","v":false},143,159]
[null,null,null,null,null,null,null,null,null,null,null,763,null,{"$f":"(INDEX(lstChosen,$M$60-$L824)=N$61)","v":false},{"$f":"(INDEX(lstChosen,$M$60-$L824)=O$61)","v":false},143,159]
[null,null,null,null,null,null,null,null,null,null,null,764,null,{"$f":"(INDEX(lstChosen,$M$60-$L825)=N$61)","v":false},{"$f":"(INDEX(lstChosen,$M$60-$L825)=O$61)","v":false},143,159]
[null,null,null,null,null,null,null,null,null,null,null,765,null,{"$f":"(INDEX(lstChosen,$M$60-$L826)=N$61)","v":false},{"$f":"(INDEX(lstChosen,$M$60-$L826)=O$61)","v":false},143,159]
[null,null,null,null,null,null,null,null,null,null,null,766,null,{"$f":"(INDEX(lstChosen,$M$60-$L827)=N$61)","v":false},{"$f":"(INDEX(lstChosen,$M$60-$L827)=O$61)","v":true},143,160]
[null,null,null,null,null,null,null,null,null,null,null,767,null,{"$f":"(INDEX(lstChosen,$M$60-$L828)=N$61)","v":true},{"$f":"(INDEX(lstChosen,$M$60-$L828)=O$61)","v":false},144,160]
[null,null,null,null,null,null,null,null,null,null,null,768,null,{"$f":"(INDEX(lstChosen,$M$60-$L829)=N$61)","v":true},{"$f":"(INDEX(lstChosen,$M$60-$L829)=O$61)","v":false},145,160]
[null,null,null,null,null,null,null,null,null,null,null,769,null,{"$f":"(INDEX(lstChosen,$M$60-$L830)=N$61)","v":false},{"$f":"(INDEX(lstChosen,$M$60-$L830)=O$61)","v":false},145,160]
[null,null,null,null,null,null,null,null,null,null,null,770,null,{"$f":"(INDEX(lstChosen,$M$60-$L831)=N$61)","v":false},{"$f":"(INDEX(lstChosen,$M$60-$L831)=O$61)","v":false},145,160]
[null,null,null,null,null,null,null,null,null,null,null,771,null,{"$f":"(INDEX(lstChosen,$M$60-$L832)=N$61)","v":false},{"$f":"(INDEX(lstChosen,$M$60-$L832)=O$61)","v":true},{"$f":"P831+N832","v":145},{"$f":"Q831+O832","v":161}]
[null,null,null,null,null,null,null,null,null,null,null,772,null,{"$f":"(INDEX(lstChosen,$M$60-$L833)=N$61)","v":false},{"$f":"(INDEX(lstChosen,$M$60-$L833)=O$61)","v":false},145,161]
[null,null,null,null,null,null,null,null,null,null,null,773,null,{"$f":"(INDEX(lstChosen,$M$60-$L834)=N$61)","v":false},{"$f":"(INDEX(lstChosen,$M$60-$L834)=O$61)","v":true},145,162]
[null,null,null,null,null,null,null,null,null,null,null,774,null,{"$f":"(INDEX(lstChosen,$M$60-$L835)=N$61)","v":false},{"$f":"(INDEX(lstChosen,$M$60-$L835)=O$61)","v":false},145,162]
[null,null,null,null,null,null,null,null,null,null,null,775,null,{"$f":"(INDEX(lstChosen,$M$60-$L836)=N$61)","v":false},{"$f":"(INDEX(lstChosen,$M$60-$L836)=O$61)","v":true},145,163]
[null,null,null,null,null,null,null,null,null,null,null,776,null,{"$f":"(INDEX(lstChosen,$M$60-$L837)=N$61)","v":false},{"$f":"(INDEX(lstChosen,$M$60-$L837)=O$61)","v":false},145,163]
[null,null,null,null,null,null,null,null,null,null,null,777,null,{"$f":"(INDEX(lstChosen,$M$60-$L838)=N$61)","v":false},{"$f":"(INDEX(lstChosen,$M$60-$L838)=O$61)","v":false},145,163]
[null,null,null,null,null,null,null,null,null,null,null,778,null,{"$f":"(INDEX(lstChosen,$M$60-$L839)=N$61)","v":false},{"$f":"(INDEX(lstChosen,$M$60-$L839)=O$61)","v":false},145,163]
[null,null,null,null,null,null,null,null,null,null,null,779,null,{"$f":"(INDEX(lstChosen,$M$60-$L840)=N$61)","v":false},{"$f":"(INDEX(lstChosen,$M$60-$L840)=O$61)","v":false},145,163]
[null,null,null,null,null,null,null,null,null,null,null,780,null,{"$f":"(INDEX(lstChosen,$M$60-$L841)=N$61)","v":false},{"$f":"(INDEX(lstChosen,$M$60-$L841)=O$61)","v":false},145,163]
[null,null,null,null,null,null,null,null,null,null,null,781,null,{"$f":"(INDEX(lstChosen,$M$60-$L842)=N$61)","v":false},{"$f":"(INDEX(lstChosen,$M$60-$L842)=O$61)","v":true},145,164]
[null,null,null,null,null,null,null,null,null,null,null,782,null,{"$f":"(INDEX(lstChosen,$M$60-$L843)=N$61)","v":false},{"$f":"(INDEX(lstChosen,$M$60-$L843)=O$61)","v":true},145,165]
[null,null,null,null,null,null,null,null,null,null,null,783,null,{"$f":"(INDEX(lstChosen,$M$60-$L844)=N$61)","v":false},{"$f":"(INDEX(lstChosen,$M$60-$L844)=O$61)","v":true},145,166]
[null,null,null,null,null,null,null,null,null,null,null,784,null,{"$f":"(INDEX(lstChosen,$M$60-$L845)=N$61)","v":false},{"$f":"(INDEX(lstChosen,$M$60-$L845)=O$61)","v":false},145,166]
[null,null,null,null,null,null,null,null,null,null,null,785,null,{"$f":"(INDEX(lstChosen,$M$60-$L846)=N$61)","v":false},{"$f":"(INDEX(lstChosen,$M$60-$L846)=O$61)","v":true},145,167]
[null,null,null,null,null,null,null,null,null,null,null,786,null,{"$f":"(INDEX(lstChosen,$M$60-$L847)=N$61)","v":false},{"$f":"(INDEX(lstChosen,$M$60-$L847)=O$61)","v":false},145,167]
[null,null,null,null,null,null,null,null,null,null,null,787,null,{"$f":"(INDEX(lstChosen,$M$60-$L848)=N$61)","v":true},{"$f":"(INDEX(lstChosen,$M$60-$L848)=O$61)","v":false},146,167]
[null,null,null,null,null,null,null,null,null,null,null,788,null,{"$f":"(INDEX(lstChosen,$M$60-$L849)=N$61)","v":false},{"$f":"(INDEX(lstChosen,$M$60-$L849)=O$61)","v":false},146,167]
[null,null,null,null,null,null,null,null,null,null,null,789,null,{"$f":"(INDEX(lstChosen,$M$60-$L850)=N$61)","v":false},{"$f":"(INDEX(lstChosen,$M$60-$L850)=O$61)","v":false},146,167]
[null,null,null,null,null,null,null,null,null,null,null,790,null,{"$f":"(INDEX(lstChosen,$M$60-$L851)=N$61)","v":false},{"$f":"(INDEX(lstChosen,$M$60-$L851)=O$61)","v":false},146,167]
[null,null,null,null,null,null,null,null,null,null,null,791,null,{"$f":"(INDEX(lstChosen,$M$60-$L852)=N$61)","v":false},{"$f":"(INDEX(lstChosen,$M$60-$L852)=O$61)","v":true},146,168]
[null,null,null,null,null,null,null,null,null,null,null,792,null,{"$f":"(INDEX(lstChosen,$M$60-$L853)=N$61)","v":false},{"$f":"(INDEX(lstChosen,$M$60-$L853)=O$61)","v":false},146,168]
[null,null,null,null,null,null,null,null,null,null,null,793,null,{"$f":"(INDEX(lstChosen,$M$60-$L854)=N$61)","v":false},{"$f":"(INDEX(lstChosen,$M$60-$L854)=O$61)","v":false},146,168]
[null,null,null,null,null,null,null,null,null,null,null,794,null,{"$f":"(INDEX(lstChosen,$M$60-$L855)=N$61)","v":false},{"$f":"(INDEX(lstChosen,$M$60-$L855)=O$61)","v":true},146,169]
[null,null,null,null,null,null,null,null,null,null,null,795,null,{"$f":"(INDEX(lstChosen,$M$60-$L856)=N$61)","v":true},{"$f":"(INDEX(lstChosen,$M$60-$L856)=O$61)","v":false},147,169]
[null,null,null,null,null,null,null,null,null,null,null,796,null,{"$f":"(INDEX(lstChosen,$M$60-$L857)=N$61)","v":false},{"$f":"(INDEX(lstChosen,$M$60-$L857)=O$61)","v":false},147,169]
[null,null,null,null,null,null,null,null,null,null,null,797,null,{"$f":"(INDEX(lstChosen,$M$60-$L858)=N$61)","v":false},{"$f":"(INDEX(lstChosen,$M$60-$L858)=O$61)","v":false},147,169]
[null,null,null,null,null,null,null,null,null,null,null,798,null,{"$f":"(INDEX(lstChosen,$M$60-$L859)=N$61)","v":false},{"$f":"(INDEX(lstChosen,$M$60-$L859)=O$61)","v":true},147,170]
[null,null,null,null,null,null,null,null,null,null,null,799,null,{"$f":"(INDEX(lstChosen,$M$60-$L860)=N$61)","v":false},{"$f":"(INDEX(lstChosen,$M$60-$L860)=O$61)","v":false},147,170]
[null,null,null,null,null,null,null,null,null,null,null,800,null,{"$f":"(INDEX(lstChosen,$M$60-$L861)=N$61)","v":false},{"$f":"(INDEX(lstChosen,$M$60-$L861)=O$61)","v":true},147,171]
[null,null,null,null,null,null,null,null,null,null,null,801,null,{"$f":"(INDEX(lstChosen,$M$60-$L862)=N$61)","v":false},{"$f":"(INDEX(lstChosen,$M$60-$L862)=O$61)","v":false},147,171]
[null,null,null,null,null,null,null,null,null,null,null,802,null,{"$f":"(INDEX(lstChosen,$M$60-$L863)=N$61)","v":false},{"$f":"(INDEX(lstChosen,$M$60-$L863)=O$61)","v":false},147,171]
[null,null,null,null,null,null,null,null,null,null,null,803,null,{"$f":"(INDEX(lstChosen,$M$60-$L864)=N$61)","v":true},{"$f":"(INDEX(lstChosen,$M$60-$L864)=O$61)","v":false},148,171]
[null,null,null,null,null,null,null,null,null,null,null,804,null,{"$f":"(INDEX(lstChosen,$M$60-$L865)=N$61)","v":false},{"$f":"(INDEX(lstChosen,$M$60-$L865)=O$61)","v":false},148,171]
[null,null,null,null,null,null,null,null,null,null,null,805,null,{"$f":"(INDEX(lstChosen,$M$60-$L866)=N$61)","v":false},{"$f":"(INDEX(lstChosen,$M$60-$L866)=O$61)","v":false},148,171]
[null,null,null,null,null,null,null,null,null,null,null,806,null,{"$f":"(INDEX(lstChosen,$M$60-$L867)=N$61)","v":true},{"$f":"(INDEX(lstChosen,$M$60-$L867)=O$61)","v":false},149,171]
[null,null,null,null,null,null,null,null,null,null,null,807,null,{"$f":"(INDEX(lstChosen,$M$60-$L868)=N$61)","v":false},{"$f":"(INDEX(lstChosen,$M$60-$L868)=O$61)","v":false},149,171]
[null,null,null,null,null,null,null,null,null,null,null,808,null,{"$f":"(INDEX(lstChosen,$M$60-$L869)=N$61)","v":false},{"$f":"(INDEX(lstChosen,$M$60-$L869)=O$61)","v":false},149,171]
[null,null,null,null,null,null,null,null,null,null,null,809,null,{"$f":"(INDEX(lstChosen,$M$60-$L870)=N$61)","v":false},{"$f":"(INDEX(lstChosen,$M$60-$L870)=O$61)","v":false},149,171]
[null,null,null,null,null,null,null,null,null,null,null,810,null,{"$f":"(INDEX(lstChosen,$M$60-$L871)=N$61)","v":false},{"$f":"(INDEX(lstChosen,$M$60-$L871)=O$61)","v":false},149,171]
[null,null,null,null,null,null,null,null,null,null,null,811,null,{"$f":"(INDEX(lstChosen,$M$60-$L872)=N$61)","v":false},{"$f":"(INDEX(lstChosen,$M$60-$L872)=O$61)","v":true},149,172]
[null,null,null,null,null,null,null,null,null,null,null,812,null,{"$f":"(INDEX(lstChosen,$M$60-$L873)=N$61)","v":false},{"$f":"(INDEX(lstChosen,$M$60-$L873)=O$61)","v":false},149,172]
[null,null,null,null,null,null,null,null,null,null,null,813,null,{"$f":"(INDEX(lstChosen,$M$60-$L874)=N$61)","v":true},{"$f":"(INDEX(lstChosen,$M$60-$L874)=O$61)","v":false},150,172]
[null,null,null,null,null,null,null,null,null,null,null,814,null,{"$f":"(INDEX(lstChosen,$M$60-$L875)=N$61)","v":true},{"$f":"(INDEX(lstChosen,$M$60-$L875)=O$61)","v":false},151,172]
[null,null,null,null,null,null,null,null,null,null,null,815,null,{"$f":"(INDEX(lstChosen,$M$60-$L876)=N$61)","v":true},{"$f":"(INDEX(lstChosen,$M$60-$L876)=O$61)","v":false},152,172]
[null,null,null,null,null,null,null,null,null,null,null,816,null,{"$f":"(INDEX(lstChosen,$M$60-$L877)=N$61)","v":false},{"$f":"(INDEX(lstChosen,$M$60-$L877)=O$61)","v":true},152,173]
[null,null,null,null,null,null,null,null,null,null,null,817,null,{"$f":"(INDEX(lstChosen,$M$60-$L878)=N$61)","v":false},{"$f":"(INDEX(lstChosen,$M$60-$L878)=O$61)","v":false},152,173]
[null,null,null,null,null,null,null,null,null,null,null,818,null,{"$f":"(INDEX(lstChosen,$M$60-$L879)=N$61)","v":false},{"$f":"(INDEX(lstChosen,$M$60-$L879)=O$61)","v":false},152,173]
[null,null,null,null,null,null,null,null,null,null,null,819,null,{"$f":"(INDEX(lstChosen,$M$60-$L880)=N$61)","v":false},{"$f":"(INDEX(lstChosen,$M$60-$L880)=O$61)","v":true},152,174]
[null,null,null,null,null,null,null,null,null,null,null,820,null,{"$f":"(INDEX(lstChosen,$M$60-$L881)=N$61)","v":false},{"$f":"(INDEX(lstChosen,$M$60-$L881)=O$61)","v":false},152,174]
[null,null,null,null,null,null,null,null,null,null,null,821,null,{"$f":"(INDEX(lstChosen,$M$60-$L882)=N$61)","v":false},{"$f":"(INDEX(lstChosen,$M$60-$L882)=O$61)","v":false},152,174]
[null,null,null,null,null,null,null,null,null,null,null,822,null,{"$f":"(INDEX(lstChosen,$M$60-$L883)=N$61)","v":false},{"$f":"(INDEX(lstChosen,$M$60-$L883)=O$61)","v":false},152,174]
[null,null,null,null,null,null,null,null,null,null,null,823,null,{"$f":"(INDEX(lstChosen,$M$60-$L884)=N$61)","v":false},{"$f":"(INDEX(lstChosen,$M$60-$L884)=O$61)","v":false},152,174]
[null,null,null,null,null,null,null,null,null,null,null,824,null,{"$f":"(INDEX(lstChosen,$M$60-$L885)=N$61)","v":true},{"$f":"(INDEX(lstChosen,$M$60-$L885)=O$61)","v":false},153,174]
[null,null,null,null,null,null,null,null,null,null,null,825,null,{"$f":"(INDEX(lstChosen,$M$60-$L886)=N$61)","v":false},{"$f":"(INDEX(lstChosen,$M$60-$L886)=O$61)","v":true},153,175]
[null,null,null,null,null,null,null,null,null,null,null,826,null,{"$f":"(INDEX(lstChosen,$M$60-$L887)=N$61)","v":false},{"$f":"(INDEX(lstChosen,$M$60-$L887)=O$61)","v":false},153,175]
[null,null,null,null,null,null,null,null,null,null,null,827,null,{"$f":"(INDEX(lstChosen,$M$60-$L888)=N$61)","v":false},{"$f":"(INDEX(lstChosen,$M$60-$L888)=O$61)","v":false},153,175]
[null,null,null,null,null,null,null,null,null,null,null,828,null,{"$f":"(INDEX(lstChosen,$M$60-$L889)=N$61)","v":false},{"$f":"(INDEX(lstChosen,$M$60-$L889)=O$61)","v":false},153,175]
[null,null,null,null,null,null,null,null,null,null,null,829,null,{"$f":"(INDEX(lstChosen,$M$60-$L890)=N$61)","v":false},{"$f":"(INDEX(lstChosen,$M$60-$L890)=O$61)","v":true},153,176]
[null,null,null,null,null,null,null,null,null,null,null,830,null,{"$f":"(INDEX(lstChosen,$M$60-$L891)=N$61)","v":false},{"$f":"(INDEX(lstChosen,$M$60-$L891)=O$61)","v":true},153,177]
[null,null,null,null,null,null,null,null,null,null,null,831,null,{"$f":"(INDEX(lstChosen,$M$60-$L892)=N$61)","v":false},{"$f":"(INDEX(lstChosen,$M$60-$L892)=O$61)","v":false},153,177]
[null,null,null,null,null,null,null,null,null,null,null,832,null,{"$f":"(INDEX(lstChosen,$M$60-$L893)=N$61)","v":false},{"$f":"(INDEX(lstChosen,$M$60-$L893)=O$61)","v":true},153,178]
[null,null,null,null,null,null,null,null,null,null,null,833,null,{"$f":"(INDEX(lstChosen,$M$60-$L894)=N$61)","v":false},{"$f":"(INDEX(lstChosen,$M$60-$L894)=O$61)","v":true},153,179]
[null,null,null,null,null,null,null,null,null,null,null,834,null,{"$f":"(INDEX(lstChosen,$M$60-$L895)=N$61)","v":true},{"$f":"(INDEX(lstChosen,$M$60-$L895)=O$61)","v":false},154,179]
[null,null,null,null,null,null,null,null,null,null,null,835,null,{"$f":"(INDEX(lstChosen,$M$60-$L896)=N$61)","v":true},{"$f":"(INDEX(lstChosen,$M$60-$L896)=O$61)","v":false},{"$f":"P895+N896","v":155},{"$f":"Q895+O896","v":179}]
[null,null,null,null,null,null,null,null,null,null,null,836,null,{"$f":"(INDEX(lstChosen,$M$60-$L897)=N$61)","v":false},{"$f":"(INDEX(lstChosen,$M$60-$L897)=O$61)","v":false},155,179]
[null,null,null,null,null,null,null,null,null,null,null,837,null,{"$f":"(INDEX(lstChosen,$M$60-$L898)=N$61)","v":false},{"$f":"(INDEX(lstChosen,$M$60-$L898)=O$61)","v":false},155,179]
[null,null,null,null,null,null,null,null,null,null,null,838,null,{"$f":"(INDEX(lstChosen,$M$60-$L899)=N$61)","v":false},{"$f":"(INDEX(lstChosen,$M$60-$L899)=O$61)","v":false},155,179]
[null,null,null,null,null,null,null,null,null,null,null,839,null,{"$f":"(INDEX(lstChosen,$M$60-$L900)=N$61)","v":true},{"$f":"(INDEX(lstChosen,$M$60-$L900)=O$61)","v":false},156,179]
[null,null,null,null,null,null,null,null,null,null,null,840,null,{"$f":"(INDEX(lstChosen,$M$60-$L901)=N$61)","v":false},{"$f":"(INDEX(lstChosen,$M$60-$L901)=O$61)","v":false},156,179]
[null,null,null,null,null,null,null,null,null,null,null,841,null,{"$f":"(INDEX(lstChosen,$M$60-$L902)=N$61)","v":false},{"$f":"(INDEX(lstChosen,$M$60-$L902)=O$61)","v":true},156,180]
[null,null,null,null,null,null,null,null,null,null,null,842,null,{"$f":"(INDEX(lstChosen,$M$60-$L903)=N$61)","v":false},{"$f":"(INDEX(lstChosen,$M$60-$L903)=O$61)","v":false},156,180]
[null,null,null,null,null,null,null,null,null,null,null,843,null,{"$f":"(INDEX(lstChosen,$M$60-$L904)=N$61)","v":false},{"$f":"(INDEX(lstChosen,$M$60-$L904)=O$61)","v":false},156,180]
[null,null,null,null,null,null,null,null,null,null,null,844,null,{"$f":"(INDEX(lstChosen,$M$60-$L905)=N$61)","v":false},{"$f":"(INDEX(lstChosen,$M$60-$L905)=O$61)","v":false},156,180]
[null,null,null,null,null,null,null,null,null,null,null,845,null,{"$f":"(INDEX(lstChosen,$M$60-$L906)=N$61)","v":false},{"$f":"(INDEX(lstChosen,$M$60-$L906)=O$61)","v":false},156,180]
[null,null,null,null,null,null,null,null,null,null,null,846,null,{"$f":"(INDEX(lstChosen,$M$60-$L907)=N$61)","v":false},{"$f":"(INDEX(lstChosen,$M$60-$L907)=O$61)","v":true},156,181]
[null,null,null,null,null,null,null,null,null,null,null,847,null,{"$f":"(INDEX(lstChosen,$M$60-$L908)=N$61)","v":false},{"$f":"(INDEX(lstChosen,$M$60-$L908)=O$61)","v":false},156,181]
[null,null,null,null,null,null,null,null,null,null,null,848,null,{"$f":"(INDEX(lstChosen,$M$60-$L909)=N$61)","v":true},{"$f":"(INDEX(lstChosen,$M$60-$L909)=O$61)","v":false},157,181]
[null,null,null,null,null,null,null,null,null,null,null,849,null,{"$f":"(INDEX(lstChosen,$M$60-$L910)=N$61)","v":false},{"$f":"(INDEX(lstChosen,$M$60-$L910)=O$61)","v":false},157,181]
[null,null,null,null,null,null,null,null,null,null,null,850,null,{"$f":"(INDEX(lstChosen,$M$60-$L911)=N$61)","v":false},{"$f":"(INDEX(lstChosen,$M$60-$L911)=O$61)","v":false},157,181]
[null,null,null,null,null,null,null,null,null,null,null,851,null,{"$f":"(INDEX(lstChosen,$M$60-$L912)=N$61)","v":true},{"$f":"(INDEX(lstChosen,$M$60-$L912)=O$61)","v":false},158,181]
[null,null,null,null,null,null,null,null,null,null,null,852,null,{"$f":"(INDEX(lstChosen,$M$60-$L913)=N$61)","v":false},{"$f":"(INDEX(lstChosen,$M$60-$L913)=O$61)","v":false},158,181]
[null,null,null,null,null,null,null,null,null,null,null,853,null,{"$f":"(INDEX(lstChosen,$M$60-$L914)=N$61)","v":false},{"$f":"(INDEX(lstChosen,$M$60-$L914)=O$61)","v":false},158,181]
[null,null,null,null,null,null,null,null,null,null,null,854,null,{"$f":"(INDEX(lstChosen,$M$60-$L915)=N$61)","v":true},{"$f":"(INDEX(lstChosen,$M$60-$L915)=O$61)","v":false},159,181]
[null,null,null,null,null,null,null,null,null,null,null,855,null,{"$f":"(INDEX(lstChosen,$M$60-$L916)=N$61)","v":false},{"$f":"(INDEX(lstChosen,$M$60-$L916)=O$61)","v":false},159,181]
[null,null,null,null,null,null,null,null,null,null,null,856,null,{"$f":"(INDEX(lstChosen,$M$60-$L917)=N$61)","v":false},{"$f":"(INDEX(lstChosen,$M$60-$L917)=O$61)","v":true},159,182]
[null,null,null,null,null,null,null,null,null,null,null,857,null,{"$f":"(INDEX(lstChosen,$M$60-$L918)=N$61)","v":true},{"$f":"(INDEX(lstChosen,$M$60-$L918)=O$61)","v":false},160,182]
[null,null,null,null,null,null,null,null,null,null,null,858,null,{"$f":"(INDEX(lstChosen,$M$60-$L919)=N$61)","v":false},{"$f":"(INDEX(lstChosen,$M$60-$L919)=O$61)","v":false},160,182]
[null,null,null,null,null,null,null,null,null,null,null,859,null,{"$f":"(INDEX(lstChosen,$M$60-$L920)=N$61)","v":false},{"$f":"(INDEX(lstChosen,$M$60-$L920)=O$61)","v":false},160,182]
[null,null,null,null,null,null,null,null,null,null,null,860,null,{"$f":"(INDEX(lstChosen,$M$60-$L921)=N$61)","v":false},{"$f":"(INDEX(lstChosen,$M$60-$L921)=O$61)","v":false},160,182]
[null,null,null,null,null,null,null,null,null,null,null,861,null,{"$f":"(INDEX(lstChosen,$M$60-$L922)=N$61)","v":false},{"$f":"(INDEX(lstChosen,$M$60-$L922)=O$61)","v":false},160,182]
[null,null,null,null,null,null,null,null,null,null,null,862,null,{"$f":"(INDEX(lstChosen,$M$60-$L923)=N$61)","v":false},{"$f":"(INDEX(lstChosen,$M$60-$L923)=O$61)","v":false},160,182]
[null,null,null,null,null,null,null,null,null,null,null,863,null,{"$f":"(INDEX(lstChosen,$M$60-$L924)=N$61)","v":true},{"$f":"(INDEX(lstChosen,$M$60-$L924)=O$61)","v":false},161,182]
[null,null,null,null,null,null,null,null,null,null,null,864,null,{"$f":"(INDEX(lstChosen,$M$60-$L925)=N$61)","v":false},{"$f":"(INDEX(lstChosen,$M$60-$L925)=O$61)","v":false},161,182]
[null,null,null,null,null,null,null,null,null,null,null,865,null,{"$f":"(INDEX(lstChosen,$M$60-$L926)=N$61)","v":false},{"$f":"(INDEX(lstChosen,$M$60-$L926)=O$61)","v":true},161,183]
[null,null,null,null,null,null,null,null,null,null,null,866,null,{"$f":"(INDEX(lstChosen,$M$60-$L927)=N$61)","v":false},{"$f":"(INDEX(lstChosen,$M$60-$L927)=O$61)","v":false},161,183]
[null,null,null,null,null,null,null,null,null,null,null,867,null,{"$f":"(INDEX(lstChosen,$M$60-$L928)=N$61)","v":false},{"$f":"(INDEX(lstChosen,$M$60-$L928)=O$61)","v":false},161,183]
[null,null,null,null,null,null,null,null,null,null,null,868,null,{"$f":"(INDEX(lstChosen,$M$60-$L929)=N$61)","v":false},{"$f":"(INDEX(lstChosen,$M$60-$L929)=O$61)","v":false},161,183]
[null,null,null,null,null,null,null,null,null,null,null,869,null,{"$f":"(INDEX(lstChosen,$M$60-$L930)=N$61)","v":false},{"$f":"(INDEX(lstChosen,$M$60-$L930)=O$61)","v":false},161,183]
[null,null,null,null,null,null,null,null,null,null,null,870,null,{"$f":"(INDEX(lstChosen,$M$60-$L931)=N$61)","v":true},{"$f":"(INDEX(lstChosen,$M$60-$L931)=O$61)","v":false},162,183]
[null,null,null,null,null,null,null,null,null,null,null,871,null,{"$f":"(INDEX(lstChosen,$M$60-$L932)=N$61)","v":false},{"$f":"(INDEX(lstChosen,$M$60-$L932)=O$61)","v":false},162,183]
[null,null,null,null,null,null,null,null,null,null,null,872,null,{"$f":"(INDEX(lstChosen,$M$60-$L933)=N$61)","v":true},{"$f":"(INDEX(lstChosen,$M$60-$L933)=O$61)","v":false},163,183]
[null,null,null,null,null,null,null,null,null,null,null,873,null,{"$f":"(INDEX(lstChosen,$M$60-$L934)=N$61)","v":false},{"$f":"(INDEX(lstChosen,$M$60-$L934)=O$61)","v":false},163,183]
[null,null,null,null,null,null,null,null,null,null,null,874,null,{"$f":"(INDEX(lstChosen,$M$60-$L935)=N$61)","v":false},{"$f":"(INDEX(lstChosen,$M$60-$L935)=O$61)","v":false},163,183]
[null,null,null,null,null,null,null,null,null,null,null,875,null,{"$f":"(INDEX(lstChosen,$M$60-$L936)=N$61)","v":false},{"$f":"(INDEX(lstChosen,$M$60-$L936)=O$61)","v":true},163,184]
[null,null,null,null,null,null,null,null,null,null,null,876,null,{"$f":"(INDEX(lstChosen,$M$60-$L937)=N$61)","v":false},{"$f":"(INDEX(lstChosen,$M$60-$L937)=O$61)","v":false},163,184]
[null,null,null,null,null,null,null,null,null,null,null,877,null,{"$f":"(INDEX(lstChosen,$M$60-$L938)=N$61)","v":false},{"$f":"(INDEX(lstChosen,$M$60-$L938)=O$61)","v":false},163,184]
[null,null,null,null,null,null,null,null,null,null,null,878,null,{"$f":"(INDEX(lstChosen,$M$60-$L939)=N$61)","v":false},{"$f":"(INDEX(lstChosen,$M$60-$L939)=O$61)","v":true},163,185]
[null,null,null,null,null,null,null,null,null,null,null,879,null,{"$f":"(INDEX(lstChosen,$M$60-$L940)=N$61)","v":false},{"$f":"(INDEX(lstChosen,$M$60-$L940)=O$61)","v":true},163,186]
[null,null,null,null,null,null,null,null,null,null,null,880,null,{"$f":"(INDEX(lstChosen,$M$60-$L941)=N$61)","v":false},{"$f":"(INDEX(lstChosen,$M$60-$L941)=O$61)","v":false},163,186]
[null,null,null,null,null,null,null,null,null,null,null,881,null,{"$f":"(INDEX(lstChosen,$M$60-$L942)=N$61)","v":false},{"$f":"(INDEX(lstChosen,$M$60-$L942)=O$61)","v":true},163,187]
[null,null,null,null,null,null,null,null,null,null,null,882,null,{"$f":"(INDEX(lstChosen,$M$60-$L943)=N$61)","v":false},{"$f":"(INDEX(lstChosen,$M$60-$L943)=O$61)","v":false},163,187]
[null,null,null,null,null,null,null,null,null,null,null,883,null,{"$f":"(INDEX(lstChosen,$M$60-$L944)=N$61)","v":false},{"$f":"(INDEX(lstChosen,$M$60-$L944)=O$61)","v":false},163,187]
[null,null,null,null,null,null,null,null,null,null,null,884,null,{"$f":"(INDEX(lstChosen,$M$60-$L945)=N$61)","v":false},{"$f":"(INDEX(lstChosen,$M$60-$L945)=O$61)","v":true},163,188]
[null,null,null,null,null,null,null,null,null,null,null,885,null,{"$f":"(INDEX(lstChosen,$M$60-$L946)=N$61)","v":false},{"$f":"(INDEX(lstChosen,$M$60-$L946)=O$61)","v":false},163,188]
[null,null,null,null,null,null,null,null,null,null,null,886,null,{"$f":"(INDEX(lstChosen,$M$60-$L947)=N$61)","v":true},{"$f":"(INDEX(lstChosen,$M$60-$L947)=O$61)","v":false},164,188]
[null,null,null,null,null,null,null,null,null,null,null,887,null,{"$f":"(INDEX(lstChosen,$M$60-$L948)=N$61)","v":false},{"$f":"(INDEX(lstChosen,$M$60-$L948)=O$61)","v":false},164,188]
[null,null,null,null,null,null,null,null,null,null,null,888,null,{"$f":"(INDEX(lstChosen,$M$60-$L949)=N$61)","v":false},{"$f":"(INDEX(lstChosen,$M$60-$L949)=O$61)","v":true},164,189]
[null,null,null,null,null,null,null,null,null,null,null,889,null,{"$f":"(INDEX(lstChosen,$M$60-$L950)=N$61)","v":false},{"$f":"(INDEX(lstChosen,$M$60-$L950)=O$61)","v":false},164,189]
[null,null,null,null,null,null,null,null,null,null,null,890,null,{"$f":"(INDEX(lstChosen,$M$60-$L951)=N$61)","v":false},{"$f":"(INDEX(lstChosen,$M$60-$L951)=O$61)","v":false},164,189]
[null,null,null,null,null,null,null,null,null,null,null,891,null,{"$f":"(INDEX(lstChosen,$M$60-$L952)=N$61)","v":false},{"$f":"(INDEX(lstChosen,$M$60-$L952)=O$61)","v":false},164,189]
[null,null,null,null,null,null,null,null,null,null,null,892,null,{"$f":"(INDEX(lstChosen,$M$60-$L953)=N$61)","v":false},{"$f":"(INDEX(lstChosen,$M$60-$L953)=O$61)","v":false},164,189]
[null,null,null,null,null,null,null,null,null,null,null,893,null,{"$f":"(INDEX(lstChosen,$M$60-$L954)=N$61)","v":false},{"$f":"(INDEX(lstChosen,$M$60-$L954)=O$61)","v":false},164,189]
[null,null,null,null,null,null,null,null,null,null,null,894,null,{"$f":"(INDEX(lstChosen,$M$60-$L955)=N$61)","v":true},{"$f":"(INDEX(lstChosen,$M$60-$L955)=O$61)","v":false},165,189]
[null,null,null,null,null,null,null,null,null,null,null,895,null,{"$f":"(INDEX(lstChosen,$M$60-$L956)=N$61)","v":true},{"$f":"(INDEX(lstChosen,$M$60-$L956)=O$61)","v":false},166,189]
[null,null,null,null,null,null,null,null,null,null,null,896,null,{"$f":"(INDEX(lstChosen,$M$60-$L957)=N$61)","v":false},{"$f":"(INDEX(lstChosen,$M$60-$L957)=O$61)","v":false},166,189]
[null,null,null,null,null,null,null,null,null,null,null,897,null,{"$f":"(INDEX(lstChosen,$M$60-$L958)=N$61)","v":false},{"$f":"(INDEX(lstChosen,$M$60-$L958)=O$61)","v":false},166,189]
[null,null,null,null,null,null,null,null,null,null,null,898,null,{"$f":"(INDEX(lstChosen,$M$60-$L959)=N$61)","v":false},{"$f":"(INDEX(lstChosen,$M$60-$L959)=O$61)","v":false},166,189]
[null,null,null,null,null,null,null,null,null,null,null,899,null,{"$f":"(INDEX(lstChosen,$M$60-$L960)=N$61)","v":false},{"$f":"(INDEX(lstChosen,$M$60-$L960)=O$61)","v":false},{"$f":"P959+N960","v":166},{"$f":"Q959+O960","v":189}]
[null,null,null,null,null,null,null,null,null,null,null,900,null,{"$f":"(INDEX(lstChosen,$M$60-$L961)=N$61)","v":false},{"$f":"(INDEX(lstChosen,$M$60-$L961)=O$61)","v":false},166,189]
[null,null,null,null,null,null,null,null,null,null,null,901,null,{"$f":"(INDEX(lstChosen,$M$60-$L962)=N$61)","v":false},{"$f":"(INDEX(lstChosen,$M$60-$L962)=O$61)","v":false},166,189]
[null,null,null,null,null,null,null,null,null,null,null,902,null,{"$f":"(INDEX(lstChosen,$M$60-$L963)=N$61)","v":false},{"$f":"(INDEX(lstChosen,$M$60-$L963)=O$61)","v":false},166,189]
[null,null,null,null,null,null,null,null,null,null,null,903,null,{"$f":"(INDEX(lstChosen,$M$60-$L964)=N$61)","v":false},{"$f":"(INDEX(lstChosen,$M$60-$L964)=O$61)","v":false},166,189]
[null,null,null,null,null,null,null,null,null,null,null,904,null,{"$f":"(INDEX(lstChosen,$M$60-$L965)=N$61)","v":false},{"$f":"(INDEX(lstChosen,$M$60-$L965)=O$61)","v":false},166,189]
[null,null,null,null,null,null,null,null,null,null,null,905,null,{"$f":"(INDEX(lstChosen,$M$60-$L966)=N$61)","v":false},{"$f":"(INDEX(lstChosen,$M$60-$L966)=O$61)","v":false},166,189]
[null,null,null,null,null,null,null,null,null,null,null,906,null,{"$f":"(INDEX(lstChosen,$M$60-$L967)=N$61)","v":false},{"$f":"(INDEX(lstChosen,$M$60-$L967)=O$61)","v":false},166,189]
[null,null,null,null,null,null,null,null,null,null,null,907,null,{"$f":"(INDEX(lstChosen,$M$60-$L968)=N$61)","v":false},{"$f":"(INDEX(lstChosen,$M$60-$L968)=O$61)","v":false},166,189]
[null,null,null,null,null,null,null,null,null,null,null,908,null,{"$f":"(INDEX(lstChosen,$M$60-$L969)=N$61)","v":true},{"$f":"(INDEX(lstChosen,$M$60-$L969)=O$61)","v":false},167,189]
[null,null,null,null,null,null,null,null,null,null,null,909,null,{"$f":"(INDEX(lstChosen,$M$60-$L970)=N$61)","v":false},{"$f":"(INDEX(lstChosen,$M$60-$L970)=O$61)","v":false},167,189]
[null,null,null,null,null,null,null,null,null,null,null,910,null,{"$f":"(INDEX(lstChosen,$M$60-$L971)=N$61)","v":true},{"$f":"(INDEX(lstChosen,$M$60-$L971)=O$61)","v":false},168,189]
[null,null,null,null,null,null,null,null,null,null,null,911,null,{"$f":"(INDEX(lstChosen,$M$60-$L972)=N$61)","v":false},{"$f":"(INDEX(lstChosen,$M$60-$L972)=O$61)","v":false},168,189]
[null,null,null,null,null,null,null,null,null,null,null,912,null,{"$f":"(INDEX(lstChosen,$M$60-$L973)=N$61)","v":true},{"$f":"(INDEX(lstChosen,$M$60-$L973)=O$61)","v":false},169,189]
[null,null,null,null,null,null,null,null,null,null,null,913,null,{"$f":"(INDEX(lstChosen,$M$60-$L974)=N$61)","v":false},{"$f":"(INDEX(lstChosen,$M$60-$L974)=O$61)","v":false},169,189]
[null,null,null,null,null,null,null,null,null,null,null,914,null,{"$f":"(INDEX(lstChosen,$M$60-$L975)=N$61)","v":false},{"$f":"(INDEX(lstChosen,$M$60-$L975)=O$61)","v":false},169,189]
[null,null,null,null,null,null,null,null,null,null,null,915,null,{"$f":"(INDEX(lstChosen,$M$60-$L976)=N$61)","v":false},{"$f":"(INDEX(lstChosen,$M$60-$L976)=O$61)","v":false},169,189]
[null,null,null,null,null,null,null,null,null,null,null,916,null,{"$f":"(INDEX(lstChosen,$M$60-$L977)=N$61)","v":false},{"$f":"(INDEX(lstChosen,$M$60-$L977)=O$61)","v":false},169,189]
[null,null,null,null,null,null,null,null,null,null,null,917,null,{"$f":"(INDEX(lstChosen,$M$60-$L978)=N$61)","v":false},{"$f":"(INDEX(lstChosen,$M$60-$L978)=O$61)","v":false},169,189]
[null,null,null,null,null,null,null,null,null,null,null,918,null,{"$f":"(INDEX(lstChosen,$M$60-$L979)=N$61)","v":false},{"$f":"(INDEX(lstChosen,$M$60-$L979)=O$61)","v":false},169,189]
[null,null,null,null,null,null,null,null,null,null,null,919,null,{"$f":"(INDEX(lstChosen,$M$60-$L980)=N$61)","v":false},{"$f":"(INDEX(lstChosen,$M$60-$L980)=O$61)","v":false},169,189]
[null,null,null,null,null,null,null,null,null,null,null,920,null,{"$f":"(INDEX(lstChosen,$M$60-$L981)=N$61)","v":true},{"$f":"(INDEX(lstChosen,$M$60-$L981)=O$61)","v":false},170,189]
[null,null,null,null,null,null,null,null,null,null,null,921,null,{"$f":"(INDEX(lstChosen,$M$60-$L982)=N$61)","v":false},{"$f":"(INDEX(lstChosen,$M$60-$L982)=O$61)","v":false},170,189]
[null,null,null,null,null,null,null,null,null,null,null,922,null,{"$f":"(INDEX(lstChosen,$M$60-$L983)=N$61)","v":false},{"$f":"(INDEX(lstChosen,$M$60-$L983)=O$61)","v":false},170,189]
[null,null,null,null,null,null,null,null,null,null,null,923,null,{"$f":"(INDEX(lstChosen,$M$60-$L984)=N$61)","v":false},{"$f":"(INDEX(lstChosen,$M$60-$L984)=O$61)","v":false},170,189]
[null,null,null,null,null,null,null,null,null,null,null,924,null,{"$f":"(INDEX(lstChosen,$M$60-$L985)=N$61)","v":false},{"$f":"(INDEX(lstChosen,$M$60-$L985)=O$61)","v":false},170,189]
[null,null,null,null,null,null,null,null,null,null,null,925,null,{"$f":"(INDEX(lstChosen,$M$60-$L986)=N$61)","v":false},{"$f":"(INDEX(lstChosen,$M$60-$L986)=O$61)","v":true},170,190]
[null,null,null,null,null,null,null,null,null,null,null,926,null,{"$f":"(INDEX(lstChosen,$M$60-$L987)=N$61)","v":false},{"$f":"(INDEX(lstChosen,$M$60-$L987)=O$61)","v":false},170,190]
[null,null,null,null,null,null,null,null,null,null,null,927,null,{"$f":"(INDEX(lstChosen,$M$60-$L988)=N$61)","v":true},{"$f":"(INDEX(lstChosen,$M$60-$L988)=O$61)","v":false},171,190]
[null,null,null,null,null,null,null,null,null,null,null,928,null,{"$f":"(INDEX(lstChosen,$M$60-$L989)=N$61)","v":false},{"$f":"(INDEX(lstChosen,$M$60-$L989)=O$61)","v":false},171,190]
[null,null,null,null,null,null,null,null,null,null,null,929,null,{"$f":"(INDEX(lstChosen,$M$60-$L990)=N$61)","v":false},{"$f":"(INDEX(lstChosen,$M$60-$L990)=O$61)","v":false},171,190]
[null,null,null,null,null,null,null,null,null,null,null,930,null,{"$f":"(INDEX(lstChosen,$M$60-$L991)=N$61)","v":false},{"$f":"(INDEX(lstChosen,$M$60-$L991)=O$61)","v":false},171,190]
[null,null,null,null,null,null,null,null,null,null,null,931,null,{"$f":"(INDEX(lstChosen,$M$60-$L992)=N$61)","v":true},{"$f":"(INDEX(lstChosen,$M$60-$L992)=O$61)","v":false},172,190]
[null,null,null,null,null,null,null,null,null,null,null,932,null,{"$f":"(INDEX(lstChosen,$M$60-$L993)=N$61)","v":false},{"$f":"(INDEX(lstChosen,$M$60-$L993)=O$61)","v":false},172,190]
[null,null,null,null,null,null,null,null,null,null,null,933,null,{"$f":"(INDEX(lstChosen,$M$60-$L994)=N$61)","v":false},{"$f":"(INDEX(lstChosen,$M$60-$L994)=O$61)","v":false},172,190]
[null,null,null,null,null,null,null,null,null,null,null,934,null,{"$f":"(INDEX(lstChosen,$M$60-$L995)=N$61)","v":false},{"$f":"(INDEX(lstChosen,$M$60-$L995)=O$61)","v":true},172,191]
[null,null,null,null,null,null,null,null,null,null,null,935,null,{"$f":"(INDEX(lstChosen,$M$60-$L996)=N$61)","v":false},{"$f":"(INDEX(lstChosen,$M$60-$L996)=O$61)","v":false},172,191]
[null,null,null,null,null,null,null,null,null,null,null,936,null,{"$f":"(INDEX(lstChosen,$M$60-$L997)=N$61)","v":false},{"$f":"(INDEX(lstChosen,$M$60-$L997)=O$61)","v":false},172,191]
[null,null,null,null,null,null,null,null,null,null,null,937,null,{"$f":"(INDEX(lstChosen,$M$60-$L998)=N$61)","v":false},{"$f":"(INDEX(lstChosen,$M$60-$L998)=O$61)","v":false},172,191]
[null,null,null,null,null,null,null,null,null,null,null,938,null,{"$f":"(INDEX(lstChosen,$M$60-$L999)=N$61)","v":false},{"$f":"(INDEX(lstChosen,$M$60-$L999)=O$61)","v":false},172,191]
[null,null,null,null,null,null,null,null,null,null,null,939,null,{"$f":"(INDEX(lstChosen,$M$60-$L1000)=N$61)","v":true},{"$f":"(INDEX(lstChosen,$M$60-$L1000)=O$61)","v":false},173,191]
[null,null,null,null,null,null,null,null,null,null,null,940,null,{"$f":"(INDEX(lstChosen,$M$60-$L1001)=N$61)","v":false},{"$f":"(INDEX(lstChosen,$M$60-$L1001)=O$61)","v":false},173,191]
[null,null,null,null,null,null,null,null,null,null,null,941,null,{"$f":"(INDEX(lstChosen,$M$60-$L1002)=N$61)","v":false},{"$f":"(INDEX(lstChosen,$M$60-$L1002)=O$61)","v":true},173,192]
[null,null,null,null,null,null,null,null,null,null,null,942,null,{"$f":"(INDEX(lstChosen,$M$60-$L1003)=N$61)","v":false},{"$f":"(INDEX(lstChosen,$M$60-$L1003)=O$61)","v":false},173,192]
[null,null,null,null,null,null,null,null,null,null,null,943,null,{"$f":"(INDEX(lstChosen,$M$60-$L1004)=N$61)","v":true},{"$f":"(INDEX(lstChosen,$M$60-$L1004)=O$61)","v":false},174,192]
[null,null,null,null,null,null,null,null,null,null,null,944,null,{"$f":"(INDEX(lstChosen,$M$60-$L1005)=N$61)","v":false},{"$f":"(INDEX(lstChosen,$M$60-$L1005)=O$61)","v":false},174,192]
[null,null,null,null,null,null,null,null,null,null,null,945,null,{"$f":"(INDEX(lstChosen,$M$60-$L1006)=N$61)","v":false},{"$f":"(INDEX(lstChosen,$M$60-$L1006)=O$61)","v":false},174,192]
[null,null,null,null,null,null,null,null,null,null,null,946,null,{"$f":"(INDEX(lstChosen,$M$60-$L1007)=N$61)","v":false},{"$f":"(INDEX(lstChosen,$M$60-$L1007)=O$61)","v":false},174,192]
[null,null,null,null,null,null,null,null,null,null,null,947,null,{"$f":"(INDEX(lstChosen,$M$60-$L1008)=N$61)","v":false},{"$f":"(INDEX(lstChosen,$M$60-$L1008)=O$61)","v":false},174,192]
[null,null,null,null,null,null,null,null,null,null,null,948,null,{"$f":"(INDEX(lstChosen,$M$60-$L1009)=N$61)","v":false},{"$f":"(INDEX(lstChosen,$M$60-$L1009)=O$61)","v":true},174,193]
[null,null,null,null,null,null,null,null,null,null,null,949,null,{"$f":"(INDEX(lstChosen,$M$60-$L1010)=N$61)","v":false},{"$f":"(INDEX(lstChosen,$M$60-$L1010)=O$61)","v":false},174,193]
[null,null,null,null,null,null,null,null,null,null,null,950,null,{"$f":"(INDEX(lstChosen,$M$60-$L1011)=N$61)","v":false},{"$f":"(INDEX(lstChosen,$M$60-$L1011)=O$61)","v":true},174,194]
[null,null,null,null,null,null,null,null,null,null,null,951,null,{"$f":"(INDEX(lstChosen,$M$60-$L1012)=N$61)","v":false},{"$f":"(INDEX(lstChosen,$M$60-$L1012)=O$61)","v":false},174,194]
[null,null,null,null,null,null,null,null,null,null,null,952,null,{"$f":"(INDEX(lstChosen,$M$60-$L1013)=N$61)","v":false},{"$f":"(INDEX(lstChosen,$M$60-$L1013)=O$61)","v":false},174,194]
[null,null,null,null,null,null,null,null,null,null,null,953,null,{"$f":"(INDEX(lstChosen,$M$60-$L1014)=N$61)","v":false},{"$f":"(INDEX(lstChosen,$M$60-$L1014)=O$61)","v":true},174,195]
[null,null,null,null,null,null,null,null,null,null,null,954,null,{"$f":"(INDEX(lstChosen,$M$60-$L1015)=N$61)","v":false},{"$f":"(INDEX(lstChosen,$M$60-$L1015)=O$61)","v":false},174,195]
[null,null,null,null,null,null,null,null,null,null,null,955,null,{"$f":"(INDEX(lstChosen,$M$60-$L1016)=N$61)","v":false},{"$f":"(INDEX(lstChosen,$M$60-$L1016)=O$61)","v":false},174,195]
[null,null,null,null,null,null,null,null,null,null,null,956,null,{"$f":"(INDEX(lstChosen,$M$60-$L1017)=N$61)","v":false},{"$f":"(INDEX(lstChosen,$M$60-$L1017)=O$61)","v":false},174,195]
[null,null,null,null,null,null,null,null,null,null,null,957,null,{"$f":"(INDEX(lstChosen,$M$60-$L1018)=N$61)","v":false},{"$f":"(INDEX(lstChosen,$M$60-$L1018)=O$61)","v":false},174,195]
[null,null,null,null,null,null,null,null,null,null,null,958,null,{"$f":"(INDEX(lstChosen,$M$60-$L1019)=N$61)","v":false},{"$f":"(INDEX(lstChosen,$M$60-$L1019)=O$61)","v":true},174,196]
[null,null,null,null,null,null,null,null,null,null,null,959,null,{"$f":"(INDEX(lstChosen,$M$60-$L1020)=N$61)","v":false},{"$f":"(INDEX(lstChosen,$M$60-$L1020)=O$61)","v":false},174,196]
[null,null,null,null,null,null,null,null,null,null,null,960,null,{"$f":"(INDEX(lstChosen,$M$60-$L1021)=N$61)","v":false},{"$f":"(INDEX(lstChosen,$M$60-$L1021)=O$61)","v":true},174,197]
[null,null,null,null,null,null,null,null,null,null,null,961,null,{"$f":"(INDEX(lstChosen,$M$60-$L1022)=N$61)","v":false},{"$f":"(INDEX(lstChosen,$M$60-$L1022)=O$61)","v":false},174,197]
[null,null,null,null,null,null,null,null,null,null,null,962,null,{"$f":"(INDEX(lstChosen,$M$60-$L1023)=N$61)","v":false},{"$f":"(INDEX(lstChosen,$M$60-$L1023)=O$61)","v":false},174,197]
[null,null,null,null,null,null,null,null,null,null,null,963,null,{"$f":"(INDEX(lstChosen,$M$60-$L1024)=N$61)","v":false},{"$f":"(INDEX(lstChosen,$M$60-$L1024)=O$61)","v":true},{"$f":"P1023+N1024","v":174},{"$f":"Q1023+O1024","v":198}]
[null,null,null,null,null,null,null,null,null,null,null,964,null,{"$f":"(INDEX(lstChosen,$M$60-$L1025)=N$61)","v":false},{"$f":"(INDEX(lstChosen,$M$60-$L1025)=O$61)","v":false},174,198]
[null,null,null,null,null,null,null,null,null,null,null,965,null,{"$f":"(INDEX(lstChosen,$M$60-$L1026)=N$61)","v":false},{"$f":"(INDEX(lstChosen,$M$60-$L1026)=O$61)","v":true},174,199]
[null,null,null,null,null,null,null,null,null,null,null,966,null,{"$f":"(INDEX(lstChosen,$M$60-$L1027)=N$61)","v":false},{"$f":"(INDEX(lstChosen,$M$60-$L1027)=O$61)","v":false},174,199]
[null,null,null,null,null,null,null,null,null,null,null,967,null,{"$f":"(INDEX(lstChosen,$M$60-$L1028)=N$61)","v":false},{"$f":"(INDEX(lstChosen,$M$60-$L1028)=O$61)","v":false},174,199]
[null,null,null,null,null,null,null,null,null,null,null,968,null,{"$f":"(INDEX(lstChosen,$M$60-$L1029)=N$61)","v":true},{"$f":"(INDEX(lstChosen,$M$60-$L1029)=O$61)","v":false},175,199]
[null,null,null,null,null,null,null,null,null,null,null,969,null,{"$f":"(INDEX(lstChosen,$M$60-$L1030)=N$61)","v":false},{"$f":"(INDEX(lstChosen,$M$60-$L1030)=O$61)","v":false},175,199]
[null,null,null,null,null,null,null,null,null,null,null,970,null,{"$f":"(INDEX(lstChosen,$M$60-$L1031)=N$61)","v":false},{"$f":"(INDEX(lstChosen,$M$60-$L1031)=O$61)","v":false},175,199]
[null,null,null,null,null,null,null,null,null,null,null,971,null,{"$f":"(INDEX(lstChosen,$M$60-$L1032)=N$61)","v":true},{"$f":"(INDEX(lstChosen,$M$60-$L1032)=O$61)","v":false},176,199]
[null,null,null,null,null,null,null,null,null,null,null,972,null,{"$f":"(INDEX(lstChosen,$M$60-$L1033)=N$61)","v":true},{"$f":"(INDEX(lstChosen,$M$60-$L1033)=O$61)","v":false},177,199]
[null,null,null,null,null,null,null,null,null,null,null,973,null,{"$f":"(INDEX(lstChosen,$M$60-$L1034)=N$61)","v":false},{"$f":"(INDEX(lstChosen,$M$60-$L1034)=O$61)","v":false},177,199]
[null,null,null,null,null,null,null,null,null,null,null,974,null,{"$f":"(INDEX(lstChosen,$M$60-$L1035)=N$61)","v":false},{"$f":"(INDEX(lstChosen,$M$60-$L1035)=O$61)","v":false},177,199]
[null,null,null,null,null,null,null,null,null,null,null,975,null,{"$f":"(INDEX(lstChosen,$M$60-$L1036)=N$61)","v":false},{"$f":"(INDEX(lstChosen,$M$60-$L1036)=O$61)","v":false},177,199]
[null,null,null,null,null,null,null,null,null,null,null,976,null,{"$f":"(INDEX(lstChosen,$M$60-$L1037)=N$61)","v":false},{"$f":"(INDEX(lstChosen,$M$60-$L1037)=O$61)","v":false},177,199]
[null,null,null,null,null,null,null,null,null,null,null,977,null,{"$f":"(INDEX(lstChosen,$M$60-$L1038)=N$61)","v":false},{"$f":"(INDEX(lstChosen,$M$60-$L1038)=O$61)","v":false},177,199]
[null,null,null,null,null,null,null,null,null,null,null,978,null,{"$f":"(INDEX(lstChosen,$M$60-$L1039)=N$61)","v":false},{"$f":"(INDEX(lstChosen,$M$60-$L1039)=O$61)","v":true},177,200]
[null,null,null,null,null,null,null,null,null,null,null,979,null,{"$f":"(INDEX(lstChosen,$M$60-$L1040)=N$61)","v":false},{"$f":"(INDEX(lstChosen,$M$60-$L1040)=O$61)","v":false},177,200]
[null,null,null,null,null,null,null,null,null,null,null,980,null,{"$f":"(INDEX(lstChosen,$M$60-$L1041)=N$61)","v":false},{"$f":"(INDEX(lstChosen,$M$60-$L1041)=O$61)","v":true},177,201]
[null,null,null,null,null,null,null,null,null,null,null,981,null,{"$f":"(INDEX(lstChosen,$M$60-$L1042)=N$61)","v":true},{"$f":"(INDEX(lstChosen,$M$60-$L1042)=O$61)","v":false},178,201]
[null,null,null,null,null,null,null,null,null,null,null,982,null,{"$f":"(INDEX(lstChosen,$M$60-$L1043)=N$61)","v":true},{"$f":"(INDEX(lstChosen,$M$60-$L1043)=O$61)","v":false},179,201]
[null,null,null,null,null,null,null,null,null,null,null,983,null,{"$f":"(INDEX(lstChosen,$M$60-$L1044)=N$61)","v":false},{"$f":"(INDEX(lstChosen,$M$60-$L1044)=O$61)","v":false},179,201]
[null,null,null,null,null,null,null,null,null,null,null,984,null,{"$f":"(INDEX(lstChosen,$M$60-$L1045)=N$61)","v":true},{"$f":"(INDEX(lstChosen,$M$60-$L1045)=O$61)","v":false},180,201]
[null,null,null,null,null,null,null,null,null,null,null,985,null,{"$f":"(INDEX(lstChosen,$M$60-$L1046)=N$61)","v":true},{"$f":"(INDEX(lstChosen,$M$60-$L1046)=O$61)","v":false},181,201]
[null,null,null,null,null,null,null,null,null,null,null,986,null,{"$f":"(INDEX(lstChosen,$M$60-$L1047)=N$61)","v":true},{"$f":"(INDEX(lstChosen,$M$60-$L1047)=O$61)","v":false},182,201]
[null,null,null,null,null,null,null,null,null,null,null,987,null,{"$f":"(INDEX(lstChosen,$M$60-$L1048)=N$61)","v":false},{"$f":"(INDEX(lstChosen,$M$60-$L1048)=O$61)","v":false},182,201]
[null,null,null,null,null,null,null,null,null,null,null,988,null,{"$f":"(INDEX(lstChosen,$M$60-$L1049)=N$61)","v":true},{"$f":"(INDEX(lstChosen,$M$60-$L1049)=O$61)","v":false},183,201]
[null,null,null,null,null,null,null,null,null,null,null,989,null,{"$f":"(INDEX(lstChosen,$M$60-$L1050)=N$61)","v":true},{"$f":"(INDEX(lstChosen,$M$60-$L1050)=O$61)","v":false},184,201]
[null,null,null,null,null,null,null,null,null,null,null,990,null,{"$f":"(INDEX(lstChosen,$M$60-$L1051)=N$61)","v":false},{"$f":"(INDEX(lstChosen,$M$60-$L1051)=O$61)","v":false},184,201]
[null,null,null,null,null,null,null,null,null,null,null,991,null,{"$f":"(INDEX(lstChosen,$M$60-$L1052)=N$61)","v":false},{"$f":"(INDEX(lstChosen,$M$60-$L1052)=O$61)","v":false},184,201]
[null,null,null,null,null,null,null,null,null,null,null,992,null,{"$f":"(INDEX(lstChosen,$M$60-$L1053)=N$61)","v":false},{"$f":"(INDEX(lstChosen,$M$60-$L1053)=O$61)","v":true},184,202]
[null,null,null,null,null,null,null,null,null,null,null,993,null,{"$f":"(INDEX(lstChosen,$M$60-$L1054)=N$61)","v":false},{"$f":"(INDEX(lstChosen,$M$60-$L1054)=O$61)","v":false},184,202]
[null,null,null,null,null,null,null,null,null,null,null,994,null,{"$f":"(INDEX(lstChosen,$M$60-$L1055)=N$61)","v":false},{"$f":"(INDEX(lstChosen,$M$60-$L1055)=O$61)","v":true},184,203]
[null,null,null,null,null,null,null,null,null,null,null,995,null,{"$f":"(INDEX(lstChosen,$M$60-$L1056)=N$61)","v":false},{"$f":"(INDEX(lstChosen,$M$60-$L1056)=O$61)","v":true},184,204]
[null,null,null,null,null,null,null,null,null,null,null,996,null,{"$f":"(INDEX(lstChosen,$M$60-$L1057)=N$61)","v":false},{"$f":"(INDEX(lstChosen,$M$60-$L1057)=O$61)","v":false},184,204]
[null,null,null,null,null,null,null,null,null,null,null,997,null,{"$f":"(INDEX(lstChosen,$M$60-$L1058)=N$61)","v":false},{"$f":"(INDEX(lstChosen,$M$60-$L1058)=O$61)","v":false},184,204]
[null,null,null,null,null,null,null,null,null,null,null,998,null,{"$f":"(INDEX(lstChosen,$M$60-$L1059)=N$61)","v":false},{"$f":"(INDEX(lstChosen,$M$60-$L1059)=O$61)","v":false},184,204]
[null,null,null,null,null,null,null,null,null,null,null,999,null,{"$f":"(INDEX(lstChosen,$M$60-$L1060)=N$61)","v":false},{"$f":"(INDEX(lstChosen,$M$60-$L1060)=O$61)","v":false},184,204]
[null,null,null,null,null,null,null,null,null,null,null,1000,null,{"$f":"(INDEX(lstChosen,$M$60-$L1061)=N$61)","v":false},{"$f":"(INDEX(lstChosen,$M$60-$L1061)=O$61)","v":false},184,204]

{"sheet":"named ranges","index":3,"n_rows":22,"n_cols":11,"rows_kept":22,"cut":false,"hidden":false,"merged":[[0,1,0,4]]}
[null,"All the names defined in this dashboard"]
[null,null,null,null,null,null,"HTML"]
[null,"#","Name","Definition","Purpose",null,{"$f":"\"<TR class=\"\"head\"\"><TD>\"&B3&\"</TD>\"","v":"<TR class=\"head\"><TD>#</TD>"},{"$f":"\"<TD>\"&C3&\"</TD>\"","v":"<TD>Name</TD>"},{"$f":"\"<TD>\"&D3&\"</TD>\"","v":"<TD>Definition</TD>"},{"$f":"\"<TD>\"&E3&\"</TD></Tr>\"","v":"<TD>Purpose</TD></Tr>"},{"$f":"CONCATENATE(G3,H3,I3,J3)","v":"<TR class=\"head\"><TD>#</TD><TD>Name</TD><TD>Definition</TD><TD>Purpose</TD></Tr>"}]
[null,1,"lstAgents","=Data!$P$6:$P$11","List of all unique Agents",null,{"$f":"\"<TR class=\"\"even\"\"><TD class=\"\"c1\"\">\"&B4&\"</TD>\"","v":"<TR class=\"even\"><TD class=\"c1\">1</TD>"},{"$f":"\"<TD class=\"\"c2\"\">\"&C4&\"</TD>\"","v":"<TD class=\"c2\">lstAgents</TD>"},{"$f":"\"<TD class=\"\"c3\"\"><code>\"&D4&\"</code></TD>\"","v":"<TD class=\"c3\"><code>=Data!$P$6:$P$11</code></TD>"},{"$f":"\"<TD class=\"\"c4\"\">\"&E4&\"</TD></TR>\"","v":"<TD class=\"c4\">List of all unique Agents</TD></TR>"},{"$f":"CONCATENATE(G4,H4,I4,J4)","v":"<TR class=\"even\"><TD class=\"c1\">1</TD><TD class=\"c2\">lstAgents</TD><TD class=\"c3\"><code>=Data!$P$6:$P$11</code></TD><TD class=\"c4\">List of all unique Agents</TD></TR>"}]
[null,2,"lstProducts","=Data!$M$6:$M$11","List of all unique Products",null,{"$f":"\"<TR class=\"\"odd\"\"><TD class=\"\"c1\"\">\"&B5&\"</TD>\"","v":"<TR class=\"odd\"><TD class=\"c1\">2</TD>"},{"$f":"\"<TD class=\"\"c2\"\">\"&C5&\"</TD>\"","v":"<TD class=\"c2\">lstProducts</TD>"},{"$f":"\"<TD class=\"\"c3\"\"><code>\"&D5&\"</code></TD>\"","v":"<TD class=\"c3\"><code>=Data!$M$6:$M$11</code></TD>"},{"$f":"\"<TD class=\"\"c4\"\">\"&E5&\"</TD></TR>\"","v":"<TD class=\"c4\">List of all unique Products</TD></TR>"},"<TR class=\"odd\"><TD class=\"c1\">2</TD><TD class=\"c2\">lstProducts</TD><TD class=\"c3\"><code>=Data!$M$6:$M$11</code></TD><TD class=\"c4\">List of all unique Products</TD></TR>"]
[null,3,"lstRegions","=Data!$N$6:$N$10","List of all unique Regions",null,{"$f":"\"<TR class=\"\"even\"\"><TD class=\"\"c1\"\">\"&B6&\"</TD>\"","v":"<TR class=\"even\"><TD class=\"c1\">3</TD>"},"<TD class=\"c2\">lstRegions</TD>","<TD class=\"c3\"><code>=Data!$N$6:$N$10</code></TD>","<TD class=\"c4\">List of all unique Regions</TD></TR>","<TR class=\"even\"><TD class=\"c1\">3</TD><TD class=\"c2\">lstRegions</TD><TD class=\"c3\"><code>=Data!$N$6:$N$10</code></TD><TD class=\"c4\">List of all unique Regions</TD></TR>"]
[null,4,"lstCtypes","=Data!$O$6:$O$9","List of all unique Customer Types",null,{"$f":"\"<TR class=\"\"odd\"\"><TD class=\"\"c1\"\">\"&B7&\"</TD>\"","v":"<TR class=\"odd\"><TD class=\"c1\">4</TD>"},"<TD class=\"c2\">lstCtypes</TD>","<TD class=\"c3\"><code>=Data!$O$6:$O$9</code></TD>","<TD class=\"c4\">List of all unique Customer Types</TD></TR>","<TR class=\"odd\"><TD class=\"c1\">4</TD><TD class=\"c2\">lstCtypes</TD><TD class=\"c3\"><code>=Data!$O$6:$O$9</code></TD><TD class=\"c4\">List of all unique Customer Types</TD></TR>"]
[null,5,"lstCallDates","=INT(cs[Date Time])","List of Call Dates - INT makes the time portion zero",null,{"$f":"\"<TR class=\"\"even\"\"><TD class=\"\"c1\"\">\"&B8&\"</TD>\"","v":"<TR class=\"even\"><TD class=\"c1\">5</TD>"},"<TD class=\"c2\">lstCallDates</TD>","<TD class=\"c3\"><code>=INT(cs[Date Time])</code></TD>","<TD class=\"c4\">List of Call Dates - INT makes the time portion zero</TD></TR>","<TR class=\"even\"><TD class=\"c1\">5</TD><TD class=\"c2\">lstCallDates</TD><TD class=\"c3\"><code>=INT(cs[Date Time])</code></TD><TD class=\"c4\">List of Call Dates - INT makes the time portion zero</TD></TR>"]
[null,6,"lstCharts","=calcs!$J$2:$J$6","List of all charts",null,{"$f":"\"<TR class=\"\"odd\"\"><TD class=\"\"c1\"\">\"&B9&\"</TD>\"","v":"<TR class=\"odd\"><TD class=\"c1\">6</TD>"},"<TD class=\"c2\">lstCharts</TD>","<TD class=\"c3\"><code>=calcs!$J$2:$J$6</code></TD>","<TD class=\"c4\">List of all charts</TD></TR>","<TR class=\"odd\"><TD class=\"c1\">6</TD><TD class=\"c2\">lstCharts</TD><TD class=\"c3\"><code>=calcs!$J$2:$J$6</code></TD><TD class=\"c4\">List of all charts</TD></TR>"]
[null,7,"lstChosen","=CHOOSE(calcs!$C$4, cs[Product],cs[Region], cs[Customer Type],cs[Agent ID])","List of values chosen for comparison",null,{"$f":"\"<TR class=\"\"even\"\"><TD class=\"\"c1\"\">\"&B10&\"</TD>\"","v":"<TR class=\"even\"><TD class=\"c1\">7</TD>"},"<TD class=\"c2\">lstChosen</TD>","<TD class=\"c3\"><code>=CHOOSE(calcs!$C$4, cs[Product],cs[Region], cs[Customer Type],cs[Agent ID])</code></TD>","<TD class=\"c4\">List of values chosen for comparison</TD></TR>","<TR class=\"even\"><TD class=\"c1\">7</TD><TD class=\"c2\">lstChosen</TD><TD class=\"c3\"><code>=CHOOSE(calcs!$C$4, cs[Product],cs[Region], cs[Customer Type],cs[Agent ID])</code></TD><TD class=\"c4\">List of values chosen for comparison</TD></TR>"]
[null,8,"lstWaysToCompare","=Data!$M$5:$P$5","List of ways to compare",null,{"$f":"\"<TR class=\"\"odd\"\"><TD class=\"\"c1\"\">\"&B11&\"</TD>\"","v":"<TR class=\"odd\"><TD class=\"c1\">8</TD>"},"<TD class=\"c2\">lstWaysToCompare</TD>","<TD class=\"c3\"><code>=Data!$M$5:$P$5</code></TD>","<TD class=\"c4\">List of ways to compare</TD></TR>","<TR class=\"odd\"><TD class=\"c1\">8</TD><TD class=\"c2\">lstWaysToCompare</TD><TD class=\"c3\"><code>=Data!$M$5:$P$5</code></TD><TD class=\"c4\">List of ways to compare</TD></TR>"]
[null,9,"lstWaysToCompareV","=calcs!$L$2:$L$5","List of ways to compare (vertical)",null,{"$f":"\"<TR class=\"\"even\"\"><TD class=\"\"c1\"\">\"&B12&\"</TD>\"","v":"<TR class=\"even\"><TD class=\"c1\">9</TD>"},"<TD class=\"c2\">lstWaysToCompareV</TD>","<TD class=\"c3\"><code>=calcs!$L$2:$L$5</code></TD>","<TD class=\"c4\">List of ways to compare (vertical)</TD></TR>","<TR class=\"even\"><TD class=\"c1\">9</TD><TD class=\"c2\">lstWaysToCompareV</TD><TD class=\"c3\"><code>=calcs!$L$2:$L$5</code></TD><TD class=\"c4\">List of ways to compare (vertical)</TD></TR>"]
[null,10,"rngSel1","=Dashboard!$B$18:$D$23","Range of options to compare on left side in dashboard view",null,{"$f":"\"<TR class=\"\"odd\"\"><TD class=\"\"c1\"\">\"&B13&\"</TD>\"","v":"<TR class=\"odd\"><TD class=\"c1\">10</TD>"},"<TD class=\"c2\">rngSel1</TD>","<TD class=\"c3\"><code>=Dashboard!$B$18:$D$23</code></TD>","<TD class=\"c4\">Range of options to compare on left side in dashboard view</TD></TR>","<TR class=\"odd\"><TD class=\"c1\">10</TD><TD class=\"c2\">rngSel1</TD><TD class=\"c3\"><code>=Dashboard!$B$18:$D$23</code></TD><TD class=\"c4\">Range of options to compare on left side in dashboard view</TD></TR>"]
[null,11,"rngSel2","=Dashboard!$Q$18:$R$23","Range of options to compare on right side in dashboard view",null,{"$f":"\"<TR class=\"\"even\"\"><TD class=\"\"c1\"\">\"&B14&\"</TD>\"","v":"<TR class=\"even\"><TD class=\"c1\">11</TD>"},"<TD class=\"c2\">rngSel2</TD>","<TD class=\"c3\"><code>=Dashboard!$Q$18:$R$23</code></TD>","<TD class=\"c4\">Range of options to compare on right side in dashboard view</TD></TR>","<TR class=\"even\"><TD class=\"c1\">11</TD><TD class=\"c2\">rngSel2</TD><TD class=\"c3\"><code>=Dashboard!$Q$18:$R$23</code></TD><TD class=\"c4\">Range of options to compare on right side in dashboard view</TD></TR>"]
[null,12,"selChart","=CHOOSE(valChartToDisplay,calcs!$C$73:$H$81, calcs!$C$84:$H$92, calcs!$C$95:$H$103, calcs!$C$114:$H$122,  calcs!$C$125:$H$133)","Selected Chart - range has the chart - used in picture link / camera tool output",null,{"$f":"\"<TR class=\"\"odd\"\"><TD class=\"\"c1\"\">\"&B15&\"</TD>\"","v":"<TR class=\"odd\"><TD class=\"c1\">12</TD>"},"<TD class=\"c2\">selChart</TD>","<TD class=\"c3\"><code>=CHOOSE(valChartToDisplay,calcs!$C$73:$H$81, calcs!$C$84:$H$92, calcs!$C$95:$H$103, calcs!$C$114:$H$122,  calcs!$C$125:$H$133)</code></TD>","<TD class=\"c4\">Selected Chart - range has the chart - used in picture link / camera tool output</TD></TR>","<TR class=\"odd\"><TD class=\"c1\">12</TD><TD class=\"c2\">selChart</TD><TD class=\"c3\"><code>=CHOOSE(valChartToDisplay,calcs!$C$73:$H$81, calcs!$C$84:$H$92, calcs!$C$95:$H$103, calcs!$C$114:$H$122,  calcs!$C$125:$H$133)</code></TD><TD class=\"c4\">Selected Chart - range has the chart - used in picture link / camera tool output</TD></TR>"]
[null,13,"selection1","=calcs!$E$4","Selected option #1",null,{"$f":"\"<TR class=\"\"even\"\"><TD class=\"\"c1\"\">\"&B16&\"</TD>\"","v":"<TR class=\"even\"><TD class=\"c1\">13</TD>"},"<TD class=\"c2\">selection1</TD>","<TD class=\"c3\"><code>=calcs!$E$4</code></TD>","<TD class=\"c4\">Selected option #1</TD></TR>","<TR class=\"even\"><TD class=\"c1\">13</TD><TD class=\"c2\">selection1</TD><TD class=\"c3\"><code>=calcs!$E$4</code></TD><TD class=\"c4\">Selected option #1</TD></TR>"]
[null,14,"selection2","=calcs!$G$4","Selected option #2",null,{"$f":"\"<TR class=\"\"odd\"\"><TD class=\"\"c1\"\">\"&B17&\"</TD>\"","v":"<TR class=\"odd\"><TD class=\"c1\">14</TD>"},"<TD class=\"c2\">selection2</TD>","<TD class=\"c3\"><code>=calcs!$G$4</code></TD>","<TD class=\"c4\">Selected option #2</TD></TR>","<TR class=\"odd\"><TD class=\"c1\">14</TD><TD class=\"c2\">selection2</TD><TD class=\"c3\"><code>=calcs!$G$4</code></TD><TD class=\"c4\">Selected option #2</TD></TR>"]
[null,15,"valChartToDisplay","=calcs!$H$4","Which chart to display",null,{"$f":"\"<TR class=\"\"even\"\"><TD class=\"\"c1\"\">\"&B18&\"</TD>\"","v":"<TR class=\"even\"><TD class=\"c1\">15</TD>"},"<TD class=\"c2\">valChartToDisplay</TD>","<TD class=\"c3\"><code>=calcs!$H$4</code></TD>","<TD class=\"c4\">Which chart to display</TD></TR>","<TR class=\"even\"><TD class=\"c1\">15</TD><TD class=\"c2\">valChartToDisplay</TD><TD class=\"c3\"><code>=calcs!$H$4</code></TD><TD class=\"c4\">Which chart to display</TD></TR>"]
[null,16,"valHelpStatus","=calcs!$O$3","Whether to display help or not",null,{"$f":"\"<TR class=\"\"odd\"\"><TD class=\"\"c1\"\">\"&B19&\"</TD>\"","v":"<TR class=\"odd\"><TD class=\"c1\">16</TD>"},"<TD class=\"c2\">valHelpStatus</TD>","<TD class=\"c3\"><code>=calcs!$O$3</code></TD>","<TD class=\"c4\">Whether to display help or not</TD></TR>","<TR class=\"odd\"><TD class=\"c1\">16</TD><TD class=\"c2\">valHelpStatus</TD><TD class=\"c3\"><code>=calcs!$O$3</code></TD><TD class=\"c4\">Whether to display help or not</TD></TR>"]
[null,17,"valOption1","=calcs!$E$3","Number of selected option #1",null,{"$f":"\"<TR class=\"\"even\"\"><TD class=\"\"c1\"\">\"&B20&\"</TD>\"","v":"<TR class=\"even\"><TD class=\"c1\">17</TD>"},"<TD class=\"c2\">valOption1</TD>","<TD class=\"c3\"><code>=calcs!$E$3</code></TD>","<TD class=\"c4\">Number of selected option #1</TD></TR>","<TR class=\"even\"><TD class=\"c1\">17</TD><TD class=\"c2\">valOption1</TD><TD class=\"c3\"><code>=calcs!$E$3</code></TD><TD class=\"c4\">Number of selected option #1</TD></TR>"]
[null,18,"valOption2","=calcs!$G$3","Number of selected option #2",null,{"$f":"\"<TR class=\"\"odd\"\"><TD class=\"\"c1\"\">\"&B21&\"</TD>\"","v":"<TR class=\"odd\"><TD class=\"c1\">18</TD>"},"<TD class=\"c2\">valOption2</TD>","<TD class=\"c3\"><code>=calcs!$G$3</code></TD>","<TD class=\"c4\">Number of selected option #2</TD></TR>","<TR class=\"odd\"><TD class=\"c1\">18</TD><TD class=\"c2\">valOption2</TD><TD class=\"c3\"><code>=calcs!$G$3</code></TD><TD class=\"c4\">Number of selected option #2</TD></TR>"]
[null,19,"cs","=Data!$B$6:$K$14837","Table of all call data. Dynamic.",null,{"$f":"\"<TR class=\"\"even\"\"><TD class=\"\"c1\"\">\"&B22&\"</TD>\"","v":"<TR class=\"even\"><TD class=\"c1\">19</TD>"},"<TD class=\"c2\">cs</TD>","<TD class=\"c3\"><code>=Data!$B$6:$K$14837</code></TD>","<TD class=\"c4\">Table of all call data. Dynamic.</TD></TR>","<TR class=\"even\"><TD class=\"c1\">19</TD><TD class=\"c2\">cs</TD><TD class=\"c3\"><code>=Data!$B$6:$K$14837</code></TD><TD class=\"c4\">Table of all call data. Dynamic.</TD></TR>"]