{"text_format":"1","workbook":"xlsx","n_sheets":3,"sheets":["Prijsberekening","i-SOLID","EPStabel"],"not_rendered":{"charts":0,"images":3,"macros":1,"external_links":1,"defined_names":1,"comments":0,"pivot_tables":0},"unopened":[],"bounds":{"document_bytes":16777216,"sheet_cells":100000,"rows_first":2000,"rows_last":500,"rows_between":2000,"halvings":0,"cell_chars":16384,"cell_head_chars":4096},"cells_cut":0,"cells_raw":0,"read":"whole","date_system":"1900"}

{"sheet":"Prijsberekening","index":0,"n_rows":168,"n_cols":32,"rows_kept":168,"cut":false,"hidden":true,"merged":[]}
[]
[]
[]
[]
[]
[]
[]
[]
[]
[]
[]
[]
[]
[]
[]
[]
[]
[]
[]
[]
[]
[null,"Densiteit","P20 - EPS 100",null,null,null,null,null,"Afhalen"]
[null,null,"Lengte","Breedte","Hoogte",null,null,null,"Verzending"]
[null,"Karton doos",200,250,150]
[null,"Wanddikte",30,"mm"]
[null,"Stuks:",100,"stuks"]
[]
[null,"Prijs:",{"$f":"J53","v":2.7199999999999998},"(bij afname van ",{"$f":"C26","v":100},"sets)"]
[null,"Prijs:",{"$f":"J42*2+J43","v":4.5999999999999996},"(bij afname van ",50,"sets)"]
[null,"Prijs:",{"$f":"J44*2+J45","v":2.7199999999999998},"(bij afname van ",100,"sets)"]
[null,"Prijs:",{"$f":"J46*2+J47","v":1.88},"(bij afname van ",250,"sets)"]
[null,"Prijs:",{"$f":"J48*2+J49","v":1.5699999999999998},"(bij afname van ",500,"sets)"]
[null,"Prijs:",{"$f":"J50*2+J51","v":1.4},"(bij afname van ",1000,"sets)"]
[null,"Prijs:",{"$f":"J54*2+J55","v":16.95},"(bij afname van ",10,"sets)"]
[]
[]
[{"$f":"C26","v":100},null,{"$f":"C24","v":200},{"$f":"D24","v":250},{"$f":"E24","v":150},null,{"$f":"F37/1000*A37","v":0},{"$error":"#N/A"},{"$f":"ROUND(H37*F37/1000,4)","v":{"$error":"#N/A"}},"Prijzen zijn met factor berekend!"]
["VS","Densiteit","literinhoud",null,null,"liter/stuk","totale m³ (voor alle stuks)","eenheidsprijs (€/m³)","MateriaalPrijs/stuk","Totaalprijs/stuk","2e snij afstand","snijsnelheid (in mm/min)","% doorweging","2e snij tijd (in min)","2e snij €","Stuks per snij","3e snij afstand","snijsnelheid","3e snij tijd","3e snij €",null,null,null,null,null,null,"FactorDeel bij meer dan 4 stuks","Naam","FactorMaal","FactorDeel","Programmatiekost (totaal)","Eenheid"]
[{"$f":"A37*2","v":200},{"$f":"C22","v":"P20 - EPS 100"},{"$f":"$C$37","v":200},{"$f":"$D$37","v":250},20,{"$f":"C39*D39*E39/1000000","v":1},{"$f":"F39/1000*A39","v":0.2},{"$f":"VLOOKUP(G39,[1]EPStabel!$A$1:$I$38,VLOOKUP(B39,[1]EPStabel!$K$1:$L$18,2,FALSE),TRUE)","v":197.64},{"$f":"ROUND(H39*F39/1000,4)","v":0.1976},{"$f":"ROUND(((I39+O39+T39+(AE39/A39))*$AC$39/$AD$39*$AF$39),2)","v":0.5},null,null,null,null,{"$f":"N39/60*$AC$43","v":0},1,null,null,0,{"$f":"S39/60*$AD$43","v":0},null,null,null,null,null,null,{"$f":"IF(A40>4,0.9,1)","v":0.9},"",1,{"$f":"IF(C26>50,0.85,0.9)","v":0.85},45,1]
[{"$f":"A37*1","v":100},{"$f":"B39","v":"P20 - EPS 100"},{"$f":"$C$39","v":200},{"$f":"$D$37","v":250},{"$f":"$E$37-E39-E39","v":110},{"$f":"C40*D40*E40/1000000","v":5.5},{"$f":"F40/1000*A40","v":0.54999999999999993},{"$f":"VLOOKUP(G40,[1]EPStabel!$A$1:$I$38,VLOOKUP(B40,[1]EPStabel!$K$1:$L$18,2,FALSE),TRUE)","v":152.5},{"$f":"ROUND(H40*F40/1000,4)","v":0.83879999999999999},{"$f":"ROUND(((I40+O40+T40+(AE40/A40))*$AC$39/$AD$39*$AF$39),2)","v":1.72},{"$f":"($C$24+$D$24)*2*1.5","v":1350},255,{"$f":"VLOOKUP(A40,$A$69:$B$168,2)","v":3},{"$f":"K40/L40","v":5.2941176470588234},{"$f":"N40/60*$AC$43*M40/100","v":0.17205882352941174},null,null,null,null,{"$f":"S40/60*$AD$43","v":0},null,null,null,null,null,null,null,null,null,null,45]
[null,null,null,null,null,null,null,null,null,null,null,null,null,null,{"$f":"N41/60*$AC$43","v":0},null,null,null,null,0,null,null,null,null,null,null,null,null,null,null,45]
[{"$f":"A43*2","v":100},{"$f":"C22","v":"P20 - EPS 100"},{"$f":"$C$37","v":200},{"$f":"$D$37","v":250},20,{"$f":"C42*D42*E42/1000000","v":1},{"$f":"F42/1000*A42","v":0.1},{"$f":"VLOOKUP(G42,[1]EPStabel!$A$1:$I$38,VLOOKUP(B42,[1]EPStabel!$K$1:$L$18,2,FALSE),TRUE)","v":228.14},{"$f":"ROUND(H42*F42/1000,4)","v":0.2281},{"$f":"ROUND(((I42+O42+T42+(AE42/A42))*$AC$39/0.9*$AF$39),2)","v":0.75},null,null,null,null,0,null,null,null,null,0,null,null,null,null,null,null,{"$f":"IF(A43>4,0.9,1)","v":0.9},null,null,{"$f":"IF(A43>50,0.85,0.9)","v":0.9},45]
[{"$f":"E29","v":50},{"$f":"C22","v":"P20 - EPS 100"},{"$f":"$C$39","v":200},250,{"$f":"$E$37-E42-E42","v":110},5.5,0.27499999999999997,{"$f":"VLOOKUP(G43,[1]EPStabel!$A$1:$I$38,VLOOKUP(B43,[1]EPStabel!$K$1:$L$18,2,FALSE),TRUE)","v":187.88},1.0333000000000001,{"$f":"ROUND(((I43+O43+T43+(AE43/A43))*$AC$39/0.9*$AF$39),2)","v":3.1},{"$f":"($C$24+$D$24)*2*1.5","v":1350},255,{"$f":"VLOOKUP(A43,$A$69:$B$168,2)","v":15},{"$f":"K43/L43","v":5.2941176470588234},{"$f":"N43/60*$AC$43*M43/100","v":0.86029411764705865},null,null,null,null,0,null,null,null,null,null,null,null,null,"65","65",45]
[{"$f":"A45*2","v":200},{"$f":"C22","v":"P20 - EPS 100"},{"$f":"$C$37","v":200},250,20,1,0.2,{"$f":"VLOOKUP(G44,[1]EPStabel!$A$1:$I$38,VLOOKUP(B44,[1]EPStabel!$K$1:$L$18,2,FALSE),TRUE)","v":197.64},0.1976,{"$f":"ROUND(((I44+O44+T44+(AE44/A44))*$AC$39/0.85*$AF$39),2)","v":0.5},null,null,null,null,0,null,null,null,null,0,null,null,null,null,null,null,{"$f":"IF(A45>4,0.9,1)","v":0.9},null,null,{"$f":"IF(A45>50,0.85,0.9)","v":0.85},45]
[{"$f":"E30","v":100},{"$f":"C22","v":"P20 - EPS 100"},{"$f":"$C$39","v":200},250,{"$f":"$E$37-E44-E44","v":110},5.5,0.54999999999999993,{"$f":"VLOOKUP(G45,[1]EPStabel!$A$1:$I$38,VLOOKUP(B45,[1]EPStabel!$K$1:$L$18,2,FALSE),TRUE)","v":152.5},0.83879999999999999,1.72,{"$f":"($C$24+$D$24)*2*1.5","v":1350},255,3,{"$f":"K45/L45","v":5.2941176470588234},{"$f":"N45/60*$AC$43*M45/100","v":0.17205882352941174},null,null,null,null,0,null,null,null,null,null,null,null,null,null,null,45]
[{"$f":"A47*2","v":500},{"$f":"C22","v":"P20 - EPS 100"},{"$f":"$C$37","v":200},250,20,1,0.5,{"$f":"VLOOKUP(G46,[1]EPStabel!$A$1:$I$38,VLOOKUP(B46,[1]EPStabel!$K$1:$L$18,2,FALSE),TRUE)","v":152.5},0.1525,0.28999999999999998,null,null,null,null,0,null,null,null,null,0,null,null,null,null,null,null,{"$f":"IF(A47>4,0.9,1)","v":0.9},null,null,{"$f":"IF(A46>50,0.85,0.9)","v":0.85},45]
[{"$f":"E31","v":250},{"$f":"C22","v":"P20 - EPS 100"},{"$f":"$C$39","v":200},250,{"$f":"$E$37-E46-E46","v":110},5.5,1.375,{"$f":"VLOOKUP(G47,[1]EPStabel!$A$1:$I$38,VLOOKUP(B47,[1]EPStabel!$K$1:$L$18,2,FALSE),TRUE)","v":136.63999999999999},0.75149999999999995,1.3,{"$f":"($C$24+$D$24)*2*1.5","v":1350},255,3,{"$f":"K47/L47","v":5.2941176470588234},{"$f":"N47/60*$AC$43*M47/100","v":0.17205882352941174},null,null,null,null,0,null,null,null,null,null,null,null,null,null,null,45]
[{"$f":"A49*2","v":1000},{"$f":"C22","v":"P20 - EPS 100"},{"$f":"$C$37","v":200},250,20,1,1,{"$f":"VLOOKUP(G48,[1]EPStabel!$A$1:$I$38,VLOOKUP(B48,[1]EPStabel!$K$1:$L$18,2,FALSE),TRUE)","v":136.63999999999999},0.1366,0.21,null,null,null,null,0,null,null,null,null,0,null,null,null,null,null,null,{"$f":"IF(A49>4,0.9,1)","v":0.9},null,null,{"$f":"IF(A49>50,0.85,0.9)","v":0.85},45]
[{"$f":"E32","v":500},{"$f":"C22","v":"P20 - EPS 100"},{"$f":"$C$39","v":200},250,{"$f":"$E$37-E48-E48","v":110},5.5,2.75,{"$f":"VLOOKUP(G49,[1]EPStabel!$A$1:$I$38,VLOOKUP(B49,[1]EPStabel!$K$1:$L$18,2,FALSE),TRUE)","v":129.32},0.71130000000000004,1.1499999999999999,{"$f":"($C$24+$D$24)*2*1.5","v":1350},255,3,{"$f":"K49/L49","v":5.2941176470588234},{"$f":"N49/60*$AC$43*M49/100","v":0.17205882352941174},null,null,null,null,0,null,null,null,null,null,null,null,null,null,null,45]
[{"$f":"A51*2","v":2000},{"$f":"C22","v":"P20 - EPS 100"},{"$f":"$C$37","v":200},250,20,1,2,{"$f":"VLOOKUP(G50,[1]EPStabel!$A$1:$I$38,VLOOKUP(B50,[1]EPStabel!$K$1:$L$18,2,FALSE),TRUE)","v":129.32},0.1293,0.18,null,null,null,null,0,null,null,null,null,0,null,null,null,null,null,null,{"$f":"IF(A51>4,0.9,1)","v":0.9},null,null,{"$f":"IF(A51>50,0.85,0.9)","v":0.85},45]
[{"$f":"E33","v":1000},{"$f":"C22","v":"P20 - EPS 100"},{"$f":"$C$39","v":200},250,{"$f":"$E$37-E50-E50","v":110},5.5,5.5,{"$f":"VLOOKUP(G51,[1]EPStabel!$A$1:$I$38,VLOOKUP(B51,[1]EPStabel!$K$1:$L$18,2,FALSE),TRUE)","v":122},0.67100000000000004,{"$f":"ROUND(((I51+O51+T51+(AE51/A51))*$AC$39/0.85*$AF$39),2)","v":1.04},{"$f":"($C$24+$D$24)*2*1.5","v":1350},255,3,{"$f":"K51/L51","v":5.2941176470588234},{"$f":"N51/60*$AC$43*M51/100","v":0.17205882352941174},null,null,null,null,0,null,null,null,null,null,null,null,null,null,null,45]
[]
[null,null,null,null,null,null,null,null,null,{"$f":"J39*2+J40*1","v":2.7199999999999998},"bij afname van",null,null,{"$f":"A37","v":100},"st"]
[20,{"$f":"C22","v":"P20 - EPS 100"},{"$f":"$C$37","v":200},{"$f":"$D$37","v":250},20,{"$f":"C54*D54*E54/1000000","v":1},{"$f":"F54/1000*A54","v":0.02},{"$f":"VLOOKUP(G54,[1]EPStabel!$A$1:$I$38,VLOOKUP(B54,[1]EPStabel!$K$1:$L$18,2,FALSE),TRUE)","v":685.64},{"$f":"ROUND(H54*F54/1000,4)","v":0.68559999999999999},{"$f":"ROUND(((I54+O54+T54+(AE54/A54))*$AC$39/0.9*$AF$39),2)","v":3.26},null,null,null,null,0,null,null,null,null,0,null,null,null,null,null,null,{"$f":"IF(A55>4,0.9,1)","v":0.9},null,null,null,45]
[10,{"$f":"C22","v":"P20 - EPS 100"},{"$f":"$C$39","v":200},250,{"$f":"$E$37-E54-E54","v":110},5.5,{"$f":"F55/1000*A55","v":5.4999999999999993E-2},{"$f":"VLOOKUP(G55,[1]EPStabel!$A$1:$I$38,VLOOKUP(B55,[1]EPStabel!$K$1:$L$18,2,FALSE),TRUE)","v":335.5},1.8452999999999999,{"$f":"ROUND(((I55+O55+T55+(AE55/A55))*$AC$39/0.9*$AF$39),2)","v":10.43},{"$f":"($C$24+$D$24)*2*1.5","v":1350},255,{"$f":"VLOOKUP(A55,$A$69:$B$168,2)","v":53},{"$f":"K55/L55","v":5.2941176470588234},{"$f":"N55/60*$AC$43*M55/100","v":3.039705882352941},null,null,null,null,0,null,null,null,null,null,null,null,null,null,null,45]
[]
[]
[1,{"$f":"$C$22","v":"P20 - EPS 100"},{"$f":"$C$37","v":200},{"$f":"$D$37","v":250},{"$f":"$E$24","v":150},{"$f":"C58*D58*E58/1000000","v":7.5},{"$f":"F58/1000*A58","v":7.4999999999999997E-3},{"$f":"VLOOKUP(G58,[1]EPStabel!$A$1:$I$38,VLOOKUP(B58,[1]EPStabel!$K$1:$L$18,2,FALSE),TRUE)","v":685.64},{"$f":"ROUND(H58*F58/1000,4)","v":5.1422999999999996},{"$f":"ROUND(((I58+O58+(AE58/A58))*$AC$39/0.9*$AF$39),2)","v":45.42},{"$f":"($C$24+$D$24)*2*1.5","v":1350},255,{"$f":"VLOOKUP(A58,$A$69:$B$168,2)","v":100},{"$f":"K58/L58","v":5.2941176470588234},{"$f":"N58/60*$AC$43*M58/100","v":5.7352941176470589},null,null,null,null,0,null,null,null,null,null,null,null,null,null,null,30]
[2,{"$f":"$C$22","v":"P20 - EPS 100"},{"$f":"$C$37","v":200},{"$f":"$D$37","v":250},{"$f":"$E$24","v":150},{"$f":"C59*D59*E59/1000000","v":7.5},{"$f":"F59/1000*A59","v":1.4999999999999999E-2},{"$f":"VLOOKUP(G59,[1]EPStabel!$A$1:$I$38,VLOOKUP(B59,[1]EPStabel!$K$1:$L$18,2,FALSE),TRUE)","v":685.64},{"$f":"ROUND(H59*F59/1000,4)","v":5.1422999999999996},{"$f":"ROUND(((I59+O59+T59+(AE59/A59))*$AC$39/0.9*$AF$39),2)","v":28.12},{"$f":"($C$24+$D$24)*2*1.5","v":1350},255,{"$f":"VLOOKUP(A59,$A$69:$B$168,2)","v":90},{"$f":"K59/L59","v":5.2941176470588234},{"$f":"N59/60*$AC$43*M59/100","v":5.1617647058823524},null,null,null,null,0,null,null,null,null,null,null,null,null,null,null,30]
[3,"P20 - EPS 100",{"$f":"$C$37","v":200},{"$f":"$D$37","v":250},150,{"$f":"C60*D60*E60/1000000","v":7.5},{"$f":"F60/1000*A60","v":2.2499999999999999E-2},{"$f":"VLOOKUP(G60,[1]EPStabel!$A$1:$I$38,VLOOKUP(B60,[1]EPStabel!$K$1:$L$18,2,FALSE),TRUE)","v":685.64},{"$f":"ROUND(H60*F60/1000,4)","v":5.1422999999999996},{"$f":"ROUND(((I60+O60+T60+(AE60/A60))*$AC$39/0.9*$AF$39),2)","v":23.77},{"$f":"($C$24+$D$24)*2*1.5","v":1350},255,{"$f":"VLOOKUP(A60,$A$69:$B$168,2)","v":80},{"$f":"K60/L60","v":5.2941176470588234},{"$f":"N60/60*$AC$43*M60/100","v":4.5882352941176467},null,null,null,null,0,null,null,null,null,null,null,null,null,null,null,35]
[{"$f":"A59*2","v":4},"P20 - EPS 100",{"$f":"$C$37","v":200},{"$f":"$D$37","v":250},150,{"$f":"C61*D61*E61/1000000","v":7.5},{"$f":"F61/1000*A61","v":0.03},{"$f":"VLOOKUP(G61,[1]EPStabel!$A$1:$I$38,VLOOKUP(B61,[1]EPStabel!$K$1:$L$18,2,FALSE),TRUE)","v":380.64},{"$f":"ROUND(H61*F61/1000,4)","v":2.8548},{"$f":"ROUND(((I61+O61+T61+(AE61/A61))*$AC$39/0.9*$AF$39),2)","v":20.13},{"$f":"($C$24+$D$24)*2*1.5","v":1350},255,{"$f":"VLOOKUP(A61,$A$69:$B$168,2)","v":70},{"$f":"K61/L61","v":5.2941176470588234},{"$f":"N61/60*$AC$43*M61/100","v":4.0147058823529402},null,null,null,null,0,null,null,null,null,null,null,null,null,null,null,45]
[]
[1,null,null,null,null,null,null,null,{"$f":"J58","v":45.42},{"$f":"I63","v":45.42}]
[2,null,null,null,null,null,null,null,{"$f":"(I63-J59)/2+J59","v":36.770000000000003},{"$f":"I64","v":36.770000000000003}]
[3,null,null,null,null,null,null,null,{"$f":"J60","v":23.77},{"$f":"(I64-I65)/2+I65","v":30.270000000000003}]
[{"$f":"A64*2","v":4},null,null,null,null,null,null,null,{"$f":"J61","v":20.13},{"$f":"(I64-I66)/2+I66","v":28.450000000000003}]
[]
["Contour doorrekenen","% door te rekenen"]
[1,100]
[2,90]
[3,80]
[4,70]
[5,68]
[6,{"$f":"B73-3","v":65}]
[7,{"$f":"B74-3","v":62}]
[8,59]
[9,56]
[10,53]
[11,{"$f":"B78-2","v":51}]
[12,49]
[13,47]
[14,45]
[15,{"$f":"B82-1.5","v":43.5}]
[16,{"$f":"B83-1.5","v":42}]
[17,40.5]
[18,39]
[19,37.5]
[20,36]
[21,34.5]
[22,33]
[23,{"$f":"B90-1","v":32}]
[24,31]
[25,30]
[26,29]
[27,28]
[28,27]
[29,26]
[30,25]
[31,{"$f":"B98-0.5","v":24.5}]
[32,{"$f":"B99-0.5","v":24}]
[33,23.5]
[34,23]
[35,22.5]
[36,22]
[37,21.5]
[38,21]
[39,20.5]
[40,20]
[41,19.5]
[42,19]
[43,18.5]
[44,18]
[45,17.5]
[46,17]
[47,16.5]
[48,16]
[49,15.5]
[50,15]
[51,14.5]
[52,14]
[53,{"$f":"B120-0.5","v":13.5}]
[54,13]
[55,12.5]
[56,12]
[57,11.5]
[58,11]
[59,10.5]
[60,10]
[61,9.5]
[62,9]
[63,8.5]
[64,8]
[65,7.5]
[66,7]
[67,6.5]
[68,6]
[69,5.5]
[70,5]
[71,4.5]
[72,4]
[73,3.5]
[74,3]
[75,3]
[76,3]
[77,3]
[78,3]
[79,3]
[80,3]
[81,3]
[82,3]
[83,3]
[84,3]
[85,3]
[86,3]
[87,3]
[88,3]
[89,3]
[90,3]
[91,3]
[92,3]
[93,3]
[94,3]
[95,3]
[96,3]
[97,3]
[98,3]
[99,3]
[100,3]

{"sheet":"i-SOLID","index":1,"n_rows":67,"n_cols":8,"rows_kept":67,"cut":false,"hidden":false,"merged":[[3,1,3,6],[5,6,7,15],[57,2,57,6],[59,2,59,3],[11,4,11,6],[53,2,53,3],[43,2,43,3],[45,2,45,3],[47,2,47,3],[49,2,49,3],[51,2,51,3],[55,2,55,3]]}
[]
["info@twinplast.be","http://www.twinplast.be/isolid",null,null,null,"i-SOLID"]
[null,null,null,null,null,"  Le protecteur de votre produit!"]
[null,"Completez les dimensions de votre i-SOLID:"]
[]
[null,"Pièces:",100,"pc(s)"]
[]
[null,"dimensions intérieur de votre boîte en carton:"]
[null,"(L) Longueur:",250,"mm"]
[]
[null,"(B) Largeur:",200,"mm"]
[]
[null,"(H) Hauteur:",150,"mm"]
[]
[null,"Transportkost:",75]
[]
[null,"Prix",2.72,"€/pc"]
[null,"Total",272,"€"]
[null,"Prix sont exclusive boîte en carton et TVA de 21%)"]
[]
[null,"Prix:",4.5999999999999996," /pc","À la commande de 50pcs"]
[]
[null,null,2.72," /pc","À la commande de 100pcs"]
[]
[null,null,1.88," /pc","À la commande de 250pcs"]
[]
[null,null,1.57," /pc","À la commande de 500pcs"]
[]
[null,null,1.4," /pc","À la commande de 1000pcs"]
[]
[null,"Prototype:",45.42," /pc","À la commande de 1pc"]
[null,"Opm.: Alle prijzen zijn exclusief kartonnen doos en excl. 21% BTW."]
[]
[null,"Gebruiksaanwijzing:"]
[null,"1. Klik bovenaan deze pagina op de metsboog die u wil tekenen."]
[null,"2. Wijzig de metsboog-maten en klik op de knop 'Bereken' om de tekening en de prijs te zien van uw metsboog."]
[null,"3. Klik op 'Plaats in winkelwagen' om de metsboog op uw bestelling te plaatsen."]
[null,"4. Om uw bestelling verder af te ronden, klik op de knop 'Bekijk inhoud winkelwagen'"]
[null,"     of ga onderaan deze pagina naar het tabblad 'Winkelwagen'. "]
[null,"Opm: Bij het afdrukken kan het zijn dat lijnen van de tekening niet aansluiten. In werkelijkheid is dit niet zo."]
[]
[]
[]
[null,"Firme:",null,null,"*         Nom:"]
[]
[null,"Adresse e-mail:",null,null,"*"]
[]
[null,"Rue + N°:",null,null,"*  adres de livraison:"]
[]
[null,"Ville:",null,null,"*"]
[]
[null,"N° tél:",null,null,"*         Pays:"]
[]
[null,"N° TVA",null,null,"*"]
[]
[null,"Conception:",null,null,"*"]
[]
[null,"Remarques:","",null,null,null,null,"*"]
[]
[null,"Transport:","Afhalen",null,"*"]
[]
[null,"Commande:"]
[null,"Prix par pièce:",{"$f":"C17","v":2.72},"€/st"]
[null,{"$f":"IF(C60=\"Leveren\",\"Transport\",\" \")","v":" "},{"$f":"IF(C60=\"Leveren\",C15,\"0\")","v":"0"},"€"]
[null,"Total",{"$f":"C63*C6+C64","v":272},"€"]
[null,"21% TVA",{"$f":"C65/100*21","v":57.120000000000005},"€"]
[null,"Total",{"$f":"C66+C65","v":329.12},"€"]

{"sheet":"EPStabel","index":2,"n_rows":38,"n_cols":12,"rows_kept":38,"cut":false,"hidden":true,"merged":[]}
["x1,22 VS","P15 - EPS   60 - CL2","P20 - EPS 100 - CL4","P25 - EPS 150 - CL5","P30 - EPS 200 - CL6","P35 - EPS 250 - CL7","P40 - EPS 300","P50 - EPS 400","P60 - EPS 500",null,"Densiteiten","Kolom"]
[0,668.56,685.64,734.43999999999994,782.02,838.14,889.38,973.56,1057.74,null,"NEOP20 - Neopor 100",5]
[0.03,363.56,380.64,413.58,446.52,488,523.38,591.69999999999993,661.24,null,"NEOP25 - Neopor 150",6]
[0.05,318.42,335.5,366,396.5,435.53999999999996,468.48,535.58000000000004,602.67999999999995,null,"NEOP30 - Neopor 200",7]
[7.4999999999999997E-2,265.95999999999998,283.04000000000002,311.09999999999997,339.15999999999997,375.76,406.26,469.7,534.36,null,"NEOP35 - Neopor 250",8]
[0.1,211.06,228.14,253.76,278.15999999999997,312.32,340.38,401.38,463.59999999999997,null,"P15 - EPS 60",2]
[0.15,196.42,213.5,237.9,262.3,286.7,322.08,384.3,444.08,null,"P20 - EPS 100",3]
[0.2,180.56,197.64,222.04,245.22,276.94,303.77999999999997,363.56,423.34,null,"P25 - EPS 150",4]
[0.25,170.79999999999998,187.88,212.28,234.24,265.95999999999998,291.58,351.36,411.14,null,"P30 - EPS 200",5]
[0.3,161.04,178.12,201.29999999999998,223.26,254.98,279.38,339.15999999999997,397.71999999999997,null,"P35 - EPS 250",6]
[0.35,153.72,170.79999999999998,193.98,215.94,246.44,270.83999999999997,330.62,387.96,null,"P40 - EPS 300",7]
[0.4,146.4,163.47999999999999,185.44,207.4,237.9,262.3,320.86,379.42,null,"P50 - EPS 400",8]
[0.45,141.52000000000001,158.6,180.56,201.29999999999998,231.79999999999998,256.2,313.54000000000002,373.32,null,"P60 - EPS 500",9]
[0.5,135.41999999999999,152.5,174.46,195.2,225.7,248.88,307.44,364.78,null,"P20F - EPS 100 fijn",4]
[0.55000000000000004,132.97999999999999,151.28,173.24,193.98,224.48,247.66,306.21999999999997,363.56,null,"P25F - EPS 150 fijn",5]
[0.6,131.76,150.06,172.02,191.54,222.04,246.44,305,361.12]
[0.65,130.54,147.62,170.79999999999998,190.32,219.6,244,302.56,359.9,null,"LET op bij wijzigingen --> zorg ervoor dat tabel alfabetisch (A->Z) gesorteerd is!"]
[0.7,129.32,146.4,169.57999999999998,187.88,218.38,241.56,300.12,357.46]
[0.75,128.1,145.18,167.14,186.66,217.16,240.34,297.68,355.02]
[0.8,125.66,142.74,164.7,184.22,215.94,239.12,295.24,352.58]
[0.85,123.22,140.29999999999998,162.26,183,213.5,236.68,292.8,350.14]
[0.9,122,139.07999999999998,161.04,181.78,211.06,234.24,290.36,347.7]
[0.95,120.78,137.85999999999999,158.6,179.34,208.62,231.79999999999998,287.92,345.26]
[1,119.56,136.63999999999999,157.38,178.12,207.4,230.57999999999998,286.7,344.04]
[1.5,113.46,132.97999999999999,153.72,174.46,203.74,225.7,283.04000000000002,339.15999999999997]
[2,107.36,129.32,150.06,169.57999999999998,198.85999999999999,220.82,278.15999999999997,334.28]
[5,104.92,122,142.74,162.26,190.32,212.28,268.39999999999998,325.74]
[7.5,102.48,119.56,139.07999999999998,158.6,186.66,208.62,264.74,320.86]
[10,98.82,115.89999999999999,135.41999999999999,154.94,183,204.96,261.08,317.2]
[15,97.6,114.67999999999999,134.19999999999999,153.72,180.56,203.74,259.86,315.98]
[20,96.38,113.46,132.97999999999999,152.5,178.12,201.29999999999998,257.42,313.54000000000002]
[25,93.94,111.02,130.54,150.06,176.9,198.85999999999999,254.98,311.09999999999997]
[35,92.72,109.8,129.32,148.84,175.68,197.64,252.54,308.65999999999997]
[45,91.5,108.58,128.1,146.4,174.46,196.42,251.32,307.44]
[50,90.28,107.36,126.88,145.18,173.24,195.2,250.1,306.21999999999997]
[70,89.06,106.14,125.66,143.96,172.02,193.98,248.88,305]
[90,87.84,104.92,124.44,142.74,170.79999999999998,191.54,247.66,302.56]
[100,85.399999999999991,102.48,122,140.29999999999998,167.14,189.1,244,300.12]